{"text_format":"1","workbook":"xlsx","n_sheets":25,"sheets":["Overview","Instructions","1.Requester-Supplier","2.Product-Group","3.Product-Statement","4.Substance-in-Product","5.Substance-in-Process","6.Attachment","7.Supplier-Acceptance","DSL","UDL","Countries","-Parameters-","Multiple Pick Lists","TARIC Codes","Material Search","MatC","Material Category","Mixture Search","Additional Category","MixC","Mixture Category","ECHA Substance List","TermsOfUse","-History-"],"not_rendered":{"charts":0,"images":4,"macros":1,"external_links":0,"defined_names":53,"comments":0,"pivot_tables":9},"unopened":[],"bounds":{"document_bytes":16777216,"sheet_cells":100000,"rows_first":2000,"rows_last":500,"rows_between":2000,"halvings":0,"cell_chars":16384,"cell_head_chars":4096},"cells_cut":0,"cells_raw":0,"read":"whole","date_system":"1900"}

{"sheet":"Overview","index":0,"n_rows":19,"n_cols":9,"rows_kept":19,"cut":false,"hidden":false,"merged":[[0,10,1,10],[1,8,1,9],[15,8,15,9],[16,8,16,9],[18,7,18,9]]}
[null,null,null,null,"Materials Declaration Standard for Aerospace and Defence"]
[null,null,null,null,"Substance Reporting Tool",null,"By using this tool, you implicitly accept the ",null,"IAEG® Terms of Use Statement"]
[null,null,null,null,"Version: 2.0","2023-08-25"]
[]
[null,null,null,null,null,null,"For support, send email to:","substancereporting.support@iaeg.com"]
[]
[null,null,null,null,null,null,null,null,"Legend"]
[]
[]
[]
[]
[]
[]
[]
[]
[null,null,null,null,null,null,null,null,"(+): Requester may prepopulate some of the fields."]
[]
[]
[null,null,null,null,null,null,null," "]

{"sheet":"Instructions","index":1,"n_rows":230,"n_cols":2,"rows_kept":230,"cut":false,"hidden":false,"merged":[[145,0,154,0],[204,0,205,0],[155,0,156,0],[167,0,169,0],[170,0,172,0],[173,0,177,0],[178,0,183,0],[193,0,197,0],[70,0,78,0],[87,0,92,0],[93,0,97,0],[112,0,135,0],[136,0,144,0],[67,0,69,0],[0,0,0,1],[6,0,8,0],[9,0,13,0],[14,0,16,0],[21,0,26,0],[36,0,37,0]]}
["Aerospace and Defence - Substances Reporting Tool (AD-SRT)"]
[null,{"$f":"Overview!E3","v":"Version: 2.0"}]
[null,"Instructions"]
[null,{"$f":"Overview!F3","v":"2023-08-25"}]
[null,"Introduction"]
[null,"IAEG® supports and promotes the use of IPC-1754 materials and substances declaration in the aerospace and defence (“AD”) industry and its supply chain. IAEG® has developed tools to support obtaining information about the substance content of its products from the industry’s global supply chain.  The tools developed by IAEG® include the following:"]
[null,"The Aerospace and Defence Declarable Substances List (“AD-DSL”):"]
[null,"·         List of industry product & process -related declarable substances reflecting regulatory impacts within the Aerospace & Defence (A&D) industry and its supply chain "]
[null,"·         Reduces the burden on supplier "]
[null,"Aerospace and Defence Substance Reporting Template (“AD-SRT”): "]
[null,"·         Interim Excel-based spreadsheet for solution to support B2B AD-DSL substances declaration to enable AD-DSL data collection from products and processes."]
[null,"·         The AD-SRT is a tool for simple declaration data exchanges"]
[null,"·         IPC-1754 compatible"]
[null,"http://shop.ipc.org/IPC-1754-English-D"]
[null,"IAEG® Declaration Support Training and Communications:"]
[null,"·         Training resources including instructions, guidance, FAQ, and informational videos"]
[null,"·         IAEG supplier website portal"]
[null,"Additional information including training is available at www.iaeg.com/chemicalrpt/."]
[]
[null,"General Instructions"]
[null,"The AD-SRT Excel spreadsheet consists of few tabs with the primary objective to gather for declarable substance information collection.  The tabs color coded as green, blue, or brown have fields for data entry.  In addition, there are white color tabs containing reference information which have no fields for data entry. One spreadsheet can be used for declarations of multiple single products or product groups."]
[null,"Mandatory tabs must be filled in to generate a complete declaration. Within these mandatory tabs there are mandatory and optional fields. The tab colors indicate:"]
[null," - Green: mandatory tab"]
[null," - Blue: mandatory when AD-DSL substances are contained in the composition make-up of the product"]
[null," - Brown: optional tab"]
[null," - White: reference information (e.g., instructions) or data (e.g., substance list) only"]
[null,"A diagram of the tabs that have fields to be filled in and whether the tabs are optional or mandatory is documented in the “Overview” tab."]
[null,"In the \"Overview\" tab, click on colored box to navigate to the corresponding tab."]
[null,"In any tab, click on \"Return to Overview\" hotlink to navigate to \"Overview\" tab."]
[null,"Any data field identified in bold character and with a single asterisk/star character (*) after the field name is a mandatory field."]
[null,"Any field identified in bold character and with a double asterisk/star character (**) after the field name is a conditional mandatory field. \"Conditional mandatory\" means the field may be mandatory under certain conditions described in the applicable tab and field instructions."]
[null,"Note that many rows/columns default to being hidden; they correspond to optional fields. These optional fields can be made visible by clicking on the \"+\". On the instructions tab, in colum 1 click on the \"-\" to collapse the section and click on the \"+\" to open the section."]
[]
[null,"1. Requester-Supplier tab (mandatory)"]
[null,"If the data transaction is a Business-To-Business (B2B) transaction, then both the Requester Contact and Supplier Contact information is required to be provided. If the Supplier distributes or publishes the AD-SRT data, then only Supplier information is required to be provided."]
[null,"The requester is the company requesting the material declaration. The requester should prepopulate the requester contact information and known supplier contact information on the Requester-Supplier tab prior to providing the AD-SRT to the supplier."]
[]
[null,"The instructions below first describe shared fields for both requester and supplier followed by unique fields per requester and supplier"]
[null,"Requester** and/or Supplier* Company Name: the legal name of the company (mandatory)"]
[null,"Requester and/or Supplier Company ID Type: the authority that defines the company identity (Select DUNS or CAGE in the dropdown menu.) (optional)"]
[null,"Requester and/or Supplier Company ID Number: the company number or assigned identity under the DUNS or CAGE authority (optional)"]
[null,"Requester and/or Supplier Street: the street number, street name, and suite number (optional)"]
[null,"Requester and/or Supplier City: name of the city (optional)"]
[null,"Requester and/or Supplier State: the state, county, parish, or province (optional)"]
[null,"Requester and/or Supplier Country: name of the country (Select the country in the dropdown menu.) (optional)"]
[null,"Requester and/or Supplier Zip Code: the postal zip code (optional)"]
[null,"Requester** and/or Supplier* Contact Name: contact name from the company requesting/supplying the declaration document (mandatory)"]
[null,"Requester** and/or Supplier* Contact Phone: contact’s phone number (mandatory)"]
[null,"Requester** and/or Supplier* Contact Email: contact’s email address (mandatory)"]
[null,"Requester and/or Supplier Contact Title: contact’s job title (optional)"]
[null,"Requester and/or Supplier Contact Comment: used for information specified in the contract or other information required to facilitate the business-to business transaction such as a Uniform Resource Locator (URL) that specifies an internet address. (Should remain blank if no such information is required.)  (optional)"]
[null,"Requester and/or Supplier Document ID: the ID number for the specific material declaration request to help the supplier and requester reference the data transaction. The ID number is created by the requester/supplier. A revision method (e.g., revision letter or date) should be established to identify different level configurations of the same request, i.e.: SDR-2017-10-25-00001-New. (optional)"]
[null,"Requester Request Date**: date the declaration request was made (mandatory)"]
[null,"Requester Respond by Date: date that a declaration request should be submitted to requester (optional)"]
[null,"Mode*: Select request/reply (when the customer/requester has provided the SRT to the supplier and requests that the supplier completes and returns it)  or distribute (when supplier distributes or publishes declaration) (mandatory)"]
[null,"Supplier Declaration Date*: date the declaration was distributed or submitted by supplier to the requester (mandatory)"]
[null,"Version*: these two fields are auto-populated to reference the AD-DSL  and the AD-QL versions used in a given AD-SRT. The stated AD-DSL version is in the DSL tab and the stated AD-QL is embedded in the Product-Statement tab queries. (mandatory)"]
[null,"Date: these two field are auto-populated with the date of the respective AD-DSL  and AD-QL versions used in the AD-SRT (optional)"]
[null,"Authority*: these two field are auto-populated with the authority for the respective AD-DSL  and AD-QL versions used in the AD-SRT (mandatory)"]
[null,"Identity*: these two field are auto-populated with the respective identities (e.g., AD-DSL  or AD-QL) used in the AD-SRT (mandatory)"]
[]
[null,"2. Product-Group tab (optional)"]
[null,"This tab may be used to declare one or more group of products in a single product declaration."]
[null,"Each group is identified by a Product Group ID (column A), that can be used in other tabs instead of the Supplier Product Number."]
[null,"A product group must share the same substances and substances concentration, but may have the same or different masses. For example, a group of fasteners with the same plating and base material and same substances concentration, but different fastener masses may be declared under one Product Group."]
[]
[null,"The instructions below are for fields in the order that they appear on the tab "]
["Product Group","Product Group ID*: the supplier’s number or identification assigned to the product group representing multiple products that share the same substance (mandatory)"]
[null,"Product Group Description: the supplier’s description assigned to the product group representing multiple products that share the same substance and product group ID (optional)"]
[null,"Unit Type: specifies the quantity measurement of the product mass (Select the unit type in the dropdown menu or enter the appropriate unit type. Products may be of different types: either discrete product, semi-finished product or raw material. The product mass may be expressed differently depending on the type. For example, product mass may be reported 1) using a “Mass” value and a “Unit of Measure” (UoM), 2) as “each” for discrete products, or 3) by length, or area, or volume for a given dimension of semi-finished product or raw material product. For example: a meter of wire, a square meter of textile, a liter of paint.) (optional) "]
["Product","Supplier Product Number*: supplier’s product number as bought/ordered (mandatory)"]
[null,"Supplier Product Description: supplier’s product description as bought/ordered (optional)"]
[null,"Supplier Product Revision: supplier’s product number revision as bought/ordered (optional)"]
[null,"Requester Product Number: requester’s product number as bought/ordered (optional)"]
[null,"Requester Product Description: requester’s product description as bought/ordered (optional)"]
[null,"Requester Product Revision: requester’s product number revision as bought/ordered (optional)"]
[null,"Product Manufacturing Location: the country where the product is manufactured (optional)"]
[null,"Mass: mass (weight) of the product (optional)"]
[null,"UoM: is Unit of Measure and identifies unit of measure of the mass of the product (A drop down menu allows selection of percentage (%), ppm (parts per million), milligrams (mg), grams (g), kilograms (kg) or unknown; but other data may be entered.) (optional)"]
[]
[null,"3. Product-Statement tab (mandatory)"]
[null,"Unless otherwise directed by the requester, the Product Statement tab lists only the top BOM level (level 1) product number(s). The requester should prepopulate the known product number information prior to providing the AD-SRT to the supplier."]
[null,"Responses to Q1 through Q5 are either \"Yes\", \"No\", or \"Unknown\"."]
[null,"If the answer to Q1 is \"no\" or \"unknown\", then the \"Substance-in-Product\" and \"Substance-in-Process\" tabs are not required to be completed."]
[null,"If the answer to Q1 is \"yes\", then the supplier shall declare AD-DSL substances contained in the product by completing the \"Substance-in-Product\" tab and optionally may complete the Substance-in-Process tab. At a minimum, provide the substances on the AD-DSL."]
[]
[null,"The instructions below are for fields in the order that they appear on the tab"]
["Product Identification","Requester Product Number**: requester’s product number as bought/ordered (mandatory if the Supplier Product Number or Product Group ID is not provided; otherwise it is optional) "]
[null,"Requester Product Description: requester’s product description as bought/ordered (optional)"]
[null,"Requester Product Revision: requester’s product number revision as bought/ordered (optional)"]
[null,"Supplier Product Number or Products Group ID**: supplier’s product number or assigned product group ID as bought/ordered (mandatory if the Requestor Product Number is not provided; otherwise it is optional)"]
[null,"Supplier Product Description: supplier’s product description as bought/ordered (optional)"]
[null,"Supplier Product Revision: supplier’s product number revision as bought/ordered (optional)"]
["Product Statement* ","Q1. Product contains substance(s) on the AD-DSL *: If substance(s) on the AD-DSL (refer to DSL tab in this spreadsheet) are contained in the product, then the response is “yes”. Otherwise, the response is “no” or “unknown”. (Select \"yes\", \"no\", or \"unknown\" in the dropdown menu.) (mandatory)"]
[null,"Q2. Product process(es) requires the use of substance(s) on the AD-DSL*: If the product production or post production (e.g., product operation, maintenance, repair, overhaul/refurbishment or a combination thereof) processes use substance(s) on the AD-DSL (refer to DSL tab in this spreadsheet), then the response is “yes”. Otherwise, the response is “no” or “unknown”. (Select \"yes\", \"no\", or \"unknown\" in the dropdown menu.) (mandatory)"]
[null,"Q3. Product contains radioactive material(s)*: If the product contains radioactive material (reference EURATOM 96/22), then the response is “yes”. Otherwise, the response is “no” or “unknown”. (Select \"yes\", \"no\", or \"unknown\" in the dropdown menu.) (mandatory)"]
[null,"Q4. Product contains biocide(s)*: If the product contains biocidal active substances or if the product has been treated with a biocidal product (reference EU 528/2012), then the response is “yes”.  Otherwise, the response is “no” or “unknown”. (Select \"yes\", \"no\", or \"unknown\" in the dropdown menu.) (mandatory)"]
[null,"Q5. Product contains conflict mineral(s)*: If the product contains conflict minerals (tin, tantalum, tungsten, gold, or their metal derivatives), then the response is “yes”. Otherwise, the response is “no” or “unknown”. (Select \"yes\", \"no\", or \"unknown\" in the dropdown menu.) (mandatory)"]
[null,"Comment: provide applicable supplier comments for additional information as appropriate (optional)"]
[]
[null,"4. Substance-in-Product tab (mandatory if AD-DSL substance is in product)"]
[null,"In the Substance-in-Product tab, enter the substances that remain on the product as bought/sold. Multiple materials and substances may be present on the product. The product may include a base material (e.g., alloy, glass, plastic, etc), coatings, fillers, or other materials.  Multiple rows are required to declare multiple substances. Use as many rows as necessary to declare the applicable substances. "]
[null,"When the requester requires only substance identification and substance  mass is not required, then \"unknown\" may be placed in the mass UoM column."]
[null,"Each substance on the AD-DSL has an assigned IAEG ID number. The order of preference for substance identification with 1 being most preferred are 1) CAS number, 2) EC number, 3) IAEG ID (for substances on the AD-DSL), and 4) substance name."]
[null,"In the Substance-in-Product tab, AD-DSL substances may be searched by two methods as follows:"]
[null,"  - Enter the CAS number in the desired cell in Column Z, press \"enter\" and the information in the corresponding columns AA (EC Number), AB (IAEG ID), and AC (Name) will auto-populate for those substances on the AD-DSL. If a CAS number is entered that is not on the AD-DSL, then the EC Number, IAEG ID, and Name will not auto-populate. "]
[null,"  - Select the AD-DSL substance name in the Column AC (Name) combobox (dropdown list). Select the substance name and the CAS, EC, and IAEG ID will auto-populate."]
[null,"Note that some AD-DSL substances will not have a CAS (e.g., aluminosilicate refractory ceramic fibres), but these substances have an IAEG number."]
[null,"\"Substance Identification**\"  is conditional mandatory because not all rows and fields under this section may be populated ( e.g., a part is listed because it is part of an assembly, but it contains no AD-DSL substances). "]
[null,"\"Substance Mass**\" is conditional mandatory because the Minimum, Maximum, and Nominal values are not all required. See IPC 1754 for examples of mass data input. "]
[]
[null,"The instructions below are for fields in the order that they appear on the tab "]
["Product","BOM Level: the number associated with the bill of material (BOM) level"]
[null,"(A BOM is a list of material and product numbers, containing descriptions and quantities, which is used to manufacture a given product or assembly. BOM level identifies the level of the product or subproducts in the BOM structure where:"]
[null,"-       BOM level of product is 1;"]
[null,"-       BOM Level of direct subproducts of the product is 2;"]
[null,"-       BOM Level of subproducts of level 2 subproduct is 3; etc. "]
[null,"Refer to IPC 1754 for further explanation of the BOM levels.)(optional)"]
[null,"Supplier Product Number or Product Group ID*: product group ID (from Product Group tab) or supplier’s product number as bought/ordered (mandatory)"]
[null,"Supplier Product Description: supplier’s product description as bought/ordered (optional)"]
[null,"Supplier Product Revision: supplier’s product number revision as bought/ordered (optional)"]
[null,"Article Category Number: the unique identifying number associated with the TARIC Code selected in the next column."]
[null,"Article Category (TARIC Code): the TARIC Code associated with the given product. You can use the following links to find the appropriate TARIC Code. Disclaimer- IAEG does not maintain the following links and is not responsible for any content on the sites."]
[null,"https://ecs.echa.europa.eu/cloud/home.html"]
[null,"https://ec.europa.eu/taxation_customs/dds2/taric/taric_consultation.jsp?Lang=en#"]
[null,"https://taric.hts-code.com/"]
[null,"Country of Manufacture: the country location of the supplier manufacturing plant for the product or subproduct  (Select the country in the dropdown menu.) (optional)"]
[null,"Manufacturing site: the physical location of the  supplier manufacturing plant for the product or subproduct (optional)"]
[null,"is Article (Yes/No): identifies if the product or subproduct is an article. It is a yes/no field with yes indicating that the product or subproduct is an article. (An article is defined as an object which during production is given a special shape, surface or design which determines its function to a greater degree than does its chemical composition. (Source: EU REACH 1907/2006 legislation, Article 3(3).)) (optional) "]
[null,"all Materials Declared (Yes/No): identifies if all materials have been declared for the product or subproduct. It is a yes/no field with yes indicating that all materials in the product or subproduct have been declared. (optional)"]
[null,"is Full Substance Declaration (Yes/No):  identifies if the declaration is a Full Substances Declaration (FSD). (Note that all \"substances\" may be declared without declaring all \"materials\".) This field is yes/no with yes indicating that the declaration is a FSD. (FSD is when 100% of the substances in a product are reported including the respective masses.) (optional)"]
[null,"# of Instances: number of instances (or quantity of) the product or subproduct that appears on the BOM (optional)"]
[null,"Unit Type: identifies the unit type for the product or subproduct for which the mass will be declared (A drop down menu has the values \"each, meter, m^2, m^3, cm, cm^2, cm^3, or liter; but other values may be entered. ) (optional)"]
[null,"Mass: mass (weight) of the product or subproduct (optional)"]
[null,"UoM: identifies unit of measure of the mass of the product or subproduct (A drop down menu allows selection of percentage (%), milligrams (mg), grams (g), or kilograms (kg).) (optional)"]
[null,"Mass Variation (+/-%): identifies the positive or negative variation in the product mass as a percentage of the mass value (optional)"]
["Material","Standard Material Number / Symbol: a designation for a material, generally an alloy or polymer (e.g., 1098 AISI302, UNS A96061, or Fluorocarbon (FKM) rubber, PA66-GF30 for Thermoplastic Glass Filled) (optional)"]
[null,"Material Name /Formulation Trade Name / Description: the supplier material name, formulation trade name or any description of the material (optional)"]
[null,"Manufacturer: manufacturer of the material (optional)"]
[null,"Material Use Description: material usage is described (The drop down menu has various uses, but other uses may be entered. The description for each material use in the dropdown menu is on the Use-Descriptor tab. If there are multiple uses, then multiple values may be provided separated by a semi-colon \";\".)  (optional)"]
[null,"Specification / Standard: the trade association, government, or similar organization standard or custom specification or standard number assigned to material(s) (optional)"]
[null,"Mass: mass (weight) of the material (optional)"]
[null,"UoM: unit of measure for the material mass (A drop down menu allows selection of percentage (%), milligrams (mg), grams (g), or kilograms (kg).) (optional)"]
[null,"is Article (Yes/No): identifies if the material is an article. (It is a yes/no field with yes indicating that the material is an article. (An article is defined as an object which during production is given a special shape, surface or design which determines its function to a greater degree than does its chemical composition. (Source: EU REACH 1907/2006 legislation, Article 3(3).)) (optional)"]
[null,"is Homogeneous Material (Yes/No): identifies if the material is a homogeneous material (This is a yes/no field with yes indicating that the material is homogeneous. A homogeneous material is one material of uniform composition throughout or a material consisting of a combination of materials, that cannot be disjointed or separated into different materials by mechanical actions such as unscrewing, cutting, crushing, grinding and abrasive processes. (Source: Directive 2011/65/EU, known as “RoHS2”)) (optional)"]
["Substance**","CAS**: the substance’s Chemical Abstracts Service (CAS) registry number (conditional mandatory)"]
[null,"EC**: the substance’s European Community (EC) number (conditional mandatory)"]
[null,"IAEG ID**: the IAEG number assigned to the substance on the AD-DSL (Refer to the Substance-List tab for IAEG numbers.) (conditional mandatory) "]
[null,"Name**: the chemical name of the substance (Substances on the AD-DSL are in the dropdown menu.) (conditional mandatory)"]
[null,"Synonym: typical synonym(s) for the chemical substance (optional)"]
[null,"Substance Use Description: the use of the substance is described (The dropdown menu (combo box) has various uses, but other uses may be entered in this cell. The description for each substance use in the dropdown menu is on the Use-Descriptor tab. If there are multiple uses, then multiple values may be provided separated by a semi-colon \";\".) (optional)"]
[null,"Minimum**: the substance mass minimum value (It may be used alone or with a maximum value when a minimum to maximum range is provided.) (conditional mandatory)"]
[null,"Maximum**: the substance mass maximum value (It may be used alone or with a minimum value when a minimum to maximum range is provided.) (conditional mandatory)"]
[null,"Nominal**: the substance mass value when a nominal (designated or theoretical mass that may vary from the actual) value is provided (conditional mandatory)"]
[null,"UoM**: field identifies the unit of measure for the substance mass (A drop down menu allows selection of percentage (%), ppm (parts per million), milligrams (mg), grams (g), kilograms (kg) or unknown; but other data may be entered.) (For calculating ppm, the conversion from mass percentage (%) to ppm is 0.10% = 1000 ppm.) (conditional mandatory)"]
[null,"AD-DSL groups (calculated on CAS): This field is only filled in for substances on the AD-DSL and auto-populates from the AD-DSL.  (optional)"]
[null,"Comment: provide applicable supplier comments for additional information as appropriate (optional)"]
[]
[null,"5. Substance-in-Process tab (optional)"]
[null,"In the Substance-in-Process tab enter substances that are used in product production or post production (e.g., product operation, maintenance, repair, overhaul/refurbishment or a combination thereof) processes. "]
[null,"Each substance on the AD-DSL has an assigned IAEG ID number. The order of preference for substance identification with 1 being most preferred are 1) CAS number, 2) EC number, 3) IAEG ID (for substances on the AD-DSL), and 4) substance name."]
[null,"The AD-DSL substances are on the \"Substance-List\" tab. In the Substance-in-Process tab, AD-DSL substances may be searched by two methods as follows:"]
[null,"  - Enter the CAS number in the desired cell in Column N, press \"enter\" on your keyboard, and the information in the corresponding columns O (EC Number), P (IAEG ID), and Q (Name) will auto-populate for those substances on the AD-DSL. If a CAS number is entered that is not on the AD-DSL, then the EC Number, IAEG ID, and Name will not auto-populate."]
[null,"  - Select the AD-DSL substance name in the Column Q (Name) combobox (dropdown list). Select the substance name and the CAS, EC, and IAEG ID will auto-populate."]
[null,"Note that some AD-DSL substances will not have a CAS (e.g., aluminosilicate refractory ceramic fibres), but these substances have an IAEG number."]
[]
[null,"The instructions below are for fields in the order that they appear on the tab "]
["Product","Supplier Product Number or Product Group ID*: product group ID (from Product Group tab) or supplier’s product number as bought/ordered (mandatory)"]
[null,"Supplier Product Name/Description: supplier’s product description as bought/ordered (optional)"]
[null,"Product Revision: supplier’s product number revision as bought/ordered (optional)"]
["Process","Process Name: the title of the production, operations, maintenance, repair or overhaul/refurbishment that uses the reported substance (optional)"]
[null,"Process Classification: sub-process, task or which kind of activity uses the reported substance (optional)"]
[null,"Process Stage*: select one of the following “Production”, \"Product Operation\"“Maintenance”, “Repair\", \"Overhaul/Refurbishment” or a combination thereof.  (If there are multiple stages, then each stage may be provided separated by a semi-colon \";\".)(mandatory)"]
["Material / Chemical Product","Standard Material Number / Symbol: a designation for a material, generally an alloy or polymer (e.g., 1098 AISI302, UNS A96061, or Fluorocarbon (FKM) rubber) (optional)"]
[null,"Material Name / Formulation / Trade Name / Description: the supplier material name, formulation trade name or any description of the material (optional)"]
[null,"Manufacturer: manufacturer of the material (optional)"]
[null,"Material Use Description: material usage is described (The drop down menu has various uses, but other uses may be entered. The description for each material use in the dropdown menu is on the Use-Descriptor tab.  If there are multiple uses, then multiple values may be provided separated by a semi-colon \";\".)  (optional)"]
[null,"Material Specification / Standard: the trade association, government, or similar organization standard or custom specification or standard number assigned to material(s) (optional)"]
["Substance","CAS**: the substance’s Chemical Abstracts Service (CAS) registry number (mandatory that at least either CAS, EC, IAEG ID or substance name is provided)"]
[null,"EC**: the substance’s European Community (EC) number (mandatory that at least either CAS, EC, IAEG ID or substance name is provided)"]
[null,"IAEG ID**: the IAEG number assigned to the substance on the AD-DSL (Refer to the Substance-List tab for IAEG numbers.) (mandatory that at least either CAS, EC, IAEG ID or substance name is provided)"]
[null,"Name**: the chemical name of the substance (Substances on the AD-DSL are in the dropdown menu.) (mandatory that at least either CAS, EC, IAEG ID or substance name is provided)"]
[null,"Synonym: typical synonym(s) for the chemical substance (optional)"]
[null,"Substance Use Description: the use of the substance is described (The dropdown menu (combo box) has various uses, but other uses may be entered in this cell. The description for each substance use in the dropdown menu is on the Use-Descriptor tab.) (optional)"]
[null,"AD-DSL groups (calculated on CAS): This field is only filled in for substances on the AD-DSL and auto-populates from the AD-DSL.  (optional)"]
[null,"Comment: provide applicable supplier comments for additional information as appropriate (optional)"]
[]
[null,"6. Attachment tab (optional)"]
[null,"One or several attachment(s) or attached files may be provided with the declaration."]
[null,"Click on the \"Attach File to Declaration\" button, then browse and select the file you want to upload.  Upload the file and the uploaded file will be displayed in the table in the Attachment tab."]
[]
[]
[null,"The instructions below are for fields in the order that they appear on the tab "]
[null,"Supplier Product Number or Product Group ID**: product group ID (from Product Group tab) or supplier’s product number as bought/ordered (conditional mandatory)"]
[null,"File Name: the name of the attached file (optional)"]
[null,"File Type: the type (e.g., PDF, Microsoft Word, etc.) of file attached (optional)"]
[null,"File or URL: the actual file or the applicable URL (optional)"]
[null,"File ZIP Location: This field is auto-populated with a zip file when the converter is used. The converter will generate a ZIP file that contains all the different files attached in the SRT. (optional)"]
[null,"Comment: provide applicable supplier comments for additional information as appropriate (optional)"]
[]
[null,"7. Supplier-Acceptance tab (mandatory)"]
[null,"If a method of signing the form has not been coordinated with the requestor, then submit signature as follows: \n-After filling in the fields on this form, print and sign the form. \n-Scan signed form and attach it to the declaration via tab 6."]
[]
[null,"The instructions below are for fields in the relative order that they appear on the tab "]
[null,"Supplier Authorizer Identical to Supplier Contact: if the supplier Authorizer contact information is the same as the supplier contact information, then the answer is yes; otherwise the answer is no (If the answer is yes, then the mandatory Supplier Contact fields will auto-populate from the Requester-Supplier tab.) (optional)"]
[null,"Authorizer Company Name*: the legal name of the Authorizer’s company (mandatory)"]
[null,"Authorizer Company ID Type: the authority that establishes the company identity (Select vendor code, DUNS code, or CAGE code from the drop down menu or enter another ID type) (optional)"]
[null,"Authorizer Company ID Number: the company number or assigned identity under the authority (optional)"]
[null,"Street: the street number, street name, and suite number (optional)"]
[null,"City: name of the city (optional)"]
[null,"State: the state, county, parish, or province (optional)"]
[null,"Country: name of the country (Select the country from the drop down menu.) (optional)"]
[null,"Zip Code: the postal zip code (optional)"]
[null,"Authorizer Name*: name of the person approving the declaration document (mandatory)"]
[null,"Authorizer Phone*: Authorizer’s phone number (mandatory)"]
[null,"Authorizer Email*: Authorizer’s email address (mandatory)"]
[null,"Authorizer Title: Authorizer’s job title (optional)"]
[null,"Authorizer Acceptance* of the Acceptance Statement: select \"yes\" if the Authorizer approves all the data submitted under the declaration and accepts the statement as it applies to all of the data (mandatory)"]
[null,"Authorizer Signature: sign either digitally or by hard copy to indicate acceptance of the legal statement as it applies to all of the data provided in the declaration. An XML file shall be signed with an XML signature conforming to the XML-Signature Syntax and Processing as defined in the W3C Recommendation (February 2002). (optional)"]
[null,"Authorizer Signed Date*: date the Authorizer signed or approved the declaration (mandatory)"]
[null,"Statement Type*: Select \"default\" if the provided approval statement in cell G19 - 22 will be used or select \"custom\" if a unique statement will be entered in approval statement box (cell G19 – 22). (mandatory) "]
[null,"Acceptance Statement*: either use the default statement or the authorizer can provide a meaningful statement (mandatory)"]
[]
[null,"Buttons"]
[null,"Run Data Check: Prior to submitting the declaration to the requestor, click on the \"Run Data Check\" button (approximately cell B28). Correct any errors. Once the button turns green, the data check is completed."]
[]
[null,"Printing"]
[null,"To print the entire workbook, go to File, Print, and change the first option in Print Settings to \"Print Entire Workbook\". If you only wish to print certain sections of the workbook, you can either select the data and choose the option \"Print Selected Area\", or you can adjust the Pages option to cover all relevant data."]
[]
[null,"End of instructions"]

{"sheet":"1.Requester-Supplier","index":2,"n_rows":250,"n_cols":26,"rows_kept":250,"cut":false,"hidden":false,"merged":[[2,4,2,5],[4,4,4,5],[10,4,10,5],[7,4,7,5],[3,4,3,5],[9,4,9,5],[6,6,7,6],[21,4,21,5],[14,4,14,5],[15,4,15,5],[16,4,16,5],[13,0,13,7],[18,6,19,6]]}
["Requester Contact",null,{"$f":"Overview!E3","v":"Version: 2.0"},null,null,null,null,"return to Overview",null,null,null,null,null,null,null,null,null,null,null,null,null,null,null,null,null,"CountryCode"]
[null,null,null,null,null,null,null,null,null,null,null,null,null,null,null,null,null,null,null,null,null,null,null,null,null,"AF - Afghanistan"]
[null,"Requester Company Name**","",null,"Requester Contact Name**",null,"",null,null,null,null,null,null,null,null,null,null,null,null,null,null,null,null,null,null,"AX - Aland Islands"]
[null,"Requester Company ID Type","",null,"Requester Contact Phone**",null,"",null,null,null,null,null,null,null,null,null,null,null,null,null,null,null,null,null,null,"AL - Albania"]
[null,"Requester Company ID Number","",null,"Requester Contact Email**",null,"",null,null,null,null,null,null,null,null,null,null,null,null,null,null,null,null,null,null,"DZ - Algeria"]
[null,"Requester Contact Address",null,null,null,"Requester Contact Title","",null,null,null,null,null,null,null,null,null,null,null,null,null,null,null,null,null,null,"AS - American Samoa"]
[null,"Street","",null,null,"Requester Contact Comment","",null,null,null,null,null,null,null,null,null,null,null,null,null,null,null,null,null,null,"AD - Andorra"]
[null,"City","",null,null,null,null,null,null,null,null,null,null,null,null,null,null,null,null,null,null,null,null,null,null,"AO - Angola"]
[null,"State","",null,null,"Request Document ID","",null,null,null,null,null,null,null,null,null,null,null,null,null,null,null,null,null,null,"AI - Anguilla"]
[null,"Country",null,null,"Request Date**",null,null,null,null,null,null,null,null,null,null,null,null,null,null,null,null,null,null,null,null,"AQ - Antarctica"]
[null,"Zip Code","",null,"Request Respond by Date",null,null,null,null,null,null,null,null,null,null,null,null,null,null,null,null,null,null,null,null,"AG - Antigua and Barbuda"]
[null,null,null,null,null,null,null,null,null,null,null,null,null,null,null,null,null,null,null,null,null,null,null,null,null,"AR - Argentina"]
["Supplier Contact*",null,null,null,null,"Mode*","Request/Reply",null,null,null,null,null,null,null,null,null,null,null,null,null,null,null,null,null,null,"AM - Armenia"]
[null,null,null,null,null,null,null,null,null,null,null,null,null,null,null,null,null,null,null,null,null,null,null,null,null,"AW - Aruba"]
[null,"Supplier Company Name*",null,null,"Supplier Contact Name*",null,null,null,null,null,null,null,null,null,null,null,null,null,null,null,null,null,null,null,null,"AU - Australia"]
[null,"Supplier Company ID Type",null,null,"Supplier Contact Phone*",null,null,null,null,null,null,null,null,null,null,null,null,null,null,null,null,null,null,null,null,"AT - Austria"]
[null,"Supplier Company ID Number",null,null,"Supplier Contact Email*",null,null,null,null,null,null,null,null,null,null,null,null,null,null,null,null,null,null,null,null,"AZ - Azerbaijan"]
[null,"Supplier Company Address",null,null,null,"Supplier Contact Title",null,null,null,null,null,null,null,null,null,null,null,null,null,null,null,null,null,null,null,"BS - Bahamas"]
[null,"Street",null,null,null,"Supplier Comment, URL",null,null,null,null,null,null,null,null,null,null,null,null,null,null,null,null,null,null,null,"BH - Bahrain"]
[null,"City",null,null,null,"for additional information",null,null,null,null,null,null,null,null,null,null,null,null,null,null,null,null,null,null,null,"BD - Bangladesh"]
[null,"State",null,null,null,"Supplier Document ID",null,null,null,null,null,null,null,null,null,null,null,null,null,null,null,null,null,null,null,"BB - Barbados"]
[null,"Country",null,null,"Supplier Declaration Date*",null,null,null,null,null,null,null,null,null,null,null,null,null,null,null,null,null,null,null,null,"BY - Belarus"]
[null,"Zip Code",null,null,null,null,null,null,null,null,null,null,null,null,null,null,null,null,null,null,null,null,null,null,null,"BE - Belgium"]
[null,null,null,null,null,null,null,null,null,null,null,null,null,null,null,null,null,null,null,null,null,null,null,null,null,"BZ - Belize"]
["Aerospace and Defence Declarable Substances List [AD-DSL]",null,null,null,"Aerospace and Defence Query List [AD-QL]",null,null,null,null,null,null,null,null,null,null,null,null,null,null,null,null,null,null,null,null,"BJ - Benin"]
[null,null,null,null,null,null,null,null,null,null,null,null,null,null,null,null,null,null,null,null,null,null,null,null,null,"BM - Bermuda"]
["Version*",{"$f":"DSL!C2","v":"7.0"},null,null,"Version*","1.0",null,null,null,null,null,null,null,null,null,null,null,null,null,null,null,null,null,null,null,"BT - Bhutan"]
["Date",{"$f":"DSL!D2","v":"2023-01-27"},null,null,"Date","2018-03-02",null,null,null,null,null,null,null,null,null,null,null,null,null,null,null,null,null,null,null,"BO - Bolivia (Plurinational State of)"]
["Authority*","IAEG",null,null,"Authority*","IAEG",null,null,null,null,null,null,null,null,null,null,null,null,null,null,null,null,null,null,null,"BQ - Bonaire, Sint Eustatius and Saba"]
["Identity*","AD-DSL",null,null,"Identity*","ADQL-0318",null,null,null,null,null,null,null,null,null,null,null,null,null,null,null,null,null,null,null,"BA - Bosnia and Herzegovina"]
[null,null,null,null,null,null,null,null,null,null,null,null,null,null,null,null,null,null,null,null,null,null,null,null,null,"BW - Botswana"]
[null,null,null,null,null,null,null,null,null,null,null,null,null,null,null,null,null,null,null,null,null,null,null,null,null,"BV - Bouvet Island"]
[null,null,null,null,null,null,null,null,null,null,null,null,null,null,null,null,null,null,null,null,null,null,null,null,null,"BR - Brazil"]
[null,null,null,null,null,null,null,null,null,null,null,null,null,null,null,null,null,null,null,null,null,null,null,null,null,"IO - British Indian Ocean Territory"]
[null,null,null,null,null,null,null,null,null,null,null,null,null,null,null,null,null,null,null,null,null,null,null,null,null,"BN - Brunei Darussalam"]
[null,null,null,null,null,null,null,null,null,null,null,null,null,null,null,null,null,null,null,null,null,null,null,null,null,"BG - Bulgaria"]
[null,null,null,null,null,null,null,null,null,null,null,null,null,null,null,null,null,null,null,null,null,null,null,null,null,"BF - Burkina Faso"]
[null,null,null,null,null,null,null,null,null,null,null,null,null,null,null,null,null,null,null,null,null,null,null,null,null,"BI - Burundi"]
[null,null,null,null,null,null,null,null,null,null,null,null,null,null,null,null,null,null,null,null,null,null,null,null,null,"KH - Cambodia"]
[null,null,null,null,null,null,null,null,null,null,null,null,null,null,null,null,null,null,null,null,null,null,null,null,null,"CM - Cameroon"]
[null,null,null,null,null,null,null,null,null,null,null,null,null,null,null,null,null,null,null,null,null,null,null,null,null,"CA - Canada"]
[null,null,null,null,null,null,null,null,null,null,null,null,null,null,null,null,null,null,null,null,null,null,null,null,null,"CV - Cabo Verde"]
[null,null,null,null,null,null,null,null,null,null,null,null,null,null,null,null,null,null,null,null,null,null,null,null,null,"KY - Cayman Islands"]
[null,null,null,null,null,null,null,null,null,null,null,null,null,null,null,null,null,null,null,null,null,null,null,null,null,"CF - Central African Republic"]
[null,null,null,null,null,null,null,null,null,null,null,null,null,null,null,null,null,null,null,null,null,null,null,null,null,"TD - Chad"]
[null,null,null,null,null,null,null,null,null,null,null,null,null,null,null,null,null,null,null,null,null,null,null,null,null,"CL - Chile"]
[null,null,null,null,null,null,null,null,null,null,null,null,null,null,null,null,null,null,null,null,null,null,null,null,null,"CN - China"]
[null,null,null,null,null,null,null,null,null,null,null,null,null,null,null,null,null,null,null,null,null,null,null,null,null,"CX - Christmas Island"]
[null,null,null,null,null,null,null,null,null,null,null,null,null,null,null,null,null,null,null,null,null,null,null,null,null,"CC - Cocos (Keeling) Islands"]
[null,null,null,null,null,null,null,null,null,null,null,null,null,null,null,null,null,null,null,null,null,null,null,null,null,"CO - Colombia"]
[null,null,null,null,null,null,null,null,null,null,null,null,null,null,null,null,null,null,null,null,null,null,null,null,null,"KM - Comoros"]
[null,null,null,null,null,null,null,null,null,null,null,null,null,null,null,null,null,null,null,null,null,null,null,null,null,"CG - Congo"]
[null,null,null,null,null,null,null,null,null,null,null,null,null,null,null,null,null,null,null,null,null,null,null,null,null,"CD - Congo (Democratic Republic of the)"]
[null,null,null,null,null,null,null,null,null,null,null,null,null,null,null,null,null,null,null,null,null,null,null,null,null,"CK - Cook Islands"]
[null,null,null,null,null,null,null,null,null,null,null,null,null,null,null,null,null,null,null,null,null,null,null,null,null,"CR - Costa Rica"]
[null,null,null,null,null,null,null,null,null,null,null,null,null,null,null,null,null,null,null,null,null,null,null,null,null,"CI - Cote d'Ivoire"]
[null,null,null,null,null,null,null,null,null,null,null,null,null,null,null,null,null,null,null,null,null,null,null,null,null,"HR - Croatia"]
[null,null,null,null,null,null,null,null,null,null,null,null,null,null,null,null,null,null,null,null,null,null,null,null,null,"CU - Cuba"]
[null,null,null,null,null,null,null,null,null,null,null,null,null,null,null,null,null,null,null,null,null,null,null,null,null,"CW - Curacao !Curaçao"]
[null,null,null,null,null,null,null,null,null,null,null,null,null,null,null,null,null,null,null,null,null,null,null,null,null,"CY - Cyprus"]
[null,null,null,null,null,null,null,null,null,null,null,null,null,null,null,null,null,null,null,null,null,null,null,null,null,"CZ - Czech Republic"]
[null,null,null,null,null,null,null,null,null,null,null,null,null,null,null,null,null,null,null,null,null,null,null,null,null,"DK - Denmark"]
[null,null,null,null,null,null,null,null,null,null,null,null,null,null,null,null,null,null,null,null,null,null,null,null,null,"DJ - Djibouti"]
[null,null,null,null,null,null,null,null,null,null,null,null,null,null,null,null,null,null,null,null,null,null,null,null,null,"DM - Dominica"]
[null,null,null,null,null,null,null,null,null,null,null,null,null,null,null,null,null,null,null,null,null,null,null,null,null,"DO - Dominican Republic"]
[null,null,null,null,null,null,null,null,null,null,null,null,null,null,null,null,null,null,null,null,null,null,null,null,null,"EC - Ecuador"]
[null,null,null,null,null,null,null,null,null,null,null,null,null,null,null,null,null,null,null,null,null,null,null,null,null,"EG - Egypt"]
[null,null,null,null,null,null,null,null,null,null,null,null,null,null,null,null,null,null,null,null,null,null,null,null,null,"SV - El Salvador"]
[null,null,null,null,null,null,null,null,null,null,null,null,null,null,null,null,null,null,null,null,null,null,null,null,null,"GQ - Equatorial Guinea"]
[null,null,null,null,null,null,null,null,null,null,null,null,null,null,null,null,null,null,null,null,null,null,null,null,null,"ER - Eritrea"]
[null,null,null,null,null,null,null,null,null,null,null,null,null,null,null,null,null,null,null,null,null,null,null,null,null,"EE - Estonia"]
[null,null,null,null,null,null,null,null,null,null,null,null,null,null,null,null,null,null,null,null,null,null,null,null,null,"ET - Ethiopia"]
[null,null,null,null,null,null,null,null,null,null,null,null,null,null,null,null,null,null,null,null,null,null,null,null,null,"FK - Falkland Islands (Malvinas)"]
[null,null,null,null,null,null,null,null,null,null,null,null,null,null,null,null,null,null,null,null,null,null,null,null,null,"FO - Faroe Islands"]
[null,null,null,null,null,null,null,null,null,null,null,null,null,null,null,null,null,null,null,null,null,null,null,null,null,"FJ - Fiji"]
[null,null,null,null,null,null,null,null,null,null,null,null,null,null,null,null,null,null,null,null,null,null,null,null,null,"FI - Finland"]
[null,null,null,null,null,null,null,null,null,null,null,null,null,null,null,null,null,null,null,null,null,null,null,null,null,"FR - France"]
[null,null,null,null,null,null,null,null,null,null,null,null,null,null,null,null,null,null,null,null,null,null,null,null,null,"GF - French Guiana"]
[null,null,null,null,null,null,null,null,null,null,null,null,null,null,null,null,null,null,null,null,null,null,null,null,null,"PF - French Polynesia"]
[null,null,null,null,null,null,null,null,null,null,null,null,null,null,null,null,null,null,null,null,null,null,null,null,null,"TF - French Southern Territories"]
[null,null,null,null,null,null,null,null,null,null,null,null,null,null,null,null,null,null,null,null,null,null,null,null,null,"GA - Gabon"]
[null,null,null,null,null,null,null,null,null,null,null,null,null,null,null,null,null,null,null,null,null,null,null,null,null,"GM - Gambia"]
[null,null,null,null,null,null,null,null,null,null,null,null,null,null,null,null,null,null,null,null,null,null,null,null,null,"GE - Georgia"]
[null,null,null,null,null,null,null,null,null,null,null,null,null,null,null,null,null,null,null,null,null,null,null,null,null,"DE - Germany"]
[null,null,null,null,null,null,null,null,null,null,null,null,null,null,null,null,null,null,null,null,null,null,null,null,null,"GH - Ghana"]
[null,null,null,null,null,null,null,null,null,null,null,null,null,null,null,null,null,null,null,null,null,null,null,null,null,"GI - Gibraltar"]
[null,null,null,null,null,null,null,null,null,null,null,null,null,null,null,null,null,null,null,null,null,null,null,null,null,"GR - Greece"]
[null,null,null,null,null,null,null,null,null,null,null,null,null,null,null,null,null,null,null,null,null,null,null,null,null,"GL - Greenland"]
[null,null,null,null,null,null,null,null,null,null,null,null,null,null,null,null,null,null,null,null,null,null,null,null,null,"GD - Grenada"]
[null,null,null,null,null,null,null,null,null,null,null,null,null,null,null,null,null,null,null,null,null,null,null,null,null,"GP - Guadeloupe"]
[null,null,null,null,null,null,null,null,null,null,null,null,null,null,null,null,null,null,null,null,null,null,null,null,null,"GU - Guam"]
[null,null,null,null,null,null,null,null,null,null,null,null,null,null,null,null,null,null,null,null,null,null,null,null,null,"GT - Guatemala"]
[null,null,null,null,null,null,null,null,null,null,null,null,null,null,null,null,null,null,null,null,null,null,null,null,null,"GG - Guernsey"]
[null,null,null,null,null,null,null,null,null,null,null,null,null,null,null,null,null,null,null,null,null,null,null,null,null,"GN - Guinea"]
[null,null,null,null,null,null,null,null,null,null,null,null,null,null,null,null,null,null,null,null,null,null,null,null,null,"GW - Guinea-Bissau"]
[null,null,null,null,null,null,null,null,null,null,null,null,null,null,null,null,null,null,null,null,null,null,null,null,null,"GY - Guyana"]
[null,null,null,null,null,null,null,null,null,null,null,null,null,null,null,null,null,null,null,null,null,null,null,null,null,"HT - Haiti"]
[null,null,null,null,null,null,null,null,null,null,null,null,null,null,null,null,null,null,null,null,null,null,null,null,null,"HM - Heard Island and McDonald Islands"]
[null,null,null,null,null,null,null,null,null,null,null,null,null,null,null,null,null,null,null,null,null,null,null,null,null,"VA - Holy See"]
[null,null,null,null,null,null,null,null,null,null,null,null,null,null,null,null,null,null,null,null,null,null,null,null,null,"HN - Honduras"]
[null,null,null,null,null,null,null,null,null,null,null,null,null,null,null,null,null,null,null,null,null,null,null,null,null,"HK - Hong Kong"]
[null,null,null,null,null,null,null,null,null,null,null,null,null,null,null,null,null,null,null,null,null,null,null,null,null,"HU - Hungary"]
[null,null,null,null,null,null,null,null,null,null,null,null,null,null,null,null,null,null,null,null,null,null,null,null,null,"IS - Iceland"]
[null,null,null,null,null,null,null,null,null,null,null,null,null,null,null,null,null,null,null,null,null,null,null,null,null,"IN - India"]
[null,null,null,null,null,null,null,null,null,null,null,null,null,null,null,null,null,null,null,null,null,null,null,null,null,"ID - Indonesia"]
[null,null,null,null,null,null,null,null,null,null,null,null,null,null,null,null,null,null,null,null,null,null,null,null,null,"IR - Iran (Islamic Republic of)"]
[null,null,null,null,null,null,null,null,null,null,null,null,null,null,null,null,null,null,null,null,null,null,null,null,null,"IQ - Iraq"]
[null,null,null,null,null,null,null,null,null,null,null,null,null,null,null,null,null,null,null,null,null,null,null,null,null,"IE - Ireland"]
[null,null,null,null,null,null,null,null,null,null,null,null,null,null,null,null,null,null,null,null,null,null,null,null,null,"IM - Isle of Man"]
[null,null,null,null,null,null,null,null,null,null,null,null,null,null,null,null,null,null,null,null,null,null,null,null,null,"IL - Israel"]
[null,null,null,null,null,null,null,null,null,null,null,null,null,null,null,null,null,null,null,null,null,null,null,null,null,"IT - Italy"]
[null,null,null,null,null,null,null,null,null,null,null,null,null,null,null,null,null,null,null,null,null,null,null,null,null,"JM - Jamaica"]
[null,null,null,null,null,null,null,null,null,null,null,null,null,null,null,null,null,null,null,null,null,null,null,null,null,"JP - Japan"]
[null,null,null,null,null,null,null,null,null,null,null,null,null,null,null,null,null,null,null,null,null,null,null,null,null,"JE - Jersey"]
[null,null,null,null,null,null,null,null,null,null,null,null,null,null,null,null,null,null,null,null,null,null,null,null,null,"JO - Jordan"]
[null,null,null,null,null,null,null,null,null,null,null,null,null,null,null,null,null,null,null,null,null,null,null,null,null,"KZ - Kazakhstan"]
[null,null,null,null,null,null,null,null,null,null,null,null,null,null,null,null,null,null,null,null,null,null,null,null,null,"KE - Kenya"]
[null,null,null,null,null,null,null,null,null,null,null,null,null,null,null,null,null,null,null,null,null,null,null,null,null,"KI - Kiribati"]
[null,null,null,null,null,null,null,null,null,null,null,null,null,null,null,null,null,null,null,null,null,null,null,null,null,"KP - Korea (Democratic People's Republic of)"]
[null,null,null,null,null,null,null,null,null,null,null,null,null,null,null,null,null,null,null,null,null,null,null,null,null,"KR - Korea (Republic of)"]
[null,null,null,null,null,null,null,null,null,null,null,null,null,null,null,null,null,null,null,null,null,null,null,null,null,"KW - Kuwait"]
[null,null,null,null,null,null,null,null,null,null,null,null,null,null,null,null,null,null,null,null,null,null,null,null,null,"KG - Kyrgyzstan"]
[null,null,null,null,null,null,null,null,null,null,null,null,null,null,null,null,null,null,null,null,null,null,null,null,null,"LA - Lao People's Democratic Republic"]
[null,null,null,null,null,null,null,null,null,null,null,null,null,null,null,null,null,null,null,null,null,null,null,null,null,"LV - Latvia"]
[null,null,null,null,null,null,null,null,null,null,null,null,null,null,null,null,null,null,null,null,null,null,null,null,null,"LB - Lebanon"]
[null,null,null,null,null,null,null,null,null,null,null,null,null,null,null,null,null,null,null,null,null,null,null,null,null,"LS - Lesotho"]
[null,null,null,null,null,null,null,null,null,null,null,null,null,null,null,null,null,null,null,null,null,null,null,null,null,"LR - Liberia"]
[null,null,null,null,null,null,null,null,null,null,null,null,null,null,null,null,null,null,null,null,null,null,null,null,null,"LY - Libya"]
[null,null,null,null,null,null,null,null,null,null,null,null,null,null,null,null,null,null,null,null,null,null,null,null,null,"LI - Liechtenstein"]
[null,null,null,null,null,null,null,null,null,null,null,null,null,null,null,null,null,null,null,null,null,null,null,null,null,"LT - Lithuania"]
[null,null,null,null,null,null,null,null,null,null,null,null,null,null,null,null,null,null,null,null,null,null,null,null,null,"LU - Luxembourg"]
[null,null,null,null,null,null,null,null,null,null,null,null,null,null,null,null,null,null,null,null,null,null,null,null,null,"MO - Macao"]
[null,null,null,null,null,null,null,null,null,null,null,null,null,null,null,null,null,null,null,null,null,null,null,null,null,"MK - Macedonia (the former Yugoslav Republic of)"]
[null,null,null,null,null,null,null,null,null,null,null,null,null,null,null,null,null,null,null,null,null,null,null,null,null,"MG - Madagascar"]
[null,null,null,null,null,null,null,null,null,null,null,null,null,null,null,null,null,null,null,null,null,null,null,null,null,"MW - Malawi"]
[null,null,null,null,null,null,null,null,null,null,null,null,null,null,null,null,null,null,null,null,null,null,null,null,null,"MY - Malaysia"]
[null,null,null,null,null,null,null,null,null,null,null,null,null,null,null,null,null,null,null,null,null,null,null,null,null,"MV - Maldives"]
[null,null,null,null,null,null,null,null,null,null,null,null,null,null,null,null,null,null,null,null,null,null,null,null,null,"ML - Mali"]
[null,null,null,null,null,null,null,null,null,null,null,null,null,null,null,null,null,null,null,null,null,null,null,null,null,"MT - Malta"]
[null,null,null,null,null,null,null,null,null,null,null,null,null,null,null,null,null,null,null,null,null,null,null,null,null,"MH - Marshall Islands"]
[null,null,null,null,null,null,null,null,null,null,null,null,null,null,null,null,null,null,null,null,null,null,null,null,null,"MQ - Martinique"]
[null,null,null,null,null,null,null,null,null,null,null,null,null,null,null,null,null,null,null,null,null,null,null,null,null,"MR - Mauritania"]
[null,null,null,null,null,null,null,null,null,null,null,null,null,null,null,null,null,null,null,null,null,null,null,null,null,"MU - Mauritius"]
[null,null,null,null,null,null,null,null,null,null,null,null,null,null,null,null,null,null,null,null,null,null,null,null,null,"YT - Mayotte"]
[null,null,null,null,null,null,null,null,null,null,null,null,null,null,null,null,null,null,null,null,null,null,null,null,null,"MX - Mexico"]
[null,null,null,null,null,null,null,null,null,null,null,null,null,null,null,null,null,null,null,null,null,null,null,null,null,"FM - Micronesia (Federated States of)"]
[null,null,null,null,null,null,null,null,null,null,null,null,null,null,null,null,null,null,null,null,null,null,null,null,null,"MD - Moldova (Republic of)"]
[null,null,null,null,null,null,null,null,null,null,null,null,null,null,null,null,null,null,null,null,null,null,null,null,null,"MC - Monaco"]
[null,null,null,null,null,null,null,null,null,null,null,null,null,null,null,null,null,null,null,null,null,null,null,null,null,"MN - Mongolia"]
[null,null,null,null,null,null,null,null,null,null,null,null,null,null,null,null,null,null,null,null,null,null,null,null,null,"ME - Montenegro"]
[null,null,null,null,null,null,null,null,null,null,null,null,null,null,null,null,null,null,null,null,null,null,null,null,null,"MS - Montserrat"]
[null,null,null,null,null,null,null,null,null,null,null,null,null,null,null,null,null,null,null,null,null,null,null,null,null,"MA - Morocco"]
[null,null,null,null,null,null,null,null,null,null,null,null,null,null,null,null,null,null,null,null,null,null,null,null,null,"MZ - Mozambique"]
[null,null,null,null,null,null,null,null,null,null,null,null,null,null,null,null,null,null,null,null,null,null,null,null,null,"MM - Myanmar"]
[null,null,null,null,null,null,null,null,null,null,null,null,null,null,null,null,null,null,null,null,null,null,null,null,null,"NA - Namibia"]
[null,null,null,null,null,null,null,null,null,null,null,null,null,null,null,null,null,null,null,null,null,null,null,null,null,"NR - Nauru"]
[null,null,null,null,null,null,null,null,null,null,null,null,null,null,null,null,null,null,null,null,null,null,null,null,null,"NP - Nepal"]
[null,null,null,null,null,null,null,null,null,null,null,null,null,null,null,null,null,null,null,null,null,null,null,null,null,"NL - Netherlands"]
[null,null,null,null,null,null,null,null,null,null,null,null,null,null,null,null,null,null,null,null,null,null,null,null,null,"NC - New Caledonia"]
[null,null,null,null,null,null,null,null,null,null,null,null,null,null,null,null,null,null,null,null,null,null,null,null,null,"NZ - New Zealand"]
[null,null,null,null,null,null,null,null,null,null,null,null,null,null,null,null,null,null,null,null,null,null,null,null,null,"NI - Nicaragua"]
[null,null,null,null,null,null,null,null,null,null,null,null,null,null,null,null,null,null,null,null,null,null,null,null,null,"NE - Niger"]
[null,null,null,null,null,null,null,null,null,null,null,null,null,null,null,null,null,null,null,null,null,null,null,null,null,"NG - Nigeria"]
[null,null,null,null,null,null,null,null,null,null,null,null,null,null,null,null,null,null,null,null,null,null,null,null,null,"NU - Niue"]
[null,null,null,null,null,null,null,null,null,null,null,null,null,null,null,null,null,null,null,null,null,null,null,null,null,"NF - Norfolk Island"]
[null,null,null,null,null,null,null,null,null,null,null,null,null,null,null,null,null,null,null,null,null,null,null,null,null,"MP - Northern Mariana Islands"]
[null,null,null,null,null,null,null,null,null,null,null,null,null,null,null,null,null,null,null,null,null,null,null,null,null,"NO - Norway"]
[null,null,null,null,null,null,null,null,null,null,null,null,null,null,null,null,null,null,null,null,null,null,null,null,null,"OM - Oman"]
[null,null,null,null,null,null,null,null,null,null,null,null,null,null,null,null,null,null,null,null,null,null,null,null,null,"PK - Pakistan"]
[null,null,null,null,null,null,null,null,null,null,null,null,null,null,null,null,null,null,null,null,null,null,null,null,null,"PW - Palau"]
[null,null,null,null,null,null,null,null,null,null,null,null,null,null,null,null,null,null,null,null,null,null,null,null,null,"PS - Palestine, State of"]
[null,null,null,null,null,null,null,null,null,null,null,null,null,null,null,null,null,null,null,null,null,null,null,null,null,"PA - Panama"]
[null,null,null,null,null,null,null,null,null,null,null,null,null,null,null,null,null,null,null,null,null,null,null,null,null,"PG - Papua New Guinea"]
[null,null,null,null,null,null,null,null,null,null,null,null,null,null,null,null,null,null,null,null,null,null,null,null,null,"PY - Paraguay"]
[null,null,null,null,null,null,null,null,null,null,null,null,null,null,null,null,null,null,null,null,null,null,null,null,null,"PE - Peru"]
[null,null,null,null,null,null,null,null,null,null,null,null,null,null,null,null,null,null,null,null,null,null,null,null,null,"PH - Philippines"]
[null,null,null,null,null,null,null,null,null,null,null,null,null,null,null,null,null,null,null,null,null,null,null,null,null,"PN - Pitcairn"]
[null,null,null,null,null,null,null,null,null,null,null,null,null,null,null,null,null,null,null,null,null,null,null,null,null,"PL - Poland"]
[null,null,null,null,null,null,null,null,null,null,null,null,null,null,null,null,null,null,null,null,null,null,null,null,null,"PT - Portugal"]
[null,null,null,null,null,null,null,null,null,null,null,null,null,null,null,null,null,null,null,null,null,null,null,null,null,"PR - Puerto Rico"]
[null,null,null,null,null,null,null,null,null,null,null,null,null,null,null,null,null,null,null,null,null,null,null,null,null,"QA - Qatar"]
[null,null,null,null,null,null,null,null,null,null,null,null,null,null,null,null,null,null,null,null,null,null,null,null,null,"RE - Reunion"]
[null,null,null,null,null,null,null,null,null,null,null,null,null,null,null,null,null,null,null,null,null,null,null,null,null,"RO - Romania"]
[null,null,null,null,null,null,null,null,null,null,null,null,null,null,null,null,null,null,null,null,null,null,null,null,null,"RU - Russian Federation"]
[null,null,null,null,null,null,null,null,null,null,null,null,null,null,null,null,null,null,null,null,null,null,null,null,null,"RW - Rwanda"]
[null,null,null,null,null,null,null,null,null,null,null,null,null,null,null,null,null,null,null,null,null,null,null,null,null,"BL - Saint Barthelemy"]
[null,null,null,null,null,null,null,null,null,null,null,null,null,null,null,null,null,null,null,null,null,null,null,null,null,"SH - Saint Helena, Ascension and Tristan da Cunha"]
[null,null,null,null,null,null,null,null,null,null,null,null,null,null,null,null,null,null,null,null,null,null,null,null,null,"KN - Saint Kitts and Nevis"]
[null,null,null,null,null,null,null,null,null,null,null,null,null,null,null,null,null,null,null,null,null,null,null,null,null,"LC - Saint Lucia"]
[null,null,null,null,null,null,null,null,null,null,null,null,null,null,null,null,null,null,null,null,null,null,null,null,null,"MF - Saint Martin (French part)"]
[null,null,null,null,null,null,null,null,null,null,null,null,null,null,null,null,null,null,null,null,null,null,null,null,null,"PM - Saint Pierre and Miquelon"]
[null,null,null,null,null,null,null,null,null,null,null,null,null,null,null,null,null,null,null,null,null,null,null,null,null,"VC - Saint Vincent and the Grenadines"]
[null,null,null,null,null,null,null,null,null,null,null,null,null,null,null,null,null,null,null,null,null,null,null,null,null,"WS - Samoa"]
[null,null,null,null,null,null,null,null,null,null,null,null,null,null,null,null,null,null,null,null,null,null,null,null,null,"SM - San Marino"]
[null,null,null,null,null,null,null,null,null,null,null,null,null,null,null,null,null,null,null,null,null,null,null,null,null,"ST - Sao Tome and Principe"]
[null,null,null,null,null,null,null,null,null,null,null,null,null,null,null,null,null,null,null,null,null,null,null,null,null,"SA - Saudi Arabia"]
[null,null,null,null,null,null,null,null,null,null,null,null,null,null,null,null,null,null,null,null,null,null,null,null,null,"SN - Senegal"]
[null,null,null,null,null,null,null,null,null,null,null,null,null,null,null,null,null,null,null,null,null,null,null,null,null,"RS - Serbia"]
[null,null,null,null,null,null,null,null,null,null,null,null,null,null,null,null,null,null,null,null,null,null,null,null,null,"SC - Seychelles"]
[null,null,null,null,null,null,null,null,null,null,null,null,null,null,null,null,null,null,null,null,null,null,null,null,null,"SL - Sierra Leone"]
[null,null,null,null,null,null,null,null,null,null,null,null,null,null,null,null,null,null,null,null,null,null,null,null,null,"SG - Singapore"]
[null,null,null,null,null,null,null,null,null,null,null,null,null,null,null,null,null,null,null,null,null,null,null,null,null,"SX - Sint Maarten (Dutch part)"]
[null,null,null,null,null,null,null,null,null,null,null,null,null,null,null,null,null,null,null,null,null,null,null,null,null,"SK - Slovakia"]
[null,null,null,null,null,null,null,null,null,null,null,null,null,null,null,null,null,null,null,null,null,null,null,null,null,"SI - Slovenia"]
[null,null,null,null,null,null,null,null,null,null,null,null,null,null,null,null,null,null,null,null,null,null,null,null,null,"SB - Solomon Islands"]
[null,null,null,null,null,null,null,null,null,null,null,null,null,null,null,null,null,null,null,null,null,null,null,null,null,"SO - Somalia"]
[null,null,null,null,null,null,null,null,null,null,null,null,null,null,null,null,null,null,null,null,null,null,null,null,null,"ZA - South Africa"]
[null,null,null,null,null,null,null,null,null,null,null,null,null,null,null,null,null,null,null,null,null,null,null,null,null,"GS - South Georgia and the South Sandwich Islands"]
[null,null,null,null,null,null,null,null,null,null,null,null,null,null,null,null,null,null,null,null,null,null,null,null,null,"SS - South Sudan"]
[null,null,null,null,null,null,null,null,null,null,null,null,null,null,null,null,null,null,null,null,null,null,null,null,null,"ES - Spain"]
[null,null,null,null,null,null,null,null,null,null,null,null,null,null,null,null,null,null,null,null,null,null,null,null,null,"LK - Sri Lanka"]
[null,null,null,null,null,null,null,null,null,null,null,null,null,null,null,null,null,null,null,null,null,null,null,null,null,"SD - Sudan"]
[null,null,null,null,null,null,null,null,null,null,null,null,null,null,null,null,null,null,null,null,null,null,null,null,null,"SR - Suriname"]
[null,null,null,null,null,null,null,null,null,null,null,null,null,null,null,null,null,null,null,null,null,null,null,null,null,"SJ - Svalbard and Jan Mayen"]
[null,null,null,null,null,null,null,null,null,null,null,null,null,null,null,null,null,null,null,null,null,null,null,null,null,"SZ - Swaziland"]
[null,null,null,null,null,null,null,null,null,null,null,null,null,null,null,null,null,null,null,null,null,null,null,null,null,"SE - Sweden"]
[null,null,null,null,null,null,null,null,null,null,null,null,null,null,null,null,null,null,null,null,null,null,null,null,null,"CH - Switzerland"]
[null,null,null,null,null,null,null,null,null,null,null,null,null,null,null,null,null,null,null,null,null,null,null,null,null,"SY - Syrian Arab Republic"]
[null,null,null,null,null,null,null,null,null,null,null,null,null,null,null,null,null,null,null,null,null,null,null,null,null,"TW - Taiwan, Province of China"]
[null,null,null,null,null,null,null,null,null,null,null,null,null,null,null,null,null,null,null,null,null,null,null,null,null,"TJ - Tajikistan"]
[null,null,null,null,null,null,null,null,null,null,null,null,null,null,null,null,null,null,null,null,null,null,null,null,null,"TZ - Tanzania, United Republic of"]
[null,null,null,null,null,null,null,null,null,null,null,null,null,null,null,null,null,null,null,null,null,null,null,null,null,"TH - Thailand"]
[null,null,null,null,null,null,null,null,null,null,null,null,null,null,null,null,null,null,null,null,null,null,null,null,null,"TL - Timor-Leste"]
[null,null,null,null,null,null,null,null,null,null,null,null,null,null,null,null,null,null,null,null,null,null,null,null,null,"TG - Togo"]
[null,null,null,null,null,null,null,null,null,null,null,null,null,null,null,null,null,null,null,null,null,null,null,null,null,"TK - Tokelau"]
[null,null,null,null,null,null,null,null,null,null,null,null,null,null,null,null,null,null,null,null,null,null,null,null,null,"TO - Tonga"]
[null,null,null,null,null,null,null,null,null,null,null,null,null,null,null,null,null,null,null,null,null,null,null,null,null,"TT - Trinidad and Tobago"]
[null,null,null,null,null,null,null,null,null,null,null,null,null,null,null,null,null,null,null,null,null,null,null,null,null,"TN - Tunisia"]
[null,null,null,null,null,null,null,null,null,null,null,null,null,null,null,null,null,null,null,null,null,null,null,null,null,"TR - Turkey"]
[null,null,null,null,null,null,null,null,null,null,null,null,null,null,null,null,null,null,null,null,null,null,null,null,null,"TM - Turkmenistan"]
[null,null,null,null,null,null,null,null,null,null,null,null,null,null,null,null,null,null,null,null,null,null,null,null,null,"TC - Turks and Caicos Islands"]
[null,null,null,null,null,null,null,null,null,null,null,null,null,null,null,null,null,null,null,null,null,null,null,null,null,"TV - Tuvalu"]
[null,null,null,null,null,null,null,null,null,null,null,null,null,null,null,null,null,null,null,null,null,null,null,null,null,"UG - Uganda"]
[null,null,null,null,null,null,null,null,null,null,null,null,null,null,null,null,null,null,null,null,null,null,null,null,null,"UA - Ukraine"]
[null,null,null,null,null,null,null,null,null,null,null,null,null,null,null,null,null,null,null,null,null,null,null,null,null,"AE - United Arab Emirates"]
[null,null,null,null,null,null,null,null,null,null,null,null,null,null,null,null,null,null,null,null,null,null,null,null,null,"GB - United Kingdom of Great Britain and Northern Ireland"]
[null,null,null,null,null,null,null,null,null,null,null,null,null,null,null,null,null,null,null,null,null,null,null,null,null,"US - United States of America"]
[null,null,null,null,null,null,null,null,null,null,null,null,null,null,null,null,null,null,null,null,null,null,null,null,null,"UM - United States Minor Outlying Islands"]
[null,null,null,null,null,null,null,null,null,null,null,null,null,null,null,null,null,null,null,null,null,null,null,null,null,"UY - Uruguay"]
[null,null,null,null,null,null,null,null,null,null,null,null,null,null,null,null,null,null,null,null,null,null,null,null,null,"UZ - Uzbekistan"]
[null,null,null,null,null,null,null,null,null,null,null,null,null,null,null,null,null,null,null,null,null,null,null,null,null,"VU - Vanuatu"]
[null,null,null,null,null,null,null,null,null,null,null,null,null,null,null,null,null,null,null,null,null,null,null,null,null,"VE - Venezuela (Bolivarian Republic of)"]
[null,null,null,null,null,null,null,null,null,null,null,null,null,null,null,null,null,null,null,null,null,null,null,null,null,"VN - Viet Nam"]
[null,null,null,null,null,null,null,null,null,null,null,null,null,null,null,null,null,null,null,null,null,null,null,null,null,"VG - Virgin Islands (British)"]
[null,null,null,null,null,null,null,null,null,null,null,null,null,null,null,null,null,null,null,null,null,null,null,null,null,"VI - Virgin Islands (U.S.)"]
[null,null,null,null,null,null,null,null,null,null,null,null,null,null,null,null,null,null,null,null,null,null,null,null,null,"WF - Wallis and Futuna"]
[null,null,null,null,null,null,null,null,null,null,null,null,null,null,null,null,null,null,null,null,null,null,null,null,null,"EH - Western Sahara"]
[null,null,null,null,null,null,null,null,null,null,null,null,null,null,null,null,null,null,null,null,null,null,null,null,null,"YE - Yemen"]
[null,null,null,null,null,null,null,null,null,null,null,null,null,null,null,null,null,null,null,null,null,null,null,null,null,"ZM - Zambia"]
[null,null,null,null,null,null,null,null,null,null,null,null,null,null,null,null,null,null,null,null,null,null,null,null,null,"ZW - Zimbabwe"]

{"sheet":"2.Product-Group","index":3,"n_rows":2,"n_cols":16,"rows_kept":2,"cut":false,"hidden":false,"merged":[]}
["Product Group",null,null,"Product",null,null,null,null,null,null,null,null,null,null,null,"return to Overview"]
["Product Group ID*","Product Group Description","Unit Type","Supplier Product Number Type*","Supplier Product Number*","Supplier Product Description","Additional ID Type(s)","Additional ID Number(s)","Supplier Product Revision","Requester Product Number","Requester Product Description","Requester Product Revision","Product Manufacturing Location","Mass","UoM",{"$f":"Overview!E3","v":"Version: 2.0"}]

{"sheet":"3.Product-Statement","index":4,"n_rows":3,"n_cols":15,"rows_kept":3,"cut":false,"hidden":false,"merged":[[1,8,1,11],[0,6,2,7]]}
["Product Identification*",null,null,null,null,"return to Overview","Columns not used, to hide",null,"Product Statement*",null,{"$f":"Overview!E3","v":"Version: 2.0"},null,"return to Overview"]
["Requester ",null,null,"Supplier",null,null,null,null,"For each Query Statement, provide Answer \"Yes\", \"No\" or \"Unknown\""]
["Requester Product Number**","Requester Product Description","Requester  Product Revision","Supplier Product Number\nor Products Group ID**","Supplier Product Description","Supplier Product Revision",null,null,"Q1. Product contains substance(s) on the AD-DSL","Q2. Product process(es) requires the use of substance(s) on the AD-DSL","Q3. Product contains radioactive material(s)","Q4. Product contains biocide(s)","Q5. Product contains conflict mineral(s)","Add comment","Comment"]

{"sheet":"4.Substance-in-Product","index":5,"n_rows":936,"n_cols":48,"rows_kept":936,"cut":false,"hidden":false,"merged":[[1,5,2,5],[1,41,2,41],[1,6,2,6],[1,25,2,25],[1,24,2,24],[1,23,2,23],[0,46,2,46],[1,42,1,45],[1,26,2,26],[0,44,0,45],[1,33,1,38],[1,39,2,39],[1,40,2,40],[1,29,2,29],[1,30,2,30],[1,28,2,28],[1,27,2,27],[0,18,0,32],[1,19,2,19],[1,20,2,20],[1,21,2,21],[1,22,2,22],[1,0,2,0],[1,32,2,32],[1,31,2,31],[1,9,2,9],[1,1,2,1],[1,2,2,2],[1,7,2,7],[1,13,1,16],[1,3,2,3],[1,4,2,4],[1,12,2,12],[0,17,2,17],[0,14,0,15],[1,10,2,10],[1,11,2,11],[1,18,2,18]]}
["Product",null,null,{"$f":"Overview!E3","v":"Version: 2.0"},null,null,null,null,null,null,null,null,null,null,null,null,null,"add Material Info","Material",null,null,null,null,null,null,null,null,null,null,null,null,null,null,"Substance",null,{"$f":"Overview!E3","v":"Version: 2.0"},null,null,null,null,null,null,"AD-DSL","AD-UDL","return to Overview",null,"IAEG Regulatory Criteria\n(based on CAS Number)"]
["add BOM level","BOM Level","Supplier Product Number or Product Group ID*","Supplier Product Description","Supplier Product Revision","Article Category Number","Article Category (TARIC Code)","Country of manufacture",null,"is Article\n(Yes/No)","all Materials Declared (Yes/No)","is Full Substance Declaration\n(Yes/No)","# of Instances","Mass",null,null,null,null,"Material Class ID","Material Class Name","Material Class List Version","Standard Material Number / Symbol","Material Name /  Formulation Trade Name / Description","Mixture Category","Mixture Class Name","Mixture Class List Version","Manufacturer","Material Use Description","Specification / Standard","Mass","UoM","is Article\n(Yes/No)","is Homogeneous Material (Yes/No)","Substance Identification**",null,null,null,null,null,"Synonym","Substance Use Description","Safe Use Instructions","Substance Mass**"]
[null,null,null,null,null,null,null,null,"Manufacturing site",null,"all Materials Reported (Yes/No)","is FSD\n(Yes/No)",null,"Unit Type","Mass","UoM","Mass Variation\n(+/- %)",null,null,null,null,null,null,null,"Mixture Class Name","Mixture Class List ID",null,null,null,null,null,null,null,"CAS","EC","IAEG ID","ECHA ID","Name","Substance Group",null,null,"Safe Use Instructions","Minimum","Maximum","Nominal","UoM",null,"Comment"]
[null,null,null,null,null,null,null,null,null,null,null,null,null,null,null,null,null,null,"",null,null,null,null,"",null,null,null,null,null,null,"","","",null,"","","","",null,"",null,null,null,null,null,null,{"$f":"IFERROR(VLOOKUP('4.Substance-in-Product'!AH4,DSL!B:H,5,FALSE),\"-\")","v":"-"}]
[null,null,null,null,null,null,null,null,null,null,null,null,null,null,null,null,null,null,"",null,null,null,null,"",null,null,null,null,null,"",null,null,"",null,"",null,"","","","",null,null,null,null,null,null,{"$f":"IFERROR(VLOOKUP('4.Substance-in-Product'!AH5,DSL!B:H,5,FALSE),\"-\")","v":"-"}]
[null,null,null,null,null,null,null,null,null,null,null,null,null,null,null,null,null,null,"",null,null,null,null,"",null,null,null,null,null,null,null,null,"",null,"","","","","","",null,null,null,null,null,null,{"$f":"IFERROR(VLOOKUP('4.Substance-in-Product'!AH6,DSL!B:H,5,FALSE),\"-\")","v":"-"}]
[null,null,null,null,null,null,null,null,null,null,null,null,null,null,null,null,null,null,"",null,null,null,null,"",null,null,null,null,null,null,null,null,"",null,"","","","","","",null,null,null,null,null,null,{"$f":"IFERROR(VLOOKUP('4.Substance-in-Product'!AH7,DSL!B:H,5,FALSE),\"-\")","v":"-"}]
[null,null,null,null,null,null,null,null,null,null,null,null,null,null,null,null,null,null,"",null,null,null,null,"",null,null,null,null,null,null,null,null,"","","","","",null,"","",null,null,null,null,null,null,{"$f":"IFERROR(VLOOKUP('4.Substance-in-Product'!AH8,DSL!B:H,5,FALSE),\"-\")","v":"-"}]
[null,null,null,null,null,null,null,null,null,null,null,null,null,null,null,null,null,null,null,null,null,null,null,null,null,null,null,null,null,null,null,null,"","","","","",null,"","",null,null,null,null,null,null,{"$f":"IFERROR(VLOOKUP('4.Substance-in-Product'!AH9,DSL!B:H,5,FALSE),\"-\")","v":"-"}]
[null,null,null,null,null,null,null,null,null,null,null,null,null,null,null,null,null,null,null,null,null,null,null,null,null,null,null,null,null,null,null,null,"","","","","",null,"",null,null,null,null,null,null,null,{"$f":"IFERROR(VLOOKUP('4.Substance-in-Product'!AH10,DSL!B:H,5,FALSE),\"-\")","v":"-"}]
[null,null,null,null,null,null,null,null,null,null,null,null,null,null,null,null,null,null,null,null,null,null,null,null,null,null,null,null,null,null,null,null,"","","","","",null,"","",null,null,null,null,null,null,{"$f":"IFERROR(VLOOKUP('4.Substance-in-Product'!AH11,DSL!B:H,5,FALSE),\"-\")","v":"-"}]
[null,null,null,null,null,null,null,null,null,null,null,null,null,null,null,null,null,null,null,null,null,null,null,null,null,null,null,null,null,null,null,null,"","","","","",null,"","",null,null,null,null,null,null,{"$f":"IFERROR(VLOOKUP('4.Substance-in-Product'!AH12,DSL!B:H,5,FALSE),\"-\")","v":"-"}]
[null,null,null,null,null,null,null,null,null,null,null,null,null,null,null,null,null,null,null,null,null,null,null,null,null,null,null,null,null,null,null,null,"","","","","",null,"","",null,null,null,null,null,null,{"$f":"IFERROR(VLOOKUP('4.Substance-in-Product'!AH13,DSL!B:H,5,FALSE),\"-\")","v":"-"}]
[null,null,null,null,null,null,null,null,null,null,null,null,null,null,null,null,null,null,null,null,null,null,null,null,null,null,null,null,null,null,null,null,"","","","","",null,"","",null,null,null,null,null,null,{"$f":"IFERROR(VLOOKUP('4.Substance-in-Product'!AH14,DSL!B:H,5,FALSE),\"-\")","v":"-"}]
[null,null,null,null,null,null,null,null,null,null,null,null,null,null,null,null,null,null,null,null,null,null,null,null,null,null,null,null,null,null,null,null,"","","","","",null,"",null,null,null,null,null,null,null,{"$f":"IFERROR(VLOOKUP('4.Substance-in-Product'!AH15,DSL!B:H,5,FALSE),\"-\")","v":"-"}]
[null,null,null,null,null,null,null,null,null,null,null,null,null,null,null,null,null,null,null,null,null,null,null,null,null,null,null,null,null,null,null,null,"","","","","",null,"",null,null,null,null,null,null,null,{"$f":"IFERROR(VLOOKUP('4.Substance-in-Product'!AH16,DSL!B:H,5,FALSE),\"-\")","v":"-"}]
[null,null,null,null,null,null,null,null,null,null,null,null,null,null,null,null,null,null,null,null,null,null,null,null,null,null,null,null,null,null,null,null,"","","","","",null,"","",null,null,null,null,null,null,{"$f":"IFERROR(VLOOKUP('4.Substance-in-Product'!AH17,DSL!B:H,5,FALSE),\"-\")","v":"-"}]
[null,null,null,null,null,null,null,null,null,null,null,null,null,null,null,null,null,null,null,null,null,null,null,null,null,null,null,null,null,null,null,null,"","","","","",null,"",null,null,null,null,null,null,null,{"$f":"IFERROR(VLOOKUP('4.Substance-in-Product'!AH18,DSL!B:H,5,FALSE),\"-\")","v":"-"}]
[null,null,null,null,null,null,null,null,null,null,null,null,null,null,null,null,null,null,null,null,null,null,null,null,null,null,null,null,null,null,null,null,"","","","","",null,"",null,null,null,null,null,null,null,{"$f":"IFERROR(VLOOKUP('4.Substance-in-Product'!AH19,DSL!B:H,5,FALSE),\"-\")","v":"-"}]
[null,null,null,null,null,null,null,null,null,null,null,null,null,null,null,null,null,null,null,null,null,null,null,null,null,null,null,null,null,null,null,null,"","",null,null,null,null,"",null,null,null,null,null,null,null,{"$f":"IFERROR(VLOOKUP('4.Substance-in-Product'!AH20,DSL!B:H,5,FALSE),\"-\")","v":"-"}]
[null,null,null,null,null,null,null,null,null,null,null,null,null,null,null,null,null,null,null,null,null,null,null,null,null,null,null,null,null,null,null,null,"","",null,null,null,null,"",null,null,null,null,null,null,null,{"$f":"IFERROR(VLOOKUP('4.Substance-in-Product'!AH21,DSL!B:H,5,FALSE),\"-\")","v":"-"}]
[null,null,null,null,null,null,null,null,null,null,null,null,null,null,null,null,null,null,null,null,null,null,null,null,null,null,null,null,null,null,null,null,"",null,null,null,null,"","",null,null,null,null,null,null,null,{"$f":"IFERROR(VLOOKUP('4.Substance-in-Product'!AH22,DSL!B:H,5,FALSE),\"-\")","v":"-"}]
[null,null,null,null,null,null,null,null,null,null,null,null,null,null,null,null,null,null,null,null,null,null,null,null,null,null,null,null,null,null,null,null,null,null,null,null,null,"","",null,null,null,null,null,null,null,{"$f":"IFERROR(VLOOKUP('4.Substance-in-Product'!AH23,DSL!B:H,5,FALSE),\"-\")","v":"-"}]
[null,null,null,null,null,null,null,null,null,null,null,null,null,null,null,null,null,null,null,null,null,null,null,null,null,null,null,null,null,null,null,null,null,null,null,null,null,"","",null,null,null,null,null,null,null,{"$f":"IFERROR(VLOOKUP('4.Substance-in-Product'!AH24,DSL!B:H,5,FALSE),\"-\")","v":"-"}]
[null,null,null,null,null,null,null,null,null,null,null,null,null,null,null,null,null,null,null,null,null,null,null,null,null,null,null,null,null,null,null,null,null,null,null,null,null,"","",null,null,null,null,null,null,null,{"$f":"IFERROR(VLOOKUP('4.Substance-in-Product'!AH25,DSL!B:H,5,FALSE),\"-\")","v":"-"}]
[null,null,null,null,null,null,null,null,null,null,null,null,null,null,null,null,null,null,null,null,null,null,null,null,null,null,null,null,null,null,null,null,null,null,null,null,null,"","",null,null,null,null,null,null,null,{"$f":"IFERROR(VLOOKUP('4.Substance-in-Product'!AH26,DSL!B:H,5,FALSE),\"-\")","v":"-"}]
[null,null,null,null,null,null,null,null,null,null,null,null,null,null,null,null,null,null,null,null,null,null,null,null,null,null,null,null,null,null,null,null,null,null,null,null,null,"","",null,null,null,null,null,null,null,{"$f":"IFERROR(VLOOKUP('4.Substance-in-Product'!AH27,DSL!B:H,5,FALSE),\"-\")","v":"-"}]
[null,null,null,null,null,null,null,null,null,null,null,null,null,null,null,null,null,null,null,null,null,null,null,null,null,null,null,null,null,null,null,null,null,null,null,null,null,"","",null,null,null,null,null,null,null,{"$f":"IFERROR(VLOOKUP('4.Substance-in-Product'!AH28,DSL!B:H,5,FALSE),\"-\")","v":"-"}]
[null,null,null,null,null,null,null,null,null,null,null,null,null,null,null,null,null,null,null,null,null,null,null,null,null,null,null,null,null,null,null,null,null,null,null,null,null,"","",null,null,null,null,null,null,null,{"$f":"IFERROR(VLOOKUP('4.Substance-in-Product'!AH29,DSL!B:H,5,FALSE),\"-\")","v":"-"}]
[null,null,null,null,null,null,null,null,null,null,null,null,null,null,null,null,null,null,null,null,null,null,null,null,null,null,null,null,null,null,null,null,null,null,null,null,null,"","",null,null,null,null,null,null,null,{"$f":"IFERROR(VLOOKUP('4.Substance-in-Product'!AH30,DSL!B:H,5,FALSE),\"-\")","v":"-"}]
[null,null,null,null,null,null,null,null,null,null,null,null,null,null,null,null,null,null,null,null,null,null,null,null,null,null,null,null,null,null,null,null,null,null,null,null,null,"","",null,null,null,null,null,null,null,{"$f":"IFERROR(VLOOKUP('4.Substance-in-Product'!AH31,DSL!B:H,5,FALSE),\"-\")","v":"-"}]
[null,null,null,null,null,null,null,null,null,null,null,null,null,null,null,null,null,null,null,null,null,null,null,null,null,null,null,null,null,null,null,null,null,null,null,null,null,"","",null,null,null,null,null,null,null,{"$f":"IFERROR(VLOOKUP('4.Substance-in-Product'!AH32,DSL!B:H,5,FALSE),\"-\")","v":"-"}]
[null,null,null,null,null,null,null,null,null,null,null,null,null,null,null,null,null,null,null,null,null,null,null,null,null,null,null,null,null,null,null,null,null,null,null,null,null,"","",null,null,null,null,null,null,null,{"$f":"IFERROR(VLOOKUP('4.Substance-in-Product'!AH33,DSL!B:H,5,FALSE),\"-\")","v":"-"}]
[null,null,null,null,null,null,null,null,null,null,null,null,null,null,null,null,null,null,null,null,null,null,null,null,null,null,null,null,null,null,null,null,null,null,null,null,null,"","",null,null,null,null,null,null,null,{"$f":"IFERROR(VLOOKUP('4.Substance-in-Product'!AH34,DSL!B:H,5,FALSE),\"-\")","v":"-"}]
[null,null,null,null,null,null,null,null,null,null,null,null,null,null,null,null,null,null,null,null,null,null,null,null,null,null,null,null,null,null,null,null,null,null,null,null,null,"","",null,null,null,null,null,null,null,{"$f":"IFERROR(VLOOKUP('4.Substance-in-Product'!AH35,DSL!B:H,5,FALSE),\"-\")","v":"-"}]
[null,null,null,null,null,null,null,null,null,null,null,null,null,null,null,null,null,null,null,null,null,null,null,null,null,null,null,null,null,null,null,null,null,null,null,null,null,"","",null,null,null,null,null,null,null,{"$f":"IFERROR(VLOOKUP('4.Substance-in-Product'!AH36,DSL!B:H,5,FALSE),\"-\")","v":"-"}]
[null,null,null,null,null,null,null,null,null,null,null,null,null,null,null,null,null,null,null,null,null,null,null,null,null,null,null,null,null,null,null,null,null,null,null,null,null,"","",null,null,null,null,null,null,null,{"$f":"IFERROR(VLOOKUP('4.Substance-in-Product'!AH37,DSL!B:H,5,FALSE),\"-\")","v":"-"}]
[null,null,null,null,null,null,null,null,null,null,null,null,null,null,null,null,null,null,null,null,null,null,null,null,null,null,null,null,null,null,null,null,null,null,null,null,null,"","",null,null,null,null,null,null,null,{"$f":"IFERROR(VLOOKUP('4.Substance-in-Product'!AH38,DSL!B:H,5,FALSE),\"-\")","v":"-"}]
[null,null,null,null,null,null,null,null,null,null,null,null,null,null,null,null,null,null,null,null,null,null,null,null,null,null,null,null,null,null,null,null,null,null,null,null,null,"","",null,null,null,null,null,null,null,{"$f":"IFERROR(VLOOKUP('4.Substance-in-Product'!AH39,DSL!B:H,5,FALSE),\"-\")","v":"-"}]
[null,null,null,null,null,null,null,null,null,null,null,null,null,null,null,null,null,null,null,null,null,null,null,null,null,null,null,null,null,null,null,null,null,null,null,null,null,"","",null,null,null,null,null,null,null,{"$f":"IFERROR(VLOOKUP('4.Substance-in-Product'!AH40,DSL!B:H,5,FALSE),\"-\")","v":"-"}]
[null,null,null,null,null,null,null,null,null,null,null,null,null,null,null,null,null,null,null,null,null,null,null,null,null,null,null,null,null,null,null,null,null,null,null,null,null,"","",null,null,null,null,null,null,null,{"$f":"IFERROR(VLOOKUP('4.Substance-in-Product'!AH41,DSL!B:H,5,FALSE),\"-\")","v":"-"}]
[null,null,null,null,null,null,null,null,null,null,null,null,null,null,null,null,null,null,null,null,null,null,null,null,null,null,null,null,null,null,null,null,null,null,null,null,null,"","",null,null,null,null,null,null,null,{"$f":"IFERROR(VLOOKUP('4.Substance-in-Product'!AH42,DSL!B:H,5,FALSE),\"-\")","v":"-"}]
[null,null,null,null,null,null,null,null,null,null,null,null,null,null,null,null,null,null,null,null,null,null,null,null,null,null,null,null,null,null,null,null,null,null,null,null,null,"","",null,null,null,null,null,null,null,{"$f":"IFERROR(VLOOKUP('4.Substance-in-Product'!AH43,DSL!B:H,5,FALSE),\"-\")","v":"-"}]
[null,null,null,null,null,null,null,null,null,null,null,null,null,null,null,null,null,null,null,null,null,null,null,null,null,null,null,null,null,null,null,null,null,null,null,null,null,"","",null,null,null,null,null,null,null,{"$f":"IFERROR(VLOOKUP('4.Substance-in-Product'!AH44,DSL!B:H,5,FALSE),\"-\")","v":"-"}]
[null,null,null,null,null,null,null,null,null,null,null,null,null,null,null,null,null,null,null,null,null,null,null,null,null,null,null,null,null,null,null,null,null,null,null,null,null,"","",null,null,null,null,null,null,null,{"$f":"IFERROR(VLOOKUP('4.Substance-in-Product'!AH45,DSL!B:H,5,FALSE),\"-\")","v":"-"}]
[null,null,null,null,null,null,null,null,null,null,null,null,null,null,null,null,null,null,null,null,null,null,null,null,null,null,null,null,null,null,null,null,null,null,null,null,null,"","",null,null,null,null,null,null,null,{"$f":"IFERROR(VLOOKUP('4.Substance-in-Product'!AH46,DSL!B:H,5,FALSE),\"-\")","v":"-"}]
[null,null,null,null,null,null,null,null,null,null,null,null,null,null,null,null,null,null,null,null,null,null,null,null,null,null,null,null,null,null,null,null,null,null,null,null,null,"","",null,null,null,null,null,null,null,{"$f":"IFERROR(VLOOKUP('4.Substance-in-Product'!AH47,DSL!B:H,5,FALSE),\"-\")","v":"-"}]
[null,null,null,null,null,null,null,null,null,null,null,null,null,null,null,null,null,null,null,null,null,null,null,null,null,null,null,null,null,null,null,null,null,null,null,null,null,"","",null,null,null,null,null,null,null,{"$f":"IFERROR(VLOOKUP('4.Substance-in-Product'!AH48,DSL!B:H,5,FALSE),\"-\")","v":"-"}]
[null,null,null,null,null,null,null,null,null,null,null,null,null,null,null,null,null,null,null,null,null,null,null,null,null,null,null,null,null,null,null,null,null,null,null,null,null,"","",null,null,null,null,null,null,null,{"$f":"IFERROR(VLOOKUP('4.Substance-in-Product'!AH49,DSL!B:H,5,FALSE),\"-\")","v":"-"}]
[null,null,null,null,null,null,null,null,null,null,null,null,null,null,null,null,null,null,null,null,null,null,null,null,null,null,null,null,null,null,null,null,null,null,null,null,null,"","",null,null,null,null,null,null,null,{"$f":"IFERROR(VLOOKUP('4.Substance-in-Product'!AH50,DSL!B:H,5,FALSE),\"-\")","v":"-"}]
[null,null,null,null,null,null,null,null,null,null,null,null,null,null,null,null,null,null,null,null,null,null,null,null,null,null,null,null,null,null,null,null,null,null,null,null,null,"","",null,null,null,null,null,null,null,{"$f":"IFERROR(VLOOKUP('4.Substance-in-Product'!AH51,DSL!B:H,5,FALSE),\"-\")","v":"-"}]
[null,null,null,null,null,null,null,null,null,null,null,null,null,null,null,null,null,null,null,null,null,null,null,null,null,null,null,null,null,null,null,null,null,null,null,null,null,"","",null,null,null,null,null,null,null,{"$f":"IFERROR(VLOOKUP('4.Substance-in-Product'!AH52,DSL!B:H,5,FALSE),\"-\")","v":"-"}]
[null,null,null,null,null,null,null,null,null,null,null,null,null,null,null,null,null,null,null,null,null,null,null,null,null,null,null,null,null,null,null,null,null,null,null,null,null,"","",null,null,null,null,null,null,null,{"$f":"IFERROR(VLOOKUP('4.Substance-in-Product'!AH53,DSL!B:H,5,FALSE),\"-\")","v":"-"}]
[null,null,null,null,null,null,null,null,null,null,null,null,null,null,null,null,null,null,null,null,null,null,null,null,null,null,null,null,null,null,null,null,null,null,null,null,null,"","",null,null,null,null,null,null,null,{"$f":"IFERROR(VLOOKUP('4.Substance-in-Product'!AH54,DSL!B:H,5,FALSE),\"-\")","v":"-"}]
[null,null,null,null,null,null,null,null,null,null,null,null,null,null,null,null,null,null,null,null,null,null,null,null,null,null,null,null,null,null,null,null,null,null,null,null,null,"","",null,null,null,null,null,null,null,{"$f":"IFERROR(VLOOKUP('4.Substance-in-Product'!AH55,DSL!B:H,5,FALSE),\"-\")","v":"-"}]
[null,null,null,null,null,null,null,null,null,null,null,null,null,null,null,null,null,null,null,null,null,null,null,null,null,null,null,null,null,null,null,null,null,null,null,null,null,"","",null,null,null,null,null,null,null,{"$f":"IFERROR(VLOOKUP('4.Substance-in-Product'!AH56,DSL!B:H,5,FALSE),\"-\")","v":"-"}]
[null,null,null,null,null,null,null,null,null,null,null,null,null,null,null,null,null,null,null,null,null,null,null,null,null,null,null,null,null,null,null,null,null,null,null,null,null,"","",null,null,null,null,null,null,null,{"$f":"IFERROR(VLOOKUP('4.Substance-in-Product'!AH57,DSL!B:H,5,FALSE),\"-\")","v":"-"}]
[null,null,null,null,null,null,null,null,null,null,null,null,null,null,null,null,null,null,null,null,null,null,null,null,null,null,null,null,null,null,null,null,null,null,null,null,null,"","",null,null,null,null,null,null,null,{"$f":"IFERROR(VLOOKUP('4.Substance-in-Product'!AH58,DSL!B:H,5,FALSE),\"-\")","v":"-"}]
[null,null,null,null,null,null,null,null,null,null,null,null,null,null,null,null,null,null,null,null,null,null,null,null,null,null,null,null,null,null,null,null,null,null,null,null,null,"","",null,null,null,null,null,null,null,{"$f":"IFERROR(VLOOKUP('4.Substance-in-Product'!AH59,DSL!B:H,5,FALSE),\"-\")","v":"-"}]
[null,null,null,null,null,null,null,null,null,null,null,null,null,null,null,null,null,null,null,null,null,null,null,null,null,null,null,null,null,null,null,null,null,null,null,null,null,"","",null,null,null,null,null,null,null,{"$f":"IFERROR(VLOOKUP('4.Substance-in-Product'!AH60,DSL!B:H,5,FALSE),\"-\")","v":"-"}]
[null,null,null,null,null,null,null,null,null,null,null,null,null,null,null,null,null,null,null,null,null,null,null,null,null,null,null,null,null,null,null,null,null,null,null,null,null,"","",null,null,null,null,null,null,null,{"$f":"IFERROR(VLOOKUP('4.Substance-in-Product'!AH61,DSL!B:H,5,FALSE),\"-\")","v":"-"}]
[null,null,null,null,null,null,null,null,null,null,null,null,null,null,null,null,null,null,null,null,null,null,null,null,null,null,null,null,null,null,null,null,null,null,null,null,null,"","",null,null,null,null,null,null,null,{"$f":"IFERROR(VLOOKUP('4.Substance-in-Product'!AH62,DSL!B:H,5,FALSE),\"-\")","v":"-"}]
[null,null,null,null,null,null,null,null,null,null,null,null,null,null,null,null,null,null,null,null,null,null,null,null,null,null,null,null,null,null,null,null,null,null,null,null,null,"","",null,null,null,null,null,null,null,{"$f":"IFERROR(VLOOKUP('4.Substance-in-Product'!AH63,DSL!B:H,5,FALSE),\"-\")","v":"-"}]
[null,null,null,null,null,null,null,null,null,null,null,null,null,null,null,null,null,null,null,null,null,null,null,null,null,null,null,null,null,null,null,null,null,null,null,null,null,"","",null,null,null,null,null,null,null,{"$f":"IFERROR(VLOOKUP('4.Substance-in-Product'!AH64,DSL!B:H,5,FALSE),\"-\")","v":"-"}]
[null,null,null,null,null,null,null,null,null,null,null,null,null,null,null,null,null,null,null,null,null,null,null,null,null,null,null,null,null,null,null,null,null,null,null,null,null,"","",null,null,null,null,null,null,null,{"$f":"IFERROR(VLOOKUP('4.Substance-in-Product'!AH65,DSL!B:H,5,FALSE),\"-\")","v":"-"}]
[null,null,null,null,null,null,null,null,null,null,null,null,null,null,null,null,null,null,null,null,null,null,null,null,null,null,null,null,null,null,null,null,null,null,null,null,null,"","",null,null,null,null,null,null,null,{"$f":"IFERROR(VLOOKUP('4.Substance-in-Product'!AH66,DSL!B:H,5,FALSE),\"-\")","v":"-"}]
[null,null,null,null,null,null,null,null,null,null,null,null,null,null,null,null,null,null,null,null,null,null,null,null,null,null,null,null,null,null,null,null,null,null,null,null,null,"","",null,null,null,null,null,null,null,{"$f":"IFERROR(VLOOKUP('4.Substance-in-Product'!AH67,DSL!B:H,5,FALSE),\"-\")","v":"-"}]
[null,null,null,null,null,null,null,null,null,null,null,null,null,null,null,null,null,null,null,null,null,null,null,null,null,null,null,null,null,null,null,null,null,null,null,null,null,"","",null,null,null,null,null,null,null,{"$f":"IFERROR(VLOOKUP('4.Substance-in-Product'!AH68,DSL!B:H,5,FALSE),\"-\")","v":"-"}]
[null,null,null,null,null,null,null,null,null,null,null,null,null,null,null,null,null,null,null,null,null,null,null,null,null,null,null,null,null,null,null,null,null,null,null,null,null,"","",null,null,null,null,null,null,null,{"$f":"IFERROR(VLOOKUP('4.Substance-in-Product'!AH69,DSL!B:H,5,FALSE),\"-\")","v":"-"}]
[null,null,null,null,null,null,null,null,null,null,null,null,null,null,null,null,null,null,null,null,null,null,null,null,null,null,null,null,null,null,null,null,null,null,null,null,null,"","",null,null,null,null,null,null,null,{"$f":"IFERROR(VLOOKUP('4.Substance-in-Product'!AH70,DSL!B:H,5,FALSE),\"-\")","v":"-"}]
[null,null,null,null,null,null,null,null,null,null,null,null,null,null,null,null,null,null,null,null,null,null,null,null,null,null,null,null,null,null,null,null,null,null,null,null,null,"","",null,null,null,null,null,null,null,{"$f":"IFERROR(VLOOKUP('4.Substance-in-Product'!AH71,DSL!B:H,5,FALSE),\"-\")","v":"-"}]
[null,null,null,null,null,null,null,null,null,null,null,null,null,null,null,null,null,null,null,null,null,null,null,null,null,null,null,null,null,null,null,null,null,null,null,null,null,"","",null,null,null,null,null,null,null,{"$f":"IFERROR(VLOOKUP('4.Substance-in-Product'!AH72,DSL!B:H,5,FALSE),\"-\")","v":"-"}]
[null,null,null,null,null,null,null,null,null,null,null,null,null,null,null,null,null,null,null,null,null,null,null,null,null,null,null,null,null,null,null,null,null,null,null,null,null,"","",null,null,null,null,null,null,null,{"$f":"IFERROR(VLOOKUP('4.Substance-in-Product'!AH73,DSL!B:H,5,FALSE),\"-\")","v":"-"}]
[null,null,null,null,null,null,null,null,null,null,null,null,null,null,null,null,null,null,null,null,null,null,null,null,null,null,null,null,null,null,null,null,null,null,null,null,null,"","",null,null,null,null,null,null,null,{"$f":"IFERROR(VLOOKUP('4.Substance-in-Product'!AH74,DSL!B:H,5,FALSE),\"-\")","v":"-"}]
[null,null,null,null,null,null,null,null,null,null,null,null,null,null,null,null,null,null,null,null,null,null,null,null,null,null,null,null,null,null,null,null,null,null,null,null,null,"","",null,null,null,null,null,null,null,{"$f":"IFERROR(VLOOKUP('4.Substance-in-Product'!AH75,DSL!B:H,5,FALSE),\"-\")","v":"-"}]
[null,null,null,null,null,null,null,null,null,null,null,null,null,null,null,null,null,null,null,null,null,null,null,null,null,null,null,null,null,null,null,null,null,null,null,null,null,"","",null,null,null,null,null,null,null,{"$f":"IFERROR(VLOOKUP('4.Substance-in-Product'!AH76,DSL!B:H,5,FALSE),\"-\")","v":"-"}]
[null,null,null,null,null,null,null,null,null,null,null,null,null,null,null,null,null,null,null,null,null,null,null,null,null,null,null,null,null,null,null,null,null,null,null,null,null,"","",null,null,null,null,null,null,null,{"$f":"IFERROR(VLOOKUP('4.Substance-in-Product'!AH77,DSL!B:H,5,FALSE),\"-\")","v":"-"}]
[null,null,null,null,null,null,null,null,null,null,null,null,null,null,null,null,null,null,null,null,null,null,null,null,null,null,null,null,null,null,null,null,null,null,null,null,null,"","",null,null,null,null,null,null,null,{"$f":"IFERROR(VLOOKUP('4.Substance-in-Product'!AH78,DSL!B:H,5,FALSE),\"-\")","v":"-"}]
[null,null,null,null,null,null,null,null,null,null,null,null,null,null,null,null,null,null,null,null,null,null,null,null,null,null,null,null,null,null,null,null,null,null,null,null,null,"","",null,null,null,null,null,null,null,{"$f":"IFERROR(VLOOKUP('4.Substance-in-Product'!AH79,DSL!B:H,5,FALSE),\"-\")","v":"-"}]
[null,null,null,null,null,null,null,null,null,null,null,null,null,null,null,null,null,null,null,null,null,null,null,null,null,null,null,null,null,null,null,null,null,null,null,null,null,"","",null,null,null,null,null,null,null,{"$f":"IFERROR(VLOOKUP('4.Substance-in-Product'!AH80,DSL!B:H,5,FALSE),\"-\")","v":"-"}]
[null,null,null,null,null,null,null,null,null,null,null,null,null,null,null,null,null,null,null,null,null,null,null,null,null,null,null,null,null,null,null,null,null,null,null,null,null,"","",null,null,null,null,null,null,null,{"$f":"IFERROR(VLOOKUP('4.Substance-in-Product'!AH81,DSL!B:H,5,FALSE),\"-\")","v":"-"}]
[null,null,null,null,null,null,null,null,null,null,null,null,null,null,null,null,null,null,null,null,null,null,null,null,null,null,null,null,null,null,null,null,null,null,null,null,null,"","",null,null,null,null,null,null,null,{"$f":"IFERROR(VLOOKUP('4.Substance-in-Product'!AH82,DSL!B:H,5,FALSE),\"-\")","v":"-"}]
[null,null,null,null,null,null,null,null,null,null,null,null,null,null,null,null,null,null,null,null,null,null,null,null,null,null,null,null,null,null,null,null,null,null,null,null,null,"","",null,null,null,null,null,null,null,{"$f":"IFERROR(VLOOKUP('4.Substance-in-Product'!AH83,DSL!B:H,5,FALSE),\"-\")","v":"-"}]
[null,null,null,null,null,null,null,null,null,null,null,null,null,null,null,null,null,null,null,null,null,null,null,null,null,null,null,null,null,null,null,null,null,null,null,null,null,"","",null,null,null,null,null,null,null,{"$f":"IFERROR(VLOOKUP('4.Substance-in-Product'!AH84,DSL!B:H,5,FALSE),\"-\")","v":"-"}]
[null,null,null,null,null,null,null,null,null,null,null,null,null,null,null,null,null,null,null,null,null,null,null,null,null,null,null,null,null,null,null,null,null,null,null,null,null,"","",null,null,null,null,null,null,null,{"$f":"IFERROR(VLOOKUP('4.Substance-in-Product'!AH85,DSL!B:H,5,FALSE),\"-\")","v":"-"}]
[null,null,null,null,null,null,null,null,null,null,null,null,null,null,null,null,null,null,null,null,null,null,null,null,null,null,null,null,null,null,null,null,null,null,null,null,null,"","",null,null,null,null,null,null,null,{"$f":"IFERROR(VLOOKUP('4.Substance-in-Product'!AH86,DSL!B:H,5,FALSE),\"-\")","v":"-"}]
[null,null,null,null,null,null,null,null,null,null,null,null,null,null,null,null,null,null,null,null,null,null,null,null,null,null,null,null,null,null,null,null,null,null,null,null,null,"","",null,null,null,null,null,null,null,{"$f":"IFERROR(VLOOKUP('4.Substance-in-Product'!AH87,DSL!B:H,5,FALSE),\"-\")","v":"-"}]
[null,null,null,null,null,null,null,null,null,null,null,null,null,null,null,null,null,null,null,null,null,null,null,null,null,null,null,null,null,null,null,null,null,null,null,null,null,"","",null,null,null,null,null,null,null,{"$f":"IFERROR(VLOOKUP('4.Substance-in-Product'!AH88,DSL!B:H,5,FALSE),\"-\")","v":"-"}]
[null,null,null,null,null,null,null,null,null,null,null,null,null,null,null,null,null,null,null,null,null,null,null,null,null,null,null,null,null,null,null,null,null,null,null,null,null,"","",null,null,null,null,null,null,null,{"$f":"IFERROR(VLOOKUP('4.Substance-in-Product'!AH89,DSL!B:H,5,FALSE),\"-\")","v":"-"}]
[null,null,null,null,null,null,null,null,null,null,null,null,null,null,null,null,null,null,null,null,null,null,null,null,null,null,null,null,null,null,null,null,null,null,null,null,null,"","",null,null,null,null,null,null,null,{"$f":"IFERROR(VLOOKUP('4.Substance-in-Product'!AH90,DSL!B:H,5,FALSE),\"-\")","v":"-"}]
[null,null,null,null,null,null,null,null,null,null,null,null,null,null,null,null,null,null,null,null,null,null,null,null,null,null,null,null,null,null,null,null,null,null,null,null,null,"","",null,null,null,null,null,null,null,{"$f":"IFERROR(VLOOKUP('4.Substance-in-Product'!AH91,DSL!B:H,5,FALSE),\"-\")","v":"-"}]
[null,null,null,null,null,null,null,null,null,null,null,null,null,null,null,null,null,null,null,null,null,null,null,null,null,null,null,null,null,null,null,null,null,null,null,null,null,"","",null,null,null,null,null,null,null,{"$f":"IFERROR(VLOOKUP('4.Substance-in-Product'!AH92,DSL!B:H,5,FALSE),\"-\")","v":"-"}]
[null,null,null,null,null,null,null,null,null,null,null,null,null,null,null,null,null,null,null,null,null,null,null,null,null,null,null,null,null,null,null,null,null,null,null,null,null,"","",null,null,null,null,null,null,null,{"$f":"IFERROR(VLOOKUP('4.Substance-in-Product'!AH93,DSL!B:H,5,FALSE),\"-\")","v":"-"}]
[null,null,null,null,null,null,null,null,null,null,null,null,null,null,null,null,null,null,null,null,null,null,null,null,null,null,null,null,null,null,null,null,null,null,null,null,null,"","",null,null,null,null,null,null,null,{"$f":"IFERROR(VLOOKUP('4.Substance-in-Product'!AH94,DSL!B:H,5,FALSE),\"-\")","v":"-"}]
[null,null,null,null,null,null,null,null,null,null,null,null,null,null,null,null,null,null,null,null,null,null,null,null,null,null,null,null,null,null,null,null,null,null,null,null,null,"","",null,null,null,null,null,null,null,{"$f":"IFERROR(VLOOKUP('4.Substance-in-Product'!AH95,DSL!B:H,5,FALSE),\"-\")","v":"-"}]
[null,null,null,null,null,null,null,null,null,null,null,null,null,null,null,null,null,null,null,null,null,null,null,null,null,null,null,null,null,null,null,null,null,null,null,null,null,"","",null,null,null,null,null,null,null,{"$f":"IFERROR(VLOOKUP('4.Substance-in-Product'!AH96,DSL!B:H,5,FALSE),\"-\")","v":"-"}]
[null,null,null,null,null,null,null,null,null,null,null,null,null,null,null,null,null,null,null,null,null,null,null,null,null,null,null,null,null,null,null,null,null,null,null,null,null,"","",null,null,null,null,null,null,null,{"$f":"IFERROR(VLOOKUP('4.Substance-in-Product'!AH97,DSL!B:H,5,FALSE),\"-\")","v":"-"}]
[null,null,null,null,null,null,null,null,null,null,null,null,null,null,null,null,null,null,null,null,null,null,null,null,null,null,null,null,null,null,null,null,null,null,null,null,null,"","",null,null,null,null,null,null,null,{"$f":"IFERROR(VLOOKUP('4.Substance-in-Product'!AH98,DSL!B:H,5,FALSE),\"-\")","v":"-"}]
[null,null,null,null,null,null,null,null,null,null,null,null,null,null,null,null,null,null,null,null,null,null,null,null,null,null,null,null,null,null,null,null,null,null,null,null,null,"","",null,null,null,null,null,null,null,{"$f":"IFERROR(VLOOKUP('4.Substance-in-Product'!AH99,DSL!B:H,5,FALSE),\"-\")","v":"-"}]
[null,null,null,null,null,null,null,null,null,null,null,null,null,null,null,null,null,null,null,null,null,null,null,null,null,null,null,null,null,null,null,null,null,null,null,null,null,"","",null,null,null,null,null,null,null,{"$f":"IFERROR(VLOOKUP('4.Substance-in-Product'!AH100,DSL!B:H,5,FALSE),\"-\")","v":"-"}]
[null,null,null,null,null,null,null,null,null,null,null,null,null,null,null,null,null,null,null,null,null,null,null,null,null,null,null,null,null,null,null,null,null,null,null,null,null,"","",null,null,null,null,null,null,null,{"$f":"IFERROR(VLOOKUP('4.Substance-in-Product'!AH101,DSL!B:H,5,FALSE),\"-\")","v":"-"}]
[null,null,null,null,null,null,null,null,null,null,null,null,null,null,null,null,null,null,null,null,null,null,null,null,null,null,null,null,null,null,null,null,null,null,null,null,null,"","",null,null,null,null,null,null,null,{"$f":"IFERROR(VLOOKUP('4.Substance-in-Product'!AH102,DSL!B:H,5,FALSE),\"-\")","v":"-"}]
[null,null,null,null,null,null,null,null,null,null,null,null,null,null,null,null,null,null,null,null,null,null,null,null,null,null,null,null,null,null,null,null,null,null,null,null,null,"","",null,null,null,null,null,null,null,{"$f":"IFERROR(VLOOKUP('4.Substance-in-Product'!AH103,DSL!B:H,5,FALSE),\"-\")","v":"-"}]
[null,null,null,null,null,null,null,null,null,null,null,null,null,null,null,null,null,null,null,null,null,null,null,null,null,null,null,null,null,null,null,null,null,null,null,null,null,"","",null,null,null,null,null,null,null,{"$f":"IFERROR(VLOOKUP('4.Substance-in-Product'!AH104,DSL!B:H,5,FALSE),\"-\")","v":"-"}]
[null,null,null,null,null,null,null,null,null,null,null,null,null,null,null,null,null,null,null,null,null,null,null,null,null,null,null,null,null,null,null,null,null,null,null,null,null,"","",null,null,null,null,null,null,null,{"$f":"IFERROR(VLOOKUP('4.Substance-in-Product'!AH105,DSL!B:H,5,FALSE),\"-\")","v":"-"}]
[null,null,null,null,null,null,null,null,null,null,null,null,null,null,null,null,null,null,null,null,null,null,null,null,null,null,null,null,null,null,null,null,null,null,null,null,null,"","",null,null,null,null,null,null,null,{"$f":"IFERROR(VLOOKUP('4.Substance-in-Product'!AH106,DSL!B:H,5,FALSE),\"-\")","v":"-"}]
[null,null,null,null,null,null,null,null,null,null,null,null,null,null,null,null,null,null,null,null,null,null,null,null,null,null,null,null,null,null,null,null,null,null,null,null,null,"","",null,null,null,null,null,null,null,{"$f":"IFERROR(VLOOKUP('4.Substance-in-Product'!AH107,DSL!B:H,5,FALSE),\"-\")","v":"-"}]
[null,null,null,null,null,null,null,null,null,null,null,null,null,null,null,null,null,null,null,null,null,null,null,null,null,null,null,null,null,null,null,null,null,null,null,null,null,"","",null,null,null,null,null,null,null,{"$f":"IFERROR(VLOOKUP('4.Substance-in-Product'!AH108,DSL!B:H,5,FALSE),\"-\")","v":"-"}]
[null,null,null,null,null,null,null,null,null,null,null,null,null,null,null,null,null,null,null,null,null,null,null,null,null,null,null,null,null,null,null,null,null,null,null,null,null,"","",null,null,null,null,null,null,null,{"$f":"IFERROR(VLOOKUP('4.Substance-in-Product'!AH109,DSL!B:H,5,FALSE),\"-\")","v":"-"}]
[null,null,null,null,null,null,null,null,null,null,null,null,null,null,null,null,null,null,null,null,null,null,null,null,null,null,null,null,null,null,null,null,null,null,null,null,null,"","",null,null,null,null,null,null,null,{"$f":"IFERROR(VLOOKUP('4.Substance-in-Product'!AH110,DSL!B:H,5,FALSE),\"-\")","v":"-"}]
[null,null,null,null,null,null,null,null,null,null,null,null,null,null,null,null,null,null,null,null,null,null,null,null,null,null,null,null,null,null,null,null,null,null,null,null,null,"","",null,null,null,null,null,null,null,{"$f":"IFERROR(VLOOKUP('4.Substance-in-Product'!AH111,DSL!B:H,5,FALSE),\"-\")","v":"-"}]
[null,null,null,null,null,null,null,null,null,null,null,null,null,null,null,null,null,null,null,null,null,null,null,null,null,null,null,null,null,null,null,null,null,null,null,null,null,"","",null,null,null,null,null,null,null,{"$f":"IFERROR(VLOOKUP('4.Substance-in-Product'!AH112,DSL!B:H,5,FALSE),\"-\")","v":"-"}]
[null,null,null,null,null,null,null,null,null,null,null,null,null,null,null,null,null,null,null,null,null,null,null,null,null,null,null,null,null,null,null,null,null,null,null,null,null,"","",null,null,null,null,null,null,null,{"$f":"IFERROR(VLOOKUP('4.Substance-in-Product'!AH113,DSL!B:H,5,FALSE),\"-\")","v":"-"}]
[null,null,null,null,null,null,null,null,null,null,null,null,null,null,null,null,null,null,null,null,null,null,null,null,null,null,null,null,null,null,null,null,null,null,null,null,null,"","",null,null,null,null,null,null,null,{"$f":"IFERROR(VLOOKUP('4.Substance-in-Product'!AH114,DSL!B:H,5,FALSE),\"-\")","v":"-"}]
[null,null,null,null,null,null,null,null,null,null,null,null,null,null,null,null,null,null,null,null,null,null,null,null,null,null,null,null,null,null,null,null,null,null,null,null,null,"","",null,null,null,null,null,null,null,{"$f":"IFERROR(VLOOKUP('4.Substance-in-Product'!AH115,DSL!B:H,5,FALSE),\"-\")","v":"-"}]
[null,null,null,null,null,null,null,null,null,null,null,null,null,null,null,null,null,null,null,null,null,null,null,null,null,null,null,null,null,null,null,null,null,null,null,null,null,"","",null,null,null,null,null,null,null,{"$f":"IFERROR(VLOOKUP('4.Substance-in-Product'!AH116,DSL!B:H,5,FALSE),\"-\")","v":"-"}]
[null,null,null,null,null,null,null,null,null,null,null,null,null,null,null,null,null,null,null,null,null,null,null,null,null,null,null,null,null,null,null,null,null,null,null,null,null,"","",null,null,null,null,null,null,null,{"$f":"IFERROR(VLOOKUP('4.Substance-in-Product'!AH117,DSL!B:H,5,FALSE),\"-\")","v":"-"}]
[null,null,null,null,null,null,null,null,null,null,null,null,null,null,null,null,null,null,null,null,null,null,null,null,null,null,null,null,null,null,null,null,null,null,null,null,null,"","",null,null,null,null,null,null,null,{"$f":"IFERROR(VLOOKUP('4.Substance-in-Product'!AH118,DSL!B:H,5,FALSE),\"-\")","v":"-"}]
[null,null,null,null,null,null,null,null,null,null,null,null,null,null,null,null,null,null,null,null,null,null,null,null,null,null,null,null,null,null,null,null,null,null,null,null,null,"","",null,null,null,null,null,null,null,{"$f":"IFERROR(VLOOKUP('4.Substance-in-Product'!AH119,DSL!B:H,5,FALSE),\"-\")","v":"-"}]
[null,null,null,null,null,null,null,null,null,null,null,null,null,null,null,null,null,null,null,null,null,null,null,null,null,null,null,null,null,null,null,null,null,null,null,null,null,"","",null,null,null,null,null,null,null,{"$f":"IFERROR(VLOOKUP('4.Substance-in-Product'!AH120,DSL!B:H,5,FALSE),\"-\")","v":"-"}]
[null,null,null,null,null,null,null,null,null,null,null,null,null,null,null,null,null,null,null,null,null,null,null,null,null,null,null,null,null,null,null,null,null,null,null,null,null,"","",null,null,null,null,null,null,null,{"$f":"IFERROR(VLOOKUP('4.Substance-in-Product'!AH121,DSL!B:H,5,FALSE),\"-\")","v":"-"}]
[null,null,null,null,null,null,null,null,null,null,null,null,null,null,null,null,null,null,null,null,null,null,null,null,null,null,null,null,null,null,null,null,null,null,null,null,null,"","",null,null,null,null,null,null,null,{"$f":"IFERROR(VLOOKUP('4.Substance-in-Product'!AH122,DSL!B:H,5,FALSE),\"-\")","v":"-"}]
[null,null,null,null,null,null,null,null,null,null,null,null,null,null,null,null,null,null,null,null,null,null,null,null,null,null,null,null,null,null,null,null,null,null,null,null,null,"","",null,null,null,null,null,null,null,{"$f":"IFERROR(VLOOKUP('4.Substance-in-Product'!AH123,DSL!B:H,5,FALSE),\"-\")","v":"-"}]
[null,null,null,null,null,null,null,null,null,null,null,null,null,null,null,null,null,null,null,null,null,null,null,null,null,null,null,null,null,null,null,null,null,null,null,null,null,"","",null,null,null,null,null,null,null,{"$f":"IFERROR(VLOOKUP('4.Substance-in-Product'!AH124,DSL!B:H,5,FALSE),\"-\")","v":"-"}]
[null,null,null,null,null,null,null,null,null,null,null,null,null,null,null,null,null,null,null,null,null,null,null,null,null,null,null,null,null,null,null,null,null,null,null,null,null,"","",null,null,null,null,null,null,null,{"$f":"IFERROR(VLOOKUP('4.Substance-in-Product'!AH125,DSL!B:H,5,FALSE),\"-\")","v":"-"}]
[null,null,null,null,null,null,null,null,null,null,null,null,null,null,null,null,null,null,null,null,null,null,null,null,null,null,null,null,null,null,null,null,null,null,null,null,null,"","",null,null,null,null,null,null,null,{"$f":"IFERROR(VLOOKUP('4.Substance-in-Product'!AH126,DSL!B:H,5,FALSE),\"-\")","v":"-"}]
[null,null,null,null,null,null,null,null,null,null,null,null,null,null,null,null,null,null,null,null,null,null,null,null,null,null,null,null,null,null,null,null,null,null,null,null,null,"","",null,null,null,null,null,null,null,{"$f":"IFERROR(VLOOKUP('4.Substance-in-Product'!AH127,DSL!B:H,5,FALSE),\"-\")","v":"-"}]
[null,null,null,null,null,null,null,null,null,null,null,null,null,null,null,null,null,null,null,null,null,null,null,null,null,null,null,null,null,null,null,null,null,null,null,null,null,"","",null,null,null,null,null,null,null,{"$f":"IFERROR(VLOOKUP('4.Substance-in-Product'!AH128,DSL!B:H,5,FALSE),\"-\")","v":"-"}]
[null,null,null,null,null,null,null,null,null,null,null,null,null,null,null,null,null,null,null,null,null,null,null,null,null,null,null,null,null,null,null,null,null,null,null,null,null,"","",null,null,null,null,null,null,null,{"$f":"IFERROR(VLOOKUP('4.Substance-in-Product'!AH129,DSL!B:H,5,FALSE),\"-\")","v":"-"}]
[null,null,null,null,null,null,null,null,null,null,null,null,null,null,null,null,null,null,null,null,null,null,null,null,null,null,null,null,null,null,null,null,null,null,null,null,null,"","",null,null,null,null,null,null,null,{"$f":"IFERROR(VLOOKUP('4.Substance-in-Product'!AH130,DSL!B:H,5,FALSE),\"-\")","v":"-"}]
[null,null,null,null,null,null,null,null,null,null,null,null,null,null,null,null,null,null,null,null,null,null,null,null,null,null,null,null,null,null,null,null,null,null,null,null,null,"","",null,null,null,null,null,null,null,{"$f":"IFERROR(VLOOKUP('4.Substance-in-Product'!AH131,DSL!B:H,5,FALSE),\"-\")","v":"-"}]
[null,null,null,null,null,null,null,null,null,null,null,null,null,null,null,null,null,null,null,null,null,null,null,null,null,null,null,null,null,null,null,null,null,null,null,null,null,"","",null,null,null,null,null,null,null,{"$f":"IFERROR(VLOOKUP('4.Substance-in-Product'!AH132,DSL!B:H,5,FALSE),\"-\")","v":"-"}]
[null,null,null,null,null,null,null,null,null,null,null,null,null,null,null,null,null,null,null,null,null,null,null,null,null,null,null,null,null,null,null,null,null,null,null,null,null,"","",null,null,null,null,null,null,null,{"$f":"IFERROR(VLOOKUP('4.Substance-in-Product'!AH133,DSL!B:H,5,FALSE),\"-\")","v":"-"}]
[null,null,null,null,null,null,null,null,null,null,null,null,null,null,null,null,null,null,null,null,null,null,null,null,null,null,null,null,null,null,null,null,null,null,null,null,null,"","",null,null,null,null,null,null,null,{"$f":"IFERROR(VLOOKUP('4.Substance-in-Product'!AH134,DSL!B:H,5,FALSE),\"-\")","v":"-"}]
[null,null,null,null,null,null,null,null,null,null,null,null,null,null,null,null,null,null,null,null,null,null,null,null,null,null,null,null,null,null,null,null,null,null,null,null,null,"","",null,null,null,null,null,null,null,{"$f":"IFERROR(VLOOKUP('4.Substance-in-Product'!AH135,DSL!B:H,5,FALSE),\"-\")","v":"-"}]
[null,null,null,null,null,null,null,null,null,null,null,null,null,null,null,null,null,null,null,null,null,null,null,null,null,null,null,null,null,null,null,null,null,null,null,null,null,"","",null,null,null,null,null,null,null,{"$f":"IFERROR(VLOOKUP('4.Substance-in-Product'!AH136,DSL!B:H,5,FALSE),\"-\")","v":"-"}]
[null,null,null,null,null,null,null,null,null,null,null,null,null,null,null,null,null,null,null,null,null,null,null,null,null,null,null,null,null,null,null,null,null,null,null,null,null,"","",null,null,null,null,null,null,null,{"$f":"IFERROR(VLOOKUP('4.Substance-in-Product'!AH137,DSL!B:H,5,FALSE),\"-\")","v":"-"}]
[null,null,null,null,null,null,null,null,null,null,null,null,null,null,null,null,null,null,null,null,null,null,null,null,null,null,null,null,null,null,null,null,null,null,null,null,null,"","",null,null,null,null,null,null,null,{"$f":"IFERROR(VLOOKUP('4.Substance-in-Product'!AH138,DSL!B:H,5,FALSE),\"-\")","v":"-"}]
[null,null,null,null,null,null,null,null,null,null,null,null,null,null,null,null,null,null,null,null,null,null,null,null,null,null,null,null,null,null,null,null,null,null,null,null,null,"","",null,null,null,null,null,null,null,{"$f":"IFERROR(VLOOKUP('4.Substance-in-Product'!AH139,DSL!B:H,5,FALSE),\"-\")","v":"-"}]
[null,null,null,null,null,null,null,null,null,null,null,null,null,null,null,null,null,null,null,null,null,null,null,null,null,null,null,null,null,null,null,null,null,null,null,null,null,"","",null,null,null,null,null,null,null,{"$f":"IFERROR(VLOOKUP('4.Substance-in-Product'!AH140,DSL!B:H,5,FALSE),\"-\")","v":"-"}]
[null,null,null,null,null,null,null,null,null,null,null,null,null,null,null,null,null,null,null,null,null,null,null,null,null,null,null,null,null,null,null,null,null,null,null,null,null,"","",null,null,null,null,null,null,null,{"$f":"IFERROR(VLOOKUP('4.Substance-in-Product'!AH141,DSL!B:H,5,FALSE),\"-\")","v":"-"}]
[null,null,null,null,null,null,null,null,null,null,null,null,null,null,null,null,null,null,null,null,null,null,null,null,null,null,null,null,null,null,null,null,null,null,null,null,null,"","",null,null,null,null,null,null,null,{"$f":"IFERROR(VLOOKUP('4.Substance-in-Product'!AH142,DSL!B:H,5,FALSE),\"-\")","v":"-"}]
[null,null,null,null,null,null,null,null,null,null,null,null,null,null,null,null,null,null,null,null,null,null,null,null,null,null,null,null,null,null,null,null,null,null,null,null,null,"","",null,null,null,null,null,null,null,{"$f":"IFERROR(VLOOKUP('4.Substance-in-Product'!AH143,DSL!B:H,5,FALSE),\"-\")","v":"-"}]
[null,null,null,null,null,null,null,null,null,null,null,null,null,null,null,null,null,null,null,null,null,null,null,null,null,null,null,null,null,null,null,null,null,null,null,null,null,"","",null,null,null,null,null,null,null,{"$f":"IFERROR(VLOOKUP('4.Substance-in-Product'!AH144,DSL!B:H,5,FALSE),\"-\")","v":"-"}]
[null,null,null,null,null,null,null,null,null,null,null,null,null,null,null,null,null,null,null,null,null,null,null,null,null,null,null,null,null,null,null,null,null,null,null,null,null,"","",null,null,null,null,null,null,null,{"$f":"IFERROR(VLOOKUP('4.Substance-in-Product'!AH145,DSL!B:H,5,FALSE),\"-\")","v":"-"}]
[null,null,null,null,null,null,null,null,null,null,null,null,null,null,null,null,null,null,null,null,null,null,null,null,null,null,null,null,null,null,null,null,null,null,null,null,null,"","",null,null,null,null,null,null,null,{"$f":"IFERROR(VLOOKUP('4.Substance-in-Product'!AH146,DSL!B:H,5,FALSE),\"-\")","v":"-"}]
[null,null,null,null,null,null,null,null,null,null,null,null,null,null,null,null,null,null,null,null,null,null,null,null,null,null,null,null,null,null,null,null,null,null,null,null,null,"","",null,null,null,null,null,null,null,{"$f":"IFERROR(VLOOKUP('4.Substance-in-Product'!AH147,DSL!B:H,5,FALSE),\"-\")","v":"-"}]
[null,null,null,null,null,null,null,null,null,null,null,null,null,null,null,null,null,null,null,null,null,null,null,null,null,null,null,null,null,null,null,null,null,null,null,null,null,"","",null,null,null,null,null,null,null,{"$f":"IFERROR(VLOOKUP('4.Substance-in-Product'!AH148,DSL!B:H,5,FALSE),\"-\")","v":"-"}]
[null,null,null,null,null,null,null,null,null,null,null,null,null,null,null,null,null,null,null,null,null,null,null,null,null,null,null,null,null,null,null,null,null,null,null,null,null,"","",null,null,null,null,null,null,null,{"$f":"IFERROR(VLOOKUP('4.Substance-in-Product'!AH149,DSL!B:H,5,FALSE),\"-\")","v":"-"}]
[null,null,null,null,null,null,null,null,null,null,null,null,null,null,null,null,null,null,null,null,null,null,null,null,null,null,null,null,null,null,null,null,null,null,null,null,null,"","",null,null,null,null,null,null,null,{"$f":"IFERROR(VLOOKUP('4.Substance-in-Product'!AH150,DSL!B:H,5,FALSE),\"-\")","v":"-"}]
[null,null,null,null,null,null,null,null,null,null,null,null,null,null,null,null,null,null,null,null,null,null,null,null,null,null,null,null,null,null,null,null,null,null,null,null,null,"","",null,null,null,null,null,null,null,{"$f":"IFERROR(VLOOKUP('4.Substance-in-Product'!AH151,DSL!B:H,5,FALSE),\"-\")","v":"-"}]
[null,null,null,null,null,null,null,null,null,null,null,null,null,null,null,null,null,null,null,null,null,null,null,null,null,null,null,null,null,null,null,null,null,null,null,null,null,"","",null,null,null,null,null,null,null,{"$f":"IFERROR(VLOOKUP('4.Substance-in-Product'!AH152,DSL!B:H,5,FALSE),\"-\")","v":"-"}]
[null,null,null,null,null,null,null,null,null,null,null,null,null,null,null,null,null,null,null,null,null,null,null,null,null,null,null,null,null,null,null,null,null,null,null,null,null,"","",null,null,null,null,null,null,null,{"$f":"IFERROR(VLOOKUP('4.Substance-in-Product'!AH153,DSL!B:H,5,FALSE),\"-\")","v":"-"}]
[null,null,null,null,null,null,null,null,null,null,null,null,null,null,null,null,null,null,null,null,null,null,null,null,null,null,null,null,null,null,null,null,null,null,null,null,null,"","",null,null,null,null,null,null,null,{"$f":"IFERROR(VLOOKUP('4.Substance-in-Product'!AH154,DSL!B:H,5,FALSE),\"-\")","v":"-"}]
[null,null,null,null,null,null,null,null,null,null,null,null,null,null,null,null,null,null,null,null,null,null,null,null,null,null,null,null,null,null,null,null,null,null,null,null,null,"","",null,null,null,null,null,null,null,{"$f":"IFERROR(VLOOKUP('4.Substance-in-Product'!AH155,DSL!B:H,5,FALSE),\"-\")","v":"-"}]
[null,null,null,null,null,null,null,null,null,null,null,null,null,null,null,null,null,null,null,null,null,null,null,null,null,null,null,null,null,null,null,null,null,null,null,null,null,"","",null,null,null,null,null,null,null,{"$f":"IFERROR(VLOOKUP('4.Substance-in-Product'!AH156,DSL!B:H,5,FALSE),\"-\")","v":"-"}]
[null,null,null,null,null,null,null,null,null,null,null,null,null,null,null,null,null,null,null,null,null,null,null,null,null,null,null,null,null,null,null,null,null,null,null,null,null,"","",null,null,null,null,null,null,null,{"$f":"IFERROR(VLOOKUP('4.Substance-in-Product'!AH157,DSL!B:H,5,FALSE),\"-\")","v":"-"}]
[null,null,null,null,null,null,null,null,null,null,null,null,null,null,null,null,null,null,null,null,null,null,null,null,null,null,null,null,null,null,null,null,null,null,null,null,null,"","",null,null,null,null,null,null,null,{"$f":"IFERROR(VLOOKUP('4.Substance-in-Product'!AH158,DSL!B:H,5,FALSE),\"-\")","v":"-"}]
[null,null,null,null,null,null,null,null,null,null,null,null,null,null,null,null,null,null,null,null,null,null,null,null,null,null,null,null,null,null,null,null,null,null,null,null,null,"","",null,null,null,null,null,null,null,{"$f":"IFERROR(VLOOKUP('4.Substance-in-Product'!AH159,DSL!B:H,5,FALSE),\"-\")","v":"-"}]
[null,null,null,null,null,null,null,null,null,null,null,null,null,null,null,null,null,null,null,null,null,null,null,null,null,null,null,null,null,null,null,null,null,null,null,null,null,"","",null,null,null,null,null,null,null,{"$f":"IFERROR(VLOOKUP('4.Substance-in-Product'!AH160,DSL!B:H,5,FALSE),\"-\")","v":"-"}]
[null,null,null,null,null,null,null,null,null,null,null,null,null,null,null,null,null,null,null,null,null,null,null,null,null,null,null,null,null,null,null,null,null,null,null,null,null,"","",null,null,null,null,null,null,null,{"$f":"IFERROR(VLOOKUP('4.Substance-in-Product'!AH161,DSL!B:H,5,FALSE),\"-\")","v":"-"}]
[null,null,null,null,null,null,null,null,null,null,null,null,null,null,null,null,null,null,null,null,null,null,null,null,null,null,null,null,null,null,null,null,null,null,null,null,null,"","",null,null,null,null,null,null,null,{"$f":"IFERROR(VLOOKUP('4.Substance-in-Product'!AH162,DSL!B:H,5,FALSE),\"-\")","v":"-"}]
[null,null,null,null,null,null,null,null,null,null,null,null,null,null,null,null,null,null,null,null,null,null,null,null,null,null,null,null,null,null,null,null,null,null,null,null,null,"","",null,null,null,null,null,null,null,{"$f":"IFERROR(VLOOKUP('4.Substance-in-Product'!AH163,DSL!B:H,5,FALSE),\"-\")","v":"-"}]
[null,null,null,null,null,null,null,null,null,null,null,null,null,null,null,null,null,null,null,null,null,null,null,null,null,null,null,null,null,null,null,null,null,null,null,null,null,"","",null,null,null,null,null,null,null,{"$f":"IFERROR(VLOOKUP('4.Substance-in-Product'!AH164,DSL!B:H,5,FALSE),\"-\")","v":"-"}]
[null,null,null,null,null,null,null,null,null,null,null,null,null,null,null,null,null,null,null,null,null,null,null,null,null,null,null,null,null,null,null,null,null,null,null,null,null,"","",null,null,null,null,null,null,null,{"$f":"IFERROR(VLOOKUP('4.Substance-in-Product'!AH165,DSL!B:H,5,FALSE),\"-\")","v":"-"}]
[null,null,null,null,null,null,null,null,null,null,null,null,null,null,null,null,null,null,null,null,null,null,null,null,null,null,null,null,null,null,null,null,null,null,null,null,null,"","",null,null,null,null,null,null,null,{"$f":"IFERROR(VLOOKUP('4.Substance-in-Product'!AH166,DSL!B:H,5,FALSE),\"-\")","v":"-"}]
[null,null,null,null,null,null,null,null,null,null,null,null,null,null,null,null,null,null,null,null,null,null,null,null,null,null,null,null,null,null,null,null,null,null,null,null,null,"","",null,null,null,null,null,null,null,{"$f":"IFERROR(VLOOKUP('4.Substance-in-Product'!AH167,DSL!B:H,5,FALSE),\"-\")","v":"-"}]
[null,null,null,null,null,null,null,null,null,null,null,null,null,null,null,null,null,null,null,null,null,null,null,null,null,null,null,null,null,null,null,null,null,null,null,null,null,"","",null,null,null,null,null,null,null,{"$f":"IFERROR(VLOOKUP('4.Substance-in-Product'!AH168,DSL!B:H,5,FALSE),\"-\")","v":"-"}]
[null,null,null,null,null,null,null,null,null,null,null,null,null,null,null,null,null,null,null,null,null,null,null,null,null,null,null,null,null,null,null,null,null,null,null,null,null,"","",null,null,null,null,null,null,null,{"$f":"IFERROR(VLOOKUP('4.Substance-in-Product'!AH169,DSL!B:H,5,FALSE),\"-\")","v":"-"}]
[null,null,null,null,null,null,null,null,null,null,null,null,null,null,null,null,null,null,null,null,null,null,null,null,null,null,null,null,null,null,null,null,null,null,null,null,null,"","",null,null,null,null,null,null,null,{"$f":"IFERROR(VLOOKUP('4.Substance-in-Product'!AH170,DSL!B:H,5,FALSE),\"-\")","v":"-"}]
[null,null,null,null,null,null,null,null,null,null,null,null,null,null,null,null,null,null,null,null,null,null,null,null,null,null,null,null,null,null,null,null,null,null,null,null,null,"","",null,null,null,null,null,null,null,{"$f":"IFERROR(VLOOKUP('4.Substance-in-Product'!AH171,DSL!B:H,5,FALSE),\"-\")","v":"-"}]
[null,null,null,null,null,null,null,null,null,null,null,null,null,null,null,null,null,null,null,null,null,null,null,null,null,null,null,null,null,null,null,null,null,null,null,null,null,"","",null,null,null,null,null,null,null,{"$f":"IFERROR(VLOOKUP('4.Substance-in-Product'!AH172,DSL!B:H,5,FALSE),\"-\")","v":"-"}]
[null,null,null,null,null,null,null,null,null,null,null,null,null,null,null,null,null,null,null,null,null,null,null,null,null,null,null,null,null,null,null,null,null,null,null,null,null,"","",null,null,null,null,null,null,null,{"$f":"IFERROR(VLOOKUP('4.Substance-in-Product'!AH173,DSL!B:H,5,FALSE),\"-\")","v":"-"}]
[null,null,null,null,null,null,null,null,null,null,null,null,null,null,null,null,null,null,null,null,null,null,null,null,null,null,null,null,null,null,null,null,null,null,null,null,null,"","",null,null,null,null,null,null,null,{"$f":"IFERROR(VLOOKUP('4.Substance-in-Product'!AH174,DSL!B:H,5,FALSE),\"-\")","v":"-"}]
[null,null,null,null,null,null,null,null,null,null,null,null,null,null,null,null,null,null,null,null,null,null,null,null,null,null,null,null,null,null,null,null,null,null,null,null,null,"","",null,null,null,null,null,null,null,{"$f":"IFERROR(VLOOKUP('4.Substance-in-Product'!AH175,DSL!B:H,5,FALSE),\"-\")","v":"-"}]
[null,null,null,null,null,null,null,null,null,null,null,null,null,null,null,null,null,null,null,null,null,null,null,null,null,null,null,null,null,null,null,null,null,null,null,null,null,"","",null,null,null,null,null,null,null,{"$f":"IFERROR(VLOOKUP('4.Substance-in-Product'!AH176,DSL!B:H,5,FALSE),\"-\")","v":"-"}]
[null,null,null,null,null,null,null,null,null,null,null,null,null,null,null,null,null,null,null,null,null,null,null,null,null,null,null,null,null,null,null,null,null,null,null,null,null,"","",null,null,null,null,null,null,null,{"$f":"IFERROR(VLOOKUP('4.Substance-in-Product'!AH177,DSL!B:H,5,FALSE),\"-\")","v":"-"}]
[null,null,null,null,null,null,null,null,null,null,null,null,null,null,null,null,null,null,null,null,null,null,null,null,null,null,null,null,null,null,null,null,null,null,null,null,null,"","",null,null,null,null,null,null,null,{"$f":"IFERROR(VLOOKUP('4.Substance-in-Product'!AH178,DSL!B:H,5,FALSE),\"-\")","v":"-"}]
[null,null,null,null,null,null,null,null,null,null,null,null,null,null,null,null,null,null,null,null,null,null,null,null,null,null,null,null,null,null,null,null,null,null,null,null,null,"","",null,null,null,null,null,null,null,{"$f":"IFERROR(VLOOKUP('4.Substance-in-Product'!AH179,DSL!B:H,5,FALSE),\"-\")","v":"-"}]
[null,null,null,null,null,null,null,null,null,null,null,null,null,null,null,null,null,null,null,null,null,null,null,null,null,null,null,null,null,null,null,null,null,null,null,null,null,"","",null,null,null,null,null,null,null,{"$f":"IFERROR(VLOOKUP('4.Substance-in-Product'!AH180,DSL!B:H,5,FALSE),\"-\")","v":"-"}]
[null,null,null,null,null,null,null,null,null,null,null,null,null,null,null,null,null,null,null,null,null,null,null,null,null,null,null,null,null,null,null,null,null,null,null,null,null,"","",null,null,null,null,null,null,null,{"$f":"IFERROR(VLOOKUP('4.Substance-in-Product'!AH181,DSL!B:H,5,FALSE),\"-\")","v":"-"}]
[null,null,null,null,null,null,null,null,null,null,null,null,null,null,null,null,null,null,null,null,null,null,null,null,null,null,null,null,null,null,null,null,null,null,null,null,null,"","",null,null,null,null,null,null,null,{"$f":"IFERROR(VLOOKUP('4.Substance-in-Product'!AH182,DSL!B:H,5,FALSE),\"-\")","v":"-"}]
[null,null,null,null,null,null,null,null,null,null,null,null,null,null,null,null,null,null,null,null,null,null,null,null,null,null,null,null,null,null,null,null,null,null,null,null,null,"","",null,null,null,null,null,null,null,{"$f":"IFERROR(VLOOKUP('4.Substance-in-Product'!AH183,DSL!B:H,5,FALSE),\"-\")","v":"-"}]
[null,null,null,null,null,null,null,null,null,null,null,null,null,null,null,null,null,null,null,null,null,null,null,null,null,null,null,null,null,null,null,null,null,null,null,null,null,"","",null,null,null,null,null,null,null,{"$f":"IFERROR(VLOOKUP('4.Substance-in-Product'!AH184,DSL!B:H,5,FALSE),\"-\")","v":"-"}]
[null,null,null,null,null,null,null,null,null,null,null,null,null,null,null,null,null,null,null,null,null,null,null,null,null,null,null,null,null,null,null,null,null,null,null,null,null,"","",null,null,null,null,null,null,null,{"$f":"IFERROR(VLOOKUP('4.Substance-in-Product'!AH185,DSL!B:H,5,FALSE),\"-\")","v":"-"}]
[null,null,null,null,null,null,null,null,null,null,null,null,null,null,null,null,null,null,null,null,null,null,null,null,null,null,null,null,null,null,null,null,null,null,null,null,null,"","",null,null,null,null,null,null,null,{"$f":"IFERROR(VLOOKUP('4.Substance-in-Product'!AH186,DSL!B:H,5,FALSE),\"-\")","v":"-"}]
[null,null,null,null,null,null,null,null,null,null,null,null,null,null,null,null,null,null,null,null,null,null,null,null,null,null,null,null,null,null,null,null,null,null,null,null,null,"","",null,null,null,null,null,null,null,{"$f":"IFERROR(VLOOKUP('4.Substance-in-Product'!AH187,DSL!B:H,5,FALSE),\"-\")","v":"-"}]
[null,null,null,null,null,null,null,null,null,null,null,null,null,null,null,null,null,null,null,null,null,null,null,null,null,null,null,null,null,null,null,null,null,null,null,null,null,"","",null,null,null,null,null,null,null,{"$f":"IFERROR(VLOOKUP('4.Substance-in-Product'!AH188,DSL!B:H,5,FALSE),\"-\")","v":"-"}]
[null,null,null,null,null,null,null,null,null,null,null,null,null,null,null,null,null,null,null,null,null,null,null,null,null,null,null,null,null,null,null,null,null,null,null,null,null,"","",null,null,null,null,null,null,null,{"$f":"IFERROR(VLOOKUP('4.Substance-in-Product'!AH189,DSL!B:H,5,FALSE),\"-\")","v":"-"}]
[null,null,null,null,null,null,null,null,null,null,null,null,null,null,null,null,null,null,null,null,null,null,null,null,null,null,null,null,null,null,null,null,null,null,null,null,null,"","",null,null,null,null,null,null,null,{"$f":"IFERROR(VLOOKUP('4.Substance-in-Product'!AH190,DSL!B:H,5,FALSE),\"-\")","v":"-"}]
[null,null,null,null,null,null,null,null,null,null,null,null,null,null,null,null,null,null,null,null,null,null,null,null,null,null,null,null,null,null,null,null,null,null,null,null,null,"","",null,null,null,null,null,null,null,{"$f":"IFERROR(VLOOKUP('4.Substance-in-Product'!AH191,DSL!B:H,5,FALSE),\"-\")","v":"-"}]
[null,null,null,null,null,null,null,null,null,null,null,null,null,null,null,null,null,null,null,null,null,null,null,null,null,null,null,null,null,null,null,null,null,null,null,null,null,"","",null,null,null,null,null,null,null,{"$f":"IFERROR(VLOOKUP('4.Substance-in-Product'!AH192,DSL!B:H,5,FALSE),\"-\")","v":"-"}]
[null,null,null,null,null,null,null,null,null,null,null,null,null,null,null,null,null,null,null,null,null,null,null,null,null,null,null,null,null,null,null,null,null,null,null,null,null,"","",null,null,null,null,null,null,null,{"$f":"IFERROR(VLOOKUP('4.Substance-in-Product'!AH193,DSL!B:H,5,FALSE),\"-\")","v":"-"}]
[null,null,null,null,null,null,null,null,null,null,null,null,null,null,null,null,null,null,null,null,null,null,null,null,null,null,null,null,null,null,null,null,null,null,null,null,null,"","",null,null,null,null,null,null,null,{"$f":"IFERROR(VLOOKUP('4.Substance-in-Product'!AH194,DSL!B:H,5,FALSE),\"-\")","v":"-"}]
[null,null,null,null,null,null,null,null,null,null,null,null,null,null,null,null,null,null,null,null,null,null,null,null,null,null,null,null,null,null,null,null,null,null,null,null,null,"","",null,null,null,null,null,null,null,{"$f":"IFERROR(VLOOKUP('4.Substance-in-Product'!AH195,DSL!B:H,5,FALSE),\"-\")","v":"-"}]
[null,null,null,null,null,null,null,null,null,null,null,null,null,null,null,null,null,null,null,null,null,null,null,null,null,null,null,null,null,null,null,null,null,null,null,null,null,"","",null,null,null,null,null,null,null,{"$f":"IFERROR(VLOOKUP('4.Substance-in-Product'!AH196,DSL!B:H,5,FALSE),\"-\")","v":"-"}]
[null,null,null,null,null,null,null,null,null,null,null,null,null,null,null,null,null,null,null,null,null,null,null,null,null,null,null,null,null,null,null,null,null,null,null,null,null,"","",null,null,null,null,null,null,null,{"$f":"IFERROR(VLOOKUP('4.Substance-in-Product'!AH197,DSL!B:H,5,FALSE),\"-\")","v":"-"}]
[null,null,null,null,null,null,null,null,null,null,null,null,null,null,null,null,null,null,null,null,null,null,null,null,null,null,null,null,null,null,null,null,null,null,null,null,null,"","",null,null,null,null,null,null,null,{"$f":"IFERROR(VLOOKUP('4.Substance-in-Product'!AH198,DSL!B:H,5,FALSE),\"-\")","v":"-"}]
[null,null,null,null,null,null,null,null,null,null,null,null,null,null,null,null,null,null,null,null,null,null,null,null,null,null,null,null,null,null,null,null,null,null,null,null,null,"","",null,null,null,null,null,null,null,{"$f":"IFERROR(VLOOKUP('4.Substance-in-Product'!AH199,DSL!B:H,5,FALSE),\"-\")","v":"-"}]
[null,null,null,null,null,null,null,null,null,null,null,null,null,null,null,null,null,null,null,null,null,null,null,null,null,null,null,null,null,null,null,null,null,null,null,null,null,"","",null,null,null,null,null,null,null,{"$f":"IFERROR(VLOOKUP('4.Substance-in-Product'!AH200,DSL!B:H,5,FALSE),\"-\")","v":"-"}]
[null,null,null,null,null,null,null,null,null,null,null,null,null,null,null,null,null,null,null,null,null,null,null,null,null,null,null,null,null,null,null,null,null,null,null,null,null,"","",null,null,null,null,null,null,null,{"$f":"IFERROR(VLOOKUP('4.Substance-in-Product'!AH201,DSL!B:H,5,FALSE),\"-\")","v":"-"}]
[null,null,null,null,null,null,null,null,null,null,null,null,null,null,null,null,null,null,null,null,null,null,null,null,null,null,null,null,null,null,null,null,null,null,null,null,null,"","",null,null,null,null,null,null,null,{"$f":"IFERROR(VLOOKUP('4.Substance-in-Product'!AH202,DSL!B:H,5,FALSE),\"-\")","v":"-"}]
[null,null,null,null,null,null,null,null,null,null,null,null,null,null,null,null,null,null,null,null,null,null,null,null,null,null,null,null,null,null,null,null,null,null,null,null,null,"","",null,null,null,null,null,null,null,{"$f":"IFERROR(VLOOKUP('4.Substance-in-Product'!AH203,DSL!B:H,5,FALSE),\"-\")","v":"-"}]
[null,null,null,null,null,null,null,null,null,null,null,null,null,null,null,null,null,null,null,null,null,null,null,null,null,null,null,null,null,null,null,null,null,null,null,null,null,"","",null,null,null,null,null,null,null,{"$f":"IFERROR(VLOOKUP('4.Substance-in-Product'!AH204,DSL!B:H,5,FALSE),\"-\")","v":"-"}]
[null,null,null,null,null,null,null,null,null,null,null,null,null,null,null,null,null,null,null,null,null,null,null,null,null,null,null,null,null,null,null,null,null,null,null,null,null,"","",null,null,null,null,null,null,null,{"$f":"IFERROR(VLOOKUP('4.Substance-in-Product'!AH205,DSL!B:H,5,FALSE),\"-\")","v":"-"}]
[null,null,null,null,null,null,null,null,null,null,null,null,null,null,null,null,null,null,null,null,null,null,null,null,null,null,null,null,null,null,null,null,null,null,null,null,null,"","",null,null,null,null,null,null,null,{"$f":"IFERROR(VLOOKUP('4.Substance-in-Product'!AH206,DSL!B:H,5,FALSE),\"-\")","v":"-"}]
[null,null,null,null,null,null,null,null,null,null,null,null,null,null,null,null,null,null,null,null,null,null,null,null,null,null,null,null,null,null,null,null,null,null,null,null,null,"","",null,null,null,null,null,null,null,{"$f":"IFERROR(VLOOKUP('4.Substance-in-Product'!AH207,DSL!B:H,5,FALSE),\"-\")","v":"-"}]
[null,null,null,null,null,null,null,null,null,null,null,null,null,null,null,null,null,null,null,null,null,null,null,null,null,null,null,null,null,null,null,null,null,null,null,null,null,"","",null,null,null,null,null,null,null,{"$f":"IFERROR(VLOOKUP('4.Substance-in-Product'!AH208,DSL!B:H,5,FALSE),\"-\")","v":"-"}]
[null,null,null,null,null,null,null,null,null,null,null,null,null,null,null,null,null,null,null,null,null,null,null,null,null,null,null,null,null,null,null,null,null,null,null,null,null,"","",null,null,null,null,null,null,null,{"$f":"IFERROR(VLOOKUP('4.Substance-in-Product'!AH209,DSL!B:H,5,FALSE),\"-\")","v":"-"}]
[null,null,null,null,null,null,null,null,null,null,null,null,null,null,null,null,null,null,null,null,null,null,null,null,null,null,null,null,null,null,null,null,null,null,null,null,null,"","",null,null,null,null,null,null,null,{"$f":"IFERROR(VLOOKUP('4.Substance-in-Product'!AH210,DSL!B:H,5,FALSE),\"-\")","v":"-"}]
[null,null,null,null,null,null,null,null,null,null,null,null,null,null,null,null,null,null,null,null,null,null,null,null,null,null,null,null,null,null,null,null,null,null,null,null,null,"","",null,null,null,null,null,null,null,{"$f":"IFERROR(VLOOKUP('4.Substance-in-Product'!AH211,DSL!B:H,5,FALSE),\"-\")","v":"-"}]
[null,null,null,null,null,null,null,null,null,null,null,null,null,null,null,null,null,null,null,null,null,null,null,null,null,null,null,null,null,null,null,null,null,null,null,null,null,"","",null,null,null,null,null,null,null,{"$f":"IFERROR(VLOOKUP('4.Substance-in-Product'!AH212,DSL!B:H,5,FALSE),\"-\")","v":"-"}]
[null,null,null,null,null,null,null,null,null,null,null,null,null,null,null,null,null,null,null,null,null,null,null,null,null,null,null,null,null,null,null,null,null,null,null,null,null,"","",null,null,null,null,null,null,null,{"$f":"IFERROR(VLOOKUP('4.Substance-in-Product'!AH213,DSL!B:H,5,FALSE),\"-\")","v":"-"}]
[null,null,null,null,null,null,null,null,null,null,null,null,null,null,null,null,null,null,null,null,null,null,null,null,null,null,null,null,null,null,null,null,null,null,null,null,null,"","",null,null,null,null,null,null,null,{"$f":"IFERROR(VLOOKUP('4.Substance-in-Product'!AH214,DSL!B:H,5,FALSE),\"-\")","v":"-"}]
[null,null,null,null,null,null,null,null,null,null,null,null,null,null,null,null,null,null,null,null,null,null,null,null,null,null,null,null,null,null,null,null,null,null,null,null,null,"","",null,null,null,null,null,null,null,{"$f":"IFERROR(VLOOKUP('4.Substance-in-Product'!AH215,DSL!B:H,5,FALSE),\"-\")","v":"-"}]
[null,null,null,null,null,null,null,null,null,null,null,null,null,null,null,null,null,null,null,null,null,null,null,null,null,null,null,null,null,null,null,null,null,null,null,null,null,"","",null,null,null,null,null,null,null,{"$f":"IFERROR(VLOOKUP('4.Substance-in-Product'!AH216,DSL!B:H,5,FALSE),\"-\")","v":"-"}]
[null,null,null,null,null,null,null,null,null,null,null,null,null,null,null,null,null,null,null,null,null,null,null,null,null,null,null,null,null,null,null,null,null,null,null,null,null,"","",null,null,null,null,null,null,null,{"$f":"IFERROR(VLOOKUP('4.Substance-in-Product'!AH217,DSL!B:H,5,FALSE),\"-\")","v":"-"}]
[null,null,null,null,null,null,null,null,null,null,null,null,null,null,null,null,null,null,null,null,null,null,null,null,null,null,null,null,null,null,null,null,null,null,null,null,null,"","",null,null,null,null,null,null,null,{"$f":"IFERROR(VLOOKUP('4.Substance-in-Product'!AH218,DSL!B:H,5,FALSE),\"-\")","v":"-"}]
[null,null,null,null,null,null,null,null,null,null,null,null,null,null,null,null,null,null,null,null,null,null,null,null,null,null,null,null,null,null,null,null,null,null,null,null,null,"","",null,null,null,null,null,null,null,{"$f":"IFERROR(VLOOKUP('4.Substance-in-Product'!AH219,DSL!B:H,5,FALSE),\"-\")","v":"-"}]
[null,null,null,null,null,null,null,null,null,null,null,null,null,null,null,null,null,null,null,null,null,null,null,null,null,null,null,null,null,null,null,null,null,null,null,null,null,"","",null,null,null,null,null,null,null,{"$f":"IFERROR(VLOOKUP('4.Substance-in-Product'!AH220,DSL!B:H,5,FALSE),\"-\")","v":"-"}]
[null,null,null,null,null,null,null,null,null,null,null,null,null,null,null,null,null,null,null,null,null,null,null,null,null,null,null,null,null,null,null,null,null,null,null,null,null,"","",null,null,null,null,null,null,null,{"$f":"IFERROR(VLOOKUP('4.Substance-in-Product'!AH221,DSL!B:H,5,FALSE),\"-\")","v":"-"}]
[null,null,null,null,null,null,null,null,null,null,null,null,null,null,null,null,null,null,null,null,null,null,null,null,null,null,null,null,null,null,null,null,null,null,null,null,null,"","",null,null,null,null,null,null,null,{"$f":"IFERROR(VLOOKUP('4.Substance-in-Product'!AH222,DSL!B:H,5,FALSE),\"-\")","v":"-"}]
[null,null,null,null,null,null,null,null,null,null,null,null,null,null,null,null,null,null,null,null,null,null,null,null,null,null,null,null,null,null,null,null,null,null,null,null,null,"","",null,null,null,null,null,null,null,{"$f":"IFERROR(VLOOKUP('4.Substance-in-Product'!AH223,DSL!B:H,5,FALSE),\"-\")","v":"-"}]
[null,null,null,null,null,null,null,null,null,null,null,null,null,null,null,null,null,null,null,null,null,null,null,null,null,null,null,null,null,null,null,null,null,null,null,null,null,"","",null,null,null,null,null,null,null,{"$f":"IFERROR(VLOOKUP('4.Substance-in-Product'!AH224,DSL!B:H,5,FALSE),\"-\")","v":"-"}]
[null,null,null,null,null,null,null,null,null,null,null,null,null,null,null,null,null,null,null,null,null,null,null,null,null,null,null,null,null,null,null,null,null,null,null,null,null,"","",null,null,null,null,null,null,null,{"$f":"IFERROR(VLOOKUP('4.Substance-in-Product'!AH225,DSL!B:H,5,FALSE),\"-\")","v":"-"}]
[null,null,null,null,null,null,null,null,null,null,null,null,null,null,null,null,null,null,null,null,null,null,null,null,null,null,null,null,null,null,null,null,null,null,null,null,null,"","",null,null,null,null,null,null,null,{"$f":"IFERROR(VLOOKUP('4.Substance-in-Product'!AH226,DSL!B:H,5,FALSE),\"-\")","v":"-"}]
[null,null,null,null,null,null,null,null,null,null,null,null,null,null,null,null,null,null,null,null,null,null,null,null,null,null,null,null,null,null,null,null,null,null,null,null,null,"","",null,null,null,null,null,null,null,{"$f":"IFERROR(VLOOKUP('4.Substance-in-Product'!AH227,DSL!B:H,5,FALSE),\"-\")","v":"-"}]
[null,null,null,null,null,null,null,null,null,null,null,null,null,null,null,null,null,null,null,null,null,null,null,null,null,null,null,null,null,null,null,null,null,null,null,null,null,"","",null,null,null,null,null,null,null,{"$f":"IFERROR(VLOOKUP('4.Substance-in-Product'!AH228,DSL!B:H,5,FALSE),\"-\")","v":"-"}]
[null,null,null,null,null,null,null,null,null,null,null,null,null,null,null,null,null,null,null,null,null,null,null,null,null,null,null,null,null,null,null,null,null,null,null,null,null,"","",null,null,null,null,null,null,null,{"$f":"IFERROR(VLOOKUP('4.Substance-in-Product'!AH229,DSL!B:H,5,FALSE),\"-\")","v":"-"}]
[null,null,null,null,null,null,null,null,null,null,null,null,null,null,null,null,null,null,null,null,null,null,null,null,null,null,null,null,null,null,null,null,null,null,null,null,null,"","",null,null,null,null,null,null,null,{"$f":"IFERROR(VLOOKUP('4.Substance-in-Product'!AH230,DSL!B:H,5,FALSE),\"-\")","v":"-"}]
[null,null,null,null,null,null,null,null,null,null,null,null,null,null,null,null,null,null,null,null,null,null,null,null,null,null,null,null,null,null,null,null,null,null,null,null,null,"","",null,null,null,null,null,null,null,{"$f":"IFERROR(VLOOKUP('4.Substance-in-Product'!AH231,DSL!B:H,5,FALSE),\"-\")","v":"-"}]
[null,null,null,null,null,null,null,null,null,null,null,null,null,null,null,null,null,null,null,null,null,null,null,null,null,null,null,null,null,null,null,null,null,null,null,null,null,"","",null,null,null,null,null,null,null,{"$f":"IFERROR(VLOOKUP('4.Substance-in-Product'!AH232,DSL!B:H,5,FALSE),\"-\")","v":"-"}]
[null,null,null,null,null,null,null,null,null,null,null,null,null,null,null,null,null,null,null,null,null,null,null,null,null,null,null,null,null,null,null,null,null,null,null,null,null,"","",null,null,null,null,null,null,null,{"$f":"IFERROR(VLOOKUP('4.Substance-in-Product'!AH233,DSL!B:H,5,FALSE),\"-\")","v":"-"}]
[null,null,null,null,null,null,null,null,null,null,null,null,null,null,null,null,null,null,null,null,null,null,null,null,null,null,null,null,null,null,null,null,null,null,null,null,null,"","",null,null,null,null,null,null,null,{"$f":"IFERROR(VLOOKUP('4.Substance-in-Product'!AH234,DSL!B:H,5,FALSE),\"-\")","v":"-"}]
[null,null,null,null,null,null,null,null,null,null,null,null,null,null,null,null,null,null,null,null,null,null,null,null,null,null,null,null,null,null,null,null,null,null,null,null,null,"","",null,null,null,null,null,null,null,{"$f":"IFERROR(VLOOKUP('4.Substance-in-Product'!AH235,DSL!B:H,5,FALSE),\"-\")","v":"-"}]
[null,null,null,null,null,null,null,null,null,null,null,null,null,null,null,null,null,null,null,null,null,null,null,null,null,null,null,null,null,null,null,null,null,null,null,null,null,"","",null,null,null,null,null,null,null,{"$f":"IFERROR(VLOOKUP('4.Substance-in-Product'!AH236,DSL!B:H,5,FALSE),\"-\")","v":"-"}]
[null,null,null,null,null,null,null,null,null,null,null,null,null,null,null,null,null,null,null,null,null,null,null,null,null,null,null,null,null,null,null,null,null,null,null,null,null,"","",null,null,null,null,null,null,null,{"$f":"IFERROR(VLOOKUP('4.Substance-in-Product'!AH237,DSL!B:H,5,FALSE),\"-\")","v":"-"}]
[null,null,null,null,null,null,null,null,null,null,null,null,null,null,null,null,null,null,null,null,null,null,null,null,null,null,null,null,null,null,null,null,null,null,null,null,null,"","",null,null,null,null,null,null,null,{"$f":"IFERROR(VLOOKUP('4.Substance-in-Product'!AH238,DSL!B:H,5,FALSE),\"-\")","v":"-"}]
[null,null,null,null,null,null,null,null,null,null,null,null,null,null,null,null,null,null,null,null,null,null,null,null,null,null,null,null,null,null,null,null,null,null,null,null,null,"","",null,null,null,null,null,null,null,{"$f":"IFERROR(VLOOKUP('4.Substance-in-Product'!AH239,DSL!B:H,5,FALSE),\"-\")","v":"-"}]
[null,null,null,null,null,null,null,null,null,null,null,null,null,null,null,null,null,null,null,null,null,null,null,null,null,null,null,null,null,null,null,null,null,null,null,null,null,"","",null,null,null,null,null,null,null,{"$f":"IFERROR(VLOOKUP('4.Substance-in-Product'!AH240,DSL!B:H,5,FALSE),\"-\")","v":"-"}]
[null,null,null,null,null,null,null,null,null,null,null,null,null,null,null,null,null,null,null,null,null,null,null,null,null,null,null,null,null,null,null,null,null,null,null,null,null,"","",null,null,null,null,null,null,null,{"$f":"IFERROR(VLOOKUP('4.Substance-in-Product'!AH241,DSL!B:H,5,FALSE),\"-\")","v":"-"}]
[null,null,null,null,null,null,null,null,null,null,null,null,null,null,null,null,null,null,null,null,null,null,null,null,null,null,null,null,null,null,null,null,null,null,null,null,null,"","",null,null,null,null,null,null,null,{"$f":"IFERROR(VLOOKUP('4.Substance-in-Product'!AH242,DSL!B:H,5,FALSE),\"-\")","v":"-"}]
[null,null,null,null,null,null,null,null,null,null,null,null,null,null,null,null,null,null,null,null,null,null,null,null,null,null,null,null,null,null,null,null,null,null,null,null,null,"","",null,null,null,null,null,null,null,{"$f":"IFERROR(VLOOKUP('4.Substance-in-Product'!AH243,DSL!B:H,5,FALSE),\"-\")","v":"-"}]
[null,null,null,null,null,null,null,null,null,null,null,null,null,null,null,null,null,null,null,null,null,null,null,null,null,null,null,null,null,null,null,null,null,null,null,null,null,"","",null,null,null,null,null,null,null,{"$f":"IFERROR(VLOOKUP('4.Substance-in-Product'!AH244,DSL!B:H,5,FALSE),\"-\")","v":"-"}]
[null,null,null,null,null,null,null,null,null,null,null,null,null,null,null,null,null,null,null,null,null,null,null,null,null,null,null,null,null,null,null,null,null,null,null,null,null,"","",null,null,null,null,null,null,null,{"$f":"IFERROR(VLOOKUP('4.Substance-in-Product'!AH245,DSL!B:H,5,FALSE),\"-\")","v":"-"}]
[null,null,null,null,null,null,null,null,null,null,null,null,null,null,null,null,null,null,null,null,null,null,null,null,null,null,null,null,null,null,null,null,null,null,null,null,null,"","",null,null,null,null,null,null,null,{"$f":"IFERROR(VLOOKUP('4.Substance-in-Product'!AH246,DSL!B:H,5,FALSE),\"-\")","v":"-"}]
[null,null,null,null,null,null,null,null,null,null,null,null,null,null,null,null,null,null,null,null,null,null,null,null,null,null,null,null,null,null,null,null,null,null,null,null,null,"","",null,null,null,null,null,null,null,{"$f":"IFERROR(VLOOKUP('4.Substance-in-Product'!AH247,DSL!B:H,5,FALSE),\"-\")","v":"-"}]
[null,null,null,null,null,null,null,null,null,null,null,null,null,null,null,null,null,null,null,null,null,null,null,null,null,null,null,null,null,null,null,null,null,null,null,null,null,"","",null,null,null,null,null,null,null,{"$f":"IFERROR(VLOOKUP('4.Substance-in-Product'!AH248,DSL!B:H,5,FALSE),\"-\")","v":"-"}]
[null,null,null,null,null,null,null,null,null,null,null,null,null,null,null,null,null,null,null,null,null,null,null,null,null,null,null,null,null,null,null,null,null,null,null,null,null,"","",null,null,null,null,null,null,null,{"$f":"IFERROR(VLOOKUP('4.Substance-in-Product'!AH249,DSL!B:H,5,FALSE),\"-\")","v":"-"}]
[null,null,null,null,null,null,null,null,null,null,null,null,null,null,null,null,null,null,null,null,null,null,null,null,null,null,null,null,null,null,null,null,null,null,null,null,null,"","",null,null,null,null,null,null,null,{"$f":"IFERROR(VLOOKUP('4.Substance-in-Product'!AH250,DSL!B:H,5,FALSE),\"-\")","v":"-"}]
[null,null,null,null,null,null,null,null,null,null,null,null,null,null,null,null,null,null,null,null,null,null,null,null,null,null,null,null,null,null,null,null,null,null,null,null,null,"","",null,null,null,null,null,null,null,{"$f":"IFERROR(VLOOKUP('4.Substance-in-Product'!AH251,DSL!B:H,5,FALSE),\"-\")","v":"-"}]
[null,null,null,null,null,null,null,null,null,null,null,null,null,null,null,null,null,null,null,null,null,null,null,null,null,null,null,null,null,null,null,null,null,null,null,null,null,"","",null,null,null,null,null,null,null,{"$f":"IFERROR(VLOOKUP('4.Substance-in-Product'!AH252,DSL!B:H,5,FALSE),\"-\")","v":"-"}]
[null,null,null,null,null,null,null,null,null,null,null,null,null,null,null,null,null,null,null,null,null,null,null,null,null,null,null,null,null,null,null,null,null,null,null,null,null,"","",null,null,null,null,null,null,null,{"$f":"IFERROR(VLOOKUP('4.Substance-in-Product'!AH253,DSL!B:H,5,FALSE),\"-\")","v":"-"}]
[null,null,null,null,null,null,null,null,null,null,null,null,null,null,null,null,null,null,null,null,null,null,null,null,null,null,null,null,null,null,null,null,null,null,null,null,null,"","",null,null,null,null,null,null,null,{"$f":"IFERROR(VLOOKUP('4.Substance-in-Product'!AH254,DSL!B:H,5,FALSE),\"-\")","v":"-"}]
[null,null,null,null,null,null,null,null,null,null,null,null,null,null,null,null,null,null,null,null,null,null,null,null,null,null,null,null,null,null,null,null,null,null,null,null,null,"","",null,null,null,null,null,null,null,{"$f":"IFERROR(VLOOKUP('4.Substance-in-Product'!AH255,DSL!B:H,5,FALSE),\"-\")","v":"-"}]
[null,null,null,null,null,null,null,null,null,null,null,null,null,null,null,null,null,null,null,null,null,null,null,null,null,null,null,null,null,null,null,null,null,null,null,null,null,"","",null,null,null,null,null,null,null,{"$f":"IFERROR(VLOOKUP('4.Substance-in-Product'!AH256,DSL!B:H,5,FALSE),\"-\")","v":"-"}]
[null,null,null,null,null,null,null,null,null,null,null,null,null,null,null,null,null,null,null,null,null,null,null,null,null,null,null,null,null,null,null,null,null,null,null,null,null,"","",null,null,null,null,null,null,null,{"$f":"IFERROR(VLOOKUP('4.Substance-in-Product'!AH257,DSL!B:H,5,FALSE),\"-\")","v":"-"}]
[null,null,null,null,null,null,null,null,null,null,null,null,null,null,null,null,null,null,null,null,null,null,null,null,null,null,null,null,null,null,null,null,null,null,null,null,null,"","",null,null,null,null,null,null,null,{"$f":"IFERROR(VLOOKUP('4.Substance-in-Product'!AH258,DSL!B:H,5,FALSE),\"-\")","v":"-"}]
[null,null,null,null,null,null,null,null,null,null,null,null,null,null,null,null,null,null,null,null,null,null,null,null,null,null,null,null,null,null,null,null,null,null,null,null,null,"","",null,null,null,null,null,null,null,{"$f":"IFERROR(VLOOKUP('4.Substance-in-Product'!AH259,DSL!B:H,5,FALSE),\"-\")","v":"-"}]
[null,null,null,null,null,null,null,null,null,null,null,null,null,null,null,null,null,null,null,null,null,null,null,null,null,null,null,null,null,null,null,null,null,null,null,null,null,"","",null,null,null,null,null,null,null,{"$f":"IFERROR(VLOOKUP('4.Substance-in-Product'!AH260,DSL!B:H,5,FALSE),\"-\")","v":"-"}]
[null,null,null,null,null,null,null,null,null,null,null,null,null,null,null,null,null,null,null,null,null,null,null,null,null,null,null,null,null,null,null,null,null,null,null,null,null,"","",null,null,null,null,null,null,null,{"$f":"IFERROR(VLOOKUP('4.Substance-in-Product'!AH261,DSL!B:H,5,FALSE),\"-\")","v":"-"}]
[null,null,null,null,null,null,null,null,null,null,null,null,null,null,null,null,null,null,null,null,null,null,null,null,null,null,null,null,null,null,null,null,null,null,null,null,null,"","",null,null,null,null,null,null,null,{"$f":"IFERROR(VLOOKUP('4.Substance-in-Product'!AH262,DSL!B:H,5,FALSE),\"-\")","v":"-"}]
[null,null,null,null,null,null,null,null,null,null,null,null,null,null,null,null,null,null,null,null,null,null,null,null,null,null,null,null,null,null,null,null,null,null,null,null,null,"","",null,null,null,null,null,null,null,{"$f":"IFERROR(VLOOKUP('4.Substance-in-Product'!AH263,DSL!B:H,5,FALSE),\"-\")","v":"-"}]
[null,null,null,null,null,null,null,null,null,null,null,null,null,null,null,null,null,null,null,null,null,null,null,null,null,null,null,null,null,null,null,null,null,null,null,null,null,"","",null,null,null,null,null,null,null,{"$f":"IFERROR(VLOOKUP('4.Substance-in-Product'!AH264,DSL!B:H,5,FALSE),\"-\")","v":"-"}]
[null,null,null,null,null,null,null,null,null,null,null,null,null,null,null,null,null,null,null,null,null,null,null,null,null,null,null,null,null,null,null,null,null,null,null,null,null,"","",null,null,null,null,null,null,null,{"$f":"IFERROR(VLOOKUP('4.Substance-in-Product'!AH265,DSL!B:H,5,FALSE),\"-\")","v":"-"}]
[null,null,null,null,null,null,null,null,null,null,null,null,null,null,null,null,null,null,null,null,null,null,null,null,null,null,null,null,null,null,null,null,null,null,null,null,null,"","",null,null,null,null,null,null,null,{"$f":"IFERROR(VLOOKUP('4.Substance-in-Product'!AH266,DSL!B:H,5,FALSE),\"-\")","v":"-"}]
[null,null,null,null,null,null,null,null,null,null,null,null,null,null,null,null,null,null,null,null,null,null,null,null,null,null,null,null,null,null,null,null,null,null,null,null,null,"","",null,null,null,null,null,null,null,{"$f":"IFERROR(VLOOKUP('4.Substance-in-Product'!AH267,DSL!B:H,5,FALSE),\"-\")","v":"-"}]
[null,null,null,null,null,null,null,null,null,null,null,null,null,null,null,null,null,null,null,null,null,null,null,null,null,null,null,null,null,null,null,null,null,null,null,null,null,"","",null,null,null,null,null,null,null,{"$f":"IFERROR(VLOOKUP('4.Substance-in-Product'!AH268,DSL!B:H,5,FALSE),\"-\")","v":"-"}]
[null,null,null,null,null,null,null,null,null,null,null,null,null,null,null,null,null,null,null,null,null,null,null,null,null,null,null,null,null,null,null,null,null,null,null,null,null,"","",null,null,null,null,null,null,null,{"$f":"IFERROR(VLOOKUP('4.Substance-in-Product'!AH269,DSL!B:H,5,FALSE),\"-\")","v":"-"}]
[null,null,null,null,null,null,null,null,null,null,null,null,null,null,null,null,null,null,null,null,null,null,null,null,null,null,null,null,null,null,null,null,null,null,null,null,null,"","",null,null,null,null,null,null,null,{"$f":"IFERROR(VLOOKUP('4.Substance-in-Product'!AH270,DSL!B:H,5,FALSE),\"-\")","v":"-"}]
[null,null,null,null,null,null,null,null,null,null,null,null,null,null,null,null,null,null,null,null,null,null,null,null,null,null,null,null,null,null,null,null,null,null,null,null,null,"","",null,null,null,null,null,null,null,{"$f":"IFERROR(VLOOKUP('4.Substance-in-Product'!AH271,DSL!B:H,5,FALSE),\"-\")","v":"-"}]
[null,null,null,null,null,null,null,null,null,null,null,null,null,null,null,null,null,null,null,null,null,null,null,null,null,null,null,null,null,null,null,null,null,null,null,null,null,"","",null,null,null,null,null,null,null,{"$f":"IFERROR(VLOOKUP('4.Substance-in-Product'!AH272,DSL!B:H,5,FALSE),\"-\")","v":"-"}]
[null,null,null,null,null,null,null,null,null,null,null,null,null,null,null,null,null,null,null,null,null,null,null,null,null,null,null,null,null,null,null,null,null,null,null,null,null,"","",null,null,null,null,null,null,null,{"$f":"IFERROR(VLOOKUP('4.Substance-in-Product'!AH273,DSL!B:H,5,FALSE),\"-\")","v":"-"}]
[null,null,null,null,null,null,null,null,null,null,null,null,null,null,null,null,null,null,null,null,null,null,null,null,null,null,null,null,null,null,null,null,null,null,null,null,null,"","",null,null,null,null,null,null,null,{"$f":"IFERROR(VLOOKUP('4.Substance-in-Product'!AH274,DSL!B:H,5,FALSE),\"-\")","v":"-"}]
[null,null,null,null,null,null,null,null,null,null,null,null,null,null,null,null,null,null,null,null,null,null,null,null,null,null,null,null,null,null,null,null,null,null,null,null,null,"","",null,null,null,null,null,null,null,{"$f":"IFERROR(VLOOKUP('4.Substance-in-Product'!AH275,DSL!B:H,5,FALSE),\"-\")","v":"-"}]
[null,null,null,null,null,null,null,null,null,null,null,null,null,null,null,null,null,null,null,null,null,null,null,null,null,null,null,null,null,null,null,null,null,null,null,null,null,"","",null,null,null,null,null,null,null,{"$f":"IFERROR(VLOOKUP('4.Substance-in-Product'!AH276,DSL!B:H,5,FALSE),\"-\")","v":"-"}]
[null,null,null,null,null,null,null,null,null,null,null,null,null,null,null,null,null,null,null,null,null,null,null,null,null,null,null,null,null,null,null,null,null,null,null,null,null,"","",null,null,null,null,null,null,null,{"$f":"IFERROR(VLOOKUP('4.Substance-in-Product'!AH277,DSL!B:H,5,FALSE),\"-\")","v":"-"}]
[null,null,null,null,null,null,null,null,null,null,null,null,null,null,null,null,null,null,null,null,null,null,null,null,null,null,null,null,null,null,null,null,null,null,null,null,null,"","",null,null,null,null,null,null,null,{"$f":"IFERROR(VLOOKUP('4.Substance-in-Product'!AH278,DSL!B:H,5,FALSE),\"-\")","v":"-"}]
[null,null,null,null,null,null,null,null,null,null,null,null,null,null,null,null,null,null,null,null,null,null,null,null,null,null,null,null,null,null,null,null,null,null,null,null,null,"","",null,null,null,null,null,null,null,{"$f":"IFERROR(VLOOKUP('4.Substance-in-Product'!AH279,DSL!B:H,5,FALSE),\"-\")","v":"-"}]
[null,null,null,null,null,null,null,null,null,null,null,null,null,null,null,null,null,null,null,null,null,null,null,null,null,null,null,null,null,null,null,null,null,null,null,null,null,"","",null,null,null,null,null,null,null,{"$f":"IFERROR(VLOOKUP('4.Substance-in-Product'!AH280,DSL!B:H,5,FALSE),\"-\")","v":"-"}]
[null,null,null,null,null,null,null,null,null,null,null,null,null,null,null,null,null,null,null,null,null,null,null,null,null,null,null,null,null,null,null,null,null,null,null,null,null,"","",null,null,null,null,null,null,null,{"$f":"IFERROR(VLOOKUP('4.Substance-in-Product'!AH281,DSL!B:H,5,FALSE),\"-\")","v":"-"}]
[null,null,null,null,null,null,null,null,null,null,null,null,null,null,null,null,null,null,null,null,null,null,null,null,null,null,null,null,null,null,null,null,null,null,null,null,null,"","",null,null,null,null,null,null,null,{"$f":"IFERROR(VLOOKUP('4.Substance-in-Product'!AH282,DSL!B:H,5,FALSE),\"-\")","v":"-"}]
[null,null,null,null,null,null,null,null,null,null,null,null,null,null,null,null,null,null,null,null,null,null,null,null,null,null,null,null,null,null,null,null,null,null,null,null,null,"","",null,null,null,null,null,null,null,{"$f":"IFERROR(VLOOKUP('4.Substance-in-Product'!AH283,DSL!B:H,5,FALSE),\"-\")","v":"-"}]
[null,null,null,null,null,null,null,null,null,null,null,null,null,null,null,null,null,null,null,null,null,null,null,null,null,null,null,null,null,null,null,null,null,null,null,null,null,"","",null,null,null,null,null,null,null,{"$f":"IFERROR(VLOOKUP('4.Substance-in-Product'!AH284,DSL!B:H,5,FALSE),\"-\")","v":"-"}]
[null,null,null,null,null,null,null,null,null,null,null,null,null,null,null,null,null,null,null,null,null,null,null,null,null,null,null,null,null,null,null,null,null,null,null,null,null,"","",null,null,null,null,null,null,null,{"$f":"IFERROR(VLOOKUP('4.Substance-in-Product'!AH285,DSL!B:H,5,FALSE),\"-\")","v":"-"}]
[null,null,null,null,null,null,null,null,null,null,null,null,null,null,null,null,null,null,null,null,null,null,null,null,null,null,null,null,null,null,null,null,null,null,null,null,null,"","",null,null,null,null,null,null,null,{"$f":"IFERROR(VLOOKUP('4.Substance-in-Product'!AH286,DSL!B:H,5,FALSE),\"-\")","v":"-"}]
[null,null,null,null,null,null,null,null,null,null,null,null,null,null,null,null,null,null,null,null,null,null,null,null,null,null,null,null,null,null,null,null,null,null,null,null,null,"","",null,null,null,null,null,null,null,{"$f":"IFERROR(VLOOKUP('4.Substance-in-Product'!AH287,DSL!B:H,5,FALSE),\"-\")","v":"-"}]
[null,null,null,null,null,null,null,null,null,null,null,null,null,null,null,null,null,null,null,null,null,null,null,null,null,null,null,null,null,null,null,null,null,null,null,null,null,"","",null,null,null,null,null,null,null,{"$f":"IFERROR(VLOOKUP('4.Substance-in-Product'!AH288,DSL!B:H,5,FALSE),\"-\")","v":"-"}]
[null,null,null,null,null,null,null,null,null,null,null,null,null,null,null,null,null,null,null,null,null,null,null,null,null,null,null,null,null,null,null,null,null,null,null,null,null,"","",null,null,null,null,null,null,null,{"$f":"IFERROR(VLOOKUP('4.Substance-in-Product'!AH289,DSL!B:H,5,FALSE),\"-\")","v":"-"}]
[null,null,null,null,null,null,null,null,null,null,null,null,null,null,null,null,null,null,null,null,null,null,null,null,null,null,null,null,null,null,null,null,null,null,null,null,null,"","",null,null,null,null,null,null,null,{"$f":"IFERROR(VLOOKUP('4.Substance-in-Product'!AH290,DSL!B:H,5,FALSE),\"-\")","v":"-"}]
[null,null,null,null,null,null,null,null,null,null,null,null,null,null,null,null,null,null,null,null,null,null,null,null,null,null,null,null,null,null,null,null,null,null,null,null,null,"","",null,null,null,null,null,null,null,{"$f":"IFERROR(VLOOKUP('4.Substance-in-Product'!AH291,DSL!B:H,5,FALSE),\"-\")","v":"-"}]
[null,null,null,null,null,null,null,null,null,null,null,null,null,null,null,null,null,null,null,null,null,null,null,null,null,null,null,null,null,null,null,null,null,null,null,null,null,"","",null,null,null,null,null,null,null,{"$f":"IFERROR(VLOOKUP('4.Substance-in-Product'!AH292,DSL!B:H,5,FALSE),\"-\")","v":"-"}]
[null,null,null,null,null,null,null,null,null,null,null,null,null,null,null,null,null,null,null,null,null,null,null,null,null,null,null,null,null,null,null,null,null,null,null,null,null,"","",null,null,null,null,null,null,null,{"$f":"IFERROR(VLOOKUP('4.Substance-in-Product'!AH293,DSL!B:H,5,FALSE),\"-\")","v":"-"}]
[null,null,null,null,null,null,null,null,null,null,null,null,null,null,null,null,null,null,null,null,null,null,null,null,null,null,null,null,null,null,null,null,null,null,null,null,null,"","",null,null,null,null,null,null,null,{"$f":"IFERROR(VLOOKUP('4.Substance-in-Product'!AH294,DSL!B:H,5,FALSE),\"-\")","v":"-"}]
[null,null,null,null,null,null,null,null,null,null,null,null,null,null,null,null,null,null,null,null,null,null,null,null,null,null,null,null,null,null,null,null,null,null,null,null,null,"","",null,null,null,null,null,null,null,{"$f":"IFERROR(VLOOKUP('4.Substance-in-Product'!AH295,DSL!B:H,5,FALSE),\"-\")","v":"-"}]
[null,null,null,null,null,null,null,null,null,null,null,null,null,null,null,null,null,null,null,null,null,null,null,null,null,null,null,null,null,null,null,null,null,null,null,null,null,"","",null,null,null,null,null,null,null,{"$f":"IFERROR(VLOOKUP('4.Substance-in-Product'!AH296,DSL!B:H,5,FALSE),\"-\")","v":"-"}]
[null,null,null,null,null,null,null,null,null,null,null,null,null,null,null,null,null,null,null,null,null,null,null,null,null,null,null,null,null,null,null,null,null,null,null,null,null,"","",null,null,null,null,null,null,null,{"$f":"IFERROR(VLOOKUP('4.Substance-in-Product'!AH297,DSL!B:H,5,FALSE),\"-\")","v":"-"}]
[null,null,null,null,null,null,null,null,null,null,null,null,null,null,null,null,null,null,null,null,null,null,null,null,null,null,null,null,null,null,null,null,null,null,null,null,null,"","",null,null,null,null,null,null,null,{"$f":"IFERROR(VLOOKUP('4.Substance-in-Product'!AH298,DSL!B:H,5,FALSE),\"-\")","v":"-"}]
[null,null,null,null,null,null,null,null,null,null,null,null,null,null,null,null,null,null,null,null,null,null,null,null,null,null,null,null,null,null,null,null,null,null,null,null,null,"","",null,null,null,null,null,null,null,{"$f":"IFERROR(VLOOKUP('4.Substance-in-Product'!AH299,DSL!B:H,5,FALSE),\"-\")","v":"-"}]
[null,null,null,null,null,null,null,null,null,null,null,null,null,null,null,null,null,null,null,null,null,null,null,null,null,null,null,null,null,null,null,null,null,null,null,null,null,"","",null,null,null,null,null,null,null,{"$f":"IFERROR(VLOOKUP('4.Substance-in-Product'!AH300,DSL!B:H,5,FALSE),\"-\")","v":"-"}]
[null,null,null,null,null,null,null,null,null,null,null,null,null,null,null,null,null,null,null,null,null,null,null,null,null,null,null,null,null,null,null,null,null,null,null,null,null,"","",null,null,null,null,null,null,null,{"$f":"IFERROR(VLOOKUP('4.Substance-in-Product'!AH301,DSL!B:H,5,FALSE),\"-\")","v":"-"}]
[null,null,null,null,null,null,null,null,null,null,null,null,null,null,null,null,null,null,null,null,null,null,null,null,null,null,null,null,null,null,null,null,null,null,null,null,null,"","",null,null,null,null,null,null,null,{"$f":"IFERROR(VLOOKUP('4.Substance-in-Product'!AH302,DSL!B:H,5,FALSE),\"-\")","v":"-"}]
[null,null,null,null,null,null,null,null,null,null,null,null,null,null,null,null,null,null,null,null,null,null,null,null,null,null,null,null,null,null,null,null,null,null,null,null,null,"","",null,null,null,null,null,null,null,{"$f":"IFERROR(VLOOKUP('4.Substance-in-Product'!AH303,DSL!B:H,5,FALSE),\"-\")","v":"-"}]
[null,null,null,null,null,null,null,null,null,null,null,null,null,null,null,null,null,null,null,null,null,null,null,null,null,null,null,null,null,null,null,null,null,null,null,null,null,"","",null,null,null,null,null,null,null,{"$f":"IFERROR(VLOOKUP('4.Substance-in-Product'!AH304,DSL!B:H,5,FALSE),\"-\")","v":"-"}]
[null,null,null,null,null,null,null,null,null,null,null,null,null,null,null,null,null,null,null,null,null,null,null,null,null,null,null,null,null,null,null,null,null,null,null,null,null,"","",null,null,null,null,null,null,null,{"$f":"IFERROR(VLOOKUP('4.Substance-in-Product'!AH305,DSL!B:H,5,FALSE),\"-\")","v":"-"}]
[null,null,null,null,null,null,null,null,null,null,null,null,null,null,null,null,null,null,null,null,null,null,null,null,null,null,null,null,null,null,null,null,null,null,null,null,null,"","",null,null,null,null,null,null,null,{"$f":"IFERROR(VLOOKUP('4.Substance-in-Product'!AH306,DSL!B:H,5,FALSE),\"-\")","v":"-"}]
[null,null,null,null,null,null,null,null,null,null,null,null,null,null,null,null,null,null,null,null,null,null,null,null,null,null,null,null,null,null,null,null,null,null,null,null,null,"","",null,null,null,null,null,null,null,{"$f":"IFERROR(VLOOKUP('4.Substance-in-Product'!AH307,DSL!B:H,5,FALSE),\"-\")","v":"-"}]
[null,null,null,null,null,null,null,null,null,null,null,null,null,null,null,null,null,null,null,null,null,null,null,null,null,null,null,null,null,null,null,null,null,null,null,null,null,"","",null,null,null,null,null,null,null,{"$f":"IFERROR(VLOOKUP('4.Substance-in-Product'!AH308,DSL!B:H,5,FALSE),\"-\")","v":"-"}]
[null,null,null,null,null,null,null,null,null,null,null,null,null,null,null,null,null,null,null,null,null,null,null,null,null,null,null,null,null,null,null,null,null,null,null,null,null,"","",null,null,null,null,null,null,null,{"$f":"IFERROR(VLOOKUP('4.Substance-in-Product'!AH309,DSL!B:H,5,FALSE),\"-\")","v":"-"}]
[null,null,null,null,null,null,null,null,null,null,null,null,null,null,null,null,null,null,null,null,null,null,null,null,null,null,null,null,null,null,null,null,null,null,null,null,null,"","",null,null,null,null,null,null,null,{"$f":"IFERROR(VLOOKUP('4.Substance-in-Product'!AH310,DSL!B:H,5,FALSE),\"-\")","v":"-"}]
[null,null,null,null,null,null,null,null,null,null,null,null,null,null,null,null,null,null,null,null,null,null,null,null,null,null,null,null,null,null,null,null,null,null,null,null,null,"","",null,null,null,null,null,null,null,{"$f":"IFERROR(VLOOKUP('4.Substance-in-Product'!AH311,DSL!B:H,5,FALSE),\"-\")","v":"-"}]
[null,null,null,null,null,null,null,null,null,null,null,null,null,null,null,null,null,null,null,null,null,null,null,null,null,null,null,null,null,null,null,null,null,null,null,null,null,"","",null,null,null,null,null,null,null,{"$f":"IFERROR(VLOOKUP('4.Substance-in-Product'!AH312,DSL!B:H,5,FALSE),\"-\")","v":"-"}]
[null,null,null,null,null,null,null,null,null,null,null,null,null,null,null,null,null,null,null,null,null,null,null,null,null,null,null,null,null,null,null,null,null,null,null,null,null,"","",null,null,null,null,null,null,null,{"$f":"IFERROR(VLOOKUP('4.Substance-in-Product'!AH313,DSL!B:H,5,FALSE),\"-\")","v":"-"}]
[null,null,null,null,null,null,null,null,null,null,null,null,null,null,null,null,null,null,null,null,null,null,null,null,null,null,null,null,null,null,null,null,null,null,null,null,null,"","",null,null,null,null,null,null,null,{"$f":"IFERROR(VLOOKUP('4.Substance-in-Product'!AH314,DSL!B:H,5,FALSE),\"-\")","v":"-"}]
[null,null,null,null,null,null,null,null,null,null,null,null,null,null,null,null,null,null,null,null,null,null,null,null,null,null,null,null,null,null,null,null,null,null,null,null,null,"","",null,null,null,null,null,null,null,{"$f":"IFERROR(VLOOKUP('4.Substance-in-Product'!AH315,DSL!B:H,5,FALSE),\"-\")","v":"-"}]
[null,null,null,null,null,null,null,null,null,null,null,null,null,null,null,null,null,null,null,null,null,null,null,null,null,null,null,null,null,null,null,null,null,null,null,null,null,"","",null,null,null,null,null,null,null,{"$f":"IFERROR(VLOOKUP('4.Substance-in-Product'!AH316,DSL!B:H,5,FALSE),\"-\")","v":"-"}]
[null,null,null,null,null,null,null,null,null,null,null,null,null,null,null,null,null,null,null,null,null,null,null,null,null,null,null,null,null,null,null,null,null,null,null,null,null,"","",null,null,null,null,null,null,null,{"$f":"IFERROR(VLOOKUP('4.Substance-in-Product'!AH317,DSL!B:H,5,FALSE),\"-\")","v":"-"}]
[null,null,null,null,null,null,null,null,null,null,null,null,null,null,null,null,null,null,null,null,null,null,null,null,null,null,null,null,null,null,null,null,null,null,null,null,null,"","",null,null,null,null,null,null,null,{"$f":"IFERROR(VLOOKUP('4.Substance-in-Product'!AH318,DSL!B:H,5,FALSE),\"-\")","v":"-"}]
[null,null,null,null,null,null,null,null,null,null,null,null,null,null,null,null,null,null,null,null,null,null,null,null,null,null,null,null,null,null,null,null,null,null,null,null,null,"","",null,null,null,null,null,null,null,{"$f":"IFERROR(VLOOKUP('4.Substance-in-Product'!AH319,DSL!B:H,5,FALSE),\"-\")","v":"-"}]
[null,null,null,null,null,null,null,null,null,null,null,null,null,null,null,null,null,null,null,null,null,null,null,null,null,null,null,null,null,null,null,null,null,null,null,null,null,"","",null,null,null,null,null,null,null,{"$f":"IFERROR(VLOOKUP('4.Substance-in-Product'!AH320,DSL!B:H,5,FALSE),\"-\")","v":"-"}]
[null,null,null,null,null,null,null,null,null,null,null,null,null,null,null,null,null,null,null,null,null,null,null,null,null,null,null,null,null,null,null,null,null,null,null,null,null,"","",null,null,null,null,null,null,null,{"$f":"IFERROR(VLOOKUP('4.Substance-in-Product'!AH321,DSL!B:H,5,FALSE),\"-\")","v":"-"}]
[null,null,null,null,null,null,null,null,null,null,null,null,null,null,null,null,null,null,null,null,null,null,null,null,null,null,null,null,null,null,null,null,null,null,null,null,null,"","",null,null,null,null,null,null,null,{"$f":"IFERROR(VLOOKUP('4.Substance-in-Product'!AH322,DSL!B:H,5,FALSE),\"-\")","v":"-"}]
[null,null,null,null,null,null,null,null,null,null,null,null,null,null,null,null,null,null,null,null,null,null,null,null,null,null,null,null,null,null,null,null,null,null,null,null,null,"","",null,null,null,null,null,null,null,{"$f":"IFERROR(VLOOKUP('4.Substance-in-Product'!AH323,DSL!B:H,5,FALSE),\"-\")","v":"-"}]
[null,null,null,null,null,null,null,null,null,null,null,null,null,null,null,null,null,null,null,null,null,null,null,null,null,null,null,null,null,null,null,null,null,null,null,null,null,"","",null,null,null,null,null,null,null,{"$f":"IFERROR(VLOOKUP('4.Substance-in-Product'!AH324,DSL!B:H,5,FALSE),\"-\")","v":"-"}]
[null,null,null,null,null,null,null,null,null,null,null,null,null,null,null,null,null,null,null,null,null,null,null,null,null,null,null,null,null,null,null,null,null,null,null,null,null,"","",null,null,null,null,null,null,null,{"$f":"IFERROR(VLOOKUP('4.Substance-in-Product'!AH325,DSL!B:H,5,FALSE),\"-\")","v":"-"}]
[null,null,null,null,null,null,null,null,null,null,null,null,null,null,null,null,null,null,null,null,null,null,null,null,null,null,null,null,null,null,null,null,null,null,null,null,null,"","",null,null,null,null,null,null,null,{"$f":"IFERROR(VLOOKUP('4.Substance-in-Product'!AH326,DSL!B:H,5,FALSE),\"-\")","v":"-"}]
[null,null,null,null,null,null,null,null,null,null,null,null,null,null,null,null,null,null,null,null,null,null,null,null,null,null,null,null,null,null,null,null,null,null,null,null,null,"","",null,null,null,null,null,null,null,{"$f":"IFERROR(VLOOKUP('4.Substance-in-Product'!AH327,DSL!B:H,5,FALSE),\"-\")","v":"-"}]
[null,null,null,null,null,null,null,null,null,null,null,null,null,null,null,null,null,null,null,null,null,null,null,null,null,null,null,null,null,null,null,null,null,null,null,null,null,"","",null,null,null,null,null,null,null,{"$f":"IFERROR(VLOOKUP('4.Substance-in-Product'!AH328,DSL!B:H,5,FALSE),\"-\")","v":"-"}]
[null,null,null,null,null,null,null,null,null,null,null,null,null,null,null,null,null,null,null,null,null,null,null,null,null,null,null,null,null,null,null,null,null,null,null,null,null,"","",null,null,null,null,null,null,null,{"$f":"IFERROR(VLOOKUP('4.Substance-in-Product'!AH329,DSL!B:H,5,FALSE),\"-\")","v":"-"}]
[null,null,null,null,null,null,null,null,null,null,null,null,null,null,null,null,null,null,null,null,null,null,null,null,null,null,null,null,null,null,null,null,null,null,null,null,null,"","",null,null,null,null,null,null,null,{"$f":"IFERROR(VLOOKUP('4.Substance-in-Product'!AH330,DSL!B:H,5,FALSE),\"-\")","v":"-"}]
[null,null,null,null,null,null,null,null,null,null,null,null,null,null,null,null,null,null,null,null,null,null,null,null,null,null,null,null,null,null,null,null,null,null,null,null,null,"","",null,null,null,null,null,null,null,{"$f":"IFERROR(VLOOKUP('4.Substance-in-Product'!AH331,DSL!B:H,5,FALSE),\"-\")","v":"-"}]
[null,null,null,null,null,null,null,null,null,null,null,null,null,null,null,null,null,null,null,null,null,null,null,null,null,null,null,null,null,null,null,null,null,null,null,null,null,"","",null,null,null,null,null,null,null,{"$f":"IFERROR(VLOOKUP('4.Substance-in-Product'!AH332,DSL!B:H,5,FALSE),\"-\")","v":"-"}]
[null,null,null,null,null,null,null,null,null,null,null,null,null,null,null,null,null,null,null,null,null,null,null,null,null,null,null,null,null,null,null,null,null,null,null,null,null,"","",null,null,null,null,null,null,null,{"$f":"IFERROR(VLOOKUP('4.Substance-in-Product'!AH333,DSL!B:H,5,FALSE),\"-\")","v":"-"}]
[null,null,null,null,null,null,null,null,null,null,null,null,null,null,null,null,null,null,null,null,null,null,null,null,null,null,null,null,null,null,null,null,null,null,null,null,null,"","",null,null,null,null,null,null,null,{"$f":"IFERROR(VLOOKUP('4.Substance-in-Product'!AH334,DSL!B:H,5,FALSE),\"-\")","v":"-"}]
[null,null,null,null,null,null,null,null,null,null,null,null,null,null,null,null,null,null,null,null,null,null,null,null,null,null,null,null,null,null,null,null,null,null,null,null,null,"","",null,null,null,null,null,null,null,{"$f":"IFERROR(VLOOKUP('4.Substance-in-Product'!AH335,DSL!B:H,5,FALSE),\"-\")","v":"-"}]
[null,null,null,null,null,null,null,null,null,null,null,null,null,null,null,null,null,null,null,null,null,null,null,null,null,null,null,null,null,null,null,null,null,null,null,null,null,"","",null,null,null,null,null,null,null,{"$f":"IFERROR(VLOOKUP('4.Substance-in-Product'!AH336,DSL!B:H,5,FALSE),\"-\")","v":"-"}]
[null,null,null,null,null,null,null,null,null,null,null,null,null,null,null,null,null,null,null,null,null,null,null,null,null,null,null,null,null,null,null,null,null,null,null,null,null,"","",null,null,null,null,null,null,null,{"$f":"IFERROR(VLOOKUP('4.Substance-in-Product'!AH337,DSL!B:H,5,FALSE),\"-\")","v":"-"}]
[null,null,null,null,null,null,null,null,null,null,null,null,null,null,null,null,null,null,null,null,null,null,null,null,null,null,null,null,null,null,null,null,null,null,null,null,null,"","",null,null,null,null,null,null,null,{"$f":"IFERROR(VLOOKUP('4.Substance-in-Product'!AH338,DSL!B:H,5,FALSE),\"-\")","v":"-"}]
[null,null,null,null,null,null,null,null,null,null,null,null,null,null,null,null,null,null,null,null,null,null,null,null,null,null,null,null,null,null,null,null,null,null,null,null,null,"","",null,null,null,null,null,null,null,{"$f":"IFERROR(VLOOKUP('4.Substance-in-Product'!AH339,DSL!B:H,5,FALSE),\"-\")","v":"-"}]
[null,null,null,null,null,null,null,null,null,null,null,null,null,null,null,null,null,null,null,null,null,null,null,null,null,null,null,null,null,null,null,null,null,null,null,null,null,"","",null,null,null,null,null,null,null,{"$f":"IFERROR(VLOOKUP('4.Substance-in-Product'!AH340,DSL!B:H,5,FALSE),\"-\")","v":"-"}]
[null,null,null,null,null,null,null,null,null,null,null,null,null,null,null,null,null,null,null,null,null,null,null,null,null,null,null,null,null,null,null,null,null,null,null,null,null,"","",null,null,null,null,null,null,null,{"$f":"IFERROR(VLOOKUP('4.Substance-in-Product'!AH341,DSL!B:H,5,FALSE),\"-\")","v":"-"}]
[null,null,null,null,null,null,null,null,null,null,null,null,null,null,null,null,null,null,null,null,null,null,null,null,null,null,null,null,null,null,null,null,null,null,null,null,null,"","",null,null,null,null,null,null,null,{"$f":"IFERROR(VLOOKUP('4.Substance-in-Product'!AH342,DSL!B:H,5,FALSE),\"-\")","v":"-"}]
[null,null,null,null,null,null,null,null,null,null,null,null,null,null,null,null,null,null,null,null,null,null,null,null,null,null,null,null,null,null,null,null,null,null,null,null,null,"","",null,null,null,null,null,null,null,{"$f":"IFERROR(VLOOKUP('4.Substance-in-Product'!AH343,DSL!B:H,5,FALSE),\"-\")","v":"-"}]
[null,null,null,null,null,null,null,null,null,null,null,null,null,null,null,null,null,null,null,null,null,null,null,null,null,null,null,null,null,null,null,null,null,null,null,null,null,"","",null,null,null,null,null,null,null,{"$f":"IFERROR(VLOOKUP('4.Substance-in-Product'!AH344,DSL!B:H,5,FALSE),\"-\")","v":"-"}]
[null,null,null,null,null,null,null,null,null,null,null,null,null,null,null,null,null,null,null,null,null,null,null,null,null,null,null,null,null,null,null,null,null,null,null,null,null,"","",null,null,null,null,null,null,null,{"$f":"IFERROR(VLOOKUP('4.Substance-in-Product'!AH345,DSL!B:H,5,FALSE),\"-\")","v":"-"}]
[null,null,null,null,null,null,null,null,null,null,null,null,null,null,null,null,null,null,null,null,null,null,null,null,null,null,null,null,null,null,null,null,null,null,null,null,null,"","",null,null,null,null,null,null,null,{"$f":"IFERROR(VLOOKUP('4.Substance-in-Product'!AH346,DSL!B:H,5,FALSE),\"-\")","v":"-"}]
[null,null,null,null,null,null,null,null,null,null,null,null,null,null,null,null,null,null,null,null,null,null,null,null,null,null,null,null,null,null,null,null,null,null,null,null,null,"","",null,null,null,null,null,null,null,{"$f":"IFERROR(VLOOKUP('4.Substance-in-Product'!AH347,DSL!B:H,5,FALSE),\"-\")","v":"-"}]
[null,null,null,null,null,null,null,null,null,null,null,null,null,null,null,null,null,null,null,null,null,null,null,null,null,null,null,null,null,null,null,null,null,null,null,null,null,"","",null,null,null,null,null,null,null,{"$f":"IFERROR(VLOOKUP('4.Substance-in-Product'!AH348,DSL!B:H,5,FALSE),\"-\")","v":"-"}]
[null,null,null,null,null,null,null,null,null,null,null,null,null,null,null,null,null,null,null,null,null,null,null,null,null,null,null,null,null,null,null,null,null,null,null,null,null,"","",null,null,null,null,null,null,null,{"$f":"IFERROR(VLOOKUP('4.Substance-in-Product'!AH349,DSL!B:H,5,FALSE),\"-\")","v":"-"}]
[null,null,null,null,null,null,null,null,null,null,null,null,null,null,null,null,null,null,null,null,null,null,null,null,null,null,null,null,null,null,null,null,null,null,null,null,null,"","",null,null,null,null,null,null,null,{"$f":"IFERROR(VLOOKUP('4.Substance-in-Product'!AH350,DSL!B:H,5,FALSE),\"-\")","v":"-"}]
[null,null,null,null,null,null,null,null,null,null,null,null,null,null,null,null,null,null,null,null,null,null,null,null,null,null,null,null,null,null,null,null,null,null,null,null,null,"","",null,null,null,null,null,null,null,{"$f":"IFERROR(VLOOKUP('4.Substance-in-Product'!AH351,DSL!B:H,5,FALSE),\"-\")","v":"-"}]
[null,null,null,null,null,null,null,null,null,null,null,null,null,null,null,null,null,null,null,null,null,null,null,null,null,null,null,null,null,null,null,null,null,null,null,null,null,"","",null,null,null,null,null,null,null,{"$f":"IFERROR(VLOOKUP('4.Substance-in-Product'!AH352,DSL!B:H,5,FALSE),\"-\")","v":"-"}]
[null,null,null,null,null,null,null,null,null,null,null,null,null,null,null,null,null,null,null,null,null,null,null,null,null,null,null,null,null,null,null,null,null,null,null,null,null,"","",null,null,null,null,null,null,null,{"$f":"IFERROR(VLOOKUP('4.Substance-in-Product'!AH353,DSL!B:H,5,FALSE),\"-\")","v":"-"}]
[null,null,null,null,null,null,null,null,null,null,null,null,null,null,null,null,null,null,null,null,null,null,null,null,null,null,null,null,null,null,null,null,null,null,null,null,null,"","",null,null,null,null,null,null,null,{"$f":"IFERROR(VLOOKUP('4.Substance-in-Product'!AH354,DSL!B:H,5,FALSE),\"-\")","v":"-"}]
[null,null,null,null,null,null,null,null,null,null,null,null,null,null,null,null,null,null,null,null,null,null,null,null,null,null,null,null,null,null,null,null,null,null,null,null,null,"","",null,null,null,null,null,null,null,{"$f":"IFERROR(VLOOKUP('4.Substance-in-Product'!AH355,DSL!B:H,5,FALSE),\"-\")","v":"-"}]
[null,null,null,null,null,null,null,null,null,null,null,null,null,null,null,null,null,null,null,null,null,null,null,null,null,null,null,null,null,null,null,null,null,null,null,null,null,"","",null,null,null,null,null,null,null,{"$f":"IFERROR(VLOOKUP('4.Substance-in-Product'!AH356,DSL!B:H,5,FALSE),\"-\")","v":"-"}]
[null,null,null,null,null,null,null,null,null,null,null,null,null,null,null,null,null,null,null,null,null,null,null,null,null,null,null,null,null,null,null,null,null,null,null,null,null,"","",null,null,null,null,null,null,null,{"$f":"IFERROR(VLOOKUP('4.Substance-in-Product'!AH357,DSL!B:H,5,FALSE),\"-\")","v":"-"}]
[null,null,null,null,null,null,null,null,null,null,null,null,null,null,null,null,null,null,null,null,null,null,null,null,null,null,null,null,null,null,null,null,null,null,null,null,null,"","",null,null,null,null,null,null,null,{"$f":"IFERROR(VLOOKUP('4.Substance-in-Product'!AH358,DSL!B:H,5,FALSE),\"-\")","v":"-"}]
[null,null,null,null,null,null,null,null,null,null,null,null,null,null,null,null,null,null,null,null,null,null,null,null,null,null,null,null,null,null,null,null,null,null,null,null,null,"","",null,null,null,null,null,null,null,{"$f":"IFERROR(VLOOKUP('4.Substance-in-Product'!AH359,DSL!B:H,5,FALSE),\"-\")","v":"-"}]
[null,null,null,null,null,null,null,null,null,null,null,null,null,null,null,null,null,null,null,null,null,null,null,null,null,null,null,null,null,null,null,null,null,null,null,null,null,"","",null,null,null,null,null,null,null,{"$f":"IFERROR(VLOOKUP('4.Substance-in-Product'!AH360,DSL!B:H,5,FALSE),\"-\")","v":"-"}]
[null,null,null,null,null,null,null,null,null,null,null,null,null,null,null,null,null,null,null,null,null,null,null,null,null,null,null,null,null,null,null,null,null,null,null,null,null,"","",null,null,null,null,null,null,null,{"$f":"IFERROR(VLOOKUP('4.Substance-in-Product'!AH361,DSL!B:H,5,FALSE),\"-\")","v":"-"}]
[null,null,null,null,null,null,null,null,null,null,null,null,null,null,null,null,null,null,null,null,null,null,null,null,null,null,null,null,null,null,null,null,null,null,null,null,null,"","",null,null,null,null,null,null,null,{"$f":"IFERROR(VLOOKUP('4.Substance-in-Product'!AH362,DSL!B:H,5,FALSE),\"-\")","v":"-"}]
[null,null,null,null,null,null,null,null,null,null,null,null,null,null,null,null,null,null,null,null,null,null,null,null,null,null,null,null,null,null,null,null,null,null,null,null,null,"","",null,null,null,null,null,null,null,{"$f":"IFERROR(VLOOKUP('4.Substance-in-Product'!AH363,DSL!B:H,5,FALSE),\"-\")","v":"-"}]
[null,null,null,null,null,null,null,null,null,null,null,null,null,null,null,null,null,null,null,null,null,null,null,null,null,null,null,null,null,null,null,null,null,null,null,null,null,"","",null,null,null,null,null,null,null,{"$f":"IFERROR(VLOOKUP('4.Substance-in-Product'!AH364,DSL!B:H,5,FALSE),\"-\")","v":"-"}]
[null,null,null,null,null,null,null,null,null,null,null,null,null,null,null,null,null,null,null,null,null,null,null,null,null,null,null,null,null,null,null,null,null,null,null,null,null,"","",null,null,null,null,null,null,null,{"$f":"IFERROR(VLOOKUP('4.Substance-in-Product'!AH365,DSL!B:H,5,FALSE),\"-\")","v":"-"}]
[null,null,null,null,null,null,null,null,null,null,null,null,null,null,null,null,null,null,null,null,null,null,null,null,null,null,null,null,null,null,null,null,null,null,null,null,null,"","",null,null,null,null,null,null,null,{"$f":"IFERROR(VLOOKUP('4.Substance-in-Product'!AH366,DSL!B:H,5,FALSE),\"-\")","v":"-"}]
[null,null,null,null,null,null,null,null,null,null,null,null,null,null,null,null,null,null,null,null,null,null,null,null,null,null,null,null,null,null,null,null,null,null,null,null,null,"","",null,null,null,null,null,null,null,{"$f":"IFERROR(VLOOKUP('4.Substance-in-Product'!AH367,DSL!B:H,5,FALSE),\"-\")","v":"-"}]
[null,null,null,null,null,null,null,null,null,null,null,null,null,null,null,null,null,null,null,null,null,null,null,null,null,null,null,null,null,null,null,null,null,null,null,null,null,"","",null,null,null,null,null,null,null,{"$f":"IFERROR(VLOOKUP('4.Substance-in-Product'!AH368,DSL!B:H,5,FALSE),\"-\")","v":"-"}]
[null,null,null,null,null,null,null,null,null,null,null,null,null,null,null,null,null,null,null,null,null,null,null,null,null,null,null,null,null,null,null,null,null,null,null,null,null,"","",null,null,null,null,null,null,null,{"$f":"IFERROR(VLOOKUP('4.Substance-in-Product'!AH369,DSL!B:H,5,FALSE),\"-\")","v":"-"}]
[null,null,null,null,null,null,null,null,null,null,null,null,null,null,null,null,null,null,null,null,null,null,null,null,null,null,null,null,null,null,null,null,null,null,null,null,null,"","",null,null,null,null,null,null,null,{"$f":"IFERROR(VLOOKUP('4.Substance-in-Product'!AH370,DSL!B:H,5,FALSE),\"-\")","v":"-"}]
[null,null,null,null,null,null,null,null,null,null,null,null,null,null,null,null,null,null,null,null,null,null,null,null,null,null,null,null,null,null,null,null,null,null,null,null,null,"","",null,null,null,null,null,null,null,{"$f":"IFERROR(VLOOKUP('4.Substance-in-Product'!AH371,DSL!B:H,5,FALSE),\"-\")","v":"-"}]
[null,null,null,null,null,null,null,null,null,null,null,null,null,null,null,null,null,null,null,null,null,null,null,null,null,null,null,null,null,null,null,null,null,null,null,null,null,"","",null,null,null,null,null,null,null,{"$f":"IFERROR(VLOOKUP('4.Substance-in-Product'!AH372,DSL!B:H,5,FALSE),\"-\")","v":"-"}]
[null,null,null,null,null,null,null,null,null,null,null,null,null,null,null,null,null,null,null,null,null,null,null,null,null,null,null,null,null,null,null,null,null,null,null,null,null,"","",null,null,null,null,null,null,null,{"$f":"IFERROR(VLOOKUP('4.Substance-in-Product'!AH373,DSL!B:H,5,FALSE),\"-\")","v":"-"}]
[null,null,null,null,null,null,null,null,null,null,null,null,null,null,null,null,null,null,null,null,null,null,null,null,null,null,null,null,null,null,null,null,null,null,null,null,null,"","",null,null,null,null,null,null,null,{"$f":"IFERROR(VLOOKUP('4.Substance-in-Product'!AH374,DSL!B:H,5,FALSE),\"-\")","v":"-"}]
[null,null,null,null,null,null,null,null,null,null,null,null,null,null,null,null,null,null,null,null,null,null,null,null,null,null,null,null,null,null,null,null,null,null,null,null,null,"","",null,null,null,null,null,null,null,{"$f":"IFERROR(VLOOKUP('4.Substance-in-Product'!AH375,DSL!B:H,5,FALSE),\"-\")","v":"-"}]
[null,null,null,null,null,null,null,null,null,null,null,null,null,null,null,null,null,null,null,null,null,null,null,null,null,null,null,null,null,null,null,null,null,null,null,null,null,"","",null,null,null,null,null,null,null,{"$f":"IFERROR(VLOOKUP('4.Substance-in-Product'!AH376,DSL!B:H,5,FALSE),\"-\")","v":"-"}]
[null,null,null,null,null,null,null,null,null,null,null,null,null,null,null,null,null,null,null,null,null,null,null,null,null,null,null,null,null,null,null,null,null,null,null,null,null,"","",null,null,null,null,null,null,null,{"$f":"IFERROR(VLOOKUP('4.Substance-in-Product'!AH377,DSL!B:H,5,FALSE),\"-\")","v":"-"}]
[null,null,null,null,null,null,null,null,null,null,null,null,null,null,null,null,null,null,null,null,null,null,null,null,null,null,null,null,null,null,null,null,null,null,null,null,null,"","",null,null,null,null,null,null,null,{"$f":"IFERROR(VLOOKUP('4.Substance-in-Product'!AH378,DSL!B:H,5,FALSE),\"-\")","v":"-"}]
[null,null,null,null,null,null,null,null,null,null,null,null,null,null,null,null,null,null,null,null,null,null,null,null,null,null,null,null,null,null,null,null,null,null,null,null,null,"","",null,null,null,null,null,null,null,{"$f":"IFERROR(VLOOKUP('4.Substance-in-Product'!AH379,DSL!B:H,5,FALSE),\"-\")","v":"-"}]
[null,null,null,null,null,null,null,null,null,null,null,null,null,null,null,null,null,null,null,null,null,null,null,null,null,null,null,null,null,null,null,null,null,null,null,null,null,"","",null,null,null,null,null,null,null,{"$f":"IFERROR(VLOOKUP('4.Substance-in-Product'!AH380,DSL!B:H,5,FALSE),\"-\")","v":"-"}]
[null,null,null,null,null,null,null,null,null,null,null,null,null,null,null,null,null,null,null,null,null,null,null,null,null,null,null,null,null,null,null,null,null,null,null,null,null,"","",null,null,null,null,null,null,null,{"$f":"IFERROR(VLOOKUP('4.Substance-in-Product'!AH381,DSL!B:H,5,FALSE),\"-\")","v":"-"}]
[null,null,null,null,null,null,null,null,null,null,null,null,null,null,null,null,null,null,null,null,null,null,null,null,null,null,null,null,null,null,null,null,null,null,null,null,null,"","",null,null,null,null,null,null,null,{"$f":"IFERROR(VLOOKUP('4.Substance-in-Product'!AH382,DSL!B:H,5,FALSE),\"-\")","v":"-"}]
[null,null,null,null,null,null,null,null,null,null,null,null,null,null,null,null,null,null,null,null,null,null,null,null,null,null,null,null,null,null,null,null,null,null,null,null,null,"","",null,null,null,null,null,null,null,{"$f":"IFERROR(VLOOKUP('4.Substance-in-Product'!AH383,DSL!B:H,5,FALSE),\"-\")","v":"-"}]
[null,null,null,null,null,null,null,null,null,null,null,null,null,null,null,null,null,null,null,null,null,null,null,null,null,null,null,null,null,null,null,null,null,null,null,null,null,"","",null,null,null,null,null,null,null,{"$f":"IFERROR(VLOOKUP('4.Substance-in-Product'!AH384,DSL!B:H,5,FALSE),\"-\")","v":"-"}]
[null,null,null,null,null,null,null,null,null,null,null,null,null,null,null,null,null,null,null,null,null,null,null,null,null,null,null,null,null,null,null,null,null,null,null,null,null,"","",null,null,null,null,null,null,null,{"$f":"IFERROR(VLOOKUP('4.Substance-in-Product'!AH385,DSL!B:H,5,FALSE),\"-\")","v":"-"}]
[null,null,null,null,null,null,null,null,null,null,null,null,null,null,null,null,null,null,null,null,null,null,null,null,null,null,null,null,null,null,null,null,null,null,null,null,null,"","",null,null,null,null,null,null,null,{"$f":"IFERROR(VLOOKUP('4.Substance-in-Product'!AH386,DSL!B:H,5,FALSE),\"-\")","v":"-"}]
[null,null,null,null,null,null,null,null,null,null,null,null,null,null,null,null,null,null,null,null,null,null,null,null,null,null,null,null,null,null,null,null,null,null,null,null,null,"","",null,null,null,null,null,null,null,{"$f":"IFERROR(VLOOKUP('4.Substance-in-Product'!AH387,DSL!B:H,5,FALSE),\"-\")","v":"-"}]
[null,null,null,null,null,null,null,null,null,null,null,null,null,null,null,null,null,null,null,null,null,null,null,null,null,null,null,null,null,null,null,null,null,null,null,null,null,"","",null,null,null,null,null,null,null,{"$f":"IFERROR(VLOOKUP('4.Substance-in-Product'!AH388,DSL!B:H,5,FALSE),\"-\")","v":"-"}]
[null,null,null,null,null,null,null,null,null,null,null,null,null,null,null,null,null,null,null,null,null,null,null,null,null,null,null,null,null,null,null,null,null,null,null,null,null,"","",null,null,null,null,null,null,null,{"$f":"IFERROR(VLOOKUP('4.Substance-in-Product'!AH389,DSL!B:H,5,FALSE),\"-\")","v":"-"}]
[null,null,null,null,null,null,null,null,null,null,null,null,null,null,null,null,null,null,null,null,null,null,null,null,null,null,null,null,null,null,null,null,null,null,null,null,null,"","",null,null,null,null,null,null,null,{"$f":"IFERROR(VLOOKUP('4.Substance-in-Product'!AH390,DSL!B:H,5,FALSE),\"-\")","v":"-"}]
[null,null,null,null,null,null,null,null,null,null,null,null,null,null,null,null,null,null,null,null,null,null,null,null,null,null,null,null,null,null,null,null,null,null,null,null,null,"","",null,null,null,null,null,null,null,{"$f":"IFERROR(VLOOKUP('4.Substance-in-Product'!AH391,DSL!B:H,5,FALSE),\"-\")","v":"-"}]
[null,null,null,null,null,null,null,null,null,null,null,null,null,null,null,null,null,null,null,null,null,null,null,null,null,null,null,null,null,null,null,null,null,null,null,null,null,"","",null,null,null,null,null,null,null,{"$f":"IFERROR(VLOOKUP('4.Substance-in-Product'!AH392,DSL!B:H,5,FALSE),\"-\")","v":"-"}]
[null,null,null,null,null,null,null,null,null,null,null,null,null,null,null,null,null,null,null,null,null,null,null,null,null,null,null,null,null,null,null,null,null,null,null,null,null,"","",null,null,null,null,null,null,null,{"$f":"IFERROR(VLOOKUP('4.Substance-in-Product'!AH393,DSL!B:H,5,FALSE),\"-\")","v":"-"}]
[null,null,null,null,null,null,null,null,null,null,null,null,null,null,null,null,null,null,null,null,null,null,null,null,null,null,null,null,null,null,null,null,null,null,null,null,null,"","",null,null,null,null,null,null,null,{"$f":"IFERROR(VLOOKUP('4.Substance-in-Product'!AH394,DSL!B:H,5,FALSE),\"-\")","v":"-"}]
[null,null,null,null,null,null,null,null,null,null,null,null,null,null,null,null,null,null,null,null,null,null,null,null,null,null,null,null,null,null,null,null,null,null,null,null,null,"","",null,null,null,null,null,null,null,{"$f":"IFERROR(VLOOKUP('4.Substance-in-Product'!AH395,DSL!B:H,5,FALSE),\"-\")","v":"-"}]
[null,null,null,null,null,null,null,null,null,null,null,null,null,null,null,null,null,null,null,null,null,null,null,null,null,null,null,null,null,null,null,null,null,null,null,null,null,"","",null,null,null,null,null,null,null,{"$f":"IFERROR(VLOOKUP('4.Substance-in-Product'!AH396,DSL!B:H,5,FALSE),\"-\")","v":"-"}]
[null,null,null,null,null,null,null,null,null,null,null,null,null,null,null,null,null,null,null,null,null,null,null,null,null,null,null,null,null,null,null,null,null,null,null,null,null,"","",null,null,null,null,null,null,null,{"$f":"IFERROR(VLOOKUP('4.Substance-in-Product'!AH397,DSL!B:H,5,FALSE),\"-\")","v":"-"}]
[null,null,null,null,null,null,null,null,null,null,null,null,null,null,null,null,null,null,null,null,null,null,null,null,null,null,null,null,null,null,null,null,null,null,null,null,null,"","",null,null,null,null,null,null,null,{"$f":"IFERROR(VLOOKUP('4.Substance-in-Product'!AH398,DSL!B:H,5,FALSE),\"-\")","v":"-"}]
[null,null,null,null,null,null,null,null,null,null,null,null,null,null,null,null,null,null,null,null,null,null,null,null,null,null,null,null,null,null,null,null,null,null,null,null,null,"","",null,null,null,null,null,null,null,{"$f":"IFERROR(VLOOKUP('4.Substance-in-Product'!AH399,DSL!B:H,5,FALSE),\"-\")","v":"-"}]
[null,null,null,null,null,null,null,null,null,null,null,null,null,null,null,null,null,null,null,null,null,null,null,null,null,null,null,null,null,null,null,null,null,null,null,null,null,"","",null,null,null,null,null,null,null,{"$f":"IFERROR(VLOOKUP('4.Substance-in-Product'!AH400,DSL!B:H,5,FALSE),\"-\")","v":"-"}]
[null,null,null,null,null,null,null,null,null,null,null,null,null,null,null,null,null,null,null,null,null,null,null,null,null,null,null,null,null,null,null,null,null,null,null,null,null,"","",null,null,null,null,null,null,null,{"$f":"IFERROR(VLOOKUP('4.Substance-in-Product'!AH401,DSL!B:H,5,FALSE),\"-\")","v":"-"}]
[null,null,null,null,null,null,null,null,null,null,null,null,null,null,null,null,null,null,null,null,null,null,null,null,null,null,null,null,null,null,null,null,null,null,null,null,null,"","",null,null,null,null,null,null,null,{"$f":"IFERROR(VLOOKUP('4.Substance-in-Product'!AH402,DSL!B:H,5,FALSE),\"-\")","v":"-"}]
[null,null,null,null,null,null,null,null,null,null,null,null,null,null,null,null,null,null,null,null,null,null,null,null,null,null,null,null,null,null,null,null,null,null,null,null,null,"","",null,null,null,null,null,null,null,{"$f":"IFERROR(VLOOKUP('4.Substance-in-Product'!AH403,DSL!B:H,5,FALSE),\"-\")","v":"-"}]
[null,null,null,null,null,null,null,null,null,null,null,null,null,null,null,null,null,null,null,null,null,null,null,null,null,null,null,null,null,null,null,null,null,null,null,null,null,"","",null,null,null,null,null,null,null,{"$f":"IFERROR(VLOOKUP('4.Substance-in-Product'!AH404,DSL!B:H,5,FALSE),\"-\")","v":"-"}]
[null,null,null,null,null,null,null,null,null,null,null,null,null,null,null,null,null,null,null,null,null,null,null,null,null,null,null,null,null,null,null,null,null,null,null,null,null,"","",null,null,null,null,null,null,null,{"$f":"IFERROR(VLOOKUP('4.Substance-in-Product'!AH405,DSL!B:H,5,FALSE),\"-\")","v":"-"}]
[null,null,null,null,null,null,null,null,null,null,null,null,null,null,null,null,null,null,null,null,null,null,null,null,null,null,null,null,null,null,null,null,null,null,null,null,null,"","",null,null,null,null,null,null,null,{"$f":"IFERROR(VLOOKUP('4.Substance-in-Product'!AH406,DSL!B:H,5,FALSE),\"-\")","v":"-"}]
[null,null,null,null,null,null,null,null,null,null,null,null,null,null,null,null,null,null,null,null,null,null,null,null,null,null,null,null,null,null,null,null,null,null,null,null,null,"","",null,null,null,null,null,null,null,{"$f":"IFERROR(VLOOKUP('4.Substance-in-Product'!AH407,DSL!B:H,5,FALSE),\"-\")","v":"-"}]
[null,null,null,null,null,null,null,null,null,null,null,null,null,null,null,null,null,null,null,null,null,null,null,null,null,null,null,null,null,null,null,null,null,null,null,null,null,"","",null,null,null,null,null,null,null,{"$f":"IFERROR(VLOOKUP('4.Substance-in-Product'!AH408,DSL!B:H,5,FALSE),\"-\")","v":"-"}]
[null,null,null,null,null,null,null,null,null,null,null,null,null,null,null,null,null,null,null,null,null,null,null,null,null,null,null,null,null,null,null,null,null,null,null,null,null,"","",null,null,null,null,null,null,null,{"$f":"IFERROR(VLOOKUP('4.Substance-in-Product'!AH409,DSL!B:H,5,FALSE),\"-\")","v":"-"}]
[null,null,null,null,null,null,null,null,null,null,null,null,null,null,null,null,null,null,null,null,null,null,null,null,null,null,null,null,null,null,null,null,null,null,null,null,null,"","",null,null,null,null,null,null,null,{"$f":"IFERROR(VLOOKUP('4.Substance-in-Product'!AH410,DSL!B:H,5,FALSE),\"-\")","v":"-"}]
[null,null,null,null,null,null,null,null,null,null,null,null,null,null,null,null,null,null,null,null,null,null,null,null,null,null,null,null,null,null,null,null,null,null,null,null,null,"","",null,null,null,null,null,null,null,{"$f":"IFERROR(VLOOKUP('4.Substance-in-Product'!AH411,DSL!B:H,5,FALSE),\"-\")","v":"-"}]
[null,null,null,null,null,null,null,null,null,null,null,null,null,null,null,null,null,null,null,null,null,null,null,null,null,null,null,null,null,null,null,null,null,null,null,null,null,"","",null,null,null,null,null,null,null,{"$f":"IFERROR(VLOOKUP('4.Substance-in-Product'!AH412,DSL!B:H,5,FALSE),\"-\")","v":"-"}]
[null,null,null,null,null,null,null,null,null,null,null,null,null,null,null,null,null,null,null,null,null,null,null,null,null,null,null,null,null,null,null,null,null,null,null,null,null,"","",null,null,null,null,null,null,null,{"$f":"IFERROR(VLOOKUP('4.Substance-in-Product'!AH413,DSL!B:H,5,FALSE),\"-\")","v":"-"}]
[null,null,null,null,null,null,null,null,null,null,null,null,null,null,null,null,null,null,null,null,null,null,null,null,null,null,null,null,null,null,null,null,null,null,null,null,null,"","",null,null,null,null,null,null,null,{"$f":"IFERROR(VLOOKUP('4.Substance-in-Product'!AH414,DSL!B:H,5,FALSE),\"-\")","v":"-"}]
[null,null,null,null,null,null,null,null,null,null,null,null,null,null,null,null,null,null,null,null,null,null,null,null,null,null,null,null,null,null,null,null,null,null,null,null,null,"","",null,null,null,null,null,null,null,{"$f":"IFERROR(VLOOKUP('4.Substance-in-Product'!AH415,DSL!B:H,5,FALSE),\"-\")","v":"-"}]
[null,null,null,null,null,null,null,null,null,null,null,null,null,null,null,null,null,null,null,null,null,null,null,null,null,null,null,null,null,null,null,null,null,null,null,null,null,"","",null,null,null,null,null,null,null,{"$f":"IFERROR(VLOOKUP('4.Substance-in-Product'!AH416,DSL!B:H,5,FALSE),\"-\")","v":"-"}]
[null,null,null,null,null,null,null,null,null,null,null,null,null,null,null,null,null,null,null,null,null,null,null,null,null,null,null,null,null,null,null,null,null,null,null,null,null,"","",null,null,null,null,null,null,null,{"$f":"IFERROR(VLOOKUP('4.Substance-in-Product'!AH417,DSL!B:H,5,FALSE),\"-\")","v":"-"}]
[null,null,null,null,null,null,null,null,null,null,null,null,null,null,null,null,null,null,null,null,null,null,null,null,null,null,null,null,null,null,null,null,null,null,null,null,null,"","",null,null,null,null,null,null,null,{"$f":"IFERROR(VLOOKUP('4.Substance-in-Product'!AH418,DSL!B:H,5,FALSE),\"-\")","v":"-"}]
[null,null,null,null,null,null,null,null,null,null,null,null,null,null,null,null,null,null,null,null,null,null,null,null,null,null,null,null,null,null,null,null,null,null,null,null,null,"","",null,null,null,null,null,null,null,{"$f":"IFERROR(VLOOKUP('4.Substance-in-Product'!AH419,DSL!B:H,5,FALSE),\"-\")","v":"-"}]
[null,null,null,null,null,null,null,null,null,null,null,null,null,null,null,null,null,null,null,null,null,null,null,null,null,null,null,null,null,null,null,null,null,null,null,null,null,"","",null,null,null,null,null,null,null,{"$f":"IFERROR(VLOOKUP('4.Substance-in-Product'!AH420,DSL!B:H,5,FALSE),\"-\")","v":"-"}]
[null,null,null,null,null,null,null,null,null,null,null,null,null,null,null,null,null,null,null,null,null,null,null,null,null,null,null,null,null,null,null,null,null,null,null,null,null,"","",null,null,null,null,null,null,null,{"$f":"IFERROR(VLOOKUP('4.Substance-in-Product'!AH421,DSL!B:H,5,FALSE),\"-\")","v":"-"}]
[null,null,null,null,null,null,null,null,null,null,null,null,null,null,null,null,null,null,null,null,null,null,null,null,null,null,null,null,null,null,null,null,null,null,null,null,null,"","",null,null,null,null,null,null,null,{"$f":"IFERROR(VLOOKUP('4.Substance-in-Product'!AH422,DSL!B:H,5,FALSE),\"-\")","v":"-"}]
[null,null,null,null,null,null,null,null,null,null,null,null,null,null,null,null,null,null,null,null,null,null,null,null,null,null,null,null,null,null,null,null,null,null,null,null,null,"","",null,null,null,null,null,null,null,{"$f":"IFERROR(VLOOKUP('4.Substance-in-Product'!AH423,DSL!B:H,5,FALSE),\"-\")","v":"-"}]
[null,null,null,null,null,null,null,null,null,null,null,null,null,null,null,null,null,null,null,null,null,null,null,null,null,null,null,null,null,null,null,null,null,null,null,null,null,"","",null,null,null,null,null,null,null,{"$f":"IFERROR(VLOOKUP('4.Substance-in-Product'!AH424,DSL!B:H,5,FALSE),\"-\")","v":"-"}]
[null,null,null,null,null,null,null,null,null,null,null,null,null,null,null,null,null,null,null,null,null,null,null,null,null,null,null,null,null,null,null,null,null,null,null,null,null,"","",null,null,null,null,null,null,null,{"$f":"IFERROR(VLOOKUP('4.Substance-in-Product'!AH425,DSL!B:H,5,FALSE),\"-\")","v":"-"}]
[null,null,null,null,null,null,null,null,null,null,null,null,null,null,null,null,null,null,null,null,null,null,null,null,null,null,null,null,null,null,null,null,null,null,null,null,null,"","",null,null,null,null,null,null,null,{"$f":"IFERROR(VLOOKUP('4.Substance-in-Product'!AH426,DSL!B:H,5,FALSE),\"-\")","v":"-"}]
[null,null,null,null,null,null,null,null,null,null,null,null,null,null,null,null,null,null,null,null,null,null,null,null,null,null,null,null,null,null,null,null,null,null,null,null,null,"","",null,null,null,null,null,null,null,{"$f":"IFERROR(VLOOKUP('4.Substance-in-Product'!AH427,DSL!B:H,5,FALSE),\"-\")","v":"-"}]
[null,null,null,null,null,null,null,null,null,null,null,null,null,null,null,null,null,null,null,null,null,null,null,null,null,null,null,null,null,null,null,null,null,null,null,null,null,"","",null,null,null,null,null,null,null,{"$f":"IFERROR(VLOOKUP('4.Substance-in-Product'!AH428,DSL!B:H,5,FALSE),\"-\")","v":"-"}]
[null,null,null,null,null,null,null,null,null,null,null,null,null,null,null,null,null,null,null,null,null,null,null,null,null,null,null,null,null,null,null,null,null,null,null,null,null,"","",null,null,null,null,null,null,null,{"$f":"IFERROR(VLOOKUP('4.Substance-in-Product'!AH429,DSL!B:H,5,FALSE),\"-\")","v":"-"}]
[null,null,null,null,null,null,null,null,null,null,null,null,null,null,null,null,null,null,null,null,null,null,null,null,null,null,null,null,null,null,null,null,null,null,null,null,null,"","",null,null,null,null,null,null,null,{"$f":"IFERROR(VLOOKUP('4.Substance-in-Product'!AH430,DSL!B:H,5,FALSE),\"-\")","v":"-"}]
[null,null,null,null,null,null,null,null,null,null,null,null,null,null,null,null,null,null,null,null,null,null,null,null,null,null,null,null,null,null,null,null,null,null,null,null,null,"","",null,null,null,null,null,null,null,{"$f":"IFERROR(VLOOKUP('4.Substance-in-Product'!AH431,DSL!B:H,5,FALSE),\"-\")","v":"-"}]
[null,null,null,null,null,null,null,null,null,null,null,null,null,null,null,null,null,null,null,null,null,null,null,null,null,null,null,null,null,null,null,null,null,null,null,null,null,"","",null,null,null,null,null,null,null,{"$f":"IFERROR(VLOOKUP('4.Substance-in-Product'!AH432,DSL!B:H,5,FALSE),\"-\")","v":"-"}]
[null,null,null,null,null,null,null,null,null,null,null,null,null,null,null,null,null,null,null,null,null,null,null,null,null,null,null,null,null,null,null,null,null,null,null,null,null,"","",null,null,null,null,null,null,null,{"$f":"IFERROR(VLOOKUP('4.Substance-in-Product'!AH433,DSL!B:H,5,FALSE),\"-\")","v":"-"}]
[null,null,null,null,null,null,null,null,null,null,null,null,null,null,null,null,null,null,null,null,null,null,null,null,null,null,null,null,null,null,null,null,null,null,null,null,null,"","",null,null,null,null,null,null,null,{"$f":"IFERROR(VLOOKUP('4.Substance-in-Product'!AH434,DSL!B:H,5,FALSE),\"-\")","v":"-"}]
[null,null,null,null,null,null,null,null,null,null,null,null,null,null,null,null,null,null,null,null,null,null,null,null,null,null,null,null,null,null,null,null,null,null,null,null,null,"","",null,null,null,null,null,null,null,{"$f":"IFERROR(VLOOKUP('4.Substance-in-Product'!AH435,DSL!B:H,5,FALSE),\"-\")","v":"-"}]
[null,null,null,null,null,null,null,null,null,null,null,null,null,null,null,null,null,null,null,null,null,null,null,null,null,null,null,null,null,null,null,null,null,null,null,null,null,"","",null,null,null,null,null,null,null,{"$f":"IFERROR(VLOOKUP('4.Substance-in-Product'!AH436,DSL!B:H,5,FALSE),\"-\")","v":"-"}]
[null,null,null,null,null,null,null,null,null,null,null,null,null,null,null,null,null,null,null,null,null,null,null,null,null,null,null,null,null,null,null,null,null,null,null,null,null,"","",null,null,null,null,null,null,null,{"$f":"IFERROR(VLOOKUP('4.Substance-in-Product'!AH437,DSL!B:H,5,FALSE),\"-\")","v":"-"}]
[null,null,null,null,null,null,null,null,null,null,null,null,null,null,null,null,null,null,null,null,null,null,null,null,null,null,null,null,null,null,null,null,null,null,null,null,null,"","",null,null,null,null,null,null,null,{"$f":"IFERROR(VLOOKUP('4.Substance-in-Product'!AH438,DSL!B:H,5,FALSE),\"-\")","v":"-"}]
[null,null,null,null,null,null,null,null,null,null,null,null,null,null,null,null,null,null,null,null,null,null,null,null,null,null,null,null,null,null,null,null,null,null,null,null,null,"","",null,null,null,null,null,null,null,{"$f":"IFERROR(VLOOKUP('4.Substance-in-Product'!AH439,DSL!B:H,5,FALSE),\"-\")","v":"-"}]
[null,null,null,null,null,null,null,null,null,null,null,null,null,null,null,null,null,null,null,null,null,null,null,null,null,null,null,null,null,null,null,null,null,null,null,null,null,"","",null,null,null,null,null,null,null,{"$f":"IFERROR(VLOOKUP('4.Substance-in-Product'!AH440,DSL!B:H,5,FALSE),\"-\")","v":"-"}]
[null,null,null,null,null,null,null,null,null,null,null,null,null,null,null,null,null,null,null,null,null,null,null,null,null,null,null,null,null,null,null,null,null,null,null,null,null,"","",null,null,null,null,null,null,null,{"$f":"IFERROR(VLOOKUP('4.Substance-in-Product'!AH441,DSL!B:H,5,FALSE),\"-\")","v":"-"}]
[null,null,null,null,null,null,null,null,null,null,null,null,null,null,null,null,null,null,null,null,null,null,null,null,null,null,null,null,null,null,null,null,null,null,null,null,null,"","",null,null,null,null,null,null,null,{"$f":"IFERROR(VLOOKUP('4.Substance-in-Product'!AH442,DSL!B:H,5,FALSE),\"-\")","v":"-"}]
[null,null,null,null,null,null,null,null,null,null,null,null,null,null,null,null,null,null,null,null,null,null,null,null,null,null,null,null,null,null,null,null,null,null,null,null,null,"","",null,null,null,null,null,null,null,{"$f":"IFERROR(VLOOKUP('4.Substance-in-Product'!AH443,DSL!B:H,5,FALSE),\"-\")","v":"-"}]
[null,null,null,null,null,null,null,null,null,null,null,null,null,null,null,null,null,null,null,null,null,null,null,null,null,null,null,null,null,null,null,null,null,null,null,null,null,"","",null,null,null,null,null,null,null,{"$f":"IFERROR(VLOOKUP('4.Substance-in-Product'!AH444,DSL!B:H,5,FALSE),\"-\")","v":"-"}]
[null,null,null,null,null,null,null,null,null,null,null,null,null,null,null,null,null,null,null,null,null,null,null,null,null,null,null,null,null,null,null,null,null,null,null,null,null,"","",null,null,null,null,null,null,null,{"$f":"IFERROR(VLOOKUP('4.Substance-in-Product'!AH445,DSL!B:H,5,FALSE),\"-\")","v":"-"}]
[null,null,null,null,null,null,null,null,null,null,null,null,null,null,null,null,null,null,null,null,null,null,null,null,null,null,null,null,null,null,null,null,null,null,null,null,null,"","",null,null,null,null,null,null,null,{"$f":"IFERROR(VLOOKUP('4.Substance-in-Product'!AH446,DSL!B:H,5,FALSE),\"-\")","v":"-"}]
[null,null,null,null,null,null,null,null,null,null,null,null,null,null,null,null,null,null,null,null,null,null,null,null,null,null,null,null,null,null,null,null,null,null,null,null,null,"","",null,null,null,null,null,null,null,{"$f":"IFERROR(VLOOKUP('4.Substance-in-Product'!AH447,DSL!B:H,5,FALSE),\"-\")","v":"-"}]
[null,null,null,null,null,null,null,null,null,null,null,null,null,null,null,null,null,null,null,null,null,null,null,null,null,null,null,null,null,null,null,null,null,null,null,null,null,"","",null,null,null,null,null,null,null,{"$f":"IFERROR(VLOOKUP('4.Substance-in-Product'!AH448,DSL!B:H,5,FALSE),\"-\")","v":"-"}]
[null,null,null,null,null,null,null,null,null,null,null,null,null,null,null,null,null,null,null,null,null,null,null,null,null,null,null,null,null,null,null,null,null,null,null,null,null,"","",null,null,null,null,null,null,null,{"$f":"IFERROR(VLOOKUP('4.Substance-in-Product'!AH449,DSL!B:H,5,FALSE),\"-\")","v":"-"}]
[null,null,null,null,null,null,null,null,null,null,null,null,null,null,null,null,null,null,null,null,null,null,null,null,null,null,null,null,null,null,null,null,null,null,null,null,null,"","",null,null,null,null,null,null,null,{"$f":"IFERROR(VLOOKUP('4.Substance-in-Product'!AH450,DSL!B:H,5,FALSE),\"-\")","v":"-"}]
[null,null,null,null,null,null,null,null,null,null,null,null,null,null,null,null,null,null,null,null,null,null,null,null,null,null,null,null,null,null,null,null,null,null,null,null,null,"","",null,null,null,null,null,null,null,{"$f":"IFERROR(VLOOKUP('4.Substance-in-Product'!AH451,DSL!B:H,5,FALSE),\"-\")","v":"-"}]
[null,null,null,null,null,null,null,null,null,null,null,null,null,null,null,null,null,null,null,null,null,null,null,null,null,null,null,null,null,null,null,null,null,null,null,null,null,"","",null,null,null,null,null,null,null,{"$f":"IFERROR(VLOOKUP('4.Substance-in-Product'!AH452,DSL!B:H,5,FALSE),\"-\")","v":"-"}]
[null,null,null,null,null,null,null,null,null,null,null,null,null,null,null,null,null,null,null,null,null,null,null,null,null,null,null,null,null,null,null,null,null,null,null,null,null,"","",null,null,null,null,null,null,null,{"$f":"IFERROR(VLOOKUP('4.Substance-in-Product'!AH453,DSL!B:H,5,FALSE),\"-\")","v":"-"}]
[null,null,null,null,null,null,null,null,null,null,null,null,null,null,null,null,null,null,null,null,null,null,null,null,null,null,null,null,null,null,null,null,null,null,null,null,null,"","",null,null,null,null,null,null,null,{"$f":"IFERROR(VLOOKUP('4.Substance-in-Product'!AH454,DSL!B:H,5,FALSE),\"-\")","v":"-"}]
[null,null,null,null,null,null,null,null,null,null,null,null,null,null,null,null,null,null,null,null,null,null,null,null,null,null,null,null,null,null,null,null,null,null,null,null,null,"","",null,null,null,null,null,null,null,{"$f":"IFERROR(VLOOKUP('4.Substance-in-Product'!AH455,DSL!B:H,5,FALSE),\"-\")","v":"-"}]
[null,null,null,null,null,null,null,null,null,null,null,null,null,null,null,null,null,null,null,null,null,null,null,null,null,null,null,null,null,null,null,null,null,null,null,null,null,"","",null,null,null,null,null,null,null,{"$f":"IFERROR(VLOOKUP('4.Substance-in-Product'!AH456,DSL!B:H,5,FALSE),\"-\")","v":"-"}]
[null,null,null,null,null,null,null,null,null,null,null,null,null,null,null,null,null,null,null,null,null,null,null,null,null,null,null,null,null,null,null,null,null,null,null,null,null,"","",null,null,null,null,null,null,null,{"$f":"IFERROR(VLOOKUP('4.Substance-in-Product'!AH457,DSL!B:H,5,FALSE),\"-\")","v":"-"}]
[null,null,null,null,null,null,null,null,null,null,null,null,null,null,null,null,null,null,null,null,null,null,null,null,null,null,null,null,null,null,null,null,null,null,null,null,null,"","",null,null,null,null,null,null,null,{"$f":"IFERROR(VLOOKUP('4.Substance-in-Product'!AH458,DSL!B:H,5,FALSE),\"-\")","v":"-"}]
[null,null,null,null,null,null,null,null,null,null,null,null,null,null,null,null,null,null,null,null,null,null,null,null,null,null,null,null,null,null,null,null,null,null,null,null,null,"","",null,null,null,null,null,null,null,{"$f":"IFERROR(VLOOKUP('4.Substance-in-Product'!AH459,DSL!B:H,5,FALSE),\"-\")","v":"-"}]
[null,null,null,null,null,null,null,null,null,null,null,null,null,null,null,null,null,null,null,null,null,null,null,null,null,null,null,null,null,null,null,null,null,null,null,null,null,"","",null,null,null,null,null,null,null,{"$f":"IFERROR(VLOOKUP('4.Substance-in-Product'!AH460,DSL!B:H,5,FALSE),\"-\")","v":"-"}]
[null,null,null,null,null,null,null,null,null,null,null,null,null,null,null,null,null,null,null,null,null,null,null,null,null,null,null,null,null,null,null,null,null,null,null,null,null,"","",null,null,null,null,null,null,null,{"$f":"IFERROR(VLOOKUP('4.Substance-in-Product'!AH461,DSL!B:H,5,FALSE),\"-\")","v":"-"}]
[null,null,null,null,null,null,null,null,null,null,null,null,null,null,null,null,null,null,null,null,null,null,null,null,null,null,null,null,null,null,null,null,null,null,null,null,null,"","",null,null,null,null,null,null,null,{"$f":"IFERROR(VLOOKUP('4.Substance-in-Product'!AH462,DSL!B:H,5,FALSE),\"-\")","v":"-"}]
[null,null,null,null,null,null,null,null,null,null,null,null,null,null,null,null,null,null,null,null,null,null,null,null,null,null,null,null,null,null,null,null,null,null,null,null,null,"","",null,null,null,null,null,null,null,{"$f":"IFERROR(VLOOKUP('4.Substance-in-Product'!AH463,DSL!B:H,5,FALSE),\"-\")","v":"-"}]
[null,null,null,null,null,null,null,null,null,null,null,null,null,null,null,null,null,null,null,null,null,null,null,null,null,null,null,null,null,null,null,null,null,null,null,null,null,"","",null,null,null,null,null,null,null,{"$f":"IFERROR(VLOOKUP('4.Substance-in-Product'!AH464,DSL!B:H,5,FALSE),\"-\")","v":"-"}]
[null,null,null,null,null,null,null,null,null,null,null,null,null,null,null,null,null,null,null,null,null,null,null,null,null,null,null,null,null,null,null,null,null,null,null,null,null,"","",null,null,null,null,null,null,null,{"$f":"IFERROR(VLOOKUP('4.Substance-in-Product'!AH465,DSL!B:H,5,FALSE),\"-\")","v":"-"}]
[null,null,null,null,null,null,null,null,null,null,null,null,null,null,null,null,null,null,null,null,null,null,null,null,null,null,null,null,null,null,null,null,null,null,null,null,null,"","",null,null,null,null,null,null,null,{"$f":"IFERROR(VLOOKUP('4.Substance-in-Product'!AH466,DSL!B:H,5,FALSE),\"-\")","v":"-"}]
[null,null,null,null,null,null,null,null,null,null,null,null,null,null,null,null,null,null,null,null,null,null,null,null,null,null,null,null,null,null,null,null,null,null,null,null,null,"","",null,null,null,null,null,null,null,{"$f":"IFERROR(VLOOKUP('4.Substance-in-Product'!AH467,DSL!B:H,5,FALSE),\"-\")","v":"-"}]
[null,null,null,null,null,null,null,null,null,null,null,null,null,null,null,null,null,null,null,null,null,null,null,null,null,null,null,null,null,null,null,null,null,null,null,null,null,"","",null,null,null,null,null,null,null,{"$f":"IFERROR(VLOOKUP('4.Substance-in-Product'!AH468,DSL!B:H,5,FALSE),\"-\")","v":"-"}]
[null,null,null,null,null,null,null,null,null,null,null,null,null,null,null,null,null,null,null,null,null,null,null,null,null,null,null,null,null,null,null,null,null,null,null,null,null,"","",null,null,null,null,null,null,null,{"$f":"IFERROR(VLOOKUP('4.Substance-in-Product'!AH469,DSL!B:H,5,FALSE),\"-\")","v":"-"}]
[null,null,null,null,null,null,null,null,null,null,null,null,null,null,null,null,null,null,null,null,null,null,null,null,null,null,null,null,null,null,null,null,null,null,null,null,null,"","",null,null,null,null,null,null,null,{"$f":"IFERROR(VLOOKUP('4.Substance-in-Product'!AH470,DSL!B:H,5,FALSE),\"-\")","v":"-"}]
[null,null,null,null,null,null,null,null,null,null,null,null,null,null,null,null,null,null,null,null,null,null,null,null,null,null,null,null,null,null,null,null,null,null,null,null,null,"","",null,null,null,null,null,null,null,{"$f":"IFERROR(VLOOKUP('4.Substance-in-Product'!AH471,DSL!B:H,5,FALSE),\"-\")","v":"-"}]
[null,null,null,null,null,null,null,null,null,null,null,null,null,null,null,null,null,null,null,null,null,null,null,null,null,null,null,null,null,null,null,null,null,null,null,null,null,"","",null,null,null,null,null,null,null,{"$f":"IFERROR(VLOOKUP('4.Substance-in-Product'!AH472,DSL!B:H,5,FALSE),\"-\")","v":"-"}]
[null,null,null,null,null,null,null,null,null,null,null,null,null,null,null,null,null,null,null,null,null,null,null,null,null,null,null,null,null,null,null,null,null,null,null,null,null,"","",null,null,null,null,null,null,null,{"$f":"IFERROR(VLOOKUP('4.Substance-in-Product'!AH473,DSL!B:H,5,FALSE),\"-\")","v":"-"}]
[null,null,null,null,null,null,null,null,null,null,null,null,null,null,null,null,null,null,null,null,null,null,null,null,null,null,null,null,null,null,null,null,null,null,null,null,null,"","",null,null,null,null,null,null,null,{"$f":"IFERROR(VLOOKUP('4.Substance-in-Product'!AH474,DSL!B:H,5,FALSE),\"-\")","v":"-"}]
[null,null,null,null,null,null,null,null,null,null,null,null,null,null,null,null,null,null,null,null,null,null,null,null,null,null,null,null,null,null,null,null,null,null,null,null,null,"","",null,null,null,null,null,null,null,{"$f":"IFERROR(VLOOKUP('4.Substance-in-Product'!AH475,DSL!B:H,5,FALSE),\"-\")","v":"-"}]
[null,null,null,null,null,null,null,null,null,null,null,null,null,null,null,null,null,null,null,null,null,null,null,null,null,null,null,null,null,null,null,null,null,null,null,null,null,"","",null,null,null,null,null,null,null,{"$f":"IFERROR(VLOOKUP('4.Substance-in-Product'!AH476,DSL!B:H,5,FALSE),\"-\")","v":"-"}]
[null,null,null,null,null,null,null,null,null,null,null,null,null,null,null,null,null,null,null,null,null,null,null,null,null,null,null,null,null,null,null,null,null,null,null,null,null,"","",null,null,null,null,null,null,null,{"$f":"IFERROR(VLOOKUP('4.Substance-in-Product'!AH477,DSL!B:H,5,FALSE),\"-\")","v":"-"}]
[null,null,null,null,null,null,null,null,null,null,null,null,null,null,null,null,null,null,null,null,null,null,null,null,null,null,null,null,null,null,null,null,null,null,null,null,null,"","",null,null,null,null,null,null,null,{"$f":"IFERROR(VLOOKUP('4.Substance-in-Product'!AH478,DSL!B:H,5,FALSE),\"-\")","v":"-"}]
[null,null,null,null,null,null,null,null,null,null,null,null,null,null,null,null,null,null,null,null,null,null,null,null,null,null,null,null,null,null,null,null,null,null,null,null,null,"","",null,null,null,null,null,null,null,{"$f":"IFERROR(VLOOKUP('4.Substance-in-Product'!AH479,DSL!B:H,5,FALSE),\"-\")","v":"-"}]
[null,null,null,null,null,null,null,null,null,null,null,null,null,null,null,null,null,null,null,null,null,null,null,null,null,null,null,null,null,null,null,null,null,null,null,null,null,"","",null,null,null,null,null,null,null,{"$f":"IFERROR(VLOOKUP('4.Substance-in-Product'!AH480,DSL!B:H,5,FALSE),\"-\")","v":"-"}]
[null,null,null,null,null,null,null,null,null,null,null,null,null,null,null,null,null,null,null,null,null,null,null,null,null,null,null,null,null,null,null,null,null,null,null,null,null,"","",null,null,null,null,null,null,null,{"$f":"IFERROR(VLOOKUP('4.Substance-in-Product'!AH481,DSL!B:H,5,FALSE),\"-\")","v":"-"}]
[null,null,null,null,null,null,null,null,null,null,null,null,null,null,null,null,null,null,null,null,null,null,null,null,null,null,null,null,null,null,null,null,null,null,null,null,null,"","",null,null,null,null,null,null,null,{"$f":"IFERROR(VLOOKUP('4.Substance-in-Product'!AH482,DSL!B:H,5,FALSE),\"-\")","v":"-"}]
[null,null,null,null,null,null,null,null,null,null,null,null,null,null,null,null,null,null,null,null,null,null,null,null,null,null,null,null,null,null,null,null,null,null,null,null,null,"","",null,null,null,null,null,null,null,{"$f":"IFERROR(VLOOKUP('4.Substance-in-Product'!AH483,DSL!B:H,5,FALSE),\"-\")","v":"-"}]
[null,null,null,null,null,null,null,null,null,null,null,null,null,null,null,null,null,null,null,null,null,null,null,null,null,null,null,null,null,null,null,null,null,null,null,null,null,"","",null,null,null,null,null,null,null,{"$f":"IFERROR(VLOOKUP('4.Substance-in-Product'!AH484,DSL!B:H,5,FALSE),\"-\")","v":"-"}]
[null,null,null,null,null,null,null,null,null,null,null,null,null,null,null,null,null,null,null,null,null,null,null,null,null,null,null,null,null,null,null,null,null,null,null,null,null,"","",null,null,null,null,null,null,null,{"$f":"IFERROR(VLOOKUP('4.Substance-in-Product'!AH485,DSL!B:H,5,FALSE),\"-\")","v":"-"}]
[null,null,null,null,null,null,null,null,null,null,null,null,null,null,null,null,null,null,null,null,null,null,null,null,null,null,null,null,null,null,null,null,null,null,null,null,null,"","",null,null,null,null,null,null,null,{"$f":"IFERROR(VLOOKUP('4.Substance-in-Product'!AH486,DSL!B:H,5,FALSE),\"-\")","v":"-"}]
[null,null,null,null,null,null,null,null,null,null,null,null,null,null,null,null,null,null,null,null,null,null,null,null,null,null,null,null,null,null,null,null,null,null,null,null,null,"","",null,null,null,null,null,null,null,{"$f":"IFERROR(VLOOKUP('4.Substance-in-Product'!AH487,DSL!B:H,5,FALSE),\"-\")","v":"-"}]
[null,null,null,null,null,null,null,null,null,null,null,null,null,null,null,null,null,null,null,null,null,null,null,null,null,null,null,null,null,null,null,null,null,null,null,null,null,"","",null,null,null,null,null,null,null,{"$f":"IFERROR(VLOOKUP('4.Substance-in-Product'!AH488,DSL!B:H,5,FALSE),\"-\")","v":"-"}]
[null,null,null,null,null,null,null,null,null,null,null,null,null,null,null,null,null,null,null,null,null,null,null,null,null,null,null,null,null,null,null,null,null,null,null,null,null,"","",null,null,null,null,null,null,null,{"$f":"IFERROR(VLOOKUP('4.Substance-in-Product'!AH489,DSL!B:H,5,FALSE),\"-\")","v":"-"}]
[null,null,null,null,null,null,null,null,null,null,null,null,null,null,null,null,null,null,null,null,null,null,null,null,null,null,null,null,null,null,null,null,null,null,null,null,null,"","",null,null,null,null,null,null,null,{"$f":"IFERROR(VLOOKUP('4.Substance-in-Product'!AH490,DSL!B:H,5,FALSE),\"-\")","v":"-"}]
[null,null,null,null,null,null,null,null,null,null,null,null,null,null,null,null,null,null,null,null,null,null,null,null,null,null,null,null,null,null,null,null,null,null,null,null,null,"","",null,null,null,null,null,null,null,{"$f":"IFERROR(VLOOKUP('4.Substance-in-Product'!AH491,DSL!B:H,5,FALSE),\"-\")","v":"-"}]
[null,null,null,null,null,null,null,null,null,null,null,null,null,null,null,null,null,null,null,null,null,null,null,null,null,null,null,null,null,null,null,null,null,null,null,null,null,"","",null,null,null,null,null,null,null,{"$f":"IFERROR(VLOOKUP('4.Substance-in-Product'!AH492,DSL!B:H,5,FALSE),\"-\")","v":"-"}]
[null,null,null,null,null,null,null,null,null,null,null,null,null,null,null,null,null,null,null,null,null,null,null,null,null,null,null,null,null,null,null,null,null,null,null,null,null,"","",null,null,null,null,null,null,null,{"$f":"IFERROR(VLOOKUP('4.Substance-in-Product'!AH493,DSL!B:H,5,FALSE),\"-\")","v":"-"}]
[null,null,null,null,null,null,null,null,null,null,null,null,null,null,null,null,null,null,null,null,null,null,null,null,null,null,null,null,null,null,null,null,null,null,null,null,null,"","",null,null,null,null,null,null,null,{"$f":"IFERROR(VLOOKUP('4.Substance-in-Product'!AH494,DSL!B:H,5,FALSE),\"-\")","v":"-"}]
[null,null,null,null,null,null,null,null,null,null,null,null,null,null,null,null,null,null,null,null,null,null,null,null,null,null,null,null,null,null,null,null,null,null,null,null,null,"","",null,null,null,null,null,null,null,{"$f":"IFERROR(VLOOKUP('4.Substance-in-Product'!AH495,DSL!B:H,5,FALSE),\"-\")","v":"-"}]
[null,null,null,null,null,null,null,null,null,null,null,null,null,null,null,null,null,null,null,null,null,null,null,null,null,null,null,null,null,null,null,null,null,null,null,null,null,"","",null,null,null,null,null,null,null,{"$f":"IFERROR(VLOOKUP('4.Substance-in-Product'!AH496,DSL!B:H,5,FALSE),\"-\")","v":"-"}]
[null,null,null,null,null,null,null,null,null,null,null,null,null,null,null,null,null,null,null,null,null,null,null,null,null,null,null,null,null,null,null,null,null,null,null,null,null,"","",null,null,null,null,null,null,null,{"$f":"IFERROR(VLOOKUP('4.Substance-in-Product'!AH497,DSL!B:H,5,FALSE),\"-\")","v":"-"}]
[null,null,null,null,null,null,null,null,null,null,null,null,null,null,null,null,null,null,null,null,null,null,null,null,null,null,null,null,null,null,null,null,null,null,null,null,null,"","",null,null,null,null,null,null,null,{"$f":"IFERROR(VLOOKUP('4.Substance-in-Product'!AH498,DSL!B:H,5,FALSE),\"-\")","v":"-"}]
[null,null,null,null,null,null,null,null,null,null,null,null,null,null,null,null,null,null,null,null,null,null,null,null,null,null,null,null,null,null,null,null,null,null,null,null,null,"","",null,null,null,null,null,null,null,{"$f":"IFERROR(VLOOKUP('4.Substance-in-Product'!AH499,DSL!B:H,5,FALSE),\"-\")","v":"-"}]
[null,null,null,null,null,null,null,null,null,null,null,null,null,null,null,null,null,null,null,null,null,null,null,null,null,null,null,null,null,null,null,null,null,null,null,null,null,"","",null,null,null,null,null,null,null,{"$f":"IFERROR(VLOOKUP('4.Substance-in-Product'!AH500,DSL!B:H,5,FALSE),\"-\")","v":"-"}]
[null,null,null,null,null,null,null,null,null,null,null,null,null,null,null,null,null,null,null,null,null,null,null,null,null,null,null,null,null,null,null,null,null,null,null,null,null,"","",null,null,null,null,null,null,null,{"$f":"IFERROR(VLOOKUP('4.Substance-in-Product'!AH501,DSL!B:H,5,FALSE),\"-\")","v":"-"}]
[null,null,null,null,null,null,null,null,null,null,null,null,null,null,null,null,null,null,null,null,null,null,null,null,null,null,null,null,null,null,null,null,null,null,null,null,null,"","",null,null,null,null,null,null,null,{"$f":"IFERROR(VLOOKUP('4.Substance-in-Product'!AH502,DSL!B:H,5,FALSE),\"-\")","v":"-"}]
[null,null,null,null,null,null,null,null,null,null,null,null,null,null,null,null,null,null,null,null,null,null,null,null,null,null,null,null,null,null,null,null,null,null,null,null,null,"","",null,null,null,null,null,null,null,{"$f":"IFERROR(VLOOKUP('4.Substance-in-Product'!AH503,DSL!B:H,5,FALSE),\"-\")","v":"-"}]
[null,null,null,null,null,null,null,null,null,null,null,null,null,null,null,null,null,null,null,null,null,null,null,null,null,null,null,null,null,null,null,null,null,null,null,null,null,"","",null,null,null,null,null,null,null,{"$f":"IFERROR(VLOOKUP('4.Substance-in-Product'!AH504,DSL!B:H,5,FALSE),\"-\")","v":"-"}]
[null,null,null,null,null,null,null,null,null,null,null,null,null,null,null,null,null,null,null,null,null,null,null,null,null,null,null,null,null,null,null,null,null,null,null,null,null,"","",null,null,null,null,null,null,null,{"$f":"IFERROR(VLOOKUP('4.Substance-in-Product'!AH505,DSL!B:H,5,FALSE),\"-\")","v":"-"}]
[null,null,null,null,null,null,null,null,null,null,null,null,null,null,null,null,null,null,null,null,null,null,null,null,null,null,null,null,null,null,null,null,null,null,null,null,null,"","",null,null,null,null,null,null,null,{"$f":"IFERROR(VLOOKUP('4.Substance-in-Product'!AH506,DSL!B:H,5,FALSE),\"-\")","v":"-"}]
[null,null,null,null,null,null,null,null,null,null,null,null,null,null,null,null,null,null,null,null,null,null,null,null,null,null,null,null,null,null,null,null,null,null,null,null,null,"","",null,null,null,null,null,null,null,{"$f":"IFERROR(VLOOKUP('4.Substance-in-Product'!AH507,DSL!B:H,5,FALSE),\"-\")","v":"-"}]
[null,null,null,null,null,null,null,null,null,null,null,null,null,null,null,null,null,null,null,null,null,null,null,null,null,null,null,null,null,null,null,null,null,null,null,null,null,"","",null,null,null,null,null,null,null,{"$f":"IFERROR(VLOOKUP('4.Substance-in-Product'!AH508,DSL!B:H,5,FALSE),\"-\")","v":"-"}]
[null,null,null,null,null,null,null,null,null,null,null,null,null,null,null,null,null,null,null,null,null,null,null,null,null,null,null,null,null,null,null,null,null,null,null,null,null,"","",null,null,null,null,null,null,null,{"$f":"IFERROR(VLOOKUP('4.Substance-in-Product'!AH509,DSL!B:H,5,FALSE),\"-\")","v":"-"}]
[null,null,null,null,null,null,null,null,null,null,null,null,null,null,null,null,null,null,null,null,null,null,null,null,null,null,null,null,null,null,null,null,null,null,null,null,null,"","",null,null,null,null,null,null,null,{"$f":"IFERROR(VLOOKUP('4.Substance-in-Product'!AH510,DSL!B:H,5,FALSE),\"-\")","v":"-"}]
[null,null,null,null,null,null,null,null,null,null,null,null,null,null,null,null,null,null,null,null,null,null,null,null,null,null,null,null,null,null,null,null,null,null,null,null,null,"","",null,null,null,null,null,null,null,{"$f":"IFERROR(VLOOKUP('4.Substance-in-Product'!AH511,DSL!B:H,5,FALSE),\"-\")","v":"-"}]
[null,null,null,null,null,null,null,null,null,null,null,null,null,null,null,null,null,null,null,null,null,null,null,null,null,null,null,null,null,null,null,null,null,null,null,null,null,"","",null,null,null,null,null,null,null,{"$f":"IFERROR(VLOOKUP('4.Substance-in-Product'!AH512,DSL!B:H,5,FALSE),\"-\")","v":"-"}]
[null,null,null,null,null,null,null,null,null,null,null,null,null,null,null,null,null,null,null,null,null,null,null,null,null,null,null,null,null,null,null,null,null,null,null,null,null,"","",null,null,null,null,null,null,null,{"$f":"IFERROR(VLOOKUP('4.Substance-in-Product'!AH513,DSL!B:H,5,FALSE),\"-\")","v":"-"}]
[null,null,null,null,null,null,null,null,null,null,null,null,null,null,null,null,null,null,null,null,null,null,null,null,null,null,null,null,null,null,null,null,null,null,null,null,null,"","",null,null,null,null,null,null,null,{"$f":"IFERROR(VLOOKUP('4.Substance-in-Product'!AH514,DSL!B:H,5,FALSE),\"-\")","v":"-"}]
[null,null,null,null,null,null,null,null,null,null,null,null,null,null,null,null,null,null,null,null,null,null,null,null,null,null,null,null,null,null,null,null,null,null,null,null,null,"","",null,null,null,null,null,null,null,{"$f":"IFERROR(VLOOKUP('4.Substance-in-Product'!AH515,DSL!B:H,5,FALSE),\"-\")","v":"-"}]
[null,null,null,null,null,null,null,null,null,null,null,null,null,null,null,null,null,null,null,null,null,null,null,null,null,null,null,null,null,null,null,null,null,null,null,null,null,"","",null,null,null,null,null,null,null,{"$f":"IFERROR(VLOOKUP('4.Substance-in-Product'!AH516,DSL!B:H,5,FALSE),\"-\")","v":"-"}]
[null,null,null,null,null,null,null,null,null,null,null,null,null,null,null,null,null,null,null,null,null,null,null,null,null,null,null,null,null,null,null,null,null,null,null,null,null,"","",null,null,null,null,null,null,null,{"$f":"IFERROR(VLOOKUP('4.Substance-in-Product'!AH517,DSL!B:H,5,FALSE),\"-\")","v":"-"}]
[null,null,null,null,null,null,null,null,null,null,null,null,null,null,null,null,null,null,null,null,null,null,null,null,null,null,null,null,null,null,null,null,null,null,null,null,null,"","",null,null,null,null,null,null,null,{"$f":"IFERROR(VLOOKUP('4.Substance-in-Product'!AH518,DSL!B:H,5,FALSE),\"-\")","v":"-"}]
[null,null,null,null,null,null,null,null,null,null,null,null,null,null,null,null,null,null,null,null,null,null,null,null,null,null,null,null,null,null,null,null,null,null,null,null,null,"","",null,null,null,null,null,null,null,{"$f":"IFERROR(VLOOKUP('4.Substance-in-Product'!AH519,DSL!B:H,5,FALSE),\"-\")","v":"-"}]
[null,null,null,null,null,null,null,null,null,null,null,null,null,null,null,null,null,null,null,null,null,null,null,null,null,null,null,null,null,null,null,null,null,null,null,null,null,"","",null,null,null,null,null,null,null,{"$f":"IFERROR(VLOOKUP('4.Substance-in-Product'!AH520,DSL!B:H,5,FALSE),\"-\")","v":"-"}]
[null,null,null,null,null,null,null,null,null,null,null,null,null,null,null,null,null,null,null,null,null,null,null,null,null,null,null,null,null,null,null,null,null,null,null,null,null,"","",null,null,null,null,null,null,null,{"$f":"IFERROR(VLOOKUP('4.Substance-in-Product'!AH521,DSL!B:H,5,FALSE),\"-\")","v":"-"}]
[null,null,null,null,null,null,null,null,null,null,null,null,null,null,null,null,null,null,null,null,null,null,null,null,null,null,null,null,null,null,null,null,null,null,null,null,null,"","",null,null,null,null,null,null,null,{"$f":"IFERROR(VLOOKUP('4.Substance-in-Product'!AH522,DSL!B:H,5,FALSE),\"-\")","v":"-"}]
[null,null,null,null,null,null,null,null,null,null,null,null,null,null,null,null,null,null,null,null,null,null,null,null,null,null,null,null,null,null,null,null,null,null,null,null,null,"","",null,null,null,null,null,null,null,{"$f":"IFERROR(VLOOKUP('4.Substance-in-Product'!AH523,DSL!B:H,5,FALSE),\"-\")","v":"-"}]
[null,null,null,null,null,null,null,null,null,null,null,null,null,null,null,null,null,null,null,null,null,null,null,null,null,null,null,null,null,null,null,null,null,null,null,null,null,"","",null,null,null,null,null,null,null,{"$f":"IFERROR(VLOOKUP('4.Substance-in-Product'!AH524,DSL!B:H,5,FALSE),\"-\")","v":"-"}]
[null,null,null,null,null,null,null,null,null,null,null,null,null,null,null,null,null,null,null,null,null,null,null,null,null,null,null,null,null,null,null,null,null,null,null,null,null,"","",null,null,null,null,null,null,null,{"$f":"IFERROR(VLOOKUP('4.Substance-in-Product'!AH525,DSL!B:H,5,FALSE),\"-\")","v":"-"}]
[null,null,null,null,null,null,null,null,null,null,null,null,null,null,null,null,null,null,null,null,null,null,null,null,null,null,null,null,null,null,null,null,null,null,null,null,null,"","",null,null,null,null,null,null,null,{"$f":"IFERROR(VLOOKUP('4.Substance-in-Product'!AH526,DSL!B:H,5,FALSE),\"-\")","v":"-"}]
[null,null,null,null,null,null,null,null,null,null,null,null,null,null,null,null,null,null,null,null,null,null,null,null,null,null,null,null,null,null,null,null,null,null,null,null,null,"","",null,null,null,null,null,null,null,{"$f":"IFERROR(VLOOKUP('4.Substance-in-Product'!AH527,DSL!B:H,5,FALSE),\"-\")","v":"-"}]
[null,null,null,null,null,null,null,null,null,null,null,null,null,null,null,null,null,null,null,null,null,null,null,null,null,null,null,null,null,null,null,null,null,null,null,null,null,"","",null,null,null,null,null,null,null,{"$f":"IFERROR(VLOOKUP('4.Substance-in-Product'!AH528,DSL!B:H,5,FALSE),\"-\")","v":"-"}]
[null,null,null,null,null,null,null,null,null,null,null,null,null,null,null,null,null,null,null,null,null,null,null,null,null,null,null,null,null,null,null,null,null,null,null,null,null,"","",null,null,null,null,null,null,null,{"$f":"IFERROR(VLOOKUP('4.Substance-in-Product'!AH529,DSL!B:H,5,FALSE),\"-\")","v":"-"}]
[null,null,null,null,null,null,null,null,null,null,null,null,null,null,null,null,null,null,null,null,null,null,null,null,null,null,null,null,null,null,null,null,null,null,null,null,null,"","",null,null,null,null,null,null,null,{"$f":"IFERROR(VLOOKUP('4.Substance-in-Product'!AH530,DSL!B:H,5,FALSE),\"-\")","v":"-"}]
[null,null,null,null,null,null,null,null,null,null,null,null,null,null,null,null,null,null,null,null,null,null,null,null,null,null,null,null,null,null,null,null,null,null,null,null,null,"","",null,null,null,null,null,null,null,{"$f":"IFERROR(VLOOKUP('4.Substance-in-Product'!AH531,DSL!B:H,5,FALSE),\"-\")","v":"-"}]
[null,null,null,null,null,null,null,null,null,null,null,null,null,null,null,null,null,null,null,null,null,null,null,null,null,null,null,null,null,null,null,null,null,null,null,null,null,"","",null,null,null,null,null,null,null,{"$f":"IFERROR(VLOOKUP('4.Substance-in-Product'!AH532,DSL!B:H,5,FALSE),\"-\")","v":"-"}]
[null,null,null,null,null,null,null,null,null,null,null,null,null,null,null,null,null,null,null,null,null,null,null,null,null,null,null,null,null,null,null,null,null,null,null,null,null,"","",null,null,null,null,null,null,null,{"$f":"IFERROR(VLOOKUP('4.Substance-in-Product'!AH533,DSL!B:H,5,FALSE),\"-\")","v":"-"}]
[null,null,null,null,null,null,null,null,null,null,null,null,null,null,null,null,null,null,null,null,null,null,null,null,null,null,null,null,null,null,null,null,null,null,null,null,null,"","",null,null,null,null,null,null,null,{"$f":"IFERROR(VLOOKUP('4.Substance-in-Product'!AH534,DSL!B:H,5,FALSE),\"-\")","v":"-"}]
[null,null,null,null,null,null,null,null,null,null,null,null,null,null,null,null,null,null,null,null,null,null,null,null,null,null,null,null,null,null,null,null,null,null,null,null,null,"","",null,null,null,null,null,null,null,{"$f":"IFERROR(VLOOKUP('4.Substance-in-Product'!AH535,DSL!B:H,5,FALSE),\"-\")","v":"-"}]
[null,null,null,null,null,null,null,null,null,null,null,null,null,null,null,null,null,null,null,null,null,null,null,null,null,null,null,null,null,null,null,null,null,null,null,null,null,"","",null,null,null,null,null,null,null,{"$f":"IFERROR(VLOOKUP('4.Substance-in-Product'!AH536,DSL!B:H,5,FALSE),\"-\")","v":"-"}]
[null,null,null,null,null,null,null,null,null,null,null,null,null,null,null,null,null,null,null,null,null,null,null,null,null,null,null,null,null,null,null,null,null,null,null,null,null,"","",null,null,null,null,null,null,null,{"$f":"IFERROR(VLOOKUP('4.Substance-in-Product'!AH537,DSL!B:H,5,FALSE),\"-\")","v":"-"}]
[null,null,null,null,null,null,null,null,null,null,null,null,null,null,null,null,null,null,null,null,null,null,null,null,null,null,null,null,null,null,null,null,null,null,null,null,null,"","",null,null,null,null,null,null,null,{"$f":"IFERROR(VLOOKUP('4.Substance-in-Product'!AH538,DSL!B:H,5,FALSE),\"-\")","v":"-"}]
[null,null,null,null,null,null,null,null,null,null,null,null,null,null,null,null,null,null,null,null,null,null,null,null,null,null,null,null,null,null,null,null,null,null,null,null,null,"","",null,null,null,null,null,null,null,{"$f":"IFERROR(VLOOKUP('4.Substance-in-Product'!AH539,DSL!B:H,5,FALSE),\"-\")","v":"-"}]
[null,null,null,null,null,null,null,null,null,null,null,null,null,null,null,null,null,null,null,null,null,null,null,null,null,null,null,null,null,null,null,null,null,null,null,null,null,"","",null,null,null,null,null,null,null,{"$f":"IFERROR(VLOOKUP('4.Substance-in-Product'!AH540,DSL!B:H,5,FALSE),\"-\")","v":"-"}]
[null,null,null,null,null,null,null,null,null,null,null,null,null,null,null,null,null,null,null,null,null,null,null,null,null,null,null,null,null,null,null,null,null,null,null,null,null,"","",null,null,null,null,null,null,null,{"$f":"IFERROR(VLOOKUP('4.Substance-in-Product'!AH541,DSL!B:H,5,FALSE),\"-\")","v":"-"}]
[null,null,null,null,null,null,null,null,null,null,null,null,null,null,null,null,null,null,null,null,null,null,null,null,null,null,null,null,null,null,null,null,null,null,null,null,null,"","",null,null,null,null,null,null,null,{"$f":"IFERROR(VLOOKUP('4.Substance-in-Product'!AH542,DSL!B:H,5,FALSE),\"-\")","v":"-"}]
[null,null,null,null,null,null,null,null,null,null,null,null,null,null,null,null,null,null,null,null,null,null,null,null,null,null,null,null,null,null,null,null,null,null,null,null,null,"","",null,null,null,null,null,null,null,{"$f":"IFERROR(VLOOKUP('4.Substance-in-Product'!AH543,DSL!B:H,5,FALSE),\"-\")","v":"-"}]
[null,null,null,null,null,null,null,null,null,null,null,null,null,null,null,null,null,null,null,null,null,null,null,null,null,null,null,null,null,null,null,null,null,null,null,null,null,"","",null,null,null,null,null,null,null,{"$f":"IFERROR(VLOOKUP('4.Substance-in-Product'!AH544,DSL!B:H,5,FALSE),\"-\")","v":"-"}]
[null,null,null,null,null,null,null,null,null,null,null,null,null,null,null,null,null,null,null,null,null,null,null,null,null,null,null,null,null,null,null,null,null,null,null,null,null,"","",null,null,null,null,null,null,null,{"$f":"IFERROR(VLOOKUP('4.Substance-in-Product'!AH545,DSL!B:H,5,FALSE),\"-\")","v":"-"}]
[null,null,null,null,null,null,null,null,null,null,null,null,null,null,null,null,null,null,null,null,null,null,null,null,null,null,null,null,null,null,null,null,null,null,null,null,null,"","",null,null,null,null,null,null,null,{"$f":"IFERROR(VLOOKUP('4.Substance-in-Product'!AH546,DSL!B:H,5,FALSE),\"-\")","v":"-"}]
[null,null,null,null,null,null,null,null,null,null,null,null,null,null,null,null,null,null,null,null,null,null,null,null,null,null,null,null,null,null,null,null,null,null,null,null,null,"","",null,null,null,null,null,null,null,{"$f":"IFERROR(VLOOKUP('4.Substance-in-Product'!AH547,DSL!B:H,5,FALSE),\"-\")","v":"-"}]
[null,null,null,null,null,null,null,null,null,null,null,null,null,null,null,null,null,null,null,null,null,null,null,null,null,null,null,null,null,null,null,null,null,null,null,null,null,"","",null,null,null,null,null,null,null,{"$f":"IFERROR(VLOOKUP('4.Substance-in-Product'!AH548,DSL!B:H,5,FALSE),\"-\")","v":"-"}]
[null,null,null,null,null,null,null,null,null,null,null,null,null,null,null,null,null,null,null,null,null,null,null,null,null,null,null,null,null,null,null,null,null,null,null,null,null,"","",null,null,null,null,null,null,null,{"$f":"IFERROR(VLOOKUP('4.Substance-in-Product'!AH549,DSL!B:H,5,FALSE),\"-\")","v":"-"}]
[null,null,null,null,null,null,null,null,null,null,null,null,null,null,null,null,null,null,null,null,null,null,null,null,null,null,null,null,null,null,null,null,null,null,null,null,null,"","",null,null,null,null,null,null,null,{"$f":"IFERROR(VLOOKUP('4.Substance-in-Product'!AH550,DSL!B:H,5,FALSE),\"-\")","v":"-"}]
[null,null,null,null,null,null,null,null,null,null,null,null,null,null,null,null,null,null,null,null,null,null,null,null,null,null,null,null,null,null,null,null,null,null,null,null,null,"","",null,null,null,null,null,null,null,{"$f":"IFERROR(VLOOKUP('4.Substance-in-Product'!AH551,DSL!B:H,5,FALSE),\"-\")","v":"-"}]
[null,null,null,null,null,null,null,null,null,null,null,null,null,null,null,null,null,null,null,null,null,null,null,null,null,null,null,null,null,null,null,null,null,null,null,null,null,"","",null,null,null,null,null,null,null,{"$f":"IFERROR(VLOOKUP('4.Substance-in-Product'!AH552,DSL!B:H,5,FALSE),\"-\")","v":"-"}]
[null,null,null,null,null,null,null,null,null,null,null,null,null,null,null,null,null,null,null,null,null,null,null,null,null,null,null,null,null,null,null,null,null,null,null,null,null,"","",null,null,null,null,null,null,null,{"$f":"IFERROR(VLOOKUP('4.Substance-in-Product'!AH553,DSL!B:H,5,FALSE),\"-\")","v":"-"}]
[null,null,null,null,null,null,null,null,null,null,null,null,null,null,null,null,null,null,null,null,null,null,null,null,null,null,null,null,null,null,null,null,null,null,null,null,null,"","",null,null,null,null,null,null,null,{"$f":"IFERROR(VLOOKUP('4.Substance-in-Product'!AH554,DSL!B:H,5,FALSE),\"-\")","v":"-"}]
[null,null,null,null,null,null,null,null,null,null,null,null,null,null,null,null,null,null,null,null,null,null,null,null,null,null,null,null,null,null,null,null,null,null,null,null,null,"","",null,null,null,null,null,null,null,{"$f":"IFERROR(VLOOKUP('4.Substance-in-Product'!AH555,DSL!B:H,5,FALSE),\"-\")","v":"-"}]
[null,null,null,null,null,null,null,null,null,null,null,null,null,null,null,null,null,null,null,null,null,null,null,null,null,null,null,null,null,null,null,null,null,null,null,null,null,"","",null,null,null,null,null,null,null,{"$f":"IFERROR(VLOOKUP('4.Substance-in-Product'!AH556,DSL!B:H,5,FALSE),\"-\")","v":"-"}]
[null,null,null,null,null,null,null,null,null,null,null,null,null,null,null,null,null,null,null,null,null,null,null,null,null,null,null,null,null,null,null,null,null,null,null,null,null,"","",null,null,null,null,null,null,null,{"$f":"IFERROR(VLOOKUP('4.Substance-in-Product'!AH557,DSL!B:H,5,FALSE),\"-\")","v":"-"}]
[null,null,null,null,null,null,null,null,null,null,null,null,null,null,null,null,null,null,null,null,null,null,null,null,null,null,null,null,null,null,null,null,null,null,null,null,null,"","",null,null,null,null,null,null,null,{"$f":"IFERROR(VLOOKUP('4.Substance-in-Product'!AH558,DSL!B:H,5,FALSE),\"-\")","v":"-"}]
[null,null,null,null,null,null,null,null,null,null,null,null,null,null,null,null,null,null,null,null,null,null,null,null,null,null,null,null,null,null,null,null,null,null,null,null,null,"","",null,null,null,null,null,null,null,{"$f":"IFERROR(VLOOKUP('4.Substance-in-Product'!AH559,DSL!B:H,5,FALSE),\"-\")","v":"-"}]
[null,null,null,null,null,null,null,null,null,null,null,null,null,null,null,null,null,null,null,null,null,null,null,null,null,null,null,null,null,null,null,null,null,null,null,null,null,"","",null,null,null,null,null,null,null,{"$f":"IFERROR(VLOOKUP('4.Substance-in-Product'!AH560,DSL!B:H,5,FALSE),\"-\")","v":"-"}]
[null,null,null,null,null,null,null,null,null,null,null,null,null,null,null,null,null,null,null,null,null,null,null,null,null,null,null,null,null,null,null,null,null,null,null,null,null,"","",null,null,null,null,null,null,null,{"$f":"IFERROR(VLOOKUP('4.Substance-in-Product'!AH561,DSL!B:H,5,FALSE),\"-\")","v":"-"}]
[null,null,null,null,null,null,null,null,null,null,null,null,null,null,null,null,null,null,null,null,null,null,null,null,null,null,null,null,null,null,null,null,null,null,null,null,null,"","",null,null,null,null,null,null,null,{"$f":"IFERROR(VLOOKUP('4.Substance-in-Product'!AH562,DSL!B:H,5,FALSE),\"-\")","v":"-"}]
[null,null,null,null,null,null,null,null,null,null,null,null,null,null,null,null,null,null,null,null,null,null,null,null,null,null,null,null,null,null,null,null,null,null,null,null,null,"","",null,null,null,null,null,null,null,{"$f":"IFERROR(VLOOKUP('4.Substance-in-Product'!AH563,DSL!B:H,5,FALSE),\"-\")","v":"-"}]
[null,null,null,null,null,null,null,null,null,null,null,null,null,null,null,null,null,null,null,null,null,null,null,null,null,null,null,null,null,null,null,null,null,null,null,null,null,"","",null,null,null,null,null,null,null,{"$f":"IFERROR(VLOOKUP('4.Substance-in-Product'!AH564,DSL!B:H,5,FALSE),\"-\")","v":"-"}]
[null,null,null,null,null,null,null,null,null,null,null,null,null,null,null,null,null,null,null,null,null,null,null,null,null,null,null,null,null,null,null,null,null,null,null,null,null,"","",null,null,null,null,null,null,null,{"$f":"IFERROR(VLOOKUP('4.Substance-in-Product'!AH565,DSL!B:H,5,FALSE),\"-\")","v":"-"}]
[null,null,null,null,null,null,null,null,null,null,null,null,null,null,null,null,null,null,null,null,null,null,null,null,null,null,null,null,null,null,null,null,null,null,null,null,null,"","",null,null,null,null,null,null,null,{"$f":"IFERROR(VLOOKUP('4.Substance-in-Product'!AH566,DSL!B:H,5,FALSE),\"-\")","v":"-"}]
[null,null,null,null,null,null,null,null,null,null,null,null,null,null,null,null,null,null,null,null,null,null,null,null,null,null,null,null,null,null,null,null,null,null,null,null,null,"","",null,null,null,null,null,null,null,{"$f":"IFERROR(VLOOKUP('4.Substance-in-Product'!AH567,DSL!B:H,5,FALSE),\"-\")","v":"-"}]
[null,null,null,null,null,null,null,null,null,null,null,null,null,null,null,null,null,null,null,null,null,null,null,null,null,null,null,null,null,null,null,null,null,null,null,null,null,"","",null,null,null,null,null,null,null,{"$f":"IFERROR(VLOOKUP('4.Substance-in-Product'!AH568,DSL!B:H,5,FALSE),\"-\")","v":"-"}]
[null,null,null,null,null,null,null,null,null,null,null,null,null,null,null,null,null,null,null,null,null,null,null,null,null,null,null,null,null,null,null,null,null,null,null,null,null,"","",null,null,null,null,null,null,null,{"$f":"IFERROR(VLOOKUP('4.Substance-in-Product'!AH569,DSL!B:H,5,FALSE),\"-\")","v":"-"}]
[null,null,null,null,null,null,null,null,null,null,null,null,null,null,null,null,null,null,null,null,null,null,null,null,null,null,null,null,null,null,null,null,null,null,null,null,null,"","",null,null,null,null,null,null,null,{"$f":"IFERROR(VLOOKUP('4.Substance-in-Product'!AH570,DSL!B:H,5,FALSE),\"-\")","v":"-"}]
[null,null,null,null,null,null,null,null,null,null,null,null,null,null,null,null,null,null,null,null,null,null,null,null,null,null,null,null,null,null,null,null,null,null,null,null,null,"","",null,null,null,null,null,null,null,{"$f":"IFERROR(VLOOKUP('4.Substance-in-Product'!AH571,DSL!B:H,5,FALSE),\"-\")","v":"-"}]
[null,null,null,null,null,null,null,null,null,null,null,null,null,null,null,null,null,null,null,null,null,null,null,null,null,null,null,null,null,null,null,null,null,null,null,null,null,"","",null,null,null,null,null,null,null,{"$f":"IFERROR(VLOOKUP('4.Substance-in-Product'!AH572,DSL!B:H,5,FALSE),\"-\")","v":"-"}]
[null,null,null,null,null,null,null,null,null,null,null,null,null,null,null,null,null,null,null,null,null,null,null,null,null,null,null,null,null,null,null,null,null,null,null,null,null,"","",null,null,null,null,null,null,null,{"$f":"IFERROR(VLOOKUP('4.Substance-in-Product'!AH573,DSL!B:H,5,FALSE),\"-\")","v":"-"}]
[null,null,null,null,null,null,null,null,null,null,null,null,null,null,null,null,null,null,null,null,null,null,null,null,null,null,null,null,null,null,null,null,null,null,null,null,null,"","",null,null,null,null,null,null,null,{"$f":"IFERROR(VLOOKUP('4.Substance-in-Product'!AH574,DSL!B:H,5,FALSE),\"-\")","v":"-"}]
[null,null,null,null,null,null,null,null,null,null,null,null,null,null,null,null,null,null,null,null,null,null,null,null,null,null,null,null,null,null,null,null,null,null,null,null,null,"","",null,null,null,null,null,null,null,{"$f":"IFERROR(VLOOKUP('4.Substance-in-Product'!AH575,DSL!B:H,5,FALSE),\"-\")","v":"-"}]
[null,null,null,null,null,null,null,null,null,null,null,null,null,null,null,null,null,null,null,null,null,null,null,null,null,null,null,null,null,null,null,null,null,null,null,null,null,"","",null,null,null,null,null,null,null,{"$f":"IFERROR(VLOOKUP('4.Substance-in-Product'!AH576,DSL!B:H,5,FALSE),\"-\")","v":"-"}]
[null,null,null,null,null,null,null,null,null,null,null,null,null,null,null,null,null,null,null,null,null,null,null,null,null,null,null,null,null,null,null,null,null,null,null,null,null,"","",null,null,null,null,null,null,null,{"$f":"IFERROR(VLOOKUP('4.Substance-in-Product'!AH577,DSL!B:H,5,FALSE),\"-\")","v":"-"}]
[null,null,null,null,null,null,null,null,null,null,null,null,null,null,null,null,null,null,null,null,null,null,null,null,null,null,null,null,null,null,null,null,null,null,null,null,null,"","",null,null,null,null,null,null,null,{"$f":"IFERROR(VLOOKUP('4.Substance-in-Product'!AH578,DSL!B:H,5,FALSE),\"-\")","v":"-"}]
[null,null,null,null,null,null,null,null,null,null,null,null,null,null,null,null,null,null,null,null,null,null,null,null,null,null,null,null,null,null,null,null,null,null,null,null,null,"","",null,null,null,null,null,null,null,{"$f":"IFERROR(VLOOKUP('4.Substance-in-Product'!AH579,DSL!B:H,5,FALSE),\"-\")","v":"-"}]
[null,null,null,null,null,null,null,null,null,null,null,null,null,null,null,null,null,null,null,null,null,null,null,null,null,null,null,null,null,null,null,null,null,null,null,null,null,"","",null,null,null,null,null,null,null,{"$f":"IFERROR(VLOOKUP('4.Substance-in-Product'!AH580,DSL!B:H,5,FALSE),\"-\")","v":"-"}]
[null,null,null,null,null,null,null,null,null,null,null,null,null,null,null,null,null,null,null,null,null,null,null,null,null,null,null,null,null,null,null,null,null,null,null,null,null,"","",null,null,null,null,null,null,null,{"$f":"IFERROR(VLOOKUP('4.Substance-in-Product'!AH581,DSL!B:H,5,FALSE),\"-\")","v":"-"}]
[null,null,null,null,null,null,null,null,null,null,null,null,null,null,null,null,null,null,null,null,null,null,null,null,null,null,null,null,null,null,null,null,null,null,null,null,null,"","",null,null,null,null,null,null,null,{"$f":"IFERROR(VLOOKUP('4.Substance-in-Product'!AH582,DSL!B:H,5,FALSE),\"-\")","v":"-"}]
[null,null,null,null,null,null,null,null,null,null,null,null,null,null,null,null,null,null,null,null,null,null,null,null,null,null,null,null,null,null,null,null,null,null,null,null,null,"","",null,null,null,null,null,null,null,{"$f":"IFERROR(VLOOKUP('4.Substance-in-Product'!AH583,DSL!B:H,5,FALSE),\"-\")","v":"-"}]
[null,null,null,null,null,null,null,null,null,null,null,null,null,null,null,null,null,null,null,null,null,null,null,null,null,null,null,null,null,null,null,null,null,null,null,null,null,"","",null,null,null,null,null,null,null,{"$f":"IFERROR(VLOOKUP('4.Substance-in-Product'!AH584,DSL!B:H,5,FALSE),\"-\")","v":"-"}]
[null,null,null,null,null,null,null,null,null,null,null,null,null,null,null,null,null,null,null,null,null,null,null,null,null,null,null,null,null,null,null,null,null,null,null,null,null,"","",null,null,null,null,null,null,null,{"$f":"IFERROR(VLOOKUP('4.Substance-in-Product'!AH585,DSL!B:H,5,FALSE),\"-\")","v":"-"}]
[null,null,null,null,null,null,null,null,null,null,null,null,null,null,null,null,null,null,null,null,null,null,null,null,null,null,null,null,null,null,null,null,null,null,null,null,null,"","",null,null,null,null,null,null,null,{"$f":"IFERROR(VLOOKUP('4.Substance-in-Product'!AH586,DSL!B:H,5,FALSE),\"-\")","v":"-"}]
[null,null,null,null,null,null,null,null,null,null,null,null,null,null,null,null,null,null,null,null,null,null,null,null,null,null,null,null,null,null,null,null,null,null,null,null,null,"","",null,null,null,null,null,null,null,{"$f":"IFERROR(VLOOKUP('4.Substance-in-Product'!AH587,DSL!B:H,5,FALSE),\"-\")","v":"-"}]
[null,null,null,null,null,null,null,null,null,null,null,null,null,null,null,null,null,null,null,null,null,null,null,null,null,null,null,null,null,null,null,null,null,null,null,null,null,"","",null,null,null,null,null,null,null,{"$f":"IFERROR(VLOOKUP('4.Substance-in-Product'!AH588,DSL!B:H,5,FALSE),\"-\")","v":"-"}]
[null,null,null,null,null,null,null,null,null,null,null,null,null,null,null,null,null,null,null,null,null,null,null,null,null,null,null,null,null,null,null,null,null,null,null,null,null,"","",null,null,null,null,null,null,null,{"$f":"IFERROR(VLOOKUP('4.Substance-in-Product'!AH589,DSL!B:H,5,FALSE),\"-\")","v":"-"}]
[null,null,null,null,null,null,null,null,null,null,null,null,null,null,null,null,null,null,null,null,null,null,null,null,null,null,null,null,null,null,null,null,null,null,null,null,null,"","",null,null,null,null,null,null,null,{"$f":"IFERROR(VLOOKUP('4.Substance-in-Product'!AH590,DSL!B:H,5,FALSE),\"-\")","v":"-"}]
[null,null,null,null,null,null,null,null,null,null,null,null,null,null,null,null,null,null,null,null,null,null,null,null,null,null,null,null,null,null,null,null,null,null,null,null,null,"","",null,null,null,null,null,null,null,{"$f":"IFERROR(VLOOKUP('4.Substance-in-Product'!AH591,DSL!B:H,5,FALSE),\"-\")","v":"-"}]
[null,null,null,null,null,null,null,null,null,null,null,null,null,null,null,null,null,null,null,null,null,null,null,null,null,null,null,null,null,null,null,null,null,null,null,null,null,"","",null,null,null,null,null,null,null,{"$f":"IFERROR(VLOOKUP('4.Substance-in-Product'!AH592,DSL!B:H,5,FALSE),\"-\")","v":"-"}]
[null,null,null,null,null,null,null,null,null,null,null,null,null,null,null,null,null,null,null,null,null,null,null,null,null,null,null,null,null,null,null,null,null,null,null,null,null,"","",null,null,null,null,null,null,null,{"$f":"IFERROR(VLOOKUP('4.Substance-in-Product'!AH593,DSL!B:H,5,FALSE),\"-\")","v":"-"}]
[null,null,null,null,null,null,null,null,null,null,null,null,null,null,null,null,null,null,null,null,null,null,null,null,null,null,null,null,null,null,null,null,null,null,null,null,null,"","",null,null,null,null,null,null,null,{"$f":"IFERROR(VLOOKUP('4.Substance-in-Product'!AH594,DSL!B:H,5,FALSE),\"-\")","v":"-"}]
[null,null,null,null,null,null,null,null,null,null,null,null,null,null,null,null,null,null,null,null,null,null,null,null,null,null,null,null,null,null,null,null,null,null,null,null,null,"","",null,null,null,null,null,null,null,{"$f":"IFERROR(VLOOKUP('4.Substance-in-Product'!AH595,DSL!B:H,5,FALSE),\"-\")","v":"-"}]
[null,null,null,null,null,null,null,null,null,null,null,null,null,null,null,null,null,null,null,null,null,null,null,null,null,null,null,null,null,null,null,null,null,null,null,null,null,"","",null,null,null,null,null,null,null,{"$f":"IFERROR(VLOOKUP('4.Substance-in-Product'!AH596,DSL!B:H,5,FALSE),\"-\")","v":"-"}]
[null,null,null,null,null,null,null,null,null,null,null,null,null,null,null,null,null,null,null,null,null,null,null,null,null,null,null,null,null,null,null,null,null,null,null,null,null,"","",null,null,null,null,null,null,null,{"$f":"IFERROR(VLOOKUP('4.Substance-in-Product'!AH597,DSL!B:H,5,FALSE),\"-\")","v":"-"}]
[null,null,null,null,null,null,null,null,null,null,null,null,null,null,null,null,null,null,null,null,null,null,null,null,null,null,null,null,null,null,null,null,null,null,null,null,null,"","",null,null,null,null,null,null,null,{"$f":"IFERROR(VLOOKUP('4.Substance-in-Product'!AH598,DSL!B:H,5,FALSE),\"-\")","v":"-"}]
[null,null,null,null,null,null,null,null,null,null,null,null,null,null,null,null,null,null,null,null,null,null,null,null,null,null,null,null,null,null,null,null,null,null,null,null,null,"","",null,null,null,null,null,null,null,{"$f":"IFERROR(VLOOKUP('4.Substance-in-Product'!AH599,DSL!B:H,5,FALSE),\"-\")","v":"-"}]
[null,null,null,null,null,null,null,null,null,null,null,null,null,null,null,null,null,null,null,null,null,null,null,null,null,null,null,null,null,null,null,null,null,null,null,null,null,"","",null,null,null,null,null,null,null,{"$f":"IFERROR(VLOOKUP('4.Substance-in-Product'!AH600,DSL!B:H,5,FALSE),\"-\")","v":"-"}]
[null,null,null,null,null,null,null,null,null,null,null,null,null,null,null,null,null,null,null,null,null,null,null,null,null,null,null,null,null,null,null,null,null,null,null,null,null,"","",null,null,null,null,null,null,null,{"$f":"IFERROR(VLOOKUP('4.Substance-in-Product'!AH601,DSL!B:H,5,FALSE),\"-\")","v":"-"}]
[null,null,null,null,null,null,null,null,null,null,null,null,null,null,null,null,null,null,null,null,null,null,null,null,null,null,null,null,null,null,null,null,null,null,null,null,null,"","",null,null,null,null,null,null,null,{"$f":"IFERROR(VLOOKUP('4.Substance-in-Product'!AH602,DSL!B:H,5,FALSE),\"-\")","v":"-"}]
[null,null,null,null,null,null,null,null,null,null,null,null,null,null,null,null,null,null,null,null,null,null,null,null,null,null,null,null,null,null,null,null,null,null,null,null,null,"","",null,null,null,null,null,null,null,{"$f":"IFERROR(VLOOKUP('4.Substance-in-Product'!AH603,DSL!B:H,5,FALSE),\"-\")","v":"-"}]
[null,null,null,null,null,null,null,null,null,null,null,null,null,null,null,null,null,null,null,null,null,null,null,null,null,null,null,null,null,null,null,null,null,null,null,null,null,"","",null,null,null,null,null,null,null,{"$f":"IFERROR(VLOOKUP('4.Substance-in-Product'!AH604,DSL!B:H,5,FALSE),\"-\")","v":"-"}]
[null,null,null,null,null,null,null,null,null,null,null,null,null,null,null,null,null,null,null,null,null,null,null,null,null,null,null,null,null,null,null,null,null,null,null,null,null,"","",null,null,null,null,null,null,null,{"$f":"IFERROR(VLOOKUP('4.Substance-in-Product'!AH605,DSL!B:H,5,FALSE),\"-\")","v":"-"}]
[null,null,null,null,null,null,null,null,null,null,null,null,null,null,null,null,null,null,null,null,null,null,null,null,null,null,null,null,null,null,null,null,null,null,null,null,null,"","",null,null,null,null,null,null,null,{"$f":"IFERROR(VLOOKUP('4.Substance-in-Product'!AH606,DSL!B:H,5,FALSE),\"-\")","v":"-"}]
[null,null,null,null,null,null,null,null,null,null,null,null,null,null,null,null,null,null,null,null,null,null,null,null,null,null,null,null,null,null,null,null,null,null,null,null,null,"","",null,null,null,null,null,null,null,{"$f":"IFERROR(VLOOKUP('4.Substance-in-Product'!AH607,DSL!B:H,5,FALSE),\"-\")","v":"-"}]
[null,null,null,null,null,null,null,null,null,null,null,null,null,null,null,null,null,null,null,null,null,null,null,null,null,null,null,null,null,null,null,null,null,null,null,null,null,"","",null,null,null,null,null,null,null,{"$f":"IFERROR(VLOOKUP('4.Substance-in-Product'!AH608,DSL!B:H,5,FALSE),\"-\")","v":"-"}]
[null,null,null,null,null,null,null,null,null,null,null,null,null,null,null,null,null,null,null,null,null,null,null,null,null,null,null,null,null,null,null,null,null,null,null,null,null,"","",null,null,null,null,null,null,null,{"$f":"IFERROR(VLOOKUP('4.Substance-in-Product'!AH609,DSL!B:H,5,FALSE),\"-\")","v":"-"}]
[null,null,null,null,null,null,null,null,null,null,null,null,null,null,null,null,null,null,null,null,null,null,null,null,null,null,null,null,null,null,null,null,null,null,null,null,null,"","",null,null,null,null,null,null,null,{"$f":"IFERROR(VLOOKUP('4.Substance-in-Product'!AH610,DSL!B:H,5,FALSE),\"-\")","v":"-"}]
[null,null,null,null,null,null,null,null,null,null,null,null,null,null,null,null,null,null,null,null,null,null,null,null,null,null,null,null,null,null,null,null,null,null,null,null,null,"","",null,null,null,null,null,null,null,{"$f":"IFERROR(VLOOKUP('4.Substance-in-Product'!AH611,DSL!B:H,5,FALSE),\"-\")","v":"-"}]
[null,null,null,null,null,null,null,null,null,null,null,null,null,null,null,null,null,null,null,null,null,null,null,null,null,null,null,null,null,null,null,null,null,null,null,null,null,"","",null,null,null,null,null,null,null,{"$f":"IFERROR(VLOOKUP('4.Substance-in-Product'!AH612,DSL!B:H,5,FALSE),\"-\")","v":"-"}]
[null,null,null,null,null,null,null,null,null,null,null,null,null,null,null,null,null,null,null,null,null,null,null,null,null,null,null,null,null,null,null,null,null,null,null,null,null,"","",null,null,null,null,null,null,null,{"$f":"IFERROR(VLOOKUP('4.Substance-in-Product'!AH613,DSL!B:H,5,FALSE),\"-\")","v":"-"}]
[null,null,null,null,null,null,null,null,null,null,null,null,null,null,null,null,null,null,null,null,null,null,null,null,null,null,null,null,null,null,null,null,null,null,null,null,null,"","",null,null,null,null,null,null,null,{"$f":"IFERROR(VLOOKUP('4.Substance-in-Product'!AH614,DSL!B:H,5,FALSE),\"-\")","v":"-"}]
[null,null,null,null,null,null,null,null,null,null,null,null,null,null,null,null,null,null,null,null,null,null,null,null,null,null,null,null,null,null,null,null,null,null,null,null,null,"","",null,null,null,null,null,null,null,{"$f":"IFERROR(VLOOKUP('4.Substance-in-Product'!AH615,DSL!B:H,5,FALSE),\"-\")","v":"-"}]
[null,null,null,null,null,null,null,null,null,null,null,null,null,null,null,null,null,null,null,null,null,null,null,null,null,null,null,null,null,null,null,null,null,null,null,null,null,"","",null,null,null,null,null,null,null,{"$f":"IFERROR(VLOOKUP('4.Substance-in-Product'!AH616,DSL!B:H,5,FALSE),\"-\")","v":"-"}]
[null,null,null,null,null,null,null,null,null,null,null,null,null,null,null,null,null,null,null,null,null,null,null,null,null,null,null,null,null,null,null,null,null,null,null,null,null,"","",null,null,null,null,null,null,null,{"$f":"IFERROR(VLOOKUP('4.Substance-in-Product'!AH617,DSL!B:H,5,FALSE),\"-\")","v":"-"}]
[null,null,null,null,null,null,null,null,null,null,null,null,null,null,null,null,null,null,null,null,null,null,null,null,null,null,null,null,null,null,null,null,null,null,null,null,null,"","",null,null,null,null,null,null,null,{"$f":"IFERROR(VLOOKUP('4.Substance-in-Product'!AH618,DSL!B:H,5,FALSE),\"-\")","v":"-"}]
[null,null,null,null,null,null,null,null,null,null,null,null,null,null,null,null,null,null,null,null,null,null,null,null,null,null,null,null,null,null,null,null,null,null,null,null,null,"","",null,null,null,null,null,null,null,{"$f":"IFERROR(VLOOKUP('4.Substance-in-Product'!AH619,DSL!B:H,5,FALSE),\"-\")","v":"-"}]
[null,null,null,null,null,null,null,null,null,null,null,null,null,null,null,null,null,null,null,null,null,null,null,null,null,null,null,null,null,null,null,null,null,null,null,null,null,"","",null,null,null,null,null,null,null,{"$f":"IFERROR(VLOOKUP('4.Substance-in-Product'!AH620,DSL!B:H,5,FALSE),\"-\")","v":"-"}]
[null,null,null,null,null,null,null,null,null,null,null,null,null,null,null,null,null,null,null,null,null,null,null,null,null,null,null,null,null,null,null,null,null,null,null,null,null,"","",null,null,null,null,null,null,null,{"$f":"IFERROR(VLOOKUP('4.Substance-in-Product'!AH621,DSL!B:H,5,FALSE),\"-\")","v":"-"}]
[null,null,null,null,null,null,null,null,null,null,null,null,null,null,null,null,null,null,null,null,null,null,null,null,null,null,null,null,null,null,null,null,null,null,null,null,null,"","",null,null,null,null,null,null,null,{"$f":"IFERROR(VLOOKUP('4.Substance-in-Product'!AH622,DSL!B:H,5,FALSE),\"-\")","v":"-"}]
[null,null,null,null,null,null,null,null,null,null,null,null,null,null,null,null,null,null,null,null,null,null,null,null,null,null,null,null,null,null,null,null,null,null,null,null,null,"","",null,null,null,null,null,null,null,{"$f":"IFERROR(VLOOKUP('4.Substance-in-Product'!AH623,DSL!B:H,5,FALSE),\"-\")","v":"-"}]
[null,null,null,null,null,null,null,null,null,null,null,null,null,null,null,null,null,null,null,null,null,null,null,null,null,null,null,null,null,null,null,null,null,null,null,null,null,"","",null,null,null,null,null,null,null,{"$f":"IFERROR(VLOOKUP('4.Substance-in-Product'!AH624,DSL!B:H,5,FALSE),\"-\")","v":"-"}]
[null,null,null,null,null,null,null,null,null,null,null,null,null,null,null,null,null,null,null,null,null,null,null,null,null,null,null,null,null,null,null,null,null,null,null,null,null,"","",null,null,null,null,null,null,null,{"$f":"IFERROR(VLOOKUP('4.Substance-in-Product'!AH625,DSL!B:H,5,FALSE),\"-\")","v":"-"}]
[null,null,null,null,null,null,null,null,null,null,null,null,null,null,null,null,null,null,null,null,null,null,null,null,null,null,null,null,null,null,null,null,null,null,null,null,null,"","",null,null,null,null,null,null,null,{"$f":"IFERROR(VLOOKUP('4.Substance-in-Product'!AH626,DSL!B:H,5,FALSE),\"-\")","v":"-"}]
[null,null,null,null,null,null,null,null,null,null,null,null,null,null,null,null,null,null,null,null,null,null,null,null,null,null,null,null,null,null,null,null,null,null,null,null,null,"","",null,null,null,null,null,null,null,{"$f":"IFERROR(VLOOKUP('4.Substance-in-Product'!AH627,DSL!B:H,5,FALSE),\"-\")","v":"-"}]
[null,null,null,null,null,null,null,null,null,null,null,null,null,null,null,null,null,null,null,null,null,null,null,null,null,null,null,null,null,null,null,null,null,null,null,null,null,"","",null,null,null,null,null,null,null,{"$f":"IFERROR(VLOOKUP('4.Substance-in-Product'!AH628,DSL!B:H,5,FALSE),\"-\")","v":"-"}]
[null,null,null,null,null,null,null,null,null,null,null,null,null,null,null,null,null,null,null,null,null,null,null,null,null,null,null,null,null,null,null,null,null,null,null,null,null,"","",null,null,null,null,null,null,null,{"$f":"IFERROR(VLOOKUP('4.Substance-in-Product'!AH629,DSL!B:H,5,FALSE),\"-\")","v":"-"}]
[null,null,null,null,null,null,null,null,null,null,null,null,null,null,null,null,null,null,null,null,null,null,null,null,null,null,null,null,null,null,null,null,null,null,null,null,null,"","",null,null,null,null,null,null,null,{"$f":"IFERROR(VLOOKUP('4.Substance-in-Product'!AH630,DSL!B:H,5,FALSE),\"-\")","v":"-"}]
[null,null,null,null,null,null,null,null,null,null,null,null,null,null,null,null,null,null,null,null,null,null,null,null,null,null,null,null,null,null,null,null,null,null,null,null,null,"","",null,null,null,null,null,null,null,{"$f":"IFERROR(VLOOKUP('4.Substance-in-Product'!AH631,DSL!B:H,5,FALSE),\"-\")","v":"-"}]
[null,null,null,null,null,null,null,null,null,null,null,null,null,null,null,null,null,null,null,null,null,null,null,null,null,null,null,null,null,null,null,null,null,null,null,null,null,"","",null,null,null,null,null,null,null,{"$f":"IFERROR(VLOOKUP('4.Substance-in-Product'!AH632,DSL!B:H,5,FALSE),\"-\")","v":"-"}]
[null,null,null,null,null,null,null,null,null,null,null,null,null,null,null,null,null,null,null,null,null,null,null,null,null,null,null,null,null,null,null,null,null,null,null,null,null,"","",null,null,null,null,null,null,null,{"$f":"IFERROR(VLOOKUP('4.Substance-in-Product'!AH633,DSL!B:H,5,FALSE),\"-\")","v":"-"}]
[null,null,null,null,null,null,null,null,null,null,null,null,null,null,null,null,null,null,null,null,null,null,null,null,null,null,null,null,null,null,null,null,null,null,null,null,null,"","",null,null,null,null,null,null,null,{"$f":"IFERROR(VLOOKUP('4.Substance-in-Product'!AH634,DSL!B:H,5,FALSE),\"-\")","v":"-"}]
[null,null,null,null,null,null,null,null,null,null,null,null,null,null,null,null,null,null,null,null,null,null,null,null,null,null,null,null,null,null,null,null,null,null,null,null,null,"","",null,null,null,null,null,null,null,{"$f":"IFERROR(VLOOKUP('4.Substance-in-Product'!AH635,DSL!B:H,5,FALSE),\"-\")","v":"-"}]
[null,null,null,null,null,null,null,null,null,null,null,null,null,null,null,null,null,null,null,null,null,null,null,null,null,null,null,null,null,null,null,null,null,null,null,null,null,"","",null,null,null,null,null,null,null,{"$f":"IFERROR(VLOOKUP('4.Substance-in-Product'!AH636,DSL!B:H,5,FALSE),\"-\")","v":"-"}]
[null,null,null,null,null,null,null,null,null,null,null,null,null,null,null,null,null,null,null,null,null,null,null,null,null,null,null,null,null,null,null,null,null,null,null,null,null,"","",null,null,null,null,null,null,null,{"$f":"IFERROR(VLOOKUP('4.Substance-in-Product'!AH637,DSL!B:H,5,FALSE),\"-\")","v":"-"}]
[null,null,null,null,null,null,null,null,null,null,null,null,null,null,null,null,null,null,null,null,null,null,null,null,null,null,null,null,null,null,null,null,null,null,null,null,null,"","",null,null,null,null,null,null,null,{"$f":"IFERROR(VLOOKUP('4.Substance-in-Product'!AH638,DSL!B:H,5,FALSE),\"-\")","v":"-"}]
[null,null,null,null,null,null,null,null,null,null,null,null,null,null,null,null,null,null,null,null,null,null,null,null,null,null,null,null,null,null,null,null,null,null,null,null,null,"","",null,null,null,null,null,null,null,{"$f":"IFERROR(VLOOKUP('4.Substance-in-Product'!AH639,DSL!B:H,5,FALSE),\"-\")","v":"-"}]
[null,null,null,null,null,null,null,null,null,null,null,null,null,null,null,null,null,null,null,null,null,null,null,null,null,null,null,null,null,null,null,null,null,null,null,null,null,"","",null,null,null,null,null,null,null,{"$f":"IFERROR(VLOOKUP('4.Substance-in-Product'!AH640,DSL!B:H,5,FALSE),\"-\")","v":"-"}]
[null,null,null,null,null,null,null,null,null,null,null,null,null,null,null,null,null,null,null,null,null,null,null,null,null,null,null,null,null,null,null,null,null,null,null,null,null,"","",null,null,null,null,null,null,null,{"$f":"IFERROR(VLOOKUP('4.Substance-in-Product'!AH641,DSL!B:H,5,FALSE),\"-\")","v":"-"}]
[null,null,null,null,null,null,null,null,null,null,null,null,null,null,null,null,null,null,null,null,null,null,null,null,null,null,null,null,null,null,null,null,null,null,null,null,null,"","",null,null,null,null,null,null,null,{"$f":"IFERROR(VLOOKUP('4.Substance-in-Product'!AH642,DSL!B:H,5,FALSE),\"-\")","v":"-"}]
[null,null,null,null,null,null,null,null,null,null,null,null,null,null,null,null,null,null,null,null,null,null,null,null,null,null,null,null,null,null,null,null,null,null,null,null,null,"","",null,null,null,null,null,null,null,{"$f":"IFERROR(VLOOKUP('4.Substance-in-Product'!AH643,DSL!B:H,5,FALSE),\"-\")","v":"-"}]
[null,null,null,null,null,null,null,null,null,null,null,null,null,null,null,null,null,null,null,null,null,null,null,null,null,null,null,null,null,null,null,null,null,null,null,null,null,"","",null,null,null,null,null,null,null,{"$f":"IFERROR(VLOOKUP('4.Substance-in-Product'!AH644,DSL!B:H,5,FALSE),\"-\")","v":"-"}]
[null,null,null,null,null,null,null,null,null,null,null,null,null,null,null,null,null,null,null,null,null,null,null,null,null,null,null,null,null,null,null,null,null,null,null,null,null,"","",null,null,null,null,null,null,null,{"$f":"IFERROR(VLOOKUP('4.Substance-in-Product'!AH645,DSL!B:H,5,FALSE),\"-\")","v":"-"}]
[null,null,null,null,null,null,null,null,null,null,null,null,null,null,null,null,null,null,null,null,null,null,null,null,null,null,null,null,null,null,null,null,null,null,null,null,null,"","",null,null,null,null,null,null,null,{"$f":"IFERROR(VLOOKUP('4.Substance-in-Product'!AH646,DSL!B:H,5,FALSE),\"-\")","v":"-"}]
[null,null,null,null,null,null,null,null,null,null,null,null,null,null,null,null,null,null,null,null,null,null,null,null,null,null,null,null,null,null,null,null,null,null,null,null,null,"","",null,null,null,null,null,null,null,{"$f":"IFERROR(VLOOKUP('4.Substance-in-Product'!AH647,DSL!B:H,5,FALSE),\"-\")","v":"-"}]
[null,null,null,null,null,null,null,null,null,null,null,null,null,null,null,null,null,null,null,null,null,null,null,null,null,null,null,null,null,null,null,null,null,null,null,null,null,"","",null,null,null,null,null,null,null,{"$f":"IFERROR(VLOOKUP('4.Substance-in-Product'!AH648,DSL!B:H,5,FALSE),\"-\")","v":"-"}]
[null,null,null,null,null,null,null,null,null,null,null,null,null,null,null,null,null,null,null,null,null,null,null,null,null,null,null,null,null,null,null,null,null,null,null,null,null,"","",null,null,null,null,null,null,null,{"$f":"IFERROR(VLOOKUP('4.Substance-in-Product'!AH649,DSL!B:H,5,FALSE),\"-\")","v":"-"}]
[null,null,null,null,null,null,null,null,null,null,null,null,null,null,null,null,null,null,null,null,null,null,null,null,null,null,null,null,null,null,null,null,null,null,null,null,null,"","",null,null,null,null,null,null,null,{"$f":"IFERROR(VLOOKUP('4.Substance-in-Product'!AH650,DSL!B:H,5,FALSE),\"-\")","v":"-"}]
[null,null,null,null,null,null,null,null,null,null,null,null,null,null,null,null,null,null,null,null,null,null,null,null,null,null,null,null,null,null,null,null,null,null,null,null,null,"","",null,null,null,null,null,null,null,{"$f":"IFERROR(VLOOKUP('4.Substance-in-Product'!AH651,DSL!B:H,5,FALSE),\"-\")","v":"-"}]
[null,null,null,null,null,null,null,null,null,null,null,null,null,null,null,null,null,null,null,null,null,null,null,null,null,null,null,null,null,null,null,null,null,null,null,null,null,"","",null,null,null,null,null,null,null,{"$f":"IFERROR(VLOOKUP('4.Substance-in-Product'!AH652,DSL!B:H,5,FALSE),\"-\")","v":"-"}]
[null,null,null,null,null,null,null,null,null,null,null,null,null,null,null,null,null,null,null,null,null,null,null,null,null,null,null,null,null,null,null,null,null,null,null,null,null,"","",null,null,null,null,null,null,null,{"$f":"IFERROR(VLOOKUP('4.Substance-in-Product'!AH653,DSL!B:H,5,FALSE),\"-\")","v":"-"}]
[null,null,null,null,null,null,null,null,null,null,null,null,null,null,null,null,null,null,null,null,null,null,null,null,null,null,null,null,null,null,null,null,null,null,null,null,null,"","",null,null,null,null,null,null,null,{"$f":"IFERROR(VLOOKUP('4.Substance-in-Product'!AH654,DSL!B:H,5,FALSE),\"-\")","v":"-"}]
[null,null,null,null,null,null,null,null,null,null,null,null,null,null,null,null,null,null,null,null,null,null,null,null,null,null,null,null,null,null,null,null,null,null,null,null,null,"","",null,null,null,null,null,null,null,{"$f":"IFERROR(VLOOKUP('4.Substance-in-Product'!AH655,DSL!B:H,5,FALSE),\"-\")","v":"-"}]
[null,null,null,null,null,null,null,null,null,null,null,null,null,null,null,null,null,null,null,null,null,null,null,null,null,null,null,null,null,null,null,null,null,null,null,null,null,"","",null,null,null,null,null,null,null,{"$f":"IFERROR(VLOOKUP('4.Substance-in-Product'!AH656,DSL!B:H,5,FALSE),\"-\")","v":"-"}]
[null,null,null,null,null,null,null,null,null,null,null,null,null,null,null,null,null,null,null,null,null,null,null,null,null,null,null,null,null,null,null,null,null,null,null,null,null,"","",null,null,null,null,null,null,null,{"$f":"IFERROR(VLOOKUP('4.Substance-in-Product'!AH657,DSL!B:H,5,FALSE),\"-\")","v":"-"}]
[null,null,null,null,null,null,null,null,null,null,null,null,null,null,null,null,null,null,null,null,null,null,null,null,null,null,null,null,null,null,null,null,null,null,null,null,null,"","",null,null,null,null,null,null,null,{"$f":"IFERROR(VLOOKUP('4.Substance-in-Product'!AH658,DSL!B:H,5,FALSE),\"-\")","v":"-"}]
[null,null,null,null,null,null,null,null,null,null,null,null,null,null,null,null,null,null,null,null,null,null,null,null,null,null,null,null,null,null,null,null,null,null,null,null,null,"","",null,null,null,null,null,null,null,{"$f":"IFERROR(VLOOKUP('4.Substance-in-Product'!AH659,DSL!B:H,5,FALSE),\"-\")","v":"-"}]
[null,null,null,null,null,null,null,null,null,null,null,null,null,null,null,null,null,null,null,null,null,null,null,null,null,null,null,null,null,null,null,null,null,null,null,null,null,"","",null,null,null,null,null,null,null,{"$f":"IFERROR(VLOOKUP('4.Substance-in-Product'!AH660,DSL!B:H,5,FALSE),\"-\")","v":"-"}]
[null,null,null,null,null,null,null,null,null,null,null,null,null,null,null,null,null,null,null,null,null,null,null,null,null,null,null,null,null,null,null,null,null,null,null,null,null,"","",null,null,null,null,null,null,null,{"$f":"IFERROR(VLOOKUP('4.Substance-in-Product'!AH661,DSL!B:H,5,FALSE),\"-\")","v":"-"}]
[null,null,null,null,null,null,null,null,null,null,null,null,null,null,null,null,null,null,null,null,null,null,null,null,null,null,null,null,null,null,null,null,null,null,null,null,null,"","",null,null,null,null,null,null,null,{"$f":"IFERROR(VLOOKUP('4.Substance-in-Product'!AH662,DSL!B:H,5,FALSE),\"-\")","v":"-"}]
[null,null,null,null,null,null,null,null,null,null,null,null,null,null,null,null,null,null,null,null,null,null,null,null,null,null,null,null,null,null,null,null,null,null,null,null,null,"","",null,null,null,null,null,null,null,{"$f":"IFERROR(VLOOKUP('4.Substance-in-Product'!AH663,DSL!B:H,5,FALSE),\"-\")","v":"-"}]
[null,null,null,null,null,null,null,null,null,null,null,null,null,null,null,null,null,null,null,null,null,null,null,null,null,null,null,null,null,null,null,null,null,null,null,null,null,"","",null,null,null,null,null,null,null,{"$f":"IFERROR(VLOOKUP('4.Substance-in-Product'!AH664,DSL!B:H,5,FALSE),\"-\")","v":"-"}]
[null,null,null,null,null,null,null,null,null,null,null,null,null,null,null,null,null,null,null,null,null,null,null,null,null,null,null,null,null,null,null,null,null,null,null,null,null,"","",null,null,null,null,null,null,null,{"$f":"IFERROR(VLOOKUP('4.Substance-in-Product'!AH665,DSL!B:H,5,FALSE),\"-\")","v":"-"}]
[null,null,null,null,null,null,null,null,null,null,null,null,null,null,null,null,null,null,null,null,null,null,null,null,null,null,null,null,null,null,null,null,null,null,null,null,null,"","",null,null,null,null,null,null,null,{"$f":"IFERROR(VLOOKUP('4.Substance-in-Product'!AH666,DSL!B:H,5,FALSE),\"-\")","v":"-"}]
[null,null,null,null,null,null,null,null,null,null,null,null,null,null,null,null,null,null,null,null,null,null,null,null,null,null,null,null,null,null,null,null,null,null,null,null,null,"","",null,null,null,null,null,null,null,{"$f":"IFERROR(VLOOKUP('4.Substance-in-Product'!AH667,DSL!B:H,5,FALSE),\"-\")","v":"-"}]
[null,null,null,null,null,null,null,null,null,null,null,null,null,null,null,null,null,null,null,null,null,null,null,null,null,null,null,null,null,null,null,null,null,null,null,null,null,"","",null,null,null,null,null,null,null,{"$f":"IFERROR(VLOOKUP('4.Substance-in-Product'!AH668,DSL!B:H,5,FALSE),\"-\")","v":"-"}]
[null,null,null,null,null,null,null,null,null,null,null,null,null,null,null,null,null,null,null,null,null,null,null,null,null,null,null,null,null,null,null,null,null,null,null,null,null,"","",null,null,null,null,null,null,null,{"$f":"IFERROR(VLOOKUP('4.Substance-in-Product'!AH669,DSL!B:H,5,FALSE),\"-\")","v":"-"}]
[null,null,null,null,null,null,null,null,null,null,null,null,null,null,null,null,null,null,null,null,null,null,null,null,null,null,null,null,null,null,null,null,null,null,null,null,null,"","",null,null,null,null,null,null,null,{"$f":"IFERROR(VLOOKUP('4.Substance-in-Product'!AH670,DSL!B:H,5,FALSE),\"-\")","v":"-"}]
[null,null,null,null,null,null,null,null,null,null,null,null,null,null,null,null,null,null,null,null,null,null,null,null,null,null,null,null,null,null,null,null,null,null,null,null,null,"","",null,null,null,null,null,null,null,{"$f":"IFERROR(VLOOKUP('4.Substance-in-Product'!AH671,DSL!B:H,5,FALSE),\"-\")","v":"-"}]
[null,null,null,null,null,null,null,null,null,null,null,null,null,null,null,null,null,null,null,null,null,null,null,null,null,null,null,null,null,null,null,null,null,null,null,null,null,"","",null,null,null,null,null,null,null,{"$f":"IFERROR(VLOOKUP('4.Substance-in-Product'!AH672,DSL!B:H,5,FALSE),\"-\")","v":"-"}]
[null,null,null,null,null,null,null,null,null,null,null,null,null,null,null,null,null,null,null,null,null,null,null,null,null,null,null,null,null,null,null,null,null,null,null,null,null,"","",null,null,null,null,null,null,null,{"$f":"IFERROR(VLOOKUP('4.Substance-in-Product'!AH673,DSL!B:H,5,FALSE),\"-\")","v":"-"}]
[null,null,null,null,null,null,null,null,null,null,null,null,null,null,null,null,null,null,null,null,null,null,null,null,null,null,null,null,null,null,null,null,null,null,null,null,null,"","",null,null,null,null,null,null,null,{"$f":"IFERROR(VLOOKUP('4.Substance-in-Product'!AH674,DSL!B:H,5,FALSE),\"-\")","v":"-"}]
[null,null,null,null,null,null,null,null,null,null,null,null,null,null,null,null,null,null,null,null,null,null,null,null,null,null,null,null,null,null,null,null,null,null,null,null,null,"","",null,null,null,null,null,null,null,{"$f":"IFERROR(VLOOKUP('4.Substance-in-Product'!AH675,DSL!B:H,5,FALSE),\"-\")","v":"-"}]
[null,null,null,null,null,null,null,null,null,null,null,null,null,null,null,null,null,null,null,null,null,null,null,null,null,null,null,null,null,null,null,null,null,null,null,null,null,"","",null,null,null,null,null,null,null,{"$f":"IFERROR(VLOOKUP('4.Substance-in-Product'!AH676,DSL!B:H,5,FALSE),\"-\")","v":"-"}]
[null,null,null,null,null,null,null,null,null,null,null,null,null,null,null,null,null,null,null,null,null,null,null,null,null,null,null,null,null,null,null,null,null,null,null,null,null,"","",null,null,null,null,null,null,null,{"$f":"IFERROR(VLOOKUP('4.Substance-in-Product'!AH677,DSL!B:H,5,FALSE),\"-\")","v":"-"}]
[null,null,null,null,null,null,null,null,null,null,null,null,null,null,null,null,null,null,null,null,null,null,null,null,null,null,null,null,null,null,null,null,null,null,null,null,null,"","",null,null,null,null,null,null,null,{"$f":"IFERROR(VLOOKUP('4.Substance-in-Product'!AH678,DSL!B:H,5,FALSE),\"-\")","v":"-"}]
[null,null,null,null,null,null,null,null,null,null,null,null,null,null,null,null,null,null,null,null,null,null,null,null,null,null,null,null,null,null,null,null,null,null,null,null,null,"","",null,null,null,null,null,null,null,{"$f":"IFERROR(VLOOKUP('4.Substance-in-Product'!AH679,DSL!B:H,5,FALSE),\"-\")","v":"-"}]
[null,null,null,null,null,null,null,null,null,null,null,null,null,null,null,null,null,null,null,null,null,null,null,null,null,null,null,null,null,null,null,null,null,null,null,null,null,"","",null,null,null,null,null,null,null,{"$f":"IFERROR(VLOOKUP('4.Substance-in-Product'!AH680,DSL!B:H,5,FALSE),\"-\")","v":"-"}]
[null,null,null,null,null,null,null,null,null,null,null,null,null,null,null,null,null,null,null,null,null,null,null,null,null,null,null,null,null,null,null,null,null,null,null,null,null,"","",null,null,null,null,null,null,null,{"$f":"IFERROR(VLOOKUP('4.Substance-in-Product'!AH681,DSL!B:H,5,FALSE),\"-\")","v":"-"}]
[null,null,null,null,null,null,null,null,null,null,null,null,null,null,null,null,null,null,null,null,null,null,null,null,null,null,null,null,null,null,null,null,null,null,null,null,null,"","",null,null,null,null,null,null,null,{"$f":"IFERROR(VLOOKUP('4.Substance-in-Product'!AH682,DSL!B:H,5,FALSE),\"-\")","v":"-"}]
[null,null,null,null,null,null,null,null,null,null,null,null,null,null,null,null,null,null,null,null,null,null,null,null,null,null,null,null,null,null,null,null,null,null,null,null,null,"","",null,null,null,null,null,null,null,{"$f":"IFERROR(VLOOKUP('4.Substance-in-Product'!AH683,DSL!B:H,5,FALSE),\"-\")","v":"-"}]
[null,null,null,null,null,null,null,null,null,null,null,null,null,null,null,null,null,null,null,null,null,null,null,null,null,null,null,null,null,null,null,null,null,null,null,null,null,"","",null,null,null,null,null,null,null,{"$f":"IFERROR(VLOOKUP('4.Substance-in-Product'!AH684,DSL!B:H,5,FALSE),\"-\")","v":"-"}]
[null,null,null,null,null,null,null,null,null,null,null,null,null,null,null,null,null,null,null,null,null,null,null,null,null,null,null,null,null,null,null,null,null,null,null,null,null,"","",null,null,null,null,null,null,null,{"$f":"IFERROR(VLOOKUP('4.Substance-in-Product'!AH685,DSL!B:H,5,FALSE),\"-\")","v":"-"}]
[null,null,null,null,null,null,null,null,null,null,null,null,null,null,null,null,null,null,null,null,null,null,null,null,null,null,null,null,null,null,null,null,null,null,null,null,null,"","",null,null,null,null,null,null,null,{"$f":"IFERROR(VLOOKUP('4.Substance-in-Product'!AH686,DSL!B:H,5,FALSE),\"-\")","v":"-"}]
[null,null,null,null,null,null,null,null,null,null,null,null,null,null,null,null,null,null,null,null,null,null,null,null,null,null,null,null,null,null,null,null,null,null,null,null,null,"","",null,null,null,null,null,null,null,{"$f":"IFERROR(VLOOKUP('4.Substance-in-Product'!AH687,DSL!B:H,5,FALSE),\"-\")","v":"-"}]
[null,null,null,null,null,null,null,null,null,null,null,null,null,null,null,null,null,null,null,null,null,null,null,null,null,null,null,null,null,null,null,null,null,null,null,null,null,"","",null,null,null,null,null,null,null,{"$f":"IFERROR(VLOOKUP('4.Substance-in-Product'!AH688,DSL!B:H,5,FALSE),\"-\")","v":"-"}]
[null,null,null,null,null,null,null,null,null,null,null,null,null,null,null,null,null,null,null,null,null,null,null,null,null,null,null,null,null,null,null,null,null,null,null,null,null,"","",null,null,null,null,null,null,null,{"$f":"IFERROR(VLOOKUP('4.Substance-in-Product'!AH689,DSL!B:H,5,FALSE),\"-\")","v":"-"}]
[null,null,null,null,null,null,null,null,null,null,null,null,null,null,null,null,null,null,null,null,null,null,null,null,null,null,null,null,null,null,null,null,null,null,null,null,null,"","",null,null,null,null,null,null,null,{"$f":"IFERROR(VLOOKUP('4.Substance-in-Product'!AH690,DSL!B:H,5,FALSE),\"-\")","v":"-"}]
[null,null,null,null,null,null,null,null,null,null,null,null,null,null,null,null,null,null,null,null,null,null,null,null,null,null,null,null,null,null,null,null,null,null,null,null,null,"","",null,null,null,null,null,null,null,{"$f":"IFERROR(VLOOKUP('4.Substance-in-Product'!AH691,DSL!B:H,5,FALSE),\"-\")","v":"-"}]
[null,null,null,null,null,null,null,null,null,null,null,null,null,null,null,null,null,null,null,null,null,null,null,null,null,null,null,null,null,null,null,null,null,null,null,null,null,"","",null,null,null,null,null,null,null,{"$f":"IFERROR(VLOOKUP('4.Substance-in-Product'!AH692,DSL!B:H,5,FALSE),\"-\")","v":"-"}]
[null,null,null,null,null,null,null,null,null,null,null,null,null,null,null,null,null,null,null,null,null,null,null,null,null,null,null,null,null,null,null,null,null,null,null,null,null,"","",null,null,null,null,null,null,null,{"$f":"IFERROR(VLOOKUP('4.Substance-in-Product'!AH693,DSL!B:H,5,FALSE),\"-\")","v":"-"}]
[null,null,null,null,null,null,null,null,null,null,null,null,null,null,null,null,null,null,null,null,null,null,null,null,null,null,null,null,null,null,null,null,null,null,null,null,null,"","",null,null,null,null,null,null,null,{"$f":"IFERROR(VLOOKUP('4.Substance-in-Product'!AH694,DSL!B:H,5,FALSE),\"-\")","v":"-"}]
[null,null,null,null,null,null,null,null,null,null,null,null,null,null,null,null,null,null,null,null,null,null,null,null,null,null,null,null,null,null,null,null,null,null,null,null,null,"","",null,null,null,null,null,null,null,{"$f":"IFERROR(VLOOKUP('4.Substance-in-Product'!AH695,DSL!B:H,5,FALSE),\"-\")","v":"-"}]
[null,null,null,null,null,null,null,null,null,null,null,null,null,null,null,null,null,null,null,null,null,null,null,null,null,null,null,null,null,null,null,null,null,null,null,null,null,"","",null,null,null,null,null,null,null,{"$f":"IFERROR(VLOOKUP('4.Substance-in-Product'!AH696,DSL!B:H,5,FALSE),\"-\")","v":"-"}]
[null,null,null,null,null,null,null,null,null,null,null,null,null,null,null,null,null,null,null,null,null,null,null,null,null,null,null,null,null,null,null,null,null,null,null,null,null,"","",null,null,null,null,null,null,null,{"$f":"IFERROR(VLOOKUP('4.Substance-in-Product'!AH697,DSL!B:H,5,FALSE),\"-\")","v":"-"}]
[null,null,null,null,null,null,null,null,null,null,null,null,null,null,null,null,null,null,null,null,null,null,null,null,null,null,null,null,null,null,null,null,null,null,null,null,null,"","",null,null,null,null,null,null,null,{"$f":"IFERROR(VLOOKUP('4.Substance-in-Product'!AH698,DSL!B:H,5,FALSE),\"-\")","v":"-"}]
[null,null,null,null,null,null,null,null,null,null,null,null,null,null,null,null,null,null,null,null,null,null,null,null,null,null,null,null,null,null,null,null,null,null,null,null,null,"","",null,null,null,null,null,null,null,{"$f":"IFERROR(VLOOKUP('4.Substance-in-Product'!AH699,DSL!B:H,5,FALSE),\"-\")","v":"-"}]
[null,null,null,null,null,null,null,null,null,null,null,null,null,null,null,null,null,null,null,null,null,null,null,null,null,null,null,null,null,null,null,null,null,null,null,null,null,"","",null,null,null,null,null,null,null,{"$f":"IFERROR(VLOOKUP('4.Substance-in-Product'!AH700,DSL!B:H,5,FALSE),\"-\")","v":"-"}]
[null,null,null,null,null,null,null,null,null,null,null,null,null,null,null,null,null,null,null,null,null,null,null,null,null,null,null,null,null,null,null,null,null,null,null,null,null,"","",null,null,null,null,null,null,null,{"$f":"IFERROR(VLOOKUP('4.Substance-in-Product'!AH701,DSL!B:H,5,FALSE),\"-\")","v":"-"}]
[null,null,null,null,null,null,null,null,null,null,null,null,null,null,null,null,null,null,null,null,null,null,null,null,null,null,null,null,null,null,null,null,null,null,null,null,null,"","",null,null,null,null,null,null,null,{"$f":"IFERROR(VLOOKUP('4.Substance-in-Product'!AH702,DSL!B:H,5,FALSE),\"-\")","v":"-"}]
[null,null,null,null,null,null,null,null,null,null,null,null,null,null,null,null,null,null,null,null,null,null,null,null,null,null,null,null,null,null,null,null,null,null,null,null,null,"","",null,null,null,null,null,null,null,{"$f":"IFERROR(VLOOKUP('4.Substance-in-Product'!AH703,DSL!B:H,5,FALSE),\"-\")","v":"-"}]
[null,null,null,null,null,null,null,null,null,null,null,null,null,null,null,null,null,null,null,null,null,null,null,null,null,null,null,null,null,null,null,null,null,null,null,null,null,"","",null,null,null,null,null,null,null,{"$f":"IFERROR(VLOOKUP('4.Substance-in-Product'!AH704,DSL!B:H,5,FALSE),\"-\")","v":"-"}]
[null,null,null,null,null,null,null,null,null,null,null,null,null,null,null,null,null,null,null,null,null,null,null,null,null,null,null,null,null,null,null,null,null,null,null,null,null,"","",null,null,null,null,null,null,null,{"$f":"IFERROR(VLOOKUP('4.Substance-in-Product'!AH705,DSL!B:H,5,FALSE),\"-\")","v":"-"}]
[null,null,null,null,null,null,null,null,null,null,null,null,null,null,null,null,null,null,null,null,null,null,null,null,null,null,null,null,null,null,null,null,null,null,null,null,null,"","",null,null,null,null,null,null,null,{"$f":"IFERROR(VLOOKUP('4.Substance-in-Product'!AH706,DSL!B:H,5,FALSE),\"-\")","v":"-"}]
[null,null,null,null,null,null,null,null,null,null,null,null,null,null,null,null,null,null,null,null,null,null,null,null,null,null,null,null,null,null,null,null,null,null,null,null,null,"","",null,null,null,null,null,null,null,{"$f":"IFERROR(VLOOKUP('4.Substance-in-Product'!AH707,DSL!B:H,5,FALSE),\"-\")","v":"-"}]
[null,null,null,null,null,null,null,null,null,null,null,null,null,null,null,null,null,null,null,null,null,null,null,null,null,null,null,null,null,null,null,null,null,null,null,null,null,"","",null,null,null,null,null,null,null,{"$f":"IFERROR(VLOOKUP('4.Substance-in-Product'!AH708,DSL!B:H,5,FALSE),\"-\")","v":"-"}]
[null,null,null,null,null,null,null,null,null,null,null,null,null,null,null,null,null,null,null,null,null,null,null,null,null,null,null,null,null,null,null,null,null,null,null,null,null,"","",null,null,null,null,null,null,null,{"$f":"IFERROR(VLOOKUP('4.Substance-in-Product'!AH709,DSL!B:H,5,FALSE),\"-\")","v":"-"}]
[null,null,null,null,null,null,null,null,null,null,null,null,null,null,null,null,null,null,null,null,null,null,null,null,null,null,null,null,null,null,null,null,null,null,null,null,null,"","",null,null,null,null,null,null,null,{"$f":"IFERROR(VLOOKUP('4.Substance-in-Product'!AH710,DSL!B:H,5,FALSE),\"-\")","v":"-"}]
[null,null,null,null,null,null,null,null,null,null,null,null,null,null,null,null,null,null,null,null,null,null,null,null,null,null,null,null,null,null,null,null,null,null,null,null,null,"","",null,null,null,null,null,null,null,{"$f":"IFERROR(VLOOKUP('4.Substance-in-Product'!AH711,DSL!B:H,5,FALSE),\"-\")","v":"-"}]
[null,null,null,null,null,null,null,null,null,null,null,null,null,null,null,null,null,null,null,null,null,null,null,null,null,null,null,null,null,null,null,null,null,null,null,null,null,"","",null,null,null,null,null,null,null,{"$f":"IFERROR(VLOOKUP('4.Substance-in-Product'!AH712,DSL!B:H,5,FALSE),\"-\")","v":"-"}]
[null,null,null,null,null,null,null,null,null,null,null,null,null,null,null,null,null,null,null,null,null,null,null,null,null,null,null,null,null,null,null,null,null,null,null,null,null,"","",null,null,null,null,null,null,null,{"$f":"IFERROR(VLOOKUP('4.Substance-in-Product'!AH713,DSL!B:H,5,FALSE),\"-\")","v":"-"}]
[null,null,null,null,null,null,null,null,null,null,null,null,null,null,null,null,null,null,null,null,null,null,null,null,null,null,null,null,null,null,null,null,null,null,null,null,null,"","",null,null,null,null,null,null,null,{"$f":"IFERROR(VLOOKUP('4.Substance-in-Product'!AH714,DSL!B:H,5,FALSE),\"-\")","v":"-"}]
[null,null,null,null,null,null,null,null,null,null,null,null,null,null,null,null,null,null,null,null,null,null,null,null,null,null,null,null,null,null,null,null,null,null,null,null,null,"","",null,null,null,null,null,null,null,{"$f":"IFERROR(VLOOKUP('4.Substance-in-Product'!AH715,DSL!B:H,5,FALSE),\"-\")","v":"-"}]
[null,null,null,null,null,null,null,null,null,null,null,null,null,null,null,null,null,null,null,null,null,null,null,null,null,null,null,null,null,null,null,null,null,null,null,null,null,"","",null,null,null,null,null,null,null,{"$f":"IFERROR(VLOOKUP('4.Substance-in-Product'!AH716,DSL!B:H,5,FALSE),\"-\")","v":"-"}]
[null,null,null,null,null,null,null,null,null,null,null,null,null,null,null,null,null,null,null,null,null,null,null,null,null,null,null,null,null,null,null,null,null,null,null,null,null,"","",null,null,null,null,null,null,null,{"$f":"IFERROR(VLOOKUP('4.Substance-in-Product'!AH717,DSL!B:H,5,FALSE),\"-\")","v":"-"}]
[null,null,null,null,null,null,null,null,null,null,null,null,null,null,null,null,null,null,null,null,null,null,null,null,null,null,null,null,null,null,null,null,null,null,null,null,null,"","",null,null,null,null,null,null,null,{"$f":"IFERROR(VLOOKUP('4.Substance-in-Product'!AH718,DSL!B:H,5,FALSE),\"-\")","v":"-"}]
[null,null,null,null,null,null,null,null,null,null,null,null,null,null,null,null,null,null,null,null,null,null,null,null,null,null,null,null,null,null,null,null,null,null,null,null,null,"","",null,null,null,null,null,null,null,{"$f":"IFERROR(VLOOKUP('4.Substance-in-Product'!AH719,DSL!B:H,5,FALSE),\"-\")","v":"-"}]
[null,null,null,null,null,null,null,null,null,null,null,null,null,null,null,null,null,null,null,null,null,null,null,null,null,null,null,null,null,null,null,null,null,null,null,null,null,"","",null,null,null,null,null,null,null,{"$f":"IFERROR(VLOOKUP('4.Substance-in-Product'!AH720,DSL!B:H,5,FALSE),\"-\")","v":"-"}]
[null,null,null,null,null,null,null,null,null,null,null,null,null,null,null,null,null,null,null,null,null,null,null,null,null,null,null,null,null,null,null,null,null,null,null,null,null,"","",null,null,null,null,null,null,null,{"$f":"IFERROR(VLOOKUP('4.Substance-in-Product'!AH721,DSL!B:H,5,FALSE),\"-\")","v":"-"}]
[null,null,null,null,null,null,null,null,null,null,null,null,null,null,null,null,null,null,null,null,null,null,null,null,null,null,null,null,null,null,null,null,null,null,null,null,null,"","",null,null,null,null,null,null,null,{"$f":"IFERROR(VLOOKUP('4.Substance-in-Product'!AH722,DSL!B:H,5,FALSE),\"-\")","v":"-"}]
[null,null,null,null,null,null,null,null,null,null,null,null,null,null,null,null,null,null,null,null,null,null,null,null,null,null,null,null,null,null,null,null,null,null,null,null,null,"","",null,null,null,null,null,null,null,{"$f":"IFERROR(VLOOKUP('4.Substance-in-Product'!AH723,DSL!B:H,5,FALSE),\"-\")","v":"-"}]
[null,null,null,null,null,null,null,null,null,null,null,null,null,null,null,null,null,null,null,null,null,null,null,null,null,null,null,null,null,null,null,null,null,null,null,null,null,"","",null,null,null,null,null,null,null,{"$f":"IFERROR(VLOOKUP('4.Substance-in-Product'!AH724,DSL!B:H,5,FALSE),\"-\")","v":"-"}]
[null,null,null,null,null,null,null,null,null,null,null,null,null,null,null,null,null,null,null,null,null,null,null,null,null,null,null,null,null,null,null,null,null,null,null,null,null,"","",null,null,null,null,null,null,null,{"$f":"IFERROR(VLOOKUP('4.Substance-in-Product'!AH725,DSL!B:H,5,FALSE),\"-\")","v":"-"}]
[null,null,null,null,null,null,null,null,null,null,null,null,null,null,null,null,null,null,null,null,null,null,null,null,null,null,null,null,null,null,null,null,null,null,null,null,null,"","",null,null,null,null,null,null,null,{"$f":"IFERROR(VLOOKUP('4.Substance-in-Product'!AH726,DSL!B:H,5,FALSE),\"-\")","v":"-"}]
[null,null,null,null,null,null,null,null,null,null,null,null,null,null,null,null,null,null,null,null,null,null,null,null,null,null,null,null,null,null,null,null,null,null,null,null,null,"","",null,null,null,null,null,null,null,{"$f":"IFERROR(VLOOKUP('4.Substance-in-Product'!AH727,DSL!B:H,5,FALSE),\"-\")","v":"-"}]
[null,null,null,null,null,null,null,null,null,null,null,null,null,null,null,null,null,null,null,null,null,null,null,null,null,null,null,null,null,null,null,null,null,null,null,null,null,"","",null,null,null,null,null,null,null,{"$f":"IFERROR(VLOOKUP('4.Substance-in-Product'!AH728,DSL!B:H,5,FALSE),\"-\")","v":"-"}]
[null,null,null,null,null,null,null,null,null,null,null,null,null,null,null,null,null,null,null,null,null,null,null,null,null,null,null,null,null,null,null,null,null,null,null,null,null,"","",null,null,null,null,null,null,null,{"$f":"IFERROR(VLOOKUP('4.Substance-in-Product'!AH729,DSL!B:H,5,FALSE),\"-\")","v":"-"}]
[null,null,null,null,null,null,null,null,null,null,null,null,null,null,null,null,null,null,null,null,null,null,null,null,null,null,null,null,null,null,null,null,null,null,null,null,null,"","",null,null,null,null,null,null,null,{"$f":"IFERROR(VLOOKUP('4.Substance-in-Product'!AH730,DSL!B:H,5,FALSE),\"-\")","v":"-"}]
[null,null,null,null,null,null,null,null,null,null,null,null,null,null,null,null,null,null,null,null,null,null,null,null,null,null,null,null,null,null,null,null,null,null,null,null,null,"","",null,null,null,null,null,null,null,{"$f":"IFERROR(VLOOKUP('4.Substance-in-Product'!AH731,DSL!B:H,5,FALSE),\"-\")","v":"-"}]
[null,null,null,null,null,null,null,null,null,null,null,null,null,null,null,null,null,null,null,null,null,null,null,null,null,null,null,null,null,null,null,null,null,null,null,null,null,"","",null,null,null,null,null,null,null,{"$f":"IFERROR(VLOOKUP('4.Substance-in-Product'!AH732,DSL!B:H,5,FALSE),\"-\")","v":"-"}]
[null,null,null,null,null,null,null,null,null,null,null,null,null,null,null,null,null,null,null,null,null,null,null,null,null,null,null,null,null,null,null,null,null,null,null,null,null,"","",null,null,null,null,null,null,null,{"$f":"IFERROR(VLOOKUP('4.Substance-in-Product'!AH733,DSL!B:H,5,FALSE),\"-\")","v":"-"}]
[null,null,null,null,null,null,null,null,null,null,null,null,null,null,null,null,null,null,null,null,null,null,null,null,null,null,null,null,null,null,null,null,null,null,null,null,null,"","",null,null,null,null,null,null,null,{"$f":"IFERROR(VLOOKUP('4.Substance-in-Product'!AH734,DSL!B:H,5,FALSE),\"-\")","v":"-"}]
[null,null,null,null,null,null,null,null,null,null,null,null,null,null,null,null,null,null,null,null,null,null,null,null,null,null,null,null,null,null,null,null,null,null,null,null,null,"","",null,null,null,null,null,null,null,{"$f":"IFERROR(VLOOKUP('4.Substance-in-Product'!AH735,DSL!B:H,5,FALSE),\"-\")","v":"-"}]
[null,null,null,null,null,null,null,null,null,null,null,null,null,null,null,null,null,null,null,null,null,null,null,null,null,null,null,null,null,null,null,null,null,null,null,null,null,"","",null,null,null,null,null,null,null,{"$f":"IFERROR(VLOOKUP('4.Substance-in-Product'!AH736,DSL!B:H,5,FALSE),\"-\")","v":"-"}]
[null,null,null,null,null,null,null,null,null,null,null,null,null,null,null,null,null,null,null,null,null,null,null,null,null,null,null,null,null,null,null,null,null,null,null,null,null,"","",null,null,null,null,null,null,null,{"$f":"IFERROR(VLOOKUP('4.Substance-in-Product'!AH737,DSL!B:H,5,FALSE),\"-\")","v":"-"}]
[null,null,null,null,null,null,null,null,null,null,null,null,null,null,null,null,null,null,null,null,null,null,null,null,null,null,null,null,null,null,null,null,null,null,null,null,null,"","",null,null,null,null,null,null,null,{"$f":"IFERROR(VLOOKUP('4.Substance-in-Product'!AH738,DSL!B:H,5,FALSE),\"-\")","v":"-"}]
[null,null,null,null,null,null,null,null,null,null,null,null,null,null,null,null,null,null,null,null,null,null,null,null,null,null,null,null,null,null,null,null,null,null,null,null,null,"","",null,null,null,null,null,null,null,{"$f":"IFERROR(VLOOKUP('4.Substance-in-Product'!AH739,DSL!B:H,5,FALSE),\"-\")","v":"-"}]
[null,null,null,null,null,null,null,null,null,null,null,null,null,null,null,null,null,null,null,null,null,null,null,null,null,null,null,null,null,null,null,null,null,null,null,null,null,"","",null,null,null,null,null,null,null,{"$f":"IFERROR(VLOOKUP('4.Substance-in-Product'!AH740,DSL!B:H,5,FALSE),\"-\")","v":"-"}]
[null,null,null,null,null,null,null,null,null,null,null,null,null,null,null,null,null,null,null,null,null,null,null,null,null,null,null,null,null,null,null,null,null,null,null,null,null,"","",null,null,null,null,null,null,null,{"$f":"IFERROR(VLOOKUP('4.Substance-in-Product'!AH741,DSL!B:H,5,FALSE),\"-\")","v":"-"}]
[null,null,null,null,null,null,null,null,null,null,null,null,null,null,null,null,null,null,null,null,null,null,null,null,null,null,null,null,null,null,null,null,null,null,null,null,null,"","",null,null,null,null,null,null,null,{"$f":"IFERROR(VLOOKUP('4.Substance-in-Product'!AH742,DSL!B:H,5,FALSE),\"-\")","v":"-"}]
[null,null,null,null,null,null,null,null,null,null,null,null,null,null,null,null,null,null,null,null,null,null,null,null,null,null,null,null,null,null,null,null,null,null,null,null,null,"","",null,null,null,null,null,null,null,{"$f":"IFERROR(VLOOKUP('4.Substance-in-Product'!AH743,DSL!B:H,5,FALSE),\"-\")","v":"-"}]
[null,null,null,null,null,null,null,null,null,null,null,null,null,null,null,null,null,null,null,null,null,null,null,null,null,null,null,null,null,null,null,null,null,null,null,null,null,"","",null,null,null,null,null,null,null,{"$f":"IFERROR(VLOOKUP('4.Substance-in-Product'!AH744,DSL!B:H,5,FALSE),\"-\")","v":"-"}]
[null,null,null,null,null,null,null,null,null,null,null,null,null,null,null,null,null,null,null,null,null,null,null,null,null,null,null,null,null,null,null,null,null,null,null,null,null,"","",null,null,null,null,null,null,null,{"$f":"IFERROR(VLOOKUP('4.Substance-in-Product'!AH745,DSL!B:H,5,FALSE),\"-\")","v":"-"}]
[null,null,null,null,null,null,null,null,null,null,null,null,null,null,null,null,null,null,null,null,null,null,null,null,null,null,null,null,null,null,null,null,null,null,null,null,null,"","",null,null,null,null,null,null,null,{"$f":"IFERROR(VLOOKUP('4.Substance-in-Product'!AH746,DSL!B:H,5,FALSE),\"-\")","v":"-"}]
[null,null,null,null,null,null,null,null,null,null,null,null,null,null,null,null,null,null,null,null,null,null,null,null,null,null,null,null,null,null,null,null,null,null,null,null,null,"","",null,null,null,null,null,null,null,{"$f":"IFERROR(VLOOKUP('4.Substance-in-Product'!AH747,DSL!B:H,5,FALSE),\"-\")","v":"-"}]
[null,null,null,null,null,null,null,null,null,null,null,null,null,null,null,null,null,null,null,null,null,null,null,null,null,null,null,null,null,null,null,null,null,null,null,null,null,"","",null,null,null,null,null,null,null,{"$f":"IFERROR(VLOOKUP('4.Substance-in-Product'!AH748,DSL!B:H,5,FALSE),\"-\")","v":"-"}]
[null,null,null,null,null,null,null,null,null,null,null,null,null,null,null,null,null,null,null,null,null,null,null,null,null,null,null,null,null,null,null,null,null,null,null,null,null,"","",null,null,null,null,null,null,null,{"$f":"IFERROR(VLOOKUP('4.Substance-in-Product'!AH749,DSL!B:H,5,FALSE),\"-\")","v":"-"}]
[null,null,null,null,null,null,null,null,null,null,null,null,null,null,null,null,null,null,null,null,null,null,null,null,null,null,null,null,null,null,null,null,null,null,null,null,null,"","",null,null,null,null,null,null,null,{"$f":"IFERROR(VLOOKUP('4.Substance-in-Product'!AH750,DSL!B:H,5,FALSE),\"-\")","v":"-"}]
[null,null,null,null,null,null,null,null,null,null,null,null,null,null,null,null,null,null,null,null,null,null,null,null,null,null,null,null,null,null,null,null,null,null,null,null,null,"","",null,null,null,null,null,null,null,{"$f":"IFERROR(VLOOKUP('4.Substance-in-Product'!AH751,DSL!B:H,5,FALSE),\"-\")","v":"-"}]
[null,null,null,null,null,null,null,null,null,null,null,null,null,null,null,null,null,null,null,null,null,null,null,null,null,null,null,null,null,null,null,null,null,null,null,null,null,"","",null,null,null,null,null,null,null,{"$f":"IFERROR(VLOOKUP('4.Substance-in-Product'!AH752,DSL!B:H,5,FALSE),\"-\")","v":"-"}]
[null,null,null,null,null,null,null,null,null,null,null,null,null,null,null,null,null,null,null,null,null,null,null,null,null,null,null,null,null,null,null,null,null,null,null,null,null,"","",null,null,null,null,null,null,null,{"$f":"IFERROR(VLOOKUP('4.Substance-in-Product'!AH753,DSL!B:H,5,FALSE),\"-\")","v":"-"}]
[null,null,null,null,null,null,null,null,null,null,null,null,null,null,null,null,null,null,null,null,null,null,null,null,null,null,null,null,null,null,null,null,null,null,null,null,null,"","",null,null,null,null,null,null,null,{"$f":"IFERROR(VLOOKUP('4.Substance-in-Product'!AH754,DSL!B:H,5,FALSE),\"-\")","v":"-"}]
[null,null,null,null,null,null,null,null,null,null,null,null,null,null,null,null,null,null,null,null,null,null,null,null,null,null,null,null,null,null,null,null,null,null,null,null,null,"","",null,null,null,null,null,null,null,{"$f":"IFERROR(VLOOKUP('4.Substance-in-Product'!AH755,DSL!B:H,5,FALSE),\"-\")","v":"-"}]
[null,null,null,null,null,null,null,null,null,null,null,null,null,null,null,null,null,null,null,null,null,null,null,null,null,null,null,null,null,null,null,null,null,null,null,null,null,"","",null,null,null,null,null,null,null,{"$f":"IFERROR(VLOOKUP('4.Substance-in-Product'!AH756,DSL!B:H,5,FALSE),\"-\")","v":"-"}]
[null,null,null,null,null,null,null,null,null,null,null,null,null,null,null,null,null,null,null,null,null,null,null,null,null,null,null,null,null,null,null,null,null,null,null,null,null,"","",null,null,null,null,null,null,null,{"$f":"IFERROR(VLOOKUP('4.Substance-in-Product'!AH757,DSL!B:H,5,FALSE),\"-\")","v":"-"}]
[null,null,null,null,null,null,null,null,null,null,null,null,null,null,null,null,null,null,null,null,null,null,null,null,null,null,null,null,null,null,null,null,null,null,null,null,null,"","",null,null,null,null,null,null,null,{"$f":"IFERROR(VLOOKUP('4.Substance-in-Product'!AH758,DSL!B:H,5,FALSE),\"-\")","v":"-"}]
[null,null,null,null,null,null,null,null,null,null,null,null,null,null,null,null,null,null,null,null,null,null,null,null,null,null,null,null,null,null,null,null,null,null,null,null,null,"","",null,null,null,null,null,null,null,{"$f":"IFERROR(VLOOKUP('4.Substance-in-Product'!AH759,DSL!B:H,5,FALSE),\"-\")","v":"-"}]
[null,null,null,null,null,null,null,null,null,null,null,null,null,null,null,null,null,null,null,null,null,null,null,null,null,null,null,null,null,null,null,null,null,null,null,null,null,"","",null,null,null,null,null,null,null,{"$f":"IFERROR(VLOOKUP('4.Substance-in-Product'!AH760,DSL!B:H,5,FALSE),\"-\")","v":"-"}]
[null,null,null,null,null,null,null,null,null,null,null,null,null,null,null,null,null,null,null,null,null,null,null,null,null,null,null,null,null,null,null,null,null,null,null,null,null,"","",null,null,null,null,null,null,null,{"$f":"IFERROR(VLOOKUP('4.Substance-in-Product'!AH761,DSL!B:H,5,FALSE),\"-\")","v":"-"}]
[null,null,null,null,null,null,null,null,null,null,null,null,null,null,null,null,null,null,null,null,null,null,null,null,null,null,null,null,null,null,null,null,null,null,null,null,null,"","",null,null,null,null,null,null,null,{"$f":"IFERROR(VLOOKUP('4.Substance-in-Product'!AH762,DSL!B:H,5,FALSE),\"-\")","v":"-"}]
[null,null,null,null,null,null,null,null,null,null,null,null,null,null,null,null,null,null,null,null,null,null,null,null,null,null,null,null,null,null,null,null,null,null,null,null,null,"","",null,null,null,null,null,null,null,{"$f":"IFERROR(VLOOKUP('4.Substance-in-Product'!AH763,DSL!B:H,5,FALSE),\"-\")","v":"-"}]
[null,null,null,null,null,null,null,null,null,null,null,null,null,null,null,null,null,null,null,null,null,null,null,null,null,null,null,null,null,null,null,null,null,null,null,null,null,"","",null,null,null,null,null,null,null,{"$f":"IFERROR(VLOOKUP('4.Substance-in-Product'!AH764,DSL!B:H,5,FALSE),\"-\")","v":"-"}]
[null,null,null,null,null,null,null,null,null,null,null,null,null,null,null,null,null,null,null,null,null,null,null,null,null,null,null,null,null,null,null,null,null,null,null,null,null,"","",null,null,null,null,null,null,null,{"$f":"IFERROR(VLOOKUP('4.Substance-in-Product'!AH765,DSL!B:H,5,FALSE),\"-\")","v":"-"}]
[null,null,null,null,null,null,null,null,null,null,null,null,null,null,null,null,null,null,null,null,null,null,null,null,null,null,null,null,null,null,null,null,null,null,null,null,null,"","",null,null,null,null,null,null,null,{"$f":"IFERROR(VLOOKUP('4.Substance-in-Product'!AH766,DSL!B:H,5,FALSE),\"-\")","v":"-"}]
[null,null,null,null,null,null,null,null,null,null,null,null,null,null,null,null,null,null,null,null,null,null,null,null,null,null,null,null,null,null,null,null,null,null,null,null,null,"","",null,null,null,null,null,null,null,{"$f":"IFERROR(VLOOKUP('4.Substance-in-Product'!AH767,DSL!B:H,5,FALSE),\"-\")","v":"-"}]
[null,null,null,null,null,null,null,null,null,null,null,null,null,null,null,null,null,null,null,null,null,null,null,null,null,null,null,null,null,null,null,null,null,null,null,null,null,"","",null,null,null,null,null,null,null,{"$f":"IFERROR(VLOOKUP('4.Substance-in-Product'!AH768,DSL!B:H,5,FALSE),\"-\")","v":"-"}]
[null,null,null,null,null,null,null,null,null,null,null,null,null,null,null,null,null,null,null,null,null,null,null,null,null,null,null,null,null,null,null,null,null,null,null,null,null,"","",null,null,null,null,null,null,null,{"$f":"IFERROR(VLOOKUP('4.Substance-in-Product'!AH769,DSL!B:H,5,FALSE),\"-\")","v":"-"}]
[null,null,null,null,null,null,null,null,null,null,null,null,null,null,null,null,null,null,null,null,null,null,null,null,null,null,null,null,null,null,null,null,null,null,null,null,null,"","",null,null,null,null,null,null,null,{"$f":"IFERROR(VLOOKUP('4.Substance-in-Product'!AH770,DSL!B:H,5,FALSE),\"-\")","v":"-"}]
[null,null,null,null,null,null,null,null,null,null,null,null,null,null,null,null,null,null,null,null,null,null,null,null,null,null,null,null,null,null,null,null,null,null,null,null,null,"","",null,null,null,null,null,null,null,{"$f":"IFERROR(VLOOKUP('4.Substance-in-Product'!AH771,DSL!B:H,5,FALSE),\"-\")","v":"-"}]
[null,null,null,null,null,null,null,null,null,null,null,null,null,null,null,null,null,null,null,null,null,null,null,null,null,null,null,null,null,null,null,null,null,null,null,null,null,"","",null,null,null,null,null,null,null,{"$f":"IFERROR(VLOOKUP('4.Substance-in-Product'!AH772,DSL!B:H,5,FALSE),\"-\")","v":"-"}]
[null,null,null,null,null,null,null,null,null,null,null,null,null,null,null,null,null,null,null,null,null,null,null,null,null,null,null,null,null,null,null,null,null,null,null,null,null,"","",null,null,null,null,null,null,null,{"$f":"IFERROR(VLOOKUP('4.Substance-in-Product'!AH773,DSL!B:H,5,FALSE),\"-\")","v":"-"}]
[null,null,null,null,null,null,null,null,null,null,null,null,null,null,null,null,null,null,null,null,null,null,null,null,null,null,null,null,null,null,null,null,null,null,null,null,null,"","",null,null,null,null,null,null,null,{"$f":"IFERROR(VLOOKUP('4.Substance-in-Product'!AH774,DSL!B:H,5,FALSE),\"-\")","v":"-"}]
[null,null,null,null,null,null,null,null,null,null,null,null,null,null,null,null,null,null,null,null,null,null,null,null,null,null,null,null,null,null,null,null,null,null,null,null,null,"","",null,null,null,null,null,null,null,{"$f":"IFERROR(VLOOKUP('4.Substance-in-Product'!AH775,DSL!B:H,5,FALSE),\"-\")","v":"-"}]
[null,null,null,null,null,null,null,null,null,null,null,null,null,null,null,null,null,null,null,null,null,null,null,null,null,null,null,null,null,null,null,null,null,null,null,null,null,"","",null,null,null,null,null,null,null,{"$f":"IFERROR(VLOOKUP('4.Substance-in-Product'!AH776,DSL!B:H,5,FALSE),\"-\")","v":"-"}]
[null,null,null,null,null,null,null,null,null,null,null,null,null,null,null,null,null,null,null,null,null,null,null,null,null,null,null,null,null,null,null,null,null,null,null,null,null,"","",null,null,null,null,null,null,null,{"$f":"IFERROR(VLOOKUP('4.Substance-in-Product'!AH777,DSL!B:H,5,FALSE),\"-\")","v":"-"}]
[null,null,null,null,null,null,null,null,null,null,null,null,null,null,null,null,null,null,null,null,null,null,null,null,null,null,null,null,null,null,null,null,null,null,null,null,null,"","",null,null,null,null,null,null,null,{"$f":"IFERROR(VLOOKUP('4.Substance-in-Product'!AH778,DSL!B:H,5,FALSE),\"-\")","v":"-"}]
[null,null,null,null,null,null,null,null,null,null,null,null,null,null,null,null,null,null,null,null,null,null,null,null,null,null,null,null,null,null,null,null,null,null,null,null,null,"","",null,null,null,null,null,null,null,{"$f":"IFERROR(VLOOKUP('4.Substance-in-Product'!AH779,DSL!B:H,5,FALSE),\"-\")","v":"-"}]
[null,null,null,null,null,null,null,null,null,null,null,null,null,null,null,null,null,null,null,null,null,null,null,null,null,null,null,null,null,null,null,null,null,null,null,null,null,"","",null,null,null,null,null,null,null,{"$f":"IFERROR(VLOOKUP('4.Substance-in-Product'!AH780,DSL!B:H,5,FALSE),\"-\")","v":"-"}]
[null,null,null,null,null,null,null,null,null,null,null,null,null,null,null,null,null,null,null,null,null,null,null,null,null,null,null,null,null,null,null,null,null,null,null,null,null,"","",null,null,null,null,null,null,null,{"$f":"IFERROR(VLOOKUP('4.Substance-in-Product'!AH781,DSL!B:H,5,FALSE),\"-\")","v":"-"}]
[null,null,null,null,null,null,null,null,null,null,null,null,null,null,null,null,null,null,null,null,null,null,null,null,null,null,null,null,null,null,null,null,null,null,null,null,null,"","",null,null,null,null,null,null,null,{"$f":"IFERROR(VLOOKUP('4.Substance-in-Product'!AH782,DSL!B:H,5,FALSE),\"-\")","v":"-"}]
[null,null,null,null,null,null,null,null,null,null,null,null,null,null,null,null,null,null,null,null,null,null,null,null,null,null,null,null,null,null,null,null,null,null,null,null,null,"","",null,null,null,null,null,null,null,{"$f":"IFERROR(VLOOKUP('4.Substance-in-Product'!AH783,DSL!B:H,5,FALSE),\"-\")","v":"-"}]
[null,null,null,null,null,null,null,null,null,null,null,null,null,null,null,null,null,null,null,null,null,null,null,null,null,null,null,null,null,null,null,null,null,null,null,null,null,"","",null,null,null,null,null,null,null,{"$f":"IFERROR(VLOOKUP('4.Substance-in-Product'!AH784,DSL!B:H,5,FALSE),\"-\")","v":"-"}]
[null,null,null,null,null,null,null,null,null,null,null,null,null,null,null,null,null,null,null,null,null,null,null,null,null,null,null,null,null,null,null,null,null,null,null,null,null,"","",null,null,null,null,null,null,null,{"$f":"IFERROR(VLOOKUP('4.Substance-in-Product'!AH785,DSL!B:H,5,FALSE),\"-\")","v":"-"}]
[null,null,null,null,null,null,null,null,null,null,null,null,null,null,null,null,null,null,null,null,null,null,null,null,null,null,null,null,null,null,null,null,null,null,null,null,null,"","",null,null,null,null,null,null,null,{"$f":"IFERROR(VLOOKUP('4.Substance-in-Product'!AH786,DSL!B:H,5,FALSE),\"-\")","v":"-"}]
[null,null,null,null,null,null,null,null,null,null,null,null,null,null,null,null,null,null,null,null,null,null,null,null,null,null,null,null,null,null,null,null,null,null,null,null,null,"","",null,null,null,null,null,null,null,{"$f":"IFERROR(VLOOKUP('4.Substance-in-Product'!AH787,DSL!B:H,5,FALSE),\"-\")","v":"-"}]
[null,null,null,null,null,null,null,null,null,null,null,null,null,null,null,null,null,null,null,null,null,null,null,null,null,null,null,null,null,null,null,null,null,null,null,null,null,"","",null,null,null,null,null,null,null,{"$f":"IFERROR(VLOOKUP('4.Substance-in-Product'!AH788,DSL!B:H,5,FALSE),\"-\")","v":"-"}]
[null,null,null,null,null,null,null,null,null,null,null,null,null,null,null,null,null,null,null,null,null,null,null,null,null,null,null,null,null,null,null,null,null,null,null,null,null,"","",null,null,null,null,null,null,null,{"$f":"IFERROR(VLOOKUP('4.Substance-in-Product'!AH789,DSL!B:H,5,FALSE),\"-\")","v":"-"}]
[null,null,null,null,null,null,null,null,null,null,null,null,null,null,null,null,null,null,null,null,null,null,null,null,null,null,null,null,null,null,null,null,null,null,null,null,null,"","",null,null,null,null,null,null,null,{"$f":"IFERROR(VLOOKUP('4.Substance-in-Product'!AH790,DSL!B:H,5,FALSE),\"-\")","v":"-"}]
[null,null,null,null,null,null,null,null,null,null,null,null,null,null,null,null,null,null,null,null,null,null,null,null,null,null,null,null,null,null,null,null,null,null,null,null,null,"","",null,null,null,null,null,null,null,{"$f":"IFERROR(VLOOKUP('4.Substance-in-Product'!AH791,DSL!B:H,5,FALSE),\"-\")","v":"-"}]
[null,null,null,null,null,null,null,null,null,null,null,null,null,null,null,null,null,null,null,null,null,null,null,null,null,null,null,null,null,null,null,null,null,null,null,null,null,"","",null,null,null,null,null,null,null,{"$f":"IFERROR(VLOOKUP('4.Substance-in-Product'!AH792,DSL!B:H,5,FALSE),\"-\")","v":"-"}]
[null,null,null,null,null,null,null,null,null,null,null,null,null,null,null,null,null,null,null,null,null,null,null,null,null,null,null,null,null,null,null,null,null,null,null,null,null,"","",null,null,null,null,null,null,null,{"$f":"IFERROR(VLOOKUP('4.Substance-in-Product'!AH793,DSL!B:H,5,FALSE),\"-\")","v":"-"}]
[null,null,null,null,null,null,null,null,null,null,null,null,null,null,null,null,null,null,null,null,null,null,null,null,null,null,null,null,null,null,null,null,null,null,null,null,null,"","",null,null,null,null,null,null,null,{"$f":"IFERROR(VLOOKUP('4.Substance-in-Product'!AH794,DSL!B:H,5,FALSE),\"-\")","v":"-"}]
[null,null,null,null,null,null,null,null,null,null,null,null,null,null,null,null,null,null,null,null,null,null,null,null,null,null,null,null,null,null,null,null,null,null,null,null,null,"","",null,null,null,null,null,null,null,{"$f":"IFERROR(VLOOKUP('4.Substance-in-Product'!AH795,DSL!B:H,5,FALSE),\"-\")","v":"-"}]
[null,null,null,null,null,null,null,null,null,null,null,null,null,null,null,null,null,null,null,null,null,null,null,null,null,null,null,null,null,null,null,null,null,null,null,null,null,"","",null,null,null,null,null,null,null,{"$f":"IFERROR(VLOOKUP('4.Substance-in-Product'!AH796,DSL!B:H,5,FALSE),\"-\")","v":"-"}]
[null,null,null,null,null,null,null,null,null,null,null,null,null,null,null,null,null,null,null,null,null,null,null,null,null,null,null,null,null,null,null,null,null,null,null,null,null,"","",null,null,null,null,null,null,null,{"$f":"IFERROR(VLOOKUP('4.Substance-in-Product'!AH797,DSL!B:H,5,FALSE),\"-\")","v":"-"}]
[null,null,null,null,null,null,null,null,null,null,null,null,null,null,null,null,null,null,null,null,null,null,null,null,null,null,null,null,null,null,null,null,null,null,null,null,null,"","",null,null,null,null,null,null,null,{"$f":"IFERROR(VLOOKUP('4.Substance-in-Product'!AH798,DSL!B:H,5,FALSE),\"-\")","v":"-"}]
[null,null,null,null,null,null,null,null,null,null,null,null,null,null,null,null,null,null,null,null,null,null,null,null,null,null,null,null,null,null,null,null,null,null,null,null,null,"","",null,null,null,null,null,null,null,{"$f":"IFERROR(VLOOKUP('4.Substance-in-Product'!AH799,DSL!B:H,5,FALSE),\"-\")","v":"-"}]
[null,null,null,null,null,null,null,null,null,null,null,null,null,null,null,null,null,null,null,null,null,null,null,null,null,null,null,null,null,null,null,null,null,null,null,null,null,"","",null,null,null,null,null,null,null,{"$f":"IFERROR(VLOOKUP('4.Substance-in-Product'!AH800,DSL!B:H,5,FALSE),\"-\")","v":"-"}]
[null,null,null,null,null,null,null,null,null,null,null,null,null,null,null,null,null,null,null,null,null,null,null,null,null,null,null,null,null,null,null,null,null,null,null,null,null,"","",null,null,null,null,null,null,null,{"$f":"IFERROR(VLOOKUP('4.Substance-in-Product'!AH801,DSL!B:H,5,FALSE),\"-\")","v":"-"}]
[null,null,null,null,null,null,null,null,null,null,null,null,null,null,null,null,null,null,null,null,null,null,null,null,null,null,null,null,null,null,null,null,null,null,null,null,null,"","",null,null,null,null,null,null,null,{"$f":"IFERROR(VLOOKUP('4.Substance-in-Product'!AH802,DSL!B:H,5,FALSE),\"-\")","v":"-"}]
[null,null,null,null,null,null,null,null,null,null,null,null,null,null,null,null,null,null,null,null,null,null,null,null,null,null,null,null,null,null,null,null,null,null,null,null,null,"","",null,null,null,null,null,null,null,{"$f":"IFERROR(VLOOKUP('4.Substance-in-Product'!AH803,DSL!B:H,5,FALSE),\"-\")","v":"-"}]
[null,null,null,null,null,null,null,null,null,null,null,null,null,null,null,null,null,null,null,null,null,null,null,null,null,null,null,null,null,null,null,null,null,null,null,null,null,"","",null,null,null,null,null,null,null,{"$f":"IFERROR(VLOOKUP('4.Substance-in-Product'!AH804,DSL!B:H,5,FALSE),\"-\")","v":"-"}]
[null,null,null,null,null,null,null,null,null,null,null,null,null,null,null,null,null,null,null,null,null,null,null,null,null,null,null,null,null,null,null,null,null,null,null,null,null,"","",null,null,null,null,null,null,null,{"$f":"IFERROR(VLOOKUP('4.Substance-in-Product'!AH805,DSL!B:H,5,FALSE),\"-\")","v":"-"}]
[null,null,null,null,null,null,null,null,null,null,null,null,null,null,null,null,null,null,null,null,null,null,null,null,null,null,null,null,null,null,null,null,null,null,null,null,null,"","",null,null,null,null,null,null,null,{"$f":"IFERROR(VLOOKUP('4.Substance-in-Product'!AH806,DSL!B:H,5,FALSE),\"-\")","v":"-"}]
[null,null,null,null,null,null,null,null,null,null,null,null,null,null,null,null,null,null,null,null,null,null,null,null,null,null,null,null,null,null,null,null,null,null,null,null,null,"","",null,null,null,null,null,null,null,{"$f":"IFERROR(VLOOKUP('4.Substance-in-Product'!AH807,DSL!B:H,5,FALSE),\"-\")","v":"-"}]
[null,null,null,null,null,null,null,null,null,null,null,null,null,null,null,null,null,null,null,null,null,null,null,null,null,null,null,null,null,null,null,null,null,null,null,null,null,"","",null,null,null,null,null,null,null,{"$f":"IFERROR(VLOOKUP('4.Substance-in-Product'!AH808,DSL!B:H,5,FALSE),\"-\")","v":"-"}]
[null,null,null,null,null,null,null,null,null,null,null,null,null,null,null,null,null,null,null,null,null,null,null,null,null,null,null,null,null,null,null,null,null,null,null,null,null,"","",null,null,null,null,null,null,null,{"$f":"IFERROR(VLOOKUP('4.Substance-in-Product'!AH809,DSL!B:H,5,FALSE),\"-\")","v":"-"}]
[null,null,null,null,null,null,null,null,null,null,null,null,null,null,null,null,null,null,null,null,null,null,null,null,null,null,null,null,null,null,null,null,null,null,null,null,null,"","",null,null,null,null,null,null,null,{"$f":"IFERROR(VLOOKUP('4.Substance-in-Product'!AH810,DSL!B:H,5,FALSE),\"-\")","v":"-"}]
[null,null,null,null,null,null,null,null,null,null,null,null,null,null,null,null,null,null,null,null,null,null,null,null,null,null,null,null,null,null,null,null,null,null,null,null,null,"","",null,null,null,null,null,null,null,{"$f":"IFERROR(VLOOKUP('4.Substance-in-Product'!AH811,DSL!B:H,5,FALSE),\"-\")","v":"-"}]
[null,null,null,null,null,null,null,null,null,null,null,null,null,null,null,null,null,null,null,null,null,null,null,null,null,null,null,null,null,null,null,null,null,null,null,null,null,"","",null,null,null,null,null,null,null,{"$f":"IFERROR(VLOOKUP('4.Substance-in-Product'!AH812,DSL!B:H,5,FALSE),\"-\")","v":"-"}]
[null,null,null,null,null,null,null,null,null,null,null,null,null,null,null,null,null,null,null,null,null,null,null,null,null,null,null,null,null,null,null,null,null,null,null,null,null,"","",null,null,null,null,null,null,null,{"$f":"IFERROR(VLOOKUP('4.Substance-in-Product'!AH813,DSL!B:H,5,FALSE),\"-\")","v":"-"}]
[null,null,null,null,null,null,null,null,null,null,null,null,null,null,null,null,null,null,null,null,null,null,null,null,null,null,null,null,null,null,null,null,null,null,null,null,null,"","",null,null,null,null,null,null,null,{"$f":"IFERROR(VLOOKUP('4.Substance-in-Product'!AH814,DSL!B:H,5,FALSE),\"-\")","v":"-"}]
[null,null,null,null,null,null,null,null,null,null,null,null,null,null,null,null,null,null,null,null,null,null,null,null,null,null,null,null,null,null,null,null,null,null,null,null,null,"","",null,null,null,null,null,null,null,{"$f":"IFERROR(VLOOKUP('4.Substance-in-Product'!AH815,DSL!B:H,5,FALSE),\"-\")","v":"-"}]
[null,null,null,null,null,null,null,null,null,null,null,null,null,null,null,null,null,null,null,null,null,null,null,null,null,null,null,null,null,null,null,null,null,null,null,null,null,"","",null,null,null,null,null,null,null,{"$f":"IFERROR(VLOOKUP('4.Substance-in-Product'!AH816,DSL!B:H,5,FALSE),\"-\")","v":"-"}]
[null,null,null,null,null,null,null,null,null,null,null,null,null,null,null,null,null,null,null,null,null,null,null,null,null,null,null,null,null,null,null,null,null,null,null,null,null,"","",null,null,null,null,null,null,null,{"$f":"IFERROR(VLOOKUP('4.Substance-in-Product'!AH817,DSL!B:H,5,FALSE),\"-\")","v":"-"}]
[null,null,null,null,null,null,null,null,null,null,null,null,null,null,null,null,null,null,null,null,null,null,null,null,null,null,null,null,null,null,null,null,null,null,null,null,null,"","",null,null,null,null,null,null,null,{"$f":"IFERROR(VLOOKUP('4.Substance-in-Product'!AH818,DSL!B:H,5,FALSE),\"-\")","v":"-"}]
[null,null,null,null,null,null,null,null,null,null,null,null,null,null,null,null,null,null,null,null,null,null,null,null,null,null,null,null,null,null,null,null,null,null,null,null,null,"","",null,null,null,null,null,null,null,{"$f":"IFERROR(VLOOKUP('4.Substance-in-Product'!AH819,DSL!B:H,5,FALSE),\"-\")","v":"-"}]
[null,null,null,null,null,null,null,null,null,null,null,null,null,null,null,null,null,null,null,null,null,null,null,null,null,null,null,null,null,null,null,null,null,null,null,null,null,"","",null,null,null,null,null,null,null,{"$f":"IFERROR(VLOOKUP('4.Substance-in-Product'!AH820,DSL!B:H,5,FALSE),\"-\")","v":"-"}]
[null,null,null,null,null,null,null,null,null,null,null,null,null,null,null,null,null,null,null,null,null,null,null,null,null,null,null,null,null,null,null,null,null,null,null,null,null,"","",null,null,null,null,null,null,null,{"$f":"IFERROR(VLOOKUP('4.Substance-in-Product'!AH821,DSL!B:H,5,FALSE),\"-\")","v":"-"}]
[null,null,null,null,null,null,null,null,null,null,null,null,null,null,null,null,null,null,null,null,null,null,null,null,null,null,null,null,null,null,null,null,null,null,null,null,null,"","",null,null,null,null,null,null,null,{"$f":"IFERROR(VLOOKUP('4.Substance-in-Product'!AH822,DSL!B:H,5,FALSE),\"-\")","v":"-"}]
[null,null,null,null,null,null,null,null,null,null,null,null,null,null,null,null,null,null,null,null,null,null,null,null,null,null,null,null,null,null,null,null,null,null,null,null,null,"","",null,null,null,null,null,null,null,{"$f":"IFERROR(VLOOKUP('4.Substance-in-Product'!AH823,DSL!B:H,5,FALSE),\"-\")","v":"-"}]
[null,null,null,null,null,null,null,null,null,null,null,null,null,null,null,null,null,null,null,null,null,null,null,null,null,null,null,null,null,null,null,null,null,null,null,null,null,"","",null,null,null,null,null,null,null,{"$f":"IFERROR(VLOOKUP('4.Substance-in-Product'!AH824,DSL!B:H,5,FALSE),\"-\")","v":"-"}]
[null,null,null,null,null,null,null,null,null,null,null,null,null,null,null,null,null,null,null,null,null,null,null,null,null,null,null,null,null,null,null,null,null,null,null,null,null,"","",null,null,null,null,null,null,null,{"$f":"IFERROR(VLOOKUP('4.Substance-in-Product'!AH825,DSL!B:H,5,FALSE),\"-\")","v":"-"}]
[null,null,null,null,null,null,null,null,null,null,null,null,null,null,null,null,null,null,null,null,null,null,null,null,null,null,null,null,null,null,null,null,null,null,null,null,null,"","",null,null,null,null,null,null,null,{"$f":"IFERROR(VLOOKUP('4.Substance-in-Product'!AH826,DSL!B:H,5,FALSE),\"-\")","v":"-"}]
[null,null,null,null,null,null,null,null,null,null,null,null,null,null,null,null,null,null,null,null,null,null,null,null,null,null,null,null,null,null,null,null,null,null,null,null,null,"","",null,null,null,null,null,null,null,{"$f":"IFERROR(VLOOKUP('4.Substance-in-Product'!AH827,DSL!B:H,5,FALSE),\"-\")","v":"-"}]
[null,null,null,null,null,null,null,null,null,null,null,null,null,null,null,null,null,null,null,null,null,null,null,null,null,null,null,null,null,null,null,null,null,null,null,null,null,"","",null,null,null,null,null,null,null,{"$f":"IFERROR(VLOOKUP('4.Substance-in-Product'!AH828,DSL!B:H,5,FALSE),\"-\")","v":"-"}]
[null,null,null,null,null,null,null,null,null,null,null,null,null,null,null,null,null,null,null,null,null,null,null,null,null,null,null,null,null,null,null,null,null,null,null,null,null,"","",null,null,null,null,null,null,null,{"$f":"IFERROR(VLOOKUP('4.Substance-in-Product'!AH829,DSL!B:H,5,FALSE),\"-\")","v":"-"}]
[null,null,null,null,null,null,null,null,null,null,null,null,null,null,null,null,null,null,null,null,null,null,null,null,null,null,null,null,null,null,null,null,null,null,null,null,null,"","",null,null,null,null,null,null,null,{"$f":"IFERROR(VLOOKUP('4.Substance-in-Product'!AH830,DSL!B:H,5,FALSE),\"-\")","v":"-"}]
[null,null,null,null,null,null,null,null,null,null,null,null,null,null,null,null,null,null,null,null,null,null,null,null,null,null,null,null,null,null,null,null,null,null,null,null,null,"","",null,null,null,null,null,null,null,{"$f":"IFERROR(VLOOKUP('4.Substance-in-Product'!AH831,DSL!B:H,5,FALSE),\"-\")","v":"-"}]
[null,null,null,null,null,null,null,null,null,null,null,null,null,null,null,null,null,null,null,null,null,null,null,null,null,null,null,null,null,null,null,null,null,null,null,null,null,"","",null,null,null,null,null,null,null,{"$f":"IFERROR(VLOOKUP('4.Substance-in-Product'!AH832,DSL!B:H,5,FALSE),\"-\")","v":"-"}]
[null,null,null,null,null,null,null,null,null,null,null,null,null,null,null,null,null,null,null,null,null,null,null,null,null,null,null,null,null,null,null,null,null,null,null,null,null,"","",null,null,null,null,null,null,null,{"$f":"IFERROR(VLOOKUP('4.Substance-in-Product'!AH833,DSL!B:H,5,FALSE),\"-\")","v":"-"}]
[null,null,null,null,null,null,null,null,null,null,null,null,null,null,null,null,null,null,null,null,null,null,null,null,null,null,null,null,null,null,null,null,null,null,null,null,null,"","",null,null,null,null,null,null,null,{"$f":"IFERROR(VLOOKUP('4.Substance-in-Product'!AH834,DSL!B:H,5,FALSE),\"-\")","v":"-"}]
[null,null,null,null,null,null,null,null,null,null,null,null,null,null,null,null,null,null,null,null,null,null,null,null,null,null,null,null,null,null,null,null,null,null,null,null,null,"","",null,null,null,null,null,null,null,{"$f":"IFERROR(VLOOKUP('4.Substance-in-Product'!AH835,DSL!B:H,5,FALSE),\"-\")","v":"-"}]
[null,null,null,null,null,null,null,null,null,null,null,null,null,null,null,null,null,null,null,null,null,null,null,null,null,null,null,null,null,null,null,null,null,null,null,null,null,"","",null,null,null,null,null,null,null,{"$f":"IFERROR(VLOOKUP('4.Substance-in-Product'!AH836,DSL!B:H,5,FALSE),\"-\")","v":"-"}]
[null,null,null,null,null,null,null,null,null,null,null,null,null,null,null,null,null,null,null,null,null,null,null,null,null,null,null,null,null,null,null,null,null,null,null,null,null,"","",null,null,null,null,null,null,null,{"$f":"IFERROR(VLOOKUP('4.Substance-in-Product'!AH837,DSL!B:H,5,FALSE),\"-\")","v":"-"}]
[null,null,null,null,null,null,null,null,null,null,null,null,null,null,null,null,null,null,null,null,null,null,null,null,null,null,null,null,null,null,null,null,null,null,null,null,null,"","",null,null,null,null,null,null,null,{"$f":"IFERROR(VLOOKUP('4.Substance-in-Product'!AH838,DSL!B:H,5,FALSE),\"-\")","v":"-"}]
[null,null,null,null,null,null,null,null,null,null,null,null,null,null,null,null,null,null,null,null,null,null,null,null,null,null,null,null,null,null,null,null,null,null,null,null,null,"","",null,null,null,null,null,null,null,{"$f":"IFERROR(VLOOKUP('4.Substance-in-Product'!AH839,DSL!B:H,5,FALSE),\"-\")","v":"-"}]
[null,null,null,null,null,null,null,null,null,null,null,null,null,null,null,null,null,null,null,null,null,null,null,null,null,null,null,null,null,null,null,null,null,null,null,null,null,"","",null,null,null,null,null,null,null,{"$f":"IFERROR(VLOOKUP('4.Substance-in-Product'!AH840,DSL!B:H,5,FALSE),\"-\")","v":"-"}]
[null,null,null,null,null,null,null,null,null,null,null,null,null,null,null,null,null,null,null,null,null,null,null,null,null,null,null,null,null,null,null,null,null,null,null,null,null,"","",null,null,null,null,null,null,null,{"$f":"IFERROR(VLOOKUP('4.Substance-in-Product'!AH841,DSL!B:H,5,FALSE),\"-\")","v":"-"}]
[null,null,null,null,null,null,null,null,null,null,null,null,null,null,null,null,null,null,null,null,null,null,null,null,null,null,null,null,null,null,null,null,null,null,null,null,null,"","",null,null,null,null,null,null,null,{"$f":"IFERROR(VLOOKUP('4.Substance-in-Product'!AH842,DSL!B:H,5,FALSE),\"-\")","v":"-"}]
[null,null,null,null,null,null,null,null,null,null,null,null,null,null,null,null,null,null,null,null,null,null,null,null,null,null,null,null,null,null,null,null,null,null,null,null,null,"","",null,null,null,null,null,null,null,{"$f":"IFERROR(VLOOKUP('4.Substance-in-Product'!AH843,DSL!B:H,5,FALSE),\"-\")","v":"-"}]
[null,null,null,null,null,null,null,null,null,null,null,null,null,null,null,null,null,null,null,null,null,null,null,null,null,null,null,null,null,null,null,null,null,null,null,null,null,"","",null,null,null,null,null,null,null,{"$f":"IFERROR(VLOOKUP('4.Substance-in-Product'!AH844,DSL!B:H,5,FALSE),\"-\")","v":"-"}]
[null,null,null,null,null,null,null,null,null,null,null,null,null,null,null,null,null,null,null,null,null,null,null,null,null,null,null,null,null,null,null,null,null,null,null,null,null,"","",null,null,null,null,null,null,null,{"$f":"IFERROR(VLOOKUP('4.Substance-in-Product'!AH845,DSL!B:H,5,FALSE),\"-\")","v":"-"}]
[null,null,null,null,null,null,null,null,null,null,null,null,null,null,null,null,null,null,null,null,null,null,null,null,null,null,null,null,null,null,null,null,null,null,null,null,null,"","",null,null,null,null,null,null,null,{"$f":"IFERROR(VLOOKUP('4.Substance-in-Product'!AH846,DSL!B:H,5,FALSE),\"-\")","v":"-"}]
[null,null,null,null,null,null,null,null,null,null,null,null,null,null,null,null,null,null,null,null,null,null,null,null,null,null,null,null,null,null,null,null,null,null,null,null,null,"","",null,null,null,null,null,null,null,{"$f":"IFERROR(VLOOKUP('4.Substance-in-Product'!AH847,DSL!B:H,5,FALSE),\"-\")","v":"-"}]
[null,null,null,null,null,null,null,null,null,null,null,null,null,null,null,null,null,null,null,null,null,null,null,null,null,null,null,null,null,null,null,null,null,null,null,null,null,"","",null,null,null,null,null,null,null,{"$f":"IFERROR(VLOOKUP('4.Substance-in-Product'!AH848,DSL!B:H,5,FALSE),\"-\")","v":"-"}]
[null,null,null,null,null,null,null,null,null,null,null,null,null,null,null,null,null,null,null,null,null,null,null,null,null,null,null,null,null,null,null,null,null,null,null,null,null,"","",null,null,null,null,null,null,null,{"$f":"IFERROR(VLOOKUP('4.Substance-in-Product'!AH849,DSL!B:H,5,FALSE),\"-\")","v":"-"}]
[null,null,null,null,null,null,null,null,null,null,null,null,null,null,null,null,null,null,null,null,null,null,null,null,null,null,null,null,null,null,null,null,null,null,null,null,null,"","",null,null,null,null,null,null,null,{"$f":"IFERROR(VLOOKUP('4.Substance-in-Product'!AH850,DSL!B:H,5,FALSE),\"-\")","v":"-"}]
[null,null,null,null,null,null,null,null,null,null,null,null,null,null,null,null,null,null,null,null,null,null,null,null,null,null,null,null,null,null,null,null,null,null,null,null,null,"","",null,null,null,null,null,null,null,{"$f":"IFERROR(VLOOKUP('4.Substance-in-Product'!AH851,DSL!B:H,5,FALSE),\"-\")","v":"-"}]
[null,null,null,null,null,null,null,null,null,null,null,null,null,null,null,null,null,null,null,null,null,null,null,null,null,null,null,null,null,null,null,null,null,null,null,null,null,"","",null,null,null,null,null,null,null,{"$f":"IFERROR(VLOOKUP('4.Substance-in-Product'!AH852,DSL!B:H,5,FALSE),\"-\")","v":"-"}]
[null,null,null,null,null,null,null,null,null,null,null,null,null,null,null,null,null,null,null,null,null,null,null,null,null,null,null,null,null,null,null,null,null,null,null,null,null,"","",null,null,null,null,null,null,null,{"$f":"IFERROR(VLOOKUP('4.Substance-in-Product'!AH853,DSL!B:H,5,FALSE),\"-\")","v":"-"}]
[null,null,null,null,null,null,null,null,null,null,null,null,null,null,null,null,null,null,null,null,null,null,null,null,null,null,null,null,null,null,null,null,null,null,null,null,null,"","",null,null,null,null,null,null,null,{"$f":"IFERROR(VLOOKUP('4.Substance-in-Product'!AH854,DSL!B:H,5,FALSE),\"-\")","v":"-"}]
[null,null,null,null,null,null,null,null,null,null,null,null,null,null,null,null,null,null,null,null,null,null,null,null,null,null,null,null,null,null,null,null,null,null,null,null,null,"","",null,null,null,null,null,null,null,{"$f":"IFERROR(VLOOKUP('4.Substance-in-Product'!AH855,DSL!B:H,5,FALSE),\"-\")","v":"-"}]
[null,null,null,null,null,null,null,null,null,null,null,null,null,null,null,null,null,null,null,null,null,null,null,null,null,null,null,null,null,null,null,null,null,null,null,null,null,"","",null,null,null,null,null,null,null,{"$f":"IFERROR(VLOOKUP('4.Substance-in-Product'!AH856,DSL!B:H,5,FALSE),\"-\")","v":"-"}]
[null,null,null,null,null,null,null,null,null,null,null,null,null,null,null,null,null,null,null,null,null,null,null,null,null,null,null,null,null,null,null,null,null,null,null,null,null,"","",null,null,null,null,null,null,null,{"$f":"IFERROR(VLOOKUP('4.Substance-in-Product'!AH857,DSL!B:H,5,FALSE),\"-\")","v":"-"}]
[null,null,null,null,null,null,null,null,null,null,null,null,null,null,null,null,null,null,null,null,null,null,null,null,null,null,null,null,null,null,null,null,null,null,null,null,null,"","",null,null,null,null,null,null,null,{"$f":"IFERROR(VLOOKUP('4.Substance-in-Product'!AH858,DSL!B:H,5,FALSE),\"-\")","v":"-"}]
[null,null,null,null,null,null,null,null,null,null,null,null,null,null,null,null,null,null,null,null,null,null,null,null,null,null,null,null,null,null,null,null,null,null,null,null,null,"","",null,null,null,null,null,null,null,{"$f":"IFERROR(VLOOKUP('4.Substance-in-Product'!AH859,DSL!B:H,5,FALSE),\"-\")","v":"-"}]
[null,null,null,null,null,null,null,null,null,null,null,null,null,null,null,null,null,null,null,null,null,null,null,null,null,null,null,null,null,null,null,null,null,null,null,null,null,"","",null,null,null,null,null,null,null,{"$f":"IFERROR(VLOOKUP('4.Substance-in-Product'!AH860,DSL!B:H,5,FALSE),\"-\")","v":"-"}]
[null,null,null,null,null,null,null,null,null,null,null,null,null,null,null,null,null,null,null,null,null,null,null,null,null,null,null,null,null,null,null,null,null,null,null,null,null,"","",null,null,null,null,null,null,null,{"$f":"IFERROR(VLOOKUP('4.Substance-in-Product'!AH861,DSL!B:H,5,FALSE),\"-\")","v":"-"}]
[null,null,null,null,null,null,null,null,null,null,null,null,null,null,null,null,null,null,null,null,null,null,null,null,null,null,null,null,null,null,null,null,null,null,null,null,null,"","",null,null,null,null,null,null,null,{"$f":"IFERROR(VLOOKUP('4.Substance-in-Product'!AH862,DSL!B:H,5,FALSE),\"-\")","v":"-"}]
[null,null,null,null,null,null,null,null,null,null,null,null,null,null,null,null,null,null,null,null,null,null,null,null,null,null,null,null,null,null,null,null,null,null,null,null,null,"","",null,null,null,null,null,null,null,{"$f":"IFERROR(VLOOKUP('4.Substance-in-Product'!AH863,DSL!B:H,5,FALSE),\"-\")","v":"-"}]
[null,null,null,null,null,null,null,null,null,null,null,null,null,null,null,null,null,null,null,null,null,null,null,null,null,null,null,null,null,null,null,null,null,null,null,null,null,"","",null,null,null,null,null,null,null,{"$f":"IFERROR(VLOOKUP('4.Substance-in-Product'!AH864,DSL!B:H,5,FALSE),\"-\")","v":"-"}]
[null,null,null,null,null,null,null,null,null,null,null,null,null,null,null,null,null,null,null,null,null,null,null,null,null,null,null,null,null,null,null,null,null,null,null,null,null,"","",null,null,null,null,null,null,null,{"$f":"IFERROR(VLOOKUP('4.Substance-in-Product'!AH865,DSL!B:H,5,FALSE),\"-\")","v":"-"}]
[null,null,null,null,null,null,null,null,null,null,null,null,null,null,null,null,null,null,null,null,null,null,null,null,null,null,null,null,null,null,null,null,null,null,null,null,null,"","",null,null,null,null,null,null,null,{"$f":"IFERROR(VLOOKUP('4.Substance-in-Product'!AH866,DSL!B:H,5,FALSE),\"-\")","v":"-"}]
[null,null,null,null,null,null,null,null,null,null,null,null,null,null,null,null,null,null,null,null,null,null,null,null,null,null,null,null,null,null,null,null,null,null,null,null,null,"","",null,null,null,null,null,null,null,{"$f":"IFERROR(VLOOKUP('4.Substance-in-Product'!AH867,DSL!B:H,5,FALSE),\"-\")","v":"-"}]
[null,null,null,null,null,null,null,null,null,null,null,null,null,null,null,null,null,null,null,null,null,null,null,null,null,null,null,null,null,null,null,null,null,null,null,null,null,"","",null,null,null,null,null,null,null,{"$f":"IFERROR(VLOOKUP('4.Substance-in-Product'!AH868,DSL!B:H,5,FALSE),\"-\")","v":"-"}]
[null,null,null,null,null,null,null,null,null,null,null,null,null,null,null,null,null,null,null,null,null,null,null,null,null,null,null,null,null,null,null,null,null,null,null,null,null,"","",null,null,null,null,null,null,null,{"$f":"IFERROR(VLOOKUP('4.Substance-in-Product'!AH869,DSL!B:H,5,FALSE),\"-\")","v":"-"}]
[null,null,null,null,null,null,null,null,null,null,null,null,null,null,null,null,null,null,null,null,null,null,null,null,null,null,null,null,null,null,null,null,null,null,null,null,null,"","",null,null,null,null,null,null,null,{"$f":"IFERROR(VLOOKUP('4.Substance-in-Product'!AH870,DSL!B:H,5,FALSE),\"-\")","v":"-"}]
[null,null,null,null,null,null,null,null,null,null,null,null,null,null,null,null,null,null,null,null,null,null,null,null,null,null,null,null,null,null,null,null,null,null,null,null,null,"","",null,null,null,null,null,null,null,{"$f":"IFERROR(VLOOKUP('4.Substance-in-Product'!AH871,DSL!B:H,5,FALSE),\"-\")","v":"-"}]
[null,null,null,null,null,null,null,null,null,null,null,null,null,null,null,null,null,null,null,null,null,null,null,null,null,null,null,null,null,null,null,null,null,null,null,null,null,"","",null,null,null,null,null,null,null,{"$f":"IFERROR(VLOOKUP('4.Substance-in-Product'!AH872,DSL!B:H,5,FALSE),\"-\")","v":"-"}]
[null,null,null,null,null,null,null,null,null,null,null,null,null,null,null,null,null,null,null,null,null,null,null,null,null,null,null,null,null,null,null,null,null,null,null,null,null,"","",null,null,null,null,null,null,null,{"$f":"IFERROR(VLOOKUP('4.Substance-in-Product'!AH873,DSL!B:H,5,FALSE),\"-\")","v":"-"}]
[null,null,null,null,null,null,null,null,null,null,null,null,null,null,null,null,null,null,null,null,null,null,null,null,null,null,null,null,null,null,null,null,null,null,null,null,null,"","",null,null,null,null,null,null,null,{"$f":"IFERROR(VLOOKUP('4.Substance-in-Product'!AH874,DSL!B:H,5,FALSE),\"-\")","v":"-"}]
[null,null,null,null,null,null,null,null,null,null,null,null,null,null,null,null,null,null,null,null,null,null,null,null,null,null,null,null,null,null,null,null,null,null,null,null,null,"","",null,null,null,null,null,null,null,{"$f":"IFERROR(VLOOKUP('4.Substance-in-Product'!AH875,DSL!B:H,5,FALSE),\"-\")","v":"-"}]
[null,null,null,null,null,null,null,null,null,null,null,null,null,null,null,null,null,null,null,null,null,null,null,null,null,null,null,null,null,null,null,null,null,null,null,null,null,"","",null,null,null,null,null,null,null,{"$f":"IFERROR(VLOOKUP('4.Substance-in-Product'!AH876,DSL!B:H,5,FALSE),\"-\")","v":"-"}]
[null,null,null,null,null,null,null,null,null,null,null,null,null,null,null,null,null,null,null,null,null,null,null,null,null,null,null,null,null,null,null,null,null,null,null,null,null,"","",null,null,null,null,null,null,null,{"$f":"IFERROR(VLOOKUP('4.Substance-in-Product'!AH877,DSL!B:H,5,FALSE),\"-\")","v":"-"}]
[null,null,null,null,null,null,null,null,null,null,null,null,null,null,null,null,null,null,null,null,null,null,null,null,null,null,null,null,null,null,null,null,null,null,null,null,null,"","",null,null,null,null,null,null,null,{"$f":"IFERROR(VLOOKUP('4.Substance-in-Product'!AH878,DSL!B:H,5,FALSE),\"-\")","v":"-"}]
[null,null,null,null,null,null,null,null,null,null,null,null,null,null,null,null,null,null,null,null,null,null,null,null,null,null,null,null,null,null,null,null,null,null,null,null,null,"","",null,null,null,null,null,null,null,{"$f":"IFERROR(VLOOKUP('4.Substance-in-Product'!AH879,DSL!B:H,5,FALSE),\"-\")","v":"-"}]
[null,null,null,null,null,null,null,null,null,null,null,null,null,null,null,null,null,null,null,null,null,null,null,null,null,null,null,null,null,null,null,null,null,null,null,null,null,"","",null,null,null,null,null,null,null,{"$f":"IFERROR(VLOOKUP('4.Substance-in-Product'!AH880,DSL!B:H,5,FALSE),\"-\")","v":"-"}]
[null,null,null,null,null,null,null,null,null,null,null,null,null,null,null,null,null,null,null,null,null,null,null,null,null,null,null,null,null,null,null,null,null,null,null,null,null,"","",null,null,null,null,null,null,null,{"$f":"IFERROR(VLOOKUP('4.Substance-in-Product'!AH881,DSL!B:H,5,FALSE),\"-\")","v":"-"}]
[null,null,null,null,null,null,null,null,null,null,null,null,null,null,null,null,null,null,null,null,null,null,null,null,null,null,null,null,null,null,null,null,null,null,null,null,null,"","",null,null,null,null,null,null,null,{"$f":"IFERROR(VLOOKUP('4.Substance-in-Product'!AH882,DSL!B:H,5,FALSE),\"-\")","v":"-"}]
[null,null,null,null,null,null,null,null,null,null,null,null,null,null,null,null,null,null,null,null,null,null,null,null,null,null,null,null,null,null,null,null,null,null,null,null,null,"","",null,null,null,null,null,null,null,{"$f":"IFERROR(VLOOKUP('4.Substance-in-Product'!AH883,DSL!B:H,5,FALSE),\"-\")","v":"-"}]
[null,null,null,null,null,null,null,null,null,null,null,null,null,null,null,null,null,null,null,null,null,null,null,null,null,null,null,null,null,null,null,null,null,null,null,null,null,"","",null,null,null,null,null,null,null,{"$f":"IFERROR(VLOOKUP('4.Substance-in-Product'!AH884,DSL!B:H,5,FALSE),\"-\")","v":"-"}]
[null,null,null,null,null,null,null,null,null,null,null,null,null,null,null,null,null,null,null,null,null,null,null,null,null,null,null,null,null,null,null,null,null,null,null,null,null,"","",null,null,null,null,null,null,null,{"$f":"IFERROR(VLOOKUP('4.Substance-in-Product'!AH885,DSL!B:H,5,FALSE),\"-\")","v":"-"}]
[null,null,null,null,null,null,null,null,null,null,null,null,null,null,null,null,null,null,null,null,null,null,null,null,null,null,null,null,null,null,null,null,null,null,null,null,null,"","",null,null,null,null,null,null,null,{"$f":"IFERROR(VLOOKUP('4.Substance-in-Product'!AH886,DSL!B:H,5,FALSE),\"-\")","v":"-"}]
[null,null,null,null,null,null,null,null,null,null,null,null,null,null,null,null,null,null,null,null,null,null,null,null,null,null,null,null,null,null,null,null,null,null,null,null,null,"","",null,null,null,null,null,null,null,{"$f":"IFERROR(VLOOKUP('4.Substance-in-Product'!AH887,DSL!B:H,5,FALSE),\"-\")","v":"-"}]
[null,null,null,null,null,null,null,null,null,null,null,null,null,null,null,null,null,null,null,null,null,null,null,null,null,null,null,null,null,null,null,null,null,null,null,null,null,"","",null,null,null,null,null,null,null,{"$f":"IFERROR(VLOOKUP('4.Substance-in-Product'!AH888,DSL!B:H,5,FALSE),\"-\")","v":"-"}]
[null,null,null,null,null,null,null,null,null,null,null,null,null,null,null,null,null,null,null,null,null,null,null,null,null,null,null,null,null,null,null,null,null,null,null,null,null,"","",null,null,null,null,null,null,null,{"$f":"IFERROR(VLOOKUP('4.Substance-in-Product'!AH889,DSL!B:H,5,FALSE),\"-\")","v":"-"}]
[null,null,null,null,null,null,null,null,null,null,null,null,null,null,null,null,null,null,null,null,null,null,null,null,null,null,null,null,null,null,null,null,null,null,null,null,null,"","",null,null,null,null,null,null,null,{"$f":"IFERROR(VLOOKUP('4.Substance-in-Product'!AH890,DSL!B:H,5,FALSE),\"-\")","v":"-"}]
[null,null,null,null,null,null,null,null,null,null,null,null,null,null,null,null,null,null,null,null,null,null,null,null,null,null,null,null,null,null,null,null,null,null,null,null,null,"","",null,null,null,null,null,null,null,{"$f":"IFERROR(VLOOKUP('4.Substance-in-Product'!AH891,DSL!B:H,5,FALSE),\"-\")","v":"-"}]
[null,null,null,null,null,null,null,null,null,null,null,null,null,null,null,null,null,null,null,null,null,null,null,null,null,null,null,null,null,null,null,null,null,null,null,null,null,"","",null,null,null,null,null,null,null,{"$f":"IFERROR(VLOOKUP('4.Substance-in-Product'!AH892,DSL!B:H,5,FALSE),\"-\")","v":"-"}]
[null,null,null,null,null,null,null,null,null,null,null,null,null,null,null,null,null,null,null,null,null,null,null,null,null,null,null,null,null,null,null,null,null,null,null,null,null,"","",null,null,null,null,null,null,null,{"$f":"IFERROR(VLOOKUP('4.Substance-in-Product'!AH893,DSL!B:H,5,FALSE),\"-\")","v":"-"}]
[null,null,null,null,null,null,null,null,null,null,null,null,null,null,null,null,null,null,null,null,null,null,null,null,null,null,null,null,null,null,null,null,null,null,null,null,null,"","",null,null,null,null,null,null,null,{"$f":"IFERROR(VLOOKUP('4.Substance-in-Product'!AH894,DSL!B:H,5,FALSE),\"-\")","v":"-"}]
[null,null,null,null,null,null,null,null,null,null,null,null,null,null,null,null,null,null,null,null,null,null,null,null,null,null,null,null,null,null,null,null,null,null,null,null,null,"","",null,null,null,null,null,null,null,{"$f":"IFERROR(VLOOKUP('4.Substance-in-Product'!AH895,DSL!B:H,5,FALSE),\"-\")","v":"-"}]
[null,null,null,null,null,null,null,null,null,null,null,null,null,null,null,null,null,null,null,null,null,null,null,null,null,null,null,null,null,null,null,null,null,null,null,null,null,"","",null,null,null,null,null,null,null,{"$f":"IFERROR(VLOOKUP('4.Substance-in-Product'!AH896,DSL!B:H,5,FALSE),\"-\")","v":"-"}]
[null,null,null,null,null,null,null,null,null,null,null,null,null,null,null,null,null,null,null,null,null,null,null,null,null,null,null,null,null,null,null,null,null,null,null,null,null,"","",null,null,null,null,null,null,null,{"$f":"IFERROR(VLOOKUP('4.Substance-in-Product'!AH897,DSL!B:H,5,FALSE),\"-\")","v":"-"}]
[null,null,null,null,null,null,null,null,null,null,null,null,null,null,null,null,null,null,null,null,null,null,null,null,null,null,null,null,null,null,null,null,null,null,null,null,null,"","",null,null,null,null,null,null,null,{"$f":"IFERROR(VLOOKUP('4.Substance-in-Product'!AH898,DSL!B:H,5,FALSE),\"-\")","v":"-"}]
[null,null,null,null,null,null,null,null,null,null,null,null,null,null,null,null,null,null,null,null,null,null,null,null,null,null,null,null,null,null,null,null,null,null,null,null,null,"","",null,null,null,null,null,null,null,{"$f":"IFERROR(VLOOKUP('4.Substance-in-Product'!AH899,DSL!B:H,5,FALSE),\"-\")","v":"-"}]
[null,null,null,null,null,null,null,null,null,null,null,null,null,null,null,null,null,null,null,null,null,null,null,null,null,null,null,null,null,null,null,null,null,null,null,null,null,"","",null,null,null,null,null,null,null,{"$f":"IFERROR(VLOOKUP('4.Substance-in-Product'!AH900,DSL!B:H,5,FALSE),\"-\")","v":"-"}]
[null,null,null,null,null,null,null,null,null,null,null,null,null,null,null,null,null,null,null,null,null,null,null,null,null,null,null,null,null,null,null,null,null,null,null,null,null,"","",null,null,null,null,null,null,null,{"$f":"IFERROR(VLOOKUP('4.Substance-in-Product'!AH901,DSL!B:H,5,FALSE),\"-\")","v":"-"}]
[null,null,null,null,null,null,null,null,null,null,null,null,null,null,null,null,null,null,null,null,null,null,null,null,null,null,null,null,null,null,null,null,null,null,null,null,null,"","",null,null,null,null,null,null,null,{"$f":"IFERROR(VLOOKUP('4.Substance-in-Product'!AH902,DSL!B:H,5,FALSE),\"-\")","v":"-"}]
[null,null,null,null,null,null,null,null,null,null,null,null,null,null,null,null,null,null,null,null,null,null,null,null,null,null,null,null,null,null,null,null,null,null,null,null,null,"","",null,null,null,null,null,null,null,{"$f":"IFERROR(VLOOKUP('4.Substance-in-Product'!AH903,DSL!B:H,5,FALSE),\"-\")","v":"-"}]
[null,null,null,null,null,null,null,null,null,null,null,null,null,null,null,null,null,null,null,null,null,null,null,null,null,null,null,null,null,null,null,null,null,null,null,null,null,"","",null,null,null,null,null,null,null,{"$f":"IFERROR(VLOOKUP('4.Substance-in-Product'!AH904,DSL!B:H,5,FALSE),\"-\")","v":"-"}]
[null,null,null,null,null,null,null,null,null,null,null,null,null,null,null,null,null,null,null,null,null,null,null,null,null,null,null,null,null,null,null,null,null,null,null,null,null,"","",null,null,null,null,null,null,null,{"$f":"IFERROR(VLOOKUP('4.Substance-in-Product'!AH905,DSL!B:H,5,FALSE),\"-\")","v":"-"}]
[null,null,null,null,null,null,null,null,null,null,null,null,null,null,null,null,null,null,null,null,null,null,null,null,null,null,null,null,null,null,null,null,null,null,null,null,null,"","",null,null,null,null,null,null,null,{"$f":"IFERROR(VLOOKUP('4.Substance-in-Product'!AH906,DSL!B:H,5,FALSE),\"-\")","v":"-"}]
[null,null,null,null,null,null,null,null,null,null,null,null,null,null,null,null,null,null,null,null,null,null,null,null,null,null,null,null,null,null,null,null,null,null,null,null,null,"","",null,null,null,null,null,null,null,{"$f":"IFERROR(VLOOKUP('4.Substance-in-Product'!AH907,DSL!B:H,5,FALSE),\"-\")","v":"-"}]
[null,null,null,null,null,null,null,null,null,null,null,null,null,null,null,null,null,null,null,null,null,null,null,null,null,null,null,null,null,null,null,null,null,null,null,null,null,"","",null,null,null,null,null,null,null,{"$f":"IFERROR(VLOOKUP('4.Substance-in-Product'!AH908,DSL!B:H,5,FALSE),\"-\")","v":"-"}]
[null,null,null,null,null,null,null,null,null,null,null,null,null,null,null,null,null,null,null,null,null,null,null,null,null,null,null,null,null,null,null,null,null,null,null,null,null,"","",null,null,null,null,null,null,null,{"$f":"IFERROR(VLOOKUP('4.Substance-in-Product'!AH909,DSL!B:H,5,FALSE),\"-\")","v":"-"}]
[null,null,null,null,null,null,null,null,null,null,null,null,null,null,null,null,null,null,null,null,null,null,null,null,null,null,null,null,null,null,null,null,null,null,null,null,null,"","",null,null,null,null,null,null,null,{"$f":"IFERROR(VLOOKUP('4.Substance-in-Product'!AH910,DSL!B:H,5,FALSE),\"-\")","v":"-"}]
[null,null,null,null,null,null,null,null,null,null,null,null,null,null,null,null,null,null,null,null,null,null,null,null,null,null,null,null,null,null,null,null,null,null,null,null,null,"","",null,null,null,null,null,null,null,{"$f":"IFERROR(VLOOKUP('4.Substance-in-Product'!AH911,DSL!B:H,5,FALSE),\"-\")","v":"-"}]
[null,null,null,null,null,null,null,null,null,null,null,null,null,null,null,null,null,null,null,null,null,null,null,null,null,null,null,null,null,null,null,null,null,null,null,null,null,"","",null,null,null,null,null,null,null,{"$f":"IFERROR(VLOOKUP('4.Substance-in-Product'!AH912,DSL!B:H,5,FALSE),\"-\")","v":"-"}]
[null,null,null,null,null,null,null,null,null,null,null,null,null,null,null,null,null,null,null,null,null,null,null,null,null,null,null,null,null,null,null,null,null,null,null,null,null,"","",null,null,null,null,null,null,null,{"$f":"IFERROR(VLOOKUP('4.Substance-in-Product'!AH913,DSL!B:H,5,FALSE),\"-\")","v":"-"}]
[null,null,null,null,null,null,null,null,null,null,null,null,null,null,null,null,null,null,null,null,null,null,null,null,null,null,null,null,null,null,null,null,null,null,null,null,null,"","",null,null,null,null,null,null,null,{"$f":"IFERROR(VLOOKUP('4.Substance-in-Product'!AH914,DSL!B:H,5,FALSE),\"-\")","v":"-"}]
[null,null,null,null,null,null,null,null,null,null,null,null,null,null,null,null,null,null,null,null,null,null,null,null,null,null,null,null,null,null,null,null,null,null,null,null,null,"","",null,null,null,null,null,null,null,{"$f":"IFERROR(VLOOKUP('4.Substance-in-Product'!AH915,DSL!B:H,5,FALSE),\"-\")","v":"-"}]
[null,null,null,null,null,null,null,null,null,null,null,null,null,null,null,null,null,null,null,null,null,null,null,null,null,null,null,null,null,null,null,null,null,null,null,null,null,"","",null,null,null,null,null,null,null,{"$f":"IFERROR(VLOOKUP('4.Substance-in-Product'!AH916,DSL!B:H,5,FALSE),\"-\")","v":"-"}]
[null,null,null,null,null,null,null,null,null,null,null,null,null,null,null,null,null,null,null,null,null,null,null,null,null,null,null,null,null,null,null,null,null,null,null,null,null,"","",null,null,null,null,null,null,null,{"$f":"IFERROR(VLOOKUP('4.Substance-in-Product'!AH917,DSL!B:H,5,FALSE),\"-\")","v":"-"}]
[null,null,null,null,null,null,null,null,null,null,null,null,null,null,null,null,null,null,null,null,null,null,null,null,null,null,null,null,null,null,null,null,null,null,null,null,null,"","",null,null,null,null,null,null,null,{"$f":"IFERROR(VLOOKUP('4.Substance-in-Product'!AH918,DSL!B:H,5,FALSE),\"-\")","v":"-"}]
[null,null,null,null,null,null,null,null,null,null,null,null,null,null,null,null,null,null,null,null,null,null,null,null,null,null,null,null,null,null,null,null,null,null,null,null,null,"","",null,null,null,null,null,null,null,{"$f":"IFERROR(VLOOKUP('4.Substance-in-Product'!AH919,DSL!B:H,5,FALSE),\"-\")","v":"-"}]
[null,null,null,null,null,null,null,null,null,null,null,null,null,null,null,null,null,null,null,null,null,null,null,null,null,null,null,null,null,null,null,null,null,null,null,null,null,"","",null,null,null,null,null,null,null,{"$f":"IFERROR(VLOOKUP('4.Substance-in-Product'!AH920,DSL!B:H,5,FALSE),\"-\")","v":"-"}]
[null,null,null,null,null,null,null,null,null,null,null,null,null,null,null,null,null,null,null,null,null,null,null,null,null,null,null,null,null,null,null,null,null,null,null,null,null,"","",null,null,null,null,null,null,null,{"$f":"IFERROR(VLOOKUP('4.Substance-in-Product'!AH921,DSL!B:H,5,FALSE),\"-\")","v":"-"}]
[null,null,null,null,null,null,null,null,null,null,null,null,null,null,null,null,null,null,null,null,null,null,null,null,null,null,null,null,null,null,null,null,null,null,null,null,null,"","",null,null,null,null,null,null,null,{"$f":"IFERROR(VLOOKUP('4.Substance-in-Product'!AH922,DSL!B:H,5,FALSE),\"-\")","v":"-"}]
[null,null,null,null,null,null,null,null,null,null,null,null,null,null,null,null,null,null,null,null,null,null,null,null,null,null,null,null,null,null,null,null,null,null,null,null,null,"","",null,null,null,null,null,null,null,{"$f":"IFERROR(VLOOKUP('4.Substance-in-Product'!AH923,DSL!B:H,5,FALSE),\"-\")","v":"-"}]
[null,null,null,null,null,null,null,null,null,null,null,null,null,null,null,null,null,null,null,null,null,null,null,null,null,null,null,null,null,null,null,null,null,null,null,null,null,"","",null,null,null,null,null,null,null,{"$f":"IFERROR(VLOOKUP('4.Substance-in-Product'!AH924,DSL!B:H,5,FALSE),\"-\")","v":"-"}]
[null,null,null,null,null,null,null,null,null,null,null,null,null,null,null,null,null,null,null,null,null,null,null,null,null,null,null,null,null,null,null,null,null,null,null,null,null,"","",null,null,null,null,null,null,null,{"$f":"IFERROR(VLOOKUP('4.Substance-in-Product'!AH925,DSL!B:H,5,FALSE),\"-\")","v":"-"}]
[null,null,null,null,null,null,null,null,null,null,null,null,null,null,null,null,null,null,null,null,null,null,null,null,null,null,null,null,null,null,null,null,null,null,null,null,null,"","",null,null,null,null,null,null,null,{"$f":"IFERROR(VLOOKUP('4.Substance-in-Product'!AH926,DSL!B:H,5,FALSE),\"-\")","v":"-"}]
[null,null,null,null,null,null,null,null,null,null,null,null,null,null,null,null,null,null,null,null,null,null,null,null,null,null,null,null,null,null,null,null,null,null,null,null,null,"","",null,null,null,null,null,null,null,{"$f":"IFERROR(VLOOKUP('4.Substance-in-Product'!AH927,DSL!B:H,5,FALSE),\"-\")","v":"-"}]
[null,null,null,null,null,null,null,null,null,null,null,null,null,null,null,null,null,null,null,null,null,null,null,null,null,null,null,null,null,null,null,null,null,null,null,null,null,"","",null,null,null,null,null,null,null,{"$f":"IFERROR(VLOOKUP('4.Substance-in-Product'!AH928,DSL!B:H,5,FALSE),\"-\")","v":"-"}]
[null,null,null,null,null,null,null,null,null,null,null,null,null,null,null,null,null,null,null,null,null,null,null,null,null,null,null,null,null,null,null,null,null,null,null,null,null,"","",null,null,null,null,null,null,null,{"$f":"IFERROR(VLOOKUP('4.Substance-in-Product'!AH929,DSL!B:H,5,FALSE),\"-\")","v":"-"}]
[null,null,null,null,null,null,null,null,null,null,null,null,null,null,null,null,null,null,null,null,null,null,null,null,null,null,null,null,null,null,null,null,null,null,null,null,null,"","",null,null,null,null,null,null,null,{"$f":"IFERROR(VLOOKUP('4.Substance-in-Product'!AH930,DSL!B:H,5,FALSE),\"-\")","v":"-"}]
[null,null,null,null,null,null,null,null,null,null,null,null,null,null,null,null,null,null,null,null,null,null,null,null,null,null,null,null,null,null,null,null,null,null,null,null,null,"","",null,null,null,null,null,null,null,{"$f":"IFERROR(VLOOKUP('4.Substance-in-Product'!AH931,DSL!B:H,5,FALSE),\"-\")","v":"-"}]
[null,null,null,null,null,null,null,null,null,null,null,null,null,null,null,null,null,null,null,null,null,null,null,null,null,null,null,null,null,null,null,null,null,null,null,null,null,"","",null,null,null,null,null,null,null,{"$f":"IFERROR(VLOOKUP('4.Substance-in-Product'!AH932,DSL!B:H,5,FALSE),\"-\")","v":"-"}]
[null,null,null,null,null,null,null,null,null,null,null,null,null,null,null,null,null,null,null,null,null,null,null,null,null,null,null,null,null,null,null,null,null,null,null,null,null,"","",null,null,null,null,null,null,null,{"$f":"IFERROR(VLOOKUP('4.Substance-in-Product'!AH933,DSL!B:H,5,FALSE),\"-\")","v":"-"}]
[null,null,null,null,null,null,null,null,null,null,null,null,null,null,null,null,null,null,null,null,null,null,null,null,null,null,null,null,null,null,null,null,null,null,null,null,null,"","",null,null,null,null,null,null,null,{"$f":"IFERROR(VLOOKUP('4.Substance-in-Product'!AH934,DSL!B:H,5,FALSE),\"-\")","v":"-"}]
[null,null,null,null,null,null,null,null,null,null,null,null,null,null,null,null,null,null,null,null,null,null,null,null,null,null,null,null,null,null,null,null,null,null,null,null,null,"","",null,null,null,null,null,null,null,{"$f":"IFERROR(VLOOKUP('4.Substance-in-Product'!AH935,DSL!B:H,5,FALSE),\"-\")","v":"-"}]
[null,null,null,null,null,null,null,null,null,null,null,null,null,null,null,null,null,null,null,null,null,null,null,null,null,null,null,null,null,null,null,null,null,null,null,null,null,"","",null,null,null,null,null,null,null,{"$f":"IFERROR(VLOOKUP('4.Substance-in-Product'!AH936,DSL!B:H,5,FALSE),\"-\")","v":"-"}]

{"sheet":"5.Substance-in-Process","index":6,"n_rows":1001,"n_cols":54,"rows_kept":1001,"cut":false,"hidden":false,"merged":[[1,0,2,0],[0,7,2,7],[0,3,2,3],[1,10,2,10],[1,9,2,9],[1,8,2,8],[1,6,2,6],[1,5,2,5],[1,4,2,4],[1,1,2,1],[0,22,2,22],[0,21,2,21],[1,13,1,18],[1,11,2,11],[1,12,2,12],[1,19,2,19],[1,20,2,20]]}
["Product",{"$f":"Overview!E3","v":"Version: 2.0"},"return to Overview","add Process Info","Process",{"$f":"Overview!E3","v":"Version: 2.0"},null,"add Material Info","Material / Chemical Product",null,null,null,null,"Substance","AD-DSL","AD-UDL",null,"return to Overview",null,null,null,"IAEG Regulatory Criteria\n(based on CAS Number)","Add comment",null,null,null,null,null,null,null,null,null,"","","","","","","","","","","","","","","","","","","","","",""]
["Supplier Product Number or Product Group ID*","Supplier Product Name/Description",null,null,"Process Name","Process Classification","Process Stage*",null,"Standard Material Number / Symbol","Material Name /  Formulation Trade Name / Description","Manufacturer","Material Use Description","Material Specification / Standard","Substance Identification**",null,null,null,null,null,"Synonym","Substance Use Description",null,null,null,null,null,null,null,null,null,null,null,"","","","","","","","","","","","","","","","","","","","","",""]
[null,null,"Product Revision",null,null,null,null,null,null,null,null,null,null,{"$f":"'4.Substance-in-Product'!AH3","v":"CAS"},{"$f":"'4.Substance-in-Product'!AI3","v":"EC"},{"$f":"'4.Substance-in-Product'!AJ3","v":"IAEG ID"},"ECHA ID",{"$f":"'4.Substance-in-Product'!AL3","v":"Name"},"Substance Group",null,null,null,null,"Comment",null,null,null,null,null,null,null,null,"","","","","","","","","","","","","","","","","","","","","",""]
[null,null,null,null,null,null,null,null,null,null,null,null,null,null,"","","","","","",null,{"$f":"IFERROR(VLOOKUP('5.Substance-in-Process'!N4,DSL!B:H,5,FALSE),\"-\")","v":"-"}]
[null,null,null,null,null,null,null,null,null,null,null,null,null,null,"","","","","","",null,{"$f":"IFERROR(VLOOKUP('5.Substance-in-Process'!N5,DSL!B:H,5,FALSE),\"-\")","v":"-"}]
[null,null,null,null,null,null,null,null,null,null,null,null,null,null,"","","","","","",null,{"$f":"IFERROR(VLOOKUP('5.Substance-in-Process'!N6,DSL!B:H,5,FALSE),\"-\")","v":"-"}]
[null,null,null,null,null,null,null,null,null,null,null,null,null,"","","","",null,"","",null,{"$f":"IFERROR(VLOOKUP('5.Substance-in-Process'!N7,DSL!B:H,5,FALSE),\"-\")","v":"-"}]
[null,null,null,null,null,null,null,null,null,null,null,null,null,"",null,"","",null,"",null,null,{"$f":"IFERROR(VLOOKUP('5.Substance-in-Process'!N8,DSL!B:H,5,FALSE),\"-\")","v":"-"}]
[null,null,null,null,null,null,null,null,null,null,null,null,null,"","","","",null,"",null,null,{"$f":"IFERROR(VLOOKUP('5.Substance-in-Process'!N9,DSL!B:H,5,FALSE),\"-\")","v":"-"}]
[null,null,null,null,null,null,null,null,null,null,null,null,null,"","","","",null,"","",null,{"$f":"IFERROR(VLOOKUP('5.Substance-in-Process'!N10,DSL!B:H,5,FALSE),\"-\")","v":"-"},null,null,null,null,null,null,null,null,null,null,"","","",null,"","","",null,"","","","","","","","","","","",null,null,""]
[null,null,null,null,null,null,null,null,null,null,null,null,null,"","","","",null,"","",null,{"$f":"IFERROR(VLOOKUP('5.Substance-in-Process'!N11,DSL!B:H,5,FALSE),\"-\")","v":"-"},null,null,null,null,null,null,null,null,null,null,"","","",null,"","","",null,"","","","","","","","","","","",null,null,""]
[null,null,null,null,null,null,null,null,null,null,null,null,null,"","","","",null,"","",null,{"$f":"IFERROR(VLOOKUP('5.Substance-in-Process'!N12,DSL!B:H,5,FALSE),\"-\")","v":"-"},null,null,null,null,null,null,null,null,null,null,"","","",null,"","","",null,"","","","","","","","","","","",null,null,""]
[null,null,null,null,null,null,null,null,null,null,null,null,null,"","","","",null,"","",null,{"$f":"IFERROR(VLOOKUP('5.Substance-in-Process'!N13,DSL!B:H,5,FALSE),\"-\")","v":"-"},null,null,null,null,null,null,null,null,null,null,"","","",null,"","","",null,"","","","","","","","","","","",null,null,""]
[null,null,null,null,null,null,null,"","","","",null,null,"","","","",null,"","",null,{"$f":"IFERROR(VLOOKUP('5.Substance-in-Process'!N14,DSL!B:H,5,FALSE),\"-\")","v":"-"},null,null,null,null,null,null,null,null,null,null,"","","",null,"","","",null,"","","","","","","","","","","",null,null,""]
[null,null,null,null,null,null,null,null,null,null,null,null,null,"","","","",null,"","",null,{"$f":"IFERROR(VLOOKUP('5.Substance-in-Process'!N15,DSL!B:H,5,FALSE),\"-\")","v":"-"},null,null,null,null,null,null,null,null,null,null,"","","",null,"","","",null,"","","","","","","","","","","",null,null,""]
[null,null,null,null,null,null,null,null,null,null,null,null,null,"","","","",null,"","",null,{"$f":"IFERROR(VLOOKUP('5.Substance-in-Process'!N16,DSL!B:H,5,FALSE),\"-\")","v":"-"},null,null,null,null,null,null,null,null,null,null,"","","",null,"","","",null,"","","","","","","","","","","",null,null,""]
[null,null,null,null,null,null,null,null,null,null,null,null,null,"","","","",null,"","",null,{"$f":"IFERROR(VLOOKUP('5.Substance-in-Process'!N17,DSL!B:H,5,FALSE),\"-\")","v":"-"}]
[null,null,null,null,null,null,null,null,null,null,null,null,null,"","","","",null,"","",null,{"$f":"IFERROR(VLOOKUP('5.Substance-in-Process'!N18,DSL!B:H,5,FALSE),\"-\")","v":"-"}]
[null,null,null,null,null,null,null,null,null,null,null,null,null,"","","","",null,"","",null,{"$f":"IFERROR(VLOOKUP('5.Substance-in-Process'!N19,DSL!B:H,5,FALSE),\"-\")","v":"-"}]
[null,null,null,null,null,null,null,null,null,null,null,null,null,"","","","",null,"","",null,{"$f":"IFERROR(VLOOKUP('5.Substance-in-Process'!N20,DSL!B:H,5,FALSE),\"-\")","v":"-"}]
[null,null,null,null,null,null,null,null,null,null,null,null,null,"","","","",null,"","",null,{"$f":"IFERROR(VLOOKUP('5.Substance-in-Process'!N21,DSL!B:H,5,FALSE),\"-\")","v":"-"}]
[null,null,null,null,null,null,null,null,null,null,null,null,null,"","","","",null,"","",null,{"$f":"IFERROR(VLOOKUP('5.Substance-in-Process'!N22,DSL!B:H,5,FALSE),\"-\")","v":"-"}]
[null,null,null,null,null,null,null,null,null,null,null,null,null,"","","","",null,"","",null,{"$f":"IFERROR(VLOOKUP('5.Substance-in-Process'!N23,DSL!B:H,5,FALSE),\"-\")","v":"-"}]
[null,null,null,null,null,null,null,null,null,null,null,null,null,"","","","",null,"","",null,{"$f":"IFERROR(VLOOKUP('5.Substance-in-Process'!N24,DSL!B:H,5,FALSE),\"-\")","v":"-"}]
[null,null,null,null,null,null,null,null,null,null,null,null,null,"","","","",null,"","",null,{"$f":"IFERROR(VLOOKUP('5.Substance-in-Process'!N25,DSL!B:H,5,FALSE),\"-\")","v":"-"}]
[null,null,null,null,null,null,null,null,null,null,null,null,null,"","","","",null,"","",null,{"$f":"IFERROR(VLOOKUP('5.Substance-in-Process'!N26,DSL!B:H,5,FALSE),\"-\")","v":"-"}]
[null,null,null,null,null,null,null,null,null,null,null,null,null,"","","","",null,"","",null,{"$f":"IFERROR(VLOOKUP('5.Substance-in-Process'!N27,DSL!B:H,5,FALSE),\"-\")","v":"-"}]
[null,null,null,null,null,null,null,null,null,null,null,null,null,"","","","",null,"","",null,{"$f":"IFERROR(VLOOKUP('5.Substance-in-Process'!N28,DSL!B:H,5,FALSE),\"-\")","v":"-"}]
[null,null,null,null,null,null,null,null,null,null,null,null,null,"","","","",null,"","",null,{"$f":"IFERROR(VLOOKUP('5.Substance-in-Process'!N29,DSL!B:H,5,FALSE),\"-\")","v":"-"}]
[null,null,null,null,null,null,null,null,null,null,null,null,null,"","","","",null,"","",null,{"$f":"IFERROR(VLOOKUP('5.Substance-in-Process'!N30,DSL!B:H,5,FALSE),\"-\")","v":"-"}]
[null,null,null,null,null,null,null,null,null,null,null,null,null,"","","","",null,"","",null,{"$f":"IFERROR(VLOOKUP('5.Substance-in-Process'!N31,DSL!B:H,5,FALSE),\"-\")","v":"-"}]
[null,null,null,null,null,null,null,null,null,null,null,null,null,"","","","",null,"","",null,{"$f":"IFERROR(VLOOKUP('5.Substance-in-Process'!N32,DSL!B:H,5,FALSE),\"-\")","v":"-"}]
[null,null,null,null,null,null,null,null,null,null,null,null,null,"","","","",null,"","",null,{"$f":"IFERROR(VLOOKUP('5.Substance-in-Process'!N33,DSL!B:H,5,FALSE),\"-\")","v":"-"}]
[null,null,null,null,null,null,null,null,null,null,null,null,null,"","","","",null,"","",null,{"$f":"IFERROR(VLOOKUP('5.Substance-in-Process'!N34,DSL!B:H,5,FALSE),\"-\")","v":"-"}]
[null,null,null,null,null,null,null,null,null,null,null,null,null,"","","","",null,"","",null,{"$f":"IFERROR(VLOOKUP('5.Substance-in-Process'!N35,DSL!B:H,5,FALSE),\"-\")","v":"-"}]
[null,null,null,null,null,null,null,null,null,null,null,null,null,"","","","",null,"","",null,{"$f":"IFERROR(VLOOKUP('5.Substance-in-Process'!N36,DSL!B:H,5,FALSE),\"-\")","v":"-"}]
[null,null,null,null,null,null,null,null,null,null,null,null,null,"","","","",null,"","",null,{"$f":"IFERROR(VLOOKUP('5.Substance-in-Process'!N37,DSL!B:H,5,FALSE),\"-\")","v":"-"}]
[null,null,null,null,null,null,null,null,null,null,null,null,null,"","","","",null,"","",null,{"$f":"IFERROR(VLOOKUP('5.Substance-in-Process'!N38,DSL!B:H,5,FALSE),\"-\")","v":"-"}]
[null,null,null,null,null,null,null,null,null,null,null,null,null,"","","","",null,"","",null,{"$f":"IFERROR(VLOOKUP('5.Substance-in-Process'!N39,DSL!B:H,5,FALSE),\"-\")","v":"-"}]
[null,null,null,null,null,null,null,null,null,null,null,null,null,"","","","",null,"","",null,{"$f":"IFERROR(VLOOKUP('5.Substance-in-Process'!N40,DSL!B:H,5,FALSE),\"-\")","v":"-"}]
[null,null,null,null,null,null,null,null,null,null,null,null,null,"","","","",null,"","",null,{"$f":"IFERROR(VLOOKUP('5.Substance-in-Process'!N41,DSL!B:H,5,FALSE),\"-\")","v":"-"}]
[null,null,null,null,null,null,null,null,null,null,null,null,null,"","","","",null,"","",null,{"$f":"IFERROR(VLOOKUP('5.Substance-in-Process'!N42,DSL!B:H,5,FALSE),\"-\")","v":"-"}]
[null,null,null,null,null,null,null,null,null,null,null,null,null,"","","","",null,"","",null,{"$f":"IFERROR(VLOOKUP('5.Substance-in-Process'!N43,DSL!B:H,5,FALSE),\"-\")","v":"-"}]
[null,null,null,null,null,null,null,null,null,null,null,null,null,"","","","",null,"","",null,{"$f":"IFERROR(VLOOKUP('5.Substance-in-Process'!N44,DSL!B:H,5,FALSE),\"-\")","v":"-"}]
[null,null,null,null,null,null,null,null,null,null,null,null,null,"","","","",null,"","",null,{"$f":"IFERROR(VLOOKUP('5.Substance-in-Process'!N45,DSL!B:H,5,FALSE),\"-\")","v":"-"}]
[null,null,null,null,null,null,null,null,null,null,null,null,null,"","","","",null,"","",null,{"$f":"IFERROR(VLOOKUP('5.Substance-in-Process'!N46,DSL!B:H,5,FALSE),\"-\")","v":"-"}]
[null,null,null,null,null,null,null,null,null,null,null,null,null,"","","","",null,"","",null,{"$f":"IFERROR(VLOOKUP('5.Substance-in-Process'!N47,DSL!B:H,5,FALSE),\"-\")","v":"-"}]
[null,null,null,null,null,null,null,null,null,null,null,null,null,"","","","",null,"","",null,{"$f":"IFERROR(VLOOKUP('5.Substance-in-Process'!N48,DSL!B:H,5,FALSE),\"-\")","v":"-"}]
[null,null,null,null,null,null,null,null,null,null,null,null,null,"","","","",null,"","",null,{"$f":"IFERROR(VLOOKUP('5.Substance-in-Process'!N49,DSL!B:H,5,FALSE),\"-\")","v":"-"}]
[null,null,null,null,null,null,null,null,null,null,null,null,null,"","","","",null,"","",null,{"$f":"IFERROR(VLOOKUP('5.Substance-in-Process'!N50,DSL!B:H,5,FALSE),\"-\")","v":"-"}]
[null,null,null,null,null,null,null,null,null,null,null,null,null,"","","","",null,"","",null,{"$f":"IFERROR(VLOOKUP('5.Substance-in-Process'!N51,DSL!B:H,5,FALSE),\"-\")","v":"-"}]
[null,null,null,null,null,null,null,null,null,null,null,null,null,"","","","",null,"","",null,{"$f":"IFERROR(VLOOKUP('5.Substance-in-Process'!N52,DSL!B:H,5,FALSE),\"-\")","v":"-"}]
[null,null,null,null,null,null,null,null,null,null,null,null,null,"","","","",null,"","",null,{"$f":"IFERROR(VLOOKUP('5.Substance-in-Process'!N53,DSL!B:H,5,FALSE),\"-\")","v":"-"}]
[null,null,null,null,null,null,null,null,null,null,null,null,null,"","","","",null,"","",null,{"$f":"IFERROR(VLOOKUP('5.Substance-in-Process'!N54,DSL!B:H,5,FALSE),\"-\")","v":"-"}]
[null,null,null,null,null,null,null,null,null,null,null,null,null,"","","","",null,"","",null,{"$f":"IFERROR(VLOOKUP('5.Substance-in-Process'!N55,DSL!B:H,5,FALSE),\"-\")","v":"-"}]
[null,null,null,null,null,null,null,null,null,null,null,null,null,"","","","",null,"","",null,{"$f":"IFERROR(VLOOKUP('5.Substance-in-Process'!N56,DSL!B:H,5,FALSE),\"-\")","v":"-"}]
[null,null,null,null,null,null,null,null,null,null,null,null,null,"","","","",null,"","",null,{"$f":"IFERROR(VLOOKUP('5.Substance-in-Process'!N57,DSL!B:H,5,FALSE),\"-\")","v":"-"}]
[null,null,null,null,null,null,null,null,null,null,null,null,null,"","","","",null,"","",null,{"$f":"IFERROR(VLOOKUP('5.Substance-in-Process'!N58,DSL!B:H,5,FALSE),\"-\")","v":"-"}]
[null,null,null,null,null,null,null,null,null,null,null,null,null,"","","","",null,"","",null,{"$f":"IFERROR(VLOOKUP('5.Substance-in-Process'!N59,DSL!B:H,5,FALSE),\"-\")","v":"-"}]
[null,null,null,null,null,null,null,null,null,null,null,null,null,"","","","",null,"","",null,{"$f":"IFERROR(VLOOKUP('5.Substance-in-Process'!N60,DSL!B:H,5,FALSE),\"-\")","v":"-"}]
[null,null,null,null,null,null,null,null,null,null,null,null,null,"","","","",null,"","",null,{"$f":"IFERROR(VLOOKUP('5.Substance-in-Process'!N61,DSL!B:H,5,FALSE),\"-\")","v":"-"}]
[null,null,null,null,null,null,null,null,null,null,null,null,null,"","","","",null,"","",null,{"$f":"IFERROR(VLOOKUP('5.Substance-in-Process'!N62,DSL!B:H,5,FALSE),\"-\")","v":"-"}]
[null,null,null,null,null,null,null,null,null,null,null,null,null,"","","","",null,"","",null,{"$f":"IFERROR(VLOOKUP('5.Substance-in-Process'!N63,DSL!B:H,5,FALSE),\"-\")","v":"-"}]
[null,null,null,null,null,null,null,null,null,null,null,null,null,"","","","",null,"","",null,{"$f":"IFERROR(VLOOKUP('5.Substance-in-Process'!N64,DSL!B:H,5,FALSE),\"-\")","v":"-"}]
[null,null,null,null,null,null,null,null,null,null,null,null,null,"","","","",null,"","",null,{"$f":"IFERROR(VLOOKUP('5.Substance-in-Process'!N65,DSL!B:H,5,FALSE),\"-\")","v":"-"}]
[null,null,null,null,null,null,null,null,null,null,null,null,null,"","","","",null,"","",null,{"$f":"IFERROR(VLOOKUP('5.Substance-in-Process'!N66,DSL!B:H,5,FALSE),\"-\")","v":"-"}]
[null,null,null,null,null,null,null,null,null,null,null,null,null,"","","","",null,"","",null,{"$f":"IFERROR(VLOOKUP('5.Substance-in-Process'!N67,DSL!B:H,5,FALSE),\"-\")","v":"-"}]
[null,null,null,null,null,null,null,null,null,null,null,null,null,"","","","",null,"","",null,{"$f":"IFERROR(VLOOKUP('5.Substance-in-Process'!N68,DSL!B:H,5,FALSE),\"-\")","v":"-"}]
[null,null,null,null,null,null,null,null,null,null,null,null,null,"","","","",null,"","",null,{"$f":"IFERROR(VLOOKUP('5.Substance-in-Process'!N69,DSL!B:H,5,FALSE),\"-\")","v":"-"}]
[null,null,null,null,null,null,null,null,null,null,null,null,null,"","","","",null,"","",null,{"$f":"IFERROR(VLOOKUP('5.Substance-in-Process'!N70,DSL!B:H,5,FALSE),\"-\")","v":"-"}]
[null,null,null,null,null,null,null,null,null,null,null,null,null,"","","","",null,"","",null,{"$f":"IFERROR(VLOOKUP('5.Substance-in-Process'!N71,DSL!B:H,5,FALSE),\"-\")","v":"-"}]
[null,null,null,null,null,null,null,null,null,null,null,null,null,"","","","",null,"","",null,{"$f":"IFERROR(VLOOKUP('5.Substance-in-Process'!N72,DSL!B:H,5,FALSE),\"-\")","v":"-"}]
[null,null,null,null,null,null,null,null,null,null,null,null,null,"","","","",null,"","",null,{"$f":"IFERROR(VLOOKUP('5.Substance-in-Process'!N73,DSL!B:H,5,FALSE),\"-\")","v":"-"}]
[null,null,null,null,null,null,null,null,null,null,null,null,null,"","","","",null,"","",null,{"$f":"IFERROR(VLOOKUP('5.Substance-in-Process'!N74,DSL!B:H,5,FALSE),\"-\")","v":"-"}]
[null,null,null,null,null,null,null,null,null,null,null,null,null,"","","","",null,"","",null,{"$f":"IFERROR(VLOOKUP('5.Substance-in-Process'!N75,DSL!B:H,5,FALSE),\"-\")","v":"-"}]
[null,null,null,null,null,null,null,null,null,null,null,null,null,"","","","",null,"","",null,{"$f":"IFERROR(VLOOKUP('5.Substance-in-Process'!N76,DSL!B:H,5,FALSE),\"-\")","v":"-"}]
[null,null,null,null,null,null,null,null,null,null,"","","","","","","",null,"","",null,{"$f":"IFERROR(VLOOKUP('5.Substance-in-Process'!N77,DSL!B:H,5,FALSE),\"-\")","v":"-"}]
[null,null,null,null,null,null,null,null,null,null,"","","","","","","",null,"","",null,{"$f":"IFERROR(VLOOKUP('5.Substance-in-Process'!N78,DSL!B:H,5,FALSE),\"-\")","v":"-"}]
[null,null,null,null,null,null,null,null,null,null,null,null,null,"","","","",null,"","",null,{"$f":"IFERROR(VLOOKUP('5.Substance-in-Process'!N79,DSL!B:H,5,FALSE),\"-\")","v":"-"}]
[null,null,null,null,null,null,null,null,null,null,null,null,null,"","","","",null,"","",null,{"$f":"IFERROR(VLOOKUP('5.Substance-in-Process'!N80,DSL!B:H,5,FALSE),\"-\")","v":"-"}]
[null,null,null,null,null,null,null,null,null,null,null,null,null,"","","","",null,"","",null,{"$f":"IFERROR(VLOOKUP('5.Substance-in-Process'!N81,DSL!B:H,5,FALSE),\"-\")","v":"-"}]
[null,null,null,null,null,null,null,null,null,null,null,null,null,"","","","",null,"","",null,{"$f":"IFERROR(VLOOKUP('5.Substance-in-Process'!N82,DSL!B:H,5,FALSE),\"-\")","v":"-"}]
[null,null,null,null,null,null,null,null,null,null,"","","","","","","",null,"","",null,{"$f":"IFERROR(VLOOKUP('5.Substance-in-Process'!N83,DSL!B:H,5,FALSE),\"-\")","v":"-"}]
[null,null,null,null,null,null,null,null,null,null,"","","","","","","",null,"","",null,{"$f":"IFERROR(VLOOKUP('5.Substance-in-Process'!N84,DSL!B:H,5,FALSE),\"-\")","v":"-"}]
[null,null,null,null,null,null,null,null,null,null,null,null,null,"","","","",null,"","",null,{"$f":"IFERROR(VLOOKUP('5.Substance-in-Process'!N85,DSL!B:H,5,FALSE),\"-\")","v":"-"}]
[null,null,null,null,null,null,null,null,null,null,null,null,null,"","","","",null,"","",null,{"$f":"IFERROR(VLOOKUP('5.Substance-in-Process'!N86,DSL!B:H,5,FALSE),\"-\")","v":"-"}]
[null,null,null,null,null,null,null,null,null,null,null,null,null,"","","","",null,"","",null,{"$f":"IFERROR(VLOOKUP('5.Substance-in-Process'!N87,DSL!B:H,5,FALSE),\"-\")","v":"-"}]
[null,null,null,null,null,null,null,null,null,null,null,null,null,"","","","",null,"","",null,{"$f":"IFERROR(VLOOKUP('5.Substance-in-Process'!N88,DSL!B:H,5,FALSE),\"-\")","v":"-"}]
[null,null,null,null,null,null,null,null,null,null,null,null,null,"","","","",null,"","",null,{"$f":"IFERROR(VLOOKUP('5.Substance-in-Process'!N89,DSL!B:H,5,FALSE),\"-\")","v":"-"}]
[null,null,null,null,null,null,null,null,null,null,null,null,null,"","","","",null,"","",null,{"$f":"IFERROR(VLOOKUP('5.Substance-in-Process'!N90,DSL!B:H,5,FALSE),\"-\")","v":"-"}]
[null,null,null,null,null,null,null,null,null,null,null,null,null,"","","","",null,"","",null,{"$f":"IFERROR(VLOOKUP('5.Substance-in-Process'!N91,DSL!B:H,5,FALSE),\"-\")","v":"-"}]
[null,null,null,null,null,null,null,null,null,null,null,null,null,"","","","",null,"","",null,{"$f":"IFERROR(VLOOKUP('5.Substance-in-Process'!N92,DSL!B:H,5,FALSE),\"-\")","v":"-"}]
[null,null,null,null,null,null,null,null,null,null,null,null,null,"","","","",null,"","",null,{"$f":"IFERROR(VLOOKUP('5.Substance-in-Process'!N93,DSL!B:H,5,FALSE),\"-\")","v":"-"}]
[null,null,null,null,null,null,null,null,null,null,null,null,null,"","","","",null,"","",null,{"$f":"IFERROR(VLOOKUP('5.Substance-in-Process'!N94,DSL!B:H,5,FALSE),\"-\")","v":"-"}]
[null,null,null,null,null,null,null,null,null,null,null,null,null,"","","","",null,"","",null,{"$f":"IFERROR(VLOOKUP('5.Substance-in-Process'!N95,DSL!B:H,5,FALSE),\"-\")","v":"-"}]
[null,null,null,null,null,null,null,null,null,null,null,null,null,"","","","",null,"","",null,{"$f":"IFERROR(VLOOKUP('5.Substance-in-Process'!N96,DSL!B:H,5,FALSE),\"-\")","v":"-"}]
[null,null,null,null,null,null,null,null,null,null,null,null,null,"","","","",null,"","",null,{"$f":"IFERROR(VLOOKUP('5.Substance-in-Process'!N97,DSL!B:H,5,FALSE),\"-\")","v":"-"}]
[null,null,null,null,null,null,null,null,null,null,null,null,null,"","","","",null,"","",null,{"$f":"IFERROR(VLOOKUP('5.Substance-in-Process'!N98,DSL!B:H,5,FALSE),\"-\")","v":"-"}]
[null,null,null,null,null,null,null,null,null,null,null,null,null,"","","","",null,"","",null,{"$f":"IFERROR(VLOOKUP('5.Substance-in-Process'!N99,DSL!B:H,5,FALSE),\"-\")","v":"-"}]
[null,null,null,null,null,null,null,null,null,null,null,null,null,"","","","",null,"","",null,{"$f":"IFERROR(VLOOKUP('5.Substance-in-Process'!N100,DSL!B:H,5,FALSE),\"-\")","v":"-"}]
[null,null,null,null,null,null,null,null,null,null,null,null,null,"","","","",null,"","",null,{"$f":"IFERROR(VLOOKUP('5.Substance-in-Process'!N101,DSL!B:H,5,FALSE),\"-\")","v":"-"}]
[null,null,null,null,null,null,null,null,null,null,null,null,null,"","","","",null,"","",null,{"$f":"IFERROR(VLOOKUP('5.Substance-in-Process'!N102,DSL!B:H,5,FALSE),\"-\")","v":"-"}]
[null,null,null,null,null,null,null,null,null,null,null,null,null,"","","","",null,"","",null,{"$f":"IFERROR(VLOOKUP('5.Substance-in-Process'!N103,DSL!B:H,5,FALSE),\"-\")","v":"-"}]
[null,null,null,null,null,null,null,null,null,null,null,null,null,"","","","",null,"","",null,{"$f":"IFERROR(VLOOKUP('5.Substance-in-Process'!N104,DSL!B:H,5,FALSE),\"-\")","v":"-"}]
[null,null,null,null,null,null,null,null,null,null,null,null,null,"","","","",null,"","",null,{"$f":"IFERROR(VLOOKUP('5.Substance-in-Process'!N105,DSL!B:H,5,FALSE),\"-\")","v":"-"}]
[null,null,null,null,null,null,null,null,null,null,null,null,null,"","","","",null,"","",null,{"$f":"IFERROR(VLOOKUP('5.Substance-in-Process'!N106,DSL!B:H,5,FALSE),\"-\")","v":"-"}]
[null,null,null,null,null,null,null,null,null,null,null,null,null,"","","","",null,"","",null,{"$f":"IFERROR(VLOOKUP('5.Substance-in-Process'!N107,DSL!B:H,5,FALSE),\"-\")","v":"-"}]
[null,null,null,null,null,null,null,null,null,null,null,null,null,"","","","",null,"","",null,{"$f":"IFERROR(VLOOKUP('5.Substance-in-Process'!N108,DSL!B:H,5,FALSE),\"-\")","v":"-"}]
[null,null,null,null,null,null,null,null,null,null,null,null,null,"","","","",null,"","",null,{"$f":"IFERROR(VLOOKUP('5.Substance-in-Process'!N109,DSL!B:H,5,FALSE),\"-\")","v":"-"}]
[null,null,null,null,null,null,null,null,null,null,null,null,null,"","","","",null,"","",null,{"$f":"IFERROR(VLOOKUP('5.Substance-in-Process'!N110,DSL!B:H,5,FALSE),\"-\")","v":"-"}]
[null,null,null,null,null,null,null,null,null,null,null,null,null,"","","","",null,"","",null,{"$f":"IFERROR(VLOOKUP('5.Substance-in-Process'!N111,DSL!B:H,5,FALSE),\"-\")","v":"-"}]
[null,null,null,null,null,null,null,null,null,null,null,null,null,"","","","",null,"","",null,{"$f":"IFERROR(VLOOKUP('5.Substance-in-Process'!N112,DSL!B:H,5,FALSE),\"-\")","v":"-"}]
[null,null,null,null,null,null,null,null,null,null,null,null,null,"","","","",null,"","",null,{"$f":"IFERROR(VLOOKUP('5.Substance-in-Process'!N113,DSL!B:H,5,FALSE),\"-\")","v":"-"}]
[null,null,null,null,null,null,null,null,null,null,null,null,null,"","","","",null,"","",null,{"$f":"IFERROR(VLOOKUP('5.Substance-in-Process'!N114,DSL!B:H,5,FALSE),\"-\")","v":"-"}]
[null,null,null,null,null,null,null,null,null,null,null,null,null,"","","","",null,"","",null,{"$f":"IFERROR(VLOOKUP('5.Substance-in-Process'!N115,DSL!B:H,5,FALSE),\"-\")","v":"-"}]
[null,null,null,null,null,null,null,null,null,null,null,null,null,"","","","",null,"","",null,{"$f":"IFERROR(VLOOKUP('5.Substance-in-Process'!N116,DSL!B:H,5,FALSE),\"-\")","v":"-"}]
[null,null,null,null,null,null,null,null,null,null,null,null,null,"","","","",null,"","",null,{"$f":"IFERROR(VLOOKUP('5.Substance-in-Process'!N117,DSL!B:H,5,FALSE),\"-\")","v":"-"}]
[null,null,null,null,null,null,null,null,null,null,null,null,null,"","","","",null,"","",null,{"$f":"IFERROR(VLOOKUP('5.Substance-in-Process'!N118,DSL!B:H,5,FALSE),\"-\")","v":"-"}]
[null,null,null,null,null,null,null,null,null,null,null,null,null,"","","","",null,"","",null,{"$f":"IFERROR(VLOOKUP('5.Substance-in-Process'!N119,DSL!B:H,5,FALSE),\"-\")","v":"-"}]
[null,null,null,null,null,null,null,null,null,null,null,null,null,"","","","",null,"","",null,{"$f":"IFERROR(VLOOKUP('5.Substance-in-Process'!N120,DSL!B:H,5,FALSE),\"-\")","v":"-"}]
[null,null,null,null,null,null,null,null,null,null,null,null,null,"","","","",null,"","",null,{"$f":"IFERROR(VLOOKUP('5.Substance-in-Process'!N121,DSL!B:H,5,FALSE),\"-\")","v":"-"}]
[null,null,null,null,null,null,null,null,null,null,null,null,null,"","","",null,"",null,"",null,{"$f":"IFERROR(VLOOKUP('5.Substance-in-Process'!N122,DSL!B:H,5,FALSE),\"-\")","v":"-"}]
[null,null,null,null,null,null,null,null,null,null,null,null,null,"","","",null,"",null,"",null,{"$f":"IFERROR(VLOOKUP('5.Substance-in-Process'!N123,DSL!B:H,5,FALSE),\"-\")","v":"-"}]
[null,null,null,null,null,null,null,null,null,null,null,null,null,"","","",null,"",null,"",null,{"$f":"IFERROR(VLOOKUP('5.Substance-in-Process'!N124,DSL!B:H,5,FALSE),\"-\")","v":"-"}]
[null,null,null,null,null,null,null,null,null,null,null,null,null,"","","",null,"",null,"",null,{"$f":"IFERROR(VLOOKUP('5.Substance-in-Process'!N125,DSL!B:H,5,FALSE),\"-\")","v":"-"}]
[null,null,null,null,null,null,null,null,null,null,null,null,null,"","","",null,"",null,"",null,{"$f":"IFERROR(VLOOKUP('5.Substance-in-Process'!N126,DSL!B:H,5,FALSE),\"-\")","v":"-"}]
[null,null,null,null,null,null,null,null,null,null,null,null,null,"","","",null,"",null,"",null,{"$f":"IFERROR(VLOOKUP('5.Substance-in-Process'!N127,DSL!B:H,5,FALSE),\"-\")","v":"-"}]
[null,null,null,null,null,null,null,null,null,null,null,null,null,"","","",null,"",null,"",null,{"$f":"IFERROR(VLOOKUP('5.Substance-in-Process'!N128,DSL!B:H,5,FALSE),\"-\")","v":"-"}]
[null,null,null,null,null,null,null,null,null,null,null,null,null,"","","",null,"",null,"",null,{"$f":"IFERROR(VLOOKUP('5.Substance-in-Process'!N129,DSL!B:H,5,FALSE),\"-\")","v":"-"}]
[null,null,null,null,null,null,null,null,null,null,null,null,null,"","","",null,"",null,"",null,{"$f":"IFERROR(VLOOKUP('5.Substance-in-Process'!N130,DSL!B:H,5,FALSE),\"-\")","v":"-"}]
[null,null,null,null,null,null,null,null,null,null,null,null,null,"","","",null,"",null,"",null,{"$f":"IFERROR(VLOOKUP('5.Substance-in-Process'!N131,DSL!B:H,5,FALSE),\"-\")","v":"-"}]
[null,null,null,null,null,null,null,null,null,null,null,null,null,"","","",null,"",null,"",null,{"$f":"IFERROR(VLOOKUP('5.Substance-in-Process'!N132,DSL!B:H,5,FALSE),\"-\")","v":"-"}]
[null,null,null,null,null,null,null,null,null,null,null,null,null,"","","",null,"",null,"",null,{"$f":"IFERROR(VLOOKUP('5.Substance-in-Process'!N133,DSL!B:H,5,FALSE),\"-\")","v":"-"}]
[null,null,null,null,null,null,null,null,null,null,null,null,null,"","","",null,"",null,"",null,{"$f":"IFERROR(VLOOKUP('5.Substance-in-Process'!N134,DSL!B:H,5,FALSE),\"-\")","v":"-"}]
[null,null,null,null,null,null,null,null,null,null,null,null,null,"","","",null,"",null,"",null,{"$f":"IFERROR(VLOOKUP('5.Substance-in-Process'!N135,DSL!B:H,5,FALSE),\"-\")","v":"-"}]
[null,null,null,null,null,null,null,null,null,null,null,null,null,"","","",null,"",null,"",null,{"$f":"IFERROR(VLOOKUP('5.Substance-in-Process'!N136,DSL!B:H,5,FALSE),\"-\")","v":"-"}]
[null,null,null,null,null,null,null,null,null,null,null,null,null,"","","",null,"",null,"",null,{"$f":"IFERROR(VLOOKUP('5.Substance-in-Process'!N137,DSL!B:H,5,FALSE),\"-\")","v":"-"}]
[null,null,null,null,null,null,null,null,null,null,null,null,null,"","","",null,"",null,"",null,{"$f":"IFERROR(VLOOKUP('5.Substance-in-Process'!N138,DSL!B:H,5,FALSE),\"-\")","v":"-"}]
[null,null,null,null,null,null,null,null,null,null,null,null,null,"","","",null,"",null,"",null,{"$f":"IFERROR(VLOOKUP('5.Substance-in-Process'!N139,DSL!B:H,5,FALSE),\"-\")","v":"-"}]
[null,null,null,null,null,null,null,null,null,null,null,null,null,"","","",null,"",null,"",null,{"$f":"IFERROR(VLOOKUP('5.Substance-in-Process'!N140,DSL!B:H,5,FALSE),\"-\")","v":"-"}]
[null,null,null,null,null,null,null,null,null,null,null,null,null,"","","",null,"",null,"",null,{"$f":"IFERROR(VLOOKUP('5.Substance-in-Process'!N141,DSL!B:H,5,FALSE),\"-\")","v":"-"}]
[null,null,null,null,null,null,null,null,null,null,null,null,null,"","","",null,"",null,"",null,{"$f":"IFERROR(VLOOKUP('5.Substance-in-Process'!N142,DSL!B:H,5,FALSE),\"-\")","v":"-"}]
[null,null,null,null,null,null,null,null,null,null,null,null,null,"","","",null,"",null,"",null,{"$f":"IFERROR(VLOOKUP('5.Substance-in-Process'!N143,DSL!B:H,5,FALSE),\"-\")","v":"-"}]
[null,null,null,null,null,null,null,null,null,null,null,null,null,"","","",null,"",null,"",null,{"$f":"IFERROR(VLOOKUP('5.Substance-in-Process'!N144,DSL!B:H,5,FALSE),\"-\")","v":"-"}]
[null,null,null,null,null,null,null,null,null,null,null,null,null,"","","",null,"",null,"",null,{"$f":"IFERROR(VLOOKUP('5.Substance-in-Process'!N145,DSL!B:H,5,FALSE),\"-\")","v":"-"}]
[null,null,null,null,null,null,null,null,null,null,null,null,null,"","","",null,"",null,"",null,{"$f":"IFERROR(VLOOKUP('5.Substance-in-Process'!N146,DSL!B:H,5,FALSE),\"-\")","v":"-"}]
[null,null,null,null,null,null,null,null,null,null,null,null,null,"","","",null,"",null,"",null,{"$f":"IFERROR(VLOOKUP('5.Substance-in-Process'!N147,DSL!B:H,5,FALSE),\"-\")","v":"-"}]
[null,null,null,null,null,null,null,null,null,null,null,null,null,"","","",null,"",null,"",null,{"$f":"IFERROR(VLOOKUP('5.Substance-in-Process'!N148,DSL!B:H,5,FALSE),\"-\")","v":"-"}]
[null,null,null,null,null,null,null,null,null,null,null,null,null,"","","",null,"",null,"",null,{"$f":"IFERROR(VLOOKUP('5.Substance-in-Process'!N149,DSL!B:H,5,FALSE),\"-\")","v":"-"}]
[null,null,null,null,null,null,null,null,null,null,null,null,null,"","","",null,"",null,"",null,{"$f":"IFERROR(VLOOKUP('5.Substance-in-Process'!N150,DSL!B:H,5,FALSE),\"-\")","v":"-"}]
[null,null,null,null,null,null,null,null,null,null,null,null,null,"","","",null,"",null,"",null,{"$f":"IFERROR(VLOOKUP('5.Substance-in-Process'!N151,DSL!B:H,5,FALSE),\"-\")","v":"-"}]
[null,null,null,null,null,null,null,null,null,null,null,null,null,"","","",null,"",null,"",null,{"$f":"IFERROR(VLOOKUP('5.Substance-in-Process'!N152,DSL!B:H,5,FALSE),\"-\")","v":"-"}]
[null,null,null,null,null,null,null,null,null,null,null,null,null,"","","",null,"",null,"",null,{"$f":"IFERROR(VLOOKUP('5.Substance-in-Process'!N153,DSL!B:H,5,FALSE),\"-\")","v":"-"}]
[null,null,null,null,null,null,null,null,null,null,null,null,null,"","","",null,"",null,"",null,{"$f":"IFERROR(VLOOKUP('5.Substance-in-Process'!N154,DSL!B:H,5,FALSE),\"-\")","v":"-"}]
[null,null,null,null,null,null,null,null,null,null,null,null,null,"","","",null,"",null,"",null,{"$f":"IFERROR(VLOOKUP('5.Substance-in-Process'!N155,DSL!B:H,5,FALSE),\"-\")","v":"-"}]
[null,null,null,null,null,null,null,null,null,null,null,null,null,"","","",null,"",null,"",null,{"$f":"IFERROR(VLOOKUP('5.Substance-in-Process'!N156,DSL!B:H,5,FALSE),\"-\")","v":"-"}]
[null,null,null,null,null,null,null,null,null,null,null,null,null,"","","",null,"",null,"",null,{"$f":"IFERROR(VLOOKUP('5.Substance-in-Process'!N157,DSL!B:H,5,FALSE),\"-\")","v":"-"}]
[null,null,null,null,null,null,null,null,null,null,null,null,null,"","","",null,"",null,"",null,{"$f":"IFERROR(VLOOKUP('5.Substance-in-Process'!N158,DSL!B:H,5,FALSE),\"-\")","v":"-"}]
[null,null,null,null,null,null,null,null,null,null,null,null,null,"","","",null,"",null,"",null,{"$f":"IFERROR(VLOOKUP('5.Substance-in-Process'!N159,DSL!B:H,5,FALSE),\"-\")","v":"-"}]
[null,null,null,null,null,null,null,null,null,null,null,null,null,"","","",null,"",null,"",null,{"$f":"IFERROR(VLOOKUP('5.Substance-in-Process'!N160,DSL!B:H,5,FALSE),\"-\")","v":"-"}]
[null,null,null,null,null,null,null,null,null,null,null,null,null,"","","",null,"",null,"",null,{"$f":"IFERROR(VLOOKUP('5.Substance-in-Process'!N161,DSL!B:H,5,FALSE),\"-\")","v":"-"}]
[null,null,null,null,null,null,null,null,null,null,null,null,null,"","","",null,"",null,"",null,{"$f":"IFERROR(VLOOKUP('5.Substance-in-Process'!N162,DSL!B:H,5,FALSE),\"-\")","v":"-"}]
[null,null,null,null,null,null,null,null,null,null,null,null,null,"","","",null,"",null,"",null,{"$f":"IFERROR(VLOOKUP('5.Substance-in-Process'!N163,DSL!B:H,5,FALSE),\"-\")","v":"-"}]
[null,null,null,null,null,null,null,null,null,null,null,null,null,"","","",null,"",null,"",null,{"$f":"IFERROR(VLOOKUP('5.Substance-in-Process'!N164,DSL!B:H,5,FALSE),\"-\")","v":"-"}]
[null,null,null,null,null,null,null,null,null,null,null,null,null,"","","",null,"",null,"",null,{"$f":"IFERROR(VLOOKUP('5.Substance-in-Process'!N165,DSL!B:H,5,FALSE),\"-\")","v":"-"}]
[null,null,null,null,null,null,null,null,null,null,null,null,null,"","","",null,"",null,"",null,{"$f":"IFERROR(VLOOKUP('5.Substance-in-Process'!N166,DSL!B:H,5,FALSE),\"-\")","v":"-"}]
[null,null,null,null,null,null,null,null,null,null,null,null,null,"","","",null,"",null,"",null,{"$f":"IFERROR(VLOOKUP('5.Substance-in-Process'!N167,DSL!B:H,5,FALSE),\"-\")","v":"-"}]
[null,null,null,null,null,null,null,null,null,null,null,null,null,"","","",null,"",null,"",null,{"$f":"IFERROR(VLOOKUP('5.Substance-in-Process'!N168,DSL!B:H,5,FALSE),\"-\")","v":"-"}]
[null,null,null,null,null,null,null,null,null,null,null,null,null,"","","",null,"",null,"",null,{"$f":"IFERROR(VLOOKUP('5.Substance-in-Process'!N169,DSL!B:H,5,FALSE),\"-\")","v":"-"}]
[null,null,null,null,null,null,null,null,null,null,null,null,null,"","","",null,"",null,"",null,{"$f":"IFERROR(VLOOKUP('5.Substance-in-Process'!N170,DSL!B:H,5,FALSE),\"-\")","v":"-"}]
[null,null,null,null,null,null,null,null,null,null,null,null,null,"","","",null,"",null,"",null,{"$f":"IFERROR(VLOOKUP('5.Substance-in-Process'!N171,DSL!B:H,5,FALSE),\"-\")","v":"-"}]
[null,null,null,null,null,null,null,null,null,null,null,null,null,"","","",null,"",null,"",null,{"$f":"IFERROR(VLOOKUP('5.Substance-in-Process'!N172,DSL!B:H,5,FALSE),\"-\")","v":"-"}]
[null,null,null,null,null,null,null,null,null,null,null,null,null,"","","",null,"",null,"",null,{"$f":"IFERROR(VLOOKUP('5.Substance-in-Process'!N173,DSL!B:H,5,FALSE),\"-\")","v":"-"}]
[null,null,null,null,null,null,null,null,null,null,null,null,null,"","","",null,"",null,"",null,{"$f":"IFERROR(VLOOKUP('5.Substance-in-Process'!N174,DSL!B:H,5,FALSE),\"-\")","v":"-"}]
[null,null,null,null,null,null,null,null,null,null,null,null,null,"","","",null,"",null,"",null,{"$f":"IFERROR(VLOOKUP('5.Substance-in-Process'!N175,DSL!B:H,5,FALSE),\"-\")","v":"-"}]
[null,null,null,null,null,null,null,null,null,null,null,null,null,"","","",null,"",null,"",null,{"$f":"IFERROR(VLOOKUP('5.Substance-in-Process'!N176,DSL!B:H,5,FALSE),\"-\")","v":"-"}]
[null,null,null,null,null,null,null,null,null,null,null,null,null,"","","",null,"",null,"",null,{"$f":"IFERROR(VLOOKUP('5.Substance-in-Process'!N177,DSL!B:H,5,FALSE),\"-\")","v":"-"}]
[null,null,null,null,null,null,null,null,null,null,null,null,null,"","","",null,"",null,"",null,{"$f":"IFERROR(VLOOKUP('5.Substance-in-Process'!N178,DSL!B:H,5,FALSE),\"-\")","v":"-"}]
[null,null,null,null,null,null,null,null,null,null,null,null,null,"","","",null,"",null,"",null,{"$f":"IFERROR(VLOOKUP('5.Substance-in-Process'!N179,DSL!B:H,5,FALSE),\"-\")","v":"-"}]
[null,null,null,null,null,null,null,null,null,null,null,null,null,"","","",null,"",null,"",null,{"$f":"IFERROR(VLOOKUP('5.Substance-in-Process'!N180,DSL!B:H,5,FALSE),\"-\")","v":"-"}]
[null,null,null,null,null,null,null,null,null,null,null,null,null,"","","",null,"",null,"",null,{"$f":"IFERROR(VLOOKUP('5.Substance-in-Process'!N181,DSL!B:H,5,FALSE),\"-\")","v":"-"}]
[null,null,null,null,null,null,null,null,null,null,null,null,null,"","","",null,"",null,"",null,{"$f":"IFERROR(VLOOKUP('5.Substance-in-Process'!N182,DSL!B:H,5,FALSE),\"-\")","v":"-"}]
[null,null,null,null,null,null,null,null,null,null,null,null,null,"","","",null,"",null,"",null,{"$f":"IFERROR(VLOOKUP('5.Substance-in-Process'!N183,DSL!B:H,5,FALSE),\"-\")","v":"-"}]
[null,null,null,null,null,null,null,null,null,null,null,null,null,"","","",null,"",null,"",null,{"$f":"IFERROR(VLOOKUP('5.Substance-in-Process'!N184,DSL!B:H,5,FALSE),\"-\")","v":"-"}]
[null,null,null,null,null,null,null,null,null,null,null,null,null,"","","",null,"",null,"",null,{"$f":"IFERROR(VLOOKUP('5.Substance-in-Process'!N185,DSL!B:H,5,FALSE),\"-\")","v":"-"}]
[null,null,null,null,null,null,null,null,null,null,null,null,null,"","","",null,"",null,"",null,{"$f":"IFERROR(VLOOKUP('5.Substance-in-Process'!N186,DSL!B:H,5,FALSE),\"-\")","v":"-"}]
[null,null,null,null,null,null,null,null,null,null,null,null,null,"","","",null,"",null,"",null,{"$f":"IFERROR(VLOOKUP('5.Substance-in-Process'!N187,DSL!B:H,5,FALSE),\"-\")","v":"-"}]
[null,null,null,null,null,null,null,null,null,null,null,null,null,"","","",null,"",null,"",null,{"$f":"IFERROR(VLOOKUP('5.Substance-in-Process'!N188,DSL!B:H,5,FALSE),\"-\")","v":"-"}]
[null,null,null,null,null,null,null,null,null,null,null,null,null,"","","",null,"",null,"",null,{"$f":"IFERROR(VLOOKUP('5.Substance-in-Process'!N189,DSL!B:H,5,FALSE),\"-\")","v":"-"}]
[null,null,null,null,null,null,null,null,null,null,null,null,null,"","","",null,"",null,"",null,{"$f":"IFERROR(VLOOKUP('5.Substance-in-Process'!N190,DSL!B:H,5,FALSE),\"-\")","v":"-"}]
[null,null,null,null,null,null,null,null,null,null,null,null,null,"","","",null,"",null,"",null,{"$f":"IFERROR(VLOOKUP('5.Substance-in-Process'!N191,DSL!B:H,5,FALSE),\"-\")","v":"-"}]
[null,null,null,null,null,null,null,null,null,null,null,null,null,"","","",null,"",null,"",null,{"$f":"IFERROR(VLOOKUP('5.Substance-in-Process'!N192,DSL!B:H,5,FALSE),\"-\")","v":"-"}]
[null,null,null,null,null,null,null,null,null,null,null,null,null,"","","",null,"",null,"",null,{"$f":"IFERROR(VLOOKUP('5.Substance-in-Process'!N193,DSL!B:H,5,FALSE),\"-\")","v":"-"}]
[null,null,null,null,null,null,null,null,null,null,null,null,null,"","","",null,"",null,"",null,{"$f":"IFERROR(VLOOKUP('5.Substance-in-Process'!N194,DSL!B:H,5,FALSE),\"-\")","v":"-"}]
[null,null,null,null,null,null,null,null,null,null,null,null,null,"","","",null,"",null,"",null,{"$f":"IFERROR(VLOOKUP('5.Substance-in-Process'!N195,DSL!B:H,5,FALSE),\"-\")","v":"-"}]
[null,null,null,null,null,null,null,null,null,null,null,null,null,"","","",null,"",null,"",null,{"$f":"IFERROR(VLOOKUP('5.Substance-in-Process'!N196,DSL!B:H,5,FALSE),\"-\")","v":"-"}]
[null,null,null,null,null,null,null,null,null,null,null,null,null,"","","",null,"",null,"",null,{"$f":"IFERROR(VLOOKUP('5.Substance-in-Process'!N197,DSL!B:H,5,FALSE),\"-\")","v":"-"}]
[null,null,null,null,null,null,null,null,null,null,null,null,null,"","","",null,"",null,"",null,{"$f":"IFERROR(VLOOKUP('5.Substance-in-Process'!N198,DSL!B:H,5,FALSE),\"-\")","v":"-"}]
[null,null,null,null,null,null,null,null,null,null,null,null,null,"","","",null,"",null,"",null,{"$f":"IFERROR(VLOOKUP('5.Substance-in-Process'!N199,DSL!B:H,5,FALSE),\"-\")","v":"-"}]
[null,null,null,null,null,null,null,null,null,null,null,null,null,"","","",null,"",null,"",null,{"$f":"IFERROR(VLOOKUP('5.Substance-in-Process'!N200,DSL!B:H,5,FALSE),\"-\")","v":"-"}]
[null,null,null,null,null,null,null,null,null,null,null,null,null,"","","",null,"",null,"",null,{"$f":"IFERROR(VLOOKUP('5.Substance-in-Process'!N201,DSL!B:H,5,FALSE),\"-\")","v":"-"}]
[null,null,null,null,null,null,null,null,null,null,null,null,null,"","","",null,"",null,"",null,{"$f":"IFERROR(VLOOKUP('5.Substance-in-Process'!N202,DSL!B:H,5,FALSE),\"-\")","v":"-"}]
[null,null,null,null,null,null,null,null,null,null,null,null,null,"","","",null,"",null,"",null,{"$f":"IFERROR(VLOOKUP('5.Substance-in-Process'!N203,DSL!B:H,5,FALSE),\"-\")","v":"-"}]
[null,null,null,null,null,null,null,null,null,null,null,null,null,"","","",null,"",null,"",null,{"$f":"IFERROR(VLOOKUP('5.Substance-in-Process'!N204,DSL!B:H,5,FALSE),\"-\")","v":"-"}]
[null,null,null,null,null,null,null,null,null,null,null,null,null,"","","",null,"",null,"",null,{"$f":"IFERROR(VLOOKUP('5.Substance-in-Process'!N205,DSL!B:H,5,FALSE),\"-\")","v":"-"}]
[null,null,null,null,null,null,null,null,null,null,null,null,null,"","","",null,"",null,"",null,{"$f":"IFERROR(VLOOKUP('5.Substance-in-Process'!N206,DSL!B:H,5,FALSE),\"-\")","v":"-"}]
[null,null,null,null,null,null,null,null,null,null,null,null,null,"","","",null,"",null,"",null,{"$f":"IFERROR(VLOOKUP('5.Substance-in-Process'!N207,DSL!B:H,5,FALSE),\"-\")","v":"-"}]
[null,null,null,null,null,null,null,null,null,null,null,null,null,"","","",null,"",null,"",null,{"$f":"IFERROR(VLOOKUP('5.Substance-in-Process'!N208,DSL!B:H,5,FALSE),\"-\")","v":"-"}]
[null,null,null,null,null,null,null,null,null,null,null,null,null,"","","",null,"",null,"",null,{"$f":"IFERROR(VLOOKUP('5.Substance-in-Process'!N209,DSL!B:H,5,FALSE),\"-\")","v":"-"}]
[null,null,null,null,null,null,null,null,null,null,null,null,null,"","","",null,"",null,"",null,{"$f":"IFERROR(VLOOKUP('5.Substance-in-Process'!N210,DSL!B:H,5,FALSE),\"-\")","v":"-"}]
[null,null,null,null,null,null,null,null,null,null,null,null,null,"","","",null,"",null,"",null,{"$f":"IFERROR(VLOOKUP('5.Substance-in-Process'!N211,DSL!B:H,5,FALSE),\"-\")","v":"-"}]
[null,null,null,null,null,null,null,null,null,null,null,null,null,"","","",null,"",null,"",null,{"$f":"IFERROR(VLOOKUP('5.Substance-in-Process'!N212,DSL!B:H,5,FALSE),\"-\")","v":"-"}]
[null,null,null,null,null,null,null,null,null,null,null,null,null,"","","",null,"",null,"",null,{"$f":"IFERROR(VLOOKUP('5.Substance-in-Process'!N213,DSL!B:H,5,FALSE),\"-\")","v":"-"}]
[null,null,null,null,null,null,null,null,null,null,null,null,null,"","","",null,"",null,"",null,{"$f":"IFERROR(VLOOKUP('5.Substance-in-Process'!N214,DSL!B:H,5,FALSE),\"-\")","v":"-"}]
[null,null,null,null,null,null,null,null,null,null,null,null,null,"","","",null,"",null,"",null,{"$f":"IFERROR(VLOOKUP('5.Substance-in-Process'!N215,DSL!B:H,5,FALSE),\"-\")","v":"-"}]
[null,null,null,null,null,null,null,null,null,null,null,null,null,"","","",null,"",null,"",null,{"$f":"IFERROR(VLOOKUP('5.Substance-in-Process'!N216,DSL!B:H,5,FALSE),\"-\")","v":"-"}]
[null,null,null,null,null,null,null,null,null,null,null,null,null,"","","",null,"",null,"",null,{"$f":"IFERROR(VLOOKUP('5.Substance-in-Process'!N217,DSL!B:H,5,FALSE),\"-\")","v":"-"}]
[null,null,null,null,null,null,null,null,null,null,null,null,null,"","","",null,"",null,"",null,{"$f":"IFERROR(VLOOKUP('5.Substance-in-Process'!N218,DSL!B:H,5,FALSE),\"-\")","v":"-"}]
[null,null,null,null,null,null,null,null,null,null,null,null,null,"","","",null,"",null,"",null,{"$f":"IFERROR(VLOOKUP('5.Substance-in-Process'!N219,DSL!B:H,5,FALSE),\"-\")","v":"-"}]
[null,null,null,null,null,null,null,null,null,null,null,null,null,"","","",null,"",null,"",null,{"$f":"IFERROR(VLOOKUP('5.Substance-in-Process'!N220,DSL!B:H,5,FALSE),\"-\")","v":"-"}]
[null,null,null,null,null,null,null,null,null,null,null,null,null,"","","",null,"",null,"",null,{"$f":"IFERROR(VLOOKUP('5.Substance-in-Process'!N221,DSL!B:H,5,FALSE),\"-\")","v":"-"}]
[null,null,null,null,null,null,null,null,null,null,null,null,null,"","","",null,"",null,"",null,{"$f":"IFERROR(VLOOKUP('5.Substance-in-Process'!N222,DSL!B:H,5,FALSE),\"-\")","v":"-"}]
[null,null,null,null,null,null,null,null,null,null,null,null,null,"","","",null,"",null,"",null,{"$f":"IFERROR(VLOOKUP('5.Substance-in-Process'!N223,DSL!B:H,5,FALSE),\"-\")","v":"-"}]
[null,null,null,null,null,null,null,null,null,null,null,null,null,"","","",null,"",null,"",null,{"$f":"IFERROR(VLOOKUP('5.Substance-in-Process'!N224,DSL!B:H,5,FALSE),\"-\")","v":"-"}]
[null,null,null,null,null,null,null,null,null,null,null,null,null,"","","",null,"",null,"",null,{"$f":"IFERROR(VLOOKUP('5.Substance-in-Process'!N225,DSL!B:H,5,FALSE),\"-\")","v":"-"}]
[null,null,null,null,null,null,null,null,null,null,null,null,null,"","","",null,"",null,"",null,{"$f":"IFERROR(VLOOKUP('5.Substance-in-Process'!N226,DSL!B:H,5,FALSE),\"-\")","v":"-"}]
[null,null,null,null,null,null,null,null,null,null,null,null,null,"","","",null,"",null,"",null,{"$f":"IFERROR(VLOOKUP('5.Substance-in-Process'!N227,DSL!B:H,5,FALSE),\"-\")","v":"-"}]
[null,null,null,null,null,null,null,null,null,null,null,null,null,"","","",null,"",null,"",null,{"$f":"IFERROR(VLOOKUP('5.Substance-in-Process'!N228,DSL!B:H,5,FALSE),\"-\")","v":"-"}]
[null,null,null,null,null,null,null,null,null,null,null,null,null,"","","",null,"",null,"",null,{"$f":"IFERROR(VLOOKUP('5.Substance-in-Process'!N229,DSL!B:H,5,FALSE),\"-\")","v":"-"}]
[null,null,null,null,null,null,null,null,null,null,null,null,null,"","","",null,"",null,"",null,{"$f":"IFERROR(VLOOKUP('5.Substance-in-Process'!N230,DSL!B:H,5,FALSE),\"-\")","v":"-"}]
[null,null,null,null,null,null,null,null,null,null,null,null,null,"","","",null,"",null,"",null,{"$f":"IFERROR(VLOOKUP('5.Substance-in-Process'!N231,DSL!B:H,5,FALSE),\"-\")","v":"-"}]
[null,null,null,null,null,null,null,null,null,null,null,null,null,"","","",null,"",null,"",null,{"$f":"IFERROR(VLOOKUP('5.Substance-in-Process'!N232,DSL!B:H,5,FALSE),\"-\")","v":"-"}]
[null,null,null,null,null,null,null,null,null,null,null,null,null,"","","",null,"",null,"",null,{"$f":"IFERROR(VLOOKUP('5.Substance-in-Process'!N233,DSL!B:H,5,FALSE),\"-\")","v":"-"}]
[null,null,null,null,null,null,null,null,null,null,null,null,null,"","","",null,"",null,"",null,{"$f":"IFERROR(VLOOKUP('5.Substance-in-Process'!N234,DSL!B:H,5,FALSE),\"-\")","v":"-"}]
[null,null,null,null,null,null,null,null,null,null,null,null,null,"","","",null,"",null,"",null,{"$f":"IFERROR(VLOOKUP('5.Substance-in-Process'!N235,DSL!B:H,5,FALSE),\"-\")","v":"-"}]
[null,null,null,null,null,null,null,null,null,null,null,null,null,"","","",null,"",null,"",null,{"$f":"IFERROR(VLOOKUP('5.Substance-in-Process'!N236,DSL!B:H,5,FALSE),\"-\")","v":"-"}]
[null,null,null,null,null,null,null,null,null,null,null,null,null,"","","",null,"",null,"",null,{"$f":"IFERROR(VLOOKUP('5.Substance-in-Process'!N237,DSL!B:H,5,FALSE),\"-\")","v":"-"}]
[null,null,null,null,null,null,null,null,null,null,null,null,null,"","","",null,"",null,"",null,{"$f":"IFERROR(VLOOKUP('5.Substance-in-Process'!N238,DSL!B:H,5,FALSE),\"-\")","v":"-"}]
[null,null,null,null,null,null,null,null,null,null,null,null,null,"","","",null,"",null,"",null,{"$f":"IFERROR(VLOOKUP('5.Substance-in-Process'!N239,DSL!B:H,5,FALSE),\"-\")","v":"-"}]
[null,null,null,null,null,null,null,null,null,null,null,null,null,"","","",null,"",null,"",null,{"$f":"IFERROR(VLOOKUP('5.Substance-in-Process'!N240,DSL!B:H,5,FALSE),\"-\")","v":"-"}]
[null,null,null,null,null,null,null,null,null,null,null,null,null,"","","",null,"",null,"",null,{"$f":"IFERROR(VLOOKUP('5.Substance-in-Process'!N241,DSL!B:H,5,FALSE),\"-\")","v":"-"}]
[null,null,null,null,null,null,null,null,null,null,null,null,null,"","","",null,"",null,"",null,{"$f":"IFERROR(VLOOKUP('5.Substance-in-Process'!N242,DSL!B:H,5,FALSE),\"-\")","v":"-"}]
[null,null,null,null,null,null,null,null,null,null,null,null,null,"","","",null,"",null,"",null,{"$f":"IFERROR(VLOOKUP('5.Substance-in-Process'!N243,DSL!B:H,5,FALSE),\"-\")","v":"-"}]
[null,null,null,null,null,null,null,null,null,null,null,null,null,"","","",null,"",null,"",null,{"$f":"IFERROR(VLOOKUP('5.Substance-in-Process'!N244,DSL!B:H,5,FALSE),\"-\")","v":"-"}]
[null,null,null,null,null,null,null,null,null,null,null,null,null,"","","",null,"",null,"",null,{"$f":"IFERROR(VLOOKUP('5.Substance-in-Process'!N245,DSL!B:H,5,FALSE),\"-\")","v":"-"}]
[null,null,null,null,null,null,null,null,null,null,null,null,null,"","","",null,"",null,"",null,{"$f":"IFERROR(VLOOKUP('5.Substance-in-Process'!N246,DSL!B:H,5,FALSE),\"-\")","v":"-"}]
[null,null,null,null,null,null,null,null,null,null,null,null,null,"","","",null,"",null,"",null,{"$f":"IFERROR(VLOOKUP('5.Substance-in-Process'!N247,DSL!B:H,5,FALSE),\"-\")","v":"-"}]
[null,null,null,null,null,null,null,null,null,null,null,null,null,"","","",null,"",null,"",null,{"$f":"IFERROR(VLOOKUP('5.Substance-in-Process'!N248,DSL!B:H,5,FALSE),\"-\")","v":"-"}]
[null,null,null,null,null,null,null,null,null,null,null,null,null,"","","",null,"",null,"",null,{"$f":"IFERROR(VLOOKUP('5.Substance-in-Process'!N249,DSL!B:H,5,FALSE),\"-\")","v":"-"}]
[null,null,null,null,null,null,null,null,null,null,null,null,null,"","","",null,"",null,"",null,{"$f":"IFERROR(VLOOKUP('5.Substance-in-Process'!N250,DSL!B:H,5,FALSE),\"-\")","v":"-"}]
[null,null,null,null,null,null,null,null,null,null,null,null,null,"","","",null,"",null,"",null,{"$f":"IFERROR(VLOOKUP('5.Substance-in-Process'!N251,DSL!B:H,5,FALSE),\"-\")","v":"-"}]
[null,null,null,null,null,null,null,null,null,null,null,null,null,"","","",null,"",null,"",null,{"$f":"IFERROR(VLOOKUP('5.Substance-in-Process'!N252,DSL!B:H,5,FALSE),\"-\")","v":"-"}]
[null,null,null,null,null,null,null,null,null,null,null,null,null,"","","",null,"",null,"",null,{"$f":"IFERROR(VLOOKUP('5.Substance-in-Process'!N253,DSL!B:H,5,FALSE),\"-\")","v":"-"}]
[null,null,null,null,null,null,null,null,null,null,null,null,null,"","","",null,"",null,"",null,{"$f":"IFERROR(VLOOKUP('5.Substance-in-Process'!N254,DSL!B:H,5,FALSE),\"-\")","v":"-"}]
[null,null,null,null,null,null,null,null,null,null,null,null,null,"","","",null,"",null,"",null,{"$f":"IFERROR(VLOOKUP('5.Substance-in-Process'!N255,DSL!B:H,5,FALSE),\"-\")","v":"-"}]
[null,null,null,null,null,null,null,null,null,null,null,null,null,"","","",null,"",null,"",null,{"$f":"IFERROR(VLOOKUP('5.Substance-in-Process'!N256,DSL!B:H,5,FALSE),\"-\")","v":"-"}]
[null,null,null,null,null,null,null,null,null,null,null,null,null,"","","",null,"",null,"",null,{"$f":"IFERROR(VLOOKUP('5.Substance-in-Process'!N257,DSL!B:H,5,FALSE),\"-\")","v":"-"}]
[null,null,null,null,null,null,null,null,null,null,null,null,null,"","","",null,"",null,"",null,{"$f":"IFERROR(VLOOKUP('5.Substance-in-Process'!N258,DSL!B:H,5,FALSE),\"-\")","v":"-"}]
[null,null,null,null,null,null,null,null,null,null,null,null,null,"","","",null,"",null,"",null,{"$f":"IFERROR(VLOOKUP('5.Substance-in-Process'!N259,DSL!B:H,5,FALSE),\"-\")","v":"-"}]
[null,null,null,null,null,null,null,null,null,null,null,null,null,"","","",null,"",null,"",null,{"$f":"IFERROR(VLOOKUP('5.Substance-in-Process'!N260,DSL!B:H,5,FALSE),\"-\")","v":"-"}]
[null,null,null,null,null,null,null,null,null,null,null,null,null,"","","",null,"",null,"",null,{"$f":"IFERROR(VLOOKUP('5.Substance-in-Process'!N261,DSL!B:H,5,FALSE),\"-\")","v":"-"}]
[null,null,null,null,null,null,null,null,null,null,null,null,null,"","","",null,"",null,"",null,{"$f":"IFERROR(VLOOKUP('5.Substance-in-Process'!N262,DSL!B:H,5,FALSE),\"-\")","v":"-"}]
[null,null,null,null,null,null,null,null,null,null,null,null,null,"","","",null,"",null,"",null,{"$f":"IFERROR(VLOOKUP('5.Substance-in-Process'!N263,DSL!B:H,5,FALSE),\"-\")","v":"-"}]
[null,null,null,null,null,null,null,null,null,null,null,null,null,"","","",null,"",null,"",null,{"$f":"IFERROR(VLOOKUP('5.Substance-in-Process'!N264,DSL!B:H,5,FALSE),\"-\")","v":"-"}]
[null,null,null,null,null,null,null,null,null,null,null,null,null,"","","",null,"",null,"",null,{"$f":"IFERROR(VLOOKUP('5.Substance-in-Process'!N265,DSL!B:H,5,FALSE),\"-\")","v":"-"}]
[null,null,null,null,null,null,null,null,null,null,null,null,null,"","","",null,"",null,"",null,{"$f":"IFERROR(VLOOKUP('5.Substance-in-Process'!N266,DSL!B:H,5,FALSE),\"-\")","v":"-"}]
[null,null,null,null,null,null,null,null,null,null,null,null,null,"","","",null,"",null,"",null,{"$f":"IFERROR(VLOOKUP('5.Substance-in-Process'!N267,DSL!B:H,5,FALSE),\"-\")","v":"-"}]
[null,null,null,null,null,null,null,null,null,null,null,null,null,"","","",null,"",null,"",null,{"$f":"IFERROR(VLOOKUP('5.Substance-in-Process'!N268,DSL!B:H,5,FALSE),\"-\")","v":"-"}]
[null,null,null,null,null,null,null,null,null,null,null,null,null,"","","",null,"",null,"",null,{"$f":"IFERROR(VLOOKUP('5.Substance-in-Process'!N269,DSL!B:H,5,FALSE),\"-\")","v":"-"}]
[null,null,null,null,null,null,null,null,null,null,null,null,null,"","","",null,"",null,"",null,{"$f":"IFERROR(VLOOKUP('5.Substance-in-Process'!N270,DSL!B:H,5,FALSE),\"-\")","v":"-"}]
[null,null,null,null,null,null,null,null,null,null,null,null,null,"","","",null,"",null,"",null,{"$f":"IFERROR(VLOOKUP('5.Substance-in-Process'!N271,DSL!B:H,5,FALSE),\"-\")","v":"-"}]
[null,null,null,null,null,null,null,null,null,null,null,null,null,"","","",null,"",null,"",null,{"$f":"IFERROR(VLOOKUP('5.Substance-in-Process'!N272,DSL!B:H,5,FALSE),\"-\")","v":"-"}]
[null,null,null,null,null,null,null,null,null,null,null,null,null,"","","",null,"",null,"",null,{"$f":"IFERROR(VLOOKUP('5.Substance-in-Process'!N273,DSL!B:H,5,FALSE),\"-\")","v":"-"}]
[null,null,null,null,null,null,null,null,null,null,null,null,null,"","","",null,"",null,"",null,{"$f":"IFERROR(VLOOKUP('5.Substance-in-Process'!N274,DSL!B:H,5,FALSE),\"-\")","v":"-"}]
[null,null,null,null,null,null,null,null,null,null,null,null,null,"","","",null,"",null,"",null,{"$f":"IFERROR(VLOOKUP('5.Substance-in-Process'!N275,DSL!B:H,5,FALSE),\"-\")","v":"-"}]
[null,null,null,null,null,null,null,null,null,null,null,null,null,"","","",null,"",null,"",null,{"$f":"IFERROR(VLOOKUP('5.Substance-in-Process'!N276,DSL!B:H,5,FALSE),\"-\")","v":"-"}]
[null,null,null,null,null,null,null,null,null,null,null,null,null,"","","",null,"",null,"",null,{"$f":"IFERROR(VLOOKUP('5.Substance-in-Process'!N277,DSL!B:H,5,FALSE),\"-\")","v":"-"}]
[null,null,null,null,null,null,null,null,null,null,null,null,null,"","","",null,"",null,"",null,{"$f":"IFERROR(VLOOKUP('5.Substance-in-Process'!N278,DSL!B:H,5,FALSE),\"-\")","v":"-"}]
[null,null,null,null,null,null,null,null,null,null,null,null,null,"","","",null,"",null,"",null,{"$f":"IFERROR(VLOOKUP('5.Substance-in-Process'!N279,DSL!B:H,5,FALSE),\"-\")","v":"-"}]
[null,null,null,null,null,null,null,null,null,null,null,null,null,"","","",null,"",null,"",null,{"$f":"IFERROR(VLOOKUP('5.Substance-in-Process'!N280,DSL!B:H,5,FALSE),\"-\")","v":"-"}]
[null,null,null,null,null,null,null,null,null,null,null,null,null,"","","",null,"",null,"",null,{"$f":"IFERROR(VLOOKUP('5.Substance-in-Process'!N281,DSL!B:H,5,FALSE),\"-\")","v":"-"}]
[null,null,null,null,null,null,null,null,null,null,null,null,null,"","","",null,"",null,"",null,{"$f":"IFERROR(VLOOKUP('5.Substance-in-Process'!N282,DSL!B:H,5,FALSE),\"-\")","v":"-"}]
[null,null,null,null,null,null,null,null,null,null,null,null,null,"","","",null,"",null,"",null,{"$f":"IFERROR(VLOOKUP('5.Substance-in-Process'!N283,DSL!B:H,5,FALSE),\"-\")","v":"-"}]
[null,null,null,null,null,null,null,null,null,null,null,null,null,"","","",null,"",null,"",null,{"$f":"IFERROR(VLOOKUP('5.Substance-in-Process'!N284,DSL!B:H,5,FALSE),\"-\")","v":"-"}]
[null,null,null,null,null,null,null,null,null,null,null,null,null,"","","",null,"",null,"",null,{"$f":"IFERROR(VLOOKUP('5.Substance-in-Process'!N285,DSL!B:H,5,FALSE),\"-\")","v":"-"}]
[null,null,null,null,null,null,null,null,null,null,null,null,null,"","","",null,"",null,"",null,{"$f":"IFERROR(VLOOKUP('5.Substance-in-Process'!N286,DSL!B:H,5,FALSE),\"-\")","v":"-"}]
[null,null,null,null,null,null,null,null,null,null,null,null,null,"","","",null,"",null,"",null,{"$f":"IFERROR(VLOOKUP('5.Substance-in-Process'!N287,DSL!B:H,5,FALSE),\"-\")","v":"-"}]
[null,null,null,null,null,null,null,null,null,null,null,null,null,"","","",null,"",null,"",null,{"$f":"IFERROR(VLOOKUP('5.Substance-in-Process'!N288,DSL!B:H,5,FALSE),\"-\")","v":"-"}]
[null,null,null,null,null,null,null,null,null,null,null,null,null,"","","",null,"",null,"",null,{"$f":"IFERROR(VLOOKUP('5.Substance-in-Process'!N289,DSL!B:H,5,FALSE),\"-\")","v":"-"}]
[null,null,null,null,null,null,null,null,null,null,null,null,null,"","","",null,"",null,"",null,{"$f":"IFERROR(VLOOKUP('5.Substance-in-Process'!N290,DSL!B:H,5,FALSE),\"-\")","v":"-"}]
[null,null,null,null,null,null,null,null,null,null,null,null,null,"","","",null,"",null,"",null,{"$f":"IFERROR(VLOOKUP('5.Substance-in-Process'!N291,DSL!B:H,5,FALSE),\"-\")","v":"-"}]
[null,null,null,null,null,null,null,null,null,null,null,null,null,"","","",null,"",null,"",null,{"$f":"IFERROR(VLOOKUP('5.Substance-in-Process'!N292,DSL!B:H,5,FALSE),\"-\")","v":"-"}]
[null,null,null,null,null,null,null,null,null,null,null,null,null,"","","",null,"",null,"",null,{"$f":"IFERROR(VLOOKUP('5.Substance-in-Process'!N293,DSL!B:H,5,FALSE),\"-\")","v":"-"}]
[null,null,null,null,null,null,null,null,null,null,null,null,null,"","","",null,"",null,"",null,{"$f":"IFERROR(VLOOKUP('5.Substance-in-Process'!N294,DSL!B:H,5,FALSE),\"-\")","v":"-"}]
[null,null,null,null,null,null,null,null,null,null,null,null,null,"","","",null,"",null,"",null,{"$f":"IFERROR(VLOOKUP('5.Substance-in-Process'!N295,DSL!B:H,5,FALSE),\"-\")","v":"-"}]
[null,null,null,null,null,null,null,null,null,null,null,null,null,"","","",null,"",null,"",null,{"$f":"IFERROR(VLOOKUP('5.Substance-in-Process'!N296,DSL!B:H,5,FALSE),\"-\")","v":"-"}]
[null,null,null,null,null,null,null,null,null,null,null,null,null,"","","",null,"",null,"",null,{"$f":"IFERROR(VLOOKUP('5.Substance-in-Process'!N297,DSL!B:H,5,FALSE),\"-\")","v":"-"}]
[null,null,null,null,null,null,null,null,null,null,null,null,null,"","","",null,"",null,"",null,{"$f":"IFERROR(VLOOKUP('5.Substance-in-Process'!N298,DSL!B:H,5,FALSE),\"-\")","v":"-"}]
[null,null,null,null,null,null,null,null,null,null,null,null,null,"","","",null,"",null,"",null,{"$f":"IFERROR(VLOOKUP('5.Substance-in-Process'!N299,DSL!B:H,5,FALSE),\"-\")","v":"-"}]
[null,null,null,null,null,null,null,null,null,null,null,null,null,"","","",null,"",null,"",null,{"$f":"IFERROR(VLOOKUP('5.Substance-in-Process'!N300,DSL!B:H,5,FALSE),\"-\")","v":"-"}]
[null,null,null,null,null,null,null,null,null,null,null,null,null,"","","",null,"",null,"",null,{"$f":"IFERROR(VLOOKUP('5.Substance-in-Process'!N301,DSL!B:H,5,FALSE),\"-\")","v":"-"}]
[null,null,null,null,null,null,null,null,null,null,null,null,null,"","","",null,"",null,"",null,{"$f":"IFERROR(VLOOKUP('5.Substance-in-Process'!N302,DSL!B:H,5,FALSE),\"-\")","v":"-"}]
[null,null,null,null,null,null,null,null,null,null,null,null,null,"","","",null,"",null,"",null,{"$f":"IFERROR(VLOOKUP('5.Substance-in-Process'!N303,DSL!B:H,5,FALSE),\"-\")","v":"-"}]
[null,null,null,null,null,null,null,null,null,null,null,null,null,"","","",null,"",null,"",null,{"$f":"IFERROR(VLOOKUP('5.Substance-in-Process'!N304,DSL!B:H,5,FALSE),\"-\")","v":"-"}]
[null,null,null,null,null,null,null,null,null,null,null,null,null,"","","",null,"",null,"",null,{"$f":"IFERROR(VLOOKUP('5.Substance-in-Process'!N305,DSL!B:H,5,FALSE),\"-\")","v":"-"}]
[null,null,null,null,null,null,null,null,null,null,null,null,null,"","","",null,"",null,"",null,{"$f":"IFERROR(VLOOKUP('5.Substance-in-Process'!N306,DSL!B:H,5,FALSE),\"-\")","v":"-"}]
[null,null,null,null,null,null,null,null,null,null,null,null,null,"","","",null,"",null,"",null,{"$f":"IFERROR(VLOOKUP('5.Substance-in-Process'!N307,DSL!B:H,5,FALSE),\"-\")","v":"-"}]
[null,null,null,null,null,null,null,null,null,null,null,null,null,"","","",null,"",null,"",null,{"$f":"IFERROR(VLOOKUP('5.Substance-in-Process'!N308,DSL!B:H,5,FALSE),\"-\")","v":"-"}]
[null,null,null,null,null,null,null,null,null,null,null,null,null,"","","",null,"",null,"",null,{"$f":"IFERROR(VLOOKUP('5.Substance-in-Process'!N309,DSL!B:H,5,FALSE),\"-\")","v":"-"}]
[null,null,null,null,null,null,null,null,null,null,null,null,null,"","","",null,"",null,"",null,{"$f":"IFERROR(VLOOKUP('5.Substance-in-Process'!N310,DSL!B:H,5,FALSE),\"-\")","v":"-"}]
[null,null,null,null,null,null,null,null,null,null,null,null,null,"","","",null,"",null,"",null,{"$f":"IFERROR(VLOOKUP('5.Substance-in-Process'!N311,DSL!B:H,5,FALSE),\"-\")","v":"-"}]
[null,null,null,null,null,null,null,null,null,null,null,null,null,"","","",null,"",null,"",null,{"$f":"IFERROR(VLOOKUP('5.Substance-in-Process'!N312,DSL!B:H,5,FALSE),\"-\")","v":"-"}]
[null,null,null,null,null,null,null,null,null,null,null,null,null,"","","",null,"",null,"",null,{"$f":"IFERROR(VLOOKUP('5.Substance-in-Process'!N313,DSL!B:H,5,FALSE),\"-\")","v":"-"}]
[null,null,null,null,null,null,null,null,null,null,null,null,null,"","","",null,"",null,"",null,{"$f":"IFERROR(VLOOKUP('5.Substance-in-Process'!N314,DSL!B:H,5,FALSE),\"-\")","v":"-"}]
[null,null,null,null,null,null,null,null,null,null,null,null,null,"","","",null,"",null,"",null,{"$f":"IFERROR(VLOOKUP('5.Substance-in-Process'!N315,DSL!B:H,5,FALSE),\"-\")","v":"-"}]
[null,null,null,null,null,null,null,null,null,null,null,null,null,"","","",null,"",null,"",null,{"$f":"IFERROR(VLOOKUP('5.Substance-in-Process'!N316,DSL!B:H,5,FALSE),\"-\")","v":"-"}]
[null,null,null,null,null,null,null,null,null,null,null,null,null,"","","",null,"",null,"",null,{"$f":"IFERROR(VLOOKUP('5.Substance-in-Process'!N317,DSL!B:H,5,FALSE),\"-\")","v":"-"}]
[null,null,null,null,null,null,null,null,null,null,null,null,null,"","","",null,"",null,"",null,{"$f":"IFERROR(VLOOKUP('5.Substance-in-Process'!N318,DSL!B:H,5,FALSE),\"-\")","v":"-"}]
[null,null,null,null,null,null,null,null,null,null,null,null,null,"","","",null,"",null,"",null,{"$f":"IFERROR(VLOOKUP('5.Substance-in-Process'!N319,DSL!B:H,5,FALSE),\"-\")","v":"-"}]
[null,null,null,null,null,null,null,null,null,null,null,null,null,"","","",null,"",null,"",null,{"$f":"IFERROR(VLOOKUP('5.Substance-in-Process'!N320,DSL!B:H,5,FALSE),\"-\")","v":"-"}]
[null,null,null,null,null,null,null,null,null,null,null,null,null,"","","",null,"",null,"",null,{"$f":"IFERROR(VLOOKUP('5.Substance-in-Process'!N321,DSL!B:H,5,FALSE),\"-\")","v":"-"}]
[null,null,null,null,null,null,null,null,null,null,null,null,null,"","","",null,"",null,"",null,{"$f":"IFERROR(VLOOKUP('5.Substance-in-Process'!N322,DSL!B:H,5,FALSE),\"-\")","v":"-"}]
[null,null,null,null,null,null,null,null,null,null,null,null,null,"","","",null,"",null,"",null,{"$f":"IFERROR(VLOOKUP('5.Substance-in-Process'!N323,DSL!B:H,5,FALSE),\"-\")","v":"-"}]
[null,null,null,null,null,null,null,null,null,null,null,null,null,"","","",null,"",null,"",null,{"$f":"IFERROR(VLOOKUP('5.Substance-in-Process'!N324,DSL!B:H,5,FALSE),\"-\")","v":"-"}]
[null,null,null,null,null,null,null,null,null,null,null,null,null,"","","",null,"",null,"",null,{"$f":"IFERROR(VLOOKUP('5.Substance-in-Process'!N325,DSL!B:H,5,FALSE),\"-\")","v":"-"}]
[null,null,null,null,null,null,null,null,null,null,null,null,null,"","","",null,"",null,"",null,{"$f":"IFERROR(VLOOKUP('5.Substance-in-Process'!N326,DSL!B:H,5,FALSE),\"-\")","v":"-"}]
[null,null,null,null,null,null,null,null,null,null,null,null,null,"","","",null,"",null,"",null,{"$f":"IFERROR(VLOOKUP('5.Substance-in-Process'!N327,DSL!B:H,5,FALSE),\"-\")","v":"-"}]
[null,null,null,null,null,null,null,null,null,null,null,null,null,"","","",null,"",null,"",null,{"$f":"IFERROR(VLOOKUP('5.Substance-in-Process'!N328,DSL!B:H,5,FALSE),\"-\")","v":"-"}]
[null,null,null,null,null,null,null,null,null,null,null,null,null,"","","",null,"",null,"",null,{"$f":"IFERROR(VLOOKUP('5.Substance-in-Process'!N329,DSL!B:H,5,FALSE),\"-\")","v":"-"}]
[null,null,null,null,null,null,null,null,null,null,null,null,null,"","","",null,"",null,"",null,{"$f":"IFERROR(VLOOKUP('5.Substance-in-Process'!N330,DSL!B:H,5,FALSE),\"-\")","v":"-"}]
[null,null,null,null,null,null,null,null,null,null,null,null,null,"","","",null,"",null,"",null,{"$f":"IFERROR(VLOOKUP('5.Substance-in-Process'!N331,DSL!B:H,5,FALSE),\"-\")","v":"-"}]
[null,null,null,null,null,null,null,null,null,null,null,null,null,"","","",null,"",null,"",null,{"$f":"IFERROR(VLOOKUP('5.Substance-in-Process'!N332,DSL!B:H,5,FALSE),\"-\")","v":"-"}]
[null,null,null,null,null,null,null,null,null,null,null,null,null,"","","",null,"",null,"",null,{"$f":"IFERROR(VLOOKUP('5.Substance-in-Process'!N333,DSL!B:H,5,FALSE),\"-\")","v":"-"}]
[null,null,null,null,null,null,null,null,null,null,null,null,null,"","","",null,"",null,"",null,{"$f":"IFERROR(VLOOKUP('5.Substance-in-Process'!N334,DSL!B:H,5,FALSE),\"-\")","v":"-"}]
[null,null,null,null,null,null,null,null,null,null,null,null,null,"","","",null,"",null,"",null,{"$f":"IFERROR(VLOOKUP('5.Substance-in-Process'!N335,DSL!B:H,5,FALSE),\"-\")","v":"-"}]
[null,null,null,null,null,null,null,null,null,null,null,null,null,"","","",null,"",null,"",null,{"$f":"IFERROR(VLOOKUP('5.Substance-in-Process'!N336,DSL!B:H,5,FALSE),\"-\")","v":"-"}]
[null,null,null,null,null,null,null,null,null,null,null,null,null,"","","",null,"",null,"",null,{"$f":"IFERROR(VLOOKUP('5.Substance-in-Process'!N337,DSL!B:H,5,FALSE),\"-\")","v":"-"}]
[null,null,null,null,null,null,null,null,null,null,null,null,null,"","","",null,"",null,"",null,{"$f":"IFERROR(VLOOKUP('5.Substance-in-Process'!N338,DSL!B:H,5,FALSE),\"-\")","v":"-"}]
[null,null,null,null,null,null,null,null,null,null,null,null,null,"","","",null,"",null,"",null,{"$f":"IFERROR(VLOOKUP('5.Substance-in-Process'!N339,DSL!B:H,5,FALSE),\"-\")","v":"-"}]
[null,null,null,null,null,null,null,null,null,null,null,null,null,"","","",null,"",null,"",null,{"$f":"IFERROR(VLOOKUP('5.Substance-in-Process'!N340,DSL!B:H,5,FALSE),\"-\")","v":"-"}]
[null,null,null,null,null,null,null,null,null,null,null,null,null,"","","",null,"",null,"",null,{"$f":"IFERROR(VLOOKUP('5.Substance-in-Process'!N341,DSL!B:H,5,FALSE),\"-\")","v":"-"}]
[null,null,null,null,null,null,null,null,null,null,null,null,null,"","","",null,"",null,"",null,{"$f":"IFERROR(VLOOKUP('5.Substance-in-Process'!N342,DSL!B:H,5,FALSE),\"-\")","v":"-"}]
[null,null,null,null,null,null,null,null,null,null,null,null,null,"","","",null,"",null,"",null,{"$f":"IFERROR(VLOOKUP('5.Substance-in-Process'!N343,DSL!B:H,5,FALSE),\"-\")","v":"-"}]
[null,null,null,null,null,null,null,null,null,null,null,null,null,"","","",null,"",null,"",null,{"$f":"IFERROR(VLOOKUP('5.Substance-in-Process'!N344,DSL!B:H,5,FALSE),\"-\")","v":"-"}]
[null,null,null,null,null,null,null,null,null,null,null,null,null,"","","",null,"",null,"",null,{"$f":"IFERROR(VLOOKUP('5.Substance-in-Process'!N345,DSL!B:H,5,FALSE),\"-\")","v":"-"}]
[null,null,null,null,null,null,null,null,null,null,null,null,null,"","","",null,"",null,"",null,{"$f":"IFERROR(VLOOKUP('5.Substance-in-Process'!N346,DSL!B:H,5,FALSE),\"-\")","v":"-"}]
[null,null,null,null,null,null,null,null,null,null,null,null,null,"","","",null,"",null,"",null,{"$f":"IFERROR(VLOOKUP('5.Substance-in-Process'!N347,DSL!B:H,5,FALSE),\"-\")","v":"-"}]
[null,null,null,null,null,null,null,null,null,null,null,null,null,"","","",null,"",null,"",null,{"$f":"IFERROR(VLOOKUP('5.Substance-in-Process'!N348,DSL!B:H,5,FALSE),\"-\")","v":"-"}]
[null,null,null,null,null,null,null,null,null,null,null,null,null,"","","",null,"",null,"",null,{"$f":"IFERROR(VLOOKUP('5.Substance-in-Process'!N349,DSL!B:H,5,FALSE),\"-\")","v":"-"}]
[null,null,null,null,null,null,null,null,null,null,null,null,null,"","","",null,"",null,"",null,{"$f":"IFERROR(VLOOKUP('5.Substance-in-Process'!N350,DSL!B:H,5,FALSE),\"-\")","v":"-"}]
[null,null,null,null,null,null,null,null,null,null,null,null,null,"","","",null,"",null,"",null,{"$f":"IFERROR(VLOOKUP('5.Substance-in-Process'!N351,DSL!B:H,5,FALSE),\"-\")","v":"-"}]
[null,null,null,null,null,null,null,null,null,null,null,null,null,"","","",null,"",null,"",null,{"$f":"IFERROR(VLOOKUP('5.Substance-in-Process'!N352,DSL!B:H,5,FALSE),\"-\")","v":"-"}]
[null,null,null,null,null,null,null,null,null,null,null,null,null,"","","",null,"",null,"",null,{"$f":"IFERROR(VLOOKUP('5.Substance-in-Process'!N353,DSL!B:H,5,FALSE),\"-\")","v":"-"}]
[null,null,null,null,null,null,null,null,null,null,null,null,null,"","","",null,"",null,"",null,{"$f":"IFERROR(VLOOKUP('5.Substance-in-Process'!N354,DSL!B:H,5,FALSE),\"-\")","v":"-"}]
[null,null,null,null,null,null,null,null,null,null,null,null,null,"","","",null,"",null,"",null,{"$f":"IFERROR(VLOOKUP('5.Substance-in-Process'!N355,DSL!B:H,5,FALSE),\"-\")","v":"-"}]
[null,null,null,null,null,null,null,null,null,null,null,null,null,"","","",null,"",null,"",null,{"$f":"IFERROR(VLOOKUP('5.Substance-in-Process'!N356,DSL!B:H,5,FALSE),\"-\")","v":"-"}]
[null,null,null,null,null,null,null,null,null,null,null,null,null,"","","",null,"",null,"",null,{"$f":"IFERROR(VLOOKUP('5.Substance-in-Process'!N357,DSL!B:H,5,FALSE),\"-\")","v":"-"}]
[null,null,null,null,null,null,null,null,null,null,null,null,null,"","","",null,"",null,"",null,{"$f":"IFERROR(VLOOKUP('5.Substance-in-Process'!N358,DSL!B:H,5,FALSE),\"-\")","v":"-"}]
[null,null,null,null,null,null,null,null,null,null,null,null,null,"","","",null,"",null,"",null,{"$f":"IFERROR(VLOOKUP('5.Substance-in-Process'!N359,DSL!B:H,5,FALSE),\"-\")","v":"-"}]
[null,null,null,null,null,null,null,null,null,null,null,null,null,"","","",null,"",null,"",null,{"$f":"IFERROR(VLOOKUP('5.Substance-in-Process'!N360,DSL!B:H,5,FALSE),\"-\")","v":"-"}]
[null,null,null,null,null,null,null,null,null,null,null,null,null,"","","",null,"",null,"",null,{"$f":"IFERROR(VLOOKUP('5.Substance-in-Process'!N361,DSL!B:H,5,FALSE),\"-\")","v":"-"}]
[null,null,null,null,null,null,null,null,null,null,null,null,null,"","","",null,"",null,"",null,{"$f":"IFERROR(VLOOKUP('5.Substance-in-Process'!N362,DSL!B:H,5,FALSE),\"-\")","v":"-"}]
[null,null,null,null,null,null,null,null,null,null,null,null,null,"","","",null,"",null,"",null,{"$f":"IFERROR(VLOOKUP('5.Substance-in-Process'!N363,DSL!B:H,5,FALSE),\"-\")","v":"-"}]
[null,null,null,null,null,null,null,null,null,null,null,null,null,"","","",null,"",null,"",null,{"$f":"IFERROR(VLOOKUP('5.Substance-in-Process'!N364,DSL!B:H,5,FALSE),\"-\")","v":"-"}]
[null,null,null,null,null,null,null,null,null,null,null,null,null,"","","",null,"",null,"",null,{"$f":"IFERROR(VLOOKUP('5.Substance-in-Process'!N365,DSL!B:H,5,FALSE),\"-\")","v":"-"}]
[null,null,null,null,null,null,null,null,null,null,null,null,null,"","","",null,"",null,"",null,{"$f":"IFERROR(VLOOKUP('5.Substance-in-Process'!N366,DSL!B:H,5,FALSE),\"-\")","v":"-"}]
[null,null,null,null,null,null,null,null,null,null,null,null,null,"","","",null,"",null,"",null,{"$f":"IFERROR(VLOOKUP('5.Substance-in-Process'!N367,DSL!B:H,5,FALSE),\"-\")","v":"-"}]
[null,null,null,null,null,null,null,null,null,null,null,null,null,"","","",null,"",null,"",null,{"$f":"IFERROR(VLOOKUP('5.Substance-in-Process'!N368,DSL!B:H,5,FALSE),\"-\")","v":"-"}]
[null,null,null,null,null,null,null,null,null,null,null,null,null,"","","",null,"",null,"",null,{"$f":"IFERROR(VLOOKUP('5.Substance-in-Process'!N369,DSL!B:H,5,FALSE),\"-\")","v":"-"}]
[null,null,null,null,null,null,null,null,null,null,null,null,null,"","","",null,"",null,"",null,{"$f":"IFERROR(VLOOKUP('5.Substance-in-Process'!N370,DSL!B:H,5,FALSE),\"-\")","v":"-"}]
[null,null,null,null,null,null,null,null,null,null,null,null,null,"","","",null,"",null,"",null,{"$f":"IFERROR(VLOOKUP('5.Substance-in-Process'!N371,DSL!B:H,5,FALSE),\"-\")","v":"-"}]
[null,null,null,null,null,null,null,null,null,null,null,null,null,"","","",null,"",null,"",null,{"$f":"IFERROR(VLOOKUP('5.Substance-in-Process'!N372,DSL!B:H,5,FALSE),\"-\")","v":"-"}]
[null,null,null,null,null,null,null,null,null,null,null,null,null,"","","",null,"",null,"",null,{"$f":"IFERROR(VLOOKUP('5.Substance-in-Process'!N373,DSL!B:H,5,FALSE),\"-\")","v":"-"}]
[null,null,null,null,null,null,null,null,null,null,null,null,null,"","","",null,"",null,"",null,{"$f":"IFERROR(VLOOKUP('5.Substance-in-Process'!N374,DSL!B:H,5,FALSE),\"-\")","v":"-"}]
[null,null,null,null,null,null,null,null,null,null,null,null,null,"","","",null,"",null,"",null,{"$f":"IFERROR(VLOOKUP('5.Substance-in-Process'!N375,DSL!B:H,5,FALSE),\"-\")","v":"-"}]
[null,null,null,null,null,null,null,null,null,null,null,null,null,"","","",null,"",null,"",null,{"$f":"IFERROR(VLOOKUP('5.Substance-in-Process'!N376,DSL!B:H,5,FALSE),\"-\")","v":"-"}]
[null,null,null,null,null,null,null,null,null,null,null,null,null,"","","",null,"",null,"",null,{"$f":"IFERROR(VLOOKUP('5.Substance-in-Process'!N377,DSL!B:H,5,FALSE),\"-\")","v":"-"}]
[null,null,null,null,null,null,null,null,null,null,null,null,null,"","","",null,"",null,"",null,{"$f":"IFERROR(VLOOKUP('5.Substance-in-Process'!N378,DSL!B:H,5,FALSE),\"-\")","v":"-"}]
[null,null,null,null,null,null,null,null,null,null,null,null,null,"","","",null,"",null,"",null,{"$f":"IFERROR(VLOOKUP('5.Substance-in-Process'!N379,DSL!B:H,5,FALSE),\"-\")","v":"-"}]
[null,null,null,null,null,null,null,null,null,null,null,null,null,"","","",null,"",null,"",null,{"$f":"IFERROR(VLOOKUP('5.Substance-in-Process'!N380,DSL!B:H,5,FALSE),\"-\")","v":"-"}]
[null,null,null,null,null,null,null,null,null,null,null,null,null,"","","",null,"",null,"",null,{"$f":"IFERROR(VLOOKUP('5.Substance-in-Process'!N381,DSL!B:H,5,FALSE),\"-\")","v":"-"}]
[null,null,null,null,null,null,null,null,null,null,null,null,null,"","","",null,"",null,"",null,{"$f":"IFERROR(VLOOKUP('5.Substance-in-Process'!N382,DSL!B:H,5,FALSE),\"-\")","v":"-"}]
[null,null,null,null,null,null,null,null,null,null,null,null,null,"","","",null,"",null,"",null,{"$f":"IFERROR(VLOOKUP('5.Substance-in-Process'!N383,DSL!B:H,5,FALSE),\"-\")","v":"-"}]
[null,null,null,null,null,null,null,null,null,null,null,null,null,"","","",null,"",null,"",null,{"$f":"IFERROR(VLOOKUP('5.Substance-in-Process'!N384,DSL!B:H,5,FALSE),\"-\")","v":"-"}]
[null,null,null,null,null,null,null,null,null,null,null,null,null,"","","",null,"",null,"",null,{"$f":"IFERROR(VLOOKUP('5.Substance-in-Process'!N385,DSL!B:H,5,FALSE),\"-\")","v":"-"}]
[null,null,null,null,null,null,null,null,null,null,null,null,null,"","","",null,"",null,"",null,{"$f":"IFERROR(VLOOKUP('5.Substance-in-Process'!N386,DSL!B:H,5,FALSE),\"-\")","v":"-"}]
[null,null,null,null,null,null,null,null,null,null,null,null,null,"","","",null,"",null,"",null,{"$f":"IFERROR(VLOOKUP('5.Substance-in-Process'!N387,DSL!B:H,5,FALSE),\"-\")","v":"-"}]
[null,null,null,null,null,null,null,null,null,null,null,null,null,"","","",null,"",null,"",null,{"$f":"IFERROR(VLOOKUP('5.Substance-in-Process'!N388,DSL!B:H,5,FALSE),\"-\")","v":"-"}]
[null,null,null,null,null,null,null,null,null,null,null,null,null,"","","",null,"",null,"",null,{"$f":"IFERROR(VLOOKUP('5.Substance-in-Process'!N389,DSL!B:H,5,FALSE),\"-\")","v":"-"}]
[null,null,null,null,null,null,null,null,null,null,null,null,null,"","","",null,"",null,"",null,{"$f":"IFERROR(VLOOKUP('5.Substance-in-Process'!N390,DSL!B:H,5,FALSE),\"-\")","v":"-"}]
[null,null,null,null,null,null,null,null,null,null,null,null,null,"","","",null,"",null,"",null,{"$f":"IFERROR(VLOOKUP('5.Substance-in-Process'!N391,DSL!B:H,5,FALSE),\"-\")","v":"-"}]
[null,null,null,null,null,null,null,null,null,null,null,null,null,"","","",null,"",null,"",null,{"$f":"IFERROR(VLOOKUP('5.Substance-in-Process'!N392,DSL!B:H,5,FALSE),\"-\")","v":"-"}]
[null,null,null,null,null,null,null,null,null,null,null,null,null,"","","",null,"",null,"",null,{"$f":"IFERROR(VLOOKUP('5.Substance-in-Process'!N393,DSL!B:H,5,FALSE),\"-\")","v":"-"}]
[null,null,null,null,null,null,null,null,null,null,null,null,null,"","","",null,"",null,"",null,{"$f":"IFERROR(VLOOKUP('5.Substance-in-Process'!N394,DSL!B:H,5,FALSE),\"-\")","v":"-"}]
[null,null,null,null,null,null,null,null,null,null,null,null,null,"","","",null,"",null,"",null,{"$f":"IFERROR(VLOOKUP('5.Substance-in-Process'!N395,DSL!B:H,5,FALSE),\"-\")","v":"-"}]
[null,null,null,null,null,null,null,null,null,null,null,null,null,"","","",null,"",null,"",null,{"$f":"IFERROR(VLOOKUP('5.Substance-in-Process'!N396,DSL!B:H,5,FALSE),\"-\")","v":"-"}]
[null,null,null,null,null,null,null,null,null,null,null,null,null,"","","",null,"",null,"",null,{"$f":"IFERROR(VLOOKUP('5.Substance-in-Process'!N397,DSL!B:H,5,FALSE),\"-\")","v":"-"}]
[null,null,null,null,null,null,null,null,null,null,null,null,null,"","","",null,"",null,"",null,{"$f":"IFERROR(VLOOKUP('5.Substance-in-Process'!N398,DSL!B:H,5,FALSE),\"-\")","v":"-"}]
[null,null,null,null,null,null,null,null,null,null,null,null,null,"","","",null,"",null,"",null,{"$f":"IFERROR(VLOOKUP('5.Substance-in-Process'!N399,DSL!B:H,5,FALSE),\"-\")","v":"-"}]
[null,null,null,null,null,null,null,null,null,null,null,null,null,"","","",null,"",null,"",null,{"$f":"IFERROR(VLOOKUP('5.Substance-in-Process'!N400,DSL!B:H,5,FALSE),\"-\")","v":"-"}]
[null,null,null,null,null,null,null,null,null,null,null,null,null,"","","",null,"",null,"",null,{"$f":"IFERROR(VLOOKUP('5.Substance-in-Process'!N401,DSL!B:H,5,FALSE),\"-\")","v":"-"}]
[null,null,null,null,null,null,null,null,null,null,null,null,null,"","","",null,"",null,"",null,{"$f":"IFERROR(VLOOKUP('5.Substance-in-Process'!N402,DSL!B:H,5,FALSE),\"-\")","v":"-"}]
[null,null,null,null,null,null,null,null,null,null,null,null,null,"","","",null,"",null,"",null,{"$f":"IFERROR(VLOOKUP('5.Substance-in-Process'!N403,DSL!B:H,5,FALSE),\"-\")","v":"-"}]
[null,null,null,null,null,null,null,null,null,null,null,null,null,"","","",null,"",null,"",null,{"$f":"IFERROR(VLOOKUP('5.Substance-in-Process'!N404,DSL!B:H,5,FALSE),\"-\")","v":"-"}]
[null,null,null,null,null,null,null,null,null,null,null,null,null,"","","",null,"",null,"",null,{"$f":"IFERROR(VLOOKUP('5.Substance-in-Process'!N405,DSL!B:H,5,FALSE),\"-\")","v":"-"}]
[null,null,null,null,null,null,null,null,null,null,null,null,null,"","","",null,"",null,"",null,{"$f":"IFERROR(VLOOKUP('5.Substance-in-Process'!N406,DSL!B:H,5,FALSE),\"-\")","v":"-"}]
[null,null,null,null,null,null,null,null,null,null,null,null,null,"","","",null,"",null,"",null,{"$f":"IFERROR(VLOOKUP('5.Substance-in-Process'!N407,DSL!B:H,5,FALSE),\"-\")","v":"-"}]
[null,null,null,null,null,null,null,null,null,null,null,null,null,"","","",null,"",null,"",null,{"$f":"IFERROR(VLOOKUP('5.Substance-in-Process'!N408,DSL!B:H,5,FALSE),\"-\")","v":"-"}]
[null,null,null,null,null,null,null,null,null,null,null,null,null,"","","",null,"",null,"",null,{"$f":"IFERROR(VLOOKUP('5.Substance-in-Process'!N409,DSL!B:H,5,FALSE),\"-\")","v":"-"}]
[null,null,null,null,null,null,null,null,null,null,null,null,null,"","","",null,"",null,"",null,{"$f":"IFERROR(VLOOKUP('5.Substance-in-Process'!N410,DSL!B:H,5,FALSE),\"-\")","v":"-"}]
[null,null,null,null,null,null,null,null,null,null,null,null,null,"","","",null,"",null,"",null,{"$f":"IFERROR(VLOOKUP('5.Substance-in-Process'!N411,DSL!B:H,5,FALSE),\"-\")","v":"-"}]
[null,null,null,null,null,null,null,null,null,null,null,null,null,"","","",null,"",null,"",null,{"$f":"IFERROR(VLOOKUP('5.Substance-in-Process'!N412,DSL!B:H,5,FALSE),\"-\")","v":"-"}]
[null,null,null,null,null,null,null,null,null,null,null,null,null,"","","",null,"",null,"",null,{"$f":"IFERROR(VLOOKUP('5.Substance-in-Process'!N413,DSL!B:H,5,FALSE),\"-\")","v":"-"}]
[null,null,null,null,null,null,null,null,null,null,null,null,null,"","","",null,"",null,"",null,{"$f":"IFERROR(VLOOKUP('5.Substance-in-Process'!N414,DSL!B:H,5,FALSE),\"-\")","v":"-"}]
[null,null,null,null,null,null,null,null,null,null,null,null,null,"","","",null,"",null,"",null,{"$f":"IFERROR(VLOOKUP('5.Substance-in-Process'!N415,DSL!B:H,5,FALSE),\"-\")","v":"-"}]
[null,null,null,null,null,null,null,null,null,null,null,null,null,"","","",null,"",null,"",null,{"$f":"IFERROR(VLOOKUP('5.Substance-in-Process'!N416,DSL!B:H,5,FALSE),\"-\")","v":"-"}]
[null,null,null,null,null,null,null,null,null,null,null,null,null,"","","",null,"",null,"",null,{"$f":"IFERROR(VLOOKUP('5.Substance-in-Process'!N417,DSL!B:H,5,FALSE),\"-\")","v":"-"}]
[null,null,null,null,null,null,null,null,null,null,null,null,null,"","","",null,"",null,"",null,{"$f":"IFERROR(VLOOKUP('5.Substance-in-Process'!N418,DSL!B:H,5,FALSE),\"-\")","v":"-"}]
[null,null,null,null,null,null,null,null,null,null,null,null,null,"","","",null,"",null,"",null,{"$f":"IFERROR(VLOOKUP('5.Substance-in-Process'!N419,DSL!B:H,5,FALSE),\"-\")","v":"-"}]
[null,null,null,null,null,null,null,null,null,null,null,null,null,"","","",null,"",null,"",null,{"$f":"IFERROR(VLOOKUP('5.Substance-in-Process'!N420,DSL!B:H,5,FALSE),\"-\")","v":"-"}]
[null,null,null,null,null,null,null,null,null,null,null,null,null,"","","",null,"",null,"",null,{"$f":"IFERROR(VLOOKUP('5.Substance-in-Process'!N421,DSL!B:H,5,FALSE),\"-\")","v":"-"}]
[null,null,null,null,null,null,null,null,null,null,null,null,null,"","","",null,"",null,"",null,{"$f":"IFERROR(VLOOKUP('5.Substance-in-Process'!N422,DSL!B:H,5,FALSE),\"-\")","v":"-"}]
[null,null,null,null,null,null,null,null,null,null,null,null,null,"","","",null,"",null,"",null,{"$f":"IFERROR(VLOOKUP('5.Substance-in-Process'!N423,DSL!B:H,5,FALSE),\"-\")","v":"-"}]
[null,null,null,null,null,null,null,null,null,null,null,null,null,"","","",null,"",null,"",null,{"$f":"IFERROR(VLOOKUP('5.Substance-in-Process'!N424,DSL!B:H,5,FALSE),\"-\")","v":"-"}]
[null,null,null,null,null,null,null,null,null,null,null,null,null,"","","",null,"",null,"",null,{"$f":"IFERROR(VLOOKUP('5.Substance-in-Process'!N425,DSL!B:H,5,FALSE),\"-\")","v":"-"}]
[null,null,null,null,null,null,null,null,null,null,null,null,null,"","","",null,"",null,"",null,{"$f":"IFERROR(VLOOKUP('5.Substance-in-Process'!N426,DSL!B:H,5,FALSE),\"-\")","v":"-"}]
[null,null,null,null,null,null,null,null,null,null,null,null,null,"","","",null,"",null,"",null,{"$f":"IFERROR(VLOOKUP('5.Substance-in-Process'!N427,DSL!B:H,5,FALSE),\"-\")","v":"-"}]
[null,null,null,null,null,null,null,null,null,null,null,null,null,"","","",null,"",null,"",null,{"$f":"IFERROR(VLOOKUP('5.Substance-in-Process'!N428,DSL!B:H,5,FALSE),\"-\")","v":"-"}]
[null,null,null,null,null,null,null,null,null,null,null,null,null,"","","",null,"",null,"",null,{"$f":"IFERROR(VLOOKUP('5.Substance-in-Process'!N429,DSL!B:H,5,FALSE),\"-\")","v":"-"}]
[null,null,null,null,null,null,null,null,null,null,null,null,null,"","","",null,"",null,"",null,{"$f":"IFERROR(VLOOKUP('5.Substance-in-Process'!N430,DSL!B:H,5,FALSE),\"-\")","v":"-"}]
[null,null,null,null,null,null,null,null,null,null,null,null,null,"","","",null,"",null,"",null,{"$f":"IFERROR(VLOOKUP('5.Substance-in-Process'!N431,DSL!B:H,5,FALSE),\"-\")","v":"-"}]
[null,null,null,null,null,null,null,null,null,null,null,null,null,"","","",null,"",null,"",null,{"$f":"IFERROR(VLOOKUP('5.Substance-in-Process'!N432,DSL!B:H,5,FALSE),\"-\")","v":"-"}]
[null,null,null,null,null,null,null,null,null,null,null,null,null,"","","",null,"",null,"",null,{"$f":"IFERROR(VLOOKUP('5.Substance-in-Process'!N433,DSL!B:H,5,FALSE),\"-\")","v":"-"}]
[null,null,null,null,null,null,null,null,null,null,null,null,null,"","","",null,"",null,"",null,{"$f":"IFERROR(VLOOKUP('5.Substance-in-Process'!N434,DSL!B:H,5,FALSE),\"-\")","v":"-"}]
[null,null,null,null,null,null,null,null,null,null,null,null,null,"","","",null,"",null,"",null,{"$f":"IFERROR(VLOOKUP('5.Substance-in-Process'!N435,DSL!B:H,5,FALSE),\"-\")","v":"-"}]
[null,null,null,null,null,null,null,null,null,null,null,null,null,"","","",null,"",null,"",null,{"$f":"IFERROR(VLOOKUP('5.Substance-in-Process'!N436,DSL!B:H,5,FALSE),\"-\")","v":"-"}]
[null,null,null,null,null,null,null,null,null,null,null,null,null,"","","",null,"",null,"",null,{"$f":"IFERROR(VLOOKUP('5.Substance-in-Process'!N437,DSL!B:H,5,FALSE),\"-\")","v":"-"}]
[null,null,null,null,null,null,null,null,null,null,null,null,null,"","","",null,"",null,"",null,{"$f":"IFERROR(VLOOKUP('5.Substance-in-Process'!N438,DSL!B:H,5,FALSE),\"-\")","v":"-"}]
[null,null,null,null,null,null,null,null,null,null,null,null,null,"","","",null,"",null,"",null,{"$f":"IFERROR(VLOOKUP('5.Substance-in-Process'!N439,DSL!B:H,5,FALSE),\"-\")","v":"-"}]
[null,null,null,null,null,null,null,null,null,null,null,null,null,"","","",null,"",null,"",null,{"$f":"IFERROR(VLOOKUP('5.Substance-in-Process'!N440,DSL!B:H,5,FALSE),\"-\")","v":"-"}]
[null,null,null,null,null,null,null,null,null,null,null,null,null,"","","",null,"",null,"",null,{"$f":"IFERROR(VLOOKUP('5.Substance-in-Process'!N441,DSL!B:H,5,FALSE),\"-\")","v":"-"}]
[null,null,null,null,null,null,null,null,null,null,null,null,null,"","","",null,"",null,"",null,{"$f":"IFERROR(VLOOKUP('5.Substance-in-Process'!N442,DSL!B:H,5,FALSE),\"-\")","v":"-"}]
[null,null,null,null,null,null,null,null,null,null,null,null,null,"","","",null,"",null,"",null,{"$f":"IFERROR(VLOOKUP('5.Substance-in-Process'!N443,DSL!B:H,5,FALSE),\"-\")","v":"-"}]
[null,null,null,null,null,null,null,null,null,null,null,null,null,"","","",null,"",null,"",null,{"$f":"IFERROR(VLOOKUP('5.Substance-in-Process'!N444,DSL!B:H,5,FALSE),\"-\")","v":"-"}]
[null,null,null,null,null,null,null,null,null,null,null,null,null,"","","",null,"",null,"",null,{"$f":"IFERROR(VLOOKUP('5.Substance-in-Process'!N445,DSL!B:H,5,FALSE),\"-\")","v":"-"}]
[null,null,null,null,null,null,null,null,null,null,null,null,null,"","","",null,"",null,"",null,{"$f":"IFERROR(VLOOKUP('5.Substance-in-Process'!N446,DSL!B:H,5,FALSE),\"-\")","v":"-"}]
[null,null,null,null,null,null,null,null,null,null,null,null,null,"","","",null,"",null,"",null,{"$f":"IFERROR(VLOOKUP('5.Substance-in-Process'!N447,DSL!B:H,5,FALSE),\"-\")","v":"-"}]
[null,null,null,null,null,null,null,null,null,null,null,null,null,"","","",null,"",null,"",null,{"$f":"IFERROR(VLOOKUP('5.Substance-in-Process'!N448,DSL!B:H,5,FALSE),\"-\")","v":"-"}]
[null,null,null,null,null,null,null,null,null,null,null,null,null,"","","",null,"",null,"",null,{"$f":"IFERROR(VLOOKUP('5.Substance-in-Process'!N449,DSL!B:H,5,FALSE),\"-\")","v":"-"}]
[null,null,null,null,null,null,null,null,null,null,null,null,null,"","","",null,"",null,"",null,{"$f":"IFERROR(VLOOKUP('5.Substance-in-Process'!N450,DSL!B:H,5,FALSE),\"-\")","v":"-"}]
[null,null,null,null,null,null,null,null,null,null,null,null,null,"","","",null,"",null,"",null,{"$f":"IFERROR(VLOOKUP('5.Substance-in-Process'!N451,DSL!B:H,5,FALSE),\"-\")","v":"-"}]
[null,null,null,null,null,null,null,null,null,null,null,null,null,"","","",null,"",null,"",null,{"$f":"IFERROR(VLOOKUP('5.Substance-in-Process'!N452,DSL!B:H,5,FALSE),\"-\")","v":"-"}]
[null,null,null,null,null,null,null,null,null,null,null,null,null,"","","",null,"",null,"",null,{"$f":"IFERROR(VLOOKUP('5.Substance-in-Process'!N453,DSL!B:H,5,FALSE),\"-\")","v":"-"}]
[null,null,null,null,null,null,null,null,null,null,null,null,null,"","","",null,"",null,"",null,{"$f":"IFERROR(VLOOKUP('5.Substance-in-Process'!N454,DSL!B:H,5,FALSE),\"-\")","v":"-"}]
[null,null,null,null,null,null,null,null,null,null,null,null,null,"","","",null,"",null,"",null,{"$f":"IFERROR(VLOOKUP('5.Substance-in-Process'!N455,DSL!B:H,5,FALSE),\"-\")","v":"-"}]
[null,null,null,null,null,null,null,null,null,null,null,null,null,"","","",null,"",null,"",null,{"$f":"IFERROR(VLOOKUP('5.Substance-in-Process'!N456,DSL!B:H,5,FALSE),\"-\")","v":"-"}]
[null,null,null,null,null,null,null,null,null,null,null,null,null,"","","",null,"",null,"",null,{"$f":"IFERROR(VLOOKUP('5.Substance-in-Process'!N457,DSL!B:H,5,FALSE),\"-\")","v":"-"}]
[null,null,null,null,null,null,null,null,null,null,null,null,null,"","","",null,"",null,"",null,{"$f":"IFERROR(VLOOKUP('5.Substance-in-Process'!N458,DSL!B:H,5,FALSE),\"-\")","v":"-"}]
[null,null,null,null,null,null,null,null,null,null,null,null,null,"","","",null,"",null,"",null,{"$f":"IFERROR(VLOOKUP('5.Substance-in-Process'!N459,DSL!B:H,5,FALSE),\"-\")","v":"-"}]
[null,null,null,null,null,null,null,null,null,null,null,null,null,"","","",null,"",null,"",null,{"$f":"IFERROR(VLOOKUP('5.Substance-in-Process'!N460,DSL!B:H,5,FALSE),\"-\")","v":"-"}]
[null,null,null,null,null,null,null,null,null,null,null,null,null,"","","",null,"",null,"",null,{"$f":"IFERROR(VLOOKUP('5.Substance-in-Process'!N461,DSL!B:H,5,FALSE),\"-\")","v":"-"}]
[null,null,null,null,null,null,null,null,null,null,null,null,null,"","","",null,"",null,"",null,{"$f":"IFERROR(VLOOKUP('5.Substance-in-Process'!N462,DSL!B:H,5,FALSE),\"-\")","v":"-"}]
[null,null,null,null,null,null,null,null,null,null,null,null,null,"","","",null,"",null,"",null,{"$f":"IFERROR(VLOOKUP('5.Substance-in-Process'!N463,DSL!B:H,5,FALSE),\"-\")","v":"-"}]
[null,null,null,null,null,null,null,null,null,null,null,null,null,"","","",null,"",null,"",null,{"$f":"IFERROR(VLOOKUP('5.Substance-in-Process'!N464,DSL!B:H,5,FALSE),\"-\")","v":"-"}]
[null,null,null,null,null,null,null,null,null,null,null,null,null,"","","",null,"",null,"",null,{"$f":"IFERROR(VLOOKUP('5.Substance-in-Process'!N465,DSL!B:H,5,FALSE),\"-\")","v":"-"}]
[null,null,null,null,null,null,null,null,null,null,null,null,null,"","","",null,"",null,"",null,{"$f":"IFERROR(VLOOKUP('5.Substance-in-Process'!N466,DSL!B:H,5,FALSE),\"-\")","v":"-"}]
[null,null,null,null,null,null,null,null,null,null,null,null,null,"","","",null,"",null,"",null,{"$f":"IFERROR(VLOOKUP('5.Substance-in-Process'!N467,DSL!B:H,5,FALSE),\"-\")","v":"-"}]
[null,null,null,null,null,null,null,null,null,null,null,null,null,"","","",null,"",null,"",null,{"$f":"IFERROR(VLOOKUP('5.Substance-in-Process'!N468,DSL!B:H,5,FALSE),\"-\")","v":"-"}]
[null,null,null,null,null,null,null,null,null,null,null,null,null,"","","",null,"",null,"",null,{"$f":"IFERROR(VLOOKUP('5.Substance-in-Process'!N469,DSL!B:H,5,FALSE),\"-\")","v":"-"}]
[null,null,null,null,null,null,null,null,null,null,null,null,null,"","","",null,"",null,"",null,{"$f":"IFERROR(VLOOKUP('5.Substance-in-Process'!N470,DSL!B:H,5,FALSE),\"-\")","v":"-"}]
[null,null,null,null,null,null,null,null,null,null,null,null,null,"","","",null,"",null,"",null,{"$f":"IFERROR(VLOOKUP('5.Substance-in-Process'!N471,DSL!B:H,5,FALSE),\"-\")","v":"-"}]
[null,null,null,null,null,null,null,null,null,null,null,null,null,"","","",null,"",null,"",null,{"$f":"IFERROR(VLOOKUP('5.Substance-in-Process'!N472,DSL!B:H,5,FALSE),\"-\")","v":"-"}]
[null,null,null,null,null,null,null,null,null,null,null,null,null,"","","",null,"",null,"",null,{"$f":"IFERROR(VLOOKUP('5.Substance-in-Process'!N473,DSL!B:H,5,FALSE),\"-\")","v":"-"}]
[null,null,null,null,null,null,null,null,null,null,null,null,null,"","","",null,"",null,"",null,{"$f":"IFERROR(VLOOKUP('5.Substance-in-Process'!N474,DSL!B:H,5,FALSE),\"-\")","v":"-"}]
[null,null,null,null,null,null,null,null,null,null,null,null,null,"","","",null,"",null,"",null,{"$f":"IFERROR(VLOOKUP('5.Substance-in-Process'!N475,DSL!B:H,5,FALSE),\"-\")","v":"-"}]
[null,null,null,null,null,null,null,null,null,null,null,null,null,"","","",null,"",null,"",null,{"$f":"IFERROR(VLOOKUP('5.Substance-in-Process'!N476,DSL!B:H,5,FALSE),\"-\")","v":"-"}]
[null,null,null,null,null,null,null,null,null,null,null,null,null,"","","",null,"",null,"",null,{"$f":"IFERROR(VLOOKUP('5.Substance-in-Process'!N477,DSL!B:H,5,FALSE),\"-\")","v":"-"}]
[null,null,null,null,null,null,null,null,null,null,null,null,null,"","","",null,"",null,"",null,{"$f":"IFERROR(VLOOKUP('5.Substance-in-Process'!N478,DSL!B:H,5,FALSE),\"-\")","v":"-"}]
[null,null,null,null,null,null,null,null,null,null,null,null,null,"","","",null,"",null,"",null,{"$f":"IFERROR(VLOOKUP('5.Substance-in-Process'!N479,DSL!B:H,5,FALSE),\"-\")","v":"-"}]
[null,null,null,null,null,null,null,null,null,null,null,null,null,"","","",null,"",null,"",null,{"$f":"IFERROR(VLOOKUP('5.Substance-in-Process'!N480,DSL!B:H,5,FALSE),\"-\")","v":"-"}]
[null,null,null,null,null,null,null,null,null,null,null,null,null,"","","",null,"",null,"",null,{"$f":"IFERROR(VLOOKUP('5.Substance-in-Process'!N481,DSL!B:H,5,FALSE),\"-\")","v":"-"}]
[null,null,null,null,null,null,null,null,null,null,null,null,null,"","","",null,"",null,"",null,{"$f":"IFERROR(VLOOKUP('5.Substance-in-Process'!N482,DSL!B:H,5,FALSE),\"-\")","v":"-"}]
[null,null,null,null,null,null,null,null,null,null,null,null,null,"","","",null,"",null,"",null,{"$f":"IFERROR(VLOOKUP('5.Substance-in-Process'!N483,DSL!B:H,5,FALSE),\"-\")","v":"-"}]
[null,null,null,null,null,null,null,null,null,null,null,null,null,"","","",null,"",null,"",null,{"$f":"IFERROR(VLOOKUP('5.Substance-in-Process'!N484,DSL!B:H,5,FALSE),\"-\")","v":"-"}]
[null,null,null,null,null,null,null,null,null,null,null,null,null,"","","",null,"",null,"",null,{"$f":"IFERROR(VLOOKUP('5.Substance-in-Process'!N485,DSL!B:H,5,FALSE),\"-\")","v":"-"}]
[null,null,null,null,null,null,null,null,null,null,null,null,null,"","","",null,"",null,"",null,{"$f":"IFERROR(VLOOKUP('5.Substance-in-Process'!N486,DSL!B:H,5,FALSE),\"-\")","v":"-"}]
[null,null,null,null,null,null,null,null,null,null,null,null,null,"","","",null,"",null,"",null,{"$f":"IFERROR(VLOOKUP('5.Substance-in-Process'!N487,DSL!B:H,5,FALSE),\"-\")","v":"-"}]
[null,null,null,null,null,null,null,null,null,null,null,null,null,"","","",null,"",null,"",null,{"$f":"IFERROR(VLOOKUP('5.Substance-in-Process'!N488,DSL!B:H,5,FALSE),\"-\")","v":"-"}]
[null,null,null,null,null,null,null,null,null,null,null,null,null,"","","",null,"",null,"",null,{"$f":"IFERROR(VLOOKUP('5.Substance-in-Process'!N489,DSL!B:H,5,FALSE),\"-\")","v":"-"}]
[null,null,null,null,null,null,null,null,null,null,null,null,null,"","","",null,"",null,"",null,{"$f":"IFERROR(VLOOKUP('5.Substance-in-Process'!N490,DSL!B:H,5,FALSE),\"-\")","v":"-"}]
[null,null,null,null,null,null,null,null,null,null,null,null,null,"","","",null,"",null,"",null,{"$f":"IFERROR(VLOOKUP('5.Substance-in-Process'!N491,DSL!B:H,5,FALSE),\"-\")","v":"-"}]
[null,null,null,null,null,null,null,null,null,null,null,null,null,"","","",null,"",null,"",null,{"$f":"IFERROR(VLOOKUP('5.Substance-in-Process'!N492,DSL!B:H,5,FALSE),\"-\")","v":"-"}]
[null,null,null,null,null,null,null,null,null,null,null,null,null,"","","",null,"",null,"",null,{"$f":"IFERROR(VLOOKUP('5.Substance-in-Process'!N493,DSL!B:H,5,FALSE),\"-\")","v":"-"}]
[null,null,null,null,null,null,null,null,null,null,null,null,null,"","","",null,"",null,"",null,{"$f":"IFERROR(VLOOKUP('5.Substance-in-Process'!N494,DSL!B:H,5,FALSE),\"-\")","v":"-"}]
[null,null,null,null,null,null,null,null,null,null,null,null,null,"","","",null,"",null,"",null,{"$f":"IFERROR(VLOOKUP('5.Substance-in-Process'!N495,DSL!B:H,5,FALSE),\"-\")","v":"-"}]
[null,null,null,null,null,null,null,null,null,null,null,null,null,"","","",null,"",null,"",null,{"$f":"IFERROR(VLOOKUP('5.Substance-in-Process'!N496,DSL!B:H,5,FALSE),\"-\")","v":"-"}]
[null,null,null,null,null,null,null,null,null,null,null,null,null,"","","",null,"",null,"",null,{"$f":"IFERROR(VLOOKUP('5.Substance-in-Process'!N497,DSL!B:H,5,FALSE),\"-\")","v":"-"}]
[null,null,null,null,null,null,null,null,null,null,null,null,null,"","","",null,"",null,"",null,{"$f":"IFERROR(VLOOKUP('5.Substance-in-Process'!N498,DSL!B:H,5,FALSE),\"-\")","v":"-"}]
[null,null,null,null,null,null,null,null,null,null,null,null,null,"","","",null,"",null,"",null,{"$f":"IFERROR(VLOOKUP('5.Substance-in-Process'!N499,DSL!B:H,5,FALSE),\"-\")","v":"-"}]
[null,null,null,null,null,null,null,null,null,null,null,null,null,"","","",null,"",null,"",null,{"$f":"IFERROR(VLOOKUP('5.Substance-in-Process'!N500,DSL!B:H,5,FALSE),\"-\")","v":"-"}]
[null,null,null,null,null,null,null,null,null,null,null,null,null,"","","",null,"",null,"",null,{"$f":"IFERROR(VLOOKUP('5.Substance-in-Process'!N501,DSL!B:H,5,FALSE),\"-\")","v":"-"}]
[null,null,null,null,null,null,null,null,null,null,null,null,null,"","","",null,"",null,"",null,{"$f":"IFERROR(VLOOKUP('5.Substance-in-Process'!N502,DSL!B:H,5,FALSE),\"-\")","v":"-"}]
[null,null,null,null,null,null,null,null,null,null,null,null,null,"","","",null,"",null,"",null,{"$f":"IFERROR(VLOOKUP('5.Substance-in-Process'!N503,DSL!B:H,5,FALSE),\"-\")","v":"-"}]
[null,null,null,null,null,null,null,null,null,null,null,null,null,"","","",null,"",null,"",null,{"$f":"IFERROR(VLOOKUP('5.Substance-in-Process'!N504,DSL!B:H,5,FALSE),\"-\")","v":"-"}]
[null,null,null,null,null,null,null,null,null,null,null,null,null,"","","",null,"",null,"",null,{"$f":"IFERROR(VLOOKUP('5.Substance-in-Process'!N505,DSL!B:H,5,FALSE),\"-\")","v":"-"}]
[null,null,null,null,null,null,null,null,null,null,null,null,null,"","","",null,"",null,"",null,{"$f":"IFERROR(VLOOKUP('5.Substance-in-Process'!N506,DSL!B:H,5,FALSE),\"-\")","v":"-"}]
[null,null,null,null,null,null,null,null,null,null,null,null,null,"","","",null,"",null,"",null,{"$f":"IFERROR(VLOOKUP('5.Substance-in-Process'!N507,DSL!B:H,5,FALSE),\"-\")","v":"-"}]
[null,null,null,null,null,null,null,null,null,null,null,null,null,"","","",null,"",null,"",null,{"$f":"IFERROR(VLOOKUP('5.Substance-in-Process'!N508,DSL!B:H,5,FALSE),\"-\")","v":"-"}]
[null,null,null,null,null,null,null,null,null,null,null,null,null,"","","",null,"",null,"",null,{"$f":"IFERROR(VLOOKUP('5.Substance-in-Process'!N509,DSL!B:H,5,FALSE),\"-\")","v":"-"}]
[null,null,null,null,null,null,null,null,null,null,null,null,null,"","","",null,"",null,"",null,{"$f":"IFERROR(VLOOKUP('5.Substance-in-Process'!N510,DSL!B:H,5,FALSE),\"-\")","v":"-"}]
[null,null,null,null,null,null,null,null,null,null,null,null,null,"","","",null,"",null,"",null,{"$f":"IFERROR(VLOOKUP('5.Substance-in-Process'!N511,DSL!B:H,5,FALSE),\"-\")","v":"-"}]
[null,null,null,null,null,null,null,null,null,null,null,null,null,"","","",null,"",null,"",null,{"$f":"IFERROR(VLOOKUP('5.Substance-in-Process'!N512,DSL!B:H,5,FALSE),\"-\")","v":"-"}]
[null,null,null,null,null,null,null,null,null,null,null,null,null,"","","",null,"",null,"",null,{"$f":"IFERROR(VLOOKUP('5.Substance-in-Process'!N513,DSL!B:H,5,FALSE),\"-\")","v":"-"}]
[null,null,null,null,null,null,null,null,null,null,null,null,null,"","","",null,"",null,"",null,{"$f":"IFERROR(VLOOKUP('5.Substance-in-Process'!N514,DSL!B:H,5,FALSE),\"-\")","v":"-"}]
[null,null,null,null,null,null,null,null,null,null,null,null,null,"","","",null,"",null,"",null,{"$f":"IFERROR(VLOOKUP('5.Substance-in-Process'!N515,DSL!B:H,5,FALSE),\"-\")","v":"-"}]
[null,null,null,null,null,null,null,null,null,null,null,null,null,"","","",null,"",null,"",null,{"$f":"IFERROR(VLOOKUP('5.Substance-in-Process'!N516,DSL!B:H,5,FALSE),\"-\")","v":"-"}]
[null,null,null,null,null,null,null,null,null,null,null,null,null,"","","",null,"",null,"",null,{"$f":"IFERROR(VLOOKUP('5.Substance-in-Process'!N517,DSL!B:H,5,FALSE),\"-\")","v":"-"}]
[null,null,null,null,null,null,null,null,null,null,null,null,null,"","","",null,"",null,"",null,{"$f":"IFERROR(VLOOKUP('5.Substance-in-Process'!N518,DSL!B:H,5,FALSE),\"-\")","v":"-"}]
[null,null,null,null,null,null,null,null,null,null,null,null,null,"","","",null,"",null,"",null,{"$f":"IFERROR(VLOOKUP('5.Substance-in-Process'!N519,DSL!B:H,5,FALSE),\"-\")","v":"-"}]
[null,null,null,null,null,null,null,null,null,null,null,null,null,"","","",null,"",null,"",null,{"$f":"IFERROR(VLOOKUP('5.Substance-in-Process'!N520,DSL!B:H,5,FALSE),\"-\")","v":"-"}]
[null,null,null,null,null,null,null,null,null,null,null,null,null,"","","",null,"",null,"",null,{"$f":"IFERROR(VLOOKUP('5.Substance-in-Process'!N521,DSL!B:H,5,FALSE),\"-\")","v":"-"}]
[null,null,null,null,null,null,null,null,null,null,null,null,null,"","","",null,"",null,"",null,{"$f":"IFERROR(VLOOKUP('5.Substance-in-Process'!N522,DSL!B:H,5,FALSE),\"-\")","v":"-"}]
[null,null,null,null,null,null,null,null,null,null,null,null,null,"","","",null,"",null,"",null,{"$f":"IFERROR(VLOOKUP('5.Substance-in-Process'!N523,DSL!B:H,5,FALSE),\"-\")","v":"-"}]
[null,null,null,null,null,null,null,null,null,null,null,null,null,"","","",null,"",null,"",null,{"$f":"IFERROR(VLOOKUP('5.Substance-in-Process'!N524,DSL!B:H,5,FALSE),\"-\")","v":"-"}]
[null,null,null,null,null,null,null,null,null,null,null,null,null,"","","",null,"",null,"",null,{"$f":"IFERROR(VLOOKUP('5.Substance-in-Process'!N525,DSL!B:H,5,FALSE),\"-\")","v":"-"}]
[null,null,null,null,null,null,null,null,null,null,null,null,null,"","","",null,"",null,"",null,{"$f":"IFERROR(VLOOKUP('5.Substance-in-Process'!N526,DSL!B:H,5,FALSE),\"-\")","v":"-"}]
[null,null,null,null,null,null,null,null,null,null,null,null,null,"","","",null,"",null,"",null,{"$f":"IFERROR(VLOOKUP('5.Substance-in-Process'!N527,DSL!B:H,5,FALSE),\"-\")","v":"-"}]
[null,null,null,null,null,null,null,null,null,null,null,null,null,"","","",null,"",null,"",null,{"$f":"IFERROR(VLOOKUP('5.Substance-in-Process'!N528,DSL!B:H,5,FALSE),\"-\")","v":"-"}]
[null,null,null,null,null,null,null,null,null,null,null,null,null,"","","",null,"",null,"",null,{"$f":"IFERROR(VLOOKUP('5.Substance-in-Process'!N529,DSL!B:H,5,FALSE),\"-\")","v":"-"}]
[null,null,null,null,null,null,null,null,null,null,null,null,null,"","","",null,"",null,"",null,{"$f":"IFERROR(VLOOKUP('5.Substance-in-Process'!N530,DSL!B:H,5,FALSE),\"-\")","v":"-"}]
[null,null,null,null,null,null,null,null,null,null,null,null,null,"","","",null,"",null,"",null,{"$f":"IFERROR(VLOOKUP('5.Substance-in-Process'!N531,DSL!B:H,5,FALSE),\"-\")","v":"-"}]
[null,null,null,null,null,null,null,null,null,null,null,null,null,"","","",null,"",null,"",null,{"$f":"IFERROR(VLOOKUP('5.Substance-in-Process'!N532,DSL!B:H,5,FALSE),\"-\")","v":"-"}]
[null,null,null,null,null,null,null,null,null,null,null,null,null,"","","",null,"",null,"",null,{"$f":"IFERROR(VLOOKUP('5.Substance-in-Process'!N533,DSL!B:H,5,FALSE),\"-\")","v":"-"}]
[null,null,null,null,null,null,null,null,null,null,null,null,null,"","","",null,"",null,"",null,{"$f":"IFERROR(VLOOKUP('5.Substance-in-Process'!N534,DSL!B:H,5,FALSE),\"-\")","v":"-"}]
[null,null,null,null,null,null,null,null,null,null,null,null,null,"","","",null,"",null,"",null,{"$f":"IFERROR(VLOOKUP('5.Substance-in-Process'!N535,DSL!B:H,5,FALSE),\"-\")","v":"-"}]
[null,null,null,null,null,null,null,null,null,null,null,null,null,"","","",null,"",null,"",null,{"$f":"IFERROR(VLOOKUP('5.Substance-in-Process'!N536,DSL!B:H,5,FALSE),\"-\")","v":"-"}]
[null,null,null,null,null,null,null,null,null,null,null,null,null,"","","",null,"",null,"",null,{"$f":"IFERROR(VLOOKUP('5.Substance-in-Process'!N537,DSL!B:H,5,FALSE),\"-\")","v":"-"}]
[null,null,null,null,null,null,null,null,null,null,null,null,null,"","","",null,"",null,"",null,{"$f":"IFERROR(VLOOKUP('5.Substance-in-Process'!N538,DSL!B:H,5,FALSE),\"-\")","v":"-"}]
[null,null,null,null,null,null,null,null,null,null,null,null,null,"","","",null,"",null,"",null,{"$f":"IFERROR(VLOOKUP('5.Substance-in-Process'!N539,DSL!B:H,5,FALSE),\"-\")","v":"-"}]
[null,null,null,null,null,null,null,null,null,null,null,null,null,"","","",null,"",null,"",null,{"$f":"IFERROR(VLOOKUP('5.Substance-in-Process'!N540,DSL!B:H,5,FALSE),\"-\")","v":"-"}]
[null,null,null,null,null,null,null,null,null,null,null,null,null,"","","",null,"",null,"",null,{"$f":"IFERROR(VLOOKUP('5.Substance-in-Process'!N541,DSL!B:H,5,FALSE),\"-\")","v":"-"}]
[null,null,null,null,null,null,null,null,null,null,null,null,null,"","","",null,"",null,"",null,{"$f":"IFERROR(VLOOKUP('5.Substance-in-Process'!N542,DSL!B:H,5,FALSE),\"-\")","v":"-"}]
[null,null,null,null,null,null,null,null,null,null,null,null,null,"","","",null,"",null,"",null,{"$f":"IFERROR(VLOOKUP('5.Substance-in-Process'!N543,DSL!B:H,5,FALSE),\"-\")","v":"-"}]
[null,null,null,null,null,null,null,null,null,null,null,null,null,"","","",null,"",null,"",null,{"$f":"IFERROR(VLOOKUP('5.Substance-in-Process'!N544,DSL!B:H,5,FALSE),\"-\")","v":"-"}]
[null,null,null,null,null,null,null,null,null,null,null,null,null,"","","",null,"",null,"",null,{"$f":"IFERROR(VLOOKUP('5.Substance-in-Process'!N545,DSL!B:H,5,FALSE),\"-\")","v":"-"}]
[null,null,null,null,null,null,null,null,null,null,null,null,null,"","","",null,"",null,"",null,{"$f":"IFERROR(VLOOKUP('5.Substance-in-Process'!N546,DSL!B:H,5,FALSE),\"-\")","v":"-"}]
[null,null,null,null,null,null,null,null,null,null,null,null,null,"","","",null,"",null,"",null,{"$f":"IFERROR(VLOOKUP('5.Substance-in-Process'!N547,DSL!B:H,5,FALSE),\"-\")","v":"-"}]
[null,null,null,null,null,null,null,null,null,null,null,null,null,"","","",null,"",null,"",null,{"$f":"IFERROR(VLOOKUP('5.Substance-in-Process'!N548,DSL!B:H,5,FALSE),\"-\")","v":"-"}]
[null,null,null,null,null,null,null,null,null,null,null,null,null,"","","",null,"",null,"",null,{"$f":"IFERROR(VLOOKUP('5.Substance-in-Process'!N549,DSL!B:H,5,FALSE),\"-\")","v":"-"}]
[null,null,null,null,null,null,null,null,null,null,null,null,null,"","","",null,"",null,"",null,{"$f":"IFERROR(VLOOKUP('5.Substance-in-Process'!N550,DSL!B:H,5,FALSE),\"-\")","v":"-"}]
[null,null,null,null,null,null,null,null,null,null,null,null,null,"","","",null,"",null,"",null,{"$f":"IFERROR(VLOOKUP('5.Substance-in-Process'!N551,DSL!B:H,5,FALSE),\"-\")","v":"-"}]
[null,null,null,null,null,null,null,null,null,null,null,null,null,"","","",null,"",null,"",null,{"$f":"IFERROR(VLOOKUP('5.Substance-in-Process'!N552,DSL!B:H,5,FALSE),\"-\")","v":"-"}]
[null,null,null,null,null,null,null,null,null,null,null,null,null,"","","",null,"",null,"",null,{"$f":"IFERROR(VLOOKUP('5.Substance-in-Process'!N553,DSL!B:H,5,FALSE),\"-\")","v":"-"}]
[null,null,null,null,null,null,null,null,null,null,null,null,null,"","","",null,"",null,"",null,{"$f":"IFERROR(VLOOKUP('5.Substance-in-Process'!N554,DSL!B:H,5,FALSE),\"-\")","v":"-"}]
[null,null,null,null,null,null,null,null,null,null,null,null,null,"","","",null,"",null,"",null,{"$f":"IFERROR(VLOOKUP('5.Substance-in-Process'!N555,DSL!B:H,5,FALSE),\"-\")","v":"-"}]
[null,null,null,null,null,null,null,null,null,null,null,null,null,"","","",null,"",null,"",null,{"$f":"IFERROR(VLOOKUP('5.Substance-in-Process'!N556,DSL!B:H,5,FALSE),\"-\")","v":"-"}]
[null,null,null,null,null,null,null,null,null,null,null,null,null,"","","",null,"",null,"",null,{"$f":"IFERROR(VLOOKUP('5.Substance-in-Process'!N557,DSL!B:H,5,FALSE),\"-\")","v":"-"}]
[null,null,null,null,null,null,null,null,null,null,null,null,null,"","","",null,"",null,"",null,{"$f":"IFERROR(VLOOKUP('5.Substance-in-Process'!N558,DSL!B:H,5,FALSE),\"-\")","v":"-"}]
[null,null,null,null,null,null,null,null,null,null,null,null,null,"","","",null,"",null,"",null,{"$f":"IFERROR(VLOOKUP('5.Substance-in-Process'!N559,DSL!B:H,5,FALSE),\"-\")","v":"-"}]
[null,null,null,null,null,null,null,null,null,null,null,null,null,"","","",null,"",null,"",null,{"$f":"IFERROR(VLOOKUP('5.Substance-in-Process'!N560,DSL!B:H,5,FALSE),\"-\")","v":"-"}]
[null,null,null,null,null,null,null,null,null,null,null,null,null,"","","",null,"",null,"",null,{"$f":"IFERROR(VLOOKUP('5.Substance-in-Process'!N561,DSL!B:H,5,FALSE),\"-\")","v":"-"}]
[null,null,null,null,null,null,null,null,null,null,null,null,null,"","","",null,"",null,"",null,{"$f":"IFERROR(VLOOKUP('5.Substance-in-Process'!N562,DSL!B:H,5,FALSE),\"-\")","v":"-"}]
[null,null,null,null,null,null,null,null,null,null,null,null,null,"","","",null,"",null,"",null,{"$f":"IFERROR(VLOOKUP('5.Substance-in-Process'!N563,DSL!B:H,5,FALSE),\"-\")","v":"-"}]
[null,null,null,null,null,null,null,null,null,null,null,null,null,"","","",null,"",null,"",null,{"$f":"IFERROR(VLOOKUP('5.Substance-in-Process'!N564,DSL!B:H,5,FALSE),\"-\")","v":"-"}]
[null,null,null,null,null,null,null,null,null,null,null,null,null,"","","",null,"",null,"",null,{"$f":"IFERROR(VLOOKUP('5.Substance-in-Process'!N565,DSL!B:H,5,FALSE),\"-\")","v":"-"}]
[null,null,null,null,null,null,null,null,null,null,null,null,null,"","","",null,"",null,"",null,{"$f":"IFERROR(VLOOKUP('5.Substance-in-Process'!N566,DSL!B:H,5,FALSE),\"-\")","v":"-"}]
[null,null,null,null,null,null,null,null,null,null,null,null,null,"","","",null,"",null,"",null,{"$f":"IFERROR(VLOOKUP('5.Substance-in-Process'!N567,DSL!B:H,5,FALSE),\"-\")","v":"-"}]
[null,null,null,null,null,null,null,null,null,null,null,null,null,"","","",null,"",null,"",null,{"$f":"IFERROR(VLOOKUP('5.Substance-in-Process'!N568,DSL!B:H,5,FALSE),\"-\")","v":"-"}]
[null,null,null,null,null,null,null,null,null,null,null,null,null,"","","",null,"",null,"",null,{"$f":"IFERROR(VLOOKUP('5.Substance-in-Process'!N569,DSL!B:H,5,FALSE),\"-\")","v":"-"}]
[null,null,null,null,null,null,null,null,null,null,null,null,null,"","","",null,"",null,"",null,{"$f":"IFERROR(VLOOKUP('5.Substance-in-Process'!N570,DSL!B:H,5,FALSE),\"-\")","v":"-"}]
[null,null,null,null,null,null,null,null,null,null,null,null,null,"","","",null,"",null,"",null,{"$f":"IFERROR(VLOOKUP('5.Substance-in-Process'!N571,DSL!B:H,5,FALSE),\"-\")","v":"-"}]
[null,null,null,null,null,null,null,null,null,null,null,null,null,"","","",null,"",null,"",null,{"$f":"IFERROR(VLOOKUP('5.Substance-in-Process'!N572,DSL!B:H,5,FALSE),\"-\")","v":"-"}]
[null,null,null,null,null,null,null,null,null,null,null,null,null,"","","",null,"",null,"",null,{"$f":"IFERROR(VLOOKUP('5.Substance-in-Process'!N573,DSL!B:H,5,FALSE),\"-\")","v":"-"}]
[null,null,null,null,null,null,null,null,null,null,null,null,null,"","","",null,"",null,"",null,{"$f":"IFERROR(VLOOKUP('5.Substance-in-Process'!N574,DSL!B:H,5,FALSE),\"-\")","v":"-"}]
[null,null,null,null,null,null,null,null,null,null,null,null,null,"","","",null,"",null,"",null,{"$f":"IFERROR(VLOOKUP('5.Substance-in-Process'!N575,DSL!B:H,5,FALSE),\"-\")","v":"-"}]
[null,null,null,null,null,null,null,null,null,null,null,null,null,"","","",null,"",null,"",null,{"$f":"IFERROR(VLOOKUP('5.Substance-in-Process'!N576,DSL!B:H,5,FALSE),\"-\")","v":"-"}]
[null,null,null,null,null,null,null,null,null,null,null,null,null,"","","",null,"",null,"",null,{"$f":"IFERROR(VLOOKUP('5.Substance-in-Process'!N577,DSL!B:H,5,FALSE),\"-\")","v":"-"}]
[null,null,null,null,null,null,null,null,null,null,null,null,null,"","","",null,"",null,"",null,{"$f":"IFERROR(VLOOKUP('5.Substance-in-Process'!N578,DSL!B:H,5,FALSE),\"-\")","v":"-"}]
[null,null,null,null,null,null,null,null,null,null,null,null,null,"","","",null,"",null,"",null,{"$f":"IFERROR(VLOOKUP('5.Substance-in-Process'!N579,DSL!B:H,5,FALSE),\"-\")","v":"-"}]
[null,null,null,null,null,null,null,null,null,null,null,null,null,"","","",null,"",null,"",null,{"$f":"IFERROR(VLOOKUP('5.Substance-in-Process'!N580,DSL!B:H,5,FALSE),\"-\")","v":"-"}]
[null,null,null,null,null,null,null,null,null,null,null,null,null,"","","",null,"",null,"",null,{"$f":"IFERROR(VLOOKUP('5.Substance-in-Process'!N581,DSL!B:H,5,FALSE),\"-\")","v":"-"}]
[null,null,null,null,null,null,null,null,null,null,null,null,null,"","","",null,"",null,"",null,{"$f":"IFERROR(VLOOKUP('5.Substance-in-Process'!N582,DSL!B:H,5,FALSE),\"-\")","v":"-"}]
[null,null,null,null,null,null,null,null,null,null,null,null,null,"","","",null,"",null,"",null,{"$f":"IFERROR(VLOOKUP('5.Substance-in-Process'!N583,DSL!B:H,5,FALSE),\"-\")","v":"-"}]
[null,null,null,null,null,null,null,null,null,null,null,null,null,"","","",null,"",null,"",null,{"$f":"IFERROR(VLOOKUP('5.Substance-in-Process'!N584,DSL!B:H,5,FALSE),\"-\")","v":"-"}]
[null,null,null,null,null,null,null,null,null,null,null,null,null,"","","",null,"",null,"",null,{"$f":"IFERROR(VLOOKUP('5.Substance-in-Process'!N585,DSL!B:H,5,FALSE),\"-\")","v":"-"}]
[null,null,null,null,null,null,null,null,null,null,null,null,null,"","","",null,"",null,"",null,{"$f":"IFERROR(VLOOKUP('5.Substance-in-Process'!N586,DSL!B:H,5,FALSE),\"-\")","v":"-"}]
[null,null,null,null,null,null,null,null,null,null,null,null,null,"","","",null,"",null,"",null,{"$f":"IFERROR(VLOOKUP('5.Substance-in-Process'!N587,DSL!B:H,5,FALSE),\"-\")","v":"-"}]
[null,null,null,null,null,null,null,null,null,null,null,null,null,"","","",null,"",null,"",null,{"$f":"IFERROR(VLOOKUP('5.Substance-in-Process'!N588,DSL!B:H,5,FALSE),\"-\")","v":"-"}]
[null,null,null,null,null,null,null,null,null,null,null,null,null,"","","",null,"",null,"",null,{"$f":"IFERROR(VLOOKUP('5.Substance-in-Process'!N589,DSL!B:H,5,FALSE),\"-\")","v":"-"}]
[null,null,null,null,null,null,null,null,null,null,null,null,null,"","","",null,"",null,"",null,{"$f":"IFERROR(VLOOKUP('5.Substance-in-Process'!N590,DSL!B:H,5,FALSE),\"-\")","v":"-"}]
[null,null,null,null,null,null,null,null,null,null,null,null,null,"","","",null,"",null,"",null,{"$f":"IFERROR(VLOOKUP('5.Substance-in-Process'!N591,DSL!B:H,5,FALSE),\"-\")","v":"-"}]
[null,null,null,null,null,null,null,null,null,null,null,null,null,"","","",null,"",null,"",null,{"$f":"IFERROR(VLOOKUP('5.Substance-in-Process'!N592,DSL!B:H,5,FALSE),\"-\")","v":"-"}]
[null,null,null,null,null,null,null,null,null,null,null,null,null,"","","",null,"",null,"",null,{"$f":"IFERROR(VLOOKUP('5.Substance-in-Process'!N593,DSL!B:H,5,FALSE),\"-\")","v":"-"}]
[null,null,null,null,null,null,null,null,null,null,null,null,null,"","","",null,"",null,"",null,{"$f":"IFERROR(VLOOKUP('5.Substance-in-Process'!N594,DSL!B:H,5,FALSE),\"-\")","v":"-"}]
[null,null,null,null,null,null,null,null,null,null,null,null,null,"","","",null,"",null,"",null,{"$f":"IFERROR(VLOOKUP('5.Substance-in-Process'!N595,DSL!B:H,5,FALSE),\"-\")","v":"-"}]
[null,null,null,null,null,null,null,null,null,null,null,null,null,"","","",null,"",null,"",null,{"$f":"IFERROR(VLOOKUP('5.Substance-in-Process'!N596,DSL!B:H,5,FALSE),\"-\")","v":"-"}]
[null,null,null,null,null,null,null,null,null,null,null,null,null,"","","",null,"",null,"",null,{"$f":"IFERROR(VLOOKUP('5.Substance-in-Process'!N597,DSL!B:H,5,FALSE),\"-\")","v":"-"}]
[null,null,null,null,null,null,null,null,null,null,null,null,null,"","","",null,"",null,"",null,{"$f":"IFERROR(VLOOKUP('5.Substance-in-Process'!N598,DSL!B:H,5,FALSE),\"-\")","v":"-"}]
[null,null,null,null,null,null,null,null,null,null,null,null,null,"","","",null,"",null,"",null,{"$f":"IFERROR(VLOOKUP('5.Substance-in-Process'!N599,DSL!B:H,5,FALSE),\"-\")","v":"-"}]
[null,null,null,null,null,null,null,null,null,null,null,null,null,"","","",null,"",null,"",null,{"$f":"IFERROR(VLOOKUP('5.Substance-in-Process'!N600,DSL!B:H,5,FALSE),\"-\")","v":"-"}]
[null,null,null,null,null,null,null,null,null,null,null,null,null,"","","",null,"",null,"",null,{"$f":"IFERROR(VLOOKUP('5.Substance-in-Process'!N601,DSL!B:H,5,FALSE),\"-\")","v":"-"}]
[null,null,null,null,null,null,null,null,null,null,null,null,null,"","","",null,"",null,"",null,{"$f":"IFERROR(VLOOKUP('5.Substance-in-Process'!N602,DSL!B:H,5,FALSE),\"-\")","v":"-"}]
[null,null,null,null,null,null,null,null,null,null,null,null,null,"","","",null,"",null,"",null,{"$f":"IFERROR(VLOOKUP('5.Substance-in-Process'!N603,DSL!B:H,5,FALSE),\"-\")","v":"-"}]
[null,null,null,null,null,null,null,null,null,null,null,null,null,"","","",null,"",null,"",null,{"$f":"IFERROR(VLOOKUP('5.Substance-in-Process'!N604,DSL!B:H,5,FALSE),\"-\")","v":"-"}]
[null,null,null,null,null,null,null,null,null,null,null,null,null,"","","",null,"",null,"",null,{"$f":"IFERROR(VLOOKUP('5.Substance-in-Process'!N605,DSL!B:H,5,FALSE),\"-\")","v":"-"}]
[null,null,null,null,null,null,null,null,null,null,null,null,null,"","","",null,"",null,"",null,{"$f":"IFERROR(VLOOKUP('5.Substance-in-Process'!N606,DSL!B:H,5,FALSE),\"-\")","v":"-"}]
[null,null,null,null,null,null,null,null,null,null,null,null,null,"","","",null,"",null,"",null,{"$f":"IFERROR(VLOOKUP('5.Substance-in-Process'!N607,DSL!B:H,5,FALSE),\"-\")","v":"-"}]
[null,null,null,null,null,null,null,null,null,null,null,null,null,"","","",null,"",null,"",null,{"$f":"IFERROR(VLOOKUP('5.Substance-in-Process'!N608,DSL!B:H,5,FALSE),\"-\")","v":"-"}]
[null,null,null,null,null,null,null,null,null,null,null,null,null,"","","",null,"",null,"",null,{"$f":"IFERROR(VLOOKUP('5.Substance-in-Process'!N609,DSL!B:H,5,FALSE),\"-\")","v":"-"}]
[null,null,null,null,null,null,null,null,null,null,null,null,null,"","","",null,"",null,"",null,{"$f":"IFERROR(VLOOKUP('5.Substance-in-Process'!N610,DSL!B:H,5,FALSE),\"-\")","v":"-"}]
[null,null,null,null,null,null,null,null,null,null,null,null,null,"","","",null,"",null,"",null,{"$f":"IFERROR(VLOOKUP('5.Substance-in-Process'!N611,DSL!B:H,5,FALSE),\"-\")","v":"-"}]
[null,null,null,null,null,null,null,null,null,null,null,null,null,"","","",null,"",null,"",null,{"$f":"IFERROR(VLOOKUP('5.Substance-in-Process'!N612,DSL!B:H,5,FALSE),\"-\")","v":"-"}]
[null,null,null,null,null,null,null,null,null,null,null,null,null,"","","",null,"",null,"",null,{"$f":"IFERROR(VLOOKUP('5.Substance-in-Process'!N613,DSL!B:H,5,FALSE),\"-\")","v":"-"}]
[null,null,null,null,null,null,null,null,null,null,null,null,null,"","","",null,"",null,"",null,{"$f":"IFERROR(VLOOKUP('5.Substance-in-Process'!N614,DSL!B:H,5,FALSE),\"-\")","v":"-"}]
[null,null,null,null,null,null,null,null,null,null,null,null,null,"","","",null,"",null,"",null,{"$f":"IFERROR(VLOOKUP('5.Substance-in-Process'!N615,DSL!B:H,5,FALSE),\"-\")","v":"-"}]
[null,null,null,null,null,null,null,null,null,null,null,null,null,"","","",null,"",null,"",null,{"$f":"IFERROR(VLOOKUP('5.Substance-in-Process'!N616,DSL!B:H,5,FALSE),\"-\")","v":"-"}]
[null,null,null,null,null,null,null,null,null,null,null,null,null,"","","",null,"",null,"",null,{"$f":"IFERROR(VLOOKUP('5.Substance-in-Process'!N617,DSL!B:H,5,FALSE),\"-\")","v":"-"}]
[null,null,null,null,null,null,null,null,null,null,null,null,null,"","","",null,"",null,"",null,{"$f":"IFERROR(VLOOKUP('5.Substance-in-Process'!N618,DSL!B:H,5,FALSE),\"-\")","v":"-"}]
[null,null,null,null,null,null,null,null,null,null,null,null,null,"","","",null,"",null,"",null,{"$f":"IFERROR(VLOOKUP('5.Substance-in-Process'!N619,DSL!B:H,5,FALSE),\"-\")","v":"-"}]
[null,null,null,null,null,null,null,null,null,null,null,null,null,"","","",null,"",null,"",null,{"$f":"IFERROR(VLOOKUP('5.Substance-in-Process'!N620,DSL!B:H,5,FALSE),\"-\")","v":"-"}]
[null,null,null,null,null,null,null,null,null,null,null,null,null,"","","",null,"",null,"",null,{"$f":"IFERROR(VLOOKUP('5.Substance-in-Process'!N621,DSL!B:H,5,FALSE),\"-\")","v":"-"}]
[null,null,null,null,null,null,null,null,null,null,null,null,null,"","","",null,"",null,"",null,{"$f":"IFERROR(VLOOKUP('5.Substance-in-Process'!N622,DSL!B:H,5,FALSE),\"-\")","v":"-"}]
[null,null,null,null,null,null,null,null,null,null,null,null,null,"","","",null,"",null,"",null,{"$f":"IFERROR(VLOOKUP('5.Substance-in-Process'!N623,DSL!B:H,5,FALSE),\"-\")","v":"-"}]
[null,null,null,null,null,null,null,null,null,null,null,null,null,"","","",null,"",null,"",null,{"$f":"IFERROR(VLOOKUP('5.Substance-in-Process'!N624,DSL!B:H,5,FALSE),\"-\")","v":"-"}]
[null,null,null,null,null,null,null,null,null,null,null,null,null,"","","",null,"",null,"",null,{"$f":"IFERROR(VLOOKUP('5.Substance-in-Process'!N625,DSL!B:H,5,FALSE),\"-\")","v":"-"}]
[null,null,null,null,null,null,null,null,null,null,null,null,null,"","","",null,"",null,"",null,{"$f":"IFERROR(VLOOKUP('5.Substance-in-Process'!N626,DSL!B:H,5,FALSE),\"-\")","v":"-"}]
[null,null,null,null,null,null,null,null,null,null,null,null,null,"","","",null,"",null,"",null,{"$f":"IFERROR(VLOOKUP('5.Substance-in-Process'!N627,DSL!B:H,5,FALSE),\"-\")","v":"-"}]
[null,null,null,null,null,null,null,null,null,null,null,null,null,"","","",null,"",null,"",null,{"$f":"IFERROR(VLOOKUP('5.Substance-in-Process'!N628,DSL!B:H,5,FALSE),\"-\")","v":"-"}]
[null,null,null,null,null,null,null,null,null,null,null,null,null,"","","",null,"",null,"",null,{"$f":"IFERROR(VLOOKUP('5.Substance-in-Process'!N629,DSL!B:H,5,FALSE),\"-\")","v":"-"}]
[null,null,null,null,null,null,null,null,null,null,null,null,null,"","","",null,"",null,"",null,{"$f":"IFERROR(VLOOKUP('5.Substance-in-Process'!N630,DSL!B:H,5,FALSE),\"-\")","v":"-"}]
[null,null,null,null,null,null,null,null,null,null,null,null,null,"","","",null,"",null,"",null,{"$f":"IFERROR(VLOOKUP('5.Substance-in-Process'!N631,DSL!B:H,5,FALSE),\"-\")","v":"-"}]
[null,null,null,null,null,null,null,null,null,null,null,null,null,"","","",null,"",null,"",null,{"$f":"IFERROR(VLOOKUP('5.Substance-in-Process'!N632,DSL!B:H,5,FALSE),\"-\")","v":"-"}]
[null,null,null,null,null,null,null,null,null,null,null,null,null,"","","",null,"",null,"",null,{"$f":"IFERROR(VLOOKUP('5.Substance-in-Process'!N633,DSL!B:H,5,FALSE),\"-\")","v":"-"}]
[null,null,null,null,null,null,null,null,null,null,null,null,null,"","","",null,"",null,"",null,{"$f":"IFERROR(VLOOKUP('5.Substance-in-Process'!N634,DSL!B:H,5,FALSE),\"-\")","v":"-"}]
[null,null,null,null,null,null,null,null,null,null,null,null,null,"","","",null,"",null,"",null,{"$f":"IFERROR(VLOOKUP('5.Substance-in-Process'!N635,DSL!B:H,5,FALSE),\"-\")","v":"-"}]
[null,null,null,null,null,null,null,null,null,null,null,null,null,"","","",null,"",null,"",null,{"$f":"IFERROR(VLOOKUP('5.Substance-in-Process'!N636,DSL!B:H,5,FALSE),\"-\")","v":"-"}]
[null,null,null,null,null,null,null,null,null,null,null,null,null,"","","",null,"",null,"",null,{"$f":"IFERROR(VLOOKUP('5.Substance-in-Process'!N637,DSL!B:H,5,FALSE),\"-\")","v":"-"}]
[null,null,null,null,null,null,null,null,null,null,null,null,null,"","","",null,"",null,"",null,{"$f":"IFERROR(VLOOKUP('5.Substance-in-Process'!N638,DSL!B:H,5,FALSE),\"-\")","v":"-"}]
[null,null,null,null,null,null,null,null,null,null,null,null,null,"","","",null,"",null,"",null,{"$f":"IFERROR(VLOOKUP('5.Substance-in-Process'!N639,DSL!B:H,5,FALSE),\"-\")","v":"-"}]
[null,null,null,null,null,null,null,null,null,null,null,null,null,"","","",null,"",null,"",null,{"$f":"IFERROR(VLOOKUP('5.Substance-in-Process'!N640,DSL!B:H,5,FALSE),\"-\")","v":"-"}]
[null,null,null,null,null,null,null,null,null,null,null,null,null,"","","",null,"",null,"",null,{"$f":"IFERROR(VLOOKUP('5.Substance-in-Process'!N641,DSL!B:H,5,FALSE),\"-\")","v":"-"}]
[null,null,null,null,null,null,null,null,null,null,null,null,null,"","","",null,"",null,"",null,{"$f":"IFERROR(VLOOKUP('5.Substance-in-Process'!N642,DSL!B:H,5,FALSE),\"-\")","v":"-"}]
[null,null,null,null,null,null,null,null,null,null,null,null,null,"","","",null,"",null,"",null,{"$f":"IFERROR(VLOOKUP('5.Substance-in-Process'!N643,DSL!B:H,5,FALSE),\"-\")","v":"-"}]
[null,null,null,null,null,null,null,null,null,null,null,null,null,"","","",null,"",null,"",null,{"$f":"IFERROR(VLOOKUP('5.Substance-in-Process'!N644,DSL!B:H,5,FALSE),\"-\")","v":"-"}]
[null,null,null,null,null,null,null,null,null,null,null,null,null,"","","",null,"",null,"",null,{"$f":"IFERROR(VLOOKUP('5.Substance-in-Process'!N645,DSL!B:H,5,FALSE),\"-\")","v":"-"}]
[null,null,null,null,null,null,null,null,null,null,null,null,null,"","","",null,"",null,"",null,{"$f":"IFERROR(VLOOKUP('5.Substance-in-Process'!N646,DSL!B:H,5,FALSE),\"-\")","v":"-"}]
[null,null,null,null,null,null,null,null,null,null,null,null,null,"","","",null,"",null,"",null,{"$f":"IFERROR(VLOOKUP('5.Substance-in-Process'!N647,DSL!B:H,5,FALSE),\"-\")","v":"-"}]
[null,null,null,null,null,null,null,null,null,null,null,null,null,"","","",null,"",null,"",null,{"$f":"IFERROR(VLOOKUP('5.Substance-in-Process'!N648,DSL!B:H,5,FALSE),\"-\")","v":"-"}]
[null,null,null,null,null,null,null,null,null,null,null,null,null,"","","",null,"",null,"",null,{"$f":"IFERROR(VLOOKUP('5.Substance-in-Process'!N649,DSL!B:H,5,FALSE),\"-\")","v":"-"}]
[null,null,null,null,null,null,null,null,null,null,null,null,null,"","","",null,"",null,"",null,{"$f":"IFERROR(VLOOKUP('5.Substance-in-Process'!N650,DSL!B:H,5,FALSE),\"-\")","v":"-"}]
[null,null,null,null,null,null,null,null,null,null,null,null,null,"","","",null,"",null,"",null,{"$f":"IFERROR(VLOOKUP('5.Substance-in-Process'!N651,DSL!B:H,5,FALSE),\"-\")","v":"-"}]
[null,null,null,null,null,null,null,null,null,null,null,null,null,"","","",null,"",null,"",null,{"$f":"IFERROR(VLOOKUP('5.Substance-in-Process'!N652,DSL!B:H,5,FALSE),\"-\")","v":"-"}]
[null,null,null,null,null,null,null,null,null,null,null,null,null,"","","",null,"",null,"",null,{"$f":"IFERROR(VLOOKUP('5.Substance-in-Process'!N653,DSL!B:H,5,FALSE),\"-\")","v":"-"}]
[null,null,null,null,null,null,null,null,null,null,null,null,null,"","","",null,"",null,"",null,{"$f":"IFERROR(VLOOKUP('5.Substance-in-Process'!N654,DSL!B:H,5,FALSE),\"-\")","v":"-"}]
[null,null,null,null,null,null,null,null,null,null,null,null,null,"","","",null,"",null,"",null,{"$f":"IFERROR(VLOOKUP('5.Substance-in-Process'!N655,DSL!B:H,5,FALSE),\"-\")","v":"-"}]
[null,null,null,null,null,null,null,null,null,null,null,null,null,"","","",null,"",null,"",null,{"$f":"IFERROR(VLOOKUP('5.Substance-in-Process'!N656,DSL!B:H,5,FALSE),\"-\")","v":"-"}]
[null,null,null,null,null,null,null,null,null,null,null,null,null,"","","",null,"",null,"",null,{"$f":"IFERROR(VLOOKUP('5.Substance-in-Process'!N657,DSL!B:H,5,FALSE),\"-\")","v":"-"}]
[null,null,null,null,null,null,null,null,null,null,null,null,null,"","","",null,"",null,"",null,{"$f":"IFERROR(VLOOKUP('5.Substance-in-Process'!N658,DSL!B:H,5,FALSE),\"-\")","v":"-"}]
[null,null,null,null,null,null,null,null,null,null,null,null,null,"","","",null,"",null,"",null,{"$f":"IFERROR(VLOOKUP('5.Substance-in-Process'!N659,DSL!B:H,5,FALSE),\"-\")","v":"-"}]
[null,null,null,null,null,null,null,null,null,null,null,null,null,"","","",null,"",null,"",null,{"$f":"IFERROR(VLOOKUP('5.Substance-in-Process'!N660,DSL!B:H,5,FALSE),\"-\")","v":"-"}]
[null,null,null,null,null,null,null,null,null,null,null,null,null,"","","",null,"",null,"",null,{"$f":"IFERROR(VLOOKUP('5.Substance-in-Process'!N661,DSL!B:H,5,FALSE),\"-\")","v":"-"}]
[null,null,null,null,null,null,null,null,null,null,null,null,null,"","","",null,"",null,"",null,{"$f":"IFERROR(VLOOKUP('5.Substance-in-Process'!N662,DSL!B:H,5,FALSE),\"-\")","v":"-"}]
[null,null,null,null,null,null,null,null,null,null,null,null,null,"","","",null,"",null,"",null,{"$f":"IFERROR(VLOOKUP('5.Substance-in-Process'!N663,DSL!B:H,5,FALSE),\"-\")","v":"-"}]
[null,null,null,null,null,null,null,null,null,null,null,null,null,"","","",null,"",null,"",null,{"$f":"IFERROR(VLOOKUP('5.Substance-in-Process'!N664,DSL!B:H,5,FALSE),\"-\")","v":"-"}]
[null,null,null,null,null,null,null,null,null,null,null,null,null,"","","",null,"",null,"",null,{"$f":"IFERROR(VLOOKUP('5.Substance-in-Process'!N665,DSL!B:H,5,FALSE),\"-\")","v":"-"}]
[null,null,null,null,null,null,null,null,null,null,null,null,null,"","","",null,"",null,"",null,{"$f":"IFERROR(VLOOKUP('5.Substance-in-Process'!N666,DSL!B:H,5,FALSE),\"-\")","v":"-"}]
[null,null,null,null,null,null,null,null,null,null,null,null,null,"","","",null,"",null,"",null,{"$f":"IFERROR(VLOOKUP('5.Substance-in-Process'!N667,DSL!B:H,5,FALSE),\"-\")","v":"-"}]
[null,null,null,null,null,null,null,null,null,null,null,null,null,"","","",null,"",null,"",null,{"$f":"IFERROR(VLOOKUP('5.Substance-in-Process'!N668,DSL!B:H,5,FALSE),\"-\")","v":"-"}]
[null,null,null,null,null,null,null,null,null,null,null,null,null,"","","",null,"",null,"",null,{"$f":"IFERROR(VLOOKUP('5.Substance-in-Process'!N669,DSL!B:H,5,FALSE),\"-\")","v":"-"}]
[null,null,null,null,null,null,null,null,null,null,null,null,null,"","","",null,"",null,"",null,{"$f":"IFERROR(VLOOKUP('5.Substance-in-Process'!N670,DSL!B:H,5,FALSE),\"-\")","v":"-"}]
[null,null,null,null,null,null,null,null,null,null,null,null,null,"","","",null,"",null,"",null,{"$f":"IFERROR(VLOOKUP('5.Substance-in-Process'!N671,DSL!B:H,5,FALSE),\"-\")","v":"-"}]
[null,null,null,null,null,null,null,null,null,null,null,null,null,"","","",null,"",null,"",null,{"$f":"IFERROR(VLOOKUP('5.Substance-in-Process'!N672,DSL!B:H,5,FALSE),\"-\")","v":"-"}]
[null,null,null,null,null,null,null,null,null,null,null,null,null,"","","",null,"",null,"",null,{"$f":"IFERROR(VLOOKUP('5.Substance-in-Process'!N673,DSL!B:H,5,FALSE),\"-\")","v":"-"}]
[null,null,null,null,null,null,null,null,null,null,null,null,null,"","","",null,"",null,"",null,{"$f":"IFERROR(VLOOKUP('5.Substance-in-Process'!N674,DSL!B:H,5,FALSE),\"-\")","v":"-"}]
[null,null,null,null,null,null,null,null,null,null,null,null,null,"","","",null,"",null,"",null,{"$f":"IFERROR(VLOOKUP('5.Substance-in-Process'!N675,DSL!B:H,5,FALSE),\"-\")","v":"-"}]
[null,null,null,null,null,null,null,null,null,null,null,null,null,"","","",null,"",null,"",null,{"$f":"IFERROR(VLOOKUP('5.Substance-in-Process'!N676,DSL!B:H,5,FALSE),\"-\")","v":"-"}]
[null,null,null,null,null,null,null,null,null,null,null,null,null,"","","",null,"",null,"",null,{"$f":"IFERROR(VLOOKUP('5.Substance-in-Process'!N677,DSL!B:H,5,FALSE),\"-\")","v":"-"}]
[null,null,null,null,null,null,null,null,null,null,null,null,null,"","","",null,"",null,"",null,{"$f":"IFERROR(VLOOKUP('5.Substance-in-Process'!N678,DSL!B:H,5,FALSE),\"-\")","v":"-"}]
[null,null,null,null,null,null,null,null,null,null,null,null,null,"","","",null,"",null,"",null,{"$f":"IFERROR(VLOOKUP('5.Substance-in-Process'!N679,DSL!B:H,5,FALSE),\"-\")","v":"-"}]
[null,null,null,null,null,null,null,null,null,null,null,null,null,"","","",null,"",null,"",null,{"$f":"IFERROR(VLOOKUP('5.Substance-in-Process'!N680,DSL!B:H,5,FALSE),\"-\")","v":"-"}]
[null,null,null,null,null,null,null,null,null,null,null,null,null,"","","",null,"",null,"",null,{"$f":"IFERROR(VLOOKUP('5.Substance-in-Process'!N681,DSL!B:H,5,FALSE),\"-\")","v":"-"}]
[null,null,null,null,null,null,null,null,null,null,null,null,null,"","","",null,"",null,"",null,{"$f":"IFERROR(VLOOKUP('5.Substance-in-Process'!N682,DSL!B:H,5,FALSE),\"-\")","v":"-"}]
[null,null,null,null,null,null,null,null,null,null,null,null,null,"","","",null,"",null,"",null,{"$f":"IFERROR(VLOOKUP('5.Substance-in-Process'!N683,DSL!B:H,5,FALSE),\"-\")","v":"-"}]
[null,null,null,null,null,null,null,null,null,null,null,null,null,"","","",null,"",null,"",null,{"$f":"IFERROR(VLOOKUP('5.Substance-in-Process'!N684,DSL!B:H,5,FALSE),\"-\")","v":"-"}]
[null,null,null,null,null,null,null,null,null,null,null,null,null,"","","",null,"",null,"",null,{"$f":"IFERROR(VLOOKUP('5.Substance-in-Process'!N685,DSL!B:H,5,FALSE),\"-\")","v":"-"}]
[null,null,null,null,null,null,null,null,null,null,null,null,null,"","","",null,"",null,"",null,{"$f":"IFERROR(VLOOKUP('5.Substance-in-Process'!N686,DSL!B:H,5,FALSE),\"-\")","v":"-"}]
[null,null,null,null,null,null,null,null,null,null,null,null,null,"","","",null,"",null,"",null,{"$f":"IFERROR(VLOOKUP('5.Substance-in-Process'!N687,DSL!B:H,5,FALSE),\"-\")","v":"-"}]
[null,null,null,null,null,null,null,null,null,null,null,null,null,"","","",null,"",null,"",null,{"$f":"IFERROR(VLOOKUP('5.Substance-in-Process'!N688,DSL!B:H,5,FALSE),\"-\")","v":"-"}]
[null,null,null,null,null,null,null,null,null,null,null,null,null,"","","",null,"",null,"",null,{"$f":"IFERROR(VLOOKUP('5.Substance-in-Process'!N689,DSL!B:H,5,FALSE),\"-\")","v":"-"}]
[null,null,null,null,null,null,null,null,null,null,null,null,null,"","","",null,"",null,"",null,{"$f":"IFERROR(VLOOKUP('5.Substance-in-Process'!N690,DSL!B:H,5,FALSE),\"-\")","v":"-"}]
[null,null,null,null,null,null,null,null,null,null,null,null,null,"","","",null,"",null,"",null,{"$f":"IFERROR(VLOOKUP('5.Substance-in-Process'!N691,DSL!B:H,5,FALSE),\"-\")","v":"-"}]
[null,null,null,null,null,null,null,null,null,null,null,null,null,"","","",null,"",null,"",null,{"$f":"IFERROR(VLOOKUP('5.Substance-in-Process'!N692,DSL!B:H,5,FALSE),\"-\")","v":"-"}]
[null,null,null,null,null,null,null,null,null,null,null,null,null,"","","",null,"",null,"",null,{"$f":"IFERROR(VLOOKUP('5.Substance-in-Process'!N693,DSL!B:H,5,FALSE),\"-\")","v":"-"}]
[null,null,null,null,null,null,null,null,null,null,null,null,null,"","","",null,"",null,"",null,{"$f":"IFERROR(VLOOKUP('5.Substance-in-Process'!N694,DSL!B:H,5,FALSE),\"-\")","v":"-"}]
[null,null,null,null,null,null,null,null,null,null,null,null,null,"","","",null,"",null,"",null,{"$f":"IFERROR(VLOOKUP('5.Substance-in-Process'!N695,DSL!B:H,5,FALSE),\"-\")","v":"-"}]
[null,null,null,null,null,null,null,null,null,null,null,null,null,"","","",null,"",null,"",null,{"$f":"IFERROR(VLOOKUP('5.Substance-in-Process'!N696,DSL!B:H,5,FALSE),\"-\")","v":"-"}]
[null,null,null,null,null,null,null,null,null,null,null,null,null,"","","",null,"",null,"",null,{"$f":"IFERROR(VLOOKUP('5.Substance-in-Process'!N697,DSL!B:H,5,FALSE),\"-\")","v":"-"}]
[null,null,null,null,null,null,null,null,null,null,null,null,null,"","","",null,"",null,"",null,{"$f":"IFERROR(VLOOKUP('5.Substance-in-Process'!N698,DSL!B:H,5,FALSE),\"-\")","v":"-"}]
[null,null,null,null,null,null,null,null,null,null,null,null,null,"","","",null,"",null,"",null,{"$f":"IFERROR(VLOOKUP('5.Substance-in-Process'!N699,DSL!B:H,5,FALSE),\"-\")","v":"-"}]
[null,null,null,null,null,null,null,null,null,null,null,null,null,"","","",null,"",null,"",null,{"$f":"IFERROR(VLOOKUP('5.Substance-in-Process'!N700,DSL!B:H,5,FALSE),\"-\")","v":"-"}]
[null,null,null,null,null,null,null,null,null,null,null,null,null,"","","",null,"",null,"",null,{"$f":"IFERROR(VLOOKUP('5.Substance-in-Process'!N701,DSL!B:H,5,FALSE),\"-\")","v":"-"}]
[null,null,null,null,null,null,null,null,null,null,null,null,null,"","","",null,"",null,"",null,{"$f":"IFERROR(VLOOKUP('5.Substance-in-Process'!N702,DSL!B:H,5,FALSE),\"-\")","v":"-"}]
[null,null,null,null,null,null,null,null,null,null,null,null,null,"","","",null,"",null,"",null,{"$f":"IFERROR(VLOOKUP('5.Substance-in-Process'!N703,DSL!B:H,5,FALSE),\"-\")","v":"-"}]
[null,null,null,null,null,null,null,null,null,null,null,null,null,"","","",null,"",null,"",null,{"$f":"IFERROR(VLOOKUP('5.Substance-in-Process'!N704,DSL!B:H,5,FALSE),\"-\")","v":"-"}]
[null,null,null,null,null,null,null,null,null,null,null,null,null,"","","",null,"",null,"",null,{"$f":"IFERROR(VLOOKUP('5.Substance-in-Process'!N705,DSL!B:H,5,FALSE),\"-\")","v":"-"}]
[null,null,null,null,null,null,null,null,null,null,null,null,null,"","","",null,"",null,"",null,{"$f":"IFERROR(VLOOKUP('5.Substance-in-Process'!N706,DSL!B:H,5,FALSE),\"-\")","v":"-"}]
[null,null,null,null,null,null,null,null,null,null,null,null,null,"","","",null,"",null,"",null,{"$f":"IFERROR(VLOOKUP('5.Substance-in-Process'!N707,DSL!B:H,5,FALSE),\"-\")","v":"-"}]
[null,null,null,null,null,null,null,null,null,null,null,null,null,"","","",null,"",null,"",null,{"$f":"IFERROR(VLOOKUP('5.Substance-in-Process'!N708,DSL!B:H,5,FALSE),\"-\")","v":"-"}]
[null,null,null,null,null,null,null,null,null,null,null,null,null,"","","",null,"",null,"",null,{"$f":"IFERROR(VLOOKUP('5.Substance-in-Process'!N709,DSL!B:H,5,FALSE),\"-\")","v":"-"}]
[null,null,null,null,null,null,null,null,null,null,null,null,null,"","","",null,"",null,"",null,{"$f":"IFERROR(VLOOKUP('5.Substance-in-Process'!N710,DSL!B:H,5,FALSE),\"-\")","v":"-"}]
[null,null,null,null,null,null,null,null,null,null,null,null,null,"","","",null,"",null,"",null,{"$f":"IFERROR(VLOOKUP('5.Substance-in-Process'!N711,DSL!B:H,5,FALSE),\"-\")","v":"-"}]
[null,null,null,null,null,null,null,null,null,null,null,null,null,"","","",null,"",null,"",null,{"$f":"IFERROR(VLOOKUP('5.Substance-in-Process'!N712,DSL!B:H,5,FALSE),\"-\")","v":"-"}]
[null,null,null,null,null,null,null,null,null,null,null,null,null,"","","",null,"",null,"",null,{"$f":"IFERROR(VLOOKUP('5.Substance-in-Process'!N713,DSL!B:H,5,FALSE),\"-\")","v":"-"}]
[null,null,null,null,null,null,null,null,null,null,null,null,null,"","","",null,"",null,"",null,{"$f":"IFERROR(VLOOKUP('5.Substance-in-Process'!N714,DSL!B:H,5,FALSE),\"-\")","v":"-"}]
[null,null,null,null,null,null,null,null,null,null,null,null,null,"","","",null,"",null,"",null,{"$f":"IFERROR(VLOOKUP('5.Substance-in-Process'!N715,DSL!B:H,5,FALSE),\"-\")","v":"-"}]
[null,null,null,null,null,null,null,null,null,null,null,null,null,"","","",null,"",null,"",null,{"$f":"IFERROR(VLOOKUP('5.Substance-in-Process'!N716,DSL!B:H,5,FALSE),\"-\")","v":"-"}]
[null,null,null,null,null,null,null,null,null,null,null,null,null,"","","",null,"",null,"",null,{"$f":"IFERROR(VLOOKUP('5.Substance-in-Process'!N717,DSL!B:H,5,FALSE),\"-\")","v":"-"}]
[null,null,null,null,null,null,null,null,null,null,null,null,null,"","","",null,"",null,"",null,{"$f":"IFERROR(VLOOKUP('5.Substance-in-Process'!N718,DSL!B:H,5,FALSE),\"-\")","v":"-"}]
[null,null,null,null,null,null,null,null,null,null,null,null,null,"","","",null,"",null,"",null,{"$f":"IFERROR(VLOOKUP('5.Substance-in-Process'!N719,DSL!B:H,5,FALSE),\"-\")","v":"-"}]
[null,null,null,null,null,null,null,null,null,null,null,null,null,"","","",null,"",null,"",null,{"$f":"IFERROR(VLOOKUP('5.Substance-in-Process'!N720,DSL!B:H,5,FALSE),\"-\")","v":"-"}]
[null,null,null,null,null,null,null,null,null,null,null,null,null,"","","",null,"",null,"",null,{"$f":"IFERROR(VLOOKUP('5.Substance-in-Process'!N721,DSL!B:H,5,FALSE),\"-\")","v":"-"}]
[null,null,null,null,null,null,null,null,null,null,null,null,null,"","","",null,"",null,"",null,{"$f":"IFERROR(VLOOKUP('5.Substance-in-Process'!N722,DSL!B:H,5,FALSE),\"-\")","v":"-"}]
[null,null,null,null,null,null,null,null,null,null,null,null,null,"","","",null,"",null,"",null,{"$f":"IFERROR(VLOOKUP('5.Substance-in-Process'!N723,DSL!B:H,5,FALSE),\"-\")","v":"-"}]
[null,null,null,null,null,null,null,null,null,null,null,null,null,"","","",null,"",null,"",null,{"$f":"IFERROR(VLOOKUP('5.Substance-in-Process'!N724,DSL!B:H,5,FALSE),\"-\")","v":"-"}]
[null,null,null,null,null,null,null,null,null,null,null,null,null,"","","",null,"",null,"",null,{"$f":"IFERROR(VLOOKUP('5.Substance-in-Process'!N725,DSL!B:H,5,FALSE),\"-\")","v":"-"}]
[null,null,null,null,null,null,null,null,null,null,null,null,null,"","","",null,"",null,"",null,{"$f":"IFERROR(VLOOKUP('5.Substance-in-Process'!N726,DSL!B:H,5,FALSE),\"-\")","v":"-"}]
[null,null,null,null,null,null,null,null,null,null,null,null,null,"","","",null,"",null,"",null,{"$f":"IFERROR(VLOOKUP('5.Substance-in-Process'!N727,DSL!B:H,5,FALSE),\"-\")","v":"-"}]
[null,null,null,null,null,null,null,null,null,null,null,null,null,"","","",null,"",null,"",null,{"$f":"IFERROR(VLOOKUP('5.Substance-in-Process'!N728,DSL!B:H,5,FALSE),\"-\")","v":"-"}]
[null,null,null,null,null,null,null,null,null,null,null,null,null,"","","",null,"",null,"",null,{"$f":"IFERROR(VLOOKUP('5.Substance-in-Process'!N729,DSL!B:H,5,FALSE),\"-\")","v":"-"}]
[null,null,null,null,null,null,null,null,null,null,null,null,null,"","","",null,"",null,"",null,{"$f":"IFERROR(VLOOKUP('5.Substance-in-Process'!N730,DSL!B:H,5,FALSE),\"-\")","v":"-"}]
[null,null,null,null,null,null,null,null,null,null,null,null,null,"","","",null,"",null,"",null,{"$f":"IFERROR(VLOOKUP('5.Substance-in-Process'!N731,DSL!B:H,5,FALSE),\"-\")","v":"-"}]
[null,null,null,null,null,null,null,null,null,null,null,null,null,"","","",null,"",null,"",null,{"$f":"IFERROR(VLOOKUP('5.Substance-in-Process'!N732,DSL!B:H,5,FALSE),\"-\")","v":"-"}]
[null,null,null,null,null,null,null,null,null,null,null,null,null,"","","",null,"",null,"",null,{"$f":"IFERROR(VLOOKUP('5.Substance-in-Process'!N733,DSL!B:H,5,FALSE),\"-\")","v":"-"}]
[null,null,null,null,null,null,null,null,null,null,null,null,null,"","","",null,"",null,"",null,{"$f":"IFERROR(VLOOKUP('5.Substance-in-Process'!N734,DSL!B:H,5,FALSE),\"-\")","v":"-"}]
[null,null,null,null,null,null,null,null,null,null,null,null,null,"","","",null,"",null,"",null,{"$f":"IFERROR(VLOOKUP('5.Substance-in-Process'!N735,DSL!B:H,5,FALSE),\"-\")","v":"-"}]
[null,null,null,null,null,null,null,null,null,null,null,null,null,"","","",null,"",null,"",null,{"$f":"IFERROR(VLOOKUP('5.Substance-in-Process'!N736,DSL!B:H,5,FALSE),\"-\")","v":"-"}]
[null,null,null,null,null,null,null,null,null,null,null,null,null,"","","",null,"",null,"",null,{"$f":"IFERROR(VLOOKUP('5.Substance-in-Process'!N737,DSL!B:H,5,FALSE),\"-\")","v":"-"}]
[null,null,null,null,null,null,null,null,null,null,null,null,null,"","","",null,"",null,"",null,{"$f":"IFERROR(VLOOKUP('5.Substance-in-Process'!N738,DSL!B:H,5,FALSE),\"-\")","v":"-"}]
[null,null,null,null,null,null,null,null,null,null,null,null,null,"","","",null,"",null,"",null,{"$f":"IFERROR(VLOOKUP('5.Substance-in-Process'!N739,DSL!B:H,5,FALSE),\"-\")","v":"-"}]
[null,null,null,null,null,null,null,null,null,null,null,null,null,"","","",null,"",null,"",null,{"$f":"IFERROR(VLOOKUP('5.Substance-in-Process'!N740,DSL!B:H,5,FALSE),\"-\")","v":"-"}]
[null,null,null,null,null,null,null,null,null,null,null,null,null,"","","",null,"",null,"",null,{"$f":"IFERROR(VLOOKUP('5.Substance-in-Process'!N741,DSL!B:H,5,FALSE),\"-\")","v":"-"}]
[null,null,null,null,null,null,null,null,null,null,null,null,null,"","","",null,"",null,"",null,{"$f":"IFERROR(VLOOKUP('5.Substance-in-Process'!N742,DSL!B:H,5,FALSE),\"-\")","v":"-"}]
[null,null,null,null,null,null,null,null,null,null,null,null,null,"","","",null,"",null,"",null,{"$f":"IFERROR(VLOOKUP('5.Substance-in-Process'!N743,DSL!B:H,5,FALSE),\"-\")","v":"-"}]
[null,null,null,null,null,null,null,null,null,null,null,null,null,"","","",null,"",null,"",null,{"$f":"IFERROR(VLOOKUP('5.Substance-in-Process'!N744,DSL!B:H,5,FALSE),\"-\")","v":"-"}]
[null,null,null,null,null,null,null,null,null,null,null,null,null,"","","",null,"",null,"",null,{"$f":"IFERROR(VLOOKUP('5.Substance-in-Process'!N745,DSL!B:H,5,FALSE),\"-\")","v":"-"}]
[null,null,null,null,null,null,null,null,null,null,null,null,null,"","","",null,"",null,"",null,{"$f":"IFERROR(VLOOKUP('5.Substance-in-Process'!N746,DSL!B:H,5,FALSE),\"-\")","v":"-"}]
[null,null,null,null,null,null,null,null,null,null,null,null,null,"","","",null,"",null,"",null,{"$f":"IFERROR(VLOOKUP('5.Substance-in-Process'!N747,DSL!B:H,5,FALSE),\"-\")","v":"-"}]
[null,null,null,null,null,null,null,null,null,null,null,null,null,"","","",null,"",null,"",null,{"$f":"IFERROR(VLOOKUP('5.Substance-in-Process'!N748,DSL!B:H,5,FALSE),\"-\")","v":"-"}]
[null,null,null,null,null,null,null,null,null,null,null,null,null,"","","",null,"",null,"",null,{"$f":"IFERROR(VLOOKUP('5.Substance-in-Process'!N749,DSL!B:H,5,FALSE),\"-\")","v":"-"}]
[null,null,null,null,null,null,null,null,null,null,null,null,null,"","","",null,"",null,"",null,{"$f":"IFERROR(VLOOKUP('5.Substance-in-Process'!N750,DSL!B:H,5,FALSE),\"-\")","v":"-"}]
[null,null,null,null,null,null,null,null,null,null,null,null,null,"","","",null,"",null,"",null,{"$f":"IFERROR(VLOOKUP('5.Substance-in-Process'!N751,DSL!B:H,5,FALSE),\"-\")","v":"-"}]
[null,null,null,null,null,null,null,null,null,null,null,null,null,"","","",null,"",null,"",null,{"$f":"IFERROR(VLOOKUP('5.Substance-in-Process'!N752,DSL!B:H,5,FALSE),\"-\")","v":"-"}]
[null,null,null,null,null,null,null,null,null,null,null,null,null,"","","",null,"",null,"",null,{"$f":"IFERROR(VLOOKUP('5.Substance-in-Process'!N753,DSL!B:H,5,FALSE),\"-\")","v":"-"}]
[null,null,null,null,null,null,null,null,null,null,null,null,null,"","","",null,"",null,"",null,{"$f":"IFERROR(VLOOKUP('5.Substance-in-Process'!N754,DSL!B:H,5,FALSE),\"-\")","v":"-"}]
[null,null,null,null,null,null,null,null,null,null,null,null,null,"","","",null,"",null,"",null,{"$f":"IFERROR(VLOOKUP('5.Substance-in-Process'!N755,DSL!B:H,5,FALSE),\"-\")","v":"-"}]
[null,null,null,null,null,null,null,null,null,null,null,null,null,"","","",null,"",null,"",null,{"$f":"IFERROR(VLOOKUP('5.Substance-in-Process'!N756,DSL!B:H,5,FALSE),\"-\")","v":"-"}]
[null,null,null,null,null,null,null,null,null,null,null,null,null,"","","",null,"",null,"",null,{"$f":"IFERROR(VLOOKUP('5.Substance-in-Process'!N757,DSL!B:H,5,FALSE),\"-\")","v":"-"}]
[null,null,null,null,null,null,null,null,null,null,null,null,null,"","","",null,"",null,"",null,{"$f":"IFERROR(VLOOKUP('5.Substance-in-Process'!N758,DSL!B:H,5,FALSE),\"-\")","v":"-"}]
[null,null,null,null,null,null,null,null,null,null,null,null,null,"","","",null,"",null,"",null,{"$f":"IFERROR(VLOOKUP('5.Substance-in-Process'!N759,DSL!B:H,5,FALSE),\"-\")","v":"-"}]
[null,null,null,null,null,null,null,null,null,null,null,null,null,"","","",null,"",null,"",null,{"$f":"IFERROR(VLOOKUP('5.Substance-in-Process'!N760,DSL!B:H,5,FALSE),\"-\")","v":"-"}]
[null,null,null,null,null,null,null,null,null,null,null,null,null,"","","",null,"",null,"",null,{"$f":"IFERROR(VLOOKUP('5.Substance-in-Process'!N761,DSL!B:H,5,FALSE),\"-\")","v":"-"}]
[null,null,null,null,null,null,null,null,null,null,null,null,null,"","","",null,"",null,"",null,{"$f":"IFERROR(VLOOKUP('5.Substance-in-Process'!N762,DSL!B:H,5,FALSE),\"-\")","v":"-"}]
[null,null,null,null,null,null,null,null,null,null,null,null,null,"","","",null,"",null,"",null,{"$f":"IFERROR(VLOOKUP('5.Substance-in-Process'!N763,DSL!B:H,5,FALSE),\"-\")","v":"-"}]
[null,null,null,null,null,null,null,null,null,null,null,null,null,"","","",null,"",null,"",null,{"$f":"IFERROR(VLOOKUP('5.Substance-in-Process'!N764,DSL!B:H,5,FALSE),\"-\")","v":"-"}]
[null,null,null,null,null,null,null,null,null,null,null,null,null,"","","",null,"",null,"",null,{"$f":"IFERROR(VLOOKUP('5.Substance-in-Process'!N765,DSL!B:H,5,FALSE),\"-\")","v":"-"}]
[null,null,null,null,null,null,null,null,null,null,null,null,null,"","","",null,"",null,"",null,{"$f":"IFERROR(VLOOKUP('5.Substance-in-Process'!N766,DSL!B:H,5,FALSE),\"-\")","v":"-"}]
[null,null,null,null,null,null,null,null,null,null,null,null,null,"","","",null,"",null,"",null,{"$f":"IFERROR(VLOOKUP('5.Substance-in-Process'!N767,DSL!B:H,5,FALSE),\"-\")","v":"-"}]
[null,null,null,null,null,null,null,null,null,null,null,null,null,"","","",null,"",null,"",null,{"$f":"IFERROR(VLOOKUP('5.Substance-in-Process'!N768,DSL!B:H,5,FALSE),\"-\")","v":"-"}]
[null,null,null,null,null,null,null,null,null,null,null,null,null,"","","",null,"",null,"",null,{"$f":"IFERROR(VLOOKUP('5.Substance-in-Process'!N769,DSL!B:H,5,FALSE),\"-\")","v":"-"}]
[null,null,null,null,null,null,null,null,null,null,null,null,null,"","","",null,"",null,"",null,{"$f":"IFERROR(VLOOKUP('5.Substance-in-Process'!N770,DSL!B:H,5,FALSE),\"-\")","v":"-"}]
[null,null,null,null,null,null,null,null,null,null,null,null,null,"","","",null,"",null,"",null,{"$f":"IFERROR(VLOOKUP('5.Substance-in-Process'!N771,DSL!B:H,5,FALSE),\"-\")","v":"-"}]
[null,null,null,null,null,null,null,null,null,null,null,null,null,"","","",null,"",null,"",null,{"$f":"IFERROR(VLOOKUP('5.Substance-in-Process'!N772,DSL!B:H,5,FALSE),\"-\")","v":"-"}]
[null,null,null,null,null,null,null,null,null,null,null,null,null,"","","",null,"",null,"",null,{"$f":"IFERROR(VLOOKUP('5.Substance-in-Process'!N773,DSL!B:H,5,FALSE),\"-\")","v":"-"}]
[null,null,null,null,null,null,null,null,null,null,null,null,null,"","","",null,"",null,"",null,{"$f":"IFERROR(VLOOKUP('5.Substance-in-Process'!N774,DSL!B:H,5,FALSE),\"-\")","v":"-"}]
[null,null,null,null,null,null,null,null,null,null,null,null,null,"","","",null,"",null,"",null,{"$f":"IFERROR(VLOOKUP('5.Substance-in-Process'!N775,DSL!B:H,5,FALSE),\"-\")","v":"-"}]
[null,null,null,null,null,null,null,null,null,null,null,null,null,"","","",null,"",null,"",null,{"$f":"IFERROR(VLOOKUP('5.Substance-in-Process'!N776,DSL!B:H,5,FALSE),\"-\")","v":"-"}]
[null,null,null,null,null,null,null,null,null,null,null,null,null,"","","",null,"",null,"",null,{"$f":"IFERROR(VLOOKUP('5.Substance-in-Process'!N777,DSL!B:H,5,FALSE),\"-\")","v":"-"}]
[null,null,null,null,null,null,null,null,null,null,null,null,null,"","","",null,"",null,"",null,{"$f":"IFERROR(VLOOKUP('5.Substance-in-Process'!N778,DSL!B:H,5,FALSE),\"-\")","v":"-"}]
[null,null,null,null,null,null,null,null,null,null,null,null,null,"","","",null,"",null,"",null,{"$f":"IFERROR(VLOOKUP('5.Substance-in-Process'!N779,DSL!B:H,5,FALSE),\"-\")","v":"-"}]
[null,null,null,null,null,null,null,null,null,null,null,null,null,"","","",null,"",null,"",null,{"$f":"IFERROR(VLOOKUP('5.Substance-in-Process'!N780,DSL!B:H,5,FALSE),\"-\")","v":"-"}]
[null,null,null,null,null,null,null,null,null,null,null,null,null,"","","",null,"",null,"",null,{"$f":"IFERROR(VLOOKUP('5.Substance-in-Process'!N781,DSL!B:H,5,FALSE),\"-\")","v":"-"}]
[null,null,null,null,null,null,null,null,null,null,null,null,null,"","","",null,"",null,"",null,{"$f":"IFERROR(VLOOKUP('5.Substance-in-Process'!N782,DSL!B:H,5,FALSE),\"-\")","v":"-"}]
[null,null,null,null,null,null,null,null,null,null,null,null,null,"","","",null,"",null,"",null,{"$f":"IFERROR(VLOOKUP('5.Substance-in-Process'!N783,DSL!B:H,5,FALSE),\"-\")","v":"-"}]
[null,null,null,null,null,null,null,null,null,null,null,null,null,"","","",null,"",null,"",null,{"$f":"IFERROR(VLOOKUP('5.Substance-in-Process'!N784,DSL!B:H,5,FALSE),\"-\")","v":"-"}]
[null,null,null,null,null,null,null,null,null,null,null,null,null,"","","",null,"",null,"",null,{"$f":"IFERROR(VLOOKUP('5.Substance-in-Process'!N785,DSL!B:H,5,FALSE),\"-\")","v":"-"}]
[null,null,null,null,null,null,null,null,null,null,null,null,null,"","","",null,"",null,"",null,{"$f":"IFERROR(VLOOKUP('5.Substance-in-Process'!N786,DSL!B:H,5,FALSE),\"-\")","v":"-"}]
[null,null,null,null,null,null,null,null,null,null,null,null,null,"","","",null,"",null,"",null,{"$f":"IFERROR(VLOOKUP('5.Substance-in-Process'!N787,DSL!B:H,5,FALSE),\"-\")","v":"-"}]
[null,null,null,null,null,null,null,null,null,null,null,null,null,"","","",null,"",null,"",null,{"$f":"IFERROR(VLOOKUP('5.Substance-in-Process'!N788,DSL!B:H,5,FALSE),\"-\")","v":"-"}]
[null,null,null,null,null,null,null,null,null,null,null,null,null,"","","",null,"",null,"",null,{"$f":"IFERROR(VLOOKUP('5.Substance-in-Process'!N789,DSL!B:H,5,FALSE),\"-\")","v":"-"}]
[null,null,null,null,null,null,null,null,null,null,null,null,null,"","","",null,"",null,"",null,{"$f":"IFERROR(VLOOKUP('5.Substance-in-Process'!N790,DSL!B:H,5,FALSE),\"-\")","v":"-"}]
[null,null,null,null,null,null,null,null,null,null,null,null,null,"","","",null,"",null,"",null,{"$f":"IFERROR(VLOOKUP('5.Substance-in-Process'!N791,DSL!B:H,5,FALSE),\"-\")","v":"-"}]
[null,null,null,null,null,null,null,null,null,null,null,null,null,"","","",null,"",null,"",null,{"$f":"IFERROR(VLOOKUP('5.Substance-in-Process'!N792,DSL!B:H,5,FALSE),\"-\")","v":"-"}]
[null,null,null,null,null,null,null,null,null,null,null,null,null,"","","",null,"",null,"",null,{"$f":"IFERROR(VLOOKUP('5.Substance-in-Process'!N793,DSL!B:H,5,FALSE),\"-\")","v":"-"}]
[null,null,null,null,null,null,null,null,null,null,null,null,null,"","","",null,"",null,"",null,{"$f":"IFERROR(VLOOKUP('5.Substance-in-Process'!N794,DSL!B:H,5,FALSE),\"-\")","v":"-"}]
[null,null,null,null,null,null,null,null,null,null,null,null,null,"","","",null,"",null,"",null,{"$f":"IFERROR(VLOOKUP('5.Substance-in-Process'!N795,DSL!B:H,5,FALSE),\"-\")","v":"-"}]
[null,null,null,null,null,null,null,null,null,null,null,null,null,"","","",null,"",null,"",null,{"$f":"IFERROR(VLOOKUP('5.Substance-in-Process'!N796,DSL!B:H,5,FALSE),\"-\")","v":"-"}]
[null,null,null,null,null,null,null,null,null,null,null,null,null,"","","",null,"",null,"",null,{"$f":"IFERROR(VLOOKUP('5.Substance-in-Process'!N797,DSL!B:H,5,FALSE),\"-\")","v":"-"}]
[null,null,null,null,null,null,null,null,null,null,null,null,null,"","","",null,"",null,"",null,{"$f":"IFERROR(VLOOKUP('5.Substance-in-Process'!N798,DSL!B:H,5,FALSE),\"-\")","v":"-"}]
[null,null,null,null,null,null,null,null,null,null,null,null,null,"","","",null,"",null,"",null,{"$f":"IFERROR(VLOOKUP('5.Substance-in-Process'!N799,DSL!B:H,5,FALSE),\"-\")","v":"-"}]
[null,null,null,null,null,null,null,null,null,null,null,null,null,"","","",null,"",null,"",null,{"$f":"IFERROR(VLOOKUP('5.Substance-in-Process'!N800,DSL!B:H,5,FALSE),\"-\")","v":"-"}]
[null,null,null,null,null,null,null,null,null,null,null,null,null,"","","",null,"",null,"",null,{"$f":"IFERROR(VLOOKUP('5.Substance-in-Process'!N801,DSL!B:H,5,FALSE),\"-\")","v":"-"}]
[null,null,null,null,null,null,null,null,null,null,null,null,null,"","","",null,"",null,"",null,{"$f":"IFERROR(VLOOKUP('5.Substance-in-Process'!N802,DSL!B:H,5,FALSE),\"-\")","v":"-"}]
[null,null,null,null,null,null,null,null,null,null,null,null,null,"","","",null,"",null,"",null,{"$f":"IFERROR(VLOOKUP('5.Substance-in-Process'!N803,DSL!B:H,5,FALSE),\"-\")","v":"-"}]
[null,null,null,null,null,null,null,null,null,null,null,null,null,"","","",null,"",null,"",null,{"$f":"IFERROR(VLOOKUP('5.Substance-in-Process'!N804,DSL!B:H,5,FALSE),\"-\")","v":"-"}]
[null,null,null,null,null,null,null,null,null,null,null,null,null,"","","",null,"",null,"",null,{"$f":"IFERROR(VLOOKUP('5.Substance-in-Process'!N805,DSL!B:H,5,FALSE),\"-\")","v":"-"}]
[null,null,null,null,null,null,null,null,null,null,null,null,null,"","","",null,"",null,"",null,{"$f":"IFERROR(VLOOKUP('5.Substance-in-Process'!N806,DSL!B:H,5,FALSE),\"-\")","v":"-"}]
[null,null,null,null,null,null,null,null,null,null,null,null,null,"","","",null,"",null,"",null,{"$f":"IFERROR(VLOOKUP('5.Substance-in-Process'!N807,DSL!B:H,5,FALSE),\"-\")","v":"-"}]
[null,null,null,null,null,null,null,null,null,null,null,null,null,"","","",null,"",null,"",null,{"$f":"IFERROR(VLOOKUP('5.Substance-in-Process'!N808,DSL!B:H,5,FALSE),\"-\")","v":"-"}]
[null,null,null,null,null,null,null,null,null,null,null,null,null,"","","",null,"",null,"",null,{"$f":"IFERROR(VLOOKUP('5.Substance-in-Process'!N809,DSL!B:H,5,FALSE),\"-\")","v":"-"}]
[null,null,null,null,null,null,null,null,null,null,null,null,null,"","","",null,"",null,"",null,{"$f":"IFERROR(VLOOKUP('5.Substance-in-Process'!N810,DSL!B:H,5,FALSE),\"-\")","v":"-"}]
[null,null,null,null,null,null,null,null,null,null,null,null,null,"","","",null,"",null,"",null,{"$f":"IFERROR(VLOOKUP('5.Substance-in-Process'!N811,DSL!B:H,5,FALSE),\"-\")","v":"-"}]
[null,null,null,null,null,null,null,null,null,null,null,null,null,"","","",null,"",null,"",null,{"$f":"IFERROR(VLOOKUP('5.Substance-in-Process'!N812,DSL!B:H,5,FALSE),\"-\")","v":"-"}]
[null,null,null,null,null,null,null,null,null,null,null,null,null,"","","",null,"",null,"",null,{"$f":"IFERROR(VLOOKUP('5.Substance-in-Process'!N813,DSL!B:H,5,FALSE),\"-\")","v":"-"}]
[null,null,null,null,null,null,null,null,null,null,null,null,null,"","","",null,"",null,"",null,{"$f":"IFERROR(VLOOKUP('5.Substance-in-Process'!N814,DSL!B:H,5,FALSE),\"-\")","v":"-"}]
[null,null,null,null,null,null,null,null,null,null,null,null,null,"","","",null,"",null,"",null,{"$f":"IFERROR(VLOOKUP('5.Substance-in-Process'!N815,DSL!B:H,5,FALSE),\"-\")","v":"-"}]
[null,null,null,null,null,null,null,null,null,null,null,null,null,"","","",null,"",null,"",null,{"$f":"IFERROR(VLOOKUP('5.Substance-in-Process'!N816,DSL!B:H,5,FALSE),\"-\")","v":"-"}]
[null,null,null,null,null,null,null,null,null,null,null,null,null,"","","",null,"",null,"",null,{"$f":"IFERROR(VLOOKUP('5.Substance-in-Process'!N817,DSL!B:H,5,FALSE),\"-\")","v":"-"}]
[null,null,null,null,null,null,null,null,null,null,null,null,null,"","","",null,"",null,"",null,{"$f":"IFERROR(VLOOKUP('5.Substance-in-Process'!N818,DSL!B:H,5,FALSE),\"-\")","v":"-"}]
[null,null,null,null,null,null,null,null,null,null,null,null,null,"","","",null,"",null,"",null,{"$f":"IFERROR(VLOOKUP('5.Substance-in-Process'!N819,DSL!B:H,5,FALSE),\"-\")","v":"-"}]
[null,null,null,null,null,null,null,null,null,null,null,null,null,"","","",null,"",null,"",null,{"$f":"IFERROR(VLOOKUP('5.Substance-in-Process'!N820,DSL!B:H,5,FALSE),\"-\")","v":"-"}]
[null,null,null,null,null,null,null,null,null,null,null,null,null,"","","",null,"",null,"",null,{"$f":"IFERROR(VLOOKUP('5.Substance-in-Process'!N821,DSL!B:H,5,FALSE),\"-\")","v":"-"}]
[null,null,null,null,null,null,null,null,null,null,null,null,null,"","","",null,"",null,"",null,{"$f":"IFERROR(VLOOKUP('5.Substance-in-Process'!N822,DSL!B:H,5,FALSE),\"-\")","v":"-"}]
[null,null,null,null,null,null,null,null,null,null,null,null,null,"","","",null,"",null,"",null,{"$f":"IFERROR(VLOOKUP('5.Substance-in-Process'!N823,DSL!B:H,5,FALSE),\"-\")","v":"-"}]
[null,null,null,null,null,null,null,null,null,null,null,null,null,"","","",null,"",null,"",null,{"$f":"IFERROR(VLOOKUP('5.Substance-in-Process'!N824,DSL!B:H,5,FALSE),\"-\")","v":"-"}]
[null,null,null,null,null,null,null,null,null,null,null,null,null,"","","",null,"",null,"",null,{"$f":"IFERROR(VLOOKUP('5.Substance-in-Process'!N825,DSL!B:H,5,FALSE),\"-\")","v":"-"}]
[null,null,null,null,null,null,null,null,null,null,null,null,null,"","","",null,"",null,"",null,{"$f":"IFERROR(VLOOKUP('5.Substance-in-Process'!N826,DSL!B:H,5,FALSE),\"-\")","v":"-"}]
[null,null,null,null,null,null,null,null,null,null,null,null,null,"","","",null,"",null,"",null,{"$f":"IFERROR(VLOOKUP('5.Substance-in-Process'!N827,DSL!B:H,5,FALSE),\"-\")","v":"-"}]
[null,null,null,null,null,null,null,null,null,null,null,null,null,"","","",null,"",null,"",null,{"$f":"IFERROR(VLOOKUP('5.Substance-in-Process'!N828,DSL!B:H,5,FALSE),\"-\")","v":"-"}]
[null,null,null,null,null,null,null,null,null,null,null,null,null,"","","",null,"",null,"",null,{"$f":"IFERROR(VLOOKUP('5.Substance-in-Process'!N829,DSL!B:H,5,FALSE),\"-\")","v":"-"}]
[null,null,null,null,null,null,null,null,null,null,null,null,null,"","","",null,"",null,"",null,{"$f":"IFERROR(VLOOKUP('5.Substance-in-Process'!N830,DSL!B:H,5,FALSE),\"-\")","v":"-"}]
[null,null,null,null,null,null,null,null,null,null,null,null,null,"","","",null,"",null,"",null,{"$f":"IFERROR(VLOOKUP('5.Substance-in-Process'!N831,DSL!B:H,5,FALSE),\"-\")","v":"-"}]
[null,null,null,null,null,null,null,null,null,null,null,null,null,"","","",null,"",null,"",null,{"$f":"IFERROR(VLOOKUP('5.Substance-in-Process'!N832,DSL!B:H,5,FALSE),\"-\")","v":"-"}]
[null,null,null,null,null,null,null,null,null,null,null,null,null,"","","",null,"",null,"",null,{"$f":"IFERROR(VLOOKUP('5.Substance-in-Process'!N833,DSL!B:H,5,FALSE),\"-\")","v":"-"}]
[null,null,null,null,null,null,null,null,null,null,null,null,null,"","","",null,"",null,"",null,{"$f":"IFERROR(VLOOKUP('5.Substance-in-Process'!N834,DSL!B:H,5,FALSE),\"-\")","v":"-"}]
[null,null,null,null,null,null,null,null,null,null,null,null,null,"","","",null,"",null,"",null,{"$f":"IFERROR(VLOOKUP('5.Substance-in-Process'!N835,DSL!B:H,5,FALSE),\"-\")","v":"-"}]
[null,null,null,null,null,null,null,null,null,null,null,null,null,"","","",null,"",null,"",null,{"$f":"IFERROR(VLOOKUP('5.Substance-in-Process'!N836,DSL!B:H,5,FALSE),\"-\")","v":"-"}]
[null,null,null,null,null,null,null,null,null,null,null,null,null,"","","",null,"",null,"",null,{"$f":"IFERROR(VLOOKUP('5.Substance-in-Process'!N837,DSL!B:H,5,FALSE),\"-\")","v":"-"}]
[null,null,null,null,null,null,null,null,null,null,null,null,null,"","","",null,"",null,"",null,{"$f":"IFERROR(VLOOKUP('5.Substance-in-Process'!N838,DSL!B:H,5,FALSE),\"-\")","v":"-"}]
[null,null,null,null,null,null,null,null,null,null,null,null,null,"","","",null,"",null,"",null,{"$f":"IFERROR(VLOOKUP('5.Substance-in-Process'!N839,DSL!B:H,5,FALSE),\"-\")","v":"-"}]
[null,null,null,null,null,null,null,null,null,null,null,null,null,"","","",null,"",null,"",null,{"$f":"IFERROR(VLOOKUP('5.Substance-in-Process'!N840,DSL!B:H,5,FALSE),\"-\")","v":"-"}]
[null,null,null,null,null,null,null,null,null,null,null,null,null,"","","",null,"",null,"",null,{"$f":"IFERROR(VLOOKUP('5.Substance-in-Process'!N841,DSL!B:H,5,FALSE),\"-\")","v":"-"}]
[null,null,null,null,null,null,null,null,null,null,null,null,null,"","","",null,"",null,"",null,{"$f":"IFERROR(VLOOKUP('5.Substance-in-Process'!N842,DSL!B:H,5,FALSE),\"-\")","v":"-"}]
[null,null,null,null,null,null,null,null,null,null,null,null,null,"","","",null,"",null,"",null,{"$f":"IFERROR(VLOOKUP('5.Substance-in-Process'!N843,DSL!B:H,5,FALSE),\"-\")","v":"-"}]
[null,null,null,null,null,null,null,null,null,null,null,null,null,"","","",null,"",null,"",null,{"$f":"IFERROR(VLOOKUP('5.Substance-in-Process'!N844,DSL!B:H,5,FALSE),\"-\")","v":"-"}]
[null,null,null,null,null,null,null,null,null,null,null,null,null,"","","",null,"",null,"",null,{"$f":"IFERROR(VLOOKUP('5.Substance-in-Process'!N845,DSL!B:H,5,FALSE),\"-\")","v":"-"}]
[null,null,null,null,null,null,null,null,null,null,null,null,null,"","","",null,"",null,"",null,{"$f":"IFERROR(VLOOKUP('5.Substance-in-Process'!N846,DSL!B:H,5,FALSE),\"-\")","v":"-"}]
[null,null,null,null,null,null,null,null,null,null,null,null,null,"","","",null,"",null,"",null,{"$f":"IFERROR(VLOOKUP('5.Substance-in-Process'!N847,DSL!B:H,5,FALSE),\"-\")","v":"-"}]
[null,null,null,null,null,null,null,null,null,null,null,null,null,"","","",null,"",null,"",null,{"$f":"IFERROR(VLOOKUP('5.Substance-in-Process'!N848,DSL!B:H,5,FALSE),\"-\")","v":"-"}]
[null,null,null,null,null,null,null,null,null,null,null,null,null,"","","",null,"",null,"",null,{"$f":"IFERROR(VLOOKUP('5.Substance-in-Process'!N849,DSL!B:H,5,FALSE),\"-\")","v":"-"}]
[null,null,null,null,null,null,null,null,null,null,null,null,null,"","","",null,"",null,"",null,{"$f":"IFERROR(VLOOKUP('5.Substance-in-Process'!N850,DSL!B:H,5,FALSE),\"-\")","v":"-"}]
[null,null,null,null,null,null,null,null,null,null,null,null,null,"","","",null,"",null,"",null,{"$f":"IFERROR(VLOOKUP('5.Substance-in-Process'!N851,DSL!B:H,5,FALSE),\"-\")","v":"-"}]
[null,null,null,null,null,null,null,null,null,null,null,null,null,"","","",null,"",null,"",null,{"$f":"IFERROR(VLOOKUP('5.Substance-in-Process'!N852,DSL!B:H,5,FALSE),\"-\")","v":"-"}]
[null,null,null,null,null,null,null,null,null,null,null,null,null,"","","",null,"",null,"",null,{"$f":"IFERROR(VLOOKUP('5.Substance-in-Process'!N853,DSL!B:H,5,FALSE),\"-\")","v":"-"}]
[null,null,null,null,null,null,null,null,null,null,null,null,null,"","","",null,"",null,"",null,{"$f":"IFERROR(VLOOKUP('5.Substance-in-Process'!N854,DSL!B:H,5,FALSE),\"-\")","v":"-"}]
[null,null,null,null,null,null,null,null,null,null,null,null,null,"","","",null,"",null,"",null,{"$f":"IFERROR(VLOOKUP('5.Substance-in-Process'!N855,DSL!B:H,5,FALSE),\"-\")","v":"-"}]
[null,null,null,null,null,null,null,null,null,null,null,null,null,"","","",null,"",null,"",null,{"$f":"IFERROR(VLOOKUP('5.Substance-in-Process'!N856,DSL!B:H,5,FALSE),\"-\")","v":"-"}]
[null,null,null,null,null,null,null,null,null,null,null,null,null,"","","",null,"",null,"",null,{"$f":"IFERROR(VLOOKUP('5.Substance-in-Process'!N857,DSL!B:H,5,FALSE),\"-\")","v":"-"}]
[null,null,null,null,null,null,null,null,null,null,null,null,null,"","","",null,"",null,"",null,{"$f":"IFERROR(VLOOKUP('5.Substance-in-Process'!N858,DSL!B:H,5,FALSE),\"-\")","v":"-"}]
[null,null,null,null,null,null,null,null,null,null,null,null,null,"","","",null,"",null,"",null,{"$f":"IFERROR(VLOOKUP('5.Substance-in-Process'!N859,DSL!B:H,5,FALSE),\"-\")","v":"-"}]
[null,null,null,null,null,null,null,null,null,null,null,null,null,"","","",null,"",null,"",null,{"$f":"IFERROR(VLOOKUP('5.Substance-in-Process'!N860,DSL!B:H,5,FALSE),\"-\")","v":"-"}]
[null,null,null,null,null,null,null,null,null,null,null,null,null,"","","",null,"",null,"",null,{"$f":"IFERROR(VLOOKUP('5.Substance-in-Process'!N861,DSL!B:H,5,FALSE),\"-\")","v":"-"}]
[null,null,null,null,null,null,null,null,null,null,null,null,null,"","","",null,"",null,"",null,{"$f":"IFERROR(VLOOKUP('5.Substance-in-Process'!N862,DSL!B:H,5,FALSE),\"-\")","v":"-"}]
[null,null,null,null,null,null,null,null,null,null,null,null,null,"","","",null,"",null,"",null,{"$f":"IFERROR(VLOOKUP('5.Substance-in-Process'!N863,DSL!B:H,5,FALSE),\"-\")","v":"-"}]
[null,null,null,null,null,null,null,null,null,null,null,null,null,"","","",null,"",null,"",null,{"$f":"IFERROR(VLOOKUP('5.Substance-in-Process'!N864,DSL!B:H,5,FALSE),\"-\")","v":"-"}]
[null,null,null,null,null,null,null,null,null,null,null,null,null,"","","",null,"",null,"",null,{"$f":"IFERROR(VLOOKUP('5.Substance-in-Process'!N865,DSL!B:H,5,FALSE),\"-\")","v":"-"}]
[null,null,null,null,null,null,null,null,null,null,null,null,null,"","","",null,"",null,"",null,{"$f":"IFERROR(VLOOKUP('5.Substance-in-Process'!N866,DSL!B:H,5,FALSE),\"-\")","v":"-"}]
[null,null,null,null,null,null,null,null,null,null,null,null,null,"","","",null,"",null,"",null,{"$f":"IFERROR(VLOOKUP('5.Substance-in-Process'!N867,DSL!B:H,5,FALSE),\"-\")","v":"-"}]
[null,null,null,null,null,null,null,null,null,null,null,null,null,"","","",null,"",null,"",null,{"$f":"IFERROR(VLOOKUP('5.Substance-in-Process'!N868,DSL!B:H,5,FALSE),\"-\")","v":"-"}]
[null,null,null,null,null,null,null,null,null,null,null,null,null,"","","",null,"",null,"",null,{"$f":"IFERROR(VLOOKUP('5.Substance-in-Process'!N869,DSL!B:H,5,FALSE),\"-\")","v":"-"}]
[null,null,null,null,null,null,null,null,null,null,null,null,null,"","","",null,"",null,"",null,{"$f":"IFERROR(VLOOKUP('5.Substance-in-Process'!N870,DSL!B:H,5,FALSE),\"-\")","v":"-"}]
[null,null,null,null,null,null,null,null,null,null,null,null,null,"","","",null,"",null,"",null,{"$f":"IFERROR(VLOOKUP('5.Substance-in-Process'!N871,DSL!B:H,5,FALSE),\"-\")","v":"-"}]
[null,null,null,null,null,null,null,null,null,null,null,null,null,"","","",null,"",null,"",null,{"$f":"IFERROR(VLOOKUP('5.Substance-in-Process'!N872,DSL!B:H,5,FALSE),\"-\")","v":"-"}]
[null,null,null,null,null,null,null,null,null,null,null,null,null,"","","",null,"",null,"",null,{"$f":"IFERROR(VLOOKUP('5.Substance-in-Process'!N873,DSL!B:H,5,FALSE),\"-\")","v":"-"}]
[null,null,null,null,null,null,null,null,null,null,null,null,null,"","","",null,"",null,"",null,{"$f":"IFERROR(VLOOKUP('5.Substance-in-Process'!N874,DSL!B:H,5,FALSE),\"-\")","v":"-"}]
[null,null,null,null,null,null,null,null,null,null,null,null,null,"","","",null,"",null,"",null,{"$f":"IFERROR(VLOOKUP('5.Substance-in-Process'!N875,DSL!B:H,5,FALSE),\"-\")","v":"-"}]
[null,null,null,null,null,null,null,null,null,null,null,null,null,"","","",null,"",null,"",null,{"$f":"IFERROR(VLOOKUP('5.Substance-in-Process'!N876,DSL!B:H,5,FALSE),\"-\")","v":"-"}]
[null,null,null,null,null,null,null,null,null,null,null,null,null,"","","",null,"",null,"",null,{"$f":"IFERROR(VLOOKUP('5.Substance-in-Process'!N877,DSL!B:H,5,FALSE),\"-\")","v":"-"}]
[null,null,null,null,null,null,null,null,null,null,null,null,null,"","","",null,"",null,"",null,{"$f":"IFERROR(VLOOKUP('5.Substance-in-Process'!N878,DSL!B:H,5,FALSE),\"-\")","v":"-"}]
[null,null,null,null,null,null,null,null,null,null,null,null,null,"","","",null,"",null,"",null,{"$f":"IFERROR(VLOOKUP('5.Substance-in-Process'!N879,DSL!B:H,5,FALSE),\"-\")","v":"-"}]
[null,null,null,null,null,null,null,null,null,null,null,null,null,"","","",null,"",null,"",null,{"$f":"IFERROR(VLOOKUP('5.Substance-in-Process'!N880,DSL!B:H,5,FALSE),\"-\")","v":"-"}]
[null,null,null,null,null,null,null,null,null,null,null,null,null,"","","",null,"",null,"",null,{"$f":"IFERROR(VLOOKUP('5.Substance-in-Process'!N881,DSL!B:H,5,FALSE),\"-\")","v":"-"}]
[null,null,null,null,null,null,null,null,null,null,null,null,null,"","","",null,"",null,"",null,{"$f":"IFERROR(VLOOKUP('5.Substance-in-Process'!N882,DSL!B:H,5,FALSE),\"-\")","v":"-"}]
[null,null,null,null,null,null,null,null,null,null,null,null,null,"","","",null,"",null,"",null,{"$f":"IFERROR(VLOOKUP('5.Substance-in-Process'!N883,DSL!B:H,5,FALSE),\"-\")","v":"-"}]
[null,null,null,null,null,null,null,null,null,null,null,null,null,"","","",null,"",null,"",null,{"$f":"IFERROR(VLOOKUP('5.Substance-in-Process'!N884,DSL!B:H,5,FALSE),\"-\")","v":"-"}]
[null,null,null,null,null,null,null,null,null,null,null,null,null,"","","",null,"",null,"",null,{"$f":"IFERROR(VLOOKUP('5.Substance-in-Process'!N885,DSL!B:H,5,FALSE),\"-\")","v":"-"}]
[null,null,null,null,null,null,null,null,null,null,null,null,null,"","","",null,"",null,"",null,{"$f":"IFERROR(VLOOKUP('5.Substance-in-Process'!N886,DSL!B:H,5,FALSE),\"-\")","v":"-"}]
[null,null,null,null,null,null,null,null,null,null,null,null,null,"","","",null,"",null,"",null,{"$f":"IFERROR(VLOOKUP('5.Substance-in-Process'!N887,DSL!B:H,5,FALSE),\"-\")","v":"-"}]
[null,null,null,null,null,null,null,null,null,null,null,null,null,"","","",null,"",null,"",null,{"$f":"IFERROR(VLOOKUP('5.Substance-in-Process'!N888,DSL!B:H,5,FALSE),\"-\")","v":"-"}]
[null,null,null,null,null,null,null,null,null,null,null,null,null,"","","",null,"",null,"",null,{"$f":"IFERROR(VLOOKUP('5.Substance-in-Process'!N889,DSL!B:H,5,FALSE),\"-\")","v":"-"}]
[null,null,null,null,null,null,null,null,null,null,null,null,null,"","","",null,"",null,"",null,{"$f":"IFERROR(VLOOKUP('5.Substance-in-Process'!N890,DSL!B:H,5,FALSE),\"-\")","v":"-"}]
[null,null,null,null,null,null,null,null,null,null,null,null,null,"","","",null,"",null,"",null,{"$f":"IFERROR(VLOOKUP('5.Substance-in-Process'!N891,DSL!B:H,5,FALSE),\"-\")","v":"-"}]
[null,null,null,null,null,null,null,null,null,null,null,null,null,"","","",null,"",null,"",null,{"$f":"IFERROR(VLOOKUP('5.Substance-in-Process'!N892,DSL!B:H,5,FALSE),\"-\")","v":"-"}]
[null,null,null,null,null,null,null,null,null,null,null,null,null,"","","",null,"",null,"",null,{"$f":"IFERROR(VLOOKUP('5.Substance-in-Process'!N893,DSL!B:H,5,FALSE),\"-\")","v":"-"}]
[null,null,null,null,null,null,null,null,null,null,null,null,null,"","","",null,"",null,"",null,{"$f":"IFERROR(VLOOKUP('5.Substance-in-Process'!N894,DSL!B:H,5,FALSE),\"-\")","v":"-"}]
[null,null,null,null,null,null,null,null,null,null,null,null,null,"","","",null,"",null,"",null,{"$f":"IFERROR(VLOOKUP('5.Substance-in-Process'!N895,DSL!B:H,5,FALSE),\"-\")","v":"-"}]
[null,null,null,null,null,null,null,null,null,null,null,null,null,"","","",null,"",null,"",null,{"$f":"IFERROR(VLOOKUP('5.Substance-in-Process'!N896,DSL!B:H,5,FALSE),\"-\")","v":"-"}]
[null,null,null,null,null,null,null,null,null,null,null,null,null,"","","",null,"",null,"",null,{"$f":"IFERROR(VLOOKUP('5.Substance-in-Process'!N897,DSL!B:H,5,FALSE),\"-\")","v":"-"}]
[null,null,null,null,null,null,null,null,null,null,null,null,null,"","","",null,"",null,"",null,{"$f":"IFERROR(VLOOKUP('5.Substance-in-Process'!N898,DSL!B:H,5,FALSE),\"-\")","v":"-"}]
[null,null,null,null,null,null,null,null,null,null,null,null,null,"","","",null,"",null,"",null,{"$f":"IFERROR(VLOOKUP('5.Substance-in-Process'!N899,DSL!B:H,5,FALSE),\"-\")","v":"-"}]
[null,null,null,null,null,null,null,null,null,null,null,null,null,"","","",null,"",null,"",null,{"$f":"IFERROR(VLOOKUP('5.Substance-in-Process'!N900,DSL!B:H,5,FALSE),\"-\")","v":"-"}]
[null,null,null,null,null,null,null,null,null,null,null,null,null,"","","",null,"",null,"",null,{"$f":"IFERROR(VLOOKUP('5.Substance-in-Process'!N901,DSL!B:H,5,FALSE),\"-\")","v":"-"}]
[null,null,null,null,null,null,null,null,null,null,null,null,null,"","","",null,"",null,"",null,{"$f":"IFERROR(VLOOKUP('5.Substance-in-Process'!N902,DSL!B:H,5,FALSE),\"-\")","v":"-"}]
[null,null,null,null,null,null,null,null,null,null,null,null,null,"","","",null,"",null,"",null,{"$f":"IFERROR(VLOOKUP('5.Substance-in-Process'!N903,DSL!B:H,5,FALSE),\"-\")","v":"-"}]
[null,null,null,null,null,null,null,null,null,null,null,null,null,"","","",null,"",null,"",null,{"$f":"IFERROR(VLOOKUP('5.Substance-in-Process'!N904,DSL!B:H,5,FALSE),\"-\")","v":"-"}]
[null,null,null,null,null,null,null,null,null,null,null,null,null,"","","",null,"",null,"",null,{"$f":"IFERROR(VLOOKUP('5.Substance-in-Process'!N905,DSL!B:H,5,FALSE),\"-\")","v":"-"}]
[null,null,null,null,null,null,null,null,null,null,null,null,null,"","","",null,"",null,"",null,{"$f":"IFERROR(VLOOKUP('5.Substance-in-Process'!N906,DSL!B:H,5,FALSE),\"-\")","v":"-"}]
[null,null,null,null,null,null,null,null,null,null,null,null,null,"","","",null,"",null,"",null,{"$f":"IFERROR(VLOOKUP('5.Substance-in-Process'!N907,DSL!B:H,5,FALSE),\"-\")","v":"-"}]
[null,null,null,null,null,null,null,null,null,null,null,null,null,"","","",null,"",null,"",null,{"$f":"IFERROR(VLOOKUP('5.Substance-in-Process'!N908,DSL!B:H,5,FALSE),\"-\")","v":"-"}]
[null,null,null,null,null,null,null,null,null,null,null,null,null,"","","",null,"",null,"",null,{"$f":"IFERROR(VLOOKUP('5.Substance-in-Process'!N909,DSL!B:H,5,FALSE),\"-\")","v":"-"}]
[null,null,null,null,null,null,null,null,null,null,null,null,null,"","","",null,"",null,"",null,{"$f":"IFERROR(VLOOKUP('5.Substance-in-Process'!N910,DSL!B:H,5,FALSE),\"-\")","v":"-"}]
[null,null,null,null,null,null,null,null,null,null,null,null,null,"","","",null,"",null,"",null,{"$f":"IFERROR(VLOOKUP('5.Substance-in-Process'!N911,DSL!B:H,5,FALSE),\"-\")","v":"-"}]
[null,null,null,null,null,null,null,null,null,null,null,null,null,"","","",null,"",null,"",null,{"$f":"IFERROR(VLOOKUP('5.Substance-in-Process'!N912,DSL!B:H,5,FALSE),\"-\")","v":"-"}]
[null,null,null,null,null,null,null,null,null,null,null,null,null,"","","",null,"",null,"",null,{"$f":"IFERROR(VLOOKUP('5.Substance-in-Process'!N913,DSL!B:H,5,FALSE),\"-\")","v":"-"}]
[null,null,null,null,null,null,null,null,null,null,null,null,null,"","","",null,"",null,"",null,{"$f":"IFERROR(VLOOKUP('5.Substance-in-Process'!N914,DSL!B:H,5,FALSE),\"-\")","v":"-"}]
[null,null,null,null,null,null,null,null,null,null,null,null,null,"","","",null,"",null,"",null,{"$f":"IFERROR(VLOOKUP('5.Substance-in-Process'!N915,DSL!B:H,5,FALSE),\"-\")","v":"-"}]
[null,null,null,null,null,null,null,null,null,null,null,null,null,"","","",null,"",null,"",null,{"$f":"IFERROR(VLOOKUP('5.Substance-in-Process'!N916,DSL!B:H,5,FALSE),\"-\")","v":"-"}]
[null,null,null,null,null,null,null,null,null,null,null,null,null,"","","",null,"",null,"",null,{"$f":"IFERROR(VLOOKUP('5.Substance-in-Process'!N917,DSL!B:H,5,FALSE),\"-\")","v":"-"}]
[null,null,null,null,null,null,null,null,null,null,null,null,null,"","","",null,"",null,"",null,{"$f":"IFERROR(VLOOKUP('5.Substance-in-Process'!N918,DSL!B:H,5,FALSE),\"-\")","v":"-"}]
[null,null,null,null,null,null,null,null,null,null,null,null,null,"","","",null,"",null,"",null,{"$f":"IFERROR(VLOOKUP('5.Substance-in-Process'!N919,DSL!B:H,5,FALSE),\"-\")","v":"-"}]
[null,null,null,null,null,null,null,null,null,null,null,null,null,"","","",null,"",null,"",null,{"$f":"IFERROR(VLOOKUP('5.Substance-in-Process'!N920,DSL!B:H,5,FALSE),\"-\")","v":"-"}]
[null,null,null,null,null,null,null,null,null,null,null,null,null,"","","",null,"",null,"",null,{"$f":"IFERROR(VLOOKUP('5.Substance-in-Process'!N921,DSL!B:H,5,FALSE),\"-\")","v":"-"}]
[null,null,null,null,null,null,null,null,null,null,null,null,null,"","","",null,"",null,"",null,{"$f":"IFERROR(VLOOKUP('5.Substance-in-Process'!N922,DSL!B:H,5,FALSE),\"-\")","v":"-"}]
[null,null,null,null,null,null,null,null,null,null,null,null,null,"","","",null,"",null,"",null,{"$f":"IFERROR(VLOOKUP('5.Substance-in-Process'!N923,DSL!B:H,5,FALSE),\"-\")","v":"-"}]
[null,null,null,null,null,null,null,null,null,null,null,null,null,"","","",null,"",null,"",null,{"$f":"IFERROR(VLOOKUP('5.Substance-in-Process'!N924,DSL!B:H,5,FALSE),\"-\")","v":"-"}]
[null,null,null,null,null,null,null,null,null,null,null,null,null,"","","",null,"",null,"",null,{"$f":"IFERROR(VLOOKUP('5.Substance-in-Process'!N925,DSL!B:H,5,FALSE),\"-\")","v":"-"}]
[null,null,null,null,null,null,null,null,null,null,null,null,null,"","","",null,"",null,"",null,{"$f":"IFERROR(VLOOKUP('5.Substance-in-Process'!N926,DSL!B:H,5,FALSE),\"-\")","v":"-"}]
[null,null,null,null,null,null,null,null,null,null,null,null,null,"","","",null,"",null,"",null,{"$f":"IFERROR(VLOOKUP('5.Substance-in-Process'!N927,DSL!B:H,5,FALSE),\"-\")","v":"-"}]
[null,null,null,null,null,null,null,null,null,null,null,null,null,"","","",null,"",null,"",null,{"$f":"IFERROR(VLOOKUP('5.Substance-in-Process'!N928,DSL!B:H,5,FALSE),\"-\")","v":"-"}]
[null,null,null,null,null,null,null,null,null,null,null,null,null,"","","",null,"",null,"",null,{"$f":"IFERROR(VLOOKUP('5.Substance-in-Process'!N929,DSL!B:H,5,FALSE),\"-\")","v":"-"}]
[null,null,null,null,null,null,null,null,null,null,null,null,null,"","","",null,"",null,"",null,{"$f":"IFERROR(VLOOKUP('5.Substance-in-Process'!N930,DSL!B:H,5,FALSE),\"-\")","v":"-"}]
[null,null,null,null,null,null,null,null,null,null,null,null,null,"","","",null,"",null,"",null,{"$f":"IFERROR(VLOOKUP('5.Substance-in-Process'!N931,DSL!B:H,5,FALSE),\"-\")","v":"-"}]
[null,null,null,null,null,null,null,null,null,null,null,null,null,"","","",null,"",null,"",null,{"$f":"IFERROR(VLOOKUP('5.Substance-in-Process'!N932,DSL!B:H,5,FALSE),\"-\")","v":"-"}]
[null,null,null,null,null,null,null,null,null,null,null,null,null,"","","",null,"",null,"",null,{"$f":"IFERROR(VLOOKUP('5.Substance-in-Process'!N933,DSL!B:H,5,FALSE),\"-\")","v":"-"}]
[null,null,null,null,null,null,null,null,null,null,null,null,null,"","","",null,"",null,"",null,{"$f":"IFERROR(VLOOKUP('5.Substance-in-Process'!N934,DSL!B:H,5,FALSE),\"-\")","v":"-"}]
[null,null,null,null,null,null,null,null,null,null,null,null,null,"","","",null,"",null,"",null,{"$f":"IFERROR(VLOOKUP('5.Substance-in-Process'!N935,DSL!B:H,5,FALSE),\"-\")","v":"-"}]
[null,null,null,null,null,null,null,null,null,null,null,null,null,"","","",null,"",null,"",null,{"$f":"IFERROR(VLOOKUP('5.Substance-in-Process'!N936,DSL!B:H,5,FALSE),\"-\")","v":"-"}]
[null,null,null,null,null,null,null,null,null,null,null,null,null,"","","",null,"",null,"",null,{"$f":"IFERROR(VLOOKUP('5.Substance-in-Process'!N937,DSL!B:H,5,FALSE),\"-\")","v":"-"}]
[null,null,null,null,null,null,null,null,null,null,null,null,null,"","","",null,"",null,"",null,{"$f":"IFERROR(VLOOKUP('5.Substance-in-Process'!N938,DSL!B:H,5,FALSE),\"-\")","v":"-"}]
[null,null,null,null,null,null,null,null,null,null,null,null,null,"","","",null,"",null,"",null,{"$f":"IFERROR(VLOOKUP('5.Substance-in-Process'!N939,DSL!B:H,5,FALSE),\"-\")","v":"-"}]
[null,null,null,null,null,null,null,null,null,null,null,null,null,"","","",null,"",null,"",null,{"$f":"IFERROR(VLOOKUP('5.Substance-in-Process'!N940,DSL!B:H,5,FALSE),\"-\")","v":"-"}]
[null,null,null,null,null,null,null,null,null,null,null,null,null,"","","",null,"",null,"",null,{"$f":"IFERROR(VLOOKUP('5.Substance-in-Process'!N941,DSL!B:H,5,FALSE),\"-\")","v":"-"}]
[null,null,null,null,null,null,null,null,null,null,null,null,null,"","","",null,"",null,"",null,{"$f":"IFERROR(VLOOKUP('5.Substance-in-Process'!N942,DSL!B:H,5,FALSE),\"-\")","v":"-"}]
[null,null,null,null,null,null,null,null,null,null,null,null,null,"","","",null,"",null,"",null,{"$f":"IFERROR(VLOOKUP('5.Substance-in-Process'!N943,DSL!B:H,5,FALSE),\"-\")","v":"-"}]
[null,null,null,null,null,null,null,null,null,null,null,null,null,"","","",null,"",null,"",null,{"$f":"IFERROR(VLOOKUP('5.Substance-in-Process'!N944,DSL!B:H,5,FALSE),\"-\")","v":"-"}]
[null,null,null,null,null,null,null,null,null,null,null,null,null,"","","",null,"",null,"",null,{"$f":"IFERROR(VLOOKUP('5.Substance-in-Process'!N945,DSL!B:H,5,FALSE),\"-\")","v":"-"}]
[null,null,null,null,null,null,null,null,null,null,null,null,null,"","","",null,"",null,"",null,{"$f":"IFERROR(VLOOKUP('5.Substance-in-Process'!N946,DSL!B:H,5,FALSE),\"-\")","v":"-"}]
[null,null,null,null,null,null,null,null,null,null,null,null,null,"","","",null,"",null,"",null,{"$f":"IFERROR(VLOOKUP('5.Substance-in-Process'!N947,DSL!B:H,5,FALSE),\"-\")","v":"-"}]
[null,null,null,null,null,null,null,null,null,null,null,null,null,"","","",null,"",null,"",null,{"$f":"IFERROR(VLOOKUP('5.Substance-in-Process'!N948,DSL!B:H,5,FALSE),\"-\")","v":"-"}]
[null,null,null,null,null,null,null,null,null,null,null,null,null,"","","",null,"",null,"",null,{"$f":"IFERROR(VLOOKUP('5.Substance-in-Process'!N949,DSL!B:H,5,FALSE),\"-\")","v":"-"}]
[null,null,null,null,null,null,null,null,null,null,null,null,null,"","","",null,"",null,"",null,{"$f":"IFERROR(VLOOKUP('5.Substance-in-Process'!N950,DSL!B:H,5,FALSE),\"-\")","v":"-"}]
[null,null,null,null,null,null,null,null,null,null,null,null,null,"","","",null,"",null,"",null,{"$f":"IFERROR(VLOOKUP('5.Substance-in-Process'!N951,DSL!B:H,5,FALSE),\"-\")","v":"-"}]
[null,null,null,null,null,null,null,null,null,null,null,null,null,"","","",null,"",null,"",null,{"$f":"IFERROR(VLOOKUP('5.Substance-in-Process'!N952,DSL!B:H,5,FALSE),\"-\")","v":"-"}]
[null,null,null,null,null,null,null,null,null,null,null,null,null,"","","",null,"",null,"",null,{"$f":"IFERROR(VLOOKUP('5.Substance-in-Process'!N953,DSL!B:H,5,FALSE),\"-\")","v":"-"}]
[null,null,null,null,null,null,null,null,null,null,null,null,null,"","","",null,"",null,"",null,{"$f":"IFERROR(VLOOKUP('5.Substance-in-Process'!N954,DSL!B:H,5,FALSE),\"-\")","v":"-"}]
[null,null,null,null,null,null,null,null,null,null,null,null,null,"","","",null,"",null,"",null,{"$f":"IFERROR(VLOOKUP('5.Substance-in-Process'!N955,DSL!B:H,5,FALSE),\"-\")","v":"-"}]
[null,null,null,null,null,null,null,null,null,null,null,null,null,"","","",null,"",null,"",null,{"$f":"IFERROR(VLOOKUP('5.Substance-in-Process'!N956,DSL!B:H,5,FALSE),\"-\")","v":"-"}]
[null,null,null,null,null,null,null,null,null,null,null,null,null,"","","",null,"",null,"",null,{"$f":"IFERROR(VLOOKUP('5.Substance-in-Process'!N957,DSL!B:H,5,FALSE),\"-\")","v":"-"}]
[null,null,null,null,null,null,null,null,null,null,null,null,null,"","","",null,"",null,"",null,{"$f":"IFERROR(VLOOKUP('5.Substance-in-Process'!N958,DSL!B:H,5,FALSE),\"-\")","v":"-"}]
[null,null,null,null,null,null,null,null,null,null,null,null,null,"","","",null,"",null,"",null,{"$f":"IFERROR(VLOOKUP('5.Substance-in-Process'!N959,DSL!B:H,5,FALSE),\"-\")","v":"-"}]
[null,null,null,null,null,null,null,null,null,null,null,null,null,"","","",null,"",null,"",null,{"$f":"IFERROR(VLOOKUP('5.Substance-in-Process'!N960,DSL!B:H,5,FALSE),\"-\")","v":"-"}]
[null,null,null,null,null,null,null,null,null,null,null,null,null,"","","",null,"",null,"",null,{"$f":"IFERROR(VLOOKUP('5.Substance-in-Process'!N961,DSL!B:H,5,FALSE),\"-\")","v":"-"}]
[null,null,null,null,null,null,null,null,null,null,null,null,null,"","","",null,"",null,"",null,{"$f":"IFERROR(VLOOKUP('5.Substance-in-Process'!N962,DSL!B:H,5,FALSE),\"-\")","v":"-"}]
[null,null,null,null,null,null,null,null,null,null,null,null,null,"","","",null,"",null,"",null,{"$f":"IFERROR(VLOOKUP('5.Substance-in-Process'!N963,DSL!B:H,5,FALSE),\"-\")","v":"-"}]
[null,null,null,null,null,null,null,null,null,null,null,null,null,"","","",null,"",null,"",null,{"$f":"IFERROR(VLOOKUP('5.Substance-in-Process'!N964,DSL!B:H,5,FALSE),\"-\")","v":"-"}]
[null,null,null,null,null,null,null,null,null,null,null,null,null,"","","",null,"",null,"",null,{"$f":"IFERROR(VLOOKUP('5.Substance-in-Process'!N965,DSL!B:H,5,FALSE),\"-\")","v":"-"}]
[null,null,null,null,null,null,null,null,null,null,null,null,null,"","","",null,"",null,"",null,{"$f":"IFERROR(VLOOKUP('5.Substance-in-Process'!N966,DSL!B:H,5,FALSE),\"-\")","v":"-"}]
[null,null,null,null,null,null,null,null,null,null,null,null,null,"","","",null,"",null,"",null,{"$f":"IFERROR(VLOOKUP('5.Substance-in-Process'!N967,DSL!B:H,5,FALSE),\"-\")","v":"-"}]
[null,null,null,null,null,null,null,null,null,null,null,null,null,"","","",null,"",null,"",null,{"$f":"IFERROR(VLOOKUP('5.Substance-in-Process'!N968,DSL!B:H,5,FALSE),\"-\")","v":"-"}]
[null,null,null,null,null,null,null,null,null,null,null,null,null,"","","",null,"",null,"",null,{"$f":"IFERROR(VLOOKUP('5.Substance-in-Process'!N969,DSL!B:H,5,FALSE),\"-\")","v":"-"}]
[null,null,null,null,null,null,null,null,null,null,null,null,null,"","","",null,"",null,"",null,{"$f":"IFERROR(VLOOKUP('5.Substance-in-Process'!N970,DSL!B:H,5,FALSE),\"-\")","v":"-"}]
[null,null,null,null,null,null,null,null,null,null,null,null,null,"","","",null,"",null,"",null,{"$f":"IFERROR(VLOOKUP('5.Substance-in-Process'!N971,DSL!B:H,5,FALSE),\"-\")","v":"-"}]
[null,null,null,null,null,null,null,null,null,null,null,null,null,"","","",null,"",null,"",null,{"$f":"IFERROR(VLOOKUP('5.Substance-in-Process'!N972,DSL!B:H,5,FALSE),\"-\")","v":"-"}]
[null,null,null,null,null,null,null,null,null,null,null,null,null,"","","",null,"",null,"",null,{"$f":"IFERROR(VLOOKUP('5.Substance-in-Process'!N973,DSL!B:H,5,FALSE),\"-\")","v":"-"}]
[null,null,null,null,null,null,null,null,null,null,null,null,null,"","","",null,"",null,"",null,{"$f":"IFERROR(VLOOKUP('5.Substance-in-Process'!N974,DSL!B:H,5,FALSE),\"-\")","v":"-"}]
[null,null,null,null,null,null,null,null,null,null,null,null,null,"","","",null,"",null,"",null,{"$f":"IFERROR(VLOOKUP('5.Substance-in-Process'!N975,DSL!B:H,5,FALSE),\"-\")","v":"-"}]
[null,null,null,null,null,null,null,null,null,null,null,null,null,"","","",null,"",null,"",null,{"$f":"IFERROR(VLOOKUP('5.Substance-in-Process'!N976,DSL!B:H,5,FALSE),\"-\")","v":"-"}]
[null,null,null,null,null,null,null,null,null,null,null,null,null,"","","",null,"",null,"",null,{"$f":"IFERROR(VLOOKUP('5.Substance-in-Process'!N977,DSL!B:H,5,FALSE),\"-\")","v":"-"}]
[null,null,null,null,null,null,null,null,null,null,null,null,null,"","","",null,"",null,"",null,{"$f":"IFERROR(VLOOKUP('5.Substance-in-Process'!N978,DSL!B:H,5,FALSE),\"-\")","v":"-"}]
[null,null,null,null,null,null,null,null,null,null,null,null,null,"","","",null,"",null,"",null,{"$f":"IFERROR(VLOOKUP('5.Substance-in-Process'!N979,DSL!B:H,5,FALSE),\"-\")","v":"-"}]
[null,null,null,null,null,null,null,null,null,null,null,null,null,"","","",null,"",null,"",null,{"$f":"IFERROR(VLOOKUP('5.Substance-in-Process'!N980,DSL!B:H,5,FALSE),\"-\")","v":"-"}]
[null,null,null,null,null,null,null,null,null,null,null,null,null,"","","",null,"",null,"",null,{"$f":"IFERROR(VLOOKUP('5.Substance-in-Process'!N981,DSL!B:H,5,FALSE),\"-\")","v":"-"}]
[null,null,null,null,null,null,null,null,null,null,null,null,null,"","","",null,"",null,"",null,{"$f":"IFERROR(VLOOKUP('5.Substance-in-Process'!N982,DSL!B:H,5,FALSE),\"-\")","v":"-"}]
[null,null,null,null,null,null,null,null,null,null,null,null,null,"","","",null,"",null,"",null,{"$f":"IFERROR(VLOOKUP('5.Substance-in-Process'!N983,DSL!B:H,5,FALSE),\"-\")","v":"-"}]
[null,null,null,null,null,null,null,null,null,null,null,null,null,"","","",null,"",null,"",null,{"$f":"IFERROR(VLOOKUP('5.Substance-in-Process'!N984,DSL!B:H,5,FALSE),\"-\")","v":"-"}]
[null,null,null,null,null,null,null,null,null,null,null,null,null,"","","",null,"",null,"",null,{"$f":"IFERROR(VLOOKUP('5.Substance-in-Process'!N985,DSL!B:H,5,FALSE),\"-\")","v":"-"}]
[null,null,null,null,null,null,null,null,null,null,null,null,null,"","","",null,"",null,"",null,{"$f":"IFERROR(VLOOKUP('5.Substance-in-Process'!N986,DSL!B:H,5,FALSE),\"-\")","v":"-"}]
[null,null,null,null,null,null,null,null,null,null,null,null,null,"","","",null,"",null,"",null,{"$f":"IFERROR(VLOOKUP('5.Substance-in-Process'!N987,DSL!B:H,5,FALSE),\"-\")","v":"-"}]
[null,null,null,null,null,null,null,null,null,null,null,null,null,"","","",null,"",null,"",null,{"$f":"IFERROR(VLOOKUP('5.Substance-in-Process'!N988,DSL!B:H,5,FALSE),\"-\")","v":"-"}]
[null,null,null,null,null,null,null,null,null,null,null,null,null,"","","",null,"",null,"",null,{"$f":"IFERROR(VLOOKUP('5.Substance-in-Process'!N989,DSL!B:H,5,FALSE),\"-\")","v":"-"}]
[null,null,null,null,null,null,null,null,null,null,null,null,null,"","","",null,"",null,"",null,{"$f":"IFERROR(VLOOKUP('5.Substance-in-Process'!N990,DSL!B:H,5,FALSE),\"-\")","v":"-"}]
[null,null,null,null,null,null,null,null,null,null,null,null,null,"","","",null,"",null,"",null,{"$f":"IFERROR(VLOOKUP('5.Substance-in-Process'!N991,DSL!B:H,5,FALSE),\"-\")","v":"-"}]
[null,null,null,null,null,null,null,null,null,null,null,null,null,"","","",null,"",null,"",null,{"$f":"IFERROR(VLOOKUP('5.Substance-in-Process'!N992,DSL!B:H,5,FALSE),\"-\")","v":"-"}]
[null,null,null,null,null,null,null,null,null,null,null,null,null,"","","",null,"",null,"",null,{"$f":"IFERROR(VLOOKUP('5.Substance-in-Process'!N993,DSL!B:H,5,FALSE),\"-\")","v":"-"}]
[null,null,null,null,null,null,null,null,null,null,null,null,null,"","","",null,"",null,"",null,{"$f":"IFERROR(VLOOKUP('5.Substance-in-Process'!N994,DSL!B:H,5,FALSE),\"-\")","v":"-"}]
[null,null,null,null,null,null,null,null,null,null,null,null,null,"","","",null,"",null,"",null,{"$f":"IFERROR(VLOOKUP('5.Substance-in-Process'!N995,DSL!B:H,5,FALSE),\"-\")","v":"-"}]
[null,null,null,null,null,null,null,null,null,null,null,null,null,"","","",null,"",null,"",null,{"$f":"IFERROR(VLOOKUP('5.Substance-in-Process'!N996,DSL!B:H,5,FALSE),\"-\")","v":"-"}]
[null,null,null,null,null,null,null,null,null,null,null,null,null,"","","",null,"",null,"",null,{"$f":"IFERROR(VLOOKUP('5.Substance-in-Process'!N997,DSL!B:H,5,FALSE),\"-\")","v":"-"}]
[null,null,null,null,null,null,null,null,null,null,null,null,null,"","","",null,"",null,"",null,{"$f":"IFERROR(VLOOKUP('5.Substance-in-Process'!N998,DSL!B:H,5,FALSE),\"-\")","v":"-"}]
[null,null,null,null,null,null,null,null,null,null,null,null,null,"","","",null,"",null,"",null,{"$f":"IFERROR(VLOOKUP('5.Substance-in-Process'!N999,DSL!B:H,5,FALSE),\"-\")","v":"-"}]
[null,null,null,null,null,null,null,null,null,null,null,null,null,"","","",null,"",null,"",null,{"$f":"IFERROR(VLOOKUP('5.Substance-in-Process'!N1000,DSL!B:H,5,FALSE),\"-\")","v":"-"}]
[null,null,null,null,null,null,null,null,null,null,null,null,null,"","","",null,"",null,"",null,{"$f":"IFERROR(VLOOKUP('5.Substance-in-Process'!N1001,DSL!B:H,5,FALSE),\"-\")","v":"-"}]

{"sheet":"6.Attachment","index":7,"n_rows":3,"n_cols":8,"rows_kept":3,"cut":false,"hidden":false,"merged":[]}
["Attachments",null,{"$f":"Overview!E3","v":"Version: 2.0"},null,null,"return to Overview","Add comment"]
["Attachments will appear here:","Supplier Product Number\nor Product Group ID**","File Name","File Type","File or URL","File ZIP Location",null,"Comment"]
["Please resize icon and leave here ---->"]

{"sheet":"7.Supplier-Acceptance","index":8,"n_rows":251,"n_cols":25,"rows_kept":251,"cut":false,"hidden":false,"merged":[[18,6,21,8],[30,2,31,7],[26,2,27,8]]}
["Supplier Authorizer*",null,null,null,null,null,{"$f":"Overview!E3","v":"Version: 2.0"},null,"return to Overview"]
[null,null,null,null,null,null,null,null,null,null,null,null,null,null,null,null,null,null,null,null,null,null,null,null,"CountryCode"]
[null,"Supplier Authorizer identical to Supplier Contact","",null,null,null,null,null,null,null,null,"Yes",null,null,null,null,null,null,null,null,null,null,null,null,"AF - Afghanistan"]
[null,null,null,null,null,null,null,null,null,null,null,"No",null,null,null,null,null,null,null,null,null,null,null,null,"AX - Aland Islands"]
[null,"Authorizer Company Name*",null,null,null,"Authorizer Name*",null,null,null,null,null,null,null,null,null,null,null,null,null,null,null,null,null,null,"AL - Albania"]
[null,"Authorizer Company ID Type","",null,null,"Authorizer Phone*",null,null,null,null,null,null,null,null,null,null,null,null,null,null,null,null,null,null,"DZ - Algeria"]
[null,"Authorizer Company ID Number","",null,null,"Authorizer Email*",null,null,null,null,null,null,null,null,null,null,null,null,null,null,null,null,null,null,"AS - American Samoa"]
[null,"Authorizer Address",null,null,null,"Authorizer Title",null,null,null,null,null,null,null,null,null,null,null,null,null,null,null,null,null,null,"AD - Andorra"]
[null,"Street","",null,null,null,null,null,null,null,null,null,null,null,null,null,null,null,null,null,null,null,null,null,"AO - Angola"]
[null,"City","",null,null,null,null,null,null,null,null,null,null,null,null,null,null,null,null,null,null,null,null,null,"AI - Anguilla"]
[null,"State","",null,null,null,null,null,null,null,null,null,null,null,null,null,null,null,null,null,null,null,null,null,"AQ - Antarctica"]
[null,"Country","",null,null,null,null,null,null,null,null,null,null,null,null,null,null,null,null,null,null,null,null,null,"AG - Antigua and Barbuda"]
[null,"Zip Code","",null,null,null,null,null,null,null,null,null,null,null,null,null,null,null,null,null,null,null,null,null,"AR - Argentina"]
[null,null,null,null,null,null,null,null,null,null,null,null,null,null,null,null,null,null,null,null,null,null,null,null,"AM - Armenia"]
["Supplier Authorizer Acceptance*",null,null,null,null,null,null,null,null,null,null,null,null,null,null,null,null,null,null,null,null,null,null,null,"AW - Aruba"]
[null,null,null,null,null,null,null,null,null,null,null,null,null,null,null,null,null,null,null,null,null,null,null,null,"AU - Australia"]
[null,"Authorizer Acceptance*","Yes",null,null,"Statement Type*","Default",null,null,null,null,null,null,null,null,null,null,null,null,null,null,null,null,null,"AT - Austria"]
[null,"of the Acceptance Statement",null,null,null,null,null,null,null,null,null,null,null,null,null,null,null,null,null,null,null,null,null,null,"AZ - Azerbaijan"]
[null,null,null,null,null,"Acceptance Statement*","I confirm that this declaration has been completed to the best of our knowledge acting in due diligence.",null,null,null,null,null,null,null,null,null,null,null,null,null,null,null,null,null,"BS - Bahamas"]
[null,"Authorizer Signature",null,null,null,null,null,null,null,null,null,null,null,null,null,null,null,null,null,null,null,null,null,null,"BH - Bahrain"]
[null,"Authorizer Signed Date*",null,null,null,null,null,null,null,null,null,null,null,null,null,null,null,null,null,null,null,null,null,null,"BD - Bangladesh"]
[null,null,null,null,null,null,null,null,null,null,null,null,null,null,null,null,null,null,null,null,null,null,null,null,"BB - Barbados"]
[null,null,null,null,null,null,null,null,null,null,null,null,null,null,null,null,null,null,null,null,null,null,null,null,"BY - Belarus"]
["Data Checks",null,null,null,null,null,null,null,null,null,null,null,null,null,null,null,null,null,null,null,null,null,null,null,"BE - Belgium"]
[null,null,null,null,null,null,null,null,null,null,null,null,null,null,null,null,null,null,null,null,null,null,null,null,"BZ - Belize"]
[null,null,null,null,null,null,null,null,null,null,null,null,null,null,null,null,null,null,null,null,null,null,null,null,"BJ - Benin"]
[null,null,"Prior to submitting the declaration to the requestor, please click the \"Run Data Check\" button. Once the “Run Data Check” button turns green, then the excel file is ready to be submitted to the requestor and/or exported to IPC-1754 XML file. Note: no data check is available in version without macros.",null,null,null,null,null,null,null,null,null,null,null,null,null,null,null,null,null,null,null,null,null,"BM - Bermuda"]
[null,null,null,null,null,null,null,null,null,null,null,null,null,null,null,null,null,null,null,null,null,null,null,null,"BT - Bhutan"]
[null,null,null,null,null,null,null,null,null,null,null,null,null,null,null,null,null,null,null,null,null,null,null,null,"BO - Bolivia (Plurinational State of)"]
[null,null,null,null,null,null,null,null,null,null,null,null,null,null,null,null,null,null,null,null,null,null,null,null,"BQ - Bonaire, Sint Eustatius and Saba"]
[null,null,null,null,null,null,null,null,null,null,null,null,null,null,null,null,null,null,null,null,null,null,null,null,"BA - Bosnia and Herzegovina"]
[null,null,null,null,null,null,null,null,null,null,null,null,null,null,null,null,null,null,null,null,null,null,null,null,"BW - Botswana"]
[null,null,null,null,null,null,null,null,null,null,null,null,null,null,null,null,null,null,null,null,null,null,null,null,"BV - Bouvet Island"]
[null,null,null,null,null,null,null,null,null,null,null,null,null,null,null,null,null,null,null,null,null,null,null,null,"BR - Brazil"]
[null,null,null,null,null,null,null,null,null,null,null,null,null,null,null,null,null,null,null,null,null,null,null,null,"IO - British Indian Ocean Territory"]
[null,null,null,null,null,null,null,null,null,null,null,null,null,null,null,null,null,null,null,null,null,null,null,null,"BN - Brunei Darussalam"]
[null,null,null,null,null,null,null,null,null,null,null,null,null,null,null,null,null,null,null,null,null,null,null,null,"BG - Bulgaria"]
[null,null,null,null,null,null,null,null,null,null,null,null,null,null,null,null,null,null,null,null,null,null,null,null,"BF - Burkina Faso"]
[null,null,null,null,null,null,null,null,null,null,null,null,null,null,null,null,null,null,null,null,null,null,null,null,"BI - Burundi"]
[null,null,null,null,null,null,null,null,null,null,null,null,null,null,null,null,null,null,null,null,null,null,null,null,"KH - Cambodia"]
[null,null,null,null,null,null,null,null,null,null,null,null,null,null,null,null,null,null,null,null,null,null,null,null,"CM - Cameroon"]
[null,null,null,null,null,null,null,null,null,null,null,null,null,null,null,null,null,null,null,null,null,null,null,null,"CA - Canada"]
[null,null,null,null,null,null,null,null,null,null,null,null,null,null,null,null,null,null,null,null,null,null,null,null,"CV - Cabo Verde"]
[null,null,null,null,null,null,null,null,null,null,null,null,null,null,null,null,null,null,null,null,null,null,null,null,"KY - Cayman Islands"]
[null,null,null,null,null,null,null,null,null,null,null,null,null,null,null,null,null,null,null,null,null,null,null,null,"CF - Central African Republic"]
[null,null,null,null,null,null,null,null,null,null,null,null,null,null,null,null,null,null,null,null,null,null,null,null,"TD - Chad"]
[null,null,null,null,null,null,null,null,null,null,null,null,null,null,null,null,null,null,null,null,null,null,null,null,"CL - Chile"]
[null,null,null,null,null,null,null,null,null,null,null,null,null,null,null,null,null,null,null,null,null,null,null,null,"CN - China"]
[null,null,null,null,null,null,null,null,null,null,null,null,null,null,null,null,null,null,null,null,null,null,null,null,"CX - Christmas Island"]
[null,null,null,null,null,null,null,null,null,null,null,null,null,null,null,null,null,null,null,null,null,null,null,null,"CC - Cocos (Keeling) Islands"]
[null,null,null,null,null,null,null,null,null,null,null,null,null,null,null,null,null,null,null,null,null,null,null,null,"CO - Colombia"]
[null,null,null,null,null,null,null,null,null,null,null,null,null,null,null,null,null,null,null,null,null,null,null,null,"KM - Comoros"]
[null,null,null,null,null,null,null,null,null,null,null,null,null,null,null,null,null,null,null,null,null,null,null,null,"CG - Congo"]
[null,null,null,null,null,null,null,null,null,null,null,null,null,null,null,null,null,null,null,null,null,null,null,null,"CD - Congo (Democratic Republic of the)"]
[null,null,null,null,null,null,null,null,null,null,null,null,null,null,null,null,null,null,null,null,null,null,null,null,"CK - Cook Islands"]
[null,null,null,null,null,null,null,null,null,null,null,null,null,null,null,null,null,null,null,null,null,null,null,null,"CR - Costa Rica"]
[null,null,null,null,null,null,null,null,null,null,null,null,null,null,null,null,null,null,null,null,null,null,null,null,"CI - Cote d'Ivoire"]
[null,null,null,null,null,null,null,null,null,null,null,null,null,null,null,null,null,null,null,null,null,null,null,null,"HR - Croatia"]
[null,null,null,null,null,null,null,null,null,null,null,null,null,null,null,null,null,null,null,null,null,null,null,null,"CU - Cuba"]
[null,null,null,null,null,null,null,null,null,null,null,null,null,null,null,null,null,null,null,null,null,null,null,null,"CW - Curacao !Curaçao"]
[null,null,null,null,null,null,null,null,null,null,null,null,null,null,null,null,null,null,null,null,null,null,null,null,"CY - Cyprus"]
[null,null,null,null,null,null,null,null,null,null,null,null,null,null,null,null,null,null,null,null,null,null,null,null,"CZ - Czech Republic"]
[null,null,null,null,null,null,null,null,null,null,null,null,null,null,null,null,null,null,null,null,null,null,null,null,"DK - Denmark"]
[null,null,null,null,null,null,null,null,null,null,null,null,null,null,null,null,null,null,null,null,null,null,null,null,"DJ - Djibouti"]
[null,null,null,null,null,null,null,null,null,null,null,null,null,null,null,null,null,null,null,null,null,null,null,null,"DM - Dominica"]
[null,null,null,null,null,null,null,null,null,null,null,null,null,null,null,null,null,null,null,null,null,null,null,null,"DO - Dominican Republic"]
[null,null,null,null,null,null,null,null,null,null,null,null,null,null,null,null,null,null,null,null,null,null,null,null,"EC - Ecuador"]
[null,null,null,null,null,null,null,null,null,null,null,null,null,null,null,null,null,null,null,null,null,null,null,null,"EG - Egypt"]
[null,null,null,null,null,null,null,null,null,null,null,null,null,null,null,null,null,null,null,null,null,null,null,null,"SV - El Salvador"]
[null,null,null,null,null,null,null,null,null,null,null,null,null,null,null,null,null,null,null,null,null,null,null,null,"GQ - Equatorial Guinea"]
[null,null,null,null,null,null,null,null,null,null,null,null,null,null,null,null,null,null,null,null,null,null,null,null,"ER - Eritrea"]
[null,null,null,null,null,null,null,null,null,null,null,null,null,null,null,null,null,null,null,null,null,null,null,null,"EE - Estonia"]
[null,null,null,null,null,null,null,null,null,null,null,null,null,null,null,null,null,null,null,null,null,null,null,null,"ET - Ethiopia"]
[null,null,null,null,null,null,null,null,null,null,null,null,null,null,null,null,null,null,null,null,null,null,null,null,"FK - Falkland Islands (Malvinas)"]
[null,null,null,null,null,null,null,null,null,null,null,null,null,null,null,null,null,null,null,null,null,null,null,null,"FO - Faroe Islands"]
[null,null,null,null,null,null,null,null,null,null,null,null,null,null,null,null,null,null,null,null,null,null,null,null,"FJ - Fiji"]
[null,null,null,null,null,null,null,null,null,null,null,null,null,null,null,null,null,null,null,null,null,null,null,null,"FI - Finland"]
[null,null,null,null,null,null,null,null,null,null,null,null,null,null,null,null,null,null,null,null,null,null,null,null,"FR - France"]
[null,null,null,null,null,null,null,null,null,null,null,null,null,null,null,null,null,null,null,null,null,null,null,null,"GF - French Guiana"]
[null,null,null,null,null,null,null,null,null,null,null,null,null,null,null,null,null,null,null,null,null,null,null,null,"PF - French Polynesia"]
[null,null,null,null,null,null,null,null,null,null,null,null,null,null,null,null,null,null,null,null,null,null,null,null,"TF - French Southern Territories"]
[null,null,null,null,null,null,null,null,null,null,null,null,null,null,null,null,null,null,null,null,null,null,null,null,"GA - Gabon"]
[null,null,null,null,null,null,null,null,null,null,null,null,null,null,null,null,null,null,null,null,null,null,null,null,"GM - Gambia"]
[null,null,null,null,null,null,null,null,null,null,null,null,null,null,null,null,null,null,null,null,null,null,null,null,"GE - Georgia"]
[null,null,null,null,null,null,null,null,null,null,null,null,null,null,null,null,null,null,null,null,null,null,null,null,"DE - Germany"]
[null,null,null,null,null,null,null,null,null,null,null,null,null,null,null,null,null,null,null,null,null,null,null,null,"GH - Ghana"]
[null,null,null,null,null,null,null,null,null,null,null,null,null,null,null,null,null,null,null,null,null,null,null,null,"GI - Gibraltar"]
[null,null,null,null,null,null,null,null,null,null,null,null,null,null,null,null,null,null,null,null,null,null,null,null,"GR - Greece"]
[null,null,null,null,null,null,null,null,null,null,null,null,null,null,null,null,null,null,null,null,null,null,null,null,"GL - Greenland"]
[null,null,null,null,null,null,null,null,null,null,null,null,null,null,null,null,null,null,null,null,null,null,null,null,"GD - Grenada"]
[null,null,null,null,null,null,null,null,null,null,null,null,null,null,null,null,null,null,null,null,null,null,null,null,"GP - Guadeloupe"]
[null,null,null,null,null,null,null,null,null,null,null,null,null,null,null,null,null,null,null,null,null,null,null,null,"GU - Guam"]
[null,null,null,null,null,null,null,null,null,null,null,null,null,null,null,null,null,null,null,null,null,null,null,null,"GT - Guatemala"]
[null,null,null,null,null,null,null,null,null,null,null,null,null,null,null,null,null,null,null,null,null,null,null,null,"GG - Guernsey"]
[null,null,null,null,null,null,null,null,null,null,null,null,null,null,null,null,null,null,null,null,null,null,null,null,"GN - Guinea"]
[null,null,null,null,null,null,null,null,null,null,null,null,null,null,null,null,null,null,null,null,null,null,null,null,"GW - Guinea-Bissau"]
[null,null,null,null,null,null,null,null,null,null,null,null,null,null,null,null,null,null,null,null,null,null,null,null,"GY - Guyana"]
[null,null,null,null,null,null,null,null,null,null,null,null,null,null,null,null,null,null,null,null,null,null,null,null,"HT - Haiti"]
[null,null,null,null,null,null,null,null,null,null,null,null,null,null,null,null,null,null,null,null,null,null,null,null,"HM - Heard Island and McDonald Islands"]
[null,null,null,null,null,null,null,null,null,null,null,null,null,null,null,null,null,null,null,null,null,null,null,null,"VA - Holy See"]
[null,null,null,null,null,null,null,null,null,null,null,null,null,null,null,null,null,null,null,null,null,null,null,null,"HN - Honduras"]
[null,null,null,null,null,null,null,null,null,null,null,null,null,null,null,null,null,null,null,null,null,null,null,null,"HK - Hong Kong"]
[null,null,null,null,null,null,null,null,null,null,null,null,null,null,null,null,null,null,null,null,null,null,null,null,"HU - Hungary"]
[null,null,null,null,null,null,null,null,null,null,null,null,null,null,null,null,null,null,null,null,null,null,null,null,"IS - Iceland"]
[null,null,null,null,null,null,null,null,null,null,null,null,null,null,null,null,null,null,null,null,null,null,null,null,"IN - India"]
[null,null,null,null,null,null,null,null,null,null,null,null,null,null,null,null,null,null,null,null,null,null,null,null,"ID - Indonesia"]
[null,null,null,null,null,null,null,null,null,null,null,null,null,null,null,null,null,null,null,null,null,null,null,null,"IR - Iran (Islamic Republic of)"]
[null,null,null,null,null,null,null,null,null,null,null,null,null,null,null,null,null,null,null,null,null,null,null,null,"IQ - Iraq"]
[null,null,null,null,null,null,null,null,null,null,null,null,null,null,null,null,null,null,null,null,null,null,null,null,"IE - Ireland"]
[null,null,null,null,null,null,null,null,null,null,null,null,null,null,null,null,null,null,null,null,null,null,null,null,"IM - Isle of Man"]
[null,null,null,null,null,null,null,null,null,null,null,null,null,null,null,null,null,null,null,null,null,null,null,null,"IL - Israel"]
[null,null,null,null,null,null,null,null,null,null,null,null,null,null,null,null,null,null,null,null,null,null,null,null,"IT - Italy"]
[null,null,null,null,null,null,null,null,null,null,null,null,null,null,null,null,null,null,null,null,null,null,null,null,"JM - Jamaica"]
[null,null,null,null,null,null,null,null,null,null,null,null,null,null,null,null,null,null,null,null,null,null,null,null,"JP - Japan"]
[null,null,null,null,null,null,null,null,null,null,null,null,null,null,null,null,null,null,null,null,null,null,null,null,"JE - Jersey"]
[null,null,null,null,null,null,null,null,null,null,null,null,null,null,null,null,null,null,null,null,null,null,null,null,"JO - Jordan"]
[null,null,null,null,null,null,null,null,null,null,null,null,null,null,null,null,null,null,null,null,null,null,null,null,"KZ - Kazakhstan"]
[null,null,null,null,null,null,null,null,null,null,null,null,null,null,null,null,null,null,null,null,null,null,null,null,"KE - Kenya"]
[null,null,null,null,null,null,null,null,null,null,null,null,null,null,null,null,null,null,null,null,null,null,null,null,"KI - Kiribati"]
[null,null,null,null,null,null,null,null,null,null,null,null,null,null,null,null,null,null,null,null,null,null,null,null,"KP - Korea (Democratic People's Republic of)"]
[null,null,null,null,null,null,null,null,null,null,null,null,null,null,null,null,null,null,null,null,null,null,null,null,"KR - Korea (Republic of)"]
[null,null,null,null,null,null,null,null,null,null,null,null,null,null,null,null,null,null,null,null,null,null,null,null,"KW - Kuwait"]
[null,null,null,null,null,null,null,null,null,null,null,null,null,null,null,null,null,null,null,null,null,null,null,null,"KG - Kyrgyzstan"]
[null,null,null,null,null,null,null,null,null,null,null,null,null,null,null,null,null,null,null,null,null,null,null,null,"LA - Lao People's Democratic Republic"]
[null,null,null,null,null,null,null,null,null,null,null,null,null,null,null,null,null,null,null,null,null,null,null,null,"LV - Latvia"]
[null,null,null,null,null,null,null,null,null,null,null,null,null,null,null,null,null,null,null,null,null,null,null,null,"LB - Lebanon"]
[null,null,null,null,null,null,null,null,null,null,null,null,null,null,null,null,null,null,null,null,null,null,null,null,"LS - Lesotho"]
[null,null,null,null,null,null,null,null,null,null,null,null,null,null,null,null,null,null,null,null,null,null,null,null,"LR - Liberia"]
[null,null,null,null,null,null,null,null,null,null,null,null,null,null,null,null,null,null,null,null,null,null,null,null,"LY - Libya"]
[null,null,null,null,null,null,null,null,null,null,null,null,null,null,null,null,null,null,null,null,null,null,null,null,"LI - Liechtenstein"]
[null,null,null,null,null,null,null,null,null,null,null,null,null,null,null,null,null,null,null,null,null,null,null,null,"LT - Lithuania"]
[null,null,null,null,null,null,null,null,null,null,null,null,null,null,null,null,null,null,null,null,null,null,null,null,"LU - Luxembourg"]
[null,null,null,null,null,null,null,null,null,null,null,null,null,null,null,null,null,null,null,null,null,null,null,null,"MO - Macao"]
[null,null,null,null,null,null,null,null,null,null,null,null,null,null,null,null,null,null,null,null,null,null,null,null,"MK - Macedonia (the former Yugoslav Republic of)"]
[null,null,null,null,null,null,null,null,null,null,null,null,null,null,null,null,null,null,null,null,null,null,null,null,"MG - Madagascar"]
[null,null,null,null,null,null,null,null,null,null,null,null,null,null,null,null,null,null,null,null,null,null,null,null,"MW - Malawi"]
[null,null,null,null,null,null,null,null,null,null,null,null,null,null,null,null,null,null,null,null,null,null,null,null,"MY - Malaysia"]
[null,null,null,null,null,null,null,null,null,null,null,null,null,null,null,null,null,null,null,null,null,null,null,null,"MV - Maldives"]
[null,null,null,null,null,null,null,null,null,null,null,null,null,null,null,null,null,null,null,null,null,null,null,null,"ML - Mali"]
[null,null,null,null,null,null,null,null,null,null,null,null,null,null,null,null,null,null,null,null,null,null,null,null,"MT - Malta"]
[null,null,null,null,null,null,null,null,null,null,null,null,null,null,null,null,null,null,null,null,null,null,null,null,"MH - Marshall Islands"]
[null,null,null,null,null,null,null,null,null,null,null,null,null,null,null,null,null,null,null,null,null,null,null,null,"MQ - Martinique"]
[null,null,null,null,null,null,null,null,null,null,null,null,null,null,null,null,null,null,null,null,null,null,null,null,"MR - Mauritania"]
[null,null,null,null,null,null,null,null,null,null,null,null,null,null,null,null,null,null,null,null,null,null,null,null,"MU - Mauritius"]
[null,null,null,null,null,null,null,null,null,null,null,null,null,null,null,null,null,null,null,null,null,null,null,null,"YT - Mayotte"]
[null,null,null,null,null,null,null,null,null,null,null,null,null,null,null,null,null,null,null,null,null,null,null,null,"MX - Mexico"]
[null,null,null,null,null,null,null,null,null,null,null,null,null,null,null,null,null,null,null,null,null,null,null,null,"FM - Micronesia (Federated States of)"]
[null,null,null,null,null,null,null,null,null,null,null,null,null,null,null,null,null,null,null,null,null,null,null,null,"MD - Moldova (Republic of)"]
[null,null,null,null,null,null,null,null,null,null,null,null,null,null,null,null,null,null,null,null,null,null,null,null,"MC - Monaco"]
[null,null,null,null,null,null,null,null,null,null,null,null,null,null,null,null,null,null,null,null,null,null,null,null,"MN - Mongolia"]
[null,null,null,null,null,null,null,null,null,null,null,null,null,null,null,null,null,null,null,null,null,null,null,null,"ME - Montenegro"]
[null,null,null,null,null,null,null,null,null,null,null,null,null,null,null,null,null,null,null,null,null,null,null,null,"MS - Montserrat"]
[null,null,null,null,null,null,null,null,null,null,null,null,null,null,null,null,null,null,null,null,null,null,null,null,"MA - Morocco"]
[null,null,null,null,null,null,null,null,null,null,null,null,null,null,null,null,null,null,null,null,null,null,null,null,"MZ - Mozambique"]
[null,null,null,null,null,null,null,null,null,null,null,null,null,null,null,null,null,null,null,null,null,null,null,null,"MM - Myanmar"]
[null,null,null,null,null,null,null,null,null,null,null,null,null,null,null,null,null,null,null,null,null,null,null,null,"NA - Namibia"]
[null,null,null,null,null,null,null,null,null,null,null,null,null,null,null,null,null,null,null,null,null,null,null,null,"NR - Nauru"]
[null,null,null,null,null,null,null,null,null,null,null,null,null,null,null,null,null,null,null,null,null,null,null,null,"NP - Nepal"]
[null,null,null,null,null,null,null,null,null,null,null,null,null,null,null,null,null,null,null,null,null,null,null,null,"NL - Netherlands"]
[null,null,null,null,null,null,null,null,null,null,null,null,null,null,null,null,null,null,null,null,null,null,null,null,"NC - New Caledonia"]
[null,null,null,null,null,null,null,null,null,null,null,null,null,null,null,null,null,null,null,null,null,null,null,null,"NZ - New Zealand"]
[null,null,null,null,null,null,null,null,null,null,null,null,null,null,null,null,null,null,null,null,null,null,null,null,"NI - Nicaragua"]
[null,null,null,null,null,null,null,null,null,null,null,null,null,null,null,null,null,null,null,null,null,null,null,null,"NE - Niger"]
[null,null,null,null,null,null,null,null,null,null,null,null,null,null,null,null,null,null,null,null,null,null,null,null,"NG - Nigeria"]
[null,null,null,null,null,null,null,null,null,null,null,null,null,null,null,null,null,null,null,null,null,null,null,null,"NU - Niue"]
[null,null,null,null,null,null,null,null,null,null,null,null,null,null,null,null,null,null,null,null,null,null,null,null,"NF - Norfolk Island"]
[null,null,null,null,null,null,null,null,null,null,null,null,null,null,null,null,null,null,null,null,null,null,null,null,"MP - Northern Mariana Islands"]
[null,null,null,null,null,null,null,null,null,null,null,null,null,null,null,null,null,null,null,null,null,null,null,null,"NO - Norway"]
[null,null,null,null,null,null,null,null,null,null,null,null,null,null,null,null,null,null,null,null,null,null,null,null,"OM - Oman"]
[null,null,null,null,null,null,null,null,null,null,null,null,null,null,null,null,null,null,null,null,null,null,null,null,"PK - Pakistan"]
[null,null,null,null,null,null,null,null,null,null,null,null,null,null,null,null,null,null,null,null,null,null,null,null,"PW - Palau"]
[null,null,null,null,null,null,null,null,null,null,null,null,null,null,null,null,null,null,null,null,null,null,null,null,"PS - Palestine, State of"]
[null,null,null,null,null,null,null,null,null,null,null,null,null,null,null,null,null,null,null,null,null,null,null,null,"PA - Panama"]
[null,null,null,null,null,null,null,null,null,null,null,null,null,null,null,null,null,null,null,null,null,null,null,null,"PG - Papua New Guinea"]
[null,null,null,null,null,null,null,null,null,null,null,null,null,null,null,null,null,null,null,null,null,null,null,null,"PY - Paraguay"]
[null,null,null,null,null,null,null,null,null,null,null,null,null,null,null,null,null,null,null,null,null,null,null,null,"PE - Peru"]
[null,null,null,null,null,null,null,null,null,null,null,null,null,null,null,null,null,null,null,null,null,null,null,null,"PH - Philippines"]
[null,null,null,null,null,null,null,null,null,null,null,null,null,null,null,null,null,null,null,null,null,null,null,null,"PN - Pitcairn"]
[null,null,null,null,null,null,null,null,null,null,null,null,null,null,null,null,null,null,null,null,null,null,null,null,"PL - Poland"]
[null,null,null,null,null,null,null,null,null,null,null,null,null,null,null,null,null,null,null,null,null,null,null,null,"PT - Portugal"]
[null,null,null,null,null,null,null,null,null,null,null,null,null,null,null,null,null,null,null,null,null,null,null,null,"PR - Puerto Rico"]
[null,null,null,null,null,null,null,null,null,null,null,null,null,null,null,null,null,null,null,null,null,null,null,null,"QA - Qatar"]
[null,null,null,null,null,null,null,null,null,null,null,null,null,null,null,null,null,null,null,null,null,null,null,null,"RE - Reunion"]
[null,null,null,null,null,null,null,null,null,null,null,null,null,null,null,null,null,null,null,null,null,null,null,null,"RO - Romania"]
[null,null,null,null,null,null,null,null,null,null,null,null,null,null,null,null,null,null,null,null,null,null,null,null,"RU - Russian Federation"]
[null,null,null,null,null,null,null,null,null,null,null,null,null,null,null,null,null,null,null,null,null,null,null,null,"RW - Rwanda"]
[null,null,null,null,null,null,null,null,null,null,null,null,null,null,null,null,null,null,null,null,null,null,null,null,"BL - Saint Barthelemy"]
[null,null,null,null,null,null,null,null,null,null,null,null,null,null,null,null,null,null,null,null,null,null,null,null,"SH - Saint Helena, Ascension and Tristan da Cunha"]
[null,null,null,null,null,null,null,null,null,null,null,null,null,null,null,null,null,null,null,null,null,null,null,null,"KN - Saint Kitts and Nevis"]
[null,null,null,null,null,null,null,null,null,null,null,null,null,null,null,null,null,null,null,null,null,null,null,null,"LC - Saint Lucia"]
[null,null,null,null,null,null,null,null,null,null,null,null,null,null,null,null,null,null,null,null,null,null,null,null,"MF - Saint Martin (French part)"]
[null,null,null,null,null,null,null,null,null,null,null,null,null,null,null,null,null,null,null,null,null,null,null,null,"PM - Saint Pierre and Miquelon"]
[null,null,null,null,null,null,null,null,null,null,null,null,null,null,null,null,null,null,null,null,null,null,null,null,"VC - Saint Vincent and the Grenadines"]
[null,null,null,null,null,null,null,null,null,null,null,null,null,null,null,null,null,null,null,null,null,null,null,null,"WS - Samoa"]
[null,null,null,null,null,null,null,null,null,null,null,null,null,null,null,null,null,null,null,null,null,null,null,null,"SM - San Marino"]
[null,null,null,null,null,null,null,null,null,null,null,null,null,null,null,null,null,null,null,null,null,null,null,null,"ST - Sao Tome and Principe"]
[null,null,null,null,null,null,null,null,null,null,null,null,null,null,null,null,null,null,null,null,null,null,null,null,"SA - Saudi Arabia"]
[null,null,null,null,null,null,null,null,null,null,null,null,null,null,null,null,null,null,null,null,null,null,null,null,"SN - Senegal"]
[null,null,null,null,null,null,null,null,null,null,null,null,null,null,null,null,null,null,null,null,null,null,null,null,"RS - Serbia"]
[null,null,null,null,null,null,null,null,null,null,null,null,null,null,null,null,null,null,null,null,null,null,null,null,"SC - Seychelles"]
[null,null,null,null,null,null,null,null,null,null,null,null,null,null,null,null,null,null,null,null,null,null,null,null,"SL - Sierra Leone"]
[null,null,null,null,null,null,null,null,null,null,null,null,null,null,null,null,null,null,null,null,null,null,null,null,"SG - Singapore"]
[null,null,null,null,null,null,null,null,null,null,null,null,null,null,null,null,null,null,null,null,null,null,null,null,"SX - Sint Maarten (Dutch part)"]
[null,null,null,null,null,null,null,null,null,null,null,null,null,null,null,null,null,null,null,null,null,null,null,null,"SK - Slovakia"]
[null,null,null,null,null,null,null,null,null,null,null,null,null,null,null,null,null,null,null,null,null,null,null,null,"SI - Slovenia"]
[null,null,null,null,null,null,null,null,null,null,null,null,null,null,null,null,null,null,null,null,null,null,null,null,"SB - Solomon Islands"]
[null,null,null,null,null,null,null,null,null,null,null,null,null,null,null,null,null,null,null,null,null,null,null,null,"SO - Somalia"]
[null,null,null,null,null,null,null,null,null,null,null,null,null,null,null,null,null,null,null,null,null,null,null,null,"ZA - South Africa"]
[null,null,null,null,null,null,null,null,null,null,null,null,null,null,null,null,null,null,null,null,null,null,null,null,"GS - South Georgia and the South Sandwich Islands"]
[null,null,null,null,null,null,null,null,null,null,null,null,null,null,null,null,null,null,null,null,null,null,null,null,"SS - South Sudan"]
[null,null,null,null,null,null,null,null,null,null,null,null,null,null,null,null,null,null,null,null,null,null,null,null,"ES - Spain"]
[null,null,null,null,null,null,null,null,null,null,null,null,null,null,null,null,null,null,null,null,null,null,null,null,"LK - Sri Lanka"]
[null,null,null,null,null,null,null,null,null,null,null,null,null,null,null,null,null,null,null,null,null,null,null,null,"SD - Sudan"]
[null,null,null,null,null,null,null,null,null,null,null,null,null,null,null,null,null,null,null,null,null,null,null,null,"SR - Suriname"]
[null,null,null,null,null,null,null,null,null,null,null,null,null,null,null,null,null,null,null,null,null,null,null,null,"SJ - Svalbard and Jan Mayen"]
[null,null,null,null,null,null,null,null,null,null,null,null,null,null,null,null,null,null,null,null,null,null,null,null,"SZ - Swaziland"]
[null,null,null,null,null,null,null,null,null,null,null,null,null,null,null,null,null,null,null,null,null,null,null,null,"SE - Sweden"]
[null,null,null,null,null,null,null,null,null,null,null,null,null,null,null,null,null,null,null,null,null,null,null,null,"CH - Switzerland"]
[null,null,null,null,null,null,null,null,null,null,null,null,null,null,null,null,null,null,null,null,null,null,null,null,"SY - Syrian Arab Republic"]
[null,null,null,null,null,null,null,null,null,null,null,null,null,null,null,null,null,null,null,null,null,null,null,null,"TW - Taiwan, Province of China"]
[null,null,null,null,null,null,null,null,null,null,null,null,null,null,null,null,null,null,null,null,null,null,null,null,"TJ - Tajikistan"]
[null,null,null,null,null,null,null,null,null,null,null,null,null,null,null,null,null,null,null,null,null,null,null,null,"TZ - Tanzania, United Republic of"]
[null,null,null,null,null,null,null,null,null,null,null,null,null,null,null,null,null,null,null,null,null,null,null,null,"TH - Thailand"]
[null,null,null,null,null,null,null,null,null,null,null,null,null,null,null,null,null,null,null,null,null,null,null,null,"TL - Timor-Leste"]
[null,null,null,null,null,null,null,null,null,null,null,null,null,null,null,null,null,null,null,null,null,null,null,null,"TG - Togo"]
[null,null,null,null,null,null,null,null,null,null,null,null,null,null,null,null,null,null,null,null,null,null,null,null,"TK - Tokelau"]
[null,null,null,null,null,null,null,null,null,null,null,null,null,null,null,null,null,null,null,null,null,null,null,null,"TO - Tonga"]
[null,null,null,null,null,null,null,null,null,null,null,null,null,null,null,null,null,null,null,null,null,null,null,null,"TT - Trinidad and Tobago"]
[null,null,null,null,null,null,null,null,null,null,null,null,null,null,null,null,null,null,null,null,null,null,null,null,"TN - Tunisia"]
[null,null,null,null,null,null,null,null,null,null,null,null,null,null,null,null,null,null,null,null,null,null,null,null,"TR - Turkey"]
[null,null,null,null,null,null,null,null,null,null,null,null,null,null,null,null,null,null,null,null,null,null,null,null,"TM - Turkmenistan"]
[null,null,null,null,null,null,null,null,null,null,null,null,null,null,null,null,null,null,null,null,null,null,null,null,"TC - Turks and Caicos Islands"]
[null,null,null,null,null,null,null,null,null,null,null,null,null,null,null,null,null,null,null,null,null,null,null,null,"TV - Tuvalu"]
[null,null,null,null,null,null,null,null,null,null,null,null,null,null,null,null,null,null,null,null,null,null,null,null,"UG - Uganda"]
[null,null,null,null,null,null,null,null,null,null,null,null,null,null,null,null,null,null,null,null,null,null,null,null,"UA - Ukraine"]
[null,null,null,null,null,null,null,null,null,null,null,null,null,null,null,null,null,null,null,null,null,null,null,null,"AE - United Arab Emirates"]
[null,null,null,null,null,null,null,null,null,null,null,null,null,null,null,null,null,null,null,null,null,null,null,null,"GB - United Kingdom of Great Britain and Northern Ireland"]
[null,null,null,null,null,null,null,null,null,null,null,null,null,null,null,null,null,null,null,null,null,null,null,null,"US - United States of America"]
[null,null,null,null,null,null,null,null,null,null,null,null,null,null,null,null,null,null,null,null,null,null,null,null,"UM - United States Minor Outlying Islands"]
[null,null,null,null,null,null,null,null,null,null,null,null,null,null,null,null,null,null,null,null,null,null,null,null,"UY - Uruguay"]
[null,null,null,null,null,null,null,null,null,null,null,null,null,null,null,null,null,null,null,null,null,null,null,null,"UZ - Uzbekistan"]
[null,null,null,null,null,null,null,null,null,null,null,null,null,null,null,null,null,null,null,null,null,null,null,null,"VU - Vanuatu"]
[null,null,null,null,null,null,null,null,null,null,null,null,null,null,null,null,null,null,null,null,null,null,null,null,"VE - Venezuela (Bolivarian Republic of)"]
[null,null,null,null,null,null,null,null,null,null,null,null,null,null,null,null,null,null,null,null,null,null,null,null,"VN - Viet Nam"]
[null,null,null,null,null,null,null,null,null,null,null,null,null,null,null,null,null,null,null,null,null,null,null,null,"VG - Virgin Islands (British)"]
[null,null,null,null,null,null,null,null,null,null,null,null,null,null,null,null,null,null,null,null,null,null,null,null,"VI - Virgin Islands (U.S.)"]
[null,null,null,null,null,null,null,null,null,null,null,null,null,null,null,null,null,null,null,null,null,null,null,null,"WF - Wallis and Futuna"]
[null,null,null,null,null,null,null,null,null,null,null,null,null,null,null,null,null,null,null,null,null,null,null,null,"EH - Western Sahara"]
[null,null,null,null,null,null,null,null,null,null,null,null,null,null,null,null,null,null,null,null,null,null,null,null,"YE - Yemen"]
[null,null,null,null,null,null,null,null,null,null,null,null,null,null,null,null,null,null,null,null,null,null,null,null,"ZM - Zambia"]
[null,null,null,null,null,null,null,null,null,null,null,null,null,null,null,null,null,null,null,null,null,null,null,null,"ZW - Zimbabwe"]

{"sheet":"DSL","index":9,"n_rows":2149,"n_cols":11,"rows_kept":2149,"cut":false,"hidden":false,"merged":[]}
["Authority:","Identity:","Version number:","Issue Date: ",null,"return to tab\n4.Substance-in-Product","return to tab\n5.Substance-in-Process",{"$f":"Overview!E3","v":"Version: 2.0"}]
["IAEG","AD-DSL","7.0","2023-01-27"]
["IAEG ID","CAS","EC","Name","Synonyms","IAEG Regulatory Criteria","Date first added","Revision date","ECHA ID","Entry Type","Parent Group IAEG ID"]
["IAEG000001","1327-53-3","215-481-4","Diarsenic trioxide","Arsenic trioxide","R1;R2;D1","2015-03-17","2015-03-17","100.014.075","Substance Direct Entry"]
["IAEG000002","1303-28-2","215-116-9","Diarsenic pentaoxide","Arsenic pentoxide; Arsenic oxide","R1;R2;D1","2015-03-17","2015-03-17","100.013.743","Substance Direct Entry"]
["IAEG000003","15606-95-8","427-700-2","Triethyl arsenate","","R1;R2;D1","2015-03-17","2017-08-14","100.102.611","Substance Direct Entry"]
["IAEG000004","7778-39-4","231-901-9","Arsenic acid","","R1;R2;D1","2015-03-17","2015-03-17","100.029.001","Substance Direct Entry"]
["IAEG000005","3687-31-8","222-979-5","Trilead diarsenate","","R1;R2;D1;I","2015-03-17","2023-01-27","100.020.890","Substance Direct Entry"]
["IAEG000006","7778-44-1","231-904-5","Calcium arsenate","","R1;R2;D1","2015-03-17","2017-08-14","100.029.003","Substance Direct Entry"]
["IAEG000009","12006-15-4","234-484-1","Cadmium arsenide","Tricadmium diarsenide","R1;R2;D1","2017-08-14","2017-08-14","100.031.336","Substance Direct Entry"]
["IAEG000021","7440-41-7","231-150-7","Beryllium (Be)","","R2","2015-03-17","2019-01-24","100.028.318","Substance Direct Entry"]
["IAEG000022","1306-19-0","215-146-2","Cadmium oxide","","R1;R2;D1","2015-03-17","2017-08-14","100.013.770","Substance Direct Entry"]
["IAEG000023","10108-64-2","233-296-7","Cadmium chloride","","R1;R2;D1","2015-03-17","2017-08-14","100.030.256","Substance Direct Entry"]
["IAEG000024","1306-23-6","215-147-8","Cadmium sulphide","","R1;R2;D1","2015-03-17","2017-08-14","100.013.771","Substance Direct Entry"]
["IAEG000025","10124-36-4","233-331-6","Cadmium sulphate","","R1;R2;D1;I","2015-03-17","2023-01-27","100.030.288","Substance Direct Entry"]
["IAEG000026","31119-53-6","233-331-6","Cadmium sulphate",null,"R1;R2;D1;I","2015-03-17","2023-01-27","100.030.288","Substance Direct Entry"]
["IAEG000027","7790-79-6","232-222-0","Cadmium fluoride","","R1;R2;D1;I","2015-03-17","2023-01-27","100.029.293","Substance Direct Entry"]
["IAEG000028","7440-43-9","231-152-8","Cadmium (Cd)","","R1;R2;D1","2015-03-17","2017-08-14","100.028.320","Substance Direct Entry"]
["IAEG000029","10325-94-7","233-710-6","Cadmium nitrate","Cadmium dinitrate","R1;R2;D1;I","2017-08-14","2023-01-27","100.030.633","Substance Direct Entry"]
["IAEG000030","10022-68-1","No EC available","Cadmium nitrate (tetrahydrate)","Cadmium dinitrate; Nitric acid, cadmium salt, tetrahydrate","R1;R2;D1","2017-08-14","2017-08-14",null,"Substance Direct Entry"]
["IAEG000031","21041-95-2","244-168-5","Cadmium hydroxide","","R1;R2;D1;I","2017-08-14","2023-01-27","100.040.137","Substance Direct Entry"]
["IAEG000032","513-78-0","208-168-9","Cadmium carbonate","","R1;R2;D1;I","2017-08-14","2023-01-27","100.007.427","Substance Direct Entry"]
["IAEG000033","1306-25-8","215-149-9","Cadmium telluride","","R1;R2;D1","2017-08-14","2017-08-14","100.013.773","Substance Direct Entry"]
["IAEG000034","8048-07-5","232-466-8","Cadmium zinc sulphide yellow","","R1;R2;D1;I","2017-08-14","2023-01-27","100.256.197","Substance Direct Entry"]
["IAEG000035","58339-34-7","261-218-1","Cadmium sulphoselenide red","","R1;R2;D1","2017-08-14","2017-08-14",null,"Substance Direct Entry"]
["IAEG000037","100402-53-7","309-489-8","Cadmium chloride phosphate (Cd5Cl(PO4)3), manganese-doped","","R1;R2;D1","2017-08-14","2017-08-14",null,"Substance Direct Entry"]
["IAEG000038","101012-89-9","309-789-9","Dodecanoic acid, cadmium salt, basic","","R1;R2;D1","2017-08-14","2017-08-14",null,"Substance Direct Entry"]
["IAEG000039","101012-93-5","309-794-6","Octadecanoic acid, cadmium salt, basic","","R1;R2;D1","2017-08-14","2017-08-14",null,"Substance Direct Entry"]
["IAEG000040","101012-94-6","309-795-1","Octadecanoic acid, 12-hydroxy-, cadmium salt, basic","","R1;R2;D1","2017-08-14","2017-08-14",null,"Substance Direct Entry"]
["IAEG000041","101356-99-4","309-896-0","Cadmium oxide (CdO), solid soln. with calcium oxide and titanium oxide (TiO2), praseodymium-doped","","R1;R2;D1","2017-08-14","2017-08-14",null,"Substance Direct Entry"]
["IAEG000042","101357-00-0","309-897-6","Cadmium selenide (CdSe), solid soln. with cadmium sulphide, zinc selenide and zinc sulphide, aluminium and copper-doped","","R1;R2;D1","2017-08-14","2017-08-14",null,"Substance Direct Entry"]
["IAEG000043","101357-01-1","309-898-1","Cadmium selenide (CdSe), solid soln. with cadmium sulphide, zinc selenide and zinc sulphide, copper and manganese-doped","","R1;R2;D1","2017-08-14","2017-08-14",null,"Substance Direct Entry"]
["IAEG000044","101357-02-2","309-899-7","Cadmium selenide (CdSe), solid soln. with cadmium sulphide, zinc selenide and zinc sulphide, europium-doped","","R1;R2;D1","2017-08-14","2017-08-14",null,"Substance Direct Entry"]
["IAEG000045","101357-03-3","309-900-0","Cadmium selenide (CdSe), solid soln. with cadmium sulphide, zinc selenide and zinc sulphide, gold and manganese-doped","","R1;R2;D1","2017-08-14","2017-08-14",null,"Substance Direct Entry"]
["IAEG000046","101357-04-4","309-901-6","Cadmium selenide (CdSe), solid soln. with cadmium sulphide, zinc selenide and zinc sulphide, manganese and silver-doped","","R1;R2;D1","2017-08-14","2017-08-14",null,"Substance Direct Entry"]
["IAEG000047","10196-67-5","233-489-6","Cadmium myristate","","R1;R2;D1","2017-08-14","2017-08-14",null,"Substance Direct Entry"]
["IAEG000048","102110-30-5","310-029-3","Cadmium oxide (CdO), solid soln. with magnesium oxide, tungsten oxide (WO3) and zinc oxide","","R1;R2;D1","2017-08-14","2017-08-14",null,"Substance Direct Entry"]
["IAEG000049","102184-95-2","310-077-5","Silicic acid, zirconium salt, cadmium pigment-encapsulated","","R1;R2;D1","2017-08-14","2017-08-14",null,"Substance Direct Entry"]
["IAEG000050","10468-30-1","233-954-3","Cadmium dioleate","","R1;R2;D1","2017-08-14","2017-08-14",null,"Substance Direct Entry"]
["IAEG000051","11112-63-3","234-342-9","Cadmium selenide sulphide","","R1;R2;D1","2017-08-14","2017-08-14",null,"Substance Direct Entry"]
["IAEG000052","1191-79-3","214-740-9","Barium cadmium tetrastearate","","R1;R2;D1","2017-08-14","2017-08-14",null,"Substance Direct Entry"]
["IAEG000053","12014-14-1","234-593-4","Cadmium titanium oxide","Cadmium titanium trioxide","R1;R2;D1","2017-08-14","2017-08-14",null,"Substance Direct Entry"]
["IAEG000054","12014-28-7","234-595-5","Cadmium phosphide","Tricadmium diphosphide","R1;R2;D1","2017-08-14","2017-08-14",null,"Substance Direct Entry"]
["IAEG000055","12014-29-8","234-596-0","Cadmium antimonide","Antimony, compound with cadmium (2:3)","R1;R2;D1","2017-08-14","2017-08-14",null,"Substance Direct Entry"]
["IAEG000060","12214-12-9","235-392-4","Dicadmium selenide sulphide","","R1;R2;D1","2017-08-14","2017-08-14",null,"Substance Direct Entry"]
["IAEG000062","12442-27-2","235-672-6","Cadmium zinc sulphide","","R1;R2;D1;I","2017-08-14","2023-01-27",null,"Substance Direct Entry"]
["IAEG000063","12626-36-7","235-724-8","Cadmium selenide sulphide","","R1;R2;D1","2017-08-14","2017-08-14",null,"Substance Direct Entry"]
["IAEG000064","12656-57-4","235-758-3","Cadmium sulphoselenide orange","","R1;R2;D1","2017-08-14","2017-08-14",null,"Substance Direct Entry"]
["IAEG000065","1345-09-1","215-717-6","Cadmium mercury sulphide","","R1;R2;D1;I","2017-08-14","2023-01-27",null,"Substance Direct Entry"]
["IAEG000072","13814-59-0","237-480-8","Cadmium selenite","","R1;R2;D1","2017-08-14","2017-08-14",null,"Substance Direct Entry"]
["IAEG000078","14017-36-8","237-832-0","Cadmium disulphamate","Cadmium disulphamate","R1;R2;D1","2023-01-27","2023-01-27",null,"Substance Direct Entry"]
["IAEG000083","14486-19-2","238-490-5","Cadmium tetrafluoroborate","","R1;R2;D1","2015-03-17","2015-03-17",null,"Substance Direct Entry"]
["IAEG000109","2223-93-0","218-743-6","Cadmium distearate","","R1;R2;D1","2017-08-14","2017-08-14",null,"Substance Direct Entry"]
["IAEG000117","29870-72-2","249-914-3","Cadmium mercury telluride","","R1;R2;D1;I","2019-01-24","2023-01-27",null,"Substance Direct Entry"]
["IAEG000132","506-82-1","208-055-4","Dimethylcadmium","","R1;R2;D1","2017-08-14","2017-08-14",null,"Substance Direct Entry"]
["IAEG000136","543-90-8","208-853-2","Cadmium di(acetate)","","R1;R2;D1","2017-08-14","2017-08-14",null,"Substance Direct Entry"]
["IAEG000139","592-02-9","No EC available","Cadmium, diethyl-","","R1;R2;D1","2017-08-14","2017-08-14",null,"Substance Direct Entry"]
["IAEG000140","61789-34-2","263-053-0","Naphthenic acids, cadmium salts","","R1;R2;D1","2017-08-14","2017-08-14",null,"Substance Direct Entry"]
["IAEG000184","7789-42-6","232-165-1","Cadmium bromide","","R1;R2;D1","2017-08-14","2017-08-14",null,"Substance Direct Entry"]
["IAEG000187","7790-84-3","No EC available","Sulphuric acid, cadmium salt (1:1), hydrate (3:8)","","R1;R2;D1","2017-08-14","2017-08-14",null,"Substance Direct Entry"]
["IAEG000230","14312-00-6","238-252-0","Cadmium chromate","","R1;R2;D1","2017-08-14","2017-08-14",null,"Substance Direct Entry"]
["IAEG000234","542-83-6","208-829-1","Cadmium cyanide","","R1;R2;D1","2015-03-17","2017-08-14",null,"Substance Direct Entry"]
["IAEG000236","7790-80-9","232-223-6","Cadmium iodide","","R1;R2;D1","2017-08-14","2017-08-14",null,"Substance Direct Entry"]
["IAEG000237","13464-92-1","No EC available","Cadmium bromide, tetrahydrate","","R1;R2;D1","2017-08-14","2017-08-14",null,"Substance Direct Entry"]
["IAEG000238","7790-78-5","No EC available","Cadmium chloride, hydrate (2:5)","","R1;R2;D1","2017-08-14","2017-08-14",null,"Substance Direct Entry"]
["IAEG000239","1306-24-7","215-148-3","Cadmium selenide (CdSe)","","R1;R2;D1","2015-03-17","2015-03-17","100.013.772","Substance Direct Entry"]
["IAEG000241","11129-14-9","234-372-2","Cadmium zinc sulfide","","R1;R2;D1","2017-08-14","2017-08-14",null,"Substance Direct Entry"]
["IAEG000263","35658-65-2","No EC available","Cadmium chloride (CdCl2), monohydrate","","R1;R2;D1","2019-01-24","2019-01-24",null,"Substance Direct Entry"]
["IAEG000264","5743-04-4","No EC available","Acetic acid, cadmium salt, dihydrate","","R1;R2;D1","2017-08-14","2017-08-14",null,"Substance Direct Entry"]
["IAEG000265","15244-35-6","No EC available","Cadmium sulphate hydrate","","R1;R2;D1","2017-08-14","2017-08-14",null,"Substance Direct Entry"]
["IAEG000274","10326-28-0","No EC available","Cadmium Perchlorate Trihydrate","","R1;R2;D1","2017-08-14","2017-08-14",null,"Substance Direct Entry"]
["IAEG000276","75-69-4","200-892-3","Trichlorofluoromethane (CFC-11)","","R1;R2;D1","2015-03-17","2015-03-17",null,"Substance Direct Entry"]
["IAEG000291","2354-06-5","No EC available","1,1,1,3,3-Pentachloro-2,2,3-trifluoropropane (CFC-213)","","R1;R2;D1","2019-01-24","2019-01-24",null,"Substance Direct Entry"]
["IAEG000294","3182-26-1","No EC available","1,1,1,3,3,3-Hexachloro-2,2-difluoropropane","Hexachlorodifluoropropane (CFC-212)","R1;R2;D1","2019-01-24","2019-01-24",null,"Substance Direct Entry"]
["IAEG000296","354-58-5","206-564-6","1,1,1-Trichloro-2,2,2-trifluoroethane (CFC-113a)","","R1;R2;D1","2017-08-14","2017-08-14","100.005.968","Substance Direct Entry"]
["IAEG000298","422-78-6","No EC available","1,1,1,2,2,3,3-Heptachloro-3-fluoropropane (CFC-211aa)","","R1;R2;D1","2019-01-24","2019-01-24",null,"Substance Direct Entry"]
["IAEG000306","662-01-1","211-552-9","Propane, 1,3-dichloro-1,1,2,2,3,3-hexafluoro-","","R1;R2","2019-01-24","2019-01-24",null,"Substance Direct Entry"]
["IAEG000307","677-68-9","No EC available","Propane, 1,2,2,3-tetrachloro-1,1,3,3-tetrafluoro-","","R1;R2","2020-01-16","2020-01-16",null,"Substance Direct Entry"]
["IAEG000309","75-71-8","200-893-9","Dichlorodifluoromethane (CFC-12)","","R1;R2;D1","2015-03-17","2015-03-17","100.000.813","Substance Direct Entry"]
["IAEG000310","75-72-9","200-894-4","Chlorotrifluoromethane (CFC-13)","","R1;R2;D1","2015-03-17","2015-03-17",null,"Substance Direct Entry"]
["IAEG000311","76-11-9","200-934-0","1,1,1,2-Tetrachloro-2,2-difluoroethane (CFC-112a)","","R1;R2;D1","2020-01-16","2020-01-16",null,"Substance Direct Entry"]
["IAEG000312","76-12-0","200-935-6","1,1,2,2-Tetrachloro-1,2-difluoroethane","Tetrachlorodifluoroethane (CFC-112)","R1;R2;D1","2017-08-14","2017-08-14","100.000.851","Substance Direct Entry"]
["IAEG000313","76-13-1","200-936-1","1,1,2-Trichloro-1,2,2-trifluoroethane","Trichlorotrifluoroethane (CFC-113)","R1;R2;D1","2015-03-17","2017-08-14",null,"Substance Direct Entry"]
["IAEG000314","76-14-2","200-937-7","1,2-Dichloro-1,1,2,2-tetrafluoroethane","Dichlorotetrafluoroethane (CFC-114)","R1;R2;D1","2017-08-14","2017-08-14",null,"Substance Direct Entry"]
["IAEG000315","76-15-3","200-938-2","Chloropentafluoroethane (CFC-115)","","R1;R2;D1","2015-03-17","2015-03-17",null,"Substance Direct Entry"]
["IAEG000316","76-17-5","No EC available","1,2,3-Trichloropentafluoropropane (CFC-215ba)","","R1;R2;D1","2019-01-24","2019-01-24",null,"Substance Direct Entry"]
["IAEG000317","76-18-6","200-940-3","Propane, 2-chloro-1,1,1,2,3,3,3-heptafluoro-","","R1;R2","2019-01-24","2019-01-24",null,"Substance Direct Entry"]
["IAEG000324","26523-64-8","247-758-0","Trichlorotrifluoroethane","","R1;R2","2015-03-17","2015-03-17","100.005.968","Substance Direct Entry"]
["IAEG000325","79-38-9","201-201-8","Chlorotrifluoroethylene","","R1;R2","2017-08-14","2017-08-14","100.001.093","Substance Direct Entry"]
["IAEG000347","27156-03-2","608-056-3","Ethene, dichlorodifluoro-","","R1;R2","2017-08-14","2017-08-14",null,"Substance Direct Entry"]
["IAEG000348","375-45-1","609-441-9","Butane, 1,2,3,4-tetrachloro-1,1,2,3,4,4-hexafluoro-","","R1;R2","2017-08-14","2017-08-14","100.223.758","Substance Direct Entry"]
["IAEG000350","No CAS available","No EC available","1,1,2-Trichloropentafluoropropane (CFC-215bb)","","R1;R2;D1","2017-08-14","2017-08-14",null,"Substance Direct Entry"]
["IAEG000353","356-19-4","No EC available","Cyclobutane, 1,3-dichloro-1,2,2,3,4,4-hexafluoro-","","R1;R2","2017-08-14","2017-08-14",null,"Substance Direct Entry"]
["IAEG000355","39432-81-0","No EC available","Chloropentafluoroethane, mixture with chlorodifluoromethane","","R1;R2","2020-01-16","2020-01-16",null,"Substance Direct Entry"]
["IAEG000356","377-93-5","No EC available","1,2-Dichlorotetrafluorocyclobut-1-Ene","","R1;R2","2020-01-16","2020-01-16",null,"Substance Direct Entry"]
["IAEG000358","1333-82-0","215-607-8","Chromium (VI) trioxide","Trioxochromium","R1;R2;D1;I","2015-03-17","2023-01-27","100.014.189","Substance Direct Entry"]
["IAEG000361","10588-01-9","234-190-3","Sodium dichromate","Sodium dichromate anhydrous; Sodium dichromate dihydrate","R1;R2;D1","2015-03-17","2015-03-17","100.031.070","Substance Direct Entry"]
["IAEG000362","7789-12-0","234-190-3","Sodium dichromate","Sodium dichromate anhydrous; Sodium dichromate dihydrate","R1;R2;D1","2015-03-17","2015-03-17","100.031.070","Substance Direct Entry"]
["IAEG000364","7775-11-3","231-889-5","Sodium chromate","","R1;R2;D1","2015-03-17","2015-03-17","100.028.990","Substance Direct Entry"]
["IAEG000365","7789-00-6","232-140-5","Potassium chromate","","R1;R2;D1","2015-03-17","2015-03-17","100.029.218","Substance Direct Entry"]
["IAEG000366","7778-50-9","231-906-6","Potassium dichromate","","R1;R2;D1","2015-03-17","2015-03-17","100.029.005","Substance Direct Entry"]
["IAEG000367","12656-85-8","235-759-9","Lead chromate molybdate sulphate red","C.I. Pigment Red 104","R1;R2;D1;I","2015-03-17","2023-01-27","100.032.496","Substance Direct Entry"]
["IAEG000368","1344-37-2","215-693-7","Lead sulfochromate yellow","C.I. Pigment Yellow 34","R1;R2;D1;I","2015-03-17","2023-01-27","100.014.267","Substance Direct Entry"]
["IAEG000369","7758-97-6","231-846-0","Lead chromate","","R1;R2;D1;I","2015-03-17","2023-01-27","100.028.951","Substance Direct Entry"]
["IAEG000370","7789-06-2","232-142-6","Strontium chromate","","R1;R2;D1","2015-03-17","2015-03-17","100.029.220","Substance Direct Entry"]
["IAEG000371","24613-89-6","246-356-2","Dichromium tris(chromate)","Chromium (III) chromate; Chromic chromate","R1;R2;D1","2015-03-17","2015-03-17","100.042.127","Substance Direct Entry"]
["IAEG000372","14721-18-7","238-766-5","Nickel chromate","","R1;D1","2019-01-24","2019-01-24",null,"Substance Direct Entry"]
["IAEG000373","15586-38-6","239-646-5","Nickel dichromate","","R1;D1","2020-01-16","2020-01-16",null,"Substance Direct Entry"]
["IAEG000374","14977-61-8","239-056-8","Chromyl dichloride","Chromic oxychloride","R1;D1","2019-01-24","2019-01-24",null,"Substance Direct Entry"]
["IAEG000375","13765-19-0","237-366-8","Calcium chromate","","R1;D1","2015-03-17","2017-08-14",null,"Substance Direct Entry"]
["IAEG000376","11103-86-9","234-329-8","Potassium hydroxyoctaoxodizincatedichromate(1-)","","R1;R2;D1;I","2015-03-17","2023-01-27","100.031.196","Substance Direct Entry"]
["IAEG000377","99328-50-4","308-967-3","Nitric acid, barium salt, reaction products with ammonia, chromic acid (H2CrO4) diammonium salt and copper (II) dinitrate, calcined","","R1;D1","2019-01-24","2019-01-24",null,"Substance Direct Entry"]
["IAEG000379","14104-85-9","237-959-1","Magnesium dichromate","","R1;D1","2017-08-14","2017-08-14",null,"Substance Direct Entry"]
["IAEG000381","49663-84-5","256-418-0","Pentazinc chromate octahydroxide","","R1;R2;D1;I","2015-03-17","2023-01-27","100.051.272","Substance Direct Entry"]
["IAEG000382","10034-82-9","No EC available","Chromic acid, disodium salt, tetrahydrate","","R1;D1","2017-08-14","2017-08-14",null,"Substance Direct Entry"]
["IAEG000384","10294-52-7","233-661-0","Diiron tris(chromate)","Chromic acid (H2CrO4), iron (3+) salt (3:2)","R1;D1","2020-01-16","2020-01-16",null,"Substance Direct Entry"]
["IAEG000386","12617-87-7","No EC available","Chromic acid, copper salt","","R1;D1","2019-01-24","2019-01-24",null,"Substance Direct Entry"]
["IAEG000387","13423-61-5","236-540-0","Magnesium chromate","","R1;D1","2015-03-17","2017-08-14",null,"Substance Direct Entry"]
["IAEG000388","13446-72-5","236-601-1","Rubidium chromate","","R1;D1","2017-08-14","2017-08-14",null,"Substance Direct Entry"]
["IAEG000389","13446-73-6","236-602-7","Dirubidium dichromate","","R1;D1","2019-01-24","2019-01-24",null,"Substance Direct Entry"]
["IAEG000390","13453-35-5","236-626-8","Dithallium dichromate","","R1;D1","2019-01-24","2019-01-24",null,"Substance Direct Entry"]
["IAEG000391","13454-78-9","236-640-4","Dicesium chromate","","R1;D1","2017-08-14","2017-08-14",null,"Substance Direct Entry"]
["IAEG000393","13473-75-1","236-750-2","Dithallium chromate","","R1;D1","2019-01-24","2019-01-24",null,"Substance Direct Entry"]
["IAEG000394","13477-01-5","236-761-2","Barium dichromate","","R1;D1","2017-08-14","2017-08-14",null,"Substance Direct Entry"]
["IAEG000396","13548-42-0","236-922-7","Copper chromate","","R1;D1","2019-01-24","2019-01-24",null,"Substance Direct Entry"]
["IAEG000398","13843-81-7","237-567-0","Lithium dichromate","","R1;D1","2019-01-24","2019-01-24",null,"Substance Direct Entry"]
["IAEG000399","14307-33-6","238-243-1","Calcium dichromate","","R1;D1","2017-08-14","2017-08-14",null,"Substance Direct Entry"]
["IAEG000400","14307-35-8","238-244-7","Lithium chromate","","R1;D1","2017-08-14","2017-08-14",null,"Substance Direct Entry"]
["IAEG000402","18454-12-1","242-339-9","Dilead chromate oxide","","R1;D1;I","2017-08-14","2023-01-27",null,"Substance Direct Entry"]
["IAEG000405","34493-01-1","252-062-5","Dichromic acid, sodium salt","","R1;D1","2020-01-16","2020-01-16",null,"Substance Direct Entry"]
["IAEG000407","41189-36-0","255-252-6","Chromic acid, potassium zinc salt","","R1;D1","2020-01-16","2020-01-16",null,"Substance Direct Entry"]
["IAEG000408","50922-29-7","256-848-9","Chromium zinc oxide","","R1;D1;I","2017-08-14","2023-01-27",null,"Substance Direct Entry"]
["IAEG000409","54991-58-1","No EC available","Chromic acid, aluminium salt","","R1;D1","2017-08-14","2017-08-14",null,"Substance Direct Entry"]
["IAEG000415","75578-75-5","No EC available","Phenazinium, 3-[[7-[(4-aminophenyl)amino]-5-phenylphenazinium-3-yl]amino]-5-phenyl-7-[[5-phenyl-7-(phenylamino)phenazinium-3-yl]amino]-, salt with chromic acid (H2Cr2O7) (2:3)","","R1;D1","2017-08-14","2017-08-14",null,"Substance Direct Entry"]
["IAEG000416","7784-01-2","232-043-8","Silver chromate","","R1;D1","2017-08-14","2017-08-14",null,"Substance Direct Entry"]
["IAEG000424","94232-45-8","303-973-2","Dichromic acid, potassium sodium salt","","R1;D1","2017-08-14","2017-08-14",null,"Substance Direct Entry"]
["IAEG000428","11113-70-5","234-347-6","Silicic acid, chromium lead salt","","R1;D1;I","2017-08-14","2023-01-27",null,"Substance Direct Entry"]
["IAEG000429","12017-86-6","234-628-3","Dilead chromate dihydroxide","Lead chromate hydroxide (Pb2(CrO4)(OH)2)","R1;D1;I","2020-01-16","2023-01-27",null,"Substance Direct Entry"]
["IAEG000432","68891-96-3","272-586-8","Glycine, N-ethyl-N-[(heptadecafluorooctyl)sulfonyl]-, chromium complex","","R1;R2;D1;I","2019-01-24","2023-01-27",null,"Substance Direct Entry"]
["IAEG000433","13530-65-9","236-878-9","Zinc chromate","Chromic acid, zinc salt (1:1)","R1;R2;D1;I","2015-03-17","2023-01-27",null,"Substance Direct Entry"]
["IAEG000434","14018-95-2","237-843-0","Chromic acid, zinc salt (1:1)","","R1;D1","2019-01-24","2019-01-24",null,"Substance Direct Entry"]
["IAEG000435","149564-65-8","414-290-5","Trilithium bis(4-((4-(diethylamino)-2-hydroxyphenyl)azo)-3-hydroxy-1-naphthalenesulfonato(3-))chromate(3-)","","R1;R2;D1","2020-01-16","2020-01-16","100.101.341","Substance Direct Entry"]
["IAEG000436","10294-40-3","233-660-5","Barium chromate","","R1;D1","2015-03-17","2017-08-14","100.030.587","Substance Direct Entry"]
["IAEG000439","18540-29-9","No EC available","Chromium (VI)","Hexavalent chromium","R1;D1","2015-03-17","2017-08-14",null,"Substance Direct Entry"]
["IAEG000440","14986-48-2","No EC available","Chromium (VI) chloride","","R1;D1","2019-01-24","2019-01-24",null,"Substance Direct Entry"]
["IAEG000441","1328-67-2","No EC available","Basic zinc chromate","","R1;D1","2017-08-14","2017-08-14",null,"Substance Direct Entry"]
["IAEG000442","15930-94-6","No EC available","Zinc chromate hydroxide","","R1;D1","2020-01-16","2020-01-16",null,"Substance Direct Entry"]
["IAEG000443","37300-23-5","No EC available","Zinc yellow (Zinc chromate pigment)","","R1;D1;I","2017-08-14","2023-01-27",null,"Substance Direct Entry"]
["IAEG000444","11115-74-5","No EC available","Dihydroxy-dioxo-chromium","","R1;D1","2019-01-24","2019-01-24",null,"Substance Direct Entry"]
["IAEG000445","11119-70-3","No EC available","Chromium lead oxide","","R1;D1;I","2017-08-14","2023-01-27",null,"Substance Direct Entry"]
["IAEG000448","116565-73-2","No EC available","Lead sulfomolybdochromate, silica encapsulated","","R1;D1;I","2019-01-24","2023-01-27",null,"Substance Direct Entry"]
["IAEG000451","37224-57-0","609-358-8","Zinc potassium chromate","Chromium potassium zinc oxide","R1;D1","2020-01-16","2020-01-16",null,"Substance Direct Entry"]
["IAEG000452","72869-85-3","276-955-4","Chromate(1-), bis[3,5-bis(1,1-dimethylethyl) -2-hydroxybenzoato(2-)-O1,O2]-, hydrogen","","R1;D1","2017-08-14","2017-08-14",null,"Substance Direct Entry"]
["IAEG000454","97692-41-6","307-694-7","Sodium [mu-[4-[[5-[(5-chloro-2-hydroxyphenyl)azo]-2,4-dihydroxyphenyl]azo]-3-hydroxy-7-nitronaphthalene-1-sulphonato(5-)]]dihydroxydichromate(1-)","","R1;D1","2017-08-14","2017-08-14",null,"Substance Direct Entry"]
["IAEG000458","26299-14-9","247-595-5","Pyridinium chlorochromate","","R1;D1","2017-08-14","2017-08-14",null,"Substance Direct Entry"]
["IAEG000464","93962-87-9","300-727-6","Dihydrogen [mu-[[2,2'-[vinylenebis[(3-sulpho-4,1-phenylene)imino(6-chloro-1,3,5-triazine-4,2-diyl)imino(1-hydroxy-3-sulphonaphthalene-6,2-diyl)azo]]bis[benzoato]](8-)]]dichromate(2-)","","R1;D1","2017-08-14","2017-08-14",null,"Substance Direct Entry"]
["IAEG000467","68141-02-6","268-824-5","Chromium(3+) perfluorooctanoate","Octanoic acid, 2,2,3,3,4,4,5,5,6,6,7,7,8,8,8- pentadecafluoro-, chromium(3+)","R1;R2;D1;I","2017-08-14","2023-01-27",null,"Substance Direct Entry"]
["IAEG000470","13907-45-4","No EC available","Chromate (CrO42-)","","R1;D1","2017-08-14","2017-08-14",null,"Substance Direct Entry"]
["IAEG000475","92203-02-6","No EC available","Phosphoric acid, reaction products with aluminum hydroxide and chromium oxide (CrO3)","","R1;D1","2017-08-14","2017-08-14",null,"Substance Direct Entry"]
["IAEG000476","92203-03-7","No EC available","Phosphoric acid, reaction products with aluminum hydroxide, chromium oxide (CrO3) and diethanolamine","","R1;D1","2017-08-14","2017-08-14",null,"Substance Direct Entry"]
["IAEG000477","94933-05-8","No EC available","Chromate(3-), bis[2-[2-[2-(hydroxy-.kappa.O)-4-hydroxy-3-[2-(5-sulfo-1-naphthalenyl)diazenyl-.kappa.N1]phenyl]diazenyl]benzoato(3-)-.kappa.O]-, sodium (1:3)","","R1;R2;D1","2017-08-14","2017-08-14","100.224.919 (EC: 700-942-9); 100.100.234 (EC: 400-320-4)","Substance Direct Entry"]
["IAEG000492","10031-16-0","No EC available","Barium dichromate","","R1;D1","2017-08-14","2017-08-14",null,"Substance Direct Entry"]
["IAEG000494","13907-47-6","No EC available","Bichromate","Bichromic acid","R1;D1","2017-08-14","2017-08-14",null,"Substance Direct Entry"]
["IAEG000500","81121-61-1","632-855-6","4-(Dimethylamino)Pyridinium Chlorochromate","","R1;D1","2017-08-14","2017-08-14",null,"Substance Direct Entry"]
["IAEG000501","83042-08-4","No EC available","Pyridinium Fluorochromate","","R1;D1","2017-08-14","2017-08-14",null,"Substance Direct Entry"]
["IAEG000503","89952-87-4","No EC available","Tetrakis(Pyridine)Silver(I) Dichromate","","R1;D1","2017-08-14","2017-08-14",null,"Substance Direct Entry"]
["IAEG000509","1511-62-2","216-149-1","Bromodifluoromethane (HBFC-22 B1)","","R1;R2;D1","2019-01-24","2019-01-24",null,"Substance Direct Entry"]
["IAEG000512","1868-53-7","No EC available","Dibromofluoromethane (HBFC-21 B2)","","R1;R2;D1","2015-03-17","2015-03-17",null,"Substance Direct Entry"]
["IAEG000513","1871-72-3","No EC available","1-Bromo-2-fluoropropane (HBFC-271 B1)","","R1;R2;D1","2019-01-24","2019-01-24",null,"Substance Direct Entry"]
["IAEG000526","354-04-1","206-543-1","1,2-Dibromo-1,1,2-trifluoroethane (HBFC-123 B2)","","R1;R2;D1","2019-01-24","2019-01-24",null,"Substance Direct Entry"]
["IAEG000529","358-97-4","206-621-5","1,2-Dibromo-1-fluoroethane (HBFC-141 B2)","","R1;R2;D1","2019-01-24","2019-01-24",null,"Substance Direct Entry"]
["IAEG000535","373-52-4","481-800-0","Bromofluoromethane (HBFC-31 B1)","","R1;R2;D1","2019-01-24","2019-01-24","100.105.335","Substance Direct Entry"]
["IAEG000538","421-06-7","207-001-7","2-Bromo-1,1,1-trifluoroethane (HBFC-133 B1)","","R1;R2;D1","2019-01-24","2019-01-24",null,"Substance Direct Entry"]
["IAEG000572","75372-14-4","No EC available","1,2,3-Tribromo-1-fluoropropane","Tribromofluoropropane (HBFC-251 B3)","R1;R2;D1","2019-01-24","2019-01-24",null,"Substance Direct Entry"]
["IAEG000573","75-82-1","200-905-2","1,2-Dibromo-1,1-difluoroethane","Dibromodifluoroethane (HBFC-132 B2)","R1;R2;D1","2019-01-24","2019-01-24",null,"Substance Direct Entry"]
["IAEG000574","762-49-2","212-100-3","Bromofluoroethane (HBFC-151 B1)","","R1;R2;D1","2019-01-24","2019-01-24",null,"Substance Direct Entry"]
["IAEG000586","353-97-9","No EC available","Tribromodifluoroethane (HBFC-122 B3)","Ethane, 1,1,2-tribromo-1,2-difluoro-","R1;R2;D1","2019-01-24","2019-01-24",null,"Substance Direct Entry"]
["IAEG000598","679-94-7","No EC available","Bromopentafluoropropane (HBFC-235 B1)","1-Bromo-1,2,2,3,3-pentafluoropropane","R1;R2;D1","2017-08-14","2017-08-14",null,"Substance Direct Entry"]
["IAEG000618","461-49-4","No EC available","Bromodifluoropropane (HBFC-262 B1)","Propane, 3-bromo-1,1-difluoro-","R1;R2;D1","2019-01-24","2019-01-24",null,"Substance Direct Entry"]
["IAEG000647","1765-40-8","217-182-4","Alpha-bromo-2,3,4,5,6-pentafluorotoluene","","R1;R2","2017-08-14","2017-08-14",null,"Substance Direct Entry"]
["IAEG000652","460-00-4","207-300-2","1-bromo-4-fluorobenzene","","R1;R2;I","2017-08-14","2023-01-27","100.006.638","Substance Direct Entry"]
["IAEG000653","1073-06-9","214-023-0","1-bromo-3-fluorobenzene","","R1;R2","2017-08-14","2017-08-14","100.012.749","Substance Direct Entry"]
["IAEG000658","401-78-5","206-932-6","3-bromo-alpha,alpha,alpha-trifluorotoluene","3-bromo-alpha,alpha,alpha-trifluorotoluene","R1;R2","2023-01-27","2023-01-27",null,"Substance Direct Entry"]
["IAEG000684","1514-82-5","627-872-0","2-bromo-3,3,3-trifluoroprop-1-ene","","R1;R2;D1","2017-08-14","2017-08-14","100.156.193","Substance Direct Entry"]
["IAEG000709","656-57-5","No EC available","1-Bromo-2-Fluorocyclohexane","","R1;R2","2017-08-14","2017-08-14",null,"Substance Direct Entry"]
["IAEG000711","7617-93-8","676-876-9","1-Bromo-2,5-Bis(Trifluoromethyl)Benzene","","R1;R2","2017-08-14","2017-08-14",null,"Substance Direct Entry"]
["IAEG000715","875664-38-3","No EC available","2-Bromo-4,5-Difluorotoluene","","R1;R2","2020-01-16","2020-01-16",null,"Substance Direct Entry"]
["IAEG000716","886509-99-5","No EC available","2-Bromo-4-(Difluoromethyl)-1-Fluorobenzene","","R1;R2","2020-01-16","2020-01-16",null,"Substance Direct Entry"]
["IAEG000717","92814-00-1","No EC available","1-Bromomethyl-4-Methyl-2,3,5,6-Tetrafluorobenzene","","R1;R2","2020-01-16","2020-01-16",null,"Substance Direct Entry"]
["IAEG000720","75-45-6","200-871-9","Chlorodifluoromethane (HCFC-22)","","R1;R2;D1","2015-03-17","2015-03-17","100.000.793","Substance Direct Entry"]
["IAEG000721","75-68-3","200-891-8","1-Chloro-1,1-difluoroethane (HCFC-142b)","","R1;R2;D1","2015-03-17","2015-03-17","100.000.811","Substance Direct Entry"]
["IAEG000722","98-56-6","202-681-1","4-chloro-alpha,alpha,alpha-trifluorotoluene","","R1;R2","2017-08-14","2017-08-14","100.002.438","Substance Direct Entry"]
["IAEG000723","306-83-2","206-190-3","2,2-Dichloro-1,1,1-trifluoroethane","1,1-Dichloro-2,2,2-trifluoroethane (HCFC-123)","R1;R2;D1","2015-03-17","2015-03-17","100.005.629","Substance Direct Entry"]
["IAEG000786","230956-35-1","No EC available","Propane, 2-chloro-1,1,1,2,3-pentafluoro-","","R1;R2","2020-01-16","2020-01-16",null,"Substance Direct Entry"]
["IAEG000791","2837-89-0","220-629-6","2-Chloro-1,1,1,2-tetrafluoroethane (HCFC-124)","","R1;R2;D1","2017-08-14","2017-08-14",null,"Substance Direct Entry"]
["IAEG000804","354-21-2","206-548-9","1,2,2-Trichloro-1,1-difluoroethane (HCFC-122)","","R1;R2;D1","2019-01-24","2019-01-24",null,"Substance Direct Entry"]
["IAEG000805","354-23-4","206-549-4","1,2-Dichloro-1,1,2-trifluoroethane (HCFC-123a)","","R1;R2","2021-02-02","2021-02-02",null,"Substance Direct Entry"]
["IAEG000806","354-25-6","206-552-0","1-Chloro-1,1,2,2-tetrafluoroethane (HCFC-124a)","","R1;R2;D1","2017-08-14","2017-08-14",null,"Substance Direct Entry"]
["IAEG000807","359-28-4","No EC available","1,1,2-Trichloro-2-fluoroethane (HCFC-131)","","R1;R2;D1","2019-01-24","2019-01-24",null,"Substance Direct Entry"]
["IAEG000842","422-51-5","No EC available","Propane, 1,1,1-trichloro-2,2,3,3-tetrafluoro-","","R1;R2","2020-01-16","2020-01-16",null,"Substance Direct Entry"]
["IAEG000847","422-56-0","207-016-9","3,3-Dichloro-1,1,1,2,2-pentafluoropropane  (HCFC-225ca)","","R1;R2;D1","2015-03-17","2015-03-17",null,"Substance Direct Entry"]
["IAEG000872","460-69-5","No EC available","3,3-Dichloro-1,1,1-trifluoropropane (HCFC-243fa)","","R1;R2;D1","2020-01-16","2020-01-16",null,"Substance Direct Entry"]
["IAEG000877","507-55-1","208-076-9","1,3-Dichloro-1,1,2,2,3-pentafluoropropane  (HCFC-225cb)","","R1;R2;D1","2015-03-17","2015-03-17",null,"Substance Direct Entry"]
["IAEG000888","593-70-4","209-803-2","Chlorofluoromethane (HCFC-31)","","R1;R2;D1","2019-01-24","2019-01-24",null,"Substance Direct Entry"]
["IAEG000905","7125-83-9","No EC available","1,1,1-Trichloro-3,3,3-trifluoropropane (HCFC-233fb)","","R1;R2","2017-08-14","2017-08-14",null,"Substance Direct Entry"]
["IAEG000911","7126-06-9","No EC available","Propane, 1,1,2,2-tetrachloro-1-fluoro-","","R1;R2","2020-01-16","2020-01-16",null,"Substance Direct Entry"]
["IAEG000915","75-43-4","200-869-8","Dichlorofluoromethane (HCFC-21)","","R1;R2;D1","2017-08-14","2017-08-14",null,"Substance Direct Entry"]
["IAEG000916","75-88-7","200-912-0","2-Chloro-1,1,1-trifluoroethane","Chloro-1,1,1-trifluoroethane (HCFC-133a)","R1;R2;D1","2015-03-17","2015-03-17",null,"Substance Direct Entry"]
["IAEG000929","83124-57-6","No EC available","Propane, 3-chloro-1,1-difluoro-","","R1;R2","2020-01-16","2020-01-16",null,"Substance Direct Entry"]
["IAEG000934","1717-00-6","404-080-1","1,1-Dichloro-1-fluoroethane (HCFC-141b)","","R1;R2;D1","2015-03-17","2015-03-17","100.100.575","Substance Direct Entry"]
["IAEG000953","134190-50-4","No EC available","Chlorotetrafluoropropane (HCFC-244)","","R1;R2;D1","2019-01-24","2019-01-24",null,"Substance Direct Entry"]
["IAEG000961","475-26-3","207-493-3","Benzene, 1,1'-(2,2,2-trichloroethylidene)bis[4-fluoro-","","R1;R2","2017-08-14","2017-08-14",null,"Substance Direct Entry"]
["IAEG001001","352-33-0","206-521-1","1-chloro-4-fluorobenzene","","R1;R2","2017-08-14","2017-08-14",null,"Substance Direct Entry"]
["IAEG001010","402-42-6","206-942-0","P-fluoro-alpha,alpha,alpha-trichlorotoluene","","R1;R2","2017-08-14","2017-08-14",null,"Substance Direct Entry"]
["IAEG001015","348-51-6","206-476-8","1-chloro-2-fluorobenzene","","R1;R2","2020-01-16","2020-01-16",null,"Substance Direct Entry"]
["IAEG001021","88-16-4","201-805-1","2-chloro-alpha,alpha,alpha-trifluorotoluene","","R1;R2","2017-08-14","2017-08-14",null,"Substance Direct Entry"]
["IAEG001028","98-15-7","202-642-9","3-chloro-alpha,alpha,alpha-trifluorotoluene","","R1;R2","2017-08-14","2017-08-14","100.002.403","Substance Direct Entry"]
["IAEG001034","328-84-7","206-337-1","3,4-dichloro-alpha,alpha,alpha-trifluorotoluene","","R1;R2","2017-08-14","2017-08-14","100.005.762","Substance Direct Entry"]
["IAEG001051","102687-65-0","No EC available","1-Propene, 1-chloro-3,3,3-trifluoro-, (1E)-","","R1;R2","2017-08-14","2017-08-14","100.149.148","Substance Direct Entry"]
["IAEG001062","52181-51-8","No EC available","Chlorobenzotrifluoride","Benzene, chloro(trifluoromethyl)-","R1;R2","2017-08-14","2017-08-14",null,"Substance Direct Entry"]
["IAEG001067","1835-61-6","No EC available","3-Chloro-1,2,4,5-Tetrafluorobenzene","","R1;R2","2017-08-14","2017-08-14",null,"Substance Direct Entry"]
["IAEG001068","2106-40-3","No EC available","1-Chloro-2,4,6-Trifluorobenzene","","R1;R2","2017-08-14","2017-08-14",null,"Substance Direct Entry"]
["IAEG001070","2368-53-8","No EC available","1,3-Dichloro-2,4,6-Trifluorobenzene","","R1;R2","2017-08-14","2017-08-14",null,"Substance Direct Entry"]
["IAEG001071","348-59-4","No EC available","2,5-Dichlorofluorobenzene","","R1;R2","2017-08-14","2017-08-14",null,"Substance Direct Entry"]
["IAEG001072","38361-37-4","No EC available","2-Chloro-1,3-Difluorobenzene","","R1;R2","2020-01-16","2020-01-16",null,"Substance Direct Entry"]
["IAEG001073","6186-91-0","No EC available","3-Chloro-2-Fluoroprop-1-Ene","","R1;R2","2017-08-14","2017-08-14",null,"Substance Direct Entry"]
["IAEG001075","696-02-6","No EC available","1-Chloro-3,4-Difluorobenzene","4-Chloro-1,2-Difluorobenzene","R1;R2","2020-01-16","2020-01-16",null,"Substance Direct Entry"]
["IAEG001076","93286-22-7","No EC available","2-Chloro-4-Fluorobenzyl Chloride","2-Chloro-1-(Chloromethyl)-4-Fluorobenzene","R1;R2","2020-01-16","2020-01-16",null,"Substance Direct Entry"]
["IAEG001077","75-02-5","200-832-6","Vinyl fluoride","Fluoroethylene","R1;R2","2015-03-17","2017-08-14","100.000.757","Substance Direct Entry"]
["IAEG001078","75-10-5","200-839-4","Difluoromethane (HFC-32)","","R1;R2;D1","2015-03-17","2015-03-17","100.000.764","Substance Direct Entry"]
["IAEG001079","75-37-6","200-866-1","1,1-Difluoroethane (HFC-152a)","","R1;R2;D1","2015-03-17","2015-03-17","100.000.788","Substance Direct Entry"]
["IAEG001080","75-38-7","200-867-7","1,1-Difluoroethylene","","R1;R2","2017-08-14","2017-08-14","100.000.789","Substance Direct Entry"]
["IAEG001081","354-33-6","206-557-8","Pentafluoroethane (HFC-125)","","R1;R2;D1","2015-03-17","2015-03-17","100.005.962","Substance Direct Entry"]
["IAEG001082","420-46-2","206-996-5","1,1,1-Trifluoroethane (HFC-143a)","","R1;R2;D1","2015-03-17","2015-03-17","100.006.361","Substance Direct Entry"]
["IAEG001083","431-89-0","207-079-2","1,1,1,2,3,3,3-Heptafluoropropane (HFC-227ea)","","R1;R2;D1","2015-03-17","2015-03-17","100.006.437","Substance Direct Entry"]
["IAEG001084","811-97-2","212-377-0","Norflurane","1,1,1,2-Tetrafluoroethane (HFC-134a)","R1;R2;D1","2015-03-17","2015-03-17","100.011.252","Substance Direct Entry"]
["IAEG001085","75-46-7","200-872-4","Trifluoromethane (HFC-23)","","R1;R2;D1","2015-03-17","2015-03-17","100.000.794","Substance Direct Entry"]
["IAEG001087","462-06-6","207-321-7","Fluorobenzene","","R1;R2","2017-08-14","2017-08-14","100.006.657","Substance Direct Entry"]
["IAEG001088","98-08-8","202-635-0","Alpha,alpha,alpha-trifluorotoluene","Benzotrifluoride","R1;R2","2017-08-14","2017-08-14","100.002.396","Substance Direct Entry"]
["IAEG001089","406-58-6","430-250-1","1,1,1,3,3-Pentafluorobutane (HFC-365mfc)","SOLKANE 365 MFC","R1;R2;D1","2015-03-17","2015-03-17","100.102.859","Substance Direct Entry"]
["IAEG001090","15290-77-4","430-710-1","1,1,2,2,3,3,4-Heptafluorocyclopentane","","R1;R2;D1","2017-08-14","2017-08-14","100.102.902","Substance Direct Entry"]
["IAEG001093","431-63-0","207-076-6","1,1,1,2,3,3-Hexafluoropropane (HFC-236ea)","","R1;R2;D1","2020-01-16","2020-01-16",null,"Substance Direct Entry"]
["IAEG001094","359-35-3","206-628-3","1,1,2,2-Tetrafluoroethane (HFC-134)","","R1;R2;D1","2020-01-16","2020-01-16",null,"Substance Direct Entry"]
["IAEG001095","430-66-0","207-066-1","1,1,2-Trifluoroethane (HFC-143)","","R1;R2;D1","2020-01-16","2020-01-16",null,"Substance Direct Entry"]
["IAEG001097","25497-28-3","No EC available","Difluoroethane","","R1;R2","2017-08-14","2017-08-14",null,"Substance Direct Entry"]
["IAEG001099","593-53-3","209-796-6","Fluoromethane","Methyl fluoride (HFC-41)","R1;R2;D1","2015-03-17","2015-03-17","100.008.907","Substance Direct Entry"]
["IAEG001101","138495-42-8","No EC available","1,1,1,2,2,3,4,5,5,5-Decafluoropentane (HFC-43-10mee)","","R1;R2;D1","2015-03-17","2015-03-17","100.101.932","Substance Direct Entry"]
["IAEG001102","690-39-1","No EC available","1,1,1,3,3,3-Hexafluoropropane (HFC-236fa)","","R1;R2;D1","2015-03-17","2015-03-17","100.102.378","Substance Direct Entry"]
["IAEG001105","754-12-1","468-710-7","2,3,3,3-Tetrafluoropropene","Polyhaloalkene","R1;R2;D1","2020-01-16","2020-01-16","100.104.879","Substance Direct Entry"]
["IAEG001106","677-56-5","No EC available","1,1,1,2,2,3-Hexafluoropropane (HFC-236cb)","","R1;R2;D1","2020-01-16","2020-01-16",null,"Substance Direct Entry"]
["IAEG001107","679-86-7","No EC available","1,1,2,2,3-Pentafluoropropane (HFC-245ca)","","R1;R2;D1","2020-01-16","2020-01-16",null,"Substance Direct Entry"]
["IAEG001108","460-73-1","419-170-6","1,1,1,3,3-Pentafluoropropane (HFC-245fa)","","R1;R2;D1","2015-03-17","2015-03-17","100.101.793","Substance Direct Entry"]
["IAEG001125","363-72-4","206-658-7","Pentafluorobenzene","","R1;R2","2017-08-14","2017-08-14",null,"Substance Direct Entry"]
["IAEG001132","540-36-3","208-742-9","1,4-difluorobenzene","","R1;R2","2017-08-14","2017-08-14",null,"Substance Direct Entry"]
["IAEG001144","321-38-0","206-287-0","1-fluoronaphthalene","","R1;R2","2017-08-14","2017-08-14","100.005.717","Substance Direct Entry"]
["IAEG001153","30389-25-4","250-173-3","3,3,4,4,5,5,6,6,7,7,8,8,9,9,10,10,11,11,12,12,12-henicosafluorododecene","3,3,4,4,5,5,6,6,7,7,8,8,9,9,10,10,11,11,12,12,12-henicosafluorododecene","R1;R2","2023-01-27","2023-01-27",null,"Substance Direct Entry"]
["IAEG001174","25291-17-2","246-791-8","3,3,4,4,5,5,6,6,7,7,8,8,8-tridecafluorooct-1-ene","","R1;R2;D1","2017-08-14","2017-08-14","100.042.523","Substance Direct Entry"]
["IAEG001180","402-31-3","206-939-4","Alpha,alpha,alpha,beta,beta,beta-hexafluoro-m-xylene","","R1;R2","2017-08-14","2017-08-14","100.006.310","Substance Direct Entry"]
["IAEG001197","1763-21-9","217-178-2","3,3,4,4-tetrafluorohexa-1,5-diene","","R1;R2","2020-01-16","2020-01-16",null,"Substance Direct Entry"]
["IAEG001199","692-49-9","700-651-7","(2Z)-1,1,1,4,4,4-hexafluorobut-2-ene",null,"R1;R2;D1","2022-02-17","2022-02-17","100.217.885","Substance Direct Entry"]
["IAEG001204","29118-24-9","No EC available","1-Propene, 1,3,3,3-tetrafluoro-, (1E)-","","R1;R2","2017-08-14","2017-08-14",null,"Substance Direct Entry"]
["IAEG001234","1645-83-6","No EC available","(E)-1,3,3,3-Tetrafluoroprop-1-ene ((E)-HFC-1234ze)","","R1;R2;D1","2017-08-14","2017-08-14","100.104.972","Substance Direct Entry"]
["IAEG001277","374-77-6","No EC available","Cyclohexane,1,1,2,2,3,4,4,5,5,6-decafluoro-3,6-bis(trifluoromethyl)-","","R1;R2","2020-01-16","2020-01-16",null,"Substance Direct Entry"]
["IAEG001284","142347-07-7","No EC available","Pentane, 1,1,1,2,2,3,4,5,5,5-decafluoro-, (3R,4R)-","","R1;R2","2017-08-14","2017-08-14",null,"Substance Direct Entry"]
["IAEG001327","729-81-7","No EC available","1,3,5-Tris(Trifluoromethyl)Benzene","1,3,5-Tris(Trifluoromethyl)Benzene; 1,3,5-Tris(Trifluoromethyl)Benzene; 1,3,5-Tris(Trifluoromethyl)Benzene","R1;R2","2017-08-14","2017-08-14",null,"Substance Direct Entry"]
["IAEG001332","87458-21-7","No EC available","Pentafluoroethane-D1","","R1;R2","2020-01-16","2020-01-16",null,"Substance Direct Entry"]
["IAEG001339","7439-97-6","231-106-7","Mercury (Hg)","","R1;R2;D1","2015-03-17","2017-08-14","100.028.278","Substance Direct Entry"]
["IAEG001340","10112-91-1","233-307-5","Dimercury dichloride","","R1;R2;D1;I","2017-08-14","2023-01-27",null,"Substance Direct Entry"]
["IAEG001341","100-57-2","202-866-7","Phenylmercuric hydroxide","","R1;R2;D1;I","2017-08-14","2023-01-27",null,"Substance Direct Entry"]
["IAEG001346","21908-53-2","244-654-7","Mercury monoxide","Mercury oxide; Mercuric oxide","R1;R2;D1;I","2017-08-14","2023-01-27",null,"Substance Direct Entry"]
["IAEG001360","62-38-4","200-532-5","Phenylmercury acetate","Phenylmercuric acetate","R1;R2;D1;I","2015-03-17","2023-01-27",null,"Substance Direct Entry"]
["IAEG001361","7487-94-7","231-299-8","Mercury dichloride","Mercuric chloride","R1;R2;D1;I","2015-03-17","2023-01-27",null,"Substance Direct Entry"]
["IAEG001362","7546-30-7","231-430-9","Mercury chloride","Mercurous chloride; Calomel","R1;R2;D1;I","2017-08-14","2023-01-27",null,"Substance Direct Entry"]
["IAEG001365","103-27-5","203-094-3","Phenylmercury propionate","Phenylmercuric propionate; Phenyl(propanoato-O)mercury","R1;R2;D1;I","2015-03-17","2023-01-27",null,"Substance Direct Entry"]
["IAEG001367","104-60-9","203-218-6","Mercury, (9-octadecenoato-O)phenyl-, (Z)-","","R1;R2;D1;I","2017-08-14","2023-01-27",null,"Substance Direct Entry"]
["IAEG001379","129-16-8","204-933-6","Merbromin","Mercury, (2',7'-dibromo-3',6'-dihydroxy-3-oxospiro[isobenzofuran-1(3H),9'-[9H]xanthen]-4'-yl)hydroxy-, disodium salt","R1;R2;D1;I","2017-08-14","2023-01-27","100.004.486","Substance Direct Entry"]
["IAEG001385","13302-00-6","236-326-7","Phenylmercury 2-ethylhexanoate","(2-Ethylhexanoato)phenylmercury","R1;R2;D1;I","2015-03-17","2023-01-27",null,"Substance Direct Entry"]
["IAEG001399","1600-27-7","216-491-1","Mercury di(acetate)","Mercuric acetate; Acetic acid, mercury(2+) salt","R1;R2;D1;I","2017-08-14","2023-01-27",null,"Substance Direct Entry"]
["IAEG001419","24806-32-4","No EC available","Mercury, [.mu.-[dodecylbutanedioato(2-)-O:O']]diphenyldi-","","R1;R2;D1;I","2017-08-14","2023-01-27",null,"Substance Direct Entry"]
["IAEG001420","26545-49-3","247-783-7","Phenylmercury neodecanoate ","(Neodecanoato-O)phenylmercury","R1;R2;D1;I","2015-03-17","2023-01-27",null,"Substance Direct Entry"]
["IAEG001424","27236-65-3","248-355-2","Mercury, diphenyl[.mu.-[(tetrapropenyl)butanedioato(2-)-O:O']]di-","","R1;R2;D1;I","2017-08-14","2023-01-27",null,"Substance Direct Entry"]
["IAEG001440","33770-60-4","251-672-9","2,5-Cyclohexadiene-1,4-dione, 2,5-dichloro-3,6-dihydroxy-, mercury(2+) salt (1:1)","","R1;R2;D1;I","2017-08-14","2023-01-27",null,"Substance Direct Entry"]
["IAEG001442","3570-80-7","222-673-1","Bis(acetato-O)[mu-(3',6'-dihydroxy-3-oxospiro[isobenzofuran-1(3H),9'-[9H]xanthene]-2',7'-diyl)]dimercury","","R1;R2;D1;I","2017-08-14","2023-01-27",null,"Substance Direct Entry"]
["IAEG001459","54-64-8","200-210-4","Thiomersal","Mercurate(1-), ethyl(2-mercaptobenzoato(2-)-O,S)-,sodium; Phenylethylmercuric salicylate","R1;R2;D1;I","2017-08-14","2023-01-27",null,"Substance Direct Entry"]
["IAEG001460","55728-51-3","259-779-2","(2',7'-dibromo-3',6'-dihydroxy-3-oxospiro[isobenzofuran-1(3H),9'-[9H]xanthen]-4'-yl)hydroxymercury","","R1;R2;D1;I","2021-02-02","2023-01-27",null,"Substance Direct Entry"]
["IAEG001480","62638-02-2","263-665-8","Cyclohexanebutanoic acid, mercury(2+) salt","","R1;R2;D1;I","2017-08-14","2023-01-27",null,"Substance Direct Entry"]
["IAEG001504","94070-93-6","301-792-3","Mercury, [.mu.-[(oxydi-2,1-ethanediyl 1,2-benzenedicarboxylato)(2-)]]diphenyl-","","R1;R2;D1;I","2017-08-14","2023-01-27",null,"Substance Direct Entry"]
["IAEG001510","13864-38-5","No EC available","Phenylmercury octanoate","Phenylmercuric octanoate","R1;R2;D1;I","2020-01-16","2023-01-27",null,"Substance Direct Entry"]
["IAEG001519","33445-15-7","251-524-3","Diammonium tetrachloromercurate","","R1;R2;D1;I","2020-01-16","2023-01-27",null,"Substance Direct Entry"]
["IAEG001520","13967-25-4","237-747-9","Dimercury difluoride","","R1;R2;D1;I","2020-01-16","2023-01-27",null,"Substance Direct Entry"]
["IAEG001523","20582-71-2","No EC available","Mercurate(2-), tetrachloro-, dipotassium, (T-4)-","","R1;R2;D1;I","2020-01-16","2023-01-27",null,"Substance Direct Entry"]
["IAEG001524","13876-85-2","237-634-4","Mercurate(2-), tetraiodo-, dicopper(1+), (T-4)-","","R1;R2;D1;I","2017-08-14","2023-01-27",null,"Substance Direct Entry"]
["IAEG001525","7789-47-1","232-169-3","Mercuric bromide","","R1;R2;D1;I","2017-08-14","2023-01-27",null,"Substance Direct Entry"]
["IAEG001526","592-04-1","209-741-6","Mercuric cyanide","","R1;R2;D1;I","2017-08-14","2023-01-27",null,"Substance Direct Entry"]
["IAEG001527","7774-29-0","231-873-8","Mercuric iodide","","R1;R2;D1;I","2017-08-14","2023-01-27",null,"Substance Direct Entry"]
["IAEG001528","10045-94-0","233-152-3","Mercuric nitrate","","R1;R2;D1;I","2017-08-14","2023-01-27",null,"Substance Direct Entry"]
["IAEG001531","7783-35-9","231-992-5","Mercuric sulphate","","R1;R2;D1;I","2015-03-17","2023-01-27","100.029.083","Substance Direct Entry"]
["IAEG001532","592-85-8","209-773-0","Mercuric thiocyanate","","R1;R2;D1;I","2015-03-17","2023-01-27",null,"Substance Direct Entry"]
["IAEG001535","10415-75-5","233-886-4","Mercurous nitrate","","R1;R2;D1;I","2019-01-24","2023-01-27",null,"Substance Direct Entry"]
["IAEG001538","14836-60-3","677-693-7","Mercury (I) nitrate","","R1;R2;D1;I","2017-08-14","2023-01-27",null,"Substance Direct Entry"]
["IAEG001539","7783-34-8","No EC available","Mercury (II) nitrate, monohydrate","","R1;R2;D1;I","2017-08-14","2023-01-27",null,"Substance Direct Entry"]
["IAEG001540","68833-55-6","No EC available","Mercury acetylide","","R1;R2;D1;I","2017-08-14","2023-01-27",null,"Substance Direct Entry"]
["IAEG001542","15385-58-7","No EC available","Mercury bromide (Hg2Br2)","","R1;R2;D1;I","2017-08-14","2023-01-27",null,"Substance Direct Entry"]
["IAEG001552","1344-48-5","215-696-3","Mercury sulfide (HgS)","","R1;R2;D1;I","2015-03-17","2023-01-27",null,"Substance Direct Entry"]
["IAEG001553","12068-90-5","235-108-9","Mercury telluride (HgTe)","","R1;R2;D1;I","2017-08-14","2023-01-27",null,"Substance Direct Entry"]
["IAEG001557","7783-33-7","231-990-4","Mercury(II) potassium iodide","","R1;R2;D1;I","2020-01-16","2023-01-27",null,"Substance Direct Entry"]
["IAEG001585","7782-86-7","No EC available","Nitric acid, mercury(1+) salt, monohydrate","","R1;R2;D1;I","2017-08-14","2023-01-27",null,"Substance Direct Entry"]
["IAEG001636","6827-10-7","No EC available","Pyrazine, Mercuric Chloride Complex","","R1;R2;D1;I","2017-08-14","2023-01-27",null,"Substance Direct Entry"]
["IAEG001637","762-55-0","No EC available","Vinylmercuric Chloride","","R1;R2;D1;I","2017-08-14","2023-01-27",null,"Substance Direct Entry"]
["IAEG001638","78571-20-7","No EC available","Chlorodecylmercury","","R1;R2;D1;I","2020-01-16","2023-01-27",null,"Substance Direct Entry"]
["IAEG001639","80994-87-2","No EC available","2-Methyl-2-Phenylpropylmercuric Chloride","","R1;R2;D1;I","2020-01-16","2023-01-27",null,"Substance Direct Entry"]
["IAEG001640","823-04-1","No EC available","Phenylmercuric Iodide","","R1;R2;D1;I","2020-01-16","2023-01-27",null,"Substance Direct Entry"]
["IAEG001641","833486-99-0","No EC available","Ethyl 4,5-Bis(Chloromercuri)-2-Methyl-3-Furoate","","R1;R2;D1;I","2020-01-16","2023-01-27",null,"Substance Direct Entry"]
["IAEG001644","86086-51-3","No EC available","1,4-Bis(Acetoxymercurio)-2,3-Dimethoxybutane","","R1;R2;D1;I","2020-01-16","2023-01-27",null,"Substance Direct Entry"]
["IAEG001645","7718-54-9","231-743-0","Nickel dichloride","","I","2015-03-17","2015-03-17","100.028.858","Substance Direct Entry"]
["IAEG001646","13138-45-9","236-068-5","Nickel dinitrate","","I","2015-03-17","2015-03-17","100.032.774","Substance Direct Entry"]
["IAEG001647","7786-81-4","232-104-9","Nickel sulphate","","I","2015-03-17","2015-03-17","100.029.186","Substance Direct Entry"]
["IAEG001648","1313-99-1","215-215-7","Nickel monoxide","","I","2015-03-17","2015-03-17","100.013.833","Substance Direct Entry"]
["IAEG001649","12054-48-7","235-008-5","Nickel dihydroxide","","I","2015-03-17","2015-03-17","100.031.813","Substance Direct Entry"]
["IAEG001650","12607-70-4","235-715-9","[Carbonato(2-)]tetrahydroxytrinickel","Basic nickel carbonate","I","2015-03-17","2015-03-17","100.032.456","Substance Direct Entry"]
["IAEG001652","18718-11-1","242-522-3","Nickel bis(dihydrogen phosphate)","","I","2021-02-02","2021-02-02","100.038.641","Substance Direct Entry"]
["IAEG001653","12035-72-2","234-829-6","Trinickel disulphide","Nickel subsulphide","R2;I","2015-03-17","2023-01-27","100.031.650","Substance Direct Entry"]
["IAEG001654","11099-02-8","234-323-5","Nickel oxide","","I","2015-03-17","2015-03-17","100.031.190","Substance Direct Entry"]
["IAEG001655","68130-19-8","No EC available","Silicic acid, lead nickel salt","","R1;D1;I","2017-08-14","2023-01-27",null,"Substance Direct Entry"]
["IAEG001656","38465-55-3","253-958-9","Nickel, bis[1-[4-(dimethylamino)phenyl]-2-phenyl-1,2-ethenedithiolato(2-)-S,S']-","","R2","2020-01-16","2020-01-16",null,"Substance Direct Entry"]
["IAEG001657","182442-95-1","No EC available","Cobalt lithium manganese nickel oxide",null,"R1;R2;D1","2017-08-14","2017-08-14","100.105.301","Substance Direct Entry"]
["IAEG001661","No CAS available","No EC available","4-Nonylphenol, branched and linear","Substances with a linear and/or branched alkyl chain with a carbon number of 9 covalently bound in position 4 to phenol, covering also UVCB- and well-defined substances which include any of the individual isomers or a combination thereof","R1;R2;D1","2017-08-14","2017-08-14","100.239.149","Group Direct Entry"]
["IAEG001659","84852-15-3","284-325-5","4-Nonylphenol, branched",null,"R1;R2;D1;I","2015-03-17","2023-01-27","100.076.631","Group Member","IAEG001661"]
["IAEG001660","104-40-5","203-199-4","Nonylphenol","4-Nonylphenol (4-NP)","R1;R2;D1;I","2015-03-17","2023-01-27","100.002.909","Group Member","IAEG001661"]
["IAEG001662","26543-97-5","247-770-6","P-isononylphenol","","D1","2015-03-17","2015-03-17","100.043.412","Group Member","IAEG001661"]
["IAEG001663","17404-66-9","241-427-4","P-(1-methyloctyl)phenol","","D1","2015-03-17","2015-03-17","100.037.646","Group Member","IAEG001661"]
["IAEG001664","30784-30-6","250-339-5","P-(1,1-dimethylheptyl)phenol","","D1","2015-03-17","2015-03-17","100.045.748","Group Member","IAEG001661"]
["IAEG001665","52427-13-1","257-907-1","4-(1-ethyl-1-methylhexyl)phenol","","D1","2015-03-17","2015-03-17","100.052.625","Group Member","IAEG001661"]
["IAEG001666","186825-36-5","635-389-1","4-(1-ethyl-1,3-dimethylpentyl)phenol","","D1","2015-03-17","2015-03-17","100.163.283","Group Member","IAEG001661"]
["IAEG001667","142731-63-3","635-391-2","4-(1-ethyl-1,4-dimethylpentyl)phenol","","D1","2015-03-17","2015-03-17","100.163.285","Group Member","IAEG001661"]
["IAEG001668","24518-48-7","No EC available","4-isononyl phenol","","D1","2017-08-14","2017-08-14",null,"Group Member","IAEG001661"]
["IAEG001669","63085-63-2","No EC available","4-(2,6-dimethylheptyl)phenol","","D1","2017-08-14","2017-08-14",null,"Group Member","IAEG001661"]
["IAEG001670","17404-67-0","No EC available","3-(4-hydroxyphenyl)nonane","","D1","2017-08-14","2017-08-14",null,"Group Member","IAEG001661"]
["IAEG001671","17404-46-5","No EC available","2-(1-ethylheptyl)phenol","","D1","2017-08-14","2017-08-14",null,"Group Member","IAEG001661"]
["IAEG001672","142731-58-6","No EC available","4-(1,2-dimethylheptyl)phenol","","D1","2017-08-14","2017-08-14",null,"Group Member","IAEG001661"]
["IAEG001673","866790-13-8","No EC available","4-(1,2-dimethyl-1-propylbutyl)phenol","","D1","2017-08-14","2017-08-14",null,"Group Member","IAEG001661"]
["IAEG001674","186825-35-4","No EC available","4-(1-ethyl-1,3,3-trimethylbutyl)phenol","","D1","2017-08-14","2017-08-14",null,"Group Member","IAEG001661"]
["IAEG001675","701920-86-7","No EC available","4-(1,1,3,4-tetramethylpentyl)phenol","","D1","2017-08-14","2017-08-14",null,"Group Member","IAEG001661"]
["IAEG001676","851401-44-0","No EC available","4-(1,1,2,4-tetramethylpentyl)phenol","","D1","2017-08-14","2017-08-14",null,"Group Member","IAEG001661"]
["IAEG001677","866790-14-9","No EC available","Phenol, 4-(1-ethyl-1,2-dimethylpentyl)","","D1","2017-08-14","2017-08-14",null,"Group Member","IAEG001661"]
["IAEG001678","478243-86-6","No EC available","4-(2-ethyl-1,1-dimethylpentyl)phenol","","D1","2017-08-14","2017-08-14",null,"Group Member","IAEG001661"]
["IAEG001679","142731-59-7","No EC available","Phenol, 4-[1-(1-methylpropyl)pentyl]","","D1","2017-08-14","2017-08-14",null,"Group Member","IAEG001661"]
["IAEG001680","1119215-28-9","No EC available","(R)-4-(3,6-dimethylheptan-3-yl)phenol","","D1","2017-08-14","2017-08-14",null,"Group Member","IAEG001661"]
["IAEG001681","1158978-80-3","No EC available","4-(1-ethyl-2-methylhexyl)phenol","","D1","2017-08-14","2017-08-14",null,"Group Member","IAEG001661"]
["IAEG001682","1119216-40-8","No EC available","(S)-4-(2,3-dimethylheptan-2-yl)phenol","","D1","2017-08-14","2017-08-14",null,"Group Member","IAEG001661"]
["IAEG001683","1119215-26-7","No EC available","(R)-4-(2,3-dimethylheptan-2-yl)phenol","","D1","2017-08-14","2017-08-14",null,"Group Member","IAEG001661"]
["IAEG001684","1988-28-9","No EC available","4-(2,5-dimethylheptan-2-yl)phenol","","D1","2017-08-14","2017-08-14",null,"Group Member","IAEG001661"]
["IAEG001685","186825-37-6","No EC available","4-(1,2,4-trimethylhexyl)phenol","","D1","2017-08-14","2017-08-14",null,"Group Member","IAEG001661"]
["IAEG001686","6465-76-5","No EC available","4-(1-butylpentyl)phenol","","D1","2017-08-14","2017-08-14",null,"Group Member","IAEG001661"]
["IAEG001687","497103-56-7","No EC available","4-(2,3-dimethylheptan-2-yl)phenol","","D1","2017-08-14","2017-08-14",null,"Group Member","IAEG001661"]
["IAEG001688","6465-78-7","No EC available","4-(4-hydroxyphenyl)nonane","","D1","2017-08-14","2017-08-14",null,"Group Member","IAEG001661"]
["IAEG003074","25154-52-3","246-672-0","Nonylphenol","","R1;R2;D1;I","2015-03-17","2023-01-27","100.042.414","Group Member","IAEG001661"]
["IAEG004689","186825-39-8","635-696-0","4-(2-Ethyl-1-methylhexyl)phenol",null,"D1","2015-03-17","2015-03-17","100.163.560","Group Member","IAEG001661"]
["IAEG004691","29832-11-9","No EC available","4-Nonylphenol",null,"D1","2017-08-14","2017-08-14",null,"Group Member","IAEG001661"]
["IAEG004693","521947-27-3","635-388-6","4-(2,6-Dimethyl-2-heptyl)phenol ",null,"D1","2017-08-14","2017-08-14","100.163.282","Group Member","IAEG001661"]
["IAEG006546","68081-86-7","268-359-8","Phenol, nonyl derivs.",null,"D1","2019-01-24","2019-01-24",null,"Group Member","IAEG001661"]
["IAEG006591","11066-49-2","234-284-4","Isononylphenol",null,"R1;R2;D1","2020-01-16","2020-01-16","100.031.156","Group Member","IAEG001661"]
["IAEG006592","90481-04-2","291-844-0","Phenol, nonyl-, branched",null,"R2;D1","2020-01-16","2020-01-16","100.083.463","Group Member","IAEG001661"]
["IAEG001698","No CAS available","No EC available","4-Nonylphenol, branched and linear, ethoxylated [substances with a linear and/or branched alkyl chain with a carbon number of 9 covalently bound in position 4 to phenol, ethoxylated covering UVCB- and well-defined substances, polymers and homologues, which include any of the individual isomers and/or combinations thereof]","","R2;D1","2017-08-14","2017-08-14","100.239.148","Group Direct Entry"]
["IAEG001689","104-35-8","No EC available","2-(p-Nonylphenoxy) ethanol","Ethanol, 2-(4-nonylphenoxy)-","R2;D1","2015-03-17","2017-08-14","100.289.057","Group Member","IAEG001698"]
["IAEG001690","14409-72-4","604-395-6","4-Nonylphenolnonaethoxylate","26-(4-Nonylphenoxy)-3,6,9,12,15,18,21,24-octaoxahexacosan -1-ol; Tergitol NP 9","R2;D1","2015-03-17","2017-08-14","100.110.408","Group Member","IAEG001698"]
["IAEG001691","20427-84-3","243-816-4","2-[2-(4-Nonylphenoxy)ethoxy]ethanol","2-(2-(p-Nonylphenoxy)ethoxy) ethanol","R2;D1;I","2015-03-17","2023-01-27","100.039.818","Group Member","IAEG001698"]
["IAEG001692","26027-38-3","500-045-0","4-Nonylphenol, ethoxylated","","R2;D1;I","2015-03-17","2023-01-27","100.105.552","Group Member","IAEG001698"]
["IAEG001693","7311-27-5","230-770-5","2-[2-[2-[2-(4-Nonylphenoxy)ethoxy]ethoxy]ethoxy]ethanol","","R2;D1;I","2015-03-17","2023-01-27","100.027.972","Group Member","IAEG001698"]
["IAEG001694","20636-48-0","No EC available","Nonylphenol polyethylene glycol ether","","R2;D1","2015-03-17","2017-08-14","100.291.191","Group Member","IAEG001698"]
["IAEG001695","No CAS available","No EC available","Poly(oxy-1,2-ethanediyl), alpha-(4-nonylphenyl)-omega-hydroxy","","R2;D1","2015-03-17","2017-08-14",null,"Group Member","IAEG001698"]
["IAEG001696","32742-88-4","251-190-9","20-(4-octylphenoxy)-3,6,9,12,15,18-hexaoxaicosan-1-ol","","R2;D1","2017-08-14","2017-08-14",null,"Group Member","IAEG001698"]
["IAEG001697","27942-27-4","248-743-1","20-(4-Nonylphenoxy)-3,6,9,12,15,18-hexaoxaicosan-1-ol","","R2;D1","2015-03-17","2017-08-14","100.044.297","Group Member","IAEG001698"]
["IAEG001699","34166-38-6","No EC available","17-(4-Nonylphenoxy)-3,6,9,12,15-pentaoxaheptadecan-1-ol","","R2;D1","2015-03-17","2017-08-14","100.125.263","Group Member","IAEG001698"]
["IAEG001700","41506-14-3","No EC available","1(1-Hydroxy-4,7,10,13,16,19,22-heptaoxa)tetracosyl-4-nonylbenzol","","R2;D1","2017-08-14","2017-08-14",null,"Group Member","IAEG001698"]
["IAEG001701","260-678-0","57321-10-5","44-(4-nonylphenoxy)-3,6,9,12,15,18,21,24,27,30,33,36,39,42-tetradecaoxatetratetracontan-1-ol","","R2;D1","2017-08-14","2017-08-14",null,"Group Member","IAEG001698"]
["IAEG001702","2073-51-0","No EC available","Nonylphenol polyoxyethylene glycol (30)","","R2;D1","2017-08-14","2017-08-14",null,"Group Member","IAEG001698"]
["IAEG001703","51437-95-7","No EC available","4-n-Nonylphenol triethoxylate","","R2;D1","2017-08-14","2017-08-14",null,"Group Member","IAEG001698"]
["IAEG001704","20543-07-1","No EC available","p-n-Nonylphenoxydecaethoxyethanol","","R2;D1","2017-08-14","2017-08-14",null,"Group Member","IAEG001698"]
["IAEG001705","131890-13-6","No EC available","41-(4-nonylphenoxy)-3,6,9,12,15,18,21,24,27,30,33,36,39-tridecaoxahentetracontan-1-ol","","R2;D1","2017-08-14","2017-08-14",null,"Group Member","IAEG001698"]
["IAEG001706","131890-12-5","No EC available","38-(4-nonylphenoxy)-3,6,9,12,15,18,21,24,27,30,33,36-dodecaoxaoctatriacontan-1-ol","","R2;D1","2017-08-14","2017-08-14",null,"Group Member","IAEG001698"]
["IAEG001707","261176-82-3","No EC available","2-(2-(2-(2-(4-(Nonan-5-yl)phenoxy)ethoxy)ethoxy)ethoxy)ethan-1-ol","","R2;D1","2017-08-14","2017-08-14",null,"Group Member","IAEG001698"]
["IAEG003075","9016-45-9","500-024-6","Nonylphenol ethoxylated","","R2;D1;I","2015-03-17","2023-01-27","100.105.533","Group Member","IAEG001698"]
["IAEG003099","27177-05-5","248-293-6","23-(nonylphenoxy)-3,6,9,12,15,18,21-heptaoxatricosan-1-ol","","R2;D1;I","2015-03-17","2023-01-27","100.043.888","Group Member","IAEG001698"]
["IAEG003102","37205-87-1","609-346-2","Poly(oxy-1,2-ethanediyl), alpha-(isononylphenyl)-omega-hydroxy-","Isononylphenol-ethoxylate","R2;D1;I","2015-03-17","2023-01-27","100.130.672","Group Member","IAEG001698"]
["IAEG003209","26571-11-9","247-816-5","3,6,9,12,15,18,21,24-Octaoxahexacosan-1-ol, 26-(nonylphenoxy)-","","R2;D1;I","2015-03-17","2023-01-27","100.043.454","Group Member","IAEG001698"]
["IAEG004281","68412-54-4","500-209-1","Nonylphenol, branched, ethoxylated","2-{2-[4-(2,4,5-Trimethylhexan-3-yl)phenoxy]polyethoxy}ethanol","R2;D1","2015-03-17","2017-08-14","100.105.700","Group Member","IAEG001698"]
["IAEG004282","127087-87-0","500-315-8","4-Nonylphenol, branched, ethoxylated (1 - 2.5 moles ethoxylated)","","R2;D1","2015-03-17","2017-08-14","100.105.797","Group Member","IAEG001698"]
["IAEG004425","156609-10-8","No EC available","4-tert-Nonylphenol diethoxylate",null,"R2;D1","2017-08-14","2017-08-14","100.290.599","Group Member","IAEG001698"]
["IAEG004690","26264-02-8","247-555-7","14-(Nonylphenoxy)-3,6,9,12-tetraoxatetradecan-1-ol",null,"R2;D1","2017-08-14","2017-08-14","100.043.217","Group Member","IAEG001698"]
["IAEG005004","65455-72-3","No EC available","3,6,9,12,15,18,21,24,27-Nonaoxanonacosan-1-ol, 29-(isononylphenoxy)-","Decaethylene glycol, isononylphenyl ether","R2;D1","2023-01-27","2023-01-27","100.305.167","Group Member","IAEG001698"]
["IAEG006457","91673-24-4","294-139-6","Ethanol, 2-[2-[2-[2-(4-nonylphenoxy)ethoxy]ethoxy]ethoxy]-, branched",null,"R2;D1","2017-08-14","2017-08-14",null,"Group Member","IAEG001698"]
["IAEG006578","155679-84-8","No EC available","Ethanol, 2-[2-(4-isononylphenoxy)ethoxy]-",null,"R2;D1","2019-01-24","2019-01-24",null,"Group Member","IAEG001698"]
["IAEG008160","1119449-37-4","687-832-3","2-[4-(3,6-dimethylheptan-3-yl)phenoxy]ethanol",null,"R1;R2;D1","2020-01-16","2020-01-16","100.214.096","Group Member","IAEG001698"]
["IAEG008161","1119449-38-5","687-833-9","2-{2-[4-(3,6-dimethylheptan-3-yl)phenoxy]ethoxy}ethanol",null,"R1;R2;D1","2020-01-16","2020-01-16","100.214.097","Group Member","IAEG001698"]
["IAEG008651","No CAS available","932-998-7","Nonylphenolpolyglycolether",null,"R1;R2;D1","2021-02-02","2021-02-02","100.205.448","Group Member","IAEG001698"]
["IAEG008652","No CAS available","938-618-6","Nonylphenol, ethoxylated (polymer)",null,"R1;R2;D1","2021-02-02","2021-02-02","100.224.899","Group Member","IAEG001698"]
["IAEG008653","No CAS available","939-975-0","Nonylphenol, ethoxylated (EO = 4)",null,"R1;R2;D1","2021-02-02","2021-02-02","100.228.429","Group Member","IAEG001698"]
["IAEG008654","No CAS available","939-993-9","Nonylphenol, ethoxylated (EO = 10)",null,"R1;R2;D1","2021-02-02","2021-02-02","100.228.488","Group Member","IAEG001698"]
["IAEG011253","91648-64-5","293-926-1","3,6,9,12-Tetraoxatetradecan-1-ol, 14-(4-nonylphenoxy)-, branched",null,"R2;D1","2023-01-27","2023-01-27","100.085.354","Group Member","IAEG001698"]
["IAEG011254","9016-45-9","931-754-7","Nonylphenol, ethoxylated (8-EO)",null,"R2;D1","2023-01-27","2023-01-27","100.167.713","Group Member","IAEG001698"]
["IAEG011255","9016-45-9","931-753-1","Nonylphenol, ethoxylated (6,5-EO)",null,"R2;D1","2023-01-27","2023-01-27","100.167.712","Group Member","IAEG001698"]
["IAEG011256","9016-45-9","931-756-8","Nonylphenol, ethoxylated (15-EO)",null,"R2;D1","2023-01-27","2023-01-27","100.167.715","Group Member","IAEG001698"]
["IAEG001709","91995-52-7","295-313-4","Distillates (coal tar), pitch, pyrene fraction","","I","2019-01-24","2019-01-24",null,"Substance Direct Entry"]
["IAEG001710","120-12-7","204-371-1","Anthracene, pure","","D1;I","2015-03-17","2023-01-27","100.003.974","Substance Direct Entry"]
["IAEG001711","90640-80-5","292-602-7","Anthracene oil","","R1;R2;D1;I","2015-03-17","2023-01-27","100.084.153","Substance Direct Entry"]
["IAEG001712","90640-81-6","292-603-2","Anthracene oil, anthracene paste","","D1;I","2015-03-17","2023-01-27","100.084.154","Substance Direct Entry"]
["IAEG001713","90640-82-7","292-604-8","Anthracene oil, anthracene-low","","D1;I","2015-03-17","2023-01-27","100.084.155","Substance Direct Entry"]
["IAEG001714","91995-15-2","295-275-9","Anthracene oil, anthracene paste, anthracene fraction","","D1;I","2015-03-17","2023-01-27","100.086.576","Substance Direct Entry"]
["IAEG001715","91995-17-4","295-278-5","Anthracene oil, anthracene paste, distn. lights","","D1;I","2015-03-17","2023-01-27","100.086.578","Substance Direct Entry"]
["IAEG001716","50-32-8","200-028-5","Benzo[def]chrysene","Benzo[a]pyrene (BaP)","R1;R2;D1;I","2015-03-17","2023-01-27","100.000.026","Substance Direct Entry"]
["IAEG001717","56-55-3","200-280-6","Benzo[a]anthracene (BaA)","","R1;R2;D1;I","2015-03-17","2023-01-27","100.000.255","Substance Direct Entry"]
["IAEG001718","205-99-2","205-911-9","Benz[e]acephenanthrylene","Benzo[b]fluoranthene (BbFA)","R1;R2;D1;I","2015-03-17","2023-01-27",null,"Substance Direct Entry"]
["IAEG001719","192-97-2","205-892-7","Benzo[e]pyrene (BeP)","","R1;R2;D1;I","2015-03-17","2023-01-27",null,"Substance Direct Entry"]
["IAEG001720","205-82-3","205-910-3","Benzo[j]fluoranthene (BjFA)",null,"R1;R2;D1;I","2015-03-17","2023-01-27",null,"Substance Direct Entry"]
["IAEG001721","207-08-9","205-916-6","Benzo[k]fluoranthene (BkFA)","","R1;R2;D1;I","2015-03-17","2023-01-27","100.005.379","Substance Direct Entry"]
["IAEG001722","218-01-9","205-923-4","Chrysene (CHR)","","R1;R2;D1;I","2015-03-17","2023-01-27","100.005.386","Substance Direct Entry"]
["IAEG001723","53-70-3","200-181-8","Dibenz[a,h]anthracene","Dibenzo[a,h]anthracene (DBAhA)","R1;R2;D1;I","2015-03-17","2023-01-27",null,"Substance Direct Entry"]
["IAEG001724","83-32-9","201-469-6","Acenaphthene","","I","2017-08-14","2023-01-27","100.001.336","Substance Direct Entry"]
["IAEG001726","85-01-8","201-581-5","Phenanthrene","","D1;I","2017-08-14","2023-01-27","100.001.437","Substance Direct Entry"]
["IAEG001729","36355-01-8","252-994-2","Hexabromo-1,1'-biphenyl","Hexabromobiphenyl; FireMaster BP-6; FireMaster FF-1","R1;R2;D1","2015-03-17","2015-03-17",null,"Substance Direct Entry"]
["IAEG001733","59536-65-1","No EC available","Polybrominated biphenyl (PBB)","Biphenyl, hexabromo- (technical grade); FireMaster BP-6","R1;R2;D1","2015-03-17","2017-08-14",null,"Substance Direct Entry"]
["IAEG001737","92-86-4","202-198-6","Dibromobiphenyl","4,4'-dibromobiphenyl","R1;R2;D1","2017-08-14","2017-08-14",null,"Substance Direct Entry"]
["IAEG001742","88700-05-4","No EC available","2,2',3,5',6-pentabromo-1,1'-biphenyl","","R1;R2;D1","2019-01-24","2019-01-24",null,"Substance Direct Entry"]
["IAEG001827","955955-54-1","No EC available","2,2',3,4',5,6'-Hexabromobiphenyl","","R1;R2;D1","2017-08-14","2017-08-14",null,"Substance Direct Entry"]
["IAEG001837","32536-52-0","251-087-9","Octabrominated diphenyl ether","Octabromodiphenyl ether (octaBDE)","R1;R2;D1","2015-03-17","2015-03-17",null,"Substance Direct Entry"]
["IAEG001838","1163-19-5","214-604-9","Bis(pentabromophenyl) ether","Decabrominated diphenyl ether; Decabromodiphenyl ether (DecaBDE); 1,1'-oxybis[2,3,4,5,6-pentabromobenzene]","R1;R2;D1;I","2015-03-17","2023-01-27","100.013.277","Substance Direct Entry"]
["IAEG001839","32534-81-9","251-084-2","Pentabrominated diphenyl ether","Pentabromodiphenyl ether (pentaBDE)","R1;R2;D1","2015-03-17","2015-03-17",null,"Substance Direct Entry"]
["IAEG001841","36483-60-0","253-058-6","Hexabrominated diphenyl ether","Hexabromodiphenyl ether (hexaBDE)","R1;R2;D1","2015-03-17","2015-03-17",null,"Substance Direct Entry"]
["IAEG001843","40088-47-9","254-787-2","Tetrabromodiphenylether","2,2',4,4'-tetrabromodiphenyl ether (BDE-47)","R1;R2;D1","2015-03-17","2015-03-17",null,"Substance Direct Entry"]
["IAEG001855","101-55-3","202-952-4","4-Bromophenyl phenyl ether","","R1;R2;D1","2017-08-14","2017-08-14","100.002.685","Substance Direct Entry"]
["IAEG001862","63936-56-1","264-565-7","Pentabromo(tetrabromophenoxy)benzene","Nonabromodiphenyl ether","R1;R2;D1","2017-08-14","2017-08-14",null,"Substance Direct Entry"]
["IAEG001864","49690-94-0","256-431-1","Diphenyl ether, tribromo derivative","","R1;R2;D1","2015-03-17","2015-03-17",null,"Substance Direct Entry"]
["IAEG001865","85446-17-9","No EC available","Benzene, 1,1'-oxybis[2,3,4,5-tetrabromo-","2,3,4,5,2',3',4',5'-Octabromodiphenyl ether","R1;R2;D1","2021-02-02","2021-02-02",null,"Substance Direct Entry"]
["IAEG001898","446254-98-4","No EC available","2,2',3,4,5,6-Hexabromodiphenyl ether","","R1;R2;D1","2020-01-16","2020-01-16",null,"Substance Direct Entry"]
["IAEG001904","446255-28-3","No EC available","2,2',3,4',5,5',6-Heptadibromodiphenyl ether","","R1;R2;D1","2020-01-16","2020-01-16",null,"Substance Direct Entry"]
["IAEG001905","437701-78-5","No EC available","2,2',3,3',4,5,5',6,6'-Nonabromodiphenyl ether (BDE 208)","","R1;R2;D1","2020-01-16","2020-01-16",null,"Substance Direct Entry"]
["IAEG001906","63387-28-0","No EC available","2,2',3,3',4,4',5,5',6-Nonabromodiphenyl ether","","R1;R2;D1","2017-08-14","2017-08-14",null,"Substance Direct Entry"]
["IAEG001908","75-74-1","200-897-0","Tetramethyl lead","","R1;D1;I","2015-03-17","2023-01-27",null,"Substance Direct Entry"]
["IAEG001909","13424-46-9","236-542-1","Lead diazide","Lead azide","R1;D1;I","2015-03-17","2023-01-27","100.033.206","Substance Direct Entry"]
["IAEG001910","15245-44-0","239-290-0","Lead styphnate","Lead 2,4,6-trinitro-m-phenylene dioxide; Lead 2,4,6-trinitroresorcinoxide","R1;D1;I","2015-03-17","2023-01-27","100.035.703","Substance Direct Entry"]
["IAEG001911","301-04-2","206-104-4","Lead di(acetate)","","R1;D1;I","2015-03-17","2023-01-27","100.005.551","Substance Direct Entry"]
["IAEG001912","1335-32-6","215-630-3","Lead acetate, basic","Lead acetate; Lead subacetate","R1;D1;I","2015-03-17","2023-01-27",null,"Substance Direct Entry"]
["IAEG001914","17570-76-2","401-750-5","Lead(II) bis(methanesulfonate)","","R1;D1;I","2015-03-17","2023-01-27","100.100.365","Substance Direct Entry"]
["IAEG001915","78-00-2","201-075-4","Tetraethyl lead","","R1;D1;I","2015-03-17","2023-01-27","100.000.979","Substance Direct Entry"]
["IAEG001916","7446-27-7","231-205-5","Trilead bis(orthophosphate)","Lead phosphate","R1;D1;I","2015-03-17","2023-01-27",null,"Substance Direct Entry"]
["IAEG001917","7439-92-1","231-100-4","Lead (Pb)","","R1;R2;D1;I","2015-03-17","2023-01-27","100.028.273","Substance Direct Entry"]
["IAEG001918","1317-36-8","215-267-0","Lead oxide","Lead monoxide","R1;D1;I","2015-03-17","2023-01-27","100.013.880","Substance Direct Entry"]
["IAEG001919","1314-41-6","215-235-6","Lead tetroxide","Orange lead","R1;D1;I","2015-03-17","2023-01-27","100.013.851","Substance Direct Entry"]
["IAEG001920","12065-90-6","235-067-7","Pentalead tetraoxide sulphate","","R1;D1;I","2015-03-17","2023-01-27","100.031.867","Substance Direct Entry"]
["IAEG001921","12202-17-4","235-380-9","Tetralead trioxide sulphate","","R1;D1;I","2015-03-17","2023-01-27","100.032.152","Substance Direct Entry"]
["IAEG001922","12141-20-7","235-252-2","Trilead dioxide phosphonate","","R1;D1;I","2015-03-17","2023-01-27","100.032.035","Substance Direct Entry"]
["IAEG001923","69011-06-9","273-688-5","Dibasic lead phthalate","[Phthalato(2-)]dioxotrilead","R1;D1;I","2015-03-17","2023-01-27","100.066.970","Substance Direct Entry"]
["IAEG001924","12578-12-0","235-702-8","Dioxobis(stearato)trilead","","R1;D1;I","2015-03-17","2023-01-27","100.032.444","Substance Direct Entry"]
["IAEG001925","1072-35-1","214-005-2","Lead distearate","","R1;D1;I","2019-01-24","2023-01-27",null,"Substance Direct Entry"]
["IAEG001926","68411-78-9","270-148-0","Lead oxide (PbO), lead-contg.","","R1;D1;I","2019-01-24","2023-01-27",null,"Substance Direct Entry"]
["IAEG001929","10099-74-8","233-245-9","Lead dinitrate","","R1;D1;I","2015-03-17","2023-01-27","100.030.210","Substance Direct Entry"]
["IAEG001930","546-67-8","208-908-0","Lead tetraacetate","","R1;D1;I","2017-08-14","2023-01-27","100.008.099","Substance Direct Entry"]
["IAEG001931","598-63-0","209-943-4","Lead carbonate","","R1;R2;D1;I","2015-03-17","2023-01-27","100.009.041","Substance Direct Entry"]
["IAEG001932","1309-60-0","215-174-5","Lead dioxide","","R1;D1;I","2015-03-17","2023-01-27","100.013.795","Substance Direct Entry"]
["IAEG001933","1314-91-6","215-247-1","Lead telluride","","R1;D1;I","2017-08-14","2023-01-27","100.013.862","Substance Direct Entry"]
["IAEG001934","1319-46-6","215-290-6","Trilead bis(carbonate)dihydroxide","Basic lead carbonate; Lead hydroxide carbonate; Lead carbonate; White lead","R1;R2;D1;I","2015-03-17","2023-01-27","100.013.901","Substance Direct Entry"]
["IAEG001935","1335-25-7","215-626-1","Lead oxide","","R1;D1;I","2017-08-14","2023-01-27",null,"Substance Direct Entry"]
["IAEG001936","7758-95-4","231-845-5","Lead dichloride","","R1;D1;I","2017-08-14","2023-01-27","100.028.950","Substance Direct Entry"]
["IAEG001937","8012-00-8","232-382-1","Pyrochlore, antimony lead yellow","","R1;D1;I","2015-03-17","2023-01-27","100.029.436","Substance Direct Entry"]
["IAEG001938","10099-76-0","233-246-4","Lead (II) silicate","","R1;D1;I","2015-03-17","2023-01-27",null,"Substance Direct Entry"]
["IAEG001939","11120-22-2","234-363-3","Silicic acid, lead salt","","R1;D1;I","2015-03-17","2023-01-27","100.031.227","Substance Direct Entry"]
["IAEG001940","12036-76-9","234-853-7","Lead oxide sulphate","Basic lead sulphate","R1;D1;I","2015-03-17","2023-01-27","100.031.672","Substance Direct Entry"]
["IAEG001941","12060-00-3","235-038-9","Lead titanium trioxide","","R1;D1;I","2015-03-17","2023-01-27","100.031.841","Substance Direct Entry"]
["IAEG001942","12069-00-0","235-109-4","Lead selenide","","R1;D1;I","2015-03-17","2023-01-27","100.031.906","Substance Direct Entry"]
["IAEG001943","12626-81-2","235-727-4","Lead titanium zirconium oxide","","R1;D1;I","2015-03-17","2023-01-27","100.032.467","Substance Direct Entry"]
["IAEG001944","13814-96-5","237-486-0","Lead bis(tetrafluoroborate)","","R1;D1;I","2015-03-17","2023-01-27","100.034.064","Substance Direct Entry"]
["IAEG001946","51404-69-4","257-175-3","Acetic acid, lead salt, basic","","R1;D1;I","2015-03-17","2023-01-27","100.051.960","Substance Direct Entry"]
["IAEG001947","62229-08-7","263-467-1","Sulphurous acid, lead salt, dibasic","","R1;D1;I","2015-03-17","2023-01-27","100.057.680","Substance Direct Entry"]
["IAEG001948","68784-75-8","272-271-5","Silicic acid (H2Si2O5), barium salt (1:1), lead-doped","","R1;D1;I","2015-03-17","2023-01-27","100.065.681","Substance Direct Entry"]
["IAEG001949","91031-62-8","292-966-7","Fatty acids, C16-18, lead salts","","R1;D1;I","2015-03-17","2023-01-27","100.084.483","Substance Direct Entry"]
["IAEG001952","68411-07-4","614-455-3","Copper, beta-resorcylate salicylate lead complexes","","R1;D1;I","2017-08-14","2023-01-27","100.120.581","Substance Direct Entry"]
["IAEG001953","1314-87-0","215-246-6","Lead sulphide","","R1;D1;I","2017-08-14","2023-01-27","100.013.861","Substance Direct Entry"]
["IAEG001954","7446-14-2","231-198-9","Lead sulphate","","R1;R2;D1;I","2015-03-17","2023-01-27","100.028.362","Substance Direct Entry"]
["IAEG001956","10031-22-8","233-084-4","Lead bromide","","R1;D1;I","2017-08-14","2023-01-27",null,"Substance Direct Entry"]
["IAEG001960","101012-92-4","309-793-0","Lead, isodecanoate naphthenate complexes, basic","","R1;D1;I","2017-08-14","2023-01-27",null,"Substance Direct Entry"]
["IAEG001962","10101-63-0","233-256-9","Lead iodide","","R1;D1;I","2017-08-14","2023-01-27",null,"Substance Direct Entry"]
["IAEG001963","10190-55-3","233-459-2","Molybdic acid, lead (2+) salt (1:1)","","R1;D1;I","2017-08-14","2023-01-27",null,"Substance Direct Entry"]
["IAEG001966","102110-26-9","310-025-1","Boric acid (H3BO3), solid soln. with barium oxide, calcium oxide and strontium oxide, lead and manganese-doped","","R1;D1;I","2017-08-14","2023-01-27",null,"Substance Direct Entry"]
["IAEG001969","10294-58-3","233-664-7","Phosphinic acid, lead (2+) salt","","R1;D1;I","2017-08-14","2023-01-27",null,"Substance Direct Entry"]
["IAEG001973","1120-46-3","214-310-0","Lead dioleate","","R1;D1;I","2017-08-14","2023-01-27",null,"Substance Direct Entry"]
["IAEG001980","12034-30-9","234-800-8","Lead disodium dioxide","","R1;D1;I","2017-08-14","2023-01-27",null,"Substance Direct Entry"]
["IAEG001982","12036-31-6","234-844-8","Lead tin oxide",null,"R1;D1;I","2022-02-17","2023-01-27","100.031.664","Substance Direct Entry"]
["IAEG001984","12059-89-1","235-036-8","Lead oxide","Dilead oxide","R1;D1;I","2017-08-14","2023-01-27",null,"Substance Direct Entry"]
["IAEG001985","12060-01-4","235-039-4","Lead zirconium oxide","Lead zirconium trioxide","R1;D1;I","2019-01-24","2023-01-27",null,"Substance Direct Entry"]
["IAEG001986","12065-68-8","235-065-6","Lead ditantalum hexaoxide","Lead tantalum oxide (PbTa2O6)","R1;D1;I","2017-08-14","2023-01-27",null,"Substance Direct Entry"]
["IAEG001991","12275-07-9","235-549-7","Lead, [2-butenedioato(2-)]trioxotetra-","","R1;D1;I","2017-08-14","2023-01-27",null,"Substance Direct Entry"]
["IAEG001993","12397-06-7","No EC available","Lead oxide sulphate (Pb4O3(SO4)), monohydrate","","R1;D1;I","2019-01-24","2023-01-27",null,"Substance Direct Entry"]
["IAEG001995","12403-82-6","235-642-2","Lead, dihydroxy[2,4,6-trinitro-1,3-benzenediolato(2-)]di-","","R1;D1;I","2017-08-14","2023-01-27",null,"Substance Direct Entry"]
["IAEG001998","12740-44-2","No EC available","Sodium alloy, nonbase, Na,Pb","","R1;D1;I","2017-08-14","2023-01-27",null,"Substance Direct Entry"]
["IAEG001999","12765-51-4","235-803-7","Lead oxide sulphate","","R1;D1;I","2019-01-24","2023-01-27",null,"Substance Direct Entry"]
["IAEG002001","1314-27-8","No EC available","Lead oxide (Pb2O3)","","R1;D1;I","2019-01-24","2023-01-27",null,"Substance Direct Entry"]
["IAEG002003","13406-89-8","236-498-3","1,3-Benzenediol, 2,4-dinitro-, lead (2+) salt (1:1)","","R1;D1;I","2017-08-14","2023-01-27",null,"Substance Direct Entry"]
["IAEG002004","1344-40-7","No EC available","Lead oxide phosphonate (Pb3O2(HPO3)), hemihydrate","","R1;D1;I","2017-08-14","2023-01-27",null,"Substance Direct Entry"]
["IAEG002008","13637-76-8","237-125-7","Lead diperchlorate","","R1;D1;I","2017-08-14","2023-01-27",null,"Substance Direct Entry"]
["IAEG002009","13698-55-0","237-220-3","Lead fumarate","","R1;D1;I","2017-08-14","2023-01-27",null,"Substance Direct Entry"]
["IAEG002017","15187-16-3","628-401-1","Lead, [29H,31H-phthalocyaninato(2-)-N29,N30,N31,N32]-, (SP-4-1)-",null,"R1;D1;I","2022-02-17","2023-01-27","100.156.674","Substance Direct Entry"]
["IAEG002022","15347-57-6","239-379-4","Lead acetate","Acetic acid, lead salt","R1;D1;I","2021-02-02","2023-01-27",null,"Substance Direct Entry"]
["IAEG002023","15696-43-2","239-790-9","Octanoic acid, lead salt","","R1;D1;I","2017-08-14","2023-01-27",null,"Substance Direct Entry"]
["IAEG002024","15739-80-7","239-831-0","Sulphuric acid, lead salt","","R1;R2;D1;I","2015-03-17","2023-01-27",null,"Substance Direct Entry"]
["IAEG002025","15748-73-9","239-839-4","Lead disalicylate","","R1;D1;I","2017-08-14","2023-01-27",null,"Substance Direct Entry"]
["IAEG002031","15845-52-0","239-952-9","Lead hydrogenorthophosphate","Phosphoric acid, lead (2+) salt (1:1)","R1;D1;I","2017-08-14","2023-01-27",null,"Substance Direct Entry"]
["IAEG002035","16038-76-9","240-176-8","Lead phosphite","Phosphonic acid, lead salt","R1;D1;I","2017-08-14","2023-01-27",null,"Substance Direct Entry"]
["IAEG002038","16996-40-0","241-076-7","2-ethylhexanoic acid, lead salt","","R1;D1;I","2017-08-14","2023-01-27",null,"Substance Direct Entry"]
["IAEG002051","20837-86-9","244-073-9","Lead cyanamidate","","R1;D1;I","2015-03-17","2023-01-27","100.040.052","Substance Direct Entry"]
["IAEG002053","20936-32-7","244-118-2","Benzoic acid, 2,4-dihydroxy-, lead salt","","R1;D1;I","2020-01-16","2023-01-27",null,"Substance Direct Entry"]
["IAEG002063","27253-28-7","248-369-9","Neodecanoic acid, lead salt","","R1;D1;I","2017-08-14","2023-01-27",null,"Substance Direct Entry"]
["IAEG002067","301-08-6","206-107-0","Hexanoic acid, 2-ethyl-, lead (2+) salt","","R1;D1;I","2017-08-14","2023-01-27",null,"Substance Direct Entry"]
["IAEG002077","36501-84-5","253-068-0","Lead, bis(dipentylcarbamodithioato-S,S')-, (T-4)-","","R1;D1;I","2017-08-14","2023-01-27",null,"Substance Direct Entry"]
["IAEG002078","37194-88-0","253-389-6","Lead ruthenium oxide","","R1;D1;I","2019-01-24","2023-01-27",null,"Substance Direct Entry"]
["IAEG002082","41453-50-3","255-375-5","Benzoic acid, 2,4-dihydroxy-, lead (2+) salt (2:1)",null,"R1;D1;I","2022-02-17","2023-01-27","100.050.324","Substance Direct Entry"]
["IAEG002087","50825-29-1","256-790-4","Cyclohexanecarboxylic acid, lead salt","","R1;D1;I","2019-01-24","2023-01-27",null,"Substance Direct Entry"]
["IAEG002089","512-26-5","208-141-1","1,2,3-Propanetricarboxylic acid, 2-hydroxy-, lead (2+) salt (2:3)","","R1;D1;I","2017-08-14","2023-01-27",null,"Substance Direct Entry"]
["IAEG002090","51317-24-9","257-133-4","1,3-Benzenediol, nitro-, lead salt","","R1;D1;I","2017-08-14","2023-01-27",null,"Substance Direct Entry"]
["IAEG002095","52652-59-2","No EC available","Octadecanoic acid, lead salt, dibasic","","R1;D1;I","2020-01-16","2023-01-27",null,"Substance Direct Entry"]
["IAEG002100","56189-09-4","260-043-8","Lead, bis(octadecanoato)dioxodi-","","R1;D1;I","2017-08-14","2023-01-27",null,"Substance Direct Entry"]
["IAEG002106","592-87-0","209-774-6","Lead dithiocyanate","","R1;D1;I","2017-08-14","2023-01-27",null,"Substance Direct Entry"]
["IAEG002109","6080-56-4","No EC available","Acetic acid, lead (2+) salt, trihydrate","","R1;D1;I","2015-03-17","2023-01-27",null,"Substance Direct Entry"]
["IAEG002112","61788-54-3","262-986-0","Fatty acids, tall-oil, lead salts","","R1;D1;I","2017-08-14","2023-01-27",null,"Substance Direct Entry"]
["IAEG002113","61790-14-5","263-109-4","Naphthenic acid, lead salt","","R1;D1;I","2017-08-14","2023-01-27",null,"Substance Direct Entry"]
["IAEG002115","62637-99-4","263-663-7","Cyclohexanebutanoic acid, lead (2+) salt","","R1;D1;I","2017-08-14","2023-01-27",null,"Substance Direct Entry"]
["IAEG002117","63568-30-9","264-316-2","Naphthalenesulfonic acid, diisononyl-, lead (2+) salt","","R1;D1;I","2017-08-14","2023-01-27",null,"Substance Direct Entry"]
["IAEG002119","6477-64-1","229-335-2","Lead dipicrate","Phenol, 2,4,6-trinitro-, lead (2+) salt","R1;D1;I","2015-03-17","2023-01-27","100.026.669","Substance Direct Entry"]
["IAEG002125","67674-14-0","266-853-8","Petrolatum (petroleum), oxidized, lead salt","","R1;D1;I","2017-08-14","2023-01-27",null,"Substance Direct Entry"]
["IAEG002133","68409-79-0","270-063-9","Carboxylic acids, C8-10-branched, basic lead salt","","R1;D1;I","2017-08-14","2023-01-27",null,"Substance Direct Entry"]
["IAEG002134","68411-33-6","685-313-6","1,3-Benzenediol, 2-nitro-, lead salt, basic","","R1;D1;I","2017-08-14","2023-01-27",null,"Substance Direct Entry"]
["IAEG002136","68442-95-5","270-498-4","Hexanoic acid, dimethyl-, lead (2+) salt, basic","","R1;D1;I","2017-08-14","2023-01-27",null,"Substance Direct Entry"]
["IAEG002146","68603-83-8","271-675-9","Fatty acids, C6-19-branched, basic lead and lead salts","","R1;D1;I","2017-08-14","2023-01-27",null,"Substance Direct Entry"]
["IAEG002156","68937-05-3","273-052-7","Acetic acid, reaction products with lead oxide, silica and sulphuric acid","Acetic acid, reaction products with lead oxide, silica and sulphuric acid","R1;D1","2023-01-27","2023-01-27",null,"Substance Direct Entry"]
["IAEG002163","69029-53-4","273-797-8","Lead oxide, retort","","R1;D1;I","2017-08-14","2023-01-27",null,"Substance Direct Entry"]
["IAEG002167","70084-67-2","274-302-8","Lead, C6-19-branched carboxylate naphthenate complexes","","R1;D1;I","2017-08-14","2023-01-27",null,"Substance Direct Entry"]
["IAEG002179","7428-48-0","231-068-1","Octadecanoic acid, lead salt","","R1;D1;I","2017-08-14","2023-01-27",null,"Substance Direct Entry"]
["IAEG002186","7759-01-5","231-849-7","Lead tungsten tetraoxide","Tungstic acid (H2WO4), lead (2+) salt (1:1)","R1;D1;I","2017-08-14","2023-01-27",null,"Substance Direct Entry"]
["IAEG002187","7783-46-2","231-998-8","Lead fluoride","","R1;D1;I","2015-03-17","2023-01-27",null,"Substance Direct Entry"]
["IAEG002189","79357-62-3","No EC available","Lead, (2-methyl-4,6-dinitrophenolato-O1)(nitrato-O)-.mu.-oxodi-, monohydrate","","R1;D1;I","2017-08-14","2023-01-27",null,"Substance Direct Entry"]
["IAEG002190","79803-79-5","No EC available","Lead, C3-13-fatty acid naphthenate complexes","","R1;D1;I","2017-08-14","2023-01-27",null,"Substance Direct Entry"]
["IAEG002348","63918-97-8","No EC available","Lead styphnate","","R1;D1;I","2017-08-14","2023-01-27",null,"Substance Direct Entry"]
["IAEG002358","39412-44-7","No EC available","Lead/Tin alloy","","R1;D1;I","2017-08-14","2023-01-27",null,"Substance Direct Entry"]
["IAEG002362","873-54-1","212-841-2","Lead dibenzoate","","R1;D1;I","2019-01-24","2023-01-27",null,"Substance Direct Entry"]
["IAEG002393","1336-36-3","215-648-1","Polychlorinated biphenyls (PCBs)","Chlorobiphenyls; Chlorinated biphenyls","R1;R2;D1;I","2015-03-17","2023-01-27",null,"Substance Direct Entry"]
["IAEG002401","2051-24-3","218-115-1","Decachlorobiphenyl (PCB 209)","","R1;R2;D1;I","2015-03-17","2023-01-27",null,"Substance Direct Entry"]
["IAEG002402","2051-60-7","218-125-6","2-Chlorobiphenyl (PCB 1)","","R1;R2;D1","2015-03-17","2015-03-17",null,"Substance Direct Entry"]
["IAEG002403","2051-61-8","218-126-1","3-Chlorobiphenyl (PCB 2)","","R1;R2;D1","2015-03-17","2015-03-17",null,"Substance Direct Entry"]
["IAEG002609","76842-07-4","No EC available","2,3,3',4',5'-Pentachlorobiphenyl (PCB 122)","","R1;R2;D1","2017-08-14","2017-08-14",null,"Substance Direct Entry"]
["IAEG002665","205991-67-9","No EC available","(R)-2,2',3,3',5,6'-hexachlorobiphenyl","","R1;R2;D1","2020-01-16","2020-01-16",null,"Substance Direct Entry"]
["IAEG002671","207004-29-3","No EC available","(-)-2,2',3,3',5,6'-hexachlorobiphenyl","","R1;R2;D1","2020-01-16","2020-01-16",null,"Substance Direct Entry"]
["IAEG002682","116-14-3","204-126-9","Tetrafluoroethylene","","R1;R2;I","2017-08-14","2023-01-27","100.003.752","Substance Direct Entry"]
["IAEG002683","116-15-4","204-127-4","Hexafluoropropene","","R1;R2","2017-08-14","2017-08-14","100.003.753","Substance Direct Entry"]
["IAEG002684","75-73-0","200-896-5","Carbon tetrafluoride","Tetrafluoromethane; Perfluoromethane","R1;R2;D1","2015-03-17","2015-03-17","100.000.815","Substance Direct Entry"]
["IAEG002685","335-57-9","206-392-1","Heptane, hexadecafluoro-","","R1;R2","2017-08-14","2017-08-14",null,"Substance Direct Entry"]
["IAEG002686","355-42-0","206-585-0","Tetradecafluorohexane","Perfluorohexane; Perflexane","R1;R2;D1","2015-03-17","2015-03-17","100.005.987","Substance Direct Entry"]
["IAEG002688","115-25-3","204-075-2","Octafluorocyclobutane","Perfluorocyclobutane","R1;R2;D1","2015-03-17","2015-03-17","100.003.705","Substance Direct Entry"]
["IAEG002689","76-16-4","200-939-8","Hexafluoroethane","Perfluoroethane","R1;R2;D1","2015-03-17","2015-03-17","100.000.855","Substance Direct Entry"]
["IAEG002690","76-19-7","200-941-9","Octafluoropropane","Perfluoropropane","R1;R2;D1","2015-03-17","2015-03-17","100.000.857","Substance Direct Entry"]
["IAEG002691","355-25-9","206-580-3","Decafluorobutane","Perfluorobutane","R1;R2;D1","2015-03-17","2015-03-17",null,"Substance Direct Entry"]
["IAEG002692","678-26-2","211-647-5","Dodecafluoropentane","Perfluoropentane","R1;R2;D1","2015-03-17","2015-03-17",null,"Substance Direct Entry"]
["IAEG002693","306-92-3","206-191-9","1,1,2,2,3,3,4,4,4a,5,5,6,6,7,7,8,8a-heptadecafluorodecahydro-8-(trifluoromethyl)naphthalene","","R1;R2","2019-01-24","2019-01-24",null,"Substance Direct Entry"]
["IAEG002697","392-56-3","206-876-2","Hexafluorobenzene","","R1;R2","2017-08-14","2017-08-14",null,"Substance Direct Entry"]
["IAEG002706","335-27-3","206-386-9","1,1,2,2,3,3,4,5,5,6-decafluoro-4,6-bis(trifluoromethyl)cyclohexane","","R1;R2","2017-08-14","2017-08-14","100.005.807","Substance Direct Entry"]
["IAEG002710","2994-71-0","221-065-3","1,1,2,2,3,4-hexafluoro-3,4-bis(trifluoromethyl)cyclobutane","","R1;R2","2017-08-14","2017-08-14",null,"Substance Direct Entry"]
["IAEG002713","37589-57-4","253-557-9","Dotetracontafluoroicosane","","R1;R2","2017-08-14","2017-08-14",null,"Substance Direct Entry"]
["IAEG002715","355-02-2","206-573-5","Perfluoro(methylcyclohexane)","","R1;R2","2017-08-14","2017-08-14","100.005.976","Substance Direct Entry"]
["IAEG002716","685-63-2","211-681-0","1,1,2,3,4,4-hexafluorobuta-1,3-diene",null,"R1;R2","2022-02-17","2022-02-17","100.010.620","Substance Direct Entry"]
["IAEG002720","307-34-6","206-199-2","Perfluorooctane","","R1;R2","2017-08-14","2017-08-14","100.005.637","Substance Direct Entry"]
["IAEG002721","355-04-4","206-575-6","1,1,1,2,2,3,3,4,5,5,5-undecafluoro-4-(trifluoromethyl)pentane","","R1;R2","2017-08-14","2017-08-14","100.005.978","Substance Direct Entry"]
["IAEG002728","313-72-4","206-239-9","Octafluoronaphthalene","","R1;R2","2017-08-14","2017-08-14",null,"Substance Direct Entry"]
["IAEG002737","306-91-2","No EC available","Phenanthrene, 1,1,2,2,3,3,4,4,4a,4b,5,5,6,6,7,7,8,8,8a,9,9,10,10,10a-tetracosafluorotetradecahydro-","","R1;R2","2017-08-14","2017-08-14","100.100.249","Substance Direct Entry"]
["IAEG002738","13221-71-1","No EC available","Cyclobutane, 1,1,2,3,3,4-hexafluoro-2,4-bis(trifluoromethyl)-","","R1;R2","2017-08-14","2017-08-14",null,"Substance Direct Entry"]
["IAEG002742","382-21-8","No EC available","1,1,3,3,3-Pentafluoro-2-(trifluoromethyl)prop-1-ene","1,1,3,3,3-Pentafluoro-2-(trifluoromethyl)-1-propene (PFIB)","R1;R2","2017-08-14","2017-08-14",null,"Substance Direct Entry"]
["IAEG002761","1321-65-9","215-321-3","Trichloronaphthalene","","R1;R2","2017-08-14","2017-08-14",null,"Substance Direct Entry"]
["IAEG002763","1335-88-2","215-642-9","Tetrachloronaphthalene","","R1;R2","2017-08-14","2017-08-14",null,"Substance Direct Entry"]
["IAEG002785","2050-69-3","218-097-5","1,2-dichloronaphthalene","","R1;R2","2017-08-14","2017-08-14",null,"Substance Direct Entry"]
["IAEG002796","25586-43-0","247-120-1","Chloronaphthalene","","R1;R2","2017-08-14","2017-08-14",null,"Substance Direct Entry"]
["IAEG002817","55720-39-3","No EC available","1,6,7-trichloronaphthalene","","R1;R2","2020-01-16","2020-01-16",null,"Substance Direct Entry"]
["IAEG002835","90-13-1","201-967-3","1-Chloronaphthalene","","R1;R2","2017-08-14","2017-08-14",null,"Substance Direct Entry"]
["IAEG002837","91-58-7","202-079-9","2-Chloronaphthalene","","R1;R2","2017-08-14","2017-08-14",null,"Substance Direct Entry"]
["IAEG002886","56773-42-3","260-375-3","Tetraethylammonium heptadecafluorooctanesulphonate","","R1;R2;D1;I","2015-03-17","2023-01-27","100.054.869","Substance Direct Entry"]
["IAEG002888","2795-39-3","220-527-1","Potassium heptadecafluorooctane-1-sulphonate","PFOS potassium salt","R1;R2;D1;I","2015-03-17","2023-01-27",null,"Substance Direct Entry"]
["IAEG002889","29081-56-9","249-415-0","Ammonium heptadecafluorooctanesulphonate","PFOS ammonium salt","R1;R2;D1;I","2015-03-17","2023-01-27",null,"Substance Direct Entry"]
["IAEG002891","70225-14-8","274-460-8","Heptadecafluorooctanesulphonic acid, compound with 2,2'-iminodiethanol (1:1)","Diethanolamine perfluorooctane sulfonate; PFOS diethanolamine salt","R1;R2;D1;I","2015-03-17","2023-01-27",null,"Substance Direct Entry"]
["IAEG002904","1763-23-1","217-179-8","Heptadecafluorooctane-1-sulphonic acid (PFOS)","Perfluorooctanesulphonic acid","R1;R2;D1;I","2015-03-17","2023-01-27",null,"Substance Direct Entry"]
["IAEG002905","4151-50-2","223-980-3","Perfluorooctane sulfonamide (PFOSA)","Sulfluramid","R1;R2;D1;I","2017-08-14","2023-01-27",null,"Substance Direct Entry"]
["IAEG002910","1652-63-7","216-716-3","N,N,N-Trimethyl[3-(perfluorooctanesulfonylamino)propyl]ammonium iodide","","R1;R2;D1;I","2017-08-14","2023-01-27",null,"Substance Direct Entry"]
["IAEG002920","2991-51-7","221-062-7","Glycine, N-ethyl-N-[(heptadecafluorooctyl)sulfonyl]-, potassium salt","","R1;R2;D1;I","2015-03-17","2023-01-27",null,"Substance Direct Entry"]
["IAEG002926","376-14-7","206-805-5","N-Ethylperfluorooctylsulfonamidoethyl methacrylate","","R1;R2;D1;I","2017-08-14","2023-01-27",null,"Substance Direct Entry"]
["IAEG002929","383-07-3","206-846-9","N-Butylperfluorooctanesulphonamido ethyl acrylate","","R1;R2;D1;I","2017-08-14","2023-01-27",null,"Substance Direct Entry"]
["IAEG002931","423-82-5","207-031-0","2-[N-Ethyl-N-(perfluorooctylsulfonyl)amino]ethyl acrylate","","R1;R2;D1;I","2017-08-14","2023-01-27",null,"Substance Direct Entry"]
["IAEG002940","67969-69-1","267-977-5","N-Ethyl-N-(2-hydroxyethyl)perfluorooctanesulfonamide phosphate monoester diammonium salt","","R1;R2;D1;I","2021-02-02","2023-01-27",null,"Substance Direct Entry"]
["IAEG002989","75046-16-1","No EC available","N,N-Dimethyl-N-[3-(perfluorooctanesulfonamido)propyl]-N-carboxymethylammonium betaine","","R1;R2;I","2020-01-16","2023-01-27",null,"Substance Direct Entry"]
["IAEG002993","109669-84-3","No EC available","1-Propanaminium,N-(carboxymethyl)-N-[3-[[(heptadecafluorooctyl)sulfonyl]amino]propyl]-2-hydroxy-N-(2-hydroxy-3-sulfoprop","","R1;R2;I","2017-08-14","2023-01-27",null,"Substance Direct Entry"]
["IAEG002994","438237-77-5","No EC available","1-Propanaminium, 3-[[(3,3,4,4,5,5,6,6,7,7,8,8,9,9,10,10,10- heptadecafluorodecyl)sulfonyl]amino]-N,N,N-trimethyl-, salt with 4-methylbenzenesulfonic acid (1:1)","","R1;R2;I","2017-08-14","2023-01-27",null,"Substance Direct Entry"]
["IAEG002996","110494-69-4","No EC available","Heptadecafluoro-N-poly(oxy-1,2-ethanediyl)-N-propyl-1-octanesulfonamide","","R1;R2;I","2017-08-14","2023-01-27",null,"Substance Direct Entry"]
["IAEG003005","56-35-9","200-268-0","Bis(tributyltin) oxide","1,1,1,3,3,3-Hexabutyldistannoxane; Tributyltin oxide (TBTO)","R1;R2;D1","2015-03-17","2017-08-14","100.000.244","Substance Direct Entry"]
["IAEG003006","1461-22-9","215-958-7","Tributyltin chloride (TBTCL)","Tributan-1-yl(chloro)stannane; Tributylchlorostannane","R1;R2","2015-03-17","2017-08-14","100.014.508","Substance Direct Entry"]
["IAEG003007","639-58-7","211-358-4","Fentin chloride","Triphenyltin chloride; Chloro(triphenyl)stannane","R1;R2","2017-08-14","2017-08-14",null,"Substance Direct Entry"]
["IAEG003008","76-87-9","200-990-6","Fentin hydroxide","Triphenyltin hydroxide; Triphenylstannanol","R1;R2","2015-03-17","2017-08-14",null,"Substance Direct Entry"]
["IAEG003010","683-18-1","211-670-0","Dibutyltin dichloride (DBTC)","","R2;D1","2015-03-17","2017-08-14","100.010.610","Substance Direct Entry"]
["IAEG003011","15571-58-1","239-622-4","2-Ethylhexyl 10-ethyl-4,4-dioctyl-7-oxo-8-oxa-3,5-dithia-4-stannatetradecanoate","Dioctyltin bis(2-ethylhexyl mercaptoacetate) (DOTE)","R2;D1;I","2015-03-17","2023-01-27","100.036.005","Substance Direct Entry"]
["IAEG003012","57583-35-4","260-829-0","2-Ethylhexyl 10-ethyl-4,4-dimethyl-7-oxo-8-oxa-3,5-dithia-4-stannatetradecanoate","Dimethyltin bis(2-ethylhexylmercaptoacetate) (DMT EHMA)","R2;I","2019-01-24","2023-01-27","100.055.281","Substance Direct Entry"]
["IAEG003022","1983-10-4","217-847-9","Tributyltin fluoride (TBTF)","Tributylfluorostanane","R1;R2","2015-03-17","2017-08-14",null,"Substance Direct Entry"]
["IAEG003025","3090-36-6","221-434-9","Tributyl(lauroyloxy)stannane","","R1;R2","2020-01-16","2020-01-16",null,"Substance Direct Entry"]
["IAEG003026","3644-38-0","222-873-9","Stannane, tributyl(pentachlorophenoxy)-","","R1;R2;D1","2020-01-16","2020-01-16",null,"Substance Direct Entry"]
["IAEG003027","4342-36-3","224-399-8","Tributylstannyl benzoate","Tributyltin benzoate; (Benzoyloxy)tributylstannane","R1;R2","2015-03-17","2017-08-14",null,"Substance Direct Entry"]
["IAEG003028","4782-29-0","225-327-8","Stannane, [1,2-phenylenebis(carbonyloxy)]bis(tributyl-","","R1;R2","2020-01-16","2020-01-16",null,"Substance Direct Entry"]
["IAEG003030","67772-01-4","No EC available","2-Propenoic acid, 2-methyl-, methyl ester, polymer with octyl 2-propenoate and tributyl[(2-methyl-1-oxo-2-propenyl)oxy]stannane","","R1;R2","2020-01-16","2020-01-16",null,"Substance Direct Entry"]
["IAEG003036","13356-08-6","236-407-7","Fenbutatin oxide","Bis(tris(2-methyl-2-phenylpropyl)tin) oxide","R1;R2","2017-08-14","2017-08-14",null,"Substance Direct Entry"]
["IAEG003037","41083-11-8","255-209-1","Azocyclotin","1-(tricyclohexylstannyl)-1H-1,2,4-triazole","R1;R2","2020-01-16","2020-01-16",null,"Substance Direct Entry"]
["IAEG003042","6454-35-9","229-262-6","Bis(tributan-1-ylstannyl) fumarate","","R1;R2","2020-01-16","2020-01-16",null,"Substance Direct Entry"]
["IAEG003043","24291-45-0","246-125-6","Bis(tributan-1-ylstannyl) but-2-enedioate","","R1;R2","2020-01-16","2020-01-16",null,"Substance Direct Entry"]
["IAEG003049","56875-68-4","260-414-4","2,2-dioctyl-1,3-dioxa-6,9-dithia-2-stannacycloundecane-4,11-dione","","R1;R2;D1","2020-01-16","2020-01-16",null,"Substance Direct Entry"]
["IAEG003053","No CAS available","No EC available","Reaction mass of DOTE and MOTE","Reaction mass of 2-Ethylhexyl 10-ethyl-4,4-dioctyl-7-oxo-8-oxa-3,5-dithia-4-stannatetradecanoate and 2-Ethylhexyl 10-ethyl-4-[[2-[(2-ethylhexyl)oxy]-2-oxoethyl]thio]-4-octyl-7-oxo-8-oxa-3,5-dithia-4-stannatetradecanoate","R2;D1;I","2015-03-17","2023-01-27","100.239.161","Substance Direct Entry"]
["IAEG003057","109-86-4","203-713-7","2-Methoxyethanol","Ethylene glycol monomethyl ether (EGME)","R1;R2;D1","2015-03-17","2017-08-14","100.003.377","Substance Direct Entry"]
["IAEG003058","110-80-5","203-804-1","2-Ethoxyethanol","Ethylene glycol monoethyl ether (EGEE)","D1","2015-03-17","2015-03-17","100.003.459","Substance Direct Entry"]
["IAEG003059","111-96-6","203-924-4","Bis(2-methoxyethyl) ether","Diglyme","R1;R2;D1","2015-03-17","2015-03-17","100.003.568","Substance Direct Entry"]
["IAEG003060","111-15-9","203-839-2","2-Ethoxyethyl acetate","Ethylglycol acetate; Ethylene glycol monoethyl ether acetate","R2;D1","2015-03-17","2017-08-14","100.003.491","Substance Direct Entry"]
["IAEG003061","112-49-2","203-977-3","1,2-Bis(2-methoxyethoxy)ethane","Triethylene glycol dimethyl ether (TEGDME); Triglyme","R1;R2;D1","2015-03-17","2017-08-14","100.003.616","Substance Direct Entry"]
["IAEG003062","110-71-4","203-794-9","1,2-Dimethoxyethane","Ethylene glycol dimethyl ether (EGDME)","R1;R2;D1","2015-03-17","2017-08-14","100.003.451","Substance Direct Entry"]
["IAEG003063","629-14-1","211-076-1","1,2-Diethoxyethane","Ethylene glycol diethyl ether","R1;R2;D1","2015-03-17","2017-08-14","100.010.070","Substance Direct Entry"]
["IAEG003064","51-79-6","200-123-1","Urethane","Ethyl carbamate","R1;R2;D1","2015-03-17","2017-08-14",null,"Substance Direct Entry"]
["IAEG003065","110-49-6","203-772-9","2-Methoxyethyl acetate","Methylglycol acetate; Ethylene glycol monomethyl ether acetate; Methyl cellosolve acetate","R2;D1;I","2015-03-17","2023-01-27","100.003.431","Substance Direct Entry"]
["IAEG003067","92-87-5","202-199-1","Benzidine","1,1'-Biphenyl-4,4'-diamine; 4,4'-diaminobiphenyl; Biphenyl-4,4'-ylenediamine","R1;R2;D1","2015-03-17","2017-08-14",null,"Substance Direct Entry"]
["IAEG003068","16071-86-6","240-221-1","Disodium {5-[(4'-((2,6-hydroxy-3-((2-hydroxy-5-sulphophenyl)azo)phenyl)azo)(1,1'-biphenyl)-4-yl)azo]salicylato(4-)}cuprate(2-)","C.I. Direct Brown 95","R1;R2;D1","2015-03-17","2017-08-14",null,"Substance Direct Entry"]
["IAEG003069","573-58-0","209-358-4","Disodium 3,3'-[[1,1'-biphenyl]-4,4'-diylbis(azo)]bis(4-aminonaphthalene-1-sulphonate)","C.I. Direct Red 28; Congo Red","R1;R2;D1","2015-03-17","2017-08-14","100.008.509","Substance Direct Entry"]
["IAEG003070","1937-37-7","217-710-3","Disodium 4-amino-3-[[4'-[(2,4-diaminophenyl)azo][1,1'-biphenyl]-4-yl]azo]-5-hydroxy-6-(phenylazo)naphthalene-2,7-disulphonate","C.I. Direct Black 38","R1;R2;D1","2015-03-17","2022-02-17","100.016.101","Substance Direct Entry"]
["IAEG003071","680-31-9","211-653-8","Hexamethylphosphoric triamide","Hexamethylphosphoramide","R1;R2;D1","2015-03-17","2017-08-14",null,"Substance Direct Entry"]
["IAEG003072","531-85-1","208-519-6","Benzidine dihydrochloride","","R1;R2;D1","2015-03-17","2017-08-14",null,"Substance Direct Entry"]
["IAEG003073","2602-46-2","220-012-1","Tetrasodium 3,3'-[[1,1'-biphenyl]-4,4'-diylbis(azo)]bis[5-amino-4-hydroxynaphthalene-2,7-disulphonate]","C.I. Direct Blue 6","R1;R2;D1","2015-03-17","2017-08-14",null,"Substance Direct Entry"]
["IAEG003077","335-67-1","206-397-9","Pentadecafluorooctanoic acid","Perfluorooctanoic acid (PFOA)","R1;R2;D1;I","2015-03-17","2023-01-27","100.005.817","Substance Direct Entry"]
["IAEG003078","8007-45-2","232-361-7","Tar, coal","","R2;I","2017-08-14","2023-01-27",null,"Substance Direct Entry"]
["IAEG003080","98-16-8","202-643-4","Alpha,alpha,alpha-trifluoro-m-toluidine","","I","2017-08-14","2017-08-14","100.002.404","Substance Direct Entry"]
["IAEG003081","123-54-6","204-634-0","Pentane-2,4-dione","","I","2017-08-14","2017-08-14","100.004.214","Substance Direct Entry"]
["IAEG003082","124-63-0","204-706-1","Methanesulphonyl chloride","","I","2015-03-17","2015-03-17","100.004.279","Substance Direct Entry"]
["IAEG003087","68909-77-3","272-712-1","Ethanol, 2,2'-oxybis-, reaction products with ammonia, morpholine derivs. residues","","I","2019-01-24","2019-01-24","100.066.083","Substance Direct Entry"]
["IAEG003092","174333-80-3","605-717-8","Benzaldehyde, 2-hydroxy-5-nonyl-, oxime, branched","","R1;R2;D1","2019-01-24","2019-01-24","100.118.258","Substance Direct Entry"]
["IAEG003095","126-72-7","204-799-9","Tris (2,3-dibromopropyl) phosphate (TRIS) (TBPP)","","R1;R2;D1","2015-03-17","2017-08-14",null,"Substance Direct Entry"]
["IAEG003096","76-01-7","200-925-1","Pentachloroethane","","R1;R2;D1;I","2017-08-14","2023-01-27",null,"Substance Direct Entry"]
["IAEG003097","65996-91-0","266-026-1","Distillates (coal tar), upper","","R1;R2;I","2017-08-14","2023-01-27","100.060.005","Substance Direct Entry"]
["IAEG003098","27176-93-8","248-291-5","Ethanol, 2-[2-(nonylphenoxy)ethoxy]-","2-[2-(nonylphenoxy)ethoxy]ethanol","R2;I","2017-08-14","2023-01-27",null,"Substance Direct Entry"]
["IAEG003100","27177-08-8","248-294-1","29-(nonylphenoxy)-3,6,9,12,15,18,21,24,27-nonaoxanonacosanol","29-(nonylphenoxy)-3,6,9,12,15,18,21,24,27-nonaoxanonacosanol","R2","2023-01-27","2023-01-27",null,"Substance Direct Entry"]
["IAEG003101","27986-36-3","248-762-5","2-(nonylphenoxy)ethanol","2-(nonylphenoxy)ethanol","R2","2023-01-27","2023-01-27",null,"Substance Direct Entry"]
["IAEG003111","17202-41-4","241-247-6","1-Nonanesulfonic acid, 1,1,2,2,3,3,4,4,5,5,6,6,7,7,8,8,9,9,9-nonadecafluoro-, ammonium salt","","R1;R2;D1;I","2017-08-14","2023-01-27",null,"Substance Direct Entry"]
["IAEG003115","29117-08-6","No EC available","Glycols, polyethylene, mono[2-(N-ethyl-1,1,2,2,3,3,4,4,5,5,6,6,7,7,8,8,8-heptadecafluoro-1-octanesulfonamido)ethyl] ether","","R1;R2;D1;I","2017-08-14","2023-01-27",null,"Substance Direct Entry"]
["IAEG003119","306974-45-8","No EC available","Sulfonic acids, C6-8-alkane, perfluoro, compds. with polyethylene-polypropylene glycol bis(2-aminopropyl) ether","","R1;R2;D1;I","2020-01-16","2023-01-27",null,"Substance Direct Entry"]
["IAEG003130","306978-65-4","No EC available","Hexane, 1,6-diisocyanato-, homopolymer, N-(hydroxyethyl)-N-methylperfluoro-C4-8-alkanesulfonamides- and stearyl alc.-blocked","","R1;R2;D1","2017-08-14","2017-08-14",null,"Substance Direct Entry"]
["IAEG003134","38850-58-7","254-157-7","(2-hydroxyethyl)dimethyl[3-[(3-sulphopropyl)[(tridecafluorohexyl)sulphonyl]amino]propyl]ammonium hydroxide","","R1;R2;D1","2020-01-16","2020-01-16",null,"Substance Direct Entry"]
["IAEG003138","67584-42-3","266-724-6","Potassium decafluoro(pentafluoroethyl)cyclohexanesulphonate","","R1;R2;D1;I","2017-08-14","2023-01-27",null,"Substance Direct Entry"]
["IAEG003139","67906-42-7","267-709-7","Ammonium henicosafluorodecanesulphonate","","R1;R2;D1;I","2017-08-14","2023-01-27",null,"Substance Direct Entry"]
["IAEG003141","68156-01-4","268-998-2","Potassium nonafluorobis(trifluoromethyl)cyclohexanesulphonate","","R1;R2;D1;I","2017-08-14","2023-01-27",null,"Substance Direct Entry"]
["IAEG003144","68541-80-0","No EC available","Acrylic acid-N-ethylperfluorooctanesulfonamidoethyl methacrylate-stearyl acrylate copolymer","","R1;R2;D1","2020-01-16","2020-01-16",null,"Substance Direct Entry"]
["IAEG003154","68958-61-2","No EC available","Poly(oxy-1,2-ethanediyl), .alpha.-[2-[ethyl[(heptadecafluorooctyl)sulfonyl]amino]ethyl]-.omega.-methoxy-","","R1;R2;D1;I","2017-08-14","2023-01-27",null,"Substance Direct Entry"]
["IAEG003161","5248-39-5","401-360-5","4-methoxy-N,6-dimethyl-1,3,5-triazin-2-ylamine","","R1;R2;D1","2017-08-14","2017-08-14","100.100.330","Substance Direct Entry"]
["IAEG003162","608-93-5","210-172-0","Pentachlorobenzene (PeCB) (QCB)","","R1;R2","2015-03-17","2015-03-17",null,"Substance Direct Entry"]
["IAEG003163","26172-55-4","247-500-7","Methylchloroisothiazolinone","Chloro-isothiazolinone; 5-Chloro-2-methyl-2H-isothiazol-3-one; CIT; CMI; CMIT; MCI; MCIT","I","2017-08-14","2017-08-14",null,"Substance Direct Entry"]
["IAEG003166","12056-51-8","432-240-0","Potassium Titanium Oxide (K2Ti6O13)","TXAX","R1;R2;D1","2019-01-24","2019-01-24","100.103.050","Substance Direct Entry"]
["IAEG003168","2437-29-8","219-441-7","Malachite green oxalate","","R1;R2;D1","2017-08-14","2017-08-14",null,"Substance Direct Entry"]
["IAEG003169","27610-48-6","429-960-2","EPICLON HP-4032","EPICLON HP-4032D","R1;R2;D1","2017-08-14","2017-08-14","100.102.830","Substance Direct Entry"]
["IAEG003170","70-30-4","200-733-8","2,2'-methylenebis-(3,4,6-trichlorophenol)","Hexachlorophene","I","2017-08-14","2019-01-24",null,"Substance Direct Entry"]
["IAEG003172","110726-28-8","425-600-3","TPH-PA","TRISTER","R1;R2;D1","2017-08-14","2017-08-14","100.102.406","Substance Direct Entry"]
["IAEG003173","123-63-7","204-639-8","2,4,6-trimethyl-1,3,5-trioxane","Paraldehyde","I","2019-01-24","2019-01-24","100.004.219","Substance Direct Entry"]
["IAEG003174","591-78-6","209-731-1","Hexan-2-one","Methyl butyl ketone; Butyl methyl ketone; Methyl-n-butyl ketone","R1;R2;D1","2017-08-14","2017-08-14",null,"Substance Direct Entry"]
["IAEG003180","130728-76-6","410-060-3","N,N,N',N'-tetraglycidyl-4,4'-diamino-3,3'-diethyldiphenylmethane","","R1;R2;D1","2017-08-14","2017-08-14","100.100.972","Substance Direct Entry"]
["IAEG003181","107934-68-9","407-560-9","4,4'-(9H-fluoren-9-ylidene)bis(2-chloroaniline)","","R1;R2;D1","2017-08-14","2017-08-14","100.100.904","Substance Direct Entry"]
["IAEG003183","5117-12-4","418-140-1","4-(1-oxo-2-propenyl)-morpholine","","R1;R2;D1","2017-08-14","2017-08-14","100.101.697","Substance Direct Entry"]
["IAEG003186","119462-56-5","412-570-1","1,3-bis(3-methyl-2,5-dioxo-1H-pyrrolinylmethyl)benzene","","R1;R2;D1","2017-08-14","2017-08-14","100.101.188","Substance Direct Entry"]
["IAEG003202","2682-20-4","220-239-6","2-Methylisothiazol-3(2H)-one","2-Methyl-4-thiazoline-3-ketone; Methylisothiazolinone (MIT)","I","2017-08-14","2017-08-14","100.018.399","Substance Direct Entry"]
["IAEG003206","507-63-1","208-079-5","Heptadecafluoro-1-iodooctane","Perfluorooctyl iodide (PFOI)","R1;R2;D1;I","2020-01-16","2023-01-27",null,"Substance Direct Entry"]
["IAEG003207","865-86-1","212-748-7","C10-2 fluorotelomer alcohol:","","R1;R2;D1;I","2020-01-16","2023-01-27",null,"Substance Direct Entry"]
["IAEG003210","335-95-5","206-404-5","Sodium pentadecafluorooctanoate (Na-PFOA)","Sodium salt of PFOA","R1;R2;D1;I","2015-03-17","2023-01-27",null,"Substance Direct Entry"]
["IAEG003212","95-94-3","202-466-2","1,2,4,5-Tetrachlorobenzene","","R1;R2","2015-03-17","2015-03-17",null,"Substance Direct Entry"]
["IAEG003221","68259-07-4","269-510-0","1-Heptanesulphonic acid, 1,1,2,2,3,3,4,4,5,5,6,6,7,7,7-pentadecafluoro-, ammonium salt","","R1;R2;D1;I","2017-08-14","2023-01-27",null,"Substance Direct Entry"]
["IAEG003231","68957-62-0","273-354-9","1-Heptanesulphonamide, N-ethyl-1,1,2,2,3,3,4,4,5, 5,6,6,7,7,7-pentadecafluoro-","","R1;R2;D1;I","2017-08-14","2023-01-27",null,"Substance Direct Entry"]
["IAEG003232","70225-15-9","274-461-3","1-Heptanesulphonic acid, 1,1,2,2,3,3,4,4,5,5,6,6,7,7,7-pentadecafluoro-, compd. with 2,2'-iminobis[ethanol] (1:1)","","R1;R2;D1;I","2017-08-14","2023-01-27",null,"Substance Direct Entry"]
["IAEG003233","70969-47-0","No EC available","Thiols, C8-20, y-w-perfluoro, telomers with acrylamide","","R1;R2;D1;I","2019-01-24","2023-01-27",null,"Substance Direct Entry"]
["IAEG003234","3825-26-1","223-320-4","Ammonium pentadecafluorooctanoate (APFO)","Ammonium salt of PFOA","R1;R2;D1;I","2015-03-17","2023-01-27","100.021.202","Substance Direct Entry"]
["IAEG003235","66204-44-2","266-235-8","3,3'-methylenebis[5-methyloxazolidine]","Oxazolidin","R1;R2;D1","2017-08-14","2017-08-14","100.060.195","Substance Direct Entry"]
["IAEG003236","670241-72-2","447-010-5","Nonylbenzoate, branched and linear","Benzoic acid, nonyl ester, branched and linear","R1;R2;D1","2019-01-24","2019-01-24","100.104.086","Substance Direct Entry"]
["IAEG003237","376-06-7","206-803-4","Heptacosafluorotetradecanoic acid","","R1;R2;D1;I","2015-03-17","2023-01-27","100.006.186","Substance Direct Entry"]
["IAEG003238","307-55-1","206-203-2","Tricosafluorododecanoic acid","","R1;R2;D1;I","2015-03-17","2023-01-27","100.005.641","Substance Direct Entry"]
["IAEG003240","553-26-4","209-036-3","4,4'-bipyridyl","","I","2017-08-14","2019-01-24",null,"Substance Direct Entry"]
["IAEG003241","91672-41-2","294-048-1","Phenol, 2-nonyl-, branched","","I","2017-08-14","2017-08-14",null,"Substance Direct Entry"]
["IAEG003242","1996-88-9","217-877-2","3,3,4,4,5,5,6,6,7,7,8,8,9,9,10,10,10-heptadecafluorodecyl methacrylate","","R1;R2;D1;I","2017-08-14","2023-01-27",null,"Substance Direct Entry"]
["IAEG003244","3132-64-7","221-525-3","1-bromo-2,3-epoxypropane",null,"R1;R2;D1","2022-02-17","2022-02-17","100.019.569","Substance Direct Entry"]
["IAEG003245","26694-69-9","247-906-4","9-[2-(ethoxycarbonyl)phenyl]-3,6-bis(ethylamino)-2,7-dimethylxanthylium ethyl sulphate","","R1;R2;D1","2017-08-14","2017-08-14",null,"Substance Direct Entry"]
["IAEG003246","28106-30-1","248-846-1","Ethylstyrene","","I","2017-08-14","2017-08-14",null,"Substance Direct Entry"]
["IAEG003248","43048-08-4","256-062-6","(octahydro-4,7-methano-1H-indenediyl)bis(methylene) bismethacrylate","","R1;R2;D1","2017-08-14","2017-08-14","100.050.948","Substance Direct Entry"]
["IAEG003249","67584-52-5","266-729-3","Potassium N-ethyl-N-[(undecafluoropentyl)sulphonyl]glycinate","","R1;R2;D1;I","2017-08-14","2023-01-27",null,"Substance Direct Entry"]
["IAEG003266","110-03-2","203-731-5","2,5-dimethylhexane-2,5-diol","","I","2017-08-14","2019-01-24","100.003.393","Substance Direct Entry"]
["IAEG003267","142-30-3","205-533-4","2,5-dimethylhexyne-2,5-diol","","I","2020-01-16","2020-01-16","100.005.031","Substance Direct Entry"]
["IAEG003270","512-24-3","208-139-0","Cerium(3+) 2-hydroxypropane-1,2,3-tricarboxylate","","R1;R2;D1","2019-01-24","2019-01-24",null,"Substance Direct Entry"]
["IAEG003277","67584-53-6","266-730-9","Potassium N-ethyl-N-[(tridecafluorohexyl)sulphonyl]glycinate","","R1;R2;D1;I","2017-08-14","2023-01-27",null,"Substance Direct Entry"]
["IAEG003284","68156-07-0","269-002-9","Potassium decafluoro(trifluoromethyl)cyclohexanesulphonate","","R1;R2;D1;I","2017-08-14","2023-01-27",null,"Substance Direct Entry"]
["IAEG003292","70225-17-1","274-463-4","Bis(2-hydroxyethyl)ammonium 1,1,2,2,3,3,4,4,5,5,5-undecafluoropentane-1-sulphonate","","R1;R2;D1;I","2017-08-14","2023-01-27",null,"Substance Direct Entry"]
["IAEG003296","112-36-7","203-963-7","Bis(2-ethoxyethyl) ether","","R1;R2;D1","2017-08-14","2017-08-14","100.003.603","Substance Direct Entry"]
["IAEG003297","112-73-2","204-001-9","Bis(2-butoxyethyl) ether","","R1;R2;D1","2017-08-14","2017-08-14","100.003.638","Substance Direct Entry"]
["IAEG003302","376-27-2","206-808-1","Methyl perfluorooctanoate","","R1;R2;D1;I","2017-08-14","2023-01-27",null,"Substance Direct Entry"]
["IAEG003306","16068-37-4","240-212-2","4,4,7,7-tetraethoxy-3,8-dioxa-4,7-disiladecane","","R1;R2;D1","2017-08-14","2017-08-14","100.036.541","Substance Direct Entry"]
["IAEG003318","67584-58-1","266-736-1","Trimethyl-3-[[(pentadecafluoroheptyl)sulphonyl]amino]propylammonium iodide","","R1;R2;D1;I","2017-08-14","2023-01-27",null,"Substance Direct Entry"]
["IAEG003325","68957-57-3","273-349-1","Trimethyl-3-[[(undecafluoropentyl)sulphonyl]amino]propylammonium iodide","","R1;R2;D1;I","2017-08-14","2023-01-27",null,"Substance Direct Entry"]
["IAEG003327","70983-60-7","275-091-5","1-Propanaminium, 2-hydroxy-N,N,N-trimethyl-, 3-[(gamma-omega-perfluoro-C6-20-alkyl)thio] derivs., chlorides","","R1;R2;D1;I","2017-08-14","2023-01-27",null,"Substance Direct Entry"]
["IAEG003334","542-92-7","208-835-4","Cyclopentadiene","","I","2017-08-14","2019-01-24","100.008.033","Substance Direct Entry"]
["IAEG003337","3107-18-4","221-465-8","Potassium undecafluorocyclohexanesulphonate","","R1;R2;D1;I","2017-08-14","2023-01-27",null,"Substance Direct Entry"]
["IAEG003345","67906-70-1","267-730-1","2-[ethyl[(tridecafluorohexyl)sulphonyl]amino]ethyl methacrylate","","R1;R2;D1","2017-08-14","2017-08-14",null,"Substance Direct Entry"]
["IAEG003346","68259-09-6","269-512-1","Ammonium 1,1,2,2,3,3,4,4,5,5,5-undecafluoropentane-1-sulphonate","","R1;R2;D1;I","2017-08-14","2023-01-27",null,"Substance Direct Entry"]
["IAEG003355","71604-74-5","275-662-9","M-(2,3-epoxypropoxy)-N,N-bis(2,3-epoxypropyl)aniline","","R1;R2;D1","2017-08-14","2017-08-14","100.068.763","Substance Direct Entry"]
["IAEG003358","100-53-8","202-862-5","Toluene-alpha-thiol","Toluene-alpha-thiol","I","2023-01-27","2023-01-27",null,"Substance Direct Entry"]
["IAEG003366","2602-34-8","220-011-6","[3-(2,3-epoxypropoxy)propyl]triethoxysilane","","R1;R2;D1","2017-08-14","2017-08-14","100.018.193","Substance Direct Entry"]
["IAEG003381","68239-72-5","269-465-7","1,1,2,2,3,3,4,4,5,5,5-undecafluoro-N-(4-hydroxybutyl)-N-methylpentane-1-sulphonamide","","R1;R2;D1","2017-08-14","2017-08-14",null,"Substance Direct Entry"]
["IAEG003392","693-38-9","211-751-0","Vinyl palmitate","","R1;R2;D1","2019-01-24","2019-01-24",null,"Substance Direct Entry"]
["IAEG003394","3872-25-1","223-394-8","Potassium perfluoropentane-1-sulphonate","","R1;R2;D1;I","2017-08-14","2023-01-27",null,"Substance Direct Entry"]
["IAEG003398","51851-37-7","257-473-3","Triethoxy(3,3,4,4,5,5,6,6,7,7,8,8,8-tridecafluorooctyl)silane","","R1;R2;D1","2017-08-14","2017-08-14","100.052.232","Substance Direct Entry"]
["IAEG003399","61789-72-8","263-081-3","Quaternary ammonium compounds, benzyl(hydrogenated tallow alkyl)dimethyl, chlorides","","I","2021-02-02","2021-02-02",null,"Substance Direct Entry"]
["IAEG003400","61790-13-4","263-108-9","Naphthenic acids, sodium salts","","I","2017-08-14","2017-08-14",null,"Substance Direct Entry"]
["IAEG003419","60270-55-5","262-135-3","Potassium 1,1,2,2,3,3,4,4,5,5,6,6,7,7,7-pentadecafluoroheptane-1-sulphonate","","R1;R2;D1;I","2017-08-14","2023-01-27",null,"Substance Direct Entry"]
["IAEG003422","67584-62-7","266-740-3","Potassium N-ethyl-N-[(pentadecafluoroheptyl)sulphonyl]glycinate","","R1;R2;D1;I","2017-08-14","2023-01-27",null,"Substance Direct Entry"]
["IAEG003440","27905-45-9","248-722-7","3,3,4,4,5,5,6,6,7,7,8,8,9,9,10,10,10-Heptadecafluorodecyl acrylate (8:2 FTAC)","","R1;R2;D1;I","2017-08-14","2023-01-27",null,"Substance Direct Entry"]
["IAEG003443","59071-10-2","261-590-5","2-[ethyl[(pentadecafluoroheptyl)sulphonyl]amino]ethyl acrylate","","R1;R2;D1;I","2017-08-14","2023-01-27",null,"Substance Direct Entry"]
["IAEG003444","64194-22-5","264-727-7","3-methyl-1,5-pentanediyl diacrylate","","R1;R2;D1","2017-08-14","2017-08-14","100.058.825","Substance Direct Entry"]
["IAEG003456","68758-57-6","272-148-6","3,3,4,4,5,5,6,6,7,7,8,8,9,9,10,10,11,11,12,12,13,13,14,14,14-pentacosafluorotetradecane-1-sulphonyl chloride","","R1;R2;D1;I","2020-01-16","2023-01-27",null,"Substance Direct Entry"]
["IAEG003457","68957-58-4","273-350-7","Trimethyl-3-[[(tridecafluorohexyl)sulphonyl]amino]propylammonium iodide","","R1;R2;D1;I","2017-08-14","2023-01-27",null,"Substance Direct Entry"]
["IAEG003459","93820-33-8","298-613-3","N-(2-ethylhexyl)isononan-1-amide","","R1;R2;D1","2019-01-24","2019-01-24",null,"Substance Direct Entry"]
["IAEG003463","375-03-1","No EC available","Propane, 1,1,1,2,2,3,3-heptafluoro-3-methoxy-","","R1;R2;D1","2017-08-14","2017-08-14",null,"Substance Direct Entry"]
["IAEG003464","1577-03-3","No EC available","1-Penten-3-one, 1-(4-chlorophenyl)-4,4-dimethyl-","","R1;R2;D1","2020-01-16","2020-01-16","100.103.461","Substance Direct Entry"]
["IAEG003471","2479-46-1","No EC available","Benzenamine, 4,4'-[1,3-phenylenebis(oxy)]bis-","","R1;R2;D1","2017-08-14","2017-08-14",null,"Substance Direct Entry"]
["IAEG003481","12032-75-6","No EC available","Manganese yttrium oxide (MnYO3)","","R1;R2;D1","2017-08-14","2017-08-14",null,"Substance Direct Entry"]
["IAEG003482","12163-45-0","No EC available","Manganese strontium oxide (MnSrO3)","","R1;R2;D1","2017-08-14","2017-08-14",null,"Substance Direct Entry"]
["IAEG003484","26738-51-2","No EC available","3,6,9,12-Tetraoxapentadecane, 1,1,1,2,4,4,5,7,7,8,10,10,11,13,13,14,14,15,15,15-eicosafluoro-5,8,11-tris(trifluoromethyl)-","","R1;R2;D1;I","2017-08-14","2023-01-27",null,"Substance Direct Entry"]
["IAEG003485","19019-43-3","No EC available","Glycine, N-(carboxymethyl)-N-[2-[(carboxymethyl)amino]ethyl]-, sodium salt (1:3)","","R1;R2;D1","2017-08-14","2017-08-14",null,"Substance Direct Entry"]
["IAEG003488","19721-22-3","No EC available","1-Propanol, 3-mercapto-","","R1;R2;D1","2017-08-14","2017-08-14",null,"Substance Direct Entry"]
["IAEG003490","25249-16-5","No EC available","2-Propenoic acid, 2-methyl-, 2-hydroxyethyl ester, homopolymer","","R1;R2;D1","2017-08-14","2017-08-14",null,"Substance Direct Entry"]
["IAEG003504","37338-48-0","No EC available","Poly[oxy(methyl-1,2-ethanediyl)], .alpha.-[2-[ethyl[(1,1,2,2,3,3,4,4,5,5,6,6,7,7,8,8,8-heptadecafluorooctyl)sulfonyl]amino]ethyl]-.omega.-hydroxy-","","R1;R2;D1;I","2017-08-14","2023-01-27",null,"Substance Direct Entry"]
["IAEG003514","56372-23-7","No EC available","Poly(oxy-1,2-ethanediyl), .alpha.-[2-[ethyl[(1,1,2,2,3,3,4,4,5,5,6,6,6-tridecafluorohexyl)sulfonyl]amino]ethyl]-.omega.-hydroxy-","","R1;R2;D1;I","2017-08-14","2023-01-27",null,"Substance Direct Entry"]
["IAEG003519","68526-97-6","No EC available","Alcohols, C3-12, .beta.-.omega.-perfluoro-.omega.-hydro, sodium salts","","R1;R2;D1","2020-01-16","2020-01-16",null,"Substance Direct Entry"]
["IAEG003520","65104-45-2","No EC available","2-Propenoic acid, 2-methyl-, 3,3,4,4,5,5,6,6,7,7,8,8,9,9,10,10,11,11,12,12,12-heneicosafluorododecyl ester, polymer with 3,3,4,4,5,5,6,6,7,7,8,8,9,9,10,10,10-heptadecafluorodecyl 2-methyl-2-propenoate, methyl 2-methyl-2-propenoate, 3,3,4,4,5,5,6,6,7,7,8,8,9,9,10,10,11,11,12,12,13,13,14,14,14-pentacosafluorotetradecyl 2-methyl-2-propenoate and 3,3,4,4,5,5,6,6,7,7,8,8,8-tridecafluorooctyl 2-methyl-2-propenoate","","R1;R2;D1","2020-01-16","2020-01-16",null,"Substance Direct Entry"]
["IAEG003524","65530-58-7","No EC available","Poly(difluoromethylene), .alpha.-fluoro-.omega.-(2-hydroxyethyl)-, ester with 2,15-bis(carboxymethyl)-4,13-dioxo-3,14-dioxa-5,12-diazahexadecane-1,2,15,16-tetracarboxylic acid (6:1)","","R1;R2;D1","2019-01-24","2019-01-24",null,"Substance Direct Entry"]
["IAEG003530","65530-65-6","No EC available","Poly(difluoromethylene), .alpha.-fluoro-.omega.-[2-[(1-oxooctadecyl)oxy]ethyl]-","","R1;R2;D1;I","2017-08-14","2023-01-27",null,"Substance Direct Entry"]
["IAEG003534","65530-69-0","No EC available","Poly(difluoromethylene), .alpha.-[2-[(2-carboxyethyl)thio]ethyl]-.omega.-fluoro-, lithium salt (1:1)","","R1;R2;D1;I","2017-08-14","2023-01-27",null,"Substance Direct Entry"]
["IAEG003535","65530-70-3","No EC available","Poly(difluoromethylene), .alpha.,.alpha.'-[phosphinicobis(oxy-2,1-ethanediyl)]bis[.omega.-fluoro-, ammonium salt (1:1)","","R1;R2;D1;I","2017-08-14","2023-01-27",null,"Substance Direct Entry"]
["IAEG003536","65530-71-4","No EC available","Poly(difluoromethylene), .alpha.-fluoro-.omega.-[2-(phosphonooxy)ethyl]-, ammonium salt (1:1)","","R1;R2;D1;I","2017-08-14","2023-01-27",null,"Substance Direct Entry"]
["IAEG003537","65530-72-5","No EC available","Poly(difluoromethylene), .alpha.-fluoro-.omega.-[2-(phosphonooxy)ethyl]-, ammonium salt (1:2)","","R1;R2;D1;I","2017-08-14","2023-01-27",null,"Substance Direct Entry"]
["IAEG003548","65530-85-0","No EC available","Poly(difluoromethylene), .alpha.-(cyclohexylmethyl)-.omega.-hydro-","","R1;R2;D1","2017-08-14","2017-08-14",null,"Substance Direct Entry"]
["IAEG003549","65545-80-4","No EC available","Poly(oxy-1,2-ethanediyl), .alpha.-hydro-.omega.-hydroxy-, ether with .alpha.-fluoro-.omega.-(2-hydroxyethyl)poly(difluoromethylene) (1:1)","","R1;R2;D1;I","2017-08-14","2023-01-27",null,"Substance Direct Entry"]
["IAEG003552","66034-17-1","No EC available","Diphosphoric acid, compd. with piperazine (1:1)","","R1;R2;D1","2017-08-14","2017-08-14","100.104.550","Substance Direct Entry"]
["IAEG003563","68259-38-1","No EC available","Poly[oxy(methyl-1,2-ethanediyl)], .alpha.-[2-[ethyl[(1,1,2,2,3,3,4,4,5,5,6,6,6-tridecafluorohexyl)sulfonyl]amino]ethyl]-.omega.-hydroxy-","","R1;R2;D1;I","2017-08-14","2023-01-27",null,"Substance Direct Entry"]
["IAEG003564","68259-39-2","No EC available","Poly[oxy(methyl-1,2-ethanediyl)], .alpha.-[2-[ethyl[(1,1,2,2,3,3,4,4,5,5,6,6,7,7,7-pentadecafluoroheptyl)sulfonyl]amino]ethyl]-.omega.-hydroxy-","","R1;R2;D1;I","2017-08-14","2023-01-27",null,"Substance Direct Entry"]
["IAEG003568","68298-80-6","No EC available","Poly(oxy-1,2-ethanediyl), .alpha.-[2-[ethyl[(1,1,2,2,3,3,4,4,5,5,5-undecafluoropentyl)sulfonyl]amino]ethyl]-.omega.-hydroxy-","","R1;R2;D1;I","2017-08-14","2023-01-27",null,"Substance Direct Entry"]
["IAEG003569","68298-81-7","No EC available","Poly(oxy-1,2-ethanediyl), .alpha.-[2-[ethyl[(1,1,2,2,3,3,4,4,5,5,6,6,7,7,7-pentadecafluoroheptyl)sulfonyl]amino]ethyl]-.omega.-hydroxy-","","R1;R2;D1;I","2017-08-14","2023-01-27",null,"Substance Direct Entry"]
["IAEG003571","68310-17-8","No EC available","Poly[oxy(methyl-1,2-ethanediyl)], .alpha.-[2-[ethyl[(1,1,2,2,3,3,4,4,5,5,5-undecafluoropentyl)sulfonyl]amino]ethyl]-.omega.-hydroxy-","","R1;R2;D1;I","2017-08-14","2023-01-27",null,"Substance Direct Entry"]
["IAEG003595","68958-60-1","No EC available","Poly(oxy-1,2-ethanediyl), .alpha.-[2-[ethyl[(1,1,2,2,3,3,4,4,5,5,6,6,7,7,7-pentadecafluoroheptyl)sulfonyl]amino]ethyl]-.omega.-methoxy-","","R1;R2;D1;I","2017-08-14","2023-01-27",null,"Substance Direct Entry"]
["IAEG003613","94148-67-1","No EC available","Benzenamine, 4,4'-[[1,1'-biphenyl]-2,5-diylbis(oxy)]bis-","","R1;R2;D1","2017-08-14","2017-08-14",null,"Substance Direct Entry"]
["IAEG003633","78560-44-8","No EC available","Silane, trichloro(3,3,4,4,5,5,6,6,7,7,8,8,9,9,10,10,10-heptadecafluorodecyl)-","","R1;R2;D1;I","2017-08-14","2023-01-27",null,"Substance Direct Entry"]
["IAEG003634","79070-11-4","No EC available","Poly(difluoromethylene), .alpha.-chloro-.omega.-(2,2-dichloro-1,1,2-trifluoroethyl)-","","R1;R2;D1;I","2017-08-14","2023-01-27",null,"Substance Direct Entry"]
["IAEG003638","83048-65-1","No EC available","Silane, (3,3,4,4,5,5,6,6,7,7,8,8,9,9,10,10,10-heptadecafluorodecyl)trimethoxy-","","R1;R2;I","2017-08-14","2023-01-27",null,"Substance Direct Entry"]
["IAEG003643","87093-13-8","No EC available","Oxirane, 2,2',2''-[ethylidynetris(4,1-phenyleneoxymethylene)]tris-","","R1;R2;D1","2017-08-14","2017-08-14",null,"Substance Direct Entry"]
["IAEG003646","93705-66-9","439-910-1","Oxirane, 2,2'-[methylenebis[(2,6-dimethyl-4,1-phenylene)oxymethylene]]bis-","","R1;R2;D1","2017-08-14","2017-08-14","100.103.645","Substance Direct Entry"]
["IAEG003663","119344-86-4","No EC available","1-Butanone, 2-(dimethylamino)-2-[(4-methylphenyl)methyl]-1-[4-(4-morpholinyl)phenyl]-","1-Butanone, 2-(dimethylamino)-2-[(4-methylphenyl)methyl]-1-[4-(4-morpholinyl)phenyl]-","R1;R2;D1","2023-01-27","2023-01-27","100.103.524","Substance Direct Entry"]
["IAEG003666","126213-50-1","No EC available","Thieno[3,4-b]-1,4-dioxin, 2,3-dihydro-","","R1;R2;D1","2017-08-14","2017-08-14","100.101.444","Substance Direct Entry"]
["IAEG003693","157707-95-4","No EC available","L-Alanine, N-[5-(acetylamino)-2-chloro-4-[2-(2-cyano-4-nitrophenyl)diazenyl]phenyl]-, methyl ester","","R1;R2;D1","2020-01-16","2020-01-16",null,"Substance Direct Entry"]
["IAEG003694","160848-22-6","No EC available","3'H-Cyclopropa[1,9][5,6]fullerene-C60-Ih-3'-butanoic acid, 3'-phenyl-, methyl ester","","R1;R2;D1","2017-08-14","2017-08-14",null,"Substance Direct Entry"]
["IAEG003695","163702-05-4","No EC available","Butane, 1-ethoxy-1,1,2,2,3,3,4,4,4-nonafluoro-","","D1","2017-08-14","2017-08-14",null,"Substance Direct Entry"]
["IAEG003698","164383-18-0","No EC available","Cyclohexanamine, N,N-dimethyl-, compd. with .alpha.-isotridecyl-.omega.-hydroxypoly(oxy-1,2-ethanediyl) phosphate","","R1;R2;D1","2017-08-14","2017-08-14",null,"Substance Direct Entry"]
["IAEG003716","186321-98-2","No EC available","Benzene, 1,1'-methylenebis[4-isocyanato-, homopolymer, Bu alc.-blocked","","R1;R2;D1","2020-01-16","2020-01-16",null,"Substance Direct Entry"]
["IAEG003722","204336-40-3","No EC available","Oxirane, 2-methyl-, polymer with oxirane, mono(3,5,5-trimethylhexyl) ether","","R1;R2;D1","2021-02-02","2021-02-02",null,"Substance Direct Entry"]
["IAEG003741","364059-77-8","No EC available","2-Propenoic acid, 3-(C8-10-alkyloxy)-2-hydroxypropyl esters","","R1;R2;D1","2017-08-14","2017-08-14",null,"Substance Direct Entry"]
["IAEG003745","595585-15-2","No EC available","D-Glucurono-D-gluco-6-deoxy-L-mannan, acetate, calcium magnesium potassium sodium salt","","R1;R2;D1","2021-02-02","2021-02-02",null,"Substance Direct Entry"]
["IAEG003746","609771-63-3","No EC available","3'H-Cyclopropa[8,25][5,6]fullerene-C70-D5h(6)-3'-butanoic acid, 3'-phenyl-, methyl ester","","R1;R2;D1","2017-08-14","2017-08-14",null,"Substance Direct Entry"]
["IAEG003754","642928-30-1","No EC available","Distillates (Fischer-Tropsch), hydroisomerized middle, C10-13-branched alkane fraction","","R1;R2;D1","2020-01-16","2020-01-16",null,"Substance Direct Entry"]
["IAEG003755","649574-37-8","No EC available","Silica, [(ethenylsilylidyne)tris(oxy)]-modified","","R1;R2;D1","2017-08-14","2017-08-14",null,"Substance Direct Entry"]
["IAEG003765","1051371-21-1","No EC available","3'H-Cyclopropa[7,22][5,6]fullerene-C70-D5h(6)-3'-butanoic acid, 3'-phenyl-, methyl ester","","R1;R2;D1","2017-08-14","2017-08-14",null,"Substance Direct Entry"]
["IAEG003772","1078715-83-9","No EC available","Phenol, 2-[[[3-(dimethylamino)propyl]amino]methyl]-6-methyl-, 4-polybutene derivs.","","R1;R2;D1","2020-01-16","2020-01-16",null,"Substance Direct Entry"]
["IAEG003773","1078715-90-8","No EC available","2-Propenoic acid, 2-methyl-, cyclohexyl ester, polymer with ethenylbenzene and 2-oxiranylmethyl 2-methyl-2-propenoate, tert-Bu 2-ethylhexaneperoxoate-initiated","","R1;R2;D1","2020-01-16","2020-01-16",null,"Substance Direct Entry"]
["IAEG003774","1078726-27-8","No EC available","Cuprate(3-), [3-[2-[5-(hydroxy-.kappa.O)-4-[2-[1-(hydroxy-.kappa.O)-6-(phenylamino)-3-sulfo-2-naphthalenyl]diazenyl-.kappa.N1]-2-methylphenyl]diazenyl]-1,5-naphthalenedisulfonato(5-)]-, hydrogen, compd. with 2,2'-iminobis[ethanol] (1:3:3)","","R1;R2;D1","2020-01-16","2020-01-16",null,"Substance Direct Entry"]
["IAEG003775","1078726-28-9","No EC available","Cuprate(3-), [3-[2-[5-(hydroxy-.kappa.O)-4-[2-[1-(hydroxy-.kappa.O)-6-(phenylamino)-3-sulfo-2-naphthalenyl]diazenyl-.kappa.N1]-2-methylphenyl]diazenyl]-1,5-naphthalenedisulfonato(5-)]-, ammonium (1:3)","","R1;R2;D1","2020-01-16","2020-01-16",null,"Substance Direct Entry"]
["IAEG003778","484024-67-1","No EC available","1-Butanesullfonamide, 1,1,2,2,3,3,4,4,4-nonafluoro-N- (2hydroxyethyl) -, monoammium salt","","R1;R2;D1","2019-01-24","2019-01-24",null,"Substance Direct Entry"]
["IAEG003780","406-78-0","No EC available","Ethane, 1,1,2,2-tetrafluoro-1-(2,2,2-trifluoroethoxy)-","","R1;R2;D1","2015-03-17","2017-08-14",null,"Substance Direct Entry"]
["IAEG003782","16923-87-8","No EC available","Silicate(2-), hexafluoro-, cesium (1:2)","","R1;R2;D1","2020-01-16","2020-01-16",null,"Substance Direct Entry"]
["IAEG003783","30424-08-9","No EC available","Oxirane, 2,2'-(phenylene)bis-","","R1;R2;D1","2021-02-02","2021-02-02",null,"Substance Direct Entry"]
["IAEG003784","35397-13-8","No EC available","Propane, 1,1,1,2,2,3,3-heptafluoro-3-[(1,2,2-trifluoroethenyl)oxy]-, polymer with 1-chloro-1,2,2-trifluoroethene and ethene","","R1;R2;D1","2020-01-16","2020-01-16",null,"Substance Direct Entry"]
["IAEG003785","57570-64-6","No EC available","1-Propene, 1,1,2,3,3,3-hexafluoro-, polymer with 1,1-difluoroethene, 1,1,2,2-tetrafluoroethene and 1,1,2-trifluoro-2-(trifluoromethoxy)ethene","","R1;R2;D1","2020-01-16","2020-01-16",null,"Substance Direct Entry"]
["IAEG003791","1254743-03-7","No EC available","Imidodicarbonic diamide, N,N-dibutyl-N',2-bis[4-[(4-isocyanatophenyl)methyl]phenyl]-","","R1;R2;D1","2020-01-16","2020-01-16",null,"Substance Direct Entry"]
["IAEG003793","86960-46-5","617-941-3","Benzoic acid, 4-[ (1-oxodecyl) oxy]-","","R1;R2;D1","2020-01-16","2020-01-16","100.111.065","Substance Direct Entry"]
["IAEG003794","163802-53-7","642-902-2","3-(trimethoxysilyl)propyl (2E,4E)-hexa-2,4-dienoate","","R1;R2;D1","2020-01-16","2020-01-16","100.170.723","Substance Direct Entry"]
["IAEG003796","1279108-20-1","No EC available","Hexane, 1,6-diisocyanato-, homopolymer, .alpha.-[1-[[[3-[[3-(dimethylamino)propyl]amino]propyl]amino]carbonyl]-1,2,2,2-tetrafluoroethyl]-.omega.-(1,1,2,2,3,3,3-heptafluoropropoxy)poly[oxy[trifluoro(trifluoromethyl)-1,2-ethanediyl]]-blocked","","R1;R2;D1","2020-01-16","2020-01-16",null,"Substance Direct Entry"]
["IAEG003797","1568954-90-4","No EC available","Polyphosphoric acids, esters with triethanolamine, compds. with alkylpyridines","","R1;R2;D1","2020-01-16","2020-01-16",null,"Substance Direct Entry"]
["IAEG003798","3090-13-9","No EC available","2,4-Hexadienoic acid, 3-(trimethoxysilyl)propyl ester","","R1;R2;D1","2020-01-16","2020-01-16",null,"Substance Direct Entry"]
["IAEG003800","1417164-49-8","No EC available","Bismuth nitrate oxide (Bi3(NO3)O4)","","R1;R2;D1","2020-01-16","2020-01-16",null,"Substance Direct Entry"]
["IAEG003801","1332-21-4","603-721-4","Asbestos Fibres","Asbestos (amphibole forms)","R1;R2;D1","2017-08-14","2017-08-14",null,"Substance Direct Entry"]
["IAEG003802","85204-21-3","286-316-1","4-[(2-ethylhexyl)amino]-4-oxoisocrotonic acid, compound with 2,2',2''-nitrilotris[ethanol] (1:1)","","I","2015-03-17","2015-03-17",null,"Substance Direct Entry"]
["IAEG003803","56-23-5","200-262-8","Carbon tetrachloride","Tetrachloromethane","R1;R2;D1;I","2015-03-17","2023-01-27","100.000.239","Substance Direct Entry"]
["IAEG003804","71-55-6","200-756-3","1,1,1-Trichloroethane","Methyl chloroform","R1;R2;D1","2015-03-17","2015-03-17","100.000.688","Substance Direct Entry"]
["IAEG003805","74-83-9","200-813-2","Bromomethane","Methyl bromide","R1;R2;D1","2015-03-17","2015-03-17","100.000.740","Substance Direct Entry"]
["IAEG003806","124-73-2","204-711-9","1,2-Dibromotetrafluoroethane","Dibromotetrafluoroethane (Halon 2402)","R1;R2;D1","2015-03-17","2015-03-17",null,"Substance Direct Entry"]
["IAEG003807","353-59-3","206-537-9","Bromochlorodifluoromethane (Halon 1211)","","R1;R2;D1","2015-03-17","2015-03-17",null,"Substance Direct Entry"]
["IAEG003808","74-97-5","200-826-3","Bromochloromethane (Halon 1011)","","R1;R2;D1","2015-03-17","2015-03-17","100.000.752","Substance Direct Entry"]
["IAEG003809","75-63-8","200-887-6","Bromotrifluoromethane (Halon 1301)","","R1;R2;D1","2015-03-17","2015-03-17","100.000.807","Substance Direct Entry"]
["IAEG003810","115-96-8","204-118-5","Tris(2-chloroethyl) phosphate (TCEP)","","R2;D1;I","2015-03-17","2023-01-27","100.003.744","Substance Direct Entry"]
["IAEG003811","106-89-8","203-439-8","1-Chloro-2,3-epoxypropane","Epichlorohydrin","R2;I","2015-03-17","2023-01-27","100.003.128","Substance Direct Entry"]
["IAEG003812","79-46-9","201-209-1","2-Nitropropane","","R2","2015-03-17","2017-08-14","100.001.100","Substance Direct Entry"]
["IAEG003813","75-56-9","200-879-2","Propylene oxide","1,2-Epoxypropane; Methyloxirane","R2;D1","2017-08-14","2017-08-14","100.000.800","Substance Direct Entry"]
["IAEG003814","100-44-7","202-853-6","Alpha-chlorotoluene","Benzyl chloride","R1;R2;I","2015-03-17","2023-01-27","100.002.594","Substance Direct Entry"]
["IAEG003815","88-72-2","201-853-3","2-Nitrotoluene","O-Nitrotoluene","R2","2015-03-17","2015-03-17","100.001.685","Substance Direct Entry"]
["IAEG003816","64-67-5","200-589-6","Diethyl sulphate","","D1","2015-03-17","2015-03-17","100.000.536","Substance Direct Entry"]
["IAEG003817","77-78-1","201-058-1","Dimethyl sulphate (DMS)","","D1","2015-03-17","2015-03-17","100.000.963","Substance Direct Entry"]
["IAEG003818","133-49-3","205-107-8","Pentachlorobenzenethiol","Pentachlorothiophenol","R1;R2;D1","2015-03-17","2017-08-14",null,"Substance Direct Entry"]
["IAEG003819","7758-01-2","231-829-8","Potassium bromate","Bromic acid, potassium salt","R2","2015-03-17","2017-08-14","100.028.936","Substance Direct Entry"]
["IAEG003820","90-94-8","202-027-5","Michler's Ketone","4,4'-Bis(dimethylamino)benzophenone","R2;D1","2015-03-17","2017-08-14","100.001.843","Substance Direct Entry"]
["IAEG003821","117-82-8","204-212-6","Bis(2-methoxyethyl) phthalate","Di(methoxyethyl) phthalate (DMEP)","R1;R2;D1","2017-08-14","2017-08-14","100.003.830","Substance Direct Entry"]
["IAEG003822","106-88-7","203-438-2","1,2-Epoxybutane","Ethyloxirane; 1-Butene oxide","R2","2015-03-17","2017-08-14","100.003.127","Substance Direct Entry"]
["IAEG003823","111-77-3","203-906-6","2-(2-methoxyethoxy)ethanol","Diethylene glycol monomethyl ether (DEGME)","R2","2017-08-14","2017-08-14","100.003.551","Substance Direct Entry"]
["IAEG003824","107-05-1","203-457-6","3-Chloropropene","Allyl chloride","R2","2015-03-17","2017-08-14","100.003.144","Substance Direct Entry"]
["IAEG003825","1314-62-1","215-239-8","Divanadium pentaoxide","Vanadium pentoxide","R2","2015-03-17","2017-08-14","100.013.855","Substance Direct Entry"]
["IAEG003826","123-31-9","204-617-8","Hydroquinone","1,4-Benzenediol","R2","2015-03-17","2017-08-14","100.004.199","Substance Direct Entry"]
["IAEG003827","120-80-9","204-427-5","1,2-Dihydroxybenzene","Pyrocatechol; Catechol; 1,2-Benzenediol","R2","2017-08-14","2017-08-14","100.004.025","Substance Direct Entry"]
["IAEG003828","79-07-2","201-174-2","2-Chloroacetamide","2-Chloroacetamide","R2","2023-01-27","2023-01-27","100.001.068","Substance Direct Entry"]
["IAEG003829","62-56-6","200-543-5","Thiourea","","R2","2017-08-14","2017-08-14","100.000.494","Substance Direct Entry"]
["IAEG003830","1962-75-0","217-803-9","Dibutyl terephthalate","","R2","2020-01-16","2020-01-16","100.016.186","Substance Direct Entry"]
["IAEG003832","53306-54-0","258-469-4","Bis(2-propylheptyl) phthalate","Di(2-propyl heptyl) phthalate (DPHP)","R2","2017-08-14","2017-08-14","100.053.137","Substance Direct Entry"]
["IAEG003834","1912-24-9","217-617-8","Atrazine","","R2","2015-03-17","2017-08-14","100.016.017","Substance Direct Entry"]
["IAEG003835","6786-83-0","229-851-8","Alpha,alpha-bis[4-(dimethylamino)phenyl]-4 (phenylamino)naphthalene-1-methanol","C.I. Solvent Blue 4","R2;D1","2017-08-14","2017-08-14","100.027.138","Substance Direct Entry"]
["IAEG003836","68512-30-1","270-966-8","Phenol, methylstyrenated","","R2","2017-08-14","2017-08-14","100.228.163","Substance Direct Entry"]
["IAEG003838","87-86-5","201-778-6","Pentachlorophenol (PCP)","","R1;R2;D1","2015-03-17","2017-08-14",null,"Substance Direct Entry"]
["IAEG003839","732-26-3","211-989-5","2,4,6-Tri-tert-butylphenol","Tri-tert-butylphenol; Dodecyl phenol","R1;R2;D1","2017-08-14","2017-08-14","100.010.900","Substance Direct Entry"]
["IAEG003840","1582-09-8","216-428-8","Trifluralin","","R2","2017-08-14","2017-08-14",null,"Substance Direct Entry"]
["IAEG003841","1897-45-6","217-588-1","Chlorothalonil","Tetrachloroisophthalonitrile","R2","2017-08-14","2017-08-14","100.015.990","Substance Direct Entry"]
["IAEG003845","105076-77-5","402-430-8","N-(5-(bis(2-methoxyethyl)amino)-2-((5-nitro-2,1-benzisothiazol-3-yl)azo)phenylacetamide","","R2","2020-01-16","2020-01-16","100.100.425","Substance Direct Entry"]
["IAEG003846","90076-65-6","415-300-0","Lithium bis(trifluoromethylsulfonyl)imide","","R2","2017-08-14","2017-08-14","100.101.430","Substance Direct Entry"]
["IAEG003847","74336-60-0","277-824-4","9,10-Anthracenedione, 1-[(5,7-dichloro-1,9-dihydro-2-methyl-9-oxopyrazolo[5,1-b]quinazolin-3-yl)azo]-","","R2","2017-08-14","2017-08-14",null,"Substance Direct Entry"]
["IAEG003848","10448-09-6","233-931-8","Cyclotetrasiloxane, heptamethylphenyl-","","R2","2017-08-14","2017-08-14",null,"Substance Direct Entry"]
["IAEG003849","68551-44-0","271-378-4","Fatty acids, C6-19-branched,  Zinc salts","","R2","2015-03-17","2017-08-14","100.064.870","Substance Direct Entry"]
["IAEG003850","2425-85-6","219-372-2","1-(4-methyl-2-nitrophenylazo)-2-naphthol","C.I. Pigment Red 3; C.I. 12120","R2","2017-08-14","2017-08-14","100.017.612","Substance Direct Entry"]
["IAEG003852","87-10-5","201-723-6","Tribromsalan","3,4',5-Tribromosalicylanilide","R2","2017-08-14","2017-08-14",null,"Substance Direct Entry"]
["IAEG003853","3118-97-6","221-490-4","1-(2,4-dimethylphenylazo)-2-naphthol","","R2","2017-08-14","2017-08-14","100.019.537","Substance Direct Entry"]
["IAEG003854","509-34-2","208-096-8","3',6'-bis(diethylamino)spiro[isobenzofuran-1(3H),9'-[9H]xanthene]-3-one","","R2","2017-08-14","2017-08-14","100.007.361","Substance Direct Entry"]
["IAEG003856","1229-55-6","214-968-9","1-[(2-methoxyphenyl)azo]-2-naphthol","","R2","2015-03-17","2017-08-14","100.013.608","Substance Direct Entry"]
["IAEG003858","55-18-5","200-226-1","N-Nitrosodiethylamine (NDEA)","","R2","2017-08-14","2017-08-14",null,"Substance Direct Entry"]
["IAEG003859","76-60-8","200-972-8","Phenol, 4,4'-(3H-2,1-benzoxathiol- 3-ylidene)bis[2,6-dibromo-3-methyl-, S,S-dioxide","","R2","2017-08-14","2017-08-14",null,"Substance Direct Entry"]
["IAEG003861","93-46-9","202-249-2","1,4-benzenediamine, N,N'-di-2-naphthalenyl- (Diafen NN)","","R2","2017-08-14","2017-08-14",null,"Substance Direct Entry"]
["IAEG003862","96-66-2","202-522-6","Phenol, 4,4'-thiobis[2-(1,1-dimethylethyl)-6-methyl-","","R2","2017-08-14","2017-08-14",null,"Substance Direct Entry"]
["IAEG003864","598-55-0","209-939-2","Methyl carbamate","","R2","2017-08-14","2017-08-14","100.009.037","Substance Direct Entry"]
["IAEG003865","603-33-8","210-033-4","Bismuthine, triphenyl-","","R2","2017-08-14","2017-08-14",null,"Substance Direct Entry"]
["IAEG003866","603-48-5","210-043-9","Benzenamine, 4,4',4''-methylidynetris[N,N-dimethyl-","","R2;D1","2017-08-14","2017-08-14","100.009.131","Substance Direct Entry"]
["IAEG003868","626-39-1","210-947-3","1,3,5-Tribromobenzene","","R2","2017-08-14","2017-08-14",null,"Substance Direct Entry"]
["IAEG003870","1000-05-1","213-669-0","Tetrasiloxane, 1,1,3,3,5,5,7,7-octamethyl","","R2","2020-01-16","2020-01-16",null,"Substance Direct Entry"]
["IAEG003874","1325-86-6","215-409-1","1-Naphthalenemethanol, alpha,alpha-bis[4-(diethylamino) phenyl]-4-(ethylamino)-","","R2","2017-08-14","2017-08-14",null,"Substance Direct Entry"]
["IAEG003883","4395-65-7","224-520-4","1-amino-4-(phenylamino)anthraquinone","Disperse Blue 19","R2","2017-08-14","2017-08-14",null,"Substance Direct Entry"]
["IAEG003888","6300-37-4","228-587-0","C.I. Disperse Yellow 7","4-[[p-(phenylazo)phenyl]azo]-o-cresol; Disperse Fast Yellow 4K","R2","2017-08-14","2017-08-14",null,"Substance Direct Entry"]
["IAEG003899","14295-43-3","238-222-7","Benzo[b]thiophen-3(2H)-one, 4,7-dichloro-2-(4,7-dichloro- 3-oxobenzo[b]thien-2(3H)-ylidene)-","","R2","2017-08-14","2017-08-14",null,"Substance Direct Entry"]
["IAEG003903","17540-75-9","241-533-0","DTBSBP","4-sec-butyl-2,6-di-tert-butylphenol; 2,6-bis(1,1-dimethylethyl)-4-(1-methylpropyl)phenol","R2;I","2019-01-24","2023-01-27","100.037.742","Substance Direct Entry"]
["IAEG003954","69430-47-3","No EC available","Siloxanes and Silicones, di-Me, reaction products with Me hydrogen siloxanes and 1,1,3,3-tetramethyldisiloxane",null,"R2","2022-02-17","2022-02-17",null,"Substance Direct Entry"]
["IAEG003961","70776-86-2","274-880-1","2-Butanone, 4-[[[1,2,3,4,4a,9,10,10a- octahydro-1,4a-dimethyl-7-(1-methylethyl)-1-phenanthrenyl ]methyl](3-oxo-3-phenylpropyl)amino]-, [1R-(1alpha,4abeta,10aalpha)]-","","R2","2017-08-14","2017-08-14",null,"Substance Direct Entry"]
["IAEG004000","93805-00-6","298-480-1","Phenol, 4-[[2-methoxy-4-[(2-methoxyphenyl) azo]-5-methylphenyl]azo]-","","R2","2020-01-16","2020-01-16",null,"Substance Direct Entry"]
["IAEG004010","114910-04-2","No EC available","1-Naphthalenediazonium, 4-[[4-[(4-nitro-2-sulfophenyl) amino]phenyl]azo]-6-sulfo-, chloride, reaction products with formaldehyde and salicylic acid, ammonium sodium salts","","R2","2020-01-16","2020-01-16",null,"Substance Direct Entry"]
["IAEG004019","440-17-5","207-123-0","Trifluoperazine dihydrochloride","","R2","2017-08-14","2017-08-14",null,"Substance Direct Entry"]
["IAEG004022","3115-49-9","221-486-2","(4-nonylphenoxy)acetic acid","","R2","2017-08-14","2017-08-14","100.019.533","Substance Direct Entry"]
["IAEG004025","68412-63-5","270-201-8","Phosphoric acid, C12-15-alkyl esters","","R2","2017-08-14","2017-08-14",null,"Substance Direct Entry"]
["IAEG004026","13597-19-8","237-044-7","Cerium vanadium tetraoxide","","R2","2020-01-16","2020-01-16","100.033.662","Substance Direct Entry"]
["IAEG004027","475-71-8","207-498-0","Benzo[h]benz[5,6]acridino[2,1,9,8-klmna]acridine-8,16-dione","","R2","2020-01-16","2020-01-16",null,"Substance Direct Entry"]
["IAEG004028","70865-20-2","274-950-1","Sodium 4-[[4-[(4-hydroxy-2-methylphenyl)azo]phenyl]amino]-3-nitrobenzenesulphonate","","R2","2020-01-16","2020-01-16","100.068.115","Substance Direct Entry"]
["IAEG004029","71033-08-4","275-143-7","2,2'-[(1-methylethylidene)bis[4,1-phenyleneoxy[1-(butoxymethyl)ethylene]oxymethylene]]bisoxirane","","R2","2017-08-14","2017-08-14",null,"Substance Direct Entry"]
["IAEG004030","2128-93-0","218-345-2","4-phenylbenzophenone","","R2","2017-08-14","2017-08-14","100.016.678","Substance Direct Entry"]
["IAEG004031","2432-74-8","219-409-2","6-aminohexanonitrile","","R2","2020-01-16","2020-01-16",null,"Substance Direct Entry"]
["IAEG004032","61799-13-1","No EC available","3-Pyridinecarbonitrile, 5-[2-(2-cyano-4-nitrophenyl)diazenyl]-2-[(2-hydroxyethyl)amino]-4-methyl-6-[[3-(2-phenoxyethoxy)propyl]amino]-","","R2","2020-01-16","2020-01-16",null,"Substance Direct Entry"]
["IAEG004033","68187-39-3","No EC available","Fatty acids, C12-14-tertiary, glycidyl esters, reaction products with triethylenetetramine","","R2","2017-08-14","2017-08-14",null,"Substance Direct Entry"]
["IAEG004035","68584-82-7","No EC available","Oxirane, 2-[[3-(trimethoxysilyl)propoxy]methyl]-, hydrolysis products with silica","Silane, trimethoxy[3-(oxiranylmethoxy)propyl]-, hydrolysis products with silica","R2","2020-01-16","2020-01-16",null,"Substance Direct Entry"]
["IAEG004037","123464-54-0","No EC available","Poly(oxy-1,2-ethanediyl), .alpha.-[2(or 4)-(tetrapropenyl)phenyl]-.omega.-hydroxy-","","R2","2020-01-16","2020-01-16",null,"Substance Direct Entry"]
["IAEG004038","149879-98-1","No EC available","1-Propanaminium, N-(carboxymethyl)-N,N-dimethyl-3-[[(13Z)-1-oxo-13-docosen-1-yl]amino]-, inner salt","","R2","2020-01-16","2020-01-16",null,"Substance Direct Entry"]
["IAEG004039","164462-16-2","No EC available","Alanine, N,N-bis(carboxymethyl)-, sodium salt (1:3)","","R2","2017-08-14","2017-08-14","100.102.183","Substance Direct Entry"]
["IAEG004040","188627-10-3","No EC available","Siloxanes and Silicones, di-Me, [[[3-[(2-aminoethyl)amino]-2-methylpropyl]methoxymethylsilyl]oxy]- and (C13-15-alkyloxy)-terminated","","R2","2020-01-16","2020-01-16",null,"Substance Direct Entry"]
["IAEG004041","189233-30-5","No EC available","1-Hexadecanol, manuf. of, distn. lights","","R2","2020-01-16","2020-01-16",null,"Substance Direct Entry"]
["IAEG004042","211510-16-6","No EC available","Benzeneacetic acid, .alpha.-oxo-, 1,1'-(oxydi-2,1-ethanediyl) ester","","R2","2020-01-16","2020-01-16",null,"Substance Direct Entry"]
["IAEG004043","442536-99-4","No EC available","Benzeneacetic acid, .alpha.-oxo-, 2-(2-hydroxyethoxy)ethyl ester","","R2","2020-01-16","2020-01-16",null,"Substance Direct Entry"]
["IAEG004051","882878-48-0","No EC available","Siloxanes and Silicones, dimethyl, methyl-3,3,4,4,5,5,6,6,6-nonafluorohexyl","","R2","2017-08-14","2017-08-14",null,"Substance Direct Entry"]
["IAEG004052","921936-12-1","No EC available","Siloxanes and Silicones, 3-[(2-aminoethyl)amino]propyl Me, di-Me, hydroxyand methoxy-terminated, polymers with polyethylenepolypropylene glycol bis(2-methyl-2-propen-1-yl) ether","","R2","2017-08-14","2017-08-14",null,"Substance Direct Entry"]
["IAEG004053","1001320-38-2","691-061-8","Carbamic acid, N-[(butylthio)thioxomethyl]-, butyl ester","","R2","2015-03-17","2017-08-14","100.218.531","Substance Direct Entry"]
["IAEG004054","120-82-1","204-428-0","1,2,4-Trichlorobenzene","","R2","2015-03-17","2015-03-17","100.004.026","Substance Direct Entry"]
["IAEG004055","85-68-7","201-622-7","Benzyl butyl phthalate","Butyl benzyl phthalate (BBP)","R1;R2;D1;I","2015-03-17","2023-01-27","100.001.475","Substance Direct Entry"]
["IAEG004056","117-81-7","204-211-0","Bis(2-ethylhexyl) phthalate","Di-(2-ethylhexyl) phthalate (DEHP)","R1;R2;D1;I","2015-03-17","2023-01-27","100.003.829","Substance Direct Entry"]
["IAEG004057","84-74-2","201-557-4","Dibutyl phthalate","Di-n-butyl phthalate (DBP)","R1;R2;D1;I","2015-03-17","2023-01-27","100.001.416","Substance Direct Entry"]
["IAEG004058","79-01-6","201-167-4","Trichloroethylene","Trichloroethene (TCE)","R1;R2;D1","2015-03-17","2015-03-17","100.001.062","Substance Direct Entry"]
["IAEG004059","107-06-2","203-458-1","Ethylene dichloride","1,2-Dichloroethane (EDC)","R1;R2;D1;I","2015-03-17","2023-01-27","100.003.145","Substance Direct Entry"]
["IAEG004060","68-12-2","200-679-5","N,N-Dimethylformamide","Dimethyl formamide (DMF)","R1;D1;I","2015-03-17","2023-01-27","100.000.617","Substance Direct Entry"]
["IAEG004061","118-74-1","204-273-9","Hexachlorobenzene (HCB)","","R1;R2","2015-03-17","2017-08-14",null,"Substance Direct Entry"]
["IAEG004062","542-88-1","208-832-8","Bis(chloromethyl) ether","Oxybis(chloromethane)","R1;R2","2015-03-17","2017-08-14",null,"Substance Direct Entry"]
["IAEG004063","107-30-2","203-480-1","Chlorodimethyl ether","Chloromethyl methyl ether (CMME)","R1;R2","2015-03-17","2017-08-14",null,"Substance Direct Entry"]
["IAEG004064","62-75-9","200-549-8","N-Nitrosodimethylamine","Dimethylnitrosoamine (NDMA)","R1;R2","2015-03-17","2015-03-17",null,"Substance Direct Entry"]
["IAEG004065","87-68-3","201-765-5","Hexachlorobuta-1,3-diene","Hexachlorobutadiene (HCBD)","R1;R2;D1;I","2015-03-17","2023-01-27",null,"Substance Direct Entry"]
["IAEG004067","71-43-2","200-753-7","Benzene","","R1;R2;I","2015-03-17","2023-01-27","100.000.685","Substance Direct Entry"]
["IAEG004068","50-00-0","200-001-8","Formaldehyde","","R1;R2;D1;I","2017-08-14","2023-01-27","100.000.002","Substance Direct Entry"]
["IAEG004069","100-42-5","202-851-5","Styrene","Ethenyl-benzene; Vinylbenzene; Phenylethylene; Styrol; Styrolene; Cinnamene","I","2015-03-17","2017-08-14","100.002.592","Substance Direct Entry"]
["IAEG004070","67-66-3","200-663-8","Chloroform","Trichloromethane","R1;R2;I","2015-03-17","2023-01-27","100.000.603","Substance Direct Entry"]
["IAEG004071","75-09-2","200-838-9","Dichloromethane (DCM)","Methylene chloride","R1;R2","2017-08-14","2017-08-14","100.000.763","Substance Direct Entry"]
["IAEG004072","108-95-2","203-632-7","Phenol","","I","2015-03-17","2017-08-14","100.003.303","Substance Direct Entry"]
["IAEG004073","127-18-4","204-825-9","Tetrachloroethylene","Perchloroethylene (PERC)","R2;I","2015-03-17","2023-01-27","100.004.388","Substance Direct Entry"]
["IAEG004074","79-34-5","201-197-8","1,1,2,2-Tetrachloroethane","","R1;R2;I","2017-08-14","2023-01-27",null,"Substance Direct Entry"]
["IAEG004076","111-44-4","203-870-1","Bis(2-chloroethyl) ether (BCEE)","","R2","2017-08-14","2017-08-14","100.003.519","Substance Direct Entry"]
["IAEG004077","634-66-2","211-214-0","1,2,3,4-Tetrachlorobenzene","","R1;R2","2020-01-16","2020-01-16",null,"Substance Direct Entry"]
["IAEG004078","634-90-2","211-217-7","1,2,3,5-Tetrachlorobenzene","","R1;R2","2020-01-16","2020-01-16",null,"Substance Direct Entry"]
["IAEG004080","2385-85-5","219-196-6","Mirex","Dodecachloropentacyclo[5.2.1.02,6.03,9.05,8]decane","R1;R2","2017-08-14","2017-08-14",null,"Substance Direct Entry"]
["IAEG004081","789-02-6","212-332-5","2,2,2,o,p'-Pentachloroethylidenebisbenzene","O,p'-DDT","R1;R2","2017-08-14","2017-08-14",null,"Substance Direct Entry"]
["IAEG004083","203743-03-7","No EC available","2-Propenoic acid, 2-methyl-, hexadecyl ester, polymers with 2-hydroxyethyl methacrylate, gamma-omega-perfluoro-C10-16-alkyl acrylate and stearyl methacrylate","","R2","2020-01-16","2020-01-16",null,"Substance Direct Entry"]
["IAEG004085","464178-90-3","No EC available","2-Propen-1-ol reaction products with pentafluoroiodoethane tetrafluoroethylene telomer, dehydroiodinated, reaction products with epichlorohydrin and triethylenetetramine","","R2","2015-03-17","2019-01-24",null,"Substance Direct Entry"]
["IAEG004089","101-77-9","202-974-4","4,4'-Diaminodiphenylmethane","4,4'-Methylenedianiline (MDA)","R1;R2;D1","2015-03-17","2015-03-17","100.002.705","Substance Direct Entry"]
["IAEG004095","81-15-2","201-329-4","Musk Xylene","5-Tert-butyl-2,4,6-trinitro-m-xylene","R2;D1","2015-03-17","2015-03-17","100.001.210","Substance Direct Entry"]
["IAEG004096","84-69-5","201-553-2","Diisobutyl phthalate (DIBP)","","R1;R2;D1;I","2015-03-17","2023-01-27","100.001.412","Substance Direct Entry"]
["IAEG004097","121-14-2","204-450-0","1-Methyl-2,4-dinitrobenzene","2,4-Dinitrotoluene (DNT)","R2;D1;I","2015-03-17","2023-01-27","100.004.046","Substance Direct Entry"]
["IAEG004098","101-14-4","202-918-9","MOCA","4,4'-Methylenebis(2-chloroaniline); 2,2'-Dichloro-4,4'-methylenedianiline; 4,4'-Diamino-3,3'-dichlorodiphenylmethane","R1;R2;D1","2015-03-17","2015-03-17","100.002.654","Substance Direct Entry"]
["IAEG004099","25214-70-4","500-036-1","Formaldehyde, oligomeric reaction products with aniline (technical MDA)","","R2;D1","2015-03-17","2015-03-17","100.105.544","Substance Direct Entry"]
["IAEG004100","71-48-7","200-755-8","Cobalt di(acetate)","","D1;I","2015-03-17","2023-01-27","100.000.687","Substance Direct Entry"]
["IAEG004101","513-79-1","208-169-4","Cobalt (II) carbonate","","D1;I","2015-03-17","2023-01-27","100.007.428","Substance Direct Entry"]
["IAEG004102","10141-05-6","233-402-1","Cobalt dinitrate","","D1;I","2015-03-17","2023-01-27","100.030.353","Substance Direct Entry"]
["IAEG004103","10124-43-3","233-334-2","Cobalt sulphate","","D1;I","2015-03-17","2023-01-27","100.030.291","Substance Direct Entry"]
["IAEG004104","79-06-1","201-173-7","Acrylamide","Prop-2-enamide; 2-Propenamide","D1","2015-03-17","2015-03-17","100.001.067","Substance Direct Entry"]
["IAEG004105","85535-84-8","287-476-5","Alkanes, C10-13, chloro","Short-chain chlorinated paraffins (SCCP)","R1;R2;D1","2015-03-17","2015-03-17","100.079.496","Substance Direct Entry"]
["IAEG004106","7646-79-9","231-589-4","Cobalt dichloride","","D1;I","2015-03-17","2023-01-27","100.028.718","Substance Direct Entry"]
["IAEG004107","1303-96-4","215-540-4","Disodium tetraborate, anhydrous","Borax; Boric acid, disodium salt; Disodium tetraborate decahydrate; Borax decahydrate; Disodium tetraborate Pentahydrate; Borax pentahydrate","D1","2015-03-17","2015-03-17","100.014.129","Substance Direct Entry"]
["IAEG004108","1330-43-4","215-540-4","Disodium tetraborate, anhydrous","Borax; Boric acid, disodium salt; Disodium tetraborate decahydrate; Borax decahydrate; Disodium tetraborate Pentahydrate; Borax pentahydrate","D1","2015-03-17","2015-03-17","100.014.129","Substance Direct Entry"]
["IAEG004109","12179-04-3","215-540-4","Disodium tetraborate, anhydrous","Borax; Boric acid, disodium salt; Disodium tetraborate decahydrate; Borax decahydrate; Disodium tetraborate Pentahydrate; Borax pentahydrate","D1","2015-03-17","2015-03-17","100.014.129","Substance Direct Entry"]
["IAEG004112","12267-73-1","235-541-3","Tetraboron disodium heptaoxide, hydrate","","D1","2015-03-17","2017-08-14","100.032.298","Substance Direct Entry"]
["IAEG004113","65996-93-2","266-028-2","Pitch, coal tar, high-temp.","","R2;D1;I","2015-03-17","2023-01-27","100.060.007","Substance Direct Entry"]
["IAEG004114","96-18-4","202-486-1","1,2,3-Trichloropropane (1,2,3-TCP)","","R1;R2;D1","2015-03-17","2015-03-17","100.002.261","Substance Direct Entry"]
["IAEG004115","1303-86-2","215-125-8","Diboron trioxide","","D1","2015-03-17","2015-03-17","100.013.751","Substance Direct Entry"]
["IAEG004116","127-19-5","204-826-4","N,N-Dimethylacetamide (DMAC)","","R1;D1;I","2015-03-17","2023-01-27","100.004.389","Substance Direct Entry"]
["IAEG004117","68515-42-4","271-084-6","1,2-Benzenedicarboxylic acid, di-C7-11-branched and linear alkyl esters (DHNUP)","","R2;D1","2015-03-17","2017-08-14","100.064.602","Substance Direct Entry"]
["IAEG004118","90-04-0","201-963-1","2-Methoxyaniline","O-Anisidine","R1;D1","2015-03-17","2017-08-14","100.001.785","Substance Direct Entry"]
["IAEG004119","838-88-0","212-658-8","4,4'-Methylenedi-o-toluidine","4,4'-Methylene bis(2-methylaniline)","R1;D1","2015-03-17","2017-08-14","100.011.508","Substance Direct Entry"]
["IAEG004120","71888-89-6","276-158-1","1,2-Benzenedicarboxylic acid, di-C6-8-branched alkyl esters, C7-rich (DIHP)","","R1;R2;D1","2017-08-14","2017-08-14","100.069.214","Substance Direct Entry"]
["IAEG004121","110-00-9","203-727-3","Furan","","D1","2015-03-17","2015-03-17","100.003.390","Substance Direct Entry"]
["IAEG004122","77-09-8","201-004-7","Phenolphthalein","","D1","2015-03-17","2015-03-17","100.000.914","Substance Direct Entry"]
["IAEG004123","872-50-4","212-828-1","1-Methyl-2-pyrrolidone","N-Methyl-2-pyrrolidone; N-methylpyrrolidone (NMP)","R1;R2;D1;I","2015-03-17","2023-01-27","100.011.662","Substance Direct Entry"]
["IAEG004124","2451-62-9","219-514-3","Triglycidylisocyanurate (TGIC)","1,3,5-Tris(oxiranylmethyl)-1,3,5-triazine-2,4,6(1H,3H,5H)-trione","D1","2015-03-17","2017-08-14","100.017.741","Substance Direct Entry"]
["IAEG004126","605-50-5","210-088-4","Diisopentyl phthalate","Diisopentylphthalate","R1;R2;D1;I","2015-03-17","2023-01-27","100.009.172","Substance Direct Entry"]
["IAEG004128","106-94-5","203-445-0","1-Bromopropane (1-BP)","N-propyl bromide","R2;D1;I","2015-03-17","2023-01-27","100.003.133","Substance Direct Entry"]
["IAEG004129","1120-71-4","214-317-9","1,3-Propanesultone","1,2-Oxathiolane 2,2-dioxide","D1;I","2015-03-17","2023-01-27","100.013.017","Substance Direct Entry"]
["IAEG004130","60-09-3","200-453-6","4-Aminoazobenzene","4-Phenylazoaniline; Aniline Yellow","R1;D1","2015-03-17","2015-03-17","100.000.412","Substance Direct Entry"]
["IAEG004131","88-85-7","201-861-7","Dinoseb","6-Sec-butyl-2,4-dinitrophenol","D1","2015-03-17","2015-03-17","100.001.692","Substance Direct Entry"]
["IAEG004132","96-45-7","202-506-9","Ethylene thiourea","Imidazolidine-2-thione; 2-Imidazoline-2-thiol","D1","2015-03-17","2015-03-17","100.002.280","Substance Direct Entry"]
["IAEG004133","625-45-6","210-894-6","Methoxyacetic acid (MAA)","","D1","2015-03-17","2015-03-17","100.009.904","Substance Direct Entry"]
["IAEG004134","79-16-3","201-182-6","N-methylacetamide","","D1","2015-03-17","2015-03-17","100.001.075","Substance Direct Entry"]
["IAEG004136","7632-04-4","231-556-4","Sodium peroxometaborate","Perboric acid (HBO(O2)), sodium salt, tetrahydrate; Perboric acid (HBO(O2)), sodium salt, monohydrate","R2;D1","2015-03-17","2017-08-14","100.028.688","Substance Direct Entry"]
["IAEG004137","84777-06-0","284-032-2","1,2-Benzenedicarboxylic acid, dipentyl ester, branched and linear","","R2;D1","2015-03-17","2015-03-17","100.076.365","Substance Direct Entry"]
["IAEG004138","59653-74-6","423-400-0","Beta-TGIC","1,3,5-tris[(2S and 2R)-2,3-epoxypropyl]-1,3,5-triazine-2,4,6-(1H,3H,5H)-trione","D1","2015-03-17","2015-03-17","100.102.195","Substance Direct Entry"]
["IAEG004139","143860-04-2","421-150-7","3-Ethyl-2-methyl-2-(3-methylbutyl)-1,3-oxazolidine","Zoldine MS-PLUS","D1","2015-03-17","2017-08-14","100.101.975","Substance Direct Entry"]
["IAEG004140","97-56-3","202-591-2","O-Aminoazotoluene","4-o-Tolylazo-o-toluidine; 4-Amino-2',3-dimethylazobenzene; 2-Amino-5-azotoluene; Solvent Yellow 3; AAT","R1;D1","2015-03-17","2017-08-14","100.002.357","Substance Direct Entry"]
["IAEG004141","92-67-1","202-177-1","Biphenyl-4-ylamine","Xenylamine; 4-Aminobiphenyl; 4-Biphenylamine","R1;R2;D1","2015-03-17","2017-08-14","100.001.980","Substance Direct Entry"]
["IAEG004142","131-18-0","205-017-9","Dipentyl phthalate (DPP)","Di-n-pentyl phthalate (DnPP)","R1;R2;D1","2015-03-17","2015-03-17","100.004.563","Substance Direct Entry"]
["IAEG004143","101-61-1","202-959-2","Michler's Base","N,N,N',N'-tetramethyl-4,4'-methylenedianiline","D1","2015-03-17","2015-03-17","100.002.691","Substance Direct Entry"]
["IAEG004144","302-01-2","206-114-9","Hydrazine","Hydrazine hydrate; Hydrazine monohydrate","D1","2015-03-17","2015-03-17","100.005.560","Substance Direct Entry"]
["IAEG004146","75-12-7","200-842-0","Formamide","","D1","2015-03-17","2017-08-14","100.000.766","Substance Direct Entry"]
["IAEG004147","95-53-4","202-429-0","o-Toluidine","Ortho-Toluidine; 2-Aminotoluene","R1;D1","2015-03-17","2017-08-14","100.002.209","Substance Direct Entry"]
["IAEG004148","95-80-7","202-453-1","4-Methyl-m-phenylenediamine","2,4-Toluenediamine; 2,4-Diaminotoluene","R1;D1","2015-03-17","2017-08-14","100.002.231","Substance Direct Entry"]
["IAEG004149","120-71-8","204-419-1","6-Methoxy-m-toluidine","P-Cresidine","R1;D1","2015-03-17","2015-03-17","100.004.018","Substance Direct Entry"]
["IAEG004150","140-66-9","205-426-2","4-(1,1,3,3-tetramethylbutyl)phenol","4-tert-octylphenol; Octylphenol","D1","2015-03-17","2015-03-17","100.004.934","Substance Direct Entry"]
["IAEG004151","123-77-3","204-650-8","Diazene-1,2-dicarboxamide","C,C'-azodi(formamide); 1,1'-azobis(formamide); ADCA","D1","2015-03-17","2015-03-17","100.004.229","Substance Direct Entry"]
["IAEG004153","98-95-3","202-716-0","Nitrobenzene","","D1;I","2015-03-17","2023-01-27","100.002.469","Substance Direct Entry"]
["IAEG004155","548-62-9","208-953-6","[4-[4,4'-bis(dimethylamino)benzhydrylidene]cyclohexa-2,5-dien-1-ylidene]dimethylammonium chloride","C.I. Basic Violet 3","R1;D1","2015-03-17","2020-01-16","100.008.140","Substance Direct Entry"]
["IAEG004156","25155-23-1","246-677-8","Trixylyl phosphate","","R2;D1","2015-03-17","2015-03-17","100.042.419","Substance Direct Entry"]
["IAEG004157","84-75-3","201-559-5","Dihexyl phthalate (DHP)","Di-n-hexyl phthalate (DnHP)","R1;R2;D1","2015-03-17","2019-01-24","100.001.417","Substance Direct Entry"]
["IAEG004159","776297-69-9","No EC available","N-pentyl-isopentylphthalate","","R2;D1","2015-03-17","2015-03-17","100.149.209","Substance Direct Entry"]
["IAEG004162","3846-71-7","223-346-6","2-Benzotriazol-2-yl-4,6-di-tert-butylphenol (UV-320)","","R1;R2;D1","2017-08-14","2017-08-14","100.021.225","Substance Direct Entry"]
["IAEG004163","3864-99-1","223-383-8","2,4-Di-tert-butyl-6-(5-chlorobenzotriazol-2-yl)phenol (UV-327)","","R2;D1;I","2015-03-17","2023-01-27","100.021.259","Substance Direct Entry"]
["IAEG004164","2580-56-5","219-943-6","[4-[[4-anilino-1-naphthyl][4-(dimethylamino)phenyl]methylene]cyclohexa-2,5-dien-1-ylidene]dimethylammonium chloride","C.I. Basic Blue 26; C.I. 44045","D1","2015-03-17","2015-03-17","100.018.131","Substance Direct Entry"]
["IAEG004165","25973-55-1","247-384-8","2-(2H-benzotriazol-2-yl)-4,6-ditertpentylphenol (UV-328)","Tinuvin 328","R2;D1;I","2017-08-14","2023-01-27","100.043.062","Substance Direct Entry"]
["IAEG004166","No CAS available","No EC available","Aluminosilicate Refractory Ceramic Fibres (Al-RCF) (fibres covered by index number 650-017-00-8 in Annex VI of Regulation (EC) No 1272/2008, and fulfilling the three following conditions: a) oxides of aluminium and silicon are the main components present (in the fibres) within variable concentration ranges b) fibres have a length weighted geometric mean diameter less two standard geometric errors of 6 or less micrometres  c) alkaline oxide and alkali earth oxide (Na2O+K2O+CaO+MgO+BaO) content less or equal to 18% by weight)",null,"D1","2017-08-14","2017-08-14","100.239.154","Substance Direct Entry"]
["IAEG004167","Not Applicable","Not Applicable","Zirconia Aluminosilicate Refractory Ceramic Fibres (ZrAl-RCF) (fibres covered by index number 650-017-00-8 in Annex VI of Regulation (EC) No 1272/2008, and fulfilling the three following conditions: a) oxides of aluminium, silicon and zirconium are the main components present (in the fibres) within variable concentration ranges b) fibres have a length weighted geometric mean diameter less two standard geometric errors of 6 or less micrometres. c) alkaline oxide and alkali earth oxide (Na2O+K2O+CaO+MgO+BaO) content less or equal to 18% by weight)",null,"D1","2015-03-17","2015-03-17","100.239.163","Group Direct Entry"]
["IAEG004633","142844-00-6","604-314-4","Refractories, fibers, aluminosilicate",null,"D1","2015-03-17","2017-08-14","100.133.434","Group Member","IAEG004167"]
["IAEG004168","561-41-1","209-218-2","4,4'-Bis(dimethylamino)-4''-(methylamino)trityl alcohol","C.I. Solvent Violet 8","D1","2015-03-17","2015-03-17","100.008.381","Substance Direct Entry"]
["IAEG004169","72629-94-8","276-745-2","Pentacosafluorotridecanoic acid","","R1;R2;D1;I","2015-03-17","2023-01-27","100.069.747","Substance Direct Entry"]
["IAEG004170","2058-94-8","218-165-4","Henicosafluoroundecanoic acid","","R1;R2;D1;I","2015-03-17","2023-01-27","100.016.515","Substance Direct Entry"]
["IAEG004173","No CAS available","No EC available","4-(1,1,3,3-tetramethylbutyl)phenol, ethoxylated [covering well-defined substances and UVCB substances, polymers and homologues]","4-tert-Octylphenol ethoxylates (4-tert-OPnEO)","R2;D1","2017-08-14","2017-08-14","100.239.147","Group Direct Entry"]
["IAEG004209","2315-67-5","No EC available","2-[4-(1,1,3,3-tetramethylbutyl)phenoxy]ethanol","","R2;D1","2015-03-17","2017-08-14","100.150.206","Group Member","IAEG004173"]
["IAEG004210","2315-61-9","No EC available","2-[2-[4-(1,1,3,3-tetramethylbutyl)phenoxy]ethoxy]ethanol","","R2;D1","2015-03-17","2017-08-14","100.150.202","Group Member","IAEG004173"]
["IAEG004211","9002-93-1","No EC available","Alpha-[4-(1,1,3,3-tetramethylbutyl)phenyl]-w-hydroxypoly(oxy-1,2-ethanediyl)","","R2;D1","2015-03-17","2017-08-14","100.123.919","Group Member","IAEG004173"]
["IAEG004212","2497-59-8","219-682-8","20-[4-(1,1,3,3-tetramethylbutyl)phenoxy]-3,6,9,12,15,18-hexaoxaicosan-1-ol","","R2;D1","2015-03-17","2015-03-17","100.017.894","Group Member","IAEG004173"]
["IAEG004531","9036-19-5","618-541-1","Glycols, polyethylene, mono((1,1,3,3-tet = Poly(oxy-1,2-ethanediyl), .alpha.-[(1,1,3,3-tetramethylbutyl) phenyl]-.omega.-hydroxy-",null,"R2;D1","2017-08-14","2017-08-14","100.120.858","Group Member","IAEG004173"]
["IAEG004532","38723-96-5","254-103-2","29-[(1,1,3,3-tetramethylbutyl)phenoxy]-3,6,9,12,15,18,24,27-nonoxanonacosan-1-ol",null,"R2;D1","2017-08-14","2017-08-14",null,"Group Member","IAEG004173"]
["IAEG006582","9004-87-9","No EC available","Poly(oxy-1,2-ethanediyl), .alpha.-(isooctylphenyl)-.omega.-hydroxy-",null,"R2;D1","2019-01-24","2020-01-16",null,"Group Member","IAEG004173"]
["IAEG004175","68515-50-4","271-093-5","1,2-Benzenedicarboxylic acid, dihexyl ester, branched and linear (DIHP)","","R2;D1","2017-08-14","2017-08-14","100.064.610","Substance Direct Entry"]
["IAEG004176","36437-37-3","253-037-1","2-(2H-Benzotriazol-2-yl)-4-(tert-butyl)-6-(sec-butyl)phenol (UV-350)","","R2;D1;I","2017-08-14","2023-01-27","100.048.200","Substance Direct Entry"]
["IAEG004179","No CAS available","No EC available","5-Sec-butyl-2-(2,4-dimethylcyclohex-3-en-1-yl)-5-methyl-1,3-dioxane [1], 5-sec-butyl-2-(4,6-dimethylcyclohex-3-en-1-yl)-5-methyl-1,3-dioxane [2] [covering any of the individual isomers of [1] and [2] or any combination thereof]","","R2;D1","2017-08-14","2017-08-14","100.239.151","Group Direct Entry"]
["IAEG004378","117933-89-8","No EC available","1,3-Dioxane, 2-(2,4-dimethyl-3-cyclohexen-1-yl)-5-methyl-5-(1-methylpropyl)-","","R2;D1","2017-08-14","2017-08-14","100.120.617","Group Member","IAEG004179"]
["IAEG008069","No CAS available","413-720-9","Karanal","Reaction mass of 5-sec-butyl-2-(2,4-dimethylcyclohex-3-en-1-yl)-5-methyl-1,3-dioxane and 5-sec-butyl-2-(4,6-dimethylcyclohex-3-en-1-yl)-5-methyl-1,3-dioxane","R2;D1","2020-01-16","2020-01-16","100.101.291","Group Member","IAEG004179"]
["IAEG008102","No CAS available","700-927-7","Reaction mass of 5-[(2R)-butan-2-yl]-2-[(1R,2R)-2,4-dimethylcyclohex-3-en-1-yl]-5-methyl-1,3-dioxane and 5-[(2R)-butan-2-yl]-2-[(1R,2S)-2,4-dimethylcyclohex-3-en-1-yl]-5-methyl-1,3-dioxane and 5-[(2R)-butan-2-yl]-2-[(1S,2R)-2,4-dimethylcyclohex-3-en-1-yl]-5-methyl-1,3-dioxane and 5-[(2R)-butan-2-yl]-2-[(1S,2S)-2,4-dimethylcyclohex-3-en-1-yl]-5-methyl-1,3-dioxane and 5-[(2S)-butan-2-yl]-2-[(1S,2R)-2,4-dimethylcyclohex-3-en-1-yl]-5-methyl-1,3-dioxane and 5-[(2S)-butan-2-yl]-2-[(1S,2S)-2,4-dimethylcyclohex-3-en-1-yl]-5-methyl-1,3-dioxane",null,"R2;D1","2020-01-16","2020-01-16","100.225.073","Group Member","IAEG004179"]
["IAEG004180","13048-33-4","235-921-9","Hexamethylene diacrylate (HDDA)","Hexane-1,6-diol diacrylate","I","2017-08-14","2017-08-14","100.032.641","Substance Direct Entry"]
["IAEG004181","84-61-7","201-545-9","Dicyclohexyl phthalate (DCHP)","","D1;I","2017-08-14","2023-01-27","100.001.405","Substance Direct Entry"]
["IAEG004183","15087-24-8","239-139-9","3-Benzylidenecamphor","3-Benzylidene Camphor (3-BC); 1,7,7-Trimethyl-3-(phenylmethylene)bicyclo[2.2.1]heptan-2-one","D1;I","2019-01-24","2023-01-27","100.035.567","Substance Direct Entry"]
["IAEG004184","75-01-4","200-831-0","Vinyl chloride","Chloroethylene","R1;R2","2015-03-17","2017-08-14","100.000.756","Substance Direct Entry"]
["IAEG004185","92-93-3","202-204-7","4-Nitrobiphenyl","4-Nitrodiphenyl","R2","2020-01-16","2020-01-16",null,"Substance Direct Entry"]
["IAEG004186","91-59-8","202-080-4","2-Naphthylamine","","R1;R2","2015-03-17","2015-03-17",null,"Substance Direct Entry"]
["IAEG004187","75-35-4","200-864-0","1,1-Dichloroethene","1,1-Dichloroethylene; Vinylydene dichloride","R2","2015-03-17","2017-08-14","100.000.786","Substance Direct Entry"]
["IAEG004188","79-00-5","201-166-9","1,1,2-Trichloroethane","Vinyl trichloride","R1;R2;I","2015-03-17","2023-01-27","100.001.061","Substance Direct Entry"]
["IAEG004189","101-68-8","202-966-0","4,4'-Methylenediphenyl diisocyanate","","I","2017-08-14","2017-08-14","100.002.697","Substance Direct Entry"]
["IAEG004190","2536-05-2","219-799-4","2,2'-Methylenediphenyl diisocyanate","","I","2015-03-17","2017-08-14","100.018.000","Substance Direct Entry"]
["IAEG004191","67-72-1","200-666-4","Hexachloroethane","","R1;R2","2017-08-14","2017-08-14","100.000.606","Substance Direct Entry"]
["IAEG004192","630-20-6","211-135-1","1,1,1,2-Tetrachloroethane","","R1;R2","2015-03-17","2017-08-14",null,"Substance Direct Entry"]
["IAEG004194","624-49-7","210-849-0","Dimethyl fumarate (DMF)","","R1","2015-03-17","2017-08-14",null,"Substance Direct Entry"]
["IAEG004197","132207-33-1","No EC available","Crocidolite (asbestos fibre)","","R1;R2;D1","2020-01-16","2020-01-16",null,"Substance Direct Entry"]
["IAEG004198","12001-28-4","601-649-8","Crocidolite (asbestos fibre)","","R1;R2;D1","2015-03-17","2017-08-14",null,"Substance Direct Entry"]
["IAEG004199","13768-00-8","No EC available","Actinolite (asbestos fibre)","","R1;R2;D1","2019-01-24","2019-01-24",null,"Substance Direct Entry"]
["IAEG004200","12172-67-7","No EC available","Actinolite (asbestos fibre)","Ferroactinolite","R1;R2;D1","2019-01-24","2019-01-24",null,"Substance Direct Entry"]
["IAEG004201","77536-66-4","616-471-6","Actinolite (asbestos fibre)","","R1;R2;D1","2015-03-17","2017-08-14",null,"Substance Direct Entry"]
["IAEG004202","14567-73-8","No EC available","Tremolite (asbestos fibre)","","R1;R2;D1","2015-03-17","2017-08-14",null,"Substance Direct Entry"]
["IAEG004203","77536-68-6","616-473-7","Tremolite (asbestos fibre)","","R1;R2;D1","2015-03-17","2017-08-14",null,"Substance Direct Entry"]
["IAEG004204","17068-78-9","No EC available","Anthophyllite (asbestos fibre)","","R1;R2;D1","2015-03-17","2017-08-14",null,"Substance Direct Entry"]
["IAEG004205","77536-67-5","616-472-1","Anthophyllite (asbestos fibre)","","R1;R2;D1","2015-03-17","2017-08-14",null,"Substance Direct Entry"]
["IAEG004214","106-93-4","203-444-5","1,2-Dibromoethane","Ethylene dibromide (EDB)","R2;I","2017-08-14","2023-01-27","100.003.132","Substance Direct Entry"]
["IAEG004215","6807-17-6","401-720-1","2,2-Bis(4'-hydroxyphenyl)-4-methylpentane","4,4-Isobutylethylidenediphenol","D1;I","2015-03-17","2023-01-27","100.100.362","Substance Direct Entry"]
["IAEG004216","98-54-4","202-679-0","4-Tert-butylphenol","P-Tert-butylphenol","D1;I","2015-03-17","2023-01-27","100.002.436","Substance Direct Entry"]
["IAEG004217","79-94-7","201-236-9","Tetrabromobisphenol A","2,2',6,6'-Tetrabromo-4,4'-isopropylidenediphenol (TBBPA)","R2;D1;I","2017-08-14","2023-01-27","100.001.125","Substance Direct Entry"]
["IAEG004221","552-30-7","209-008-0","1,2,4-Benzenetricarboxylic acid 1,2-anhydride","Benzene-1,2,4-tricarboxylic acid 1,2-anhydride","D1;I","2015-03-17","2023-01-27","100.008.190","Substance Direct Entry"]
["IAEG004222","5124-30-1","225-863-2","4,4'-methylenedicyclohexyl diisocyanate","","I","2015-03-17","2015-03-17","100.023.512","Substance Direct Entry"]
["IAEG004223","822-06-0","212-485-8","Hexamethylene diisocyanate","Hexamethylene-1,6-diisocyanate (HDI)","I","2017-08-14","2017-08-14","100.011.350","Substance Direct Entry"]
["IAEG004224","26471-62-5","247-722-4","Toluene diisocyanate (TDI)","M-Tolylidene diisocyanate; 1,3-Diisocyanato(methyl)benzene; Toluene diisocyanates, mixed (TDI)","I","2017-08-14","2017-08-14","100.043.369","Substance Direct Entry"]
["IAEG004225","107-15-3","203-468-6","Ethylenediamine","","D1;I","2017-08-14","2023-01-27","100.003.154","Substance Direct Entry"]
["IAEG004226","111-30-8","203-856-5","Glutaral","Glutaraldehyde; 1,5-Pentanedial; Pentane-1,5-dial; Pentanedial","D1;I","2017-08-14","2023-01-27","100.003.506","Substance Direct Entry"]
["IAEG004228","64742-82-1","265-185-4","Naphtha (petroleum), hydrodesulphurised heavy","White spirit type 1","I","2017-08-14","2017-08-14","100.059.242","Substance Direct Entry"]
["IAEG004229","64742-48-9","265-150-3","Naphtha (petroleum), hydrotreated heavy","","I","2017-08-14","2017-08-14","100.059.210","Substance Direct Entry"]
["IAEG004230","106-50-3","203-404-7","p-Phenylenediamine","","I","2017-08-14","2017-08-14","100.003.096","Substance Direct Entry"]
["IAEG004231","137-30-4","205-288-3","Ziram","","I","2015-03-17","2015-03-17","100.004.808","Substance Direct Entry"]
["IAEG004232","3173-72-6","221-641-4","1,5-naphthylene diisocyanate","","I","2017-08-14","2019-01-24","100.019.675","Substance Direct Entry"]
["IAEG004233","26447-40-5","247-714-0","Methylenediphenyl diisocyanate (MDI)","Methylene diphenyl diisocyanate (MDI) mixed isomers","I","2017-08-14","2019-01-24","100.043.361","Substance Direct Entry"]
["IAEG004234","1308-06-1","215-157-2","Tricobalt tetraoxide","","I","2017-08-14","2017-08-14","100.013.780","Substance Direct Entry"]
["IAEG004235","67-43-6","200-652-8","N-Carboxymethyliminobis(ethylenenitrilo)tetra(acetic acid)","Pentetic acid","I","2017-08-14","2017-08-14","100.000.593","Substance Direct Entry"]
["IAEG004236","80-09-1","201-250-5","Bisphenol S (BPS)","4,4'-Sulphonyldiphenol; 4,4'-Sulfonyldiphenol","D1;I","2017-08-14","2023-01-27","100.001.137","Substance Direct Entry"]
["IAEG004237","128-37-0","204-881-4","2,6-Di-tert-butyl-4-methylphenol","2,6-Di-tert-butyl-p-cresol; Butylated hydroxytoluene (BHT)","I","2015-03-17","2015-03-17","100.004.439","Substance Direct Entry"]
["IAEG004238","504-60-9","207-995-2","Penta-1,3-diene","","I","2017-08-14","2019-01-24","100.007.269","Substance Direct Entry"]
["IAEG004239","584-84-9","209-544-5","4-Methyl-m-phenylene diisocyanate","2,4-Toluene diisocyanate","I","2015-03-17","2015-03-17","100.008.678","Substance Direct Entry"]
["IAEG004240","2778-42-9","220-474-4","1,3-bis(1-isocyanato-1-methylethyl)benzene","","I","2017-08-14","2017-08-14","100.018.614","Substance Direct Entry"]
["IAEG004241","5873-54-1","227-534-9","O-(p-isocyanatobenzyl)phenyl isocyanate","2,4'-Methylenediphenyl diisocyanate (2,4'MDI)","I","2017-08-14","2017-08-14","100.025.031","Substance Direct Entry"]
["IAEG004242","7664-93-9","231-639-5","Sulphuric acid","Sulfuric acid","I","2017-08-14","2017-08-14","100.028.763","Substance Direct Entry"]
["IAEG004243","13674-84-5","237-158-7","Tris(2-chloro-1-methylethyl) phosphate","Tris (1-chloro-2-propyl) phosphate (TCPP)","I","2015-03-17","2015-03-17","100.033.766","Substance Direct Entry"]
["IAEG004244","68855-54-9","272-489-0","Kieselguhr, soda ash flux-calcined (SiO2) (amorphous silica)","","I","2015-03-17","2015-03-17","100.065.880","Substance Direct Entry"]
["IAEG004245","91-08-7","202-039-0","2-Methyl-m-phenylene diisocyanate","2,6-Toluene diisocyanate","I","2017-08-14","2017-08-14","100.001.854","Substance Direct Entry"]
["IAEG004246","91-97-4","202-112-7","3,3'-Dimethylbiphenyl-4,4'-diyl diisocyanate","","I","2017-08-14","2019-01-24","100.001.921","Substance Direct Entry"]
["IAEG004247","119-36-8","204-317-7","Methyl salicylate","","I","2017-08-14","2017-08-14","100.003.925","Substance Direct Entry"]
["IAEG004248","2440-22-4","219-470-5","2-(2H-benzotriazol-2-yl)-p-cresol","Drometrizole; 2-(2H-benzotriazol-2-yl)-4-methylphenol (UV-P)","I","2017-08-14","2017-08-14","100.017.700","Substance Direct Entry"]
["IAEG004249","8052-41-3","232-489-3","Stoddard solvent","","I","2017-08-14","2017-08-14","100.029.530","Substance Direct Entry"]
["IAEG004250","18172-67-3","242-060-2","(-)-Pin-2(10)-ene","L-beta-pinene","I","2017-08-14","2019-01-24","100.038.222","Substance Direct Entry"]
["IAEG004251","26038-87-9","247-421-8","Orthoboric acid, compound with 2-aminoethanol","","I","2017-08-14","2017-08-14","100.241.939 (EC: 701-025-6); 100.241.938 (EC: 701-024-0)","Substance Direct Entry"]
["IAEG004253","64742-88-7","265-191-7","Solvent naphtha (petroleum), medium aliph.","","I","2017-08-14","2017-08-14","100.059.247","Substance Direct Entry"]
["IAEG004255","131-56-6","205-029-4","2,4-dihydroxybenzophenone","Benzophenone-1","I","2017-08-14","2017-08-14","100.004.574","Substance Direct Entry"]
["IAEG004256","131-55-5","205-028-9","2,2',4,4'-tetrahydroxybenzophenone","Benzophenone-2 (Bp-2)","I","2017-08-14","2017-08-14",null,"Substance Direct Entry"]
["IAEG004257","131-57-7","205-031-5","Oxybenzone","Benzophenone-3; 2-Hydroxy-4-methoxybenzophenone","I","2017-08-14","2017-08-14","100.004.575","Substance Direct Entry"]
["IAEG004258","25013-16-5","246-563-8","Tert-butyl-4-methoxyphenol","Butylated hydroxyanisole (BHA)","I","2017-08-14","2017-08-14",null,"Substance Direct Entry"]
["IAEG004261","3147-75-9","221-573-5","2-(2H-benzotriazol-2-yl)-4-(1,1,3,3-tetramethylbutyl)phenol (UV-329)","","I","2017-08-14","2017-08-14","100.019.612","Substance Direct Entry"]
["IAEG004263","70321-86-7","274-570-6","2-(2H-benzotriazol-2-yl)-4,6-bis(1-methyl-1-phenylethyl)phenol (UV-234)","","I","2017-08-14","2017-08-14","100.067.769","Substance Direct Entry"]
["IAEG004264","620-92-8","210-658-2","4,4'-Methylenediphenol","Bis(4-hydroxyphenyl)methane; Bisphenol F (BPF)","I","2017-08-14","2017-08-14",null,"Substance Direct Entry"]
["IAEG004265","80-46-6","201-280-9","p-(1,1-Dimethylpropyl)phenol","4-Tert-pentylphenol","D1;I","2017-08-14","2023-01-27","100.001.165","Substance Direct Entry"]
["IAEG004267","73936-91-1","422-600-5","2-(2H-Benzotriazole-2-yl)-6-(1-methyl-1-phenylethyl)-4-(1,1,3,3-tetramethylbutyl)phenol (UV-928)","","I","2017-08-14","2017-08-14","100.102.117","Substance Direct Entry"]
["IAEG004268","25713-60-4","426-040-2","2,4,6-Tris(2,4,6-tribromophenoxy)-1,3,5-triazine","","I","2017-08-14","2017-08-14","100.102.450","Substance Direct Entry"]
["IAEG004269","1478-61-1","216-036-7","4,4'-[2,2,2-Trifluoro-1-(trifluoromethyl)ethylidene]diphenol","","I","2017-08-14","2017-08-14","100.014.579","Substance Direct Entry"]
["IAEG004271","39635-79-5","254-551-9","4,4'-sulphonylbis[2,6-dibromophenol]","","I","2020-01-16","2020-01-16",null,"Substance Direct Entry"]
["IAEG004274","50926-11-9","610-589-1","Indium tin oxide (ITO)","","I","2015-03-17","2017-08-14",null,"Substance Direct Entry"]
["IAEG004277","80-05-7","201-245-8","Bisphenol A (BPA)","4,4'-Isopropylidenediphenol","D1;I","2015-03-17","2023-01-27","100.001.133","Substance Direct Entry"]
["IAEG004279","553-00-4","209-030-0","2-naphthylammonium acetate","","R1;R2;I","2015-03-17","2023-01-27",null,"Substance Direct Entry"]
["IAEG004283","115-32-2","204-082-0","Dicofol","2,2,2-Trichloro-1,1-bis(4-chlorophenyl)ethanol; Kelthane","R1;R2;I","2020-01-16","2023-01-27",null,"Substance Direct Entry"]
["IAEG004284","12001-29-5","601-650-3","Chrysotile (asbestos fibre)","","R1;R2;D1","2017-08-14","2017-08-14",null,"Substance Direct Entry"]
["IAEG004285","132207-32-0","601-650-3","Chrysotile (asbestos fibre)","","R1;R2;D1","2015-03-17","2017-08-14",null,"Substance Direct Entry"]
["IAEG004286","93-76-5","202-273-3","2,4,5-Trichlorophenoxyacetic acid (2,4,5-T)","Trioxone","R2","2017-08-14","2017-08-14",null,"Substance Direct Entry"]
["IAEG004290","1910-42-5","217-615-7","Paraquat-dichloride","1,1-Dimethyl-4,4'-bipyridinium dichloride","R2","2017-08-14","2017-08-14","100.016.015","Substance Direct Entry"]
["IAEG004291","12172-73-5","601-801-3","Amosite","Grunerite (asbestos fibre)","R1;R2;D1","2017-08-14","2017-08-14",null,"Substance Direct Entry"]
["IAEG004292","7446-18-6","231-201-3","Dithallium sulphate","Thallic sulphate","R2","2015-03-17","2015-03-17",null,"Substance Direct Entry"]
["IAEG004293","76-06-2","200-930-9","Trichloronitromethane","Chloropicrin","R2","2015-03-17","2017-08-14",null,"Substance Direct Entry"]
["IAEG004295","57-24-9","200-319-7","Strychnine","","R2","2017-08-14","2017-08-14",null,"Substance Direct Entry"]
["IAEG004297","115-29-7","204-079-4","Endosulfan","","R1;R2","2017-08-14","2017-08-14",null,"Substance Direct Entry"]
["IAEG004298","2551-62-4","219-854-2","Sulphur hexafluoride","","R1;R2;D1","2017-08-14","2017-08-14","100.018.050","Substance Direct Entry"]
["IAEG004301","920-66-1","213-059-4","1,1,1,3,3,3-hexafluoropropan-2-ol","","D1","2017-08-14","2017-08-14","100.011.873","Substance Direct Entry"]
["IAEG004302","422-05-9","207-012-7","2,2,3,3,3-pentafluoropropanol","","D1","2017-08-14","2017-08-14","100.006.376","Substance Direct Entry"]
["IAEG004303","7783-54-2","232-007-1","Nitrogen trifluoride","","D1","2015-03-17","2017-08-14","100.029.097","Substance Direct Entry"]
["IAEG004304","69991-67-9","No EC available","1-Propene, 1,1,2,3,3,3-hexafluoro-, oxidized, polymd.","","D1","2015-03-17","2017-08-14",null,"Substance Direct Entry"]
["IAEG004305","163702-07-6","605-339-3","Butane, 1,1,1,2,2,3,3,4,4-nonafluoro-4-methoxy-","","D1","2015-03-17","2017-08-14",null,"Substance Direct Entry"]
["IAEG004311","57041-67-5","No EC available","2-(Difluoromethoxy)-1,1,1,2-tetrafluoroethane","Desflurane (HFE-236ea2)","D1","2019-01-24","2019-01-24",null,"Substance Direct Entry"]
["IAEG004329","188690-77-9","No EC available","1-(Difluoromethoxy)-2-((difluoromethoxy)difluoromethoxy)-1,1,2,2-tetrafluoroethane (HFE-43-10pccc124) (H-Galden 1040x, HG-11)","","D1","2020-01-16","2020-01-16",null,"Substance Direct Entry"]
["IAEG004332","75-61-6","200-885-5","Dibromodifluoromethane (Halon 1202)","","R1;R2;D1","2020-01-16","2020-01-16",null,"Substance Direct Entry"]
["IAEG004333","74-87-3","200-817-4","Chloromethane","Methyl chloride","R1;R2;D1","2017-08-14","2017-08-14","100.000.744","Substance Direct Entry"]
["IAEG004334","74-96-4","200-825-8","Bromoethane","Ethyl bromide","D1","2015-03-17","2015-03-17","100.000.751","Substance Direct Entry"]
["IAEG004335","2314-97-8","219-014-5","Trifluoroiodomethane","Trifluoromethyl iodide","D1","2017-08-14","2017-08-14","100.017.286","Substance Direct Entry"]
["IAEG004336","58-89-9","200-401-2","Lindane","Gamma-HCH; Gamma-BHC; Gamma-1,2,3,4,5,6-hexachlorocyclohexane","R1;R2","2017-08-14","2017-08-14",null,"Substance Direct Entry"]
["IAEG004337","608-73-1","210-168-9","Hexachlorocyclohexane","HCH; BCH","R1;R2","2017-08-14","2017-08-14",null,"Substance Direct Entry"]
["IAEG004340","53558-25-1","258-626-7","Pyriminil","1-(4-nitrophenyl)-3-(3-pyridylmethyl)urea","R2","2020-01-16","2020-01-16",null,"Substance Direct Entry"]
["IAEG004341","11097-69-1","No EC available","PCB Aroclor 1254","","R1;R2;D1","2017-08-14","2017-08-14",null,"Substance Direct Entry"]
["IAEG004342","5103-71-9","225-825-5","Rel-(1R,2S,3R,4S,6S,7S)-1,3,4,7,8,9,10,10-Octachlorotricyclo[5.2.1.0(2,6)]dec-8-ene","","R1;R2","2015-03-17","2015-03-17",null,"Substance Direct Entry"]
["IAEG004343","5566-34-7","226-938-2","1,4,4,7,8,9,10,10-Octachlorotricyclo[5.2.1.0(2,6)]dec-8-ene","","R1;R2","2017-08-14","2017-08-14",null,"Substance Direct Entry"]
["IAEG004345","56534-03-3","No EC available","Rel-(1R,4S,7S,8S,9S)-2,3,4,5,6,9-Hexachlorotricyclo[5.2.1.0(4,8)]deca-2,5-diene","","R1;R2","2020-01-16","2020-01-16",null,"Substance Direct Entry"]
["IAEG004352","4736-49-6","No EC available","Rel-(1R,2S,5R,6S,9R,10S)-1,2,5,6,9,10-Hexabromocyclododecane","","R1;R2;D1","2019-01-24","2019-01-24",null,"Substance Direct Entry"]
["IAEG004353","65701-47-5","No EC available","Rel-(1R,2S,5R,6S,9S,10R)-1,2,5,6,9,10-Hexabromocyclododecane","","R1;R2;D1","2019-01-24","2019-01-24",null,"Substance Direct Entry"]
["IAEG004354","138257-17-7","No EC available","(1R,2R,5R,6S,9S,10S)-1,2,5,6,9,10-Hexabromocyclododecane","","R1;R2;D1","2019-01-24","2019-01-24",null,"Substance Direct Entry"]
["IAEG004355","138257-18-8","No EC available","(1R,2R,5R,6S,9R,10S)-1,2,5,6,9,10-Hexabromocyclododecane","","R1;R2;D1","2017-08-14","2017-08-14",null,"Substance Direct Entry"]
["IAEG004356","138257-19-9","No EC available","(1R,2S,5S,6R,9S,10S)-1,2,5,6,9,10-Hexabromocyclododecane","","R1;R2;D1","2019-01-24","2019-01-24",null,"Substance Direct Entry"]
["IAEG004357","169102-57-2","No EC available","(1R,2S,5S,6S,9S,10R)-1,2,5,6,9,10-Hexabromocyclododecane","","R1;R2;D1","2019-01-24","2019-01-24",null,"Substance Direct Entry"]
["IAEG004358","678970-15-5","No EC available","(1R,2R,5S,6R,9R,10S)-1,2,5,6,9,10-Hexabromocyclododecane","","R1;R2;D1","2019-01-24","2019-01-24",null,"Substance Direct Entry"]
["IAEG004359","678970-16-6","No EC available","(1R,2S,5R,6S,9S,10S)-1,2,5,6,9,10-Hexabromocyclododecane","","R1;R2;D1","2020-01-16","2020-01-16",null,"Substance Direct Entry"]
["IAEG004360","678970-17-7","No EC available","(1R,2R,5R,6S,9S,10R)-1,2,5,6,9,10-Hexabromocyclododecane","","R1;R2;D1","2019-01-24","2019-01-24",null,"Substance Direct Entry"]
["IAEG004361","96-12-8","202-479-3","1,2-Dibromo-3-chloropropane (DBCP)","","R2","2017-08-14","2017-08-14","100.002.255","Substance Direct Entry"]
["IAEG004362","12185-10-3","610-810-2","Yellow phosphorus","Phosphorus, mol. (P4); Tetraphosphorus","R2","2017-08-14","2017-08-14",null,"Substance Direct Entry"]
["IAEG004363","133-06-2","205-087-0","Captan","1,2,3,6-tetrahydro-N-(trichloromethylthio)phthalimide","R2","2015-03-17","2017-08-14","100.004.626","Substance Direct Entry"]
["IAEG004365","20859-73-8","244-088-0","Aluminium phosphide","Aluminium phosphide releasing phosphine (under BPR)","R2","2017-08-14","2017-08-14",null,"Substance Direct Entry"]
["IAEG004368","563-68-8","209-257-5","Thallium(I) acetate","","R2","2021-02-02","2021-02-02",null,"Substance Direct Entry"]
["IAEG004369","10102-45-1","233-273-1","Thallium(I) nitrate","","R2","2017-08-14","2017-08-14",null,"Substance Direct Entry"]
["IAEG004372","81741-28-8","279-808-2","Tributyltetradecylphosphonium chloride","","R2","2017-08-14","2017-08-14",null,"Substance Direct Entry"]
["IAEG004381","131-52-2","205-025-2","Sodium pentachlorophenolate","Sodium pentachlorophenate; Pentachlorophenol, sodium salt","R1;R2;D1","2017-08-14","2017-08-14",null,"Substance Direct Entry"]
["IAEG004383","19750-95-9","243-269-1","Chlordimeform hydrochloride","N'-(4-chloro-o-tolyl)-N,N-dimethylformamidine monohydrochloride; N2-(4-chloro-o-tolyl)-N1,N1-dimethylformamidine hydorchloride","R2","2019-01-24","2019-01-24",null,"Substance Direct Entry"]
["IAEG004385","13746-98-0","237-325-4","Nitric acid, thallium(3+) salt","","R2","2017-08-14","2017-08-14",null,"Substance Direct Entry"]
["IAEG004387","297-99-4","No EC available","E-Phosphamidon","","R2","2020-01-16","2020-01-16",null,"Substance Direct Entry"]
["IAEG004388","14807-96-6","238-877-9","Talc: Hydrated magnesium silicate (Mg3H2(SiO3)4)","C.I. 77718","R2;I","2017-08-14","2023-01-27","100.035.328","Substance Direct Entry"]
["IAEG004401","2939-80-2","No EC available","cis-Captafol","","R2","2017-08-14","2017-08-14",null,"Substance Direct Entry"]
["IAEG004410","1402738-52-6","No EC available","Alkanes, C24-28, chloro","","R1;R2;D1","2020-01-16","2020-01-16",null,"Substance Direct Entry"]
["IAEG004411","1417900-96-9","No EC available","Alkanes, C21-34-branched and linear, chloro",null,"R1;R2;D1","2022-02-17","2022-02-17",null,"Substance Direct Entry"]
["IAEG004422","57583-54-7","260-830-6","Tetraphenyl m-phenylene bis(phosphate)","Resorcinol bis(diphenyl phosphate)","I","2017-08-14","2019-01-24",null,"Substance Direct Entry"]
["IAEG004423","101-20-2","202-924-1","Triclocarban","1-(4-Chlorophenyl)-3-(3,4-dichlorophenyl)urea","I","2020-01-16","2020-01-16","100.002.659","Substance Direct Entry"]
["IAEG004428","34454-97-2","252-043-1","1,1,2,2,3,3,4,4,4-Nonafluoro-N-(2-hydroxyethyl)-N-methylbutane-1-sulphonamide",null,"I","2017-08-14","2017-08-14","100.047.297","Substance Direct Entry"]
["IAEG004430","27177-01-1","No EC available","Nonylphenol polyethylene glycol ether",null,"R2","2017-08-14","2017-08-14",null,"Substance Direct Entry"]
["IAEG004432","68412-53-3","614-460-0","Nonylphenol, branched, ethoxylated, phosphated",null,"R1;R2","2017-08-14","2017-08-14",null,"Substance Direct Entry"]
["IAEG004443","90640-52-1","292-572-5","Amines, coco alkyl, compds. with pentachlorophenol (1:1)",null,"R1;R2","2020-01-16","2020-01-16",null,"Substance Direct Entry"]
["IAEG004444","98219-40-0","308-706-3","Fatty acids, C8-12, pentachlorophenyl esters",null,"R1;R2","2020-01-16","2020-01-16",null,"Substance Direct Entry"]
["IAEG004447","7497-08-7","No EC available","Phenol, 2,3,4,5,6-pentachloro-, 1,1'-carbonate",null,"R1;R2","2020-01-16","2020-01-16",null,"Substance Direct Entry"]
["IAEG004454","11096-82-5","No EC available","Aroclor 1260 (Clophen A60)",null,"R1;R2;D1","2017-08-14","2017-08-14",null,"Substance Direct Entry"]
["IAEG004456","11104-28-2","no EC available","Aroclor 1221",null,"R1;R2;D1","2019-01-24","2019-01-24",null,"Substance Direct Entry"]
["IAEG004457","11141-16-5","no EC available","Aroclor 1232",null,"R1;R2;D1","2019-01-24","2019-01-24",null,"Substance Direct Entry"]
["IAEG004459","12672-29-6","No EC available","Aroclor 1248",null,"R1;R2;D1","2019-01-24","2019-01-24",null,"Substance Direct Entry"]
["IAEG004460","12674-11-2","No EC available","Aroclor 1016",null,"R1;R2;D1","2020-01-16","2020-01-16",null,"Substance Direct Entry"]
["IAEG004462","147601-87-4","No EC available","Aroclor 1210",null,"R1;R2;D1","2020-01-16","2020-01-16",null,"Substance Direct Entry"]
["IAEG004468","53469-21-9","No EC available","Aroclor 1242",null,"R1;R2;D1","2019-01-24","2019-01-24",null,"Substance Direct Entry"]
["IAEG004475","343934-04-3","No EC available","1,3-Dioxane, 2-[(1R,2R)-2,4-dimethyl-3-cyclohexen-1-yl]-5-methyl-5-(1-methylpropyl)-, cis-rel-",null,"R2;D1","2017-08-14","2017-08-14","100.287.883","Substance Direct Entry"]
["IAEG004476","343934-05-4","No EC available","1,3-Dioxane, 2-[(1R,2R)-2,4-dimethyl-3-cyclohexen-1-yl]-5-methyl-5-(1-methylpropyl)-, trans-rel-",null,"R2;D1","2017-08-14","2017-08-14","100.287.885","Substance Direct Entry"]
["IAEG004477","676367-02-5","No EC available","1,3-Dioxane, 2-[(1S,2S)-2,4-dimethyl-3-cyclohexen-1-yl]-5-methyl-5-(1-methylpropyl)-, cis-",null,"R2;D1","2017-08-14","2017-08-14","100.287.890","Substance Direct Entry"]
["IAEG004478","676367-03-6","No EC available","1,3-Dioxane, 2-[(1S,2R)-2,4-dimethyl-3-cyclohexen-1-yl]-5-methyl-5-(1-methylpropyl)-, cis-",null,"R2;D1","2017-08-14","2017-08-14","100.287.888","Substance Direct Entry"]
["IAEG004479","676367-04-7","No EC available","1,3-Dioxane, 2-[(1R,2S)-2,4-dimethyl-3-cyclohexen-1-yl]-5-methyl-5-(1-methylpropyl)-, cis-",null,"R2;D1","2017-08-14","2017-08-14","100.287.886","Substance Direct Entry"]
["IAEG004480","676367-05-8","No EC available","1,3-Dioxane, 2-[(1R,2R)-2,4-dimethyl-3-cyclohexen-1-yl]-5-methyl-5-(1-methylpropyl)-, cis-",null,"R2;D1","2017-08-14","2017-08-14","100.287.882","Substance Direct Entry"]
["IAEG004481","676367-06-9","No EC available","1,3-Dioxane, 2-[(1S,2S)-2,4-dimethyl-3-cyclohexen-1-yl]-5-methyl-5-(1-methylpropyl)-, trans-",null,"R2;D1","2017-08-14","2017-08-14","100.287.891","Substance Direct Entry"]
["IAEG004482","676367-07-0","No EC available","1,3-Dioxane, 2-[(1S,2R)-2,4-dimethyl-3-cyclohexen-1-yl]-5-methyl-5-(1-methylpropyl)-, trans-",null,"R2;D1","2017-08-14","2017-08-14","100.287.889","Substance Direct Entry"]
["IAEG004483","676367-08-1","No EC available","1,3-Dioxane, 2-[(1R,2S)-2,4-dimethyl-3-cyclohexen-1-yl]-5-methyl-5-(1-methylpropyl)-, trans-",null,"R2;D1","2017-08-14","2017-08-14","100.287.887","Substance Direct Entry"]
["IAEG004484","676367-09-2","No EC available","1,3-Dioxane, 2-[(1R,2R)-2,4-dimethyl-3-cyclohexen-1-yl]-5-methyl-5-(1-methylpropyl)-, trans-",null,"R2;D1","2017-08-14","2017-08-14","100.287.884","Substance Direct Entry"]
["IAEG004485","186309-28-4","No EC available","1,3-Dioxane, 2-(2,4-dimethyl-3-cyclohexen-1-yl)-5-methyl-5-(1-methylpropyl)-",null,"R2;D1","2017-08-14","2017-08-14","100.287.881","Substance Direct Entry"]
["IAEG004487","7632-00-0","231-555-9","Sodium nitrite",null,"R1;R2;D1","2017-08-14","2017-08-14","100.028.687","Substance Direct Entry"]
["IAEG004488","7758-09-0","231-832-4","Potassium nitrite",null,"R1;R2;D1","2017-08-14","2017-08-14","100.028.939","Substance Direct Entry"]
["IAEG004489","71011-12-6","No EC available","Alkanes, C12-13, chloro",null,"R1;R2;D1","2019-01-24","2019-01-24",null,"Substance Direct Entry"]
["IAEG004491","27619-97-2","248-580-6","3,3,4,4,5,5,6,6,7,7,8,8,8-tridecafluorooctanesulphonic acid",null,"R1;R2;D1;I","2017-08-14","2023-01-27","100.044.149","Substance Direct Entry"]
["IAEG004494","13568-33-7","236-976-1","Lithium nitrite",null,"R1;R2;D1","2017-08-14","2017-08-14",null,"Substance Direct Entry"]
["IAEG004505","7601-90-3","231-512-4","Perchloric acid",null,"I","2017-08-14","2017-08-14","100.028.648","Substance Direct Entry"]
["IAEG004513","25323-89-1","No EC available","Trichloroethane",null,"R1;R2","2019-01-24","2019-01-24",null,"Substance Direct Entry"]
["IAEG004525","25497-30-7","247-042-8","Dibromotetrafluoroethane",null,"R1;R2","2017-08-14","2017-08-14",null,"Substance Direct Entry"]
["IAEG004534","27607-36-9","248-562-8","2,2'-[(3,3,4,4,5,5,6,6,7,7,8,8,9,9,10,10,10-heptadecafluorodecyl)imino]bisethanol",null,"R1;R2;I","2019-01-24","2023-01-27",null,"Substance Direct Entry"]
["IAEG004535","41358-63-8","255-327-3","N-[3-[bis(2-hydroxyethyl)amino]propyl]-2,2,3,3,4,4,5,5,6,6,7,7,8,8,8-pentadecafluorooctanamide",null,"R1;R2;I","2019-01-24","2023-01-27",null,"Substance Direct Entry"]
["IAEG004542","307-98-2","206-212-1","2,2,3,3,4,4,5,5,6,6,7,7,8,8,8-pentadecafluorooctyl acrylate",null,"R1;R2;I","2019-01-24","2023-01-27",null,"Substance Direct Entry"]
["IAEG004544","3934-23-4","223-509-1","2,2,3,3,4,4,5,5,6,6,7,7,8,8,8-pentadecafluorooctyl methacrylate",null,"R1;R2;I","2015-03-17","2023-01-27",null,"Substance Direct Entry"]
["IAEG004579","307-30-2","206-197-1","2,2,3,3,4,4,5,5,6,6,7,7,8,8,8-pentadecafluorooctan-1-ol",null,"R1;R2;I","2017-08-14","2023-01-27",null,"Substance Direct Entry"]
["IAEG004580","39108-34-4","254-295-8","3,3,4,4,5,5,6,6,7,7,8,8,9,9,10,10,10-heptadecafluorodecanesulphonic acid",null,"R1;R2;I","2017-08-14","2023-01-27",null,"Substance Direct Entry"]
["IAEG004589","149724-40-3","No EC available","1-Decanesulfonic acid, 3,3,4,4,5,5,6,6,7,7,8,8,9,9,10,10,10-heptadecafluoro-, ammonium salt",null,"R1;R2;I","2017-08-14","2023-01-27",null,"Substance Direct Entry"]
["IAEG004591","165320-75-2","No EC available","1,5-Trisiloxanediol, 3-(3,3,4,4,5,5,6,6,7,7,8,8,9,9,10,10,10-heptadecafluorodecyl)-1,1,3,5,5-pentamethyl- (9CI)",null,"R1;R2;I","2020-01-16","2023-01-27",null,"Substance Direct Entry"]
["IAEG004592","206886-57-9","No EC available","Cyclotetrasiloxane, 2-(4,4,5,5,6,6,7,7,8,8,9,9,10,10,11,11,11-heptadecafluoroundecyl)-2,4,6,8-tetramethyl-, Si-[3-(oxiranylmethoxy)propyl] derivs.",null,"R1;R2;I","2020-01-16","2023-01-27",null,"Substance Direct Entry"]
["IAEG004593","185701-89-7","No EC available","Trisiloxane, 3,3'-(3,3,4,4,5,5,6,6,7,7,8,8-dodecafluoro-1,10-decanediyl)bis[3-[(dimethylsilyl)oxy]-1,1,5,5-tetramethyl-, reaction products with 4,4,5,5,6,6,7,7,8,8,9,9,10,10,11,11,11-heptadecafluoro-1-undecene",null,"R1;R2;I","2020-01-16","2023-01-27",null,"Substance Direct Entry"]
["IAEG004594","101947-16-4","No EC available","Triethoxy(3,3,4,4,5,5,6,6,7,7,8,8,9,9,10,10,10-heptadecafluorodecyl)silane","1H,1H,2H,2H-Perfluorodecyltriethoxysilane","R1;R2;I","2020-01-16","2023-01-27","100.103.343","Substance Direct Entry"]
["IAEG004596","57678-03-2","No EC available","1-Decanol, 3,3,4,4,5,5,6,6,7,7,8,8,9,9,10,10,10-heptadecafluoro-, dihydrogen phosphate",null,"R1;R2;I","2020-01-16","2023-01-27",null,"Substance Direct Entry"]
["IAEG004603","96210-37-6","No EC available","1,3-Benzenedicarboxylic acid,5-[(heptadecafluorononenyl)oxy]-",null,"R1;R2;I","2020-01-16","2023-01-27",null,"Substance Direct Entry"]
["IAEG004604","59493-70-8","No EC available","1-Propanaminium,3-[[[4-[(heptadecafluorononenyl)oxy]phenyl]sulfonyl]amino]-N,N,N-trimethyl-, iodide",null,"R1;R2;I","2020-01-16","2023-01-27",null,"Substance Direct Entry"]
["IAEG004634","No CAS available","No EC available","Inorganic ammonium salts",null,"R1;R2","2021-02-02","2022-02-17","100.244.130","Group Direct Entry"]
["IAEG000363","7789-09-5","232-143-1","Ammonium dichromate","","R1;R2;D1","2015-03-17","2022-02-17","100.029.221","Group Member","IAEG004634"]
["IAEG000418","7788-98-9","232-138-4","Ammonium chromate","","R1;D1","2017-08-14","2022-02-17","100.029.217","Group Member","IAEG004634"]
["IAEG009563","7790-98-9","232-235-1","Ammonium perchlorate; Perchloric acid, ammonium salt","Ammonium perchlorate; Perchloric acid, ammonium salt","I","2023-01-27","2023-01-27","100.029.305","Group Member","IAEG004634"]
["IAEG009990","7803-55-6","232-261-3","Ammonium trioxovanadate","Ammonium trioxovanadate","I","2023-01-27","2023-01-27","100.029.329","Group Member","IAEG004634"]
["IAEG004635","7783-20-2","231-984-1","Ammonium sulphate",null,"R1;R2;I","2019-01-24","2023-01-27","100.029.076","Substance Direct Entry"]
["IAEG004636","7722-76-1","231-764-5","Ammonium dihydrogenorthophosphate","Ammonium phosphate","R1;R2;I","2019-01-24","2023-01-27","100.028.877","Substance Direct Entry"]
["IAEG004637","7783-28-0","231-987-8","Diammonium hydrogenorthophosphate","Diammonium phosphate","R1;R2;I","2019-01-24","2023-01-27","100.029.079","Substance Direct Entry"]
["IAEG004638","12125-02-9","235-186-4","Ammonium chloride",null,"R1;R2;I","2019-01-24","2023-01-27","100.031.976","Substance Direct Entry"]
["IAEG004639","7773-06-0","231-871-7","Ammonium sulphamidate","Ammonium sulfamate","R1;R2;I","2019-01-24","2023-01-27","100.028.974","Substance Direct Entry"]
["IAEG004640","68333-79-9","269-789-9","Ammonium polyphosphate","Polyphosphoric acids, ammonium salts","R1;R2;I","2019-01-24","2023-01-27","100.063.425","Substance Direct Entry"]
["IAEG004641","12124-97-9","235-183-8","Ammonium bromide",null,"R1;R2","2019-01-24","2019-01-24","100.031.973","Substance Direct Entry"]
["IAEG004643","No CAS available","No EC available","4-Heptylphenol, branched and linear [substances with a linear and/or branched alkyl chain with a carbon number of 7 covalently bound predominantly in position 4 to phenol, covering also UVCB- and well-defined substances which include any of the individual isomers or a combination thereof]",null,"D1","2015-03-17","2017-08-14","100.244.604","Group Direct Entry"]
["IAEG004273","72624-02-3","276-743-1","Phenol, heptyl derivs.","","D1;I","2015-03-17","2023-01-27","100.069.745","Group Member","IAEG004643"]
["IAEG004730","6465-71-0","No EC available","Phenol, 4-(1-propylbutyl)-",null,"D1","2017-08-14","2017-08-14","100.287.914","Group Member","IAEG004643"]
["IAEG004731","6465-74-3","No EC available","Phenol, 4-(1-ethylpentyl)-",null,"D1","2017-08-14","2017-08-14","100.287.912","Group Member","IAEG004643"]
["IAEG004732","6863-24-7","No EC available","Phenol, 4-(1-methylhexyl)-",null,"D1","2017-08-14","2017-08-14","100.287.913","Group Member","IAEG004643"]
["IAEG004733","1987-50-4","217-862-0","4-heptylphenol",null,"D1","2017-08-14","2017-08-14","100.016.239","Group Member","IAEG004643"]
["IAEG004734","1824346-00-0","No EC available","4-[2-Methyl-1-(1-methylethyl)propyl]phenol","Phenol, 4-[2-methyl-1-(1-methylethyl)propyl]-","D1","2017-08-14","2017-08-14","100.287.919","Group Member","IAEG004643"]
["IAEG004735","1139800-98-8","No EC available","4-(4-Methylhexyl)phenol","Phenol, 4-(4-methylhexyl)-","D1","2017-08-14","2017-08-14","100.287.917","Group Member","IAEG004643"]
["IAEG004736","911371-07-8","No EC available","4-(1,3,3-Trimethylbutyl)phenol","Phenol, 4-(1,3,3-trimethylbutyl)-","D1","2017-08-14","2017-08-14","100.287.906","Group Member","IAEG004643"]
["IAEG004737","911371-06-7","No EC available","4-(1,2,2-Trimethylbutyl)phenol","Phenol, 4-(1,2,2-trimethylbutyl)-","D1","2017-08-14","2017-08-14","100.287.904","Group Member","IAEG004643"]
["IAEG004738","911370-98-4","No EC available","4-(3-Ethylpentyl)phenol","Phenol, 4-(3-ethylpentyl)-","D1","2017-08-14","2017-08-14","100.287.915","Group Member","IAEG004643"]
["IAEG004739","861011-60-1","854-135-2","4-(1,1,2-Trimethylbutyl)phenol","Phenol, 4-(1,1,2-trimethylbutyl)-","D1","2017-08-14","2022-02-17","100.304.406","Group Member","IAEG004643"]
["IAEG004740","861010-65-3","No EC available","4-(1-Ethyl-2,2-dimethylpropyl)phenol","Phenol, 4-(1-ethyl-2,2-dimethylpropyl)-","D1","2017-08-14","2017-08-14","100.287.910","Group Member","IAEG004643"]
["IAEG004741","857629-71-1","No EC available","4-(1,4-Dimethylpentyl)phenol","Phenol, 4-(1,4-dimethylpentyl)-","D1","2017-08-14","2017-08-14","100.287.908","Group Member","IAEG004643"]
["IAEG004742","854904-93-1","No EC available","4-(1,2-Dimethylpentyl)phenol","Phenol, 4-(1,2-dimethylpentyl)-","D1","2017-08-14","2017-08-14","100.287.905","Group Member","IAEG004643"]
["IAEG004743","854904-92-0","No EC available","4-(1-Ethyl-3-methylbutyl)phenol","Phenol, 4-(1-ethyl-3-methylbutyl)-","D1","2017-08-14","2017-08-14","100.287.911","Group Member","IAEG004643"]
["IAEG004744","102570-52-5","No EC available","4-(3-Methylhexyl)phenol","Phenol, 4-(3-methylhexyl)-","D1","2017-08-14","2017-08-14","100.287.916","Group Member","IAEG004643"]
["IAEG004745","100532-36-3","No EC available","4-(5-Methylhexyl)phenol","Phenol, 4-(5-methylhexyl)-","D1","2017-08-14","2017-08-14","100.287.918","Group Member","IAEG004643"]
["IAEG004746","72861-06-4","No EC available","4-(1,1,2,2-Tetramethylpropyl)phenol","Phenol, 4-(1,1,2,2-tetramethylpropyl)-","D1","2017-08-14","2017-08-14","100.287.899","Group Member","IAEG004643"]
["IAEG004747","71945-81-8","No EC available","4-(1,3-Dimethylpentyl)phenol","Phenol, 4-(1,3-dimethylpentyl)-","D1","2017-08-14","2017-08-14","100.287.907","Group Member","IAEG004643"]
["IAEG004748","37872-24-5","No EC available","4-(1,1-Diethylpropyl)phenol","Phenol, 4-(1,1-diethylpropyl)-","D1","2017-08-14","2017-08-14","100.287.902","Group Member","IAEG004643"]
["IAEG004749","33104-11-9","No EC available","4-(1,1,3-Trimethylbutyl)phenol","Phenol, 4-(1,1,3-trimethylbutyl)-","D1","2017-08-14","2017-08-14","100.287.901","Group Member","IAEG004643"]
["IAEG004750","30784-32-8","854-958-7","4-(1-Ethyl-1-methylbutyl)phenol","Phenol, 4-(1-ethyl-1-methylbutyl)-","D1","2017-08-14","2022-02-17","100.305.943","Group Member","IAEG004643"]
["IAEG004751","30784-31-7","No EC available","4-(1,1-Dimethylpentyl)phenol","Phenol, 4-(1,1-dimethylpentyl)-","D1","2017-08-14","2017-08-14","100.287.903","Group Member","IAEG004643"]
["IAEG004752","30784-27-1","No EC available","4-(1-Ethyl-1,2-dimethylpropyl)phenol","Phenol, 4-(1-ethyl-1,2-dimethylpropyl)-","D1","2017-08-14","2017-08-14","100.291.922","Group Member","IAEG004643"]
["IAEG005006","288864-02-8","No EC available","p-tert-Heptylphenol","4-tert-Heptylphenol","D1","2017-08-14","2017-08-14","100.291.803","Group Member","IAEG004643"]
["IAEG004646","10332-33-9","231-556-4","Perboric acid (HBO(O2)), sodium salt, monohydrate",null,"D1","2017-08-14","2017-08-14","100.028.688","Substance Direct Entry"]
["IAEG004648","10486-00-7","231-556-4","Perboric acid (HBO(O2)), sodium salt, hydrate (1:1:4)",null,"D1","2015-03-17","2015-03-17","100.028.688","Substance Direct Entry"]
["IAEG004649","7791-13-1","616-574-6","Cobalt(2+) dichloride hexahydrate","Cobalt (II) chloride, hexahydrate","D1","2017-08-14","2017-08-14",null,"Substance Direct Entry"]
["IAEG004650","10026-24-1","600-050-9","Cobalt sulphate heptahydrate",null,"D1","2017-08-14","2017-08-14",null,"Substance Direct Entry"]
["IAEG004652","14426-25-6","238-398-5","Bis[p-(dimethylamino)phenyl][p-(dimethylammonio)phenyl]methylium",null,"D1","2017-08-14","2017-08-14",null,"Substance Direct Entry"]
["IAEG004653","10217-52-4","600-285-7","Hydrazine, hydrate","Hydrazine hydrate; Hydrazine monohydrate","D1","2017-08-14","2017-08-14",null,"Substance Direct Entry"]
["IAEG004655","57454-67-8","611-532-3","Cobalt(II) carbonate hydrate","Carbonic acid, cobalt(2+) salt (1:1), hydrate ","D1","2017-08-14","2017-08-14",null,"Substance Direct Entry"]
["IAEG004656","145538-74-5","604-478-7","Benzene, 1,1'-oxybis[2,3,4,5,6-pentabromo-",null,"D1","2017-08-14","2017-08-14",null,"Substance Direct Entry"]
["IAEG004659","109945-70-2","No EC available","1,1'-Oxybis(2,3,4,5,6-pentabromobenzene)",null,"D1","2017-08-14","2017-08-14",null,"Substance Direct Entry"]
["IAEG004660","1201677-32-8","No EC available","1,1'-oxybis[2,3,4,5,6-pentabromobenzene",null,"D1","2017-08-14","2017-08-14",null,"Substance Direct Entry"]
["IAEG004661","12139-21-8","No EC available","Monteponite (CdO)",null,"R1;R2;D1","2017-08-14","2017-08-14",null,"Substance Direct Entry"]
["IAEG004662","111720-41-3","No EC available","1,3-Isobenzofurandione, hexahydro-, (3aR,7aS)-rel",null,"D1","2017-08-14","2017-08-14",null,"Substance Direct Entry"]
["IAEG004663","127946-28-5","No EC available","1,3-Isobenzofurandione, hexahydro-, (3aR,7aS)-rel",null,"D1","2017-08-14","2017-08-14",null,"Substance Direct Entry"]
["IAEG004664","201815-17-0","No EC available","1,3-Isobenzofurandione, hexahydro-, (3aR,7aS)-rel",null,"D1","2017-08-14","2017-08-14",null,"Substance Direct Entry"]
["IAEG004665","279240-32-3","No EC available","1,3-Isobenzofurandione, hexahydro-, (3aR,7aS)-rel",null,"D1","2017-08-14","2017-08-14",null,"Substance Direct Entry"]
["IAEG004666","634193-83-2","No EC available","1,3-Isobenzofurandione, hexahydro-, (3aR,7aS)-rel",null,"D1","2017-08-14","2017-08-14",null,"Substance Direct Entry"]
["IAEG004667","743438-36-0","No EC available","1,3-Isobenzofurandione, hexahydro-, (3aR,7aS)-rel",null,"D1","2017-08-14","2017-08-14",null,"Substance Direct Entry"]
["IAEG004668","69985-35-9","No EC available","Lead azide (Pb(N3))",null,"R1;D1;I","2017-08-14","2023-01-27",null,"Substance Direct Entry"]
["IAEG004669","73513-16-3","No EC available","Plumbane, tetrazido",null,"R1;D1;I","2017-08-14","2023-01-27",null,"Substance Direct Entry"]
["IAEG004670","97233-90-4","No EC available","1,3-Isobenzofurandione, hexahydro-, trans-(+-)-",null,"D1","2017-08-14","2017-08-14",null,"Substance Direct Entry"]
["IAEG004671","128049-67-2","No EC available","1,3-Isobenzofurandione, hexahydro-, (3aR,7aR)-rel",null,"D1","2017-08-14","2017-08-14",null,"Substance Direct Entry"]
["IAEG004672","66778-13-0","No EC available","1,3-Benzenediol, 2,4,6-trinitro-, lead(2+) salt (1:1), monohydrate",null,"R1;D1;I","2017-08-14","2023-01-27",null,"Substance Direct Entry"]
["IAEG004673","149864-43-7","No EC available","Methanesulfonic acid, lead(2+) salt",null,"R1;D1;I","2017-08-14","2023-01-27",null,"Substance Direct Entry"]
["IAEG004675","414867-60-0","No EC available","1,3,5-Triglycidylisocyanurate",null,"D1","2017-08-14","2017-08-14",null,"Substance Direct Entry"]
["IAEG004676","137506-60-6","No EC available","Carbonic acid, cobalt(2+) salt(1:1), monohydrate",null,"D1","2017-08-14","2017-08-14",null,"Substance Direct Entry"]
["IAEG004677","5768-87-6","No EC available","2-((4-Hydroxyphenyl)(4-oxo-2,5-cyclohexadien-1-ylidene)methyl)benzoic acid","Phenolphtalein","D1","2017-08-14","2017-08-14",null,"Substance Direct Entry"]
["IAEG004678","95327-28-9","No EC available","1,2-Cyclohexanedicarboxylic acid anhydride","1,3-Isobenzofurandione, hexahydro-","D1","2015-03-17","2015-03-17",null,"Substance Direct Entry"]
["IAEG004679","102483-85-2","No EC available","1,2-Cyclohexanedicarboxylic acid anhydride",null,"D1","2017-08-14","2017-08-14",null,"Substance Direct Entry"]
["IAEG004680","109265-67-0","No EC available","Hexahydro-1,3-isobenzofurandione",null,"D1","2017-08-14","2017-08-14",null,"Substance Direct Entry"]
["IAEG004681","117276-22-9","No EC available","1,2-Cyclohexanedicarboxylic acid anhydride",null,"D1","2015-03-17","2017-08-14",null,"Substance Direct Entry"]
["IAEG004682","13674-87-8","237-159-2","Tris[2-chloro-1-(chloromethyl)ethyl] phosphate (TDCP)",null,"I","2019-01-24","2019-01-24","100.033.767","Substance Direct Entry"]
["IAEG004694","654054-66-7","629-592-4","Cadmium chloride hydrate",null,"R1;R2;D1","2017-08-14","2017-08-14",null,"Substance Direct Entry"]
["IAEG004696","122-60-1","204-557-2","Phenyl glycidyl ether","2,3-Epoxypropyl phenyl ether; 1,2-Epoxy-3-phenoxypropane","R2","2019-01-24","2019-01-24","100.004.144","Substance Direct Entry"]
["IAEG004697","62-55-5","200-541-4","Thioacetamide",null,"R2","2019-01-24","2019-01-24","100.000.493","Substance Direct Entry"]
["IAEG004699","13840-56-7","237-560-2","Orthoboric acid, sodium salt",null,"R2;D1;I","2019-01-24","2023-01-27","100.034.132","Group Direct Entry"]
["IAEG009185","1333-73-9","215-604-1","Boric acid, sodium salt",null,"D1;I","2022-02-17","2023-01-27","100.014.186","Group Member","IAEG004699"]
["IAEG009186","25747-83-5","No EC available","Boric acid (H3BO3), sodium salt, hydrate",null,"D1;I","2022-02-17","2023-01-27","100.331.486","Group Member","IAEG004699"]
["IAEG009187","14890-53-0","No EC available","Boric acid (H3BO3), sodium salt (1:1)",null,"D1;I","2022-02-17","2023-01-27","100.290.470","Group Member","IAEG004699"]
["IAEG009188","22454-04-2","No EC available","Boric acid (H3BO3), disodium salt",null,"D1;I","2022-02-17","2023-01-27","100.291.297","Group Member","IAEG004699"]
["IAEG009189","14312-40-4","238-253-6","Trisodium orthoborate",null,"D1;I","2022-02-17","2023-01-27","100.034.760","Group Member","IAEG004699"]
["IAEG004701","606-20-2","210-106-0","2,6-Dinitrotoluene",null,"R2","2019-01-24","2019-01-24",null,"Substance Direct Entry"]
["IAEG004702","569-61-9","209-321-2","C.I. Basic Red 9","4,4'-(4-Iminocyclohexa-2,5-dienylidenemethylene)dianiline hydrochloride","R1;R2","2019-01-24","2019-01-24",null,"Substance Direct Entry"]
["IAEG004705","25321-14-6","246-836-1","Dinitrotoluene",null,"R2","2022-02-17","2022-02-17","100.042.564","Substance Direct Entry"]
["IAEG004706","110-88-3","203-812-5","1,3,5-Trioxane",null,"R2","2019-01-24","2019-01-24","100.003.466","Substance Direct Entry"]
["IAEG004707","26447-14-3","247-711-4","[(Tolyloxy)methyl]oxirane","1,2-Epoxy-3-(tolyloxy)propane","R2","2019-01-24","2019-01-24",null,"Substance Direct Entry"]
["IAEG004708","78-88-6","201-153-8","2,3-dichloropropene",null,"R2","2022-02-17","2022-02-17","100.001.049","Substance Direct Entry"]
["IAEG004709","492-80-8","207-762-5","Auramine","4,4'-carbonimidoylbis[N,N-dimethylaniline]","R2","2021-02-02","2021-02-02",null,"Substance Direct Entry"]
["IAEG004711","75-25-2","200-854-6","Bromoform","Tribromomethane","R2","2019-01-24","2019-01-24","100.000.777","Substance Direct Entry"]
["IAEG004712","106-87-6","203-437-7","7-Oxa-3-oxiranylbicyclo[4.1.0]heptane","1,2-Epoxy-4-epoxyethylcyclohexane; 4-Vinylcyclohexene diepoxide; Vinyl cyclohexene dioxide (VCD)","R2","2019-01-24","2023-01-27",null,"Substance Direct Entry"]
["IAEG004714","60-35-5","200-473-5","Acetamide",null,"R2","2019-01-24","2019-01-24","100.000.430","Substance Direct Entry"]
["IAEG004715","15545-48-9","239-592-2","Chlorotoluron","3-(3-chloro-p-tolyl)-1,1-dimethylurea","R2","2019-01-24","2019-01-24",null,"Substance Direct Entry"]
["IAEG004719","115-28-6","204-078-9","Chlorendic acid",null,"R2","2019-01-24","2019-01-24",null,"Substance Direct Entry"]
["IAEG004720","135-20-6","205-183-2","Cupferron",null,"R2","2019-01-24","2019-01-24",null,"Substance Direct Entry"]
["IAEG004723","10034-93-2","233-110-4","Hydrazine sulphate","Hydrazinium(2+) sulphate","R2","2019-01-24","2019-01-24",null,"Substance Direct Entry"]
["IAEG004724","68583-58-4","271-520-5","Ethanamine, N-ethyl-N-hydroxy-, reaction products with hexamethylcyclotrisiloxane, silica and 1,1,1-trimethyl-N-(trimethylsilyl)silanamine",null,"R2","2019-01-24","2019-01-24",null,"Substance Direct Entry"]
["IAEG004728","141-90-2","205-508-8","Thiouracil","2-Thiouracil","R2","2019-01-24","2019-01-24",null,"Substance Direct Entry"]
["IAEG004729","1310-53-8","215-180-8","Germanium dioxide",null,"R2","2019-01-24","2019-01-24","100.013.801","Substance Direct Entry"]
["IAEG004754","668-34-8","No EC available","Triphenyltin (TPhT)","Fentin","R1;R2","2017-08-14","2017-08-14",null,"Substance Direct Entry"]
["IAEG004757","688-73-3","211-704-4","Tri-n-butyltin hydride",null,"R1;R2","2015-03-17","2017-08-14","100.010.642","Substance Direct Entry"]
["IAEG004775","4027-18-3","223-701-5","4-oxo-4-[(tributylstannyl)oxy]but-2-enoic acid",null,"R1;R2","2021-02-02","2021-02-02",null,"Substance Direct Entry"]
["IAEG004777","4342-30-7","224-397-7","Tri-n-butyl tin salicylate","Tributylstannyl salicylate","R1;R2","2017-08-14","2017-08-14",null,"Substance Direct Entry"]
["IAEG004788","7342-47-4","No EC available","Tributyltin iodide",null,"R1;R2","2017-08-14","2017-08-14",null,"Substance Direct Entry"]
["IAEG004809","2155-70-6","218-452-4","Tributyltin methacrylate","Tributyl(methacryloyloxy)stannane","R1;R2","2017-08-14","2017-08-14",null,"Substance Direct Entry"]
["IAEG004833","67701-37-5","266-955-2","Stannane, [(2-octyl-1,4-dioxo-1,4-butanediyl)bis(oxy)]bis[tributyl-",null,"R1;R2","2017-08-14","2017-08-14",null,"Substance Direct Entry"]
["IAEG004841","85409-17-2","287-083-9","Tributyltin naphthenate","Stannane, tributyl-, mono(naphthenoyloxy) derivs.","R1;R2","2017-08-14","2017-08-14",null,"Substance Direct Entry"]
["IAEG004857","13121-70-5","236-049-1","Cyhexatin","Hydroxytricyclohexylstannane; Tri(cyclohexyl)tin hydroxide","R1;R2","2017-08-14","2017-08-14",null,"Substance Direct Entry"]
["IAEG004954","148961-88-0","No EC available","2-Tributylstannylbenzo[B]Thiophene",null,"R1;R2","2020-01-16","2020-01-16",null,"Substance Direct Entry"]
["IAEG004958","17314-33-9","No EC available","Phenyl Tributyltin Sulfide",null,"R1;R2","2020-01-16","2020-01-16",null,"Substance Direct Entry"]
["IAEG004981","67883-62-9","No EC available","Tributyl(2-Methylprop-2-En-1-Yl)Stannane",null,"R1;R2","2020-01-16","2020-01-16",null,"Substance Direct Entry"]
["IAEG004983","927810-08-0","805-924-5","Tributyl(4-Methoxy-2-Pyridyl)Tin",null,"R1;R2","2017-08-14","2017-08-14",null,"Substance Direct Entry"]
["IAEG004984","938181-92-1","No EC available","4,5-Dimethyl-2-(Tributylstannyl)-1,3-Thiazole",null,"R1;R2","2017-08-14","2017-08-14",null,"Substance Direct Entry"]
["IAEG004987","994-71-8","No EC available","Tributyl[2-(Tributylstannyl)Ethynyl]Stannane",null,"R1;R2","2017-08-14","2017-08-14",null,"Substance Direct Entry"]
["IAEG005002","78-79-5","201-143-3","Isoprene","Isopropene; 2-Methyl-1,3-butadiene","I","2019-01-24","2019-01-24","100.001.040","Substance Direct Entry"]
["IAEG005005","No CAS available","No EC available","Perfluorohexane-1-sulphonic acid and its salts","PFHxS salts","D1;I","2017-08-14","2023-01-27","100.244.691","Group Direct Entry"]
["IAEG003137","55120-77-9","No EC available","Lithium perfluorohexanesulfonate","1-Hexanesulfonic acid, 1,1,2,2,3,3,4,4,5,5,6,6,6-tridecafluoro-, lithium salt (1:1)","R1;R2;D1;I","2017-08-14","2023-01-27","100.293.154","Group Member","IAEG005005"]
["IAEG003269","355-46-4","206-587-1","Perfluorohexane-1-sulphonic acid","Perfluorohexanesulphonic acid (PFHxS)","R1;R2;D1;I","2017-08-14","2023-01-27","100.005.989","Group Member","IAEG005005"]
["IAEG003385","68391-09-3","269-928-3","Sulfonic acids, C6-12-alkane, perfluoro, potassium salts","","R1;R2;D1;I","2019-01-24","2023-01-27",null,"Group Member","IAEG005005"]
["IAEG003426","68259-08-5","269-511-6","Ammonium perfluorohexane-1-sulphonate","","R1;R2;D1;I","2017-08-14","2023-01-27","100.063.173","Group Member","IAEG005005"]
["IAEG003432","70225-16-0","274-462-9","Tridecafluorohexanesulphonic acid, compound with 2,2'-iminodiethanol (1:1)","","R1;R2;D1;I","2017-08-14","2023-01-27","100.067.672","Group Member","IAEG005005"]
["IAEG003436","3871-99-6","223-393-2","Potassium perfluorohexane-1-sulphonate","Tridecafluorohexane-1-sulfonic acid potassium salt","R1;R2;D1;I","2017-08-14","2023-01-27","100.021.268","Group Member","IAEG005005"]
["IAEG003437","108427-53-8","No EC available","Potassium perfluorohexane-1-sulphonate","","D1;I","2019-01-24","2023-01-27",null,"Group Member","IAEG005005"]
["IAEG006424","41184-65-0","No EC available","1-Hexanesulfonic acid, 1,1,2,2,3,3,4,4,5,5,6,6,6-tridecafluoro-, neodymium(3+) salt (3:1) ",null,"D1;I","2017-08-14","2023-01-27","100.292.448","Group Member","IAEG005005"]
["IAEG006425","41242-12-0","No EC available","1-Hexanesulfonic acid, 1,1,2,2,3,3,4,4,5,5,6,6,6-tridecafluoro-, yttrium(3+) salt (3:1)",null,"D1;I","2017-08-14","2023-01-27","100.292.451","Group Member","IAEG005005"]
["IAEG006426","70136-72-0","No EC available","1-Hexanesulfonic acid, 1,1,2,2,3,3,4,4,5,5,6,6,6-tridecafluoro-, zinc salt",null,"D1;I","2017-08-14","2023-01-27","100.295.149","Group Member","IAEG005005"]
["IAEG006427","72033-41-1","No EC available","1-Hexanesulfonic acid, 1,1,2,2,3,3,4,4,5,5,6,6,6-tridecafluoro-, compd. with N,N-diethylethanamine (1:1)",null,"D1;I","2017-08-14","2023-01-27","100.295.489","Group Member","IAEG005005"]
["IAEG006428","82382-12-5","No EC available","1-Hexanesulfonic acid, 1,1,2,2,3,3,4,4,5,5,6,6,6-tridecafluoro-, sodium salt",null,"D1;I","2017-08-14","2023-01-27","100.296.541","Group Member","IAEG005005"]
["IAEG006429","92011-17-1","No EC available","1-Hexanesulfonic acid, 1,1,2,2,3,3,4,4,5,5,6,6,6-tridecafluoro-, cesium salt (1:1)",null,"D1;I","2017-08-14","2023-01-27","100.297.059","Group Member","IAEG005005"]
["IAEG006430","108427-54-9","No EC available","1-Butanaminium, N,N,N-tributyl-, salt with1,1,2,2,3,3,4,4,5,5,6,6,6-tridecafluoro-1-hexanesulfonic acid",null,"D1;I","2017-08-14","2023-01-27","100.289.350","Group Member","IAEG005005"]
["IAEG006431","108427-55-0","No EC available","Ethanaminium, N,N,N-triethyl-, salt with1,1,2,2,3,3,4,4,5,5,6,6,6-tridecafluoro-1-hexanesulfonic acid (1:1)",null,"D1;I","2017-08-14","2023-01-27","100.289.351","Group Member","IAEG005005"]
["IAEG006432","144116-10-9","No EC available","Sulfonium, triphenyl-, 1,1,2,2,3,3,4,4,5,5,6,6,6-tridecafluoro-1-hexanesulfonate (1:1)",null,"D1;I","2017-08-14","2023-01-27","100.290.388","Group Member","IAEG005005"]
["IAEG006433","153443-35-7","No EC available","Iodonium, diphenyl-, 1,1,2,2,3,3,4,4,5,5,6,6,6-tridecafluoro-1-hexanesulfonate (1:1) ",null,"D1;I","2017-08-14","2023-01-27","100.290.553","Group Member","IAEG005005"]
["IAEG006434","189274-31-5","No EC available","Methanaminium, N,N,N-trimethyl-, salt with1,1,2,2,3,3,4,4,5,5,6,6,6-tridecafluoro-1-hexanesulfonic acid (1:1)",null,"D1;I","2017-08-14","2023-01-27","100.291.027","Group Member","IAEG005005"]
["IAEG006435","202189-84-2","No EC available","1-Hexanesulfonic acid, 1,1,2,2,3,3,4,4,5,5,6,6,6-tridecafluoro-, compd.with 2-methyl-2-propanamine (1:1)",null,"D1;I","2017-08-14","2023-01-27","100.291.150","Group Member","IAEG005005"]
["IAEG006436","213740-81-9","No EC available","Iodonium, bis[4-(1,1-dimethylethyl)phenyl]-, 1,1,2,2,3,3,4,4,5,5,6,6,6-tridecafluoro-1-hexanesulfonate (1:1)",null,"D1;I","2017-08-14","2023-01-27","100.291.238","Group Member","IAEG005005"]
["IAEG006437","341035-71-0","No EC available","1-Hexanesulfonic acid, 1,1,2,2,3,3,4,4,5,5,6,6,6-tridecafluoro-, gallium salt (9CI)",null,"D1;I","2017-08-14","2023-01-27","100.292.121","Group Member","IAEG005005"]
["IAEG006438","341548-85-4","No EC available","Sulfonium, bis(4-methylphenyl)phenyl-, 1,1,2,2,3,3,4,4,5,5,6,6,6-tridecafluoro-1-hexanesulfonate (1:1)",null,"D1;I","2017-08-14","2023-01-27","100.292.124","Group Member","IAEG005005"]
["IAEG006439","350836-93-0","No EC available","1-Hexanesulfonic acid, 1,1,2,2,3,3,4,4,5,5,6,6,6-tridecafluoro-, scandium(3+) salt (3:1)",null,"D1;I","2017-08-14","2023-01-27","100.292.165","Group Member","IAEG005005"]
["IAEG006440","421555-73-9","No EC available","Sulfonium, (thiodi-4,1-phenylene)bis[diphenyl-, salt with 1,1,2,2,3,3,4,4,5,5,6,6,6-tridecafluoro-1-hexanesulfonic acid (1:2)",null,"D1;I","2017-08-14","2023-01-27","100.292.489","Group Member","IAEG005005"]
["IAEG006441","421555-74-0","No EC available","Iodonium, bis[4-(1,1-dimethylpropyl)phenyl]-, salt with 1,1,2,2,3,3,4,4,5,5,6,6,6-tridecafluoro-1-hexanesulfonic",null,"D1;I","2017-08-14","2023-01-27","100.292.490","Group Member","IAEG005005"]
["IAEG006442","425670-70-8","No EC available","Sulfonium, tris[4-(1,1-dimethylethyl)phenyl]-, salt with 1,1,2,2,3,3,4,4,5,5,6,6,6-tridecafluoro-1-hexanesulfonic",null,"D1;I","2017-08-14","2023-01-27","100.292.521","Group Member","IAEG005005"]
["IAEG006443","866621-50-3","No EC available","Iodonium, bis[(1,1-dimethylethyl)phenyl]-, salt with 1,1,2,2,3,3,4,4,5,5,6,6,6-tridecafluoro-1-hexanesulfonic acid (1:1) (9CI)",null,"D1;I","2017-08-14","2023-01-27","100.296.787","Group Member","IAEG005005"]
["IAEG006444","910606-39-2","No EC available","Sulfonium, (4-methylphenyl)diphenyl-, 1,1,2,2,3,3,4,4,5,5,6,6,6-tridecafluoro-1-hexanesulfonate (1:1)",null,"D1;I","2017-08-14","2023-01-27","100.297.036","Group Member","IAEG005005"]
["IAEG006445","911027-68-4","No EC available","Sulfonium, [4-[(2-methyl-1-oxo-2-propen-1-yl)oxy]phenyl]diphenyl-, 1,1,2,2,3,3,4,4,5,5,6,6,6-tridecafluoro-1-hexanesulfonate (1:1)",null,"D1;I","2017-08-14","2023-01-27","100.297.038","Group Member","IAEG005005"]
["IAEG006446","911027-69-5","No EC available","Sulfonium, [4-[(2-methyl-1-oxo-2-propenyl)oxy]phenyl]diphenyl-, salt with 1,1,2,2,3,3,4,4,5,5,6,6,6-tridecafluoro-1-hexanesulfonic acid (1:1)",null,"D1;I","2017-08-14","2023-01-27","100.297.039","Group Member","IAEG005005"]
["IAEG006447","928049-42-7","No EC available","Dibenzo[k,n][1,4,7,10,13]tetraoxathiacyclopentadecinium, 19-[4-(1,1-dimethylethyl)phenyl]-6,7,9,10,12,13-hexahydro-, 1,1,2,2,3,3,4,4,5,5,6,6,6-tridecafluoro-1-hexanesulfonate (1:1) ",null,"D1;I","2017-08-14","2023-01-27","100.297.105","Group Member","IAEG005005"]
["IAEG006448","1000597-52-3","No EC available","Phosphonium, triphenyl(phenylmethyl)-, 1,1,2,2,3,3,4,4,5,5,6,6,6-tridecafluoro-1-hexanesulfonate (1:1) ",null,"D1;I","2017-08-14","2023-01-27","100.288.877","Group Member","IAEG005005"]
["IAEG006449","1187817-57-7","No EC available","1-Hexanesulfonic acid, 1,1,2,2,3,3,4,4,5,5,6,6,6-tridecafluoro-, compd. with pyrrolidine (1:1)",null,"D1;I","2017-08-14","2023-01-27","100.289.538","Group Member","IAEG005005"]
["IAEG006450","1310480-24-0","No EC available","Ethanaminium, N-[4-[[4-(diethylamino)phenyl][4-(ethylamino)-1-naphthalenyl]methylene]-2,5-cyclohexadien-1-ylidene]-N-ethyl-, 1,1,2,2,3,3,4,4,5,5,6,6,6-tridecafluoro-1-hexanesulfonate (1:1)",null,"D1;I","2017-08-14","2023-01-27","100.289.998","Group Member","IAEG005005"]
["IAEG006451","1310480-27-3","No EC available","Methanaminium, N-[4-[[4-(dimethylamino)phenyl][4-(ethylamino)-1-naphthalenyl]methylene]-2,5-cyclohexadien-1-ylidene]-N-methyl-, 1,1,2,2,3,3,4,4,5,5,6,6,6-tridecafluoro-1-hexanesulfonate (1:1)",null,"D1;I","2017-08-14","2023-01-27","100.289.999","Group Member","IAEG005005"]
["IAEG006452","1310480-28-4","No EC available","Methanaminium, N-[4-[[4-(dimethylamino)phenyl][4-(phenylamino)-1-naphthalenyl]methylene]-2,5-cyclohexadien-1-ylidene]-N-methyl-, 1,1,2,2,3,3,4,4,5,5,6,6,6-tridecafluoro-1-hexanesulfonate (1:1)",null,"D1;I","2017-08-14","2023-01-27","100.290.000","Group Member","IAEG005005"]
["IAEG006453","1329995-45-0","No EC available","Beta-Cyclodextrin, compd. with 1,1,2,2,3,3,4,4,5,5,6,6,6-tridecafluoro-1-hexanesulfonic acid ion(1-) (1:1)",null,"D1;I","2017-08-14","2023-01-27","100.290.065","Group Member","IAEG005005"]
["IAEG006454","1329995-69-8","No EC available","Gamma-Cyclodextrin, compd. with 1,1,2,2,3,3,4,4,5,5,6,6,6-tridecafluoro-1-hexanesulfonic acid ion(1-) (1:1)",null,"D1;I","2017-08-14","2023-01-27","100.290.066","Group Member","IAEG005005"]
["IAEG006455","1462414-59-0","No EC available","Quinolinium, 1-(carboxymethyl)-4-[2-[4-[4-(2,2-diphenylethenyl)phenyl]-1,2,3,3a,4,8b-hexahydrocyclopent[b]indol-7-yl]ethenyl]-, 1,1,2,2,3,3,4,4,5,5,6,6,6-tridecafluoro-1-hexanesulfonate (1:1) ",null,"D1;I","2017-08-14","2023-01-27","100.290.419","Group Member","IAEG005005"]
["IAEG006581","93572-72-6","297-502-7","Sulfonic acids, C6-12-alkane, perfluoro",null,"D1;I","2019-01-24","2023-01-27",null,"Group Member","IAEG005005"]
["IAEG005007","139-13-9","205-355-7","Nitrilotriacetic acid",null,"I","2019-01-24","2019-01-24","100.004.869","Substance Direct Entry"]
["IAEG005021","941-81-1","213-383-6","4,6,8-trimethylazulene",null,"I","2015-03-17","2019-01-24",null,"Substance Direct Entry"]
["IAEG005022","93951-69-0","No EC available","Fluoranthene-D10, 98 Atom % D",null,"D1;I","2019-01-24","2023-01-27",null,"Substance Direct Entry"]
["IAEG005023","939-27-5","213-360-0","2-ethylnaphthalene",null,"I","2017-08-14","2019-01-24",null,"Substance Direct Entry"]
["IAEG005025","92-24-0","202-138-9","Naphthacene",null,"I","2017-08-14","2017-08-14",null,"Substance Direct Entry"]
["IAEG005031","91-57-6","202-078-3","2-methylnaphthalene",null,"I","2017-08-14","2017-08-14","100.001.890","Substance Direct Entry"]
["IAEG005032","91-20-3","202-078-3","Naphthalene",null,"D1;I","2017-08-14","2023-01-27","100.001.863","Substance Direct Entry"]
["IAEG005038","90-12-0","201-966-8","1-methylnaphthalene",null,"I","2017-08-14","2017-08-14","100.001.788","Substance Direct Entry"]
["IAEG005043","86-73-7","201-695-5","Fluorene",null,"I","2017-08-14","2023-01-27","100.001.541","Substance Direct Entry"]
["IAEG005078","779-02-2","212-299-7","9-methylanthracene",null,"I","2017-08-14","2017-08-14",null,"Substance Direct Entry"]
["IAEG005082","751-38-2","No EC available","1,2,3,4-Tetraphenylnaphthalene","1,2,3,4-Tetraphenylnaphthalene","I","2020-01-16","2020-01-16",null,"Substance Direct Entry"]
["IAEG005120","581-40-8","209-463-5","2,3-dimethylnaphthalene",null,"I","2015-03-17","2019-01-24",null,"Substance Direct Entry"]
["IAEG005124","573-98-8","209-364-7","1,2-dimethylnaphthalene",null,"I","2017-08-14","2019-01-24",null,"Substance Direct Entry"]
["IAEG005126","571-61-9","209-338-5","1,5-dimethylnaphthalene",null,"I","2017-08-14","2017-08-14",null,"Substance Direct Entry"]
["IAEG005127","571-58-4","209-335-9","1,4-dimethylnaphthalene",null,"I","2015-03-17","2019-01-24",null,"Substance Direct Entry"]
["IAEG005128","57-97-6","200-359-5","7,12-Dimethylbenz(a)anthracene",null,"I","2017-08-14","2017-08-14",null,"Substance Direct Entry"]
["IAEG005133","56388-49-9","No EC available","Eicosyl naphthalene",null,"I","2019-01-24","2019-01-24",null,"Substance Direct Entry"]
["IAEG005134","56388-48-8","No EC available","Naphthalene, octadecyl-",null,"I","2021-02-02","2021-02-02","100.249.470","Substance Direct Entry"]
["IAEG005135","56388-47-7","No EC available","Naphthalene, hexadecyl-",null,"I","2021-02-02","2021-02-02","100.249.162","Substance Direct Entry"]
["IAEG005137","56-49-5","200-276-4","3-Methylcholanthrene",null,"I","2017-08-14","2017-08-14",null,"Substance Direct Entry"]
["IAEG005145","517-51-1","208-242-0","5,6,11,12-tetraphenylnaphthacene",null,"I","2017-08-14","2017-08-14",null,"Substance Direct Entry"]
["IAEG005169","38640-62-9","254-052-6","Bis(isopropyl)naphthalene","Diisopropylnaphthalene","I","2017-08-14","2017-08-14","100.049.121","Substance Direct Entry"]
["IAEG005171","3697-24-3","No EC available","5-Methylchrysene",null,"R1;R2;D1;I","2019-01-24","2023-01-27",null,"Substance Direct Entry"]
["IAEG005175","35860-37-8","No EC available","Naphthalene, tris(1-methylethyl)-",null,"I","2017-08-14","2017-08-14",null,"Substance Direct Entry"]
["IAEG005191","29253-36-9","249-535-3","Isopropylnaphthalene",null,"I","2022-02-17","2022-02-17","100.045.018","Substance Direct Entry"]
["IAEG005193","28804-88-8","249-241-5","Dimethylnaphthalene",null,"I","2017-08-14","2019-01-24",null,"Substance Direct Entry"]
["IAEG005201","27208-37-3","No EC available","Cyclopenta[cd]pyrene",null,"R1;R2;D1;I","2017-08-14","2023-01-27",null,"Substance Direct Entry"]
["IAEG005205","26588-32-9","247-828-0","Vinylnaphthalene",null,"I","2020-01-16","2020-01-16",null,"Substance Direct Entry"]
["IAEG005219","243-17-4","205-952-2","Benzo[b]fluorene",null,"I","2019-01-24","2019-01-24",null,"Substance Direct Entry"]
["IAEG005221","24157-81-1","246-045-1","2,6-diisopropylnaphthalene",null,"I","2020-01-16","2020-01-16","100.041.845","Substance Direct Entry"]
["IAEG005230","2381-15-9","No EC available","Ar-E40  10-Methylbenz(A)Anthracene",null,"I","2017-08-14","2017-08-14",null,"Substance Direct Entry"]
["IAEG005231","238-84-6","205-944-9","Benzo[a]fluorene",null,"I","2019-01-24","2019-01-24",null,"Substance Direct Entry"]
["IAEG005232","236-73-7","No EC available","1,4-Methanonaphthalene",null,"I","2020-01-16","2020-01-16",null,"Substance Direct Entry"]
["IAEG005240","224-41-9","205-928-1","Dibenz[a,j]anthracene",null,"I","2017-08-14","2019-01-24",null,"Substance Direct Entry"]
["IAEG005244","217-59-4","205-922-9","Triphenylene",null,"I","2017-08-14","2019-01-24",null,"Substance Direct Entry"]
["IAEG005246","215-58-7","205-920-8","Benzo[b]triphenylene","Dibenz[a,c]anthracene","I","2017-08-14","2019-01-24",null,"Substance Direct Entry"]
["IAEG005255","208-96-8","205-917-1","Acenaphthylene",null,"I","2017-08-14","2023-01-27",null,"Substance Direct Entry"]
["IAEG005256","206-44-0","205-912-4","Fluoranthene",null,"D1;I","2019-01-24","2023-01-27","100.005.376","Substance Direct Entry"]
["IAEG005259","203-64-5","205-905-6","4H-cyclopenta[def]phenanthrene",null,"I","2019-01-24","2019-01-24",null,"Substance Direct Entry"]
["IAEG005263","2027-17-0","217-976-0","2-isopropylnaphthalene",null,"I","2017-08-14","2019-01-24",null,"Substance Direct Entry"]
["IAEG005264","198-55-0","205-900-9","Perylene",null,"I","2017-08-14","2019-01-24",null,"Substance Direct Entry"]
["IAEG005269","195-19-7","205-896-9","Benzo[c]phenanthrene",null,"I","2019-01-24","2019-01-24",null,"Substance Direct Entry"]
["IAEG005272","193-39-5","205-893-2","Indeno [1,2,3-cd]pyrene",null,"R1;R2;D1;I","2017-08-14","2023-01-27",null,"Substance Direct Entry"]
["IAEG005273","192-65-4","205-891-1","Dibenzo[a,e]pyrene",null,"R1;R2;D1;I","2017-08-14","2023-01-27",null,"Substance Direct Entry"]
["IAEG005274","191-68-4","205-890-6","Dibenzo[g,p]chrysene",null,"I","2017-08-14","2017-08-14",null,"Substance Direct Entry"]
["IAEG005278","191-24-2","205-883-8","Benzo(g,h,i)perylene",null,"R1;R2;D1;I","2017-08-14","2023-01-27","100.005.350","Substance Direct Entry"]
["IAEG005280","191-07-1","205-881-7","Coronene","Hexabenzobenzene","I","2017-08-14","2017-08-14",null,"Substance Direct Entry"]
["IAEG005283","189-64-0","205-878-0","Dibenzo[a,h]pyrene","Dibenzo[b,def]chrysene","R1;R2;D1;I","2017-08-14","2023-01-27",null,"Substance Direct Entry"]
["IAEG005290","1719-06-8","217-004-5","[2H10]anthracene",null,"I","2017-08-14","2019-01-24",null,"Substance Direct Entry"]
["IAEG005291","1719-03-5","625-640-3","Chrysene-d12",null,"D1;I","2017-08-14","2023-01-27",null,"Substance Direct Entry"]
["IAEG005292","1718-53-2","624-576-3","Benz[a]anthracene-d12",null,"D1;I","2019-01-24","2023-01-27",null,"Substance Direct Entry"]
["IAEG005293","1718-52-1","No EC available","Pyrene-D10",null,"D1;I","2019-01-24","2023-01-27",null,"Substance Direct Entry"]
["IAEG005302","15679-24-0","239-762-6","2,7-dimethylpyrene",null,"I","2020-01-16","2020-01-16",null,"Substance Direct Entry"]
["IAEG005306","1499-10-1","216-105-1","9,10-diphenylanthracene",null,"I","2017-08-14","2019-01-24",null,"Substance Direct Entry"]
["IAEG005307","1498-71-1","No EC available","9-Benzyl-Anthracene",null,"I","2020-01-16","2020-01-16",null,"Substance Direct Entry"]
["IAEG005308","14458-76-5","238-449-1","(1H)-benzo[b]fluorene",null,"I","2020-01-16","2020-01-16",null,"Substance Direct Entry"]
["IAEG005309","143319-00-0","No EC available","Dibenzylnaphthalene",null,"I","2020-01-16","2020-01-16",null,"Substance Direct Entry"]
["IAEG005310","1430-97-3","215-853-6","2-methylfluorene",null,"I","2020-01-16","2020-01-16",null,"Substance Direct Entry"]
["IAEG005319","135585-40-9","No EC available","Naphthalene, (1-methylnonadecyl)-",null,"I","2020-01-16","2020-01-16",null,"Substance Direct Entry"]
["IAEG005320","135-48-8","205-193-7","Pentacene",null,"I","2017-08-14","2017-08-14",null,"Substance Direct Entry"]
["IAEG005322","132983-41-6","410-190-0","Reaction mass of isomers of: mono-(2-tetradecyl)naphthalenes; di-(2-tetradecyl)naphthalenes; tri-(2-tetradecyl)naphthalenes",null,"I","2019-01-24","2019-01-24","100.100.982","Substance Direct Entry"]
["IAEG005323","132859-40-6","No EC available","Naphthalene, trihexadecyl-",null,"I","2020-01-16","2020-01-16",null,"Substance Direct Entry"]
["IAEG005324","1328-13-8","215-515-8","Anthracene, reaction products with sulfur chloride",null,"I","2020-01-16","2020-01-16",null,"Substance Direct Entry"]
["IAEG005325","1321-94-4","215-329-7","Methylnaphthalene",null,"I","2019-01-24","2019-01-24",null,"Substance Direct Entry"]
["IAEG005326","129-00-0","204-927-3","Pyrene",null,"D1;I","2017-08-14","2023-01-27","100.004.481","Substance Direct Entry"]
["IAEG005327","122070-80-8","310-171-6","Extract oils (coal), coal tar residual pyrolysis oils, naphthalene oil, distn. residues",null,"I","2020-01-16","2020-01-16",null,"Substance Direct Entry"]
["IAEG005328","122070-79-5","310-170-0","Extract oils (coal), coal tar residual pyrolysis oils, naphthalene oils",null,"I","2020-01-16","2020-01-16",null,"Substance Direct Entry"]
["IAEG005329","122070-78-4","310-169-5","Phenanthrene, distn. residues",null,"I","2020-01-16","2020-01-16",null,"Substance Direct Entry"]
["IAEG005330","121620-48-2","310-167-4","Extract residues (coal), naphthalene oil, alk., naphthalene-low",null,"I","2020-01-16","2020-01-16",null,"Substance Direct Entry"]
["IAEG005331","121620-47-1","310-166-9","Extract residues (coal), naphthalene oil, alk.",null,"I","2020-01-16","2020-01-16",null,"Substance Direct Entry"]
["IAEG005332","121254-39-5","No EC available","2-Methylcyclopenta[L]Phenanthrene",null,"I","2020-01-16","2020-01-16",null,"Substance Direct Entry"]
["IAEG005334","1146-65-2","214-552-7","(2H8)naphthalene",null,"I","2017-08-14","2017-08-14",null,"Substance Direct Entry"]
["IAEG005335","1134-40-3","214-485-3","2,3,6,7-tetramethylnaphthalene",null,"I","2020-01-16","2020-01-16",null,"Substance Direct Entry"]
["IAEG005336","1127-76-0","214-432-4","1-ethylnaphthalene","1-ethylnaphthalene","I","2023-01-27","2023-01-27",null,"Substance Direct Entry"]
["IAEG005337","110746-97-9","No EC available","1-Cyclohexyl-Naphthalene, Picrate",null,"I","2020-01-16","2020-01-16",null,"Substance Direct Entry"]
["IAEG005342","101794-91-6","309-972-3","Distillates (coal tar), naphthalene oils, indole-methylnaphthalene fraction",null,"I","2020-01-16","2020-01-16",null,"Substance Direct Entry"]
["IAEG005352","54261-67-5","259-048-8","Zinc bis[bis(dodecylphenyl)] bis(dithiophosphate)",null,"I","2015-03-17","2017-08-14",null,"Substance Direct Entry"]
["IAEG005353","115-86-6","204-112-2","Triphenyl phosphate (TPP)",null,"I","2015-03-17","2017-08-14","100.003.739","Substance Direct Entry"]
["IAEG005355","1879-09-0","217-533-1","6-tert-butyl-2,4-xylenol",null,"I","2019-01-24","2019-01-24","100.015.940","Substance Direct Entry"]
["IAEG005357","556-67-2","209-136-7","Octamethylcyclotetrasiloxane (D4)",null,"D1;I","2019-01-24","2023-01-27","100.008.307","Substance Direct Entry"]
["IAEG005358","541-02-6","208-764-9","Decamethylcyclopentasiloxane (D5)",null,"D1;I","2019-01-24","2023-01-27","100.007.969","Substance Direct Entry"]
["IAEG005359","7727-54-0","231-786-5","Diammonium peroxodisulphate","Ammonium persulphate; Persulfate ammonium; Peroxydisulfuric acid (((HO)S(O)2)2O2), diammonium salt","I","2019-01-24","2019-01-24","100.028.897","Substance Direct Entry"]
["IAEG005360","7727-21-1","231-781-8","Dipotassium peroxodisulphate","Potassium persulphate; Persulfate potassium; Peroxydisulfuric acid (((HO)S(O)2)2O2), dipotassium salt","I","2019-01-24","2019-01-24","100.028.893","Substance Direct Entry"]
["IAEG005361","7775-27-1","231-892-1","Disodium peroxodisulphate","Sodium persulphate; Peroxydisulfuric acid (((HO)S(O)2)2O2), disodium salt","I","2019-01-24","2019-01-24","100.028.993","Substance Direct Entry"]
["IAEG005362","12008-41-2","234-541-0","Disodium octaborate","Disodium octaborate anhydrate; Sodium borate","D1","2019-01-24","2019-01-24","100.031.388","Substance Direct Entry"]
["IAEG005363","12280-03-4","234-541-0","Disodium octaborate tetrahydrate","Disodium octaborate anhydrate; Sodium borate","D1;I","2019-01-24","2023-01-27","100.031.388","Substance Direct Entry"]
["IAEG005365","No CAS available","No EC available","Alloys Cobalt-tungsten carbide hard metals",null,"I","2022-02-17","2022-02-17","100.251.382","Substance Direct Entry"]
["IAEG005367","3102-79-2","No EC available","Perfluorodecyldichloromethylsilane (C8-PFSi)","Perfluorodecyldichloromethylsilane (C8-PFSi)","R1;R2","2023-01-27","2023-01-27",null,"Substance Direct Entry"]
["IAEG005369","116984-14-6","No EC available","2-Propenoic acid, 3,3,4,4,5,5,6,6,7,7,8,8,9,9,10,10,11,11,12,12,12-heneicosafluorododecyl ester, polymer with 3,3,4,4,5,5,6,6,7,7,8,8,9,9,10,10,10- heptadecafluorodecyl 2-propenoate, alpha-(2-methyl-1-1-oxo-2-2-propenyl)-omega-[(2-methyl-1-oxo-2-propenyl)oxy]poly(oxy-1, 2-ethanediyl),3,3,4,4,5,5,6,6,7,7,8,8,9,9,10,10,11,11,12,12,13,13,14,14,15,15,16,16,16- nonacosafluorohexadecyl 2-propenoate, octadecyl 2-propenoate,3,3,4,4,5,5,6,6,7,7,8,8,9,9,10,10,11,11,12,12,13,13,14,14,14-pentacosafluorotetradecyl 2-propenoate and 3,3,4,4,5,5,6,6,7,7,8,8,9,9,10,10,11,11,12,12,13,13,14,14,15,15,16,16,17,17,18,18,18-tritriacontafluorooctadecyl 2-propenoate",null,"R1;R2;I","2017-08-14","2023-01-27",null,"Substance Direct Entry"]
["IAEG005370","106-44-5","203-398-6","p-Cresol","4-Methylphenol","D1","2017-08-14","2017-08-14","100.003.090","Substance Direct Entry"]
["IAEG005371","117-84-0","204-214-7","Di-n-octyl phthalate (DnOP)","Dioctyl phthalate","D1","2017-08-14","2017-08-14",null,"Substance Direct Entry"]
["IAEG005372","1304-56-9","215-133-1","Beryllium oxide",null,"D1","2017-08-14","2017-08-14","100.013.758","Substance Direct Entry"]
["IAEG005373","131-11-3","205-011-6","Dimethyl phthalate (DMP)",null,"D1","2017-08-14","2017-08-14","100.004.557","Substance Direct Entry"]
["IAEG005374","1314-60-9","215-237-7","Antimony(V) pentoxide","Diantimony pentoxide","D1","2017-08-14","2017-08-14","100.013.853","Substance Direct Entry"]
["IAEG005375","1319-77-3","215-293-2","Cresol (mixture of isomers)",null,"D1","2017-08-14","2017-08-14","100.013.904","Substance Direct Entry"]
["IAEG005376","137-26-8","205-286-2","Thiram","Tetramethylthiuram disulphide; N,N,N',N'-Tetramethyl-2,3-dithiadithiosuccinamide","D1","2015-03-17","2017-08-14","100.004.806","Substance Direct Entry"]
["IAEG005377","29935-35-1","249-963-0","Lithium hexafluoroarsenate",null,"R1;R2;D1","2015-03-17","2017-08-14",null,"Substance Direct Entry"]
["IAEG005378","330-54-1","206-354-4","Diuron","3-(3,4-Dichlorophenyl)-1,1-dimethylurea (DCMU)","D1","2015-03-17","2017-08-14","100.005.778","Substance Direct Entry"]
["IAEG005379","61789-51-3","263-064-0","Cobalt naphthenate",null,"D1","2017-08-14","2017-08-14","100.057.313","Substance Direct Entry"]
["IAEG005380","7440-36-0","231-146-5","Antimony (Sb)",null,"D1","2015-03-17","2017-08-14","100.028.314","Substance Direct Entry"]
["IAEG005381","7440-38-2","231-148-6","Arsenic (As)",null,"R1;R2;D1","2017-08-14","2017-08-14","100.028.316","Substance Direct Entry"]
["IAEG005382","7440-48-4","231-158-0","Cobalt (Co)",null,"R1;R2;D1","2015-03-17","2017-08-14","100.028.325","Substance Direct Entry"]
["IAEG005383","7782-49-2","231-957-4","Selenium (Se)",null,"D1","2015-03-17","2017-08-14","100.029.052","Substance Direct Entry"]
["IAEG005384","818-08-6","212-449-1","Dibutyltin oxide",null,"R2;D1","2017-08-14","2017-08-14","100.011.317","Substance Direct Entry"]
["IAEG005385","84-66-2","201-550-6","Diethyl phthalate (DEP)","1,2-Benzenedicarboxylic acid, diethyl ester","D1","2017-08-14","2017-08-14","100.001.409","Substance Direct Entry"]
["IAEG005386","85-44-9","201-607-5","Phthalic anhydride","1,3-Isobenzofurandione","D1;I","2017-08-14","2023-01-27","100.001.461","Substance Direct Entry"]
["IAEG005387","92-52-4","202-163-5","Biphenyl","PCB 0","D1","2017-08-14","2017-08-14","100.001.967","Substance Direct Entry"]
["IAEG005388","95-48-7","202-423-8","o-Cresol",null,"D1","2017-08-14","2017-08-14","100.002.204","Substance Direct Entry"]
["IAEG005389","12018-19-8","234-637-2","Chromium zinc oxide","Dichromium zinc tetraoxide","D1","2017-08-14","2017-08-14",null,"Substance Direct Entry"]
["IAEG005390","12709-98-7","No EC available","Lead-molybdenum chromate",null,"D1","2017-08-14","2017-08-14",null,"Substance Direct Entry"]
["IAEG005393","61788-32-7","262-967-7","Terphenyl, hydrogenated",null,"D1;I","2017-08-14","2023-01-27","100.057.225","Substance Direct Entry"]
["IAEG005399","No CAS available","No EC available","Individual isomers of 1,6,7,8,9,14,15,16,17,17,18,18-dodecachloropentacyclo[12.2.1.16,9.02,13.05,10]octadeca-7,15-diene (Dechlorane Plus) or any combination thereof",null,"D1;I","2019-01-24","2023-01-27","100.253.516","Group Direct Entry"]
["IAEG005395","13560-89-9","236-948-9","Dechlorane plus","Dechlorane+; 1,6,7,8,9,14,15,16,17,17,18,18-dodecachloropentacyclo[12.2.1.16,9.02,13.05,10]octadeca-7,15-diene","D1;I","2017-08-14","2023-01-27","100.033.575","Group Member","IAEG005399"]
["IAEG006465","135821-74-8","No EC available","anti- (or exo-)Dechlorane Plus","(1S,2S,5S,6S,9R,10R,13R,14R)-1,6,7,8,9,14,15,16,17,17,18,18-Dodecachloropentacyclo[12.2.1.1⁶,⁹.0²,¹³.0⁵,¹⁰]octadeca-7,15-diene","D1;I","2019-01-24","2023-01-27","100.287.893","Group Member","IAEG005399"]
["IAEG006466","135821-03-3","No EC available","syn- (or endo-)Dechlorane Plus","(1S,2S,5R,6R,9S,10S,13R,14R)-1,6,7,8,9,14,15,16,17,17,18,18-Dodecachloropentacyclo[12.2.1.1⁶,⁹.0²,¹³.0⁵,¹⁰]octadeca-7,15-diene","D1;I","2019-01-24","2023-01-27","100.287.892","Group Member","IAEG005399"]
["IAEG011258","No CAS available","No EC Available","rel-(1R,4S,4aS,6aS,7S,10R,10aR,12aR)-1,2,3,4,7,8,9,10,13,13,14,14-dodecachloro-1,4,4a,5,6,6a,7,10,10a,11,12,12a-dodecahydro-1,4:7,10-dimethanodibenzo[a,e]cyclooctene",null,"D1;I","2023-01-27","2023-01-27","100.253.519","Group Member","IAEG005399"]
["IAEG011259","No CAS available","No EC Available","rel-(1R,4S,4aS,6aR,7R,10S,10aS,12aR)-1,2,3,4,7,8,9,10,13,13,14,14-dodecachloro-1,4,4a,5,6,6a,7,10,10a,11,12,12a-dodecahydro-1,4:7,10-dimethanodibenzo[a,e]cyclooctene",null,"D1;I","2023-01-27","2023-01-27","100.253.518","Group Member","IAEG005399"]
["IAEG005405","1303-00-0","215-114-8","Gallium arsenide",null,"R1;R2;D1","2015-03-17","2015-03-17","100.013.741","Substance Direct Entry"]
["IAEG005427","7778-43-0","231-902-4","Disodium hydrogenarsenate","Arsenic acid (H3AsO4), disodium salt","R1;R2;D1","2015-03-17","2015-03-17",null,"Substance Direct Entry"]
["IAEG005431","7786-36-9","232-096-7","Pentahydroxyarsorane",null,"R1;R2;D1","2017-08-14","2017-08-14",null,"Substance Direct Entry"]
["IAEG005435","7784-42-1","232-066-3","Arsine","Arsenic trihydride","R1;R2;D1","2015-03-17","2015-03-17","100.029.151","Substance Direct Entry"]
["IAEG005436","4262-43-5","423-320-6","Tert-butylarsine",null,"R1;R2;D1","2017-08-14","2017-08-14","100.102.187","Substance Direct Entry"]
["IAEG005440","139-93-5","205-386-6","6,6'-Dihydroxy-3,3'-diarsene-1,2-diyldianilinium dichloride",null,"R1;R2;D1","2017-08-14","2017-08-14",null,"Substance Direct Entry"]
["IAEG005442","37382-15-3","No EC available","Aluminium gallium arsenide ((Al,Ga)As)",null,"R1;R2;D1","2017-08-14","2017-08-14",null,"Substance Direct Entry"]
["IAEG005450","17029-22-0","241-102-7","Arsenate(1-), hexafluoro-, potassium",null,"R1;R2;D1","2017-08-14","2017-08-14",null,"Substance Direct Entry"]
["IAEG005456","7784-33-0","232-057-4","Arsenic tribromide",null,"R1;R2;D1","2015-03-17","2015-03-17",null,"Substance Direct Entry"]
["IAEG005460","1303-36-2","215-119-5","Arsenic selenide (As2Se3)",null,"R1;R2;D1","2017-08-14","2017-08-14","100.013.745","Substance Direct Entry"]
["IAEG005465","1303-33-9","215-117-4","Arsenic trisulfide",null,"R1;R2;D1","2017-08-14","2017-08-14",null,"Substance Direct Entry"]
["IAEG005467","7784-34-1","232-059-5","Arsenous trichloride",null,"R1;R2;D1","2021-02-02","2021-02-02","100.029.144","Substance Direct Entry"]
["IAEG005473","63217-32-3","264-026-6","Benzenediazonium, 4-(ethylamino)-2-methyl-, hexafluoroarsenate(1-)",null,"R1;R2;D1","2020-01-16","2020-01-16",null,"Substance Direct Entry"]
["IAEG005490","10048-95-0","No EC available","Disodium hydrogen arsenate","Arsenic acid (H3AsO4), disodium salt, heptahydrate","R1;R2;D1","2019-01-24","2019-01-24",null,"Substance Direct Entry"]
["IAEG005496","12044-20-1","234-948-3","Gallium arsenide phosphide (Ga2AsP)",null,"R1;R2;D1","2017-08-14","2017-08-14",null,"Substance Direct Entry"]
["IAEG005499","12005-92-4","234-476-8","Holmium arsenide (HoAs)",null,"R1;R2;D1","2020-01-16","2020-01-16",null,"Substance Direct Entry"]
["IAEG005500","1303-11-3","215-115-3","Indium arsenide (InAs)",null,"R1;R2;D1","2019-01-24","2019-01-24",null,"Substance Direct Entry"]
["IAEG005527","7784-46-5","232-070-5","Sodium arsenite","Arsenenous acid, sodium salt","R1;R2;D1","2015-03-17","2015-03-17",null,"Substance Direct Entry"]
["IAEG005545","12006-40-5","234-486-2","Zinc arsenide (Zn3As2)",null,"R1;R2;D1","2017-08-14","2017-08-14",null,"Substance Direct Entry"]
["IAEG005546","12044-55-2","234-956-7","Zinc arsenide (ZnAs2)",null,"R1;R2;D1","2015-03-17","2015-03-17",null,"Substance Direct Entry"]
["IAEG005550","58-36-6","200-377-3","Diphenoxarsin-10-yloxid",null,"R1;R2;D1;I","2017-08-14","2023-01-27",null,"Substance Direct Entry"]
["IAEG005554","75-60-5","200-883-4","Cacodylic acid","Dimethylarsinic acid; Dimethyl arsenic","R1;R2;D1","2017-08-14","2017-08-14",null,"Substance Direct Entry"]
["IAEG005555","98-05-5","202-631-9","Phenylarsonic acid",null,"R1;R2;D1","2017-08-14","2017-08-14",null,"Substance Direct Entry"]
["IAEG005572","7784-36-3","232-061-6","Pentafluoroarsorane",null,"R1;R2;D1","2021-02-02","2021-02-02",null,"Substance Direct Entry"]
["IAEG005581","617-75-4","210-526-4","Triethylarsine",null,"R1;R2;D1","2017-08-14","2017-08-14",null,"Substance Direct Entry"]
["IAEG005591","62337-00-2","263-516-7","Disodium 3,6-bis[(o-arsonophenyl)azo]-4,5-dihydroxynaphthalene-2,7-disulphonate",null,"R1;R2;D1","2017-08-14","2017-08-14",null,"Substance Direct Entry"]
["IAEG005597","637-03-6","211-275-3","Phenylarsine oxide",null,"R1;R2;D1","2017-08-14","2017-08-14",null,"Substance Direct Entry"]
["IAEG005599","1668-00-4","216-788-6","2,7-(bis(2-arsonophenylazo))-1,8-dihydroxynaphthalene-3,6-disulphonic acid",null,"R1;R2;D1","2017-08-14","2017-08-14",null,"Substance Direct Entry"]
["IAEG005644","132-33-2","205-058-2","4-[(2-arsonophenyl)azo]-3-hydroxynaphthalene-2,7-disulphonic acid",null,"R1;R2;D1","2017-08-14","2017-08-14",null,"Substance Direct Entry"]
["IAEG005647","593-88-4","209-815-8","Trimethylarsine",null,"R1;R2;D1","2017-08-14","2017-08-14",null,"Substance Direct Entry"]
["IAEG005657","520-10-5","208-285-5","Trisodium 2-(-hydrogen arsonatophenylazo)-1,8-dihydroxynaphthalene-3,6-disulphonate",null,"R1;R2;D1","2019-01-24","2019-01-24",null,"Substance Direct Entry"]
["IAEG005660","3688-92-4","222-993-1","Disodium 4-[(o-arsonophenyl)azo]-3-hydroxynaphthalene-2,7-disulphonate",null,"R1;R2;D1","2020-01-16","2020-01-16",null,"Substance Direct Entry"]
["IAEG005669","12044-50-7","No EC available","Arsenic oxide (As2O5), hydrate (3:5)",null,"R1;R2;D1","2019-01-24","2019-01-24",null,"Substance Direct Entry"]
["IAEG005680","7774-41-6","No EC available","Arsenic acid, hemihydrate",null,"R1;R2;D1","2019-01-24","2019-01-24",null,"Substance Direct Entry"]
["IAEG005709","917-76-0","No EC available","Dimethylarsinic acid",null,"R1;R2;D1","2020-01-16","2020-01-16",null,"Substance Direct Entry"]
["IAEG005716","12310-22-4","No EC available","Kupfer(II)-arsenitacetat",null,"R1;R2;D1","2020-01-16","2020-01-16",null,"Substance Direct Entry"]
["IAEG005731","108567-24-4","No EC available","10-Methoxy-2,3,6,7-Tetrahydro-1H,5H-Arsenino(3,2,1-1J)Arsinoline-1,7-Dione",null,"R1;R2;D1","2020-01-16","2020-01-16",null,"Substance Direct Entry"]
["IAEG005754","6295-19-8","No EC available","4-Methyl-3-Nitrobenzenearsonic Acid",null,"R1;R2;D1","2017-08-14","2017-08-14",null,"Substance Direct Entry"]
["IAEG005757","7516-59-8","No EC available","Benzyltriphenylarsonium Bromide",null,"R1;R2;D1","2017-08-14","2017-08-14",null,"Substance Direct Entry"]
["IAEG005759","78331-48-3","No EC available","4-(Dimethylarsino)Benzoic Acid",null,"R1;R2;D1","2017-08-14","2017-08-14",null,"Substance Direct Entry"]
["IAEG005763","77-58-7","201-039-8","Dibutyltin dilaurate","Dibutyl[bis(dodecanoyloxy)]stannane;  Dibutylbis[(1-oxododecyl)oxy]stannane","R2","2017-08-14","2017-08-14","100.000.946","Substance Direct Entry"]
["IAEG005765","1118-46-3","214-263-6","Butyl (trichloro) stannane","Butyl (trichloro) stannane","R2","2023-01-27","2023-01-27","100.012.967","Substance Direct Entry"]
["IAEG005766","10584-98-2","234-186-1","2-ethylhexyl 4,4-dibutyl-10-ethyl-7-oxo-8-oxa-3,5-dithia-4-stannatetradecanoate",null,"R2","2017-08-14","2017-08-14","100.031.066","Substance Direct Entry"]
["IAEG005767","27107-89-7","248-227-6","2-Ethylhexyl 10-ethyl-4-[[2-[(2-ethylhexyl)oxy]-2-oxoethyl]thio]-4-octyl-7-oxo-8-oxa-3,5-dithia-4-stannatetradecanoate (MOTE)",null,"R2","2017-08-14","2017-08-14","100.043.828","Substance Direct Entry"]
["IAEG005768","78-04-6","201-077-5","Dibutyltin maleate",null,"R2","2017-08-14","2017-08-14","100.000.980","Substance Direct Entry"]
["IAEG005769","78-06-8","201-079-6","2,2-dibutyldihydro-6H-1,3,2-oxathiastannin-6-one",null,"R2","2017-08-14","2017-08-14",null,"Substance Direct Entry"]
["IAEG005770","870-08-6","212-791-1","Dioctyltin oxide",null,"R2","2017-08-14","2017-08-14","100.011.629","Substance Direct Entry"]
["IAEG005771","1067-33-0","213-928-8","Dibutyltin di(acetate)",null,"R2","2017-08-14","2017-08-14","100.012.663","Substance Direct Entry"]
["IAEG005772","1067-55-6","213-935-6","Dibutyldimethoxystannane",null,"R2","2017-08-14","2017-08-14","100.012.669","Substance Direct Entry"]
["IAEG005773","1185-81-5","214-688-7","Dibutylbis(dodecylthio)stannane",null,"R2","2020-01-16","2020-01-16","100.013.353","Substance Direct Entry"]
["IAEG005774","2781-10-4","220-481-2","Dibutyltin bis(2-ethylhexanoate)",null,"R2","2017-08-14","2017-08-14","100.018.620","Substance Direct Entry"]
["IAEG005777","3349-36-8","222-103-1","Dibutoxydibutylstannane",null,"R2","2017-08-14","2017-08-14","100.020.095","Substance Direct Entry"]
["IAEG005781","4253-22-9","224-220-3","Dibutylthioxostannane",null,"R2","2020-01-16","2020-01-16",null,"Substance Direct Entry"]
["IAEG005782","5847-55-2","227-438-7","Dibutylbis(stearoyloxy)stannane",null,"R2","2017-08-14","2017-08-14",null,"Substance Direct Entry"]
["IAEG005785","22673-19-4","245-152-0","Dibutylbis(pentane-2,4-dionato-O,O')tin",null,"R2;D1","2017-08-14","2017-08-14","100.041.032","Substance Direct Entry"]
["IAEG005787","25168-24-5","246-703-8","Diisooctyl 2,2'-[(dibutylstannylene)bis(thio)]diacetate",null,"R2","2017-08-14","2017-08-14",null,"Substance Direct Entry"]
["IAEG005788","53202-61-2","258-428-0","2-ethylhexyl 5,5-dibutyl-12-ethyl-9-oxo-10-oxa-4,6-dithia-5-stannahexadecanoate",null,"R2","2020-01-16","2020-01-16",null,"Substance Direct Entry"]
["IAEG005789","57583-34-3","260-828-5","2-Ethylhexyl 10-ethyl-4-[[2-[(2-ethylhexyl)oxy]-2-oxoethyl]thio]-4-methyl-7-oxo-8-oxa-3,5-dithia-4-stannatetradecanoate",null,"R2","2017-08-14","2017-08-14","100.055.280","Substance Direct Entry"]
["IAEG005791","84896-44-6","284-461-5","Diisotridecyl 3,3'-[(dibutylstannylene)bis(thio)]dipropionate",null,"R2","2017-08-14","2017-08-14","100.076.755","Substance Direct Entry"]
["IAEG005794","16091-18-2","240-253-6","Dioctyltin maleate",null,"R2","2017-08-14","2017-08-14",null,"Substance Direct Entry"]
["IAEG005809","93925-42-9","300-344-4","Silicic acid (H4SiO4), tetraethyl ester, reaction products with bis(acetyloxy)dibutylstannane",null,"R2","2019-01-24","2019-01-24","100.091.180","Substance Direct Entry"]
["IAEG005824","13323-62-1","236-359-7","Dibutyltin dioleate",null,"R2","2017-08-14","2017-08-14",null,"Substance Direct Entry"]
["IAEG005835","25168-21-2","246-701-7","Diisooctyl 4,4'-[(dibutylstannylene)bis(oxy)]bis[4-oxoisocrotonate]",null,"R2","2017-08-14","2017-08-14",null,"Substance Direct Entry"]
["IAEG005836","25168-22-3","246-702-2","Dibutylbis[(1-oxoneodecyl)oxy]stannane",null,"R2","2017-08-14","2017-08-14",null,"Substance Direct Entry"]
["IAEG005842","54068-28-9","483-270-6","Dioctylbis(pentane-2,4-dionato-O,O')tin",null,"R2","2017-08-14","2017-08-14","100.105.411","Substance Direct Entry"]
["IAEG005843","68299-15-0","269-595-4","Bis(neodecanoyloxy)dioctylstannane","Dioctyltindineodecanoate","R2","2017-08-14","2017-08-14","100.063.250","Substance Direct Entry"]
["IAEG005844","93925-43-0","300-346-5","Silicic acid (H4SiO4), tetraethyl ester, reaction products with bis(acetyloxy)dioctylstannane",null,"R2","2017-08-14","2017-08-14","100.091.181","Substance Direct Entry"]
["IAEG005845","594-27-4","209-833-6","Tetramethyltin",null,"R2","2017-08-14","2017-08-14",null,"Substance Direct Entry"]
["IAEG005847","2273-43-0","218-880-1","Butylhydroxyoxostannane",null,"R2","2020-01-16","2020-01-16","100.017.165","Substance Direct Entry"]
["IAEG005857","51287-84-4","257-111-4","Bis(dodecylthio)dimethylstannane",null,"R2","2017-08-14","2017-08-14","100.051.902","Substance Direct Entry"]
["IAEG005866","68109-88-6","268-500-3","Ethyl 9,9-dioctyl-4,7,11-trioxo-3,8,10-trioxa-9-stannatetradeca-5,12-dien-14-oate",null,"R2","2020-01-16","2020-01-16","100.062.254","Substance Direct Entry"]
["IAEG005868","68412-36-2","270-183-1","Silicic acid (H4SiO4), tetrapropyl ester, hydrolyzed, reaction products with dibutylbis[(1-oxododecyl)oxy]stannane",null,"R2","2017-08-14","2017-08-14",null,"Substance Direct Entry"]
["IAEG005903","43136-18-1","256-113-2","(Z,Z)-1,1,3,3-tetramethyl-1,3-bis[(1-oxooctadec-9-enyl)oxy]distannoxane",null,"R2","2017-08-14","2017-08-14",null,"Substance Direct Entry"]
["IAEG005938","563-25-7","209-246-5","Dibutyldifluorostannane",null,"R2","2017-08-14","2017-08-14",null,"Substance Direct Entry"]
["IAEG005940","1135-99-5","214-496-3","Dichlorodiphenylstannane",null,"R2","2017-08-14","2017-08-14",null,"Substance Direct Entry"]
["IAEG005950","17586-94-6","241-555-0","Dioctyltin di(acetate)",null,"R2","2020-01-16","2020-01-16","100.037.762","Substance Direct Entry"]
["IAEG005999","1112-56-7","214-193-6","Tetravinylstannane",null,"R2","2017-08-14","2017-08-14",null,"Substance Direct Entry"]
["IAEG006007","22205-30-7","244-841-3","Bis(dodecylthio)dioctylstannane",null,"R2","2019-01-24","2019-01-24","100.040.750","Substance Direct Entry"]
["IAEG006032","81034-75-5","279-677-1","2-ethylhexyl 4,4-dibutyl-12-ethyl-6,9-dioxo-5,10-dioxa-3-thia-4-stannahexadec-7-enoate",null,"R2","2020-01-16","2020-01-16",null,"Substance Direct Entry"]
["IAEG006054","2179-99-9","218-552-8","Bis(lauroyloxy)dimethylstannane",null,"R2","2017-08-14","2017-08-14",null,"Substance Direct Entry"]
["IAEG006061","7393-43-3","230-987-5","Tetrallylstannane",null,"R2","2017-08-14","2017-08-14",null,"Substance Direct Entry"]
["IAEG006069","25955-19-5","247-367-5","Dibutylbis(nonanoyloxy)stannane",null,"R2","2017-08-14","2017-08-14",null,"Substance Direct Entry"]
["IAEG006087","68928-76-7","273-028-6","Dimethylbis[(1-oxoneodecyl)oxy]stannane",null,"R2","2017-08-14","2017-08-14","100.066.369","Substance Direct Entry"]
["IAEG006127","14254-22-9","238-131-2","Butoxydibutylchlorostannane",null,"R2","2017-08-14","2017-08-14",null,"Substance Direct Entry"]
["IAEG006181","5967-09-9","227-755-0","1,3-diacetoxy-1,1,3,3-tetrabutyldistannoxane",null,"R2","2022-02-17","2022-02-17","100.025.232","Substance Direct Entry"]
["IAEG006189","26864-37-9","248-070-3","2-ethylhexyl 4-butyl-10-ethyl-4-[[2-[(2-ethylhexyl)oxy]-2-oxoethyl]thio]-7-oxo-8-oxa-3,5-dithia-4-stannatetradecanoate",null,"R2","2017-08-14","2017-08-14",null,"Substance Direct Entry"]
["IAEG006248","68298-38-4","269-561-9","3,3'-[(dibutylstannylene)bis(thio)]bis(propane-1,2-diol)",null,"R2","2017-08-14","2017-08-14",null,"Substance Direct Entry"]
["IAEG006271","87735-26-0","289-337-4","6,6-dibutyl-4,4,8,8-tetraethoxy-3,5,7,9-tetraoxa-4,8-disila-6-stannaundecane",null,"R2","2017-08-14","2017-08-14",null,"Substance Direct Entry"]
["IAEG006329","15535-69-0","No EC available","Dibutyltin maleate",null,"R2","2017-08-14","2017-08-14","100.000.980","Substance Direct Entry"]
["IAEG006352","69039-26-5","No EC available","bis(3-Methoybutyl)-3,3'-[(dibutylstannylene)dithio]dipropionate",null,"R2","2020-01-16","2020-01-16",null,"Substance Direct Entry"]
["IAEG006396","96969-75-4","No EC available","Bromo((4-Bromo-1,2,3,4-Tetraphenyl)-1,3-Butadienyl)Dimethyltin",null,"R2","2017-08-14","2017-08-14",null,"Substance Direct Entry"]
["IAEG006403","99688-47-8","402-210-1","Bromobenzylbromotoluene, reaction mass of isomers","Monomethyl-dibromo-diphenyl methane (Trade name: DBBT)","R1;R2","2015-03-17","2015-03-17","100.100.405","Substance Direct Entry"]
["IAEG006404","65996-85-2","266-019-3","Tar acids, coal, crude",null,"R1;R2","2017-08-14","2017-08-14","100.059.999","Substance Direct Entry"]
["IAEG006406","90640-84-9","292-605-3","Creosote oil, acenaphthene fraction",null,"R1;R2","2019-01-24","2019-01-24","100.084.156","Substance Direct Entry"]
["IAEG006407","8001-58-9","232-287-5","Creosote",null,"R1;R2","2017-08-14","2017-08-14",null,"Substance Direct Entry"]
["IAEG006408","61789-28-4","263-047-8","Creosote oil",null,"R1;R2","2017-08-14","2017-08-14","100.057.298","Substance Direct Entry"]
["IAEG006409","8021-39-4","232-419-1","Creosote, wood",null,"R1;R2","2017-08-14","2017-08-14",null,"Substance Direct Entry"]
["IAEG006411","99-55-8","202-765-8","5-Nitro-o-toluidine","2-Amino-4-nitrotoluene; Benzenamine, 2-methyl-5-nitro-","R1","2020-01-16","2020-01-16","100.002.514","Substance Direct Entry"]
["IAEG006412","106-47-8","203-401-0","4-Chloroaniline","p-Chloroaniline","R1","2019-01-24","2019-01-24","100.003.093","Substance Direct Entry"]
["IAEG006414","119-90-4","204-355-4","3,3'-Dimethoxybenzidine","o-Dianisidine","R1;R2","2017-08-14","2017-08-14",null,"Substance Direct Entry"]
["IAEG006415","119-93-7","204-358-0","4,4'-Bi-o-toluidine","3,3'-Dimethylbenzidine; ortho-Tolidine","R1;R2","2019-01-24","2019-01-24",null,"Substance Direct Entry"]
["IAEG006417","91-94-1","202-109-0","3,3'-Dichlorobenzidine","3,3'-Dichlorobiphenyl-4,4'-ylenediamine; [1,1'-Biphenyl]-4,4'-diamine, 3,3'-dichloro-","R1","2017-08-14","2017-08-14",null,"Substance Direct Entry"]
["IAEG006418","615-05-4","210-406-1","4-Methoxy-m-phenylenediamine","2,4-Diaminoanisole","R1","2021-02-02","2021-02-02",null,"Substance Direct Entry"]
["IAEG006420","26504-29-0","No EC available","Carbonotrithioic acid, bis(phenylmethyl) ester","Carbonotrithioic acid, bis(phenylmethyl) ester","R1;R2;D1","2023-01-27","2023-01-27","100.104.706","Substance Direct Entry"]
["IAEG006456","51811-79-1","610-741-7","Poly(oxy-1,2-ethanediyl), alpha-(nonylphenyl)-omega-hydroxy phosphate",null,"R2","2017-08-14","2017-08-14",null,"Substance Direct Entry"]
["IAEG006458","27177-03-3","248-292-0","20-(nonylphenoxy)-3,6,9,12,15,18-hexaoxaicosan-1-ol",null,"R2","2017-08-14","2017-08-14",null,"Substance Direct Entry"]
["IAEG006459","85005-55-6","284-987-5","2-(isononylphenoxy)ethanol",null,"R2","2017-08-14","2017-08-14",null,"Substance Direct Entry"]
["IAEG006467","108-46-3","203-585-2","Resorcinol","1,3-Benzenediol; C.I. 76505","I","2019-01-24","2019-01-24","100.003.260","Substance Direct Entry"]
["IAEG006470","15811-52-6","No EC available","Dodecanoyl fluoride, 2,2,3,3,4,4,5,5,6,6,7,7,8,8,9,9,10,10,11,12,12,12-docosafluoro-11-(trifluoromethyl)-",null,"R1;R2;D1","2020-01-16","2020-01-16",null,"Substance Direct Entry"]
["IAEG006479","307-63-1","No EC available","Tetradecane,1,1,1,2,2,3,3,4,4,5,5,6,6,7,7,8,8,9,9,10,10,11,11,12,12,13,13,14,14-nonacosafluoro-14-iodo-",null,"R1;R2;D1","2020-01-16","2020-01-16",null,"Substance Direct Entry"]
["IAEG006481","376-04-5","No EC available","Tridecane,1,1,1,2,2,3,3,4,4,5,5,6,6,7,7,8,8,9,9,10,10,11,11,12,12,13,13-heptacosafluoro-13-iodo-",null,"R1;R2;D1","2020-01-16","2020-01-16",null,"Substance Direct Entry"]
["IAEG006484","90622-71-2","No EC available","Alkyl iodides, C6-18, perfluoro",null,"R1;R2;D1","2020-01-16","2020-01-16","100.084.036","Substance Direct Entry"]
["IAEG006485","93062-53-4","No EC available","Phosphinic acid, bis(perfluoro-C6-12-alkyl)derivs., 200etrieved salts",null,"R1;R2;D1","2020-01-16","2020-01-16",null,"Substance Direct Entry"]
["IAEG006524","540-97-6","208-762-8","Dodecamethylcyclohexasiloxane (D6)",null,"D1;I","2019-01-24","2023-01-27","100.007.967","Substance Direct Entry"]
["IAEG006527","98-07-7","202-634-5","Benzotrichloride","Alpha,alpha,alpha-Trichlorotoluene","R1;R2","2019-01-24","2019-01-24","100.002.395","Substance Direct Entry"]
["IAEG006528","134-32-7","205-138-7","1-Aminonaphthalene","1-Naphthylamine; alpha-Naphthylamine","R2","2019-01-24","2019-01-24","100.004.672","Substance Direct Entry"]
["IAEG006543","7784-40-9","232-064-2","Lead hydrogen arsenate",null,"R1;R2;D1;I","2019-01-24","2023-01-27","100.029.149","Substance Direct Entry"]
["IAEG006544","10026-22-9","No EC available","Cobalt nitrate","Nitric acid, cobalt(2+) salt, hexahydrate","D1","2019-01-24","2019-01-24",null,"Substance Direct Entry"]
["IAEG006545","42173-90-0","255-695-5","26-(nonylphenoxy)-3,6,9,12,15,18,21,24-octaoxahexacosan-1-ol",null,"R2;D1","2019-01-24","2019-01-24",null,"Substance Direct Entry"]
["IAEG006547","108171-26-2","600-857-6","Chlorinated paraffins (Average chain length, C12; approximately 60 percent chlorine by weight)",null,"D1","2019-01-24","2019-01-24",null,"Substance Direct Entry"]
["IAEG006548","61788-76-9","263-004-3","Alkanes, chloro","Chloroparaffins","D1","2019-01-24","2019-01-24",null,"Substance Direct Entry"]
["IAEG006549","68920-70-7","272-924-4","Chlorinated n-paraffins (C6-18)",null,"D1","2019-01-24","2019-01-24",null,"Substance Direct Entry"]
["IAEG006550","84082-38-2","281-985-6","Alkanes, C10-21, chloro",null,"D1","2019-01-24","2019-01-24",null,"Substance Direct Entry"]
["IAEG006551","84776-06-7","283-930-1","Alkanes, C10-32, chloro",null,"D1","2019-01-24","2019-01-24",null,"Substance Direct Entry"]
["IAEG006552","85536-22-7","287-504-6","Alkane, C12-14-, Chloro-",null,"D1","2019-01-24","2019-01-24",null,"Substance Direct Entry"]
["IAEG006553","85681-73-8","288-211-6","Alkane, C10-14-, Chloro-",null,"D1","2019-01-24","2019-01-24",null,"Substance Direct Entry"]
["IAEG006554","97553-43-0","307-202-0","Paraffins (petroleum), normal C>10, chloro",null,"D1","2019-01-24","2019-01-24",null,"Substance Direct Entry"]
["IAEG006555","97659-46-6","307-451-5","Alkanes, C10-26, chloro",null,"D1","2019-01-24","2019-01-24",null,"Substance Direct Entry"]
["IAEG006556","71850-09-4","276-090-2","Diisohexyl phthalate",null,"D1;I","2019-01-24","2023-01-27","100.069.152","Substance Direct Entry"]
["IAEG006567","693-98-1","211-765-7","2-Methylimidazole","1H-Imidazole, 2-methyl-","D1","2020-01-16","2020-01-16","100.010.697","Substance Direct Entry"]
["IAEG006568","1072-63-5","214-012-0","1-Vinylimidazole",null,"D1","2021-02-02","2021-02-02","100.012.739","Substance Direct Entry"]
["IAEG006569","71868-10-5","400-600-6","2-methyl-1-(4-methylthiophenyl)-2-morpholinopropan-1-one",null,"D1;I","2020-01-16","2023-01-27","100.100.260","Substance Direct Entry"]
["IAEG006572","91-22-5","202-051-6","Quinoline",null,"R1","2020-01-16","2020-01-16","100.001.865","Substance Direct Entry"]
["IAEG006577","6147-53-1","612-153-6","Acetic acid, cobalt(2+) salt, tetrahydrate",null,"D1","2019-01-24","2019-01-24",null,"Substance Direct Entry"]
["IAEG006594","18015-76-4","241-922-5","Malachite green oxalate","Methanaminium, N-[4-[[4-(dimethylamino)phenyl]phenylmethylene]-2,5-cyclohexadien-1-ylidene]-N-methyl-, ethanedioate","R2","2020-01-16","2020-01-16","100.038.096","Substance Direct Entry"]
["IAEG006598","569-64-2","209-322-8","Malachite green hydrochloride","Malachite green chloride; Basic green 4","R2","2020-01-16","2020-01-16",null,"Substance Direct Entry"]
["IAEG007194","94-26-8","202-318-7","Butyl 4-hydroxybenzoate","Butyl paraben; Benzoic acid, 4-hydroxy-, butyl ester","D1","2021-02-02","2021-02-02","100.002.108","Substance Direct Entry"]
["IAEG007201","156-60-5","205-860-2","Trans-dichloroethylene",null,"I","2022-02-17","2022-02-17","100.005.329","Substance Direct Entry"]
["IAEG008060","1222-05-5","214-946-9","Galaxolide","HHCB; Pearlide; Abbalide; 1,3,4,6,7,8-Hexahydro-4,6,6,7,8,8-hexamethylindeno(5,6-c)pyran","I","2021-02-02","2021-02-02","100.013.588","Substance Direct Entry"]
["IAEG008063","Not Applicable","Not Applicable","Tris(4-nonylphenyl, branched and linear) phosphite (TNPP)",null,"D1","2020-01-16","2020-01-16","100.264.200","Group Direct Entry"]
["IAEG008059","26523-78-4","247-759-6","Tris(nonylphenyl) phosphite",null,"D1;I","2020-01-16","2023-01-27","100.043.402","Group Member","IAEG008063"]
["IAEG008094","3050-88-2","No EC available","Phenol, 4-nonyl-, phosphite (3:1)",null,"D1","2020-01-16","2020-01-16","100.106.542","Group Member","IAEG008063"]
["IAEG008098","31631-13-7","No EC available","Phenol, p-isononyl-, phosphite (3:1)",null,"D1","2020-01-16","2020-01-16","100.287.920","Group Member","IAEG008063"]
["IAEG008099","106599-06-8","No EC available","Phenol, p-sec-nonyl-, phosphite",null,"D1","2020-01-16","2020-01-16","100.287.898","Group Member","IAEG008063"]
["IAEG008064","6780-13-8","No EC available","Ethylenediamine, monohydrate",null,"D1","2020-01-16","2020-01-16",null,"Substance Direct Entry"]
["IAEG008065","80275-03-2","No EC available","Ethylenediamine dihydrate",null,"D1","2020-01-16","2020-01-16",null,"Substance Direct Entry"]
["IAEG008066","5931-89-5","227-676-1","Cobalt-acetate",null,"D1","2020-01-16","2020-01-16",null,"Substance Direct Entry"]
["IAEG008067","No CAS available","923-960-0","4-(1,1,3,3-Tetramethylbutyl)phenol, ethoxylated",null,"R2;D1","2020-01-16","2020-01-16",null,"Substance Direct Entry"]
["IAEG008068","No CAS available","935-115-3","4-(1,1,3,3-tetramethylbutyl)phenol, ethoxylated (>2.5 moles EO)",null,"R2;D1","2020-01-16","2020-01-16",null,"Substance Direct Entry"]
["IAEG008071","3470-98-2","222-437-8","1-butylpyrrolidin-2-one",null,"R1;R2;D1","2020-01-16","2020-01-16","100.020.399","Substance Direct Entry"]
["IAEG008072","37859-55-5","484-460-1","O,O',O''-(methylsilylidyne)trioxime 2-pentanone",null,"R1;R2;D1;I","2020-01-16","2023-01-27","100.105.459","Substance Direct Entry"]
["IAEG008073","58190-62-8","700-810-0","2-Pentanone, O,O',O''-(ethenylsilylidyne)trioxime",null,"R1;R2;D1;I","2020-01-16","2023-01-27","100.220.970","Substance Direct Entry"]
["IAEG008089","119313-12-1","404-360-3","2-Benzyl-2-dimethylamino-4'-morpholinobutyrophenone",null,"D1;I","2020-01-16","2023-01-27","100.100.600","Substance Direct Entry"]
["IAEG008095","Not Applicable","Not Applicable","Salts and acyl halides of 2,3,3,3-tetrafluoro-2-(heptafluoropropoxy)propionic acid (covering any of their individual isomers and combinations thereof)",null,"D1","2020-01-16","2020-01-16","100.273.068","Group Direct Entry"]
["IAEG006570","62037-80-3","700-242-3","Ammonium 2,3,3,3-tetrafluoro-2-(heptafluoropropoxy)propanoate",null,"D1;I","2020-01-16","2023-01-27","100.124.803","Group Member","IAEG008095"]
["IAEG008090","13252-13-6","236-236-8","2,3,3,3-tetrafluoro-2-(heptafluoropropoxy)propionic acid",null,"D1;I","2020-01-16","2023-01-27","100.032.928","Group Member","IAEG008095"]
["IAEG008091","2062-98-8","218-173-8","2,3,3,3-tetrafluoro-2-(heptafluoropropoxy)propionyl fluoride",null,"D1","2020-01-16","2020-01-16","100.016.522","Group Member","IAEG008095"]
["IAEG008093","67118-55-2","266-578-3","Potassium 2,3,3,3-tetrafluoro-2-(heptafluoropropoxy)propanoate (HFPO-DA)",null,"D1","2020-01-16","2020-01-16","100.060.507","Group Member","IAEG008095"]
["IAEG008096","75579-39-4","No EC available","(2R)-2,3,3,3-tetrafluoro-2-(heptafluoropropoxy)propanoic acid",null,"D1","2020-01-16","2020-01-16","100.300.930","Group Member","IAEG008095"]
["IAEG008097","75579-40-7","No EC available","(2S)-2,3,3,3-tetrafluoro-2-(heptafluoropropoxy)propanoic acid",null,"D1","2020-01-16","2020-01-16","100.300.931","Group Member","IAEG008095"]
["IAEG008162","122499-17-6","No EC available"," 2,3,3,3-tetrafluoro-2-(heptafluoropropoxy)propanoate",null,"D1","2020-01-16","2020-01-16",null,"Group Member","IAEG008095"]
["IAEG008163","261760-11-6","No EC available","Tetrafluoro-2-(heptafluoro-1-propoxy)propanoyl bromide","Perfluoro(2-methyl-3-oxahexanoyl)bromide","D1","2020-01-16","2020-01-16",null,"Group Member","IAEG008095"]
["IAEG008164","72848-57-8","No EC available","Tetrafluoro-2-(heptafluoro-1-propoxy)propanoyl chloride","Perfluoro(2-methyl-3-oxahexanoyl)chloride","D1","2020-01-16","2020-01-16",null,"Group Member","IAEG008095"]
["IAEG008165","67963-75-1","No EC available","Sodium 2,3,3,3-tetrafluoro-2-(heptafluoropropoxy)propanoate",null,"D1","2020-01-16","2020-01-16",null,"Group Member","IAEG008095"]
["IAEG008101","53585-53-8","258-649-2","Dibenzylbenzene, ar-methyl derivative",null,"I","2022-02-17","2022-02-17","100.053.300","Substance Direct Entry"]
["IAEG008105","94-49-5","202-338-6","Ethylene dibenzoate","Ethylene dibenzoate","R1;R2;D1","2023-01-27","2023-01-27","100.002.126","Substance Direct Entry"]
["IAEG008139","82941-26-2","No EC available","(2-Butoxyethoxy)Acetic Acid; Acetic acid, 2-(2-butoxyethoxy)-","(2-Butoxyethoxy)Acetic Acid; Acetic acid, 2-(2-butoxyethoxy)-","D1","2023-01-27","2023-01-27",null,"Substance Direct Entry"]
["IAEG008159","11059-65-7","234-277-6","Zinc bis[bis(tetrapropylenephenyl)] bis(hydrogen dithiophosphate)",null,"I","2021-02-02","2021-02-02","100.031.149","Substance Direct Entry"]
["IAEG008192","123-91-1","204-661-8","1,4-Dioxane",null,"D1;I","2021-02-02","2023-01-27","100.004.239","Substance Direct Entry"]
["IAEG008309","Not Applicable","Not Applicable","Perfluorobutane sulfonic acid (PFBS) and its salts",null,"D1","2020-01-16","2020-01-16","100.282.094","Group Direct Entry"]
["IAEG003164","220689-12-3","444-440-5","Tetrabutyl-phosphonium nonafluoro-butane-1-sulfonate","Tetrabutylphosphonium perfluorobutane sulfonate","R1;R2;D1","2020-01-16","2020-01-16","100.103.965","Group Member","IAEG008309"]
["IAEG004260","375-73-5","206-793-1","1,1,2,2,3,3,4,4,4-Nonafluorobutane-1-sulfonic acid ","Perfluorobutane sulfonic acid (PFBS)","D1;I","2020-01-16","2023-01-27","100.006.176","Group Member","IAEG008309"]
["IAEG004429","25628-08-4","700-536-1","Tetraethylazanium nonafluorobutane-1-sulfonate","Tetraethylammonium perfluorobutane sulfonate","D1;I","2020-01-16","2023-01-27","100.149.398","Group Member","IAEG008309"]
["IAEG008310","29420-49-3","249-616-3","Potassium 1,1,2,2,3,3,4,4,4-nonafluorobutane-1-sulphonate","Potassium perfluorobutane sulfonate (KPFBS)","D1","2020-01-16","2020-01-16","100.045.092","Group Member","IAEG008309"]
["IAEG008311","144317-44-2","478-340-8","Triphenylsulfanium nonafluorobutane-1-sulfonate","Triphenyl Sulfonium Perfluorobutane Sulfonate; Triphenylsulfanium perfluorobutane sulfonate","D1","2020-01-16","2020-01-16","100.105.187","Group Member","IAEG008309"]
["IAEG008312","220133-51-7","452-310-4","Dimethyl(phenyl)sulfanium nonafluorobutane-1-sulfonate","Dimethyl(phenyl)sulfanium perfluorobutane sulfonate","D1","2020-01-16","2020-01-16","100.104.333","Group Member","IAEG008309"]
["IAEG008313","No CAS available","432-660-4","Bis(4-tert-butylphenyl)iodonium nonafluorobutane-1-sulfonate","Bis(4-t-butylphenyl) iodonium perfluorobutane sulfonate","D1","2020-01-16","2020-01-16","100.103.091","Group Member","IAEG008309"]
["IAEG008314","68259-10-9","269-513-7","Ammonium 1,1,2,2,3,3,4,4,4-nonafluorobutane-1-sulphonate","Ammonium perfluorobutane sulfonate","D1","2020-01-16","2020-01-16","100.063.175","Group Member","IAEG008309"]
["IAEG008315","131651-65-5","No EC available","Lithium perfluorobutane sulfonate",null,"D1","2020-01-16","2020-01-16","100.197.428","Group Member","IAEG008309"]
["IAEG008316","507453-86-3","No EC available","Magnesium perfluorobutane sulfonate",null,"D1","2020-01-16","2020-01-16","100.197.427","Group Member","IAEG008309"]
["IAEG008317","503155-89-3","No EC available","Morpholinium perfluorobutane sulfonate",null,"D1","2020-01-16","2020-01-16","100.197.431","Group Member","IAEG008309"]
["IAEG008318","No CAS available","468-770-4","1-(4-butoxy-1-naphthalenyl)tetrahydrothiophenium -1,1,2,2,3,3,4,4,4-nonafluoro-1-butanesulfonate",null,"D1","2020-01-16","2020-01-16","100.104.884","Group Member","IAEG008309"]
["IAEG008319","194999-85-4","622-652-0","Bis(4-tert-butylphenyl)iodonium perfluoro-1-butanesulfonate",null,"D1","2020-01-16","2020-01-16","100.103.091","Group Member","IAEG008309"]
["IAEG008320","59933-66-3","671-242-8","Perfluorobutane sulfonic acid (PFBuS)","Perfluorobutane sulfonic acid, hydrate; 1,1,2,2,3,3,4,4,4-Nonafluorobutane-1-sulfonic acid , hydrate","D1","2020-01-16","2020-01-16",null,"Group Member","IAEG008309"]
["IAEG008324","568591-00-4","No EC available","Reaction mass of 23996-28-3 and 2-ethyl-4-methyl-1H-imidazole-1-propiononitrile","Reaction mass of 23996-28-3 and 2-ethyl-4-methyl-1H-imidazole-1-propiononitrile","R1;R2;D1","2023-01-27","2023-01-27","100.260.015","Substance Direct Entry"]
["IAEG008357","2097144-43-7","No EC available","Alkanes, C20-28, chloro",null,"R1;R2;D1","2021-02-02","2021-02-02",null,"Substance Direct Entry"]
["IAEG008381","5614-37-9","445-090-6","Cyclopentyl methyl ether","Cyclopentyl methyl ether","R1;R2;D1","2023-01-27","2023-01-27","100.104.006","Substance Direct Entry"]
["IAEG008383","132182-92-4","459-520-5","3M(TM) NOVEC(TM) 7300 Engineered Fluid; 3M(TM) NOVEC(TM) 7300DL Engineered Fluid",null,"R1;R2;D1","2021-02-02","2021-02-02","100.104.664","Substance Direct Entry"]
["IAEG008387","404362-22-7","445-790-1","1,3-Benzenedimethanamine, N-(2-phenylethyl) derivs.",null,"R1;R2;D1","2021-02-02","2021-02-02","100.104.036","Substance Direct Entry"]
["IAEG008393","284685-45-6","457-580-7","Phosphinic acid, diethyl-, zinc salt","EXOLIT OP 950","R1;R2;D1","2022-02-17","2022-02-17","100.104.572","Substance Direct Entry"]
["IAEG008403","77745-66-5","No EC available","Phosphorous acid, triisotridecyl ester",null,"R1;R2;D1","2021-02-02","2021-02-02","100.071.578","Substance Direct Entry"]
["IAEG008406","7803-57-8","616-584-0","Hydrazine hydrate; Hydrazine monohydrate",null,"D1","2021-02-02","2021-02-02",null,"Substance Direct Entry"]
["IAEG008464","No CAS available","701-028-2","Tris(4-nonylphenyl, branched) phosphite",null,"D1","2021-02-02","2021-02-02","100.242.308","Substance Direct Entry"]
["IAEG008578","2687-91-4","220-250-6","1-Ethylpyrrolidin-2-one; N-Ethylpyrrolidone","N-Ethyl-2-pyrrolidone (NEP)","I","2021-02-02","2021-02-02","100.018.409","Substance Direct Entry"]
["IAEG008579","75980-60-8","278-355-8","Diphenyl(2,4,6-trimethylbenzoyl)phosphine oxide",null,"I","2021-02-02","2021-02-02","100.071.211","Substance Direct Entry"]
["IAEG008593","207803-51-8","No EC available","Aluminum boron cobalt lithium nickel oxide",null,"R1;R2;D1","2021-02-02","2021-02-02",null,"Substance Direct Entry"]
["IAEG008646","28962-65-4","No EC available","Sodium peroxyborate tetrahydrate",null,"R2;D1","2021-02-02","2021-02-02",null,"Substance Direct Entry"]
["IAEG008647","28108-09-0","No EC available","Sodium peroxyborate tetrahydrate",null,"R2;D1","2021-02-02","2021-02-02",null,"Substance Direct Entry"]
["IAEG008648","104948-36-9","No EC available","Alkanes, C10-22, Chloro",null,"D1","2021-02-02","2021-02-02",null,"Substance Direct Entry"]
["IAEG008659","72162-15-3","No EC available","1-Decene, sulfurized",null,"D1","2021-02-02","2021-02-02",null,"Substance Direct Entry"]
["IAEG008660","89-32-7","No EC available","1H,3H-Benzo[1,2-c:4,5-c']difuran-1,3,5,7-tetrone",null,"D1","2021-02-02","2021-02-02","100.001.726","Substance Direct Entry"]
["IAEG008664","75-07-0","No EC available","Acetaldehyde",null,"D1","2021-02-02","2021-02-02","100.000.761","Substance Direct Entry"]
["IAEG008669","68479-98-1","No EC available","Benzenediamine, ar,ar-diethyl-ar-methyl-",null,"D1","2021-02-02","2021-02-02","100.064.414","Substance Direct Entry"]
["IAEG008674","68187-84-8","No EC available","Castor oil, oxidized",null,"D1","2021-02-02","2021-02-02","100.062.825","Substance Direct Entry"]
["IAEG008676","144-62-7","No EC available","Ethanedioic acid",null,"D1","2021-02-02","2021-02-02","100.005.123","Substance Direct Entry"]
["IAEG008697","149-44-0","No EC available","Methanesulfinic Acid, Hydroxy-, Monosodium Salt",null,"D1","2021-02-02","2021-02-02","100.005.219","Substance Direct Entry"]
["IAEG008715","119-47-1","204-327-1","6,6'-di-tert-butyl-2,2'-methylenedi-p-cresol",null,"R1;R2;D1;I","2021-02-02","2023-01-27","100.003.934","Substance Direct Entry"]
["IAEG008718","No CAS available","No EC available","Rare earth oxide","Rare earth oxide","R1;R2;D1","2023-01-27","2023-01-27",null,"Substance Direct Entry"]
["IAEG008722","Not Applicable","799-972-3","Phenol, alkylation products (mainly in para position) with C12-rich branched alkylchains from propene oligomerisation (PDDP)",null,"D1;I","2022-02-17","2023-01-27","100.311.974","Group Direct Entry"]
["IAEG008158","No CAS available","No EC available","Phenol, alkylation products (mainly in para position) with C12-rich branched or linear olefins from propene oligomerisation",null,"D1;I","2022-02-17","2023-01-27","100.339.616","Group Member","IAEG008722"]
["IAEG008723","No CAS available","No EC available","Individual isomers of phenol, alkylation products (mainly in para position) with C12-rich branched or linear alkylchains from propene oligomerisation (PDDP) and/ or combinations thereof",null,"D1;I","2022-02-17","2023-01-27","100.278.035","Group Member","IAEG008722"]
["IAEG008724","121158-58-5","310-154-3","Phenol, dodecyl-, branched",null,"D1;I","2021-02-02","2023-01-27","100.100.072","Group Member","IAEG008722"]
["IAEG008725","74499-35-7","616-100-8","Phenol, (tetrapropenyl) derivatives",null,"D1;I","2021-02-02","2023-01-27","100.109.748","Group Member","IAEG008722"]
["IAEG008726","27147-75-7","608-055-8","Phenol, 4-isododecyl-",null,"D1;I","2022-02-17","2023-01-27","100.124.888","Group Member","IAEG008722"]
["IAEG008728","27459-10-5","No EC available","4-Isododecylphenol",null,"D1;I","2022-02-17","2023-01-27","100.278.034","Group Member","IAEG008722"]
["IAEG008729","57427-55-1","No EC available","Phenol, tetrapropylene",null,"D1;I","2022-02-17","2023-01-27","100.278.036","Group Member","IAEG008722"]
["IAEG008731","210555-94-5","640-104-9","Phenol, 4-dodecyl-, branched",null,"D1;I","2022-02-17","2023-01-27","100.167.758","Group Member","IAEG008722"]
["IAEG009190","No CAS available","No EC available","Tetrapropenyl phenol",null,"D1;I","2022-02-17","2023-01-27",null,"Group Member","IAEG008722"]
["IAEG009191","No CAS available","No EC available","4-(3,4,5,6-tetramethyloctan-2-yl)phenol",null,"D1;I","2022-02-17","2023-01-27",null,"Group Member","IAEG008722"]
["IAEG009192","No CAS available","No EC available","4-(3,4,5-trimethylheptyl)phenol",null,"D1;I","2022-02-17","2023-01-27",null,"Group Member","IAEG008722"]
["IAEG009193","No CAS available","No EC available","Phenol, alkyl branched (species comprising decyl, undecyl, dodecyl, tridecyl, tetradecyl, pentadecyl, substituents)",null,"D1;I","2022-02-17","2023-01-27",null,"Group Member","IAEG008722"]
["IAEG008727","27193-86-8","248-312-8","Dodecylphenol",null,"D1;I","2021-02-02","2023-01-27",null,"Substance Direct Entry"]
["IAEG008730","104-43-8","203-202-9","P-dodecylphenol",null,"D1;I","2021-02-02","2023-01-27",null,"Substance Direct Entry"]
["IAEG008732","174305-83-0","No EC available","Phenol, 4-(1,1,3-trimethylhexyl)-",null,"D1","2021-02-02","2021-02-02",null,"Substance Direct Entry"]
["IAEG008733","142731-65-5","No EC available","Phenol, 4-(1,3-dimethyl-1-propylbutyl)-",null,"D1","2021-02-02","2021-02-02",null,"Substance Direct Entry"]
["IAEG008734","142731-55-3","No EC available","Phenol, 4-(1,2,5-trimethylhexyl)-",null,"D1","2021-02-02","2021-02-02",null,"Substance Direct Entry"]
["IAEG008735","58865-77-3","No EC available","Phenol, 4-tert-nonyl-",null,"D1","2021-02-02","2021-02-02",null,"Substance Direct Entry"]
["IAEG008805","34455-29-3","252-046-8","Carboxymethyldimethyl-3-[[(3,3,4,4,5,5,6,6,7,7,8,8,8-tridecafluorooctyl)sulphonyl]amino]propylammonium hydroxide",null,"R1;R2;D1","2022-02-17","2022-02-17","100.047.300","Substance Direct Entry"]
["IAEG008810","78560-45-9","278-947-6","Trichloro(3,3,4,4,5,5,6,6,7,7,8,8,8-tridecafluorooctyl)silane",null,"R1;R2;D1","2022-02-17","2022-02-17","100.071.749","Substance Direct Entry"]
["IAEG008811","80475-32-7","279-481-6","N-[3-(dimethylamino)propyl]-3,3,4,4,5,5,6,6,7,7,8,8,8-tridecafluorooctanesulphonamide N-oxide",null,"R1;R2;D1","2021-02-02","2021-02-02","100.072.233","Substance Direct Entry"]
["IAEG008872","No CAS available","No EC available","Aromatic hydrocarbon resin",null,"R1;R2;D1","2022-02-17","2022-02-17",null,"Substance Direct Entry"]
["IAEG008898","76962-70-4","No EC available ","1,3-Benzenedicarboxylic acid, polymer with 3-methyl-1,5-pentanediol","1,3-Benzenedicarboxylic acid, polymer with 3-methyl-1,5-pentanediol","R1;R2;D1","2023-01-27","2023-01-27",null,"Substance Direct Entry"]
["IAEG008903","143-24-8","205-594-7","Bis(2-(2-methoxyethoxy)ethyl) ether",null,"D1;I","2021-02-02","2023-01-27","100.005.086","Substance Direct Entry"]
["IAEG008918","1330-20-7","215-535-7","Xylene",null,"I","2022-02-17","2022-02-17","100.014.124","Substance Direct Entry"]
["IAEG008919","109-99-9","203-726-8","Tetrahydrofuran",null,"I","2022-02-17","2022-02-17","100.003.389","Substance Direct Entry"]
["IAEG008920","No CAS available","905-588-0","Reaction mass of ethylbenzene and xylene","Reaction mass of ethylbenzene and xylene","I","2023-01-27","2023-01-27","100.137.064","Substance Direct Entry"]
["IAEG008921","No CAS available","905-562-9","Reaction mass of ethylbenzene and m-xylene and p-xylene","Reaction mass of ethylbenzene and m-xylene and p-xylene","I","2023-01-27","2023-01-27","100.146.803","Substance Direct Entry"]
["IAEG008922","106-42-3","203-396-5","p-Xylene",null,"I","2022-02-17","2022-02-17","100.003.088","Substance Direct Entry"]
["IAEG008923","95-47-6","202-422-2","o-Xylene",null,"I","2022-02-17","2022-02-17","100.002.203","Substance Direct Entry"]
["IAEG008924","110-54-3","203-777-6","N-hexane",null,"I","2022-02-17","2022-02-17","100.003.435","Substance Direct Entry"]
["IAEG008925","108-38-3","203-576-3","m-Xylene",null,"I","2022-02-17","2022-02-17","100.003.252","Substance Direct Entry"]
["IAEG008926","100-51-6","202-859-9","Benzyl alcohol",null,"I","2022-02-17","2022-02-17","100.002.600","Substance Direct Entry"]
["IAEG008927","646-06-0","211-463-5","1,3-dioxolane",null,"I","2022-02-17","2022-02-17","100.010.422","Substance Direct Entry"]
["IAEG008944","No CAS available ","No EC available ","Diisocyanates","Diisocyanates","R1;R2;D1","2023-01-27","2023-01-27",null,"Substance Direct Entry"]
["IAEG008945","924-42-5","213-103-2","N-(hydroxymethyl)acrylamide",null,"I","2022-02-17","2023-01-27","100.011.913","Substance Direct Entry"]
["IAEG009168","1034343-98-0","801-282-5","Graphene",null,"R2","2022-02-17","2022-02-17","100.227.924","Substance Direct Entry"]
["IAEG009175","Not Applicable","Not Applicable","Dioctyltin dilaurate, stannane, dioctyl-, bis(coco acyloxy) derivs., and any other stannane, dioctyl-, bis(fatty acyloxy) derivs. wherein C12 is the predominant carbon number of the fatty acyloxy moiety",null,"D1","2021-02-02","2021-02-02","100.308.020","Group Direct Entry"]
["IAEG005841","3648-18-8","222-883-3","Dioctyltin dilaurate","Bis(dodecanoyloxy)(dioctyl)stannane","R1;R2;D1;I","2017-08-14","2023-01-27","100.020.804","Group Member","IAEG009175"]
["IAEG006278","91648-39-4","293-901-5","Stannane, dioctyl-, bis(coco acyloxy) derivs.",null,"R1;R2;D1","2021-02-02","2021-02-02","100.085.331","Group Member","IAEG009175"]
["IAEG009180","No CAS available","No EC available","Dioctyltin dilaurate; stannane, dioctyl-, bis(coco acyloxy) derivs.",null,"D1","2021-02-02","2021-02-02","100.287.923","Group Member","IAEG009175"]
["IAEG009176","4247-02-3","224-208-8","Isobutyl 4-hydroxybenzoate","Isobutyl 4-hydroxybenzoate","D1;I","2023-01-27","2023-01-27","100.022.008","Substance Direct Entry"]
["IAEG009181","1067-53-4","213-934-0","Tris(2-methoxyethoxy)vinylsilane",null,"D1;I","2022-02-17","2023-01-27","100.012.668","Substance Direct Entry"]
["IAEG009183","77-40-7","201-025-1","4,4'-(1-methylpropylidene)bisphenol","Bisphenol B","D1;I","2022-02-17","2023-01-27","100.000.933","Substance Direct Entry"]
["IAEG009194","68937-41-7","273-066-3","Phenol, isopropylated, phosphate (3:1)","Isopropylated triphenyl phosphate (IPPP)","R1;R2;D1","2021-02-02","2021-02-02","100.066.404","Substance Direct Entry"]
["IAEG009195","255881-94-8","401-850-9","S-(tricyclo(5.2.1.0'2,6)deca-3-en-8(or 9)-yl O-(isopropyl or isobutyl or 2-ethylhexyl) O-(isopropyl or isobutyl or 2-ethylhexyl) phosphorodithioate",null,"D1;I","2022-02-17","2023-01-27","100.100.373","Substance Direct Entry"]
["IAEG009196","28553-12-0","249-079-5","Di-''isononyl'' phthalate",null,"I","2022-02-17","2022-02-17","100.044.602","Substance Direct Entry"]
["IAEG009197","68515-48-0","271-090-9","1,2-Benzenedicarboxylic acid, di-C8-10-branched alkyl esters, C9-rich (DINP)",null,"I","2022-02-17","2022-02-17","100.064.608","Substance Direct Entry"]
["IAEG009198","26761-40-0","247-977-1","Di-''isodecyl'' phthalate",null,"I","2022-02-17","2022-02-17","100.043.601","Substance Direct Entry"]
["IAEG009199","68515-49-1","271-091-4","1,2-Benzenedicarboxylic acid, di-C9-11-branched alkyl esters, C10-rich (DiDP)",null,"I","2022-02-17","2022-02-17","100.064.609","Substance Direct Entry"]
["IAEG009200","95-50-1","202-425-9","1,2-Dichlorobenzene",null,"I","2022-02-17","2022-02-17","100.002.206","Substance Direct Entry"]
["IAEG009201","106-46-7","203-400-5","1,4-Dichlorobenzene",null,"I","2022-02-17","2022-02-17","100.003.092","Substance Direct Entry"]
["IAEG009202","78-87-5","201-152-2","1,2-Dichloropropane (PDC)",null,"I","2022-02-17","2022-02-17","100.001.048","Substance Direct Entry"]
["IAEG009203","75-34-3","200-863-5","1,1-dichloroethane","1,1-dichloroethane","I","2023-01-27","2023-01-27",null,"Substance Direct Entry"]
["IAEG009204","106-99-0","203-450-8","1,3-Butadiene",null,"I","2022-02-17","2022-02-17","100.003.138","Substance Direct Entry"]
["IAEG009209","16872-11-0","240-898-3","Tetrafluoroboric acid",null,"I","2022-02-17","2022-02-17","100.037.165","Substance Direct Entry"]
["IAEG009210","1332-07-6","215-566-6","Boric acid, zinc salt",null,"I","2022-02-17","2022-02-17","100.014.152","Substance Direct Entry"]
["IAEG009216","29761-21-5","249-828-6","Phosphoric acid, isodecyl diphenyl ester",null,"I","2022-02-17","2022-02-17","100.045.283","Substance Direct Entry"]
["IAEG009217","108-78-1","203-615-4","1,3,5-Triazine-2,4,6-triamine",null,"D1;I","2022-02-17","2023-01-27","100.003.288","Substance Direct Entry"]
["IAEG009219","78-40-0","201-114-5","Phosphoric acid, triethyl ester",null,"I","2022-02-17","2022-02-17","100.001.013","Substance Direct Entry"]
["IAEG009220","78-51-3","201-122-9","Ethanol, 2-butoxy-, phosphate (3:1)",null,"I","2022-02-17","2022-02-17","100.001.021","Substance Direct Entry"]
["IAEG009221","84852-53-9","284-366-9","Benzene, 1,1'-(1,2-ethanediyl)bis[2,3,4,5,6-pentabromo-",null,"I","2022-02-17","2022-02-17","100.076.669","Substance Direct Entry"]
["IAEG009222","78-42-2","201-116-6","Phosphoric acid, tris(2-ethylhexyl) ester",null,"I","2022-02-17","2022-02-17","100.001.015","Substance Direct Entry"]
["IAEG009223","1330-78-5","215-548-8","Phosphoric acid, tris(methylphenyl) ester",null,"I","2022-02-17","2022-02-17","100.239.100","Substance Direct Entry"]
["IAEG009224","56803-37-3","260-391-0","Phosphoric acid, (1,1-dimethylethyl) phenyl diphenyl ester",null,"I","2022-02-17","2022-02-17","100.054.883","Substance Direct Entry"]
["IAEG009225","68527-02-6","271-247-1","Alkenes, C12-24, chloro",null,"I","2022-02-17","2022-02-17","100.064.751","Substance Direct Entry"]
["IAEG009228","65652-41-7","265-859-8","Phosphoric acid, bis[(1,1-dimethylethyl) phenyl] phenyl ester",null,"I","2022-02-17","2022-02-17","100.059.855","Substance Direct Entry"]
["IAEG009229","298-07-7","206-056-4","Phosphoric acid, bis(2-ethylhexyl) ester",null,"I","2022-02-17","2022-02-17","100.005.507","Substance Direct Entry"]
["IAEG009230","58965-66-5","261-526-6","Benzene, 1,2,4,5-tetrabromo-3,6-bis(pentabromophenoxy)-","Benzene, 1,2,4,5-tetrabromo-3,6-bis(pentabromophenoxy)-","I","2023-01-27","2023-01-27",null,"Substance Direct Entry"]
["IAEG009231","26446-73-1","247-708-8","Phosphoric acid, bis(methylphenyl) phenyl ester",null,"I","2022-02-17","2022-02-17","100.043.356","Substance Direct Entry"]
["IAEG009236","Not Applicable","Not Applicable","Individual isomers of (+/-)-1,7,7-trimethyl-3-[(4-methylphenyl)methylene]bicyclo[2.2.1]heptan-2-one (4-MBC) or any combination thereof (4-MBC)",null,"D1","2022-02-17","2022-02-17","100.325.076","Group Direct Entry"]
["IAEG004182","36861-47-9","253-242-6","(+/-)-1,7,7-Trimethyl-3-[(4-methylphenyl)methylene]bicyclo[2.2.1]heptan-2-one","4-Methylbenzylidenecamphor (4-MBC)","R1;R2;D1;I","2015-03-17","2023-01-27","100.048.386","Group Member","IAEG009236"]
["IAEG009259","852541-30-1","No EC available","(1S,3E,4R)-1,7,7-trimethyl-3-(4-methylbenzylidene)bicyclo[2.2.1]heptan-2-one",null,"D1","2022-02-17","2022-02-17","100.347.647","Group Member","IAEG009236"]
["IAEG009260","95342-41-9","No EC available","(1R,3E,4S)-1,7,7-trimethyl-3-(4-methylbenzylidene)bicyclo[2.2.1]heptan-2-one",null,"D1","2022-02-17","2022-02-17","100.347.637","Group Member","IAEG009236"]
["IAEG009261","852541-21-0","No EC available","(1R,3Z,4S)-1,7,7-trimethyl-3-(4-methylbenzylidene)bicyclo[2.2.1]heptan-2-one",null,"D1","2022-02-17","2022-02-17","100.347.640","Group Member","IAEG009236"]
["IAEG009262","852541-25-4","No EC available","(1S,3Z,4R)-1,7,7-trimethyl-3-(4-methylbenzylidene)bicyclo[2.2.1]heptan-2-one",null,"D1","2022-02-17","2022-02-17","100.347.638","Group Member","IAEG009236"]
["IAEG009263","1782069-81-1","No EC available","(3E)-1,7,7-trimethyl-3-(4-methylbenzylidene)bicyclo[2.2.1]heptan-2-one",null,"D1","2022-02-17","2022-02-17","100.332.682","Group Member","IAEG009236"]
["IAEG009264","741687-98-9","No EC available","(1R,4S)-1,7,7-trimethyl-3-(4-methylbenzylidene)bicyclo[2.2.1]heptan-2-one",null,"D1","2022-02-17","2022-02-17","100.347.643","Group Member","IAEG009236"]
["IAEG009247","100-64-1","202-874-0","Cyclohexanone oxime","Cyclohexanone oxime","I","2023-01-27","2023-01-27","100.002.613","Substance Direct Entry"]
["IAEG009248","34206-40-1","251-882-0","Butan-2-one O,O',O'',O'''-silanetetrayltetraoxime","Butan-2-one O,O',O'',O'''-silanetetrayltetraoxime","I","2023-01-27","2023-01-27","100.047.150","Substance Direct Entry"]
["IAEG009252","58190-57-1","611-631-1","2-Propanone, 2,2',2''-[O,O',O''-(ethylsilylidyne)trioxime]","2-Propanone, 2,2',2''-[O,O',O''-(ethylsilylidyne)trioxime]","I","2023-01-27","2023-01-27","100.127.801","Substance Direct Entry"]
["IAEG009255","2224-33-1","218-747-8","Butan-2-one O,O',O''-(vinylsilylidyne)trioxime","Butan-2-one O,O',O''-(vinylsilylidyne)trioxime","I","2023-01-27","2023-01-27","100.017.044","Substance Direct Entry"]
["IAEG009256","22984-54-9","245-366-4","Butan-2-one O,O',O''-(methylsilylidyne)trioxime","Butan-2-one O,O',O''-(methylsilylidyne)trioxime","I","2023-01-27","2023-01-27","100.041.227","Substance Direct Entry"]
["IAEG009258","34036-80-1","433-360-6","2-butanone-O,O',O''-(phenylsilylidyne)trioxime","2-butanone-O,O',O''-(phenylsilylidyne)trioxime","I","2023-01-27","2023-01-27","100.103.161","Substance Direct Entry"]
["IAEG009265","148-24-3","205-711-1","Quinolin-8-ol","Quinolin-8-ol","I","2023-01-27","2023-01-27","100.005.193","Substance Direct Entry"]
["IAEG009269","Not Applicable","799-971-8","Medium-chain chlorinated paraffins (MCCP)",null,"D1","2022-02-17","2022-02-17","100.323.845","Group Direct Entry"]
["IAEG008157","85535-85-9","287-477-0","Alkanes, C14-17, chloro","Medium-chain chlorinated paraffins (MCCPs)","R1;R2;D1;I","2021-02-02","2023-01-27","100.079.497","Group Member","IAEG009269"]
["IAEG008362","1372804-76-6","No EC available","Alkanes, C14-16, chloro",null,"R1;R2;D1;I","2021-02-02","2023-01-27","100.319.589","Group Member","IAEG009269"]
["IAEG008363","198840-65-2","No EC available","Tetradecane, chloro derivs",null,"R1;R2;D1;I","2022-02-17","2023-01-27","100.319.590","Group Member","IAEG009269"]
["IAEG009184","No CAS available","950-299-5","Di-, tri- and tetrachlorotetradecane ",null,"D1;I","2022-02-17","2023-01-27","100.275.290","Group Member","IAEG009269"]
["IAEG009270","Not Applicable","799-970-2","2-(4-tert-butylbenzyl)propionaldehyde and its individual stereoisomers",null,"D1","2022-02-17","2022-02-17","100.313.493","Group Direct Entry"]
["IAEG006703","80-54-6","201-289-8","Lilial","2-(4-tert-butylbenzyl)propionaldehyde; Butylphenyl methylpropional; Benzenepropanal, 4-(1,1-dimethylethyl)-.alpha.-methyl-; BMHCA","D1;I","2021-02-02","2023-01-27","100.001.173","Group Member","IAEG009270"]
["IAEG009158","75166-30-2","No EC available","(2S)-3-(4-tert-butylphenyl)-2-methylpropanal",null,"D1;I","2022-02-17","2023-01-27","100.313.492","Group Member","IAEG009270"]
["IAEG009159","75166-31-3","No EC available","(2R)-3-(4-tert-butylphenyl)-2-methylpropanal",null,"D1;I","2022-02-17","2023-01-27","100.313.491","Group Member","IAEG009270"]
["IAEG009333","2921-88-2","220-864-4","Chlorpyrifos; Chlorpyrifos-ethyl; O,O-diethyl O-3,5,6-trichloro-2-pyridyl phosphorothioate","Chlorpyrifos; Chlorpyrifos-ethyl; O,O-diethyl O-3,5,6-trichloro-2-pyridyl phosphorothioate","I","2023-01-27","2023-01-27","100.018.969","Substance Direct Entry"]
["IAEG009339","13701-59-2","237-222-4","Barium diboron tetraoxide","Barium diboron tetraoxide","D1;I","2023-01-27","2023-01-27","100.033.824","Substance Direct Entry"]
["IAEG009343","40623-75-4","No EC available","2-Propenoic acid, polymer with 2-methyl-2-[(1-oxo-2-propen-1-yl)amino]-1-propanesulfonic acid","2-Propenoic acid, polymer with 2-methyl-2-[(1-oxo-2-propen-1-yl)amino]-1-propanesulfonic acid","I","2023-01-27","2023-01-27",null,"Substance Direct Entry"]
["IAEG009368","32609-65-7","No EC available","Methanaminium, N,N,N-trimethyl-, 2,2,3,3,4,4,5,5,6,6,7,7,8,8,8-pentadecafluorooctanoate (1:1)","Methanaminium, N,N,N-trimethyl-, 2,2,3,3,4,4,5,5,6,6,7,7,8,8,8-pentadecafluorooctanoate (1:1)","R1;R2","2023-01-27","2023-01-27",null,"Substance Direct Entry"]
["IAEG009371","927835-01-6","No EC available","1-Octanaminium, N,N,N-trimethyl-, 2,2,3,3,4,4,5,5,6,6,7,7,8,8,8-pentadecafluorooctanoate (1:1)","1-Octanaminium, N,N,N-trimethyl-, 2,2,3,3,4,4,5,5,6,6,7,7,8,8,8-pentadecafluorooctanoate (1:1)","R1;R2","2023-01-27","2023-01-27",null,"Substance Direct Entry"]
["IAEG009373","34455-00-0","No EC available","1-butanesulfonamide, 1,1,2,2,3,3,4,4,4-nonafluoro-N,N-bis(2-hydroxyethyl)-","1-butanesulfonamide, 1,1,2,2,3,3,4,4,4-nonafluoro-N,N-bis(2-hydroxyethyl)-","I","2023-01-27","2023-01-27","100.047.298","Substance Direct Entry"]
["IAEG009397","409-21-2","206-991-8","silicon carbide fibres (with diameter < 3 μm, length > 5 μm and aspect ratio ≥ 3:1)","silicon carbide fibres (with diameter < 3 μm, length > 5 μm and aspect ratio ≥ 3:1)","R1;R2;D1","2023-01-27","2023-01-27","100.006.357","Substance Direct Entry"]
["IAEG009399","101-90-6","202-987-5","m-bis(2,3-epoxypropoxy)benzene; resorcinol diglycidyl ether","m-bis(2,3-epoxypropoxy)benzene; resorcinol diglycidyl ether","R1;R2;D1","2023-01-27","2023-01-27","100.002.716","Substance Direct Entry"]
["IAEG009400","70161-44-3","274-357-8","sodium N-(hydroxymethyl)glycinate; [formaldehyde released from sodium N-(hydroxymethyl)glycinate","sodium N-(hydroxymethyl)glycinate; [formaldehyde released from sodium N-(hydroxymethyl)glycinate","R1;R2;D1","2023-01-27","2023-01-27","100.067.576","Substance Direct Entry"]
["IAEG009403","115850-69-6","No EC available","ipconazole (ISO); (1RS,2SR,5RS;1RS,2SR,5SR)-2-(4-chlorobenzyl)-5-isopropyl1-(1H-1,2,4-triazol-1-ylmethyl) cyclopentanol","ipconazole (ISO); (1RS,2SR,5RS;1RS,2SR,5SR)-2-(4-chlorobenzyl)-5-isopropyl1-(1H-1,2,4-triazol-1-ylmethyl) cyclopentanol","R1;R2;D1","2023-01-27","2023-01-27",null,"Substance Direct Entry"]
["IAEG009405","27554-26-3","248-523-5","diisooctyl phthalate","diisooctyl phthalate","R1;R2;D1","2023-01-27","2023-01-27",null,"Substance Direct Entry"]
["IAEG009406","3121-61-7","221-499-3","2-methoxyethyl acrylate","2-methoxyethyl acrylate","R1;R2;D1","2023-01-27","2023-01-27","100.019.545","Substance Direct Entry"]
["IAEG009407","110488-70-5","404-200-2","dimethomorph (ISO); (E,Z)-4-(3-(4-chlorophenyl)-3-(3,4-dimethoxyphenyl)acryloyl) morpholine","dimethomorph (ISO); (E,Z)-4-(3-(4-chlorophenyl)-3-(3,4-dimethoxyphenyl)acryloyl) morpholine","R1;R2;D1","2023-01-27","2023-01-27","100.100.586","Substance Direct Entry"]
["IAEG009408","288-88-0","206-022-9","1,2,4-triazole","1,2,4-triazole","R1;R2;D1","2023-01-27","2023-01-27","100.005.476","Substance Direct Entry"]
["IAEG009409","13463-41-7","236-671-3","pyrithione zinc; (T-4)-bis[1-(hydroxy-.kappa.O)pyridine-2(1H)-thionato-.kappa.S]zinc","pyrithione zinc; (T-4)-bis[1-(hydroxy-.kappa.O)pyridine-2(1H)-thionato-.kappa.S]zinc","R1;R2;D1","2023-01-27","2023-01-27","100.033.324","Substance Direct Entry"]
["IAEG009412","80-43-3","201-279-3","bis(α,α-dimethylbenzyl) peroxide","bis(α,α-dimethylbenzyl) peroxide","R1;R2;D1","2023-01-27","2023-01-27","100.001.164","Substance Direct Entry"]
["IAEG009413","No CAS available","799-969-7","Orthoboric acid, sodium salt","Orthoboric acid, sodium salt","D1","2023-01-27","2023-01-27",null,"Substance Direct Entry"]
["IAEG009414","37853-59-1","253-692-3","1,1'-[ethane-1,2-diylbisoxy]bis[2,4,6-tribromobenzene]","1,1'-[ethane-1,2-diylbisoxy]bis[2,4,6-tribromobenzene]","D1;I","2023-01-27","2023-01-27",null,"Substance Direct Entry"]
["IAEG009415","107-19-7","203-471-2","Prop-2-yn-1-ol","Prop-2-yn-1-ol","I","2023-01-27","2023-01-27","100.003.157","Substance Direct Entry"]
["IAEG009416","125304-04-3","603-051-2","Phenol, 2-(2H-benzotriazol-2-yl)-6-dodecyl-4-methyl-, branched and linear","Phenol, 2-(2H-benzotriazol-2-yl)-6-dodecyl-4-methyl-, branched and linear","I","2023-01-27","2023-01-27","100.100.359","Substance Direct Entry"]
["IAEG009417","97925-95-6","308-208-6","Ethanol, 2,2'-iminobis-, N-(C13-15-branched and linear alkyl) derivs.","Ethanol, 2,2'-iminobis-, N-(C13-15-branched and linear alkyl) derivs.","I","2023-01-27","2023-01-27","100.098.324","Substance Direct Entry"]
["IAEG009418","431-03-8","207-069-8","Butanedione","Butanedione","I","2023-01-27","2023-01-27","100.006.428","Substance Direct Entry"]
["IAEG009419","80-07-9","201-247-9","Bis(4-chlorophenyl) sulphone","Bis(4-chlorophenyl) sulphone","I","2023-01-27","2023-01-27","100.001.135","Substance Direct Entry"]
["IAEG009420","25155-25-3","246-678-3","[1,3(or 1,4)-phenylenebis(1-methylethylidene)]bis[tert-butyl] peroxide","[1,3(or 1,4)-phenylenebis(1-methylethylidene)]bis[tert-butyl] peroxide","I","2023-01-27","2023-01-27","100.042.420","Substance Direct Entry"]
["IAEG009421","129-64-6","204-957-7","Endo-3,6-methylene-1,2,3,6-tetrahydrophthalic anhydride","Endo-3,6-methylene-1,2,3,6-tetrahydrophthalic anhydride","I","2023-01-27","2023-01-27",null,"Substance Direct Entry"]
["IAEG009422","826-62-0","212-557-9","1,2,3,6-tetrahydro-3,6-methanophthalic anhydride","1,2,3,6-tetrahydro-3,6-methanophthalic anhydride","I","2023-01-27","2023-01-27","100.011.416","Substance Direct Entry"]
["IAEG009426","26590-20-5","247-830-1","1,2,3,6-tetrahydromethylphthalic anhydride","1,2,3,6-tetrahydromethylphthalic anhydride","I","2023-01-27","2023-01-27",null,"Substance Direct Entry"]
["IAEG009428","935-79-5","213-308-7","cis-1,2,3,6-tetrahydrophthalic anhydride","cis-1,2,3,6-tetrahydrophthalic anhydride","I","2023-01-27","2023-01-27",null,"Substance Direct Entry"]
["IAEG009429","2426-02-0","219-374-3","3,4,5,6-tetrahydrophthalic anhydride","3,4,5,6-tetrahydrophthalic anhydride","I","2023-01-27","2023-01-27",null,"Substance Direct Entry"]
["IAEG009430","1318-09-8","No EC available","Libby Amphibole Asbestos","Libby Amphibole Asbestos","N/A","2023-01-27","2023-01-27",null,"Substance Direct Entry"]
["IAEG009431","84961-70-6","284-660-7","Benzene, mono-C10-13-alkyl derivs., distn. residues","Benzene, mono-C10-13-alkyl derivs., distn. residues","I","2023-01-27","2023-01-27","100.076.936","Substance Direct Entry"]
["IAEG009435","118832-72-7","404-800-4","Iso(C10-C14)alkyl (3,5-di-tert-butyl-4-hydroxyphenyl)methylthioacetate","Iso(C10-C14)alkyl (3,5-di-tert-butyl-4-hydroxyphenyl)methylthioacetate","I","2023-01-27","2023-01-27","100.100.640","Substance Direct Entry"]
["IAEG009443","61788-44-1","262-975-0","Phenol, styrenated","Phenol, styrenated","I","2023-01-27","2023-01-27","100.057.232","Substance Direct Entry"]
["IAEG009445","1634-04-4","216-653-1","tert-butyl methyl ether","tert-butyl methyl ether","I","2023-01-27","2023-01-27","100.015.140","Substance Direct Entry"]
["IAEG009448","65997-13-9","266-042-9","Resin acids and Rosin acids, hydrogenated, esters with glycerol","Resin acids and Rosin acids, hydrogenated, esters with glycerol","I","2023-01-27","2023-01-27","100.060.020","Substance Direct Entry"]
["IAEG009450","5521-31-3","226-866-1","2,9-dimethylanthra[2,1,9-def:6,5,10-d'e'f']diisoquinoline-1,3,8,10(2H,9H)-tetrone","2,9-dimethylanthra[2,1,9-def:6,5,10-d'e'f']diisoquinoline-1,3,8,10(2H,9H)-tetrone","I","2023-01-27","2023-01-27","100.024.424","Substance Direct Entry"]
["IAEG009452","101357-15-7","309-912-6","Benzenamine, reaction products with aniline hydrochloride and nitrobenzene","Benzenamine, reaction products with aniline hydrochloride and nitrobenzene","I","2023-01-27","2023-01-27","100.099.853","Substance Direct Entry"]
["IAEG009454","1280222-90-3","480-310-4","ammonium 2,2,3 trifluor-3-(1,1,2,2,3,3-hexafluoro-3-trifluormethoxypropoxy), propionate","ammonium 2,2,3 trifluor-3-(1,1,2,2,3,3-hexafluoro-3-trifluormethoxypropoxy), propionate","I","2023-01-27","2023-01-27","100.105.293","Substance Direct Entry"]
["IAEG009455","31570-04-4","250-709-6","Tris(2,4-ditert-butylphenyl) phosphite","Tris(2,4-ditert-butylphenyl) phosphite","I","2023-01-27","2023-01-27","100.046.084","Substance Direct Entry"]
["IAEG009456","115895-09-5","404-740-9","Ethyl 3,5-dichloro-4-hexadecyloxycarbonyloxybenzoate","Ethyl 3,5-dichloro-4-hexadecyloxycarbonyloxybenzoate","I","2023-01-27","2023-01-27","100.100.634","Substance Direct Entry"]
["IAEG009458","63231-51-6","400-370-7","Aromatic hydrocarbons","Aromatic hydrocarbons","I","2023-01-27","2023-01-27","100.100.239","Substance Direct Entry"]
["IAEG009459","426218-78-2","422-040-1","A mixture of: 4-(2,2,3-trimethylcyclopent-3-en-1-yl)-1-methyl-2-oxabicyclo[2.2.2]octane; 1-(2,2,3-trimethylcyclopent-3-en-1-yl)-5-methyl-6-oxabicyclo[3.2.1]octane; spiro[cyclohex-3-en-1-yl-[(4,5,6,6a-tetrahydro-3,6',6',6'a-tetramethyl)-1,3'(3'aH)-[2H]cyclopenta[b]furan]; spiro[cyclohex-3-en-1-yl-[4,5,6,6a-tetrahydro-4,6',6',6'a-tetramethyl)-1,3'(3'aH)-[2H]cyclopenta[b]]furan]","A mixture of: 4-(2,2,3-trimethylcyclopent-3-en-1-yl)-1-methyl-2-oxabicyclo[2.2.2]octane; 1-(2,2,3-trimethylcyclopent-3-en-1-yl)-5-methyl-6-oxabicyclo[3.2.1]octane; spiro[cyclohex-3-en-1-yl-[(4,5,6,6a-tetrahydro-3,6',6',6'a-tetramethyl)-1,3'(3'aH)-[2H]cyclopenta[b]furan]; spiro[cyclohex-3-en-1-yl-[4,5,6,6a-tetrahydro-4,6',6',6'a-tetramethyl)-1,3'(3'aH)-[2H]cyclopenta[b]]furan]","I","2023-01-27","2023-01-27","100.102.061","Substance Direct Entry"]
["IAEG009462","84632-59-7","416-250-2","Pyrrolo[3,4-c]pyrrole-1,4-dione, 3,6-bis[4-(1,1-dimethylethyl)phenyl]-2,5-dihydro-","Pyrrolo[3,4-c]pyrrole-1,4-dione, 3,6-bis[4-(1,1-dimethylethyl)phenyl]-2,5-dihydro-","I","2023-01-27","2023-01-27","100.101.520","Substance Direct Entry"]
["IAEG009463","338-83-0","206-420-2","Perfluamine","Perfluamine","I","2023-01-27","2023-01-27","100.005.837","Substance Direct Entry"]
["IAEG009465","106246-33-7","402-130-7","4,4'-Methylene-bis-(3-chloro-2,6-diethylaniline)","4,4'-Methylene-bis-(3-chloro-2,6-diethylaniline)","I","2023-01-27","2023-01-27","100.100.398","Substance Direct Entry"]
["IAEG009466","26140-60-3","247-477-3","Terphenyl","Terphenyl","I","2023-01-27","2023-01-27","100.043.146","Substance Direct Entry"]
["IAEG009467","1380226-46-9","412-780-3","Reaction product of ammonium molybdate and C12-C24-diethoxylated alkylamine (1:5-1:3)","Reaction product of ammonium molybdate and C12-C24-diethoxylated alkylamine (1:5-1:3)","I","2023-01-27","2023-01-27","100.101.206","Substance Direct Entry"]
["IAEG009468","2814-77-9","220-562-2","1-[(2-chloro-4-nitrophenyl)azo]-2-naphthol","1-[(2-chloro-4-nitrophenyl)azo]-2-naphthol","I","2023-01-27","2023-01-27","100.018.693","Substance Direct Entry"]
["IAEG009469","3468-63-1","222-429-4","1-[(2,4-dinitrophenyl)azo]-2-naphthol","1-[(2,4-dinitrophenyl)azo]-2-naphthol","I","2023-01-27","2023-01-27","100.020.392","Substance Direct Entry"]
["IAEG009471","67905-17-3","267-636-0","N-[4-[(9,10-dihydro-4-hydroxy-9,10-dioxo-1-anthryl)amino]phenyl]acetamide","N-[4-[(9,10-dihydro-4-hydroxy-9,10-dioxo-1-anthryl)amino]phenyl]acetamide","I","2023-01-27","2023-01-27","100.061.468","Substance Direct Entry"]
["IAEG009473","106-20-7","203-372-4","Bis(2-ethylhexyl)amine","Bis(2-ethylhexyl)amine","I","2023-01-27","2023-01-27","100.003.067","Substance Direct Entry"]
["IAEG009474","85-60-9","201-618-5","6,6'-di-tert-butyl-4,4'-butylidenedi-m-cresol","6,6'-di-tert-butyl-4,4'-butylidenedi-m-cresol","I","2023-01-27","2023-01-27","100.001.471","Substance Direct Entry"]
["IAEG009475","6528-34-3","229-419-9","2-[(4-methoxy-2-nitrophenyl)azo]-N-(2-methoxyphenyl)-3-oxobutyramide","2-[(4-methoxy-2-nitrophenyl)azo]-N-(2-methoxyphenyl)-3-oxobutyramide","I","2023-01-27","2023-01-27","100.026.746","Substance Direct Entry"]
["IAEG009476","6486-23-3","229-355-1","2-[(4-chloro-2-nitrophenyl)azo]-N-(2-chlorophenyl)-3-oxobutyramide","2-[(4-chloro-2-nitrophenyl)azo]-N-(2-chlorophenyl)-3-oxobutyramide","I","2023-01-27","2023-01-27","100.026.687","Substance Direct Entry"]
["IAEG009477","6358-31-2","228-768-4","2-[(2-methoxy-4-nitrophenyl)azo]-N-(2-methoxyphenyl)-3-oxobutyramide","2-[(2-methoxy-4-nitrophenyl)azo]-N-(2-methoxyphenyl)-3-oxobutyramide","I","2023-01-27","2023-01-27","100.026.153","Substance Direct Entry"]
["IAEG009480","107-51-7","203-497-4","Octamethyltrisiloxane","Octamethyltrisiloxane","I","2023-01-27","2023-01-27","100.003.181","Substance Direct Entry"]
["IAEG009481","107-46-0","203-492-7","Hexamethyldisiloxane","Hexamethyldisiloxane","I","2023-01-27","2023-01-27","100.003.176","Substance Direct Entry"]
["IAEG009482","141-63-9","205-492-2","Dodecamethylpentasiloxane","Dodecamethylpentasiloxane","I","2023-01-27","2023-01-27","100.004.994","Substance Direct Entry"]
["IAEG009483","141-62-8","205-491-7","Decamethyltetrasiloxane","Decamethyltetrasiloxane","I","2023-01-27","2023-01-27","100.004.993","Substance Direct Entry"]
["IAEG009485","79-74-3","201-222-2","2,5-di-tert-pentylhydroquinone","2,5-di-tert-pentylhydroquinone","I","2023-01-27","2023-01-27","100.001.112","Substance Direct Entry"]
["IAEG009488","297730-93-9","435-790-1","3-ethoxy-1,1,1,2,3,4,4,5,5,6,6,6-dodecafluoro-2-(trifluoromethyl)-hexane","3-ethoxy-1,1,1,2,3,4,4,5,5,6,6,6-dodecafluoro-2-(trifluoromethyl)-hexane","I","2023-01-27","2023-01-27","100.103.397","Substance Direct Entry"]
["IAEG009491","13595-25-0","428-970-4","4,4'-(1,3-phenylene-bis(1-methylethylidene))bis-phenol","4,4'-(1,3-phenylene-bis(1-methylethylidene))bis-phenol","I","2023-01-27","2023-01-27","100.102.734","Substance Direct Entry"]
["IAEG009492","4259-15-8","224-235-5","Zinc bis[O,O-bis(2-ethylhexyl)] bis(dithiophosphate)","Zinc bis[O,O-bis(2-ethylhexyl)] bis(dithiophosphate)","I","2023-01-27","2023-01-27","100.022.032","Substance Direct Entry"]
["IAEG009495","84605-29-8","283-392-8","Phosphorodithioic acid, mixed O,O-bis(1,3-dimethylbutyl and iso-Pr) esters, zinc salts","Phosphorodithioic acid, mixed O,O-bis(1,3-dimethylbutyl and iso-Pr) esters, zinc salts","I","2023-01-27","2023-01-27","100.075.786","Substance Direct Entry"]
["IAEG009497","53880-05-0","931-312-3","Cyclohexane, 5-isocyanato-1-(isocyanatomethyl)-1,3,3-trimethyl-, homopolymer","Cyclohexane, 5-isocyanato-1-(isocyanatomethyl)-1,3,3-trimethyl-, homopolymer","I","2023-01-27","2023-01-27","100.157.917","Substance Direct Entry"]
["IAEG009500","118-82-1","204-279-1","2,2',6,6'-tetra-tert-butyl-4,4'-methylenediphenol","2,2',6,6'-tetra-tert-butyl-4,4'-methylenediphenol","I","2023-01-27","2023-01-27","100.003.891","Substance Direct Entry"]
["IAEG009502","No CAS available","422-270-2","1,1,1,2,3,3-hexafluoro-3-methoxy-2-(trifluoromethyl)propane","1,1,1,2,3,3-hexafluoro-3-methoxy-2-(trifluoromethyl)propane","I","2023-01-27","2023-01-27","100.102.084","Substance Direct Entry"]
["IAEG009506","No CAS available","473-390-7","Reaction mass of 2,2,3,3,5,5,6,6-octafluoro-4-(1,1,1,2,3,3,3-heptafluoropropan-2-yl)morpholine and 2,2,3,3,5,5,6,6-octafluoro-4-(heptafluoropropyl)morpholine",null,"D1;I","2023-01-27","2023-01-27","100.105.055","Substance Direct Entry"]
["IAEG009511","63393-96-4","264-120-7","Quaternary ammonium compounds, tri-C8-10-alkylmethyl, chlorides","Quaternary ammonium compounds, tri-C8-10-alkylmethyl, chlorides","I","2023-01-27","2023-01-27","100.058.273","Substance Direct Entry"]
["IAEG009512","32588-76-4","251-118-6","N,N'-ethylenebis(3,4,5,6-tetrabromophthalimide)","N,N'-ethylenebis(3,4,5,6-tetrabromophthalimide)","I","2023-01-27","2023-01-27","100.046.456","Substance Direct Entry"]
["IAEG009515","597-82-0","209-909-9","O,O,O-triphenyl phosphorothioate","O,O,O-triphenyl phosphorothioate","I","2023-01-27","2023-01-27","100.009.010","Substance Direct Entry"]
["IAEG009516","3319-31-1","222-020-0","Tris(2-ethylhexyl) benzene-1,2,4-tricarboxylate","Tris(2-ethylhexyl) benzene-1,2,4-tricarboxylate","I","2023-01-27","2023-01-27","100.020.019","Substance Direct Entry"]
["IAEG009518","3081-01-4","221-374-3","N-(1,4-dimethylpentyl)-N'-phenylbenzene-1,4-diamine","N-(1,4-dimethylpentyl)-N'-phenylbenzene-1,4-diamine","I","2023-01-27","2023-01-27","100.019.432","Substance Direct Entry"]
["IAEG009519","629-73-2","211-105-8","Hexadec-1-ene","Hexadec-1-ene","I","2023-01-27","2023-01-27","100.010.097","Substance Direct Entry"]
["IAEG009520","27344-41-8","248-421-0","Disodium 2,2'-([1,1'-biphenyl]-4,4'-diyldivinylene)bis(benzenesulphonate)","Disodium 2,2'-([1,1'-biphenyl]-4,4'-diyldivinylene)bis(benzenesulphonate)","I","2023-01-27","2023-01-27","100.044.005","Substance Direct Entry"]
["IAEG009521","144020-22-4","482-330-9","Acetic acid, anhydride, reaction products with 1,5,10-trimethyl-1,5,9-cyclododecatriene","Acetic acid, anhydride, reaction products with 1,5,10-trimethyl-1,5,9-cyclododecatriene","I","2023-01-27","2023-01-27","100.105.384","Substance Direct Entry"]
["IAEG009522","96-69-5","202-525-2","6,6'-di-tert-butyl-4,4'-thiodi-m-cresol","6,6'-di-tert-butyl-4,4'-thiodi-m-cresol","I","2023-01-27","2023-01-27","100.002.297","Substance Direct Entry"]
["IAEG009525","67774-74-7","267-051-0","Benzene, C10-13-alkyl derivs.","Benzene, C10-13-alkyl derivs.","I","2023-01-27","2023-01-27","100.060.937","Substance Direct Entry"]
["IAEG009526","3380-34-5","222-182-2","Triclosan","Triclosan","I","2023-01-27","2023-01-27","100.020.167","Substance Direct Entry"]
["IAEG009528","64365-17-9","264-848-5","Resin acids and Rosin acids, hydrogenated, esters with pentaerythritol","Resin acids and Rosin acids, hydrogenated, esters with pentaerythritol","I","2023-01-27","2023-01-27","100.058.934","Substance Direct Entry"]
["IAEG009529","68610-51-5","271-867-2","Phenol, 4-methyl-, reaction products with dicyclopentadiene and isobutylene","Phenol, 4-methyl-, reaction products with dicyclopentadiene and isobutylene","I","2023-01-27","2023-01-27","100.065.314","Substance Direct Entry"]
["IAEG009530","6197-30-4","228-250-8","Octocrilene","Octocrilene","I","2023-01-27","2023-01-27","100.025.683","Substance Direct Entry"]
["IAEG009531","90-30-2","201-983-0","N-1-naphthylaniline","N-1-naphthylaniline","I","2023-01-27","2023-01-27","100.001.803","Substance Direct Entry"]
["IAEG009532","1335203-21-8","931-745-8","Imidazolium compounds, 2-C17-unsatd.-alkyl-1-(2-C18-unsatd. amidoethyl)-4,5-dihydro-N-methyl, Me sulfates","Imidazolium compounds, 2-C17-unsatd.-alkyl-1-(2-C18-unsatd. amidoethyl)-4,5-dihydro-N-methyl, Me sulfates","I","2023-01-27","2023-01-27","100.167.121","Substance Direct Entry"]
["IAEG009535","6731-36-8","229-782-3","Di-tert-butyl 3,3,5-trimethylcyclohexylidene diperoxide","Di-tert-butyl 3,3,5-trimethylcyclohexylidene diperoxide","I","2023-01-27","2023-01-27","100.027.076","Substance Direct Entry"]
["IAEG009536","91-17-8","202-046-9","Decahydronaphthalene","Decahydronaphthalene","I","2023-01-27","2023-01-27","100.001.861","Substance Direct Entry"]
["IAEG009537","27776-01-8","248-654-8","Benzyltoluene","Benzyltoluene","I","2023-01-27","2023-01-27","100.044.216","Substance Direct Entry"]
["IAEG009539","2425-77-6","219-370-1","2-hexyldecan-1-ol","2-hexyldecan-1-ol","I","2023-01-27","2023-01-27","100.017.610","Substance Direct Entry"]
["IAEG009540","101-37-1","202-936-7","2,4,6-triallyloxy-1,3,5-triazine","2,4,6-triallyloxy-1,3,5-triazine","I","2023-01-27","2023-01-27","100.002.670","Substance Direct Entry"]
["IAEG009546","No CAS available","416-600-4","1,1'-(methylenedi-4,1-phenylene)bis(3-butylurea)","1,1'-(methylenedi-4,1-phenylene)bis(3-butylurea)","I","2023-01-27","2023-01-27","100.101.551","Substance Direct Entry"]
["IAEG009547","7440-22-4","231-131-3","Silver (Ag); CI 77820","Silver (Ag); CI 77820","I","2023-01-27","2023-01-27","100.028.301","Substance Direct Entry"]
["IAEG009548","25254-50-6","246-764-0","Reaction product of paraformaldehyde and 2-hydroxypropylamine (ratio 1:1) (HPT)","Reaction product of paraformaldehyde and 2-hydroxypropylamine (ratio 1:1) (HPT)","I","2023-01-27","2023-01-27",null,"Substance Direct Entry"]
["IAEG009549","1675-54-3","216-823-5","2,2'-[(1-Methylethylidene)bis(4,1-phenyleneoxymethylene)]bisoxirane; Bisphenol A diglycidyl ether; 2,2-Bis(4-hydroxyphenyl)propane bis(2,3-epoxypropyl) ether; BADGE","2,2'-[(1-Methylethylidene)bis(4,1-phenyleneoxymethylene)]bisoxirane; Bisphenol A diglycidyl ether; 2,2-Bis(4-hydroxyphenyl)propane bis(2,3-epoxypropyl) ether; BADGE","I","2023-01-27","2023-01-27","100.015.294","Substance Direct Entry"]
["IAEG009551","99-76-3","202-785-7","Methyl 4-hydroxybenzoate; Methyl paraben; Benzoic acid, 4-hydroxy-, methyl ester","Methyl 4-hydroxybenzoate; Methyl paraben; Benzoic acid, 4-hydroxy-, methyl ester","I","2023-01-27","2023-01-27","100.002.532","Substance Direct Entry"]
["IAEG009552","94-13-3","202-307-7","Propyl 4-hydroxybenzoate; Propyl paraben; Benzoic acid, 4-hydroxy-, propyl ester","Propyl 4-hydroxybenzoate; Propyl paraben; Benzoic acid, 4-hydroxy-, propyl ester","I","2023-01-27","2023-01-27","100.002.098","Substance Direct Entry"]
["IAEG009553","25068-38-6","500-033-5","4,4'-Isopropylidenediphenol, oligomeric reaction products with 1-chloro-2,3-epoxypropane; Reaction product: bisphenol-A-(epichlorhydrin); epoxy resin (number average molecular weight < 700)","4,4'-Isopropylidenediphenol, oligomeric reaction products with 1-chloro-2,3-epoxypropane; Reaction product: bisphenol-A-(epichlorhydrin); epoxy resin (number average molecular weight < 700)","I","2023-01-27","2023-01-27","100.105.541","Substance Direct Entry"]
["IAEG009554","6864-37-5","229-962-1","2,2'-Dimethyl-4,4'-methylenebis(cyclohexylamine)","2,2'-Dimethyl-4,4'-methylenebis(cyclohexylamine)","I","2023-01-27","2023-01-27","100.027.238","Substance Direct Entry"]
["IAEG009555","100-21-0","202-830-0","Terephthalic acid; 1,4-Benzenedicarboxylic acid","Terephthalic acid; 1,4-Benzenedicarboxylic acid","I","2023-01-27","2023-01-27","100.002.573","Substance Direct Entry"]
["IAEG009556","77-94-1","201-071-2","Tributyl citrate","Tributyl citrate","I","2023-01-27","2023-01-27","100.000.975","Substance Direct Entry"]
["IAEG009557","95-14-7","202-394-1","Benzotriazole; 1H-Benzotriazole","Benzotriazole; 1H-Benzotriazole","I","2023-01-27","2023-01-27","100.002.177","Substance Direct Entry"]
["IAEG009558","80-08-0","201-248-4","Dapsone; 4,4'-Diamino diphenyl sulfone","Dapsone; 4,4'-Diamino diphenyl sulfone","I","2023-01-27","2023-01-27","100.001.136","Substance Direct Entry"]
["IAEG009560","693-21-0","211-745-8","Oxydiethylene dinitrate; Diethylene glycol dinitrate; Digol dinitrate; Nitric acid 2-(2-nitrooxyethoxy)ethyl ester","Oxydiethylene dinitrate; Diethylene glycol dinitrate; Digol dinitrate; Nitric acid 2-(2-nitrooxyethoxy)ethyl ester","I","2023-01-27","2023-01-27","100.010.679","Substance Direct Entry"]
["IAEG009561","77-90-7","201-067-0","Tributyl O-acetylcitrate; 1,2,3-Propanetricarboxylic acid, 2-(acetyloxy)-, tributyl ester","Tributyl O-acetylcitrate; 1,2,3-Propanetricarboxylic acid, 2-(acetyloxy)-, tributyl ester","I","2023-01-27","2023-01-27","100.000.971","Substance Direct Entry"]
["IAEG009562","78-59-1","201-126-0","Isophorone; 3,5,5-Trimethylcyclohex-2-enone; 2-Cyclohexen-1-one, 3,5,5-trimethyl-","Isophorone; 3,5,5-Trimethylcyclohex-2-enone; 2-Cyclohexen-1-one, 3,5,5-trimethyl-","I","2023-01-27","2023-01-27","100.001.024","Substance Direct Entry"]
["IAEG009564","7601-89-0","231-511-9","Sodium perchlorate; Perchloric acid, sodium salt","Sodium perchlorate; Perchloric acid, sodium salt","I","2023-01-27","2023-01-27","100.028.647","Substance Direct Entry"]
["IAEG009566","96-76-4","202-532-0","2,4-Di-tert-butylphenol","2,4-Di-tert-butylphenol","I","2023-01-27","2023-01-27","100.002.303","Substance Direct Entry"]
["IAEG009567","118-56-9","204-260-8","Homosalate","Homosalate","I","2023-01-27","2023-01-27","100.003.874","Substance Direct Entry"]
["IAEG009568","21850-44-2","244-617-5","1,1'-(Isopropylidene)bis[3,5-dibromo-4-(2,3-dibromopropoxy)benzene]; 1,1'-Propane-2,2-diylbis[3,5-dibromo-4-(2,3-dibromopropoxy)benzene]","1,1'-(Isopropylidene)bis[3,5-dibromo-4-(2,3-dibromopropoxy)benzene]; 1,1'-Propane-2,2-diylbis[3,5-dibromo-4-(2,3-dibromopropoxy)benzene]","I","2023-01-27","2023-01-27","100.040.546","Substance Direct Entry"]
["IAEG009570","61617-00-3","262-872-0","1,3-Dihydro-4(or 5)-methyl-2H-benzimidazole-2-thione, zinc salt","1,3-Dihydro-4(or 5)-methyl-2H-benzimidazole-2-thione, zinc salt","I","2023-01-27","2023-01-27","100.057.138","Substance Direct Entry"]
["IAEG009575","75-21-8","200-849-9","Ethylene oxide; Oxirane","Ethylene oxide; Oxirane","I","2023-01-27","2023-01-27","100.000.773","Substance Direct Entry"]
["IAEG009579","420-04-2","206-992-3","Cyanamide; Carbamonitril; Carbodiimide; Hydrogen cyanamide","Cyanamide; Carbamonitril; Carbodiimide; Hydrogen cyanamide","I","2023-01-27","2023-01-27","100.006.358","Substance Direct Entry"]
["IAEG009580","64-18-6","200-579-1","Formic acid","Formic acid","I","2023-01-27","2023-01-27","100.000.527","Substance Direct Entry"]
["IAEG009581","10028-15-6","233-069-2","Ozone; Trioxygen","Ozone; Trioxygen","I","2023-01-27","2023-01-27","100.030.051","Substance Direct Entry"]
["IAEG009582","7446-09-5","231-195-2","Sulphur dioxide; Sulfur dioxide","Sulphur dioxide; Sulfur dioxide","I","2023-01-27","2023-01-27","100.028.359","Substance Direct Entry"]
["IAEG009583","37353-75-6","500-097-4","4,4'-Isopropylidenediphenol, propoxylated; 4,4'-Propane-2,2-diyldiphenol, polymer with 2-methyloxirane; Propoxylated Bisphenol A; Bisphenol A propoxylates (BPA-PO)","4,4'-Isopropylidenediphenol, propoxylated; 4,4'-Propane-2,2-diyldiphenol, polymer with 2-methyloxirane; Propoxylated Bisphenol A; Bisphenol A propoxylates (BPA-PO)","I","2023-01-27","2023-01-27","100.105.600","Substance Direct Entry"]
["IAEG009585","79-21-0","No EC available","Peracetic acid generated from 1,3- diacetyloxypropan-2-yl acetate and hydrogen peroxide","Peracetic acid generated from 1,3- diacetyloxypropan-2-yl acetate and hydrogen peroxide","I","2023-01-27","2023-01-27","100.001.079","Substance Direct Entry"]
["IAEG009589","89997-63-7","289-699-3","Chrysanthemum cinerariaefolium, extract from open and mature flowers of Tanacetum cinerariifolium obtained with supercritical CO2","Chrysanthemum cinerariaefolium, extract from open and mature flowers of Tanacetum cinerariifolium obtained with supercritical CO2","I","2023-01-27","2023-01-27",null,"Substance Direct Entry"]
["IAEG009590","60207-90-1","262-104-4","Propiconazole; (2RS,4RS;2RS,4SR)-1-{[2-(2,4-Dichlorophenyl)-4-propyl-1,3-dioxolan-2-yl]methyl}-1H-1,2,4-triazole; 1-[[2-(2,4-Dichlorophenyl)-4-propyl-1,3-dioxolan-2-yl]methyl]-1H-1,2,4-triazole; (+/-)-1-[2-(2,4-Dichlorophenyl)-4-propyl-1,3-dioxolan-2-ylmethyl]-1H-1,2,4-triazole","Propiconazole; (2RS,4RS;2RS,4SR)-1-{[2-(2,4-Dichlorophenyl)-4-propyl-1,3-dioxolan-2-yl]methyl}-1H-1,2,4-triazole; 1-[[2-(2,4-Dichlorophenyl)-4-propyl-1,3-dioxolan-2-yl]methyl]-1H-1,2,4-triazole; (+/-)-1-[2-(2,4-Dichlorophenyl)-4-propyl-1,3-dioxolan-2-ylmethyl]-1H-1,2,4-triazole","I","2023-01-27","2023-01-27","100.056.441","Substance Direct Entry"]
["IAEG009591","10222-01-2","233-539-7","2,2-Dibromo-2-cyanoacetamide; 2,2-dibromo-3-nitrilopropionamide (DBNPA)","2,2-Dibromo-2-cyanoacetamide; 2,2-dibromo-3-nitrilopropionamide (DBNPA)","I","2023-01-27","2023-01-27",null,"Substance Direct Entry"]
["IAEG009594","1166-46-7","214-619-0","d-Tetramethrin; d-trans-Tetramethrin; (1,3-Dioxo-1,3,4,5,6,7-hexahydro-2H-isoindol-2-yl)methyl (1R,3R)-2,2-dimethyl-3-(2-methylprop-1-en-1-yl)cyclopropanecarboxylate; (1,3,4,5,6,7-Hexahydro-1,3-dioxo-2H-isoindol-2-yl)methyl (1R-trans)-2,2-dimethyl-3-(2-methylprop-1-enyl)cyclopropanecarboxylate","d-Tetramethrin; d-trans-Tetramethrin; (1,3-Dioxo-1,3,4,5,6,7-hexahydro-2H-isoindol-2-yl)methyl (1R,3R)-2,2-dimethyl-3-(2-methylprop-1-en-1-yl)cyclopropanecarboxylate; (1,3,4,5,6,7-Hexahydro-1,3-dioxo-2H-isoindol-2-yl)methyl (1R-trans)-2,2-dimethyl-3-(2-methylprop-1-enyl)cyclopropanecarboxylate","I","2023-01-27","2023-01-27",null,"Substance Direct Entry"]
["IAEG009595","7696-12-0","231-711-6","Tetramethrin; (1,3-Dioxo-1,3,4,5,6,7-hexahydro-2H-isoindol-2-yl)methyl 2,2-dimethyl-3-(2-methylprop-1-en-1-yl)cyclopropanecarboxylate","Tetramethrin; (1,3-Dioxo-1,3,4,5,6,7-hexahydro-2H-isoindol-2-yl)methyl 2,2-dimethyl-3-(2-methylprop-1-en-1-yl)cyclopropanecarboxylate","I","2023-01-27","2023-01-27",null,"Substance Direct Entry"]
["IAEG009596","55406-53-6","259-627-5","3-Iodo-2-propynyl butylcarbamate; 3-Iodo-2-propynylbutylcarbamate (IPBC)","3-Iodo-2-propynyl butylcarbamate; 3-Iodo-2-propynylbutylcarbamate (IPBC)","I","2023-01-27","2023-01-27","100.054.188","Substance Direct Entry"]
["IAEG009597","7440-50-8","231-159-6","Copper (Cu); CI 77400","Copper (Cu); CI 77400","I","2023-01-27","2023-01-27","100.028.326","Substance Direct Entry"]
["IAEG009598","886-50-0","212-950-5","Terbutryn","Terbutryn","I","2023-01-27","2023-01-27",null,"Substance Direct Entry"]
["IAEG009599","79-21-0","201-186-8","Peracetic acid; Peroxyethanoic acid; Ethaneperoxoic acid","Peracetic acid; Peroxyethanoic acid; Ethaneperoxoic acid","I","2023-01-27","2023-01-27","100.001.079","Substance Direct Entry"]
["IAEG009602","75-15-0","200-843-6","Carbon disulphide; Carbon disulfide","Carbon disulphide; Carbon disulfide","I","2023-01-27","2023-01-27","100.000.767","Substance Direct Entry"]
["IAEG009605","7681-49-4","231-667-8","Sodium fluoride (NaF)","Sodium fluoride (NaF)","I","2023-01-27","2023-01-27","100.028.789","Substance Direct Entry"]
["IAEG009606","165252-70-0","605-399-0","Dinotefuran; 1-methyl-2-nitro-3-(tetrahydro-3-furylmethyl)guanidine","Dinotefuran; 1-methyl-2-nitro-3-(tetrahydro-3-furylmethyl)guanidine","I","2023-01-27","2023-01-27","100.111.831","Substance Direct Entry"]
["IAEG009608","311-89-7","No EC available","1-Butanamine, 1,1,2,2,3,3,4,4,4-nonafluoro-N,N-bis(1,1,2,2,3,3,4,4,4-nonafluorobutyl)-","1-Butanamine, 1,1,2,2,3,3,4,4,4-nonafluoro-N,N-bis(1,1,2,2,3,3,4,4,4-nonafluorobutyl)-","I","2023-01-27","2023-01-27",null,"Substance Direct Entry"]
["IAEG009626","375-85-9","206-798-9","Perfluoroheptanoic acid (PFHpA)","Tridecafluoroheptanoic acid","D1","2023-01-27","2023-01-27","100.006.181","Substance Direct Entry"]
["IAEG009644","756-13-8","No EC available","3-Pentanone, 1,1,1,2,2,4,5,5,5-nonafluoro-4-(trifluoromethyl)-","3-Pentanone, 1,1,1,2,2,4,5,5,5-nonafluoro-4-(trifluoromethyl)-","I","2023-01-27","2023-01-27","100.103.448","Substance Direct Entry"]
["IAEG009645","813-44-5","No EC available","3-Pentanone, 1,1,1,2,4,5,5,5-octafluoro-2,4-bis(trifluoromethyl)-","3-Pentanone, 1,1,1,2,4,5,5,5-octafluoro-2,4-bis(trifluoromethyl)-","I","2023-01-27","2023-01-27",null,"Substance Direct Entry"]
["IAEG009646","813-45-6","No EC available","3-Hexanone, 1,1,1,2,4,4,5,5,6,6,6-undecafluoro-2-(trifluoromethyl)-","3-Hexanone, 1,1,1,2,4,4,5,5,6,6,6-undecafluoro-2-(trifluoromethyl)-","I","2023-01-27","2023-01-27",null,"Substance Direct Entry"]
["IAEG009665","26655-00-5","No EC available","Propane, 1,1,1,2,2,3,3-heptafluoro-3-[(1,2,2-trifluoroethenyl)oxy]-, polymer with 1,1,2,2-tetrafluoroethene","Propane, 1,1,1,2,2,3,3-heptafluoro-3-[(1,2,2-trifluoroethenyl)oxy]-, polymer with 1,1,2,2-tetrafluoroethene","I","2023-01-27","2023-01-27",null,"Substance Direct Entry"]
["IAEG009674","60164-51-4","No EC available","Poly[oxy[trifluoro(trifluoromethyl)-1,2-ethanediyl]], .alpha.-(1,1,2,2,2-pentafluoroethyl)-.omega.-[tetrafluoro(trifluoromethyl)ethoxy]-","Poly[oxy[trifluoro(trifluoromethyl)-1,2-ethanediyl]], .alpha.-(1,1,2,2,2-pentafluoroethyl)-.omega.-[tetrafluoro(trifluoromethyl)ethoxy]-","I","2023-01-27","2023-01-27",null,"Substance Direct Entry"]
["IAEG009684","68258-85-5","No EC available","1-Hexene, 3,3,4,4,5,5,6,6,6-nonafluoro-, polymer with ethene and 1,1,2,2-tetrafluoroethene","1-Hexene, 3,3,4,4,5,5,6,6,6-nonafluoro-, polymer with ethene and 1,1,2,2-tetrafluoroethene","I","2023-01-27","2023-01-27",null,"Substance Direct Entry"]
["IAEG009693","69991-61-3","No EC available","Ethene, 1,1,2,2-tetrafluoro-, oxidized, polymd.","Ethene, 1,1,2,2-tetrafluoro-, oxidized, polymd.","I","2023-01-27","2023-01-27",null,"Substance Direct Entry"]
["IAEG009695","70225-18-2","No EC available","1-Butanesulfonic acid, 1,1,2,2,3,3,4,4,4-nonafluoro-, compd. with 2,2′-iminobis[ethanol] (1:1)","1-Butanesulfonic acid, 1,1,2,2,3,3,4,4,4-nonafluoro-, compd. with 2,2′-iminobis[ethanol] (1:1)","I","2023-01-27","2023-01-27",null,"Substance Direct Entry"]
["IAEG009700","86508-42-1","No EC available","Perfluoro compounds, C5-18","Perfluoro compounds, C5-18","I","2023-01-27","2023-01-27",null,"Substance Direct Entry"]
["IAEG009701","88645-29-8","No EC available","Ethene, 1,1,2,2-tetrafluoro-, oxidized, polymd., reduced, Me esters, reduced","Ethene, 1,1,2,2-tetrafluoro-, oxidized, polymd., reduced, Me esters, reduced","I","2023-01-27","2023-01-27",null,"Substance Direct Entry"]
["IAEG009710","163702-06-5","No EC available","Propane, 2-(ethoxydifluoromethyl)-1,1,1,2,3,3,3-heptafluoro-","Propane, 2-(ethoxydifluoromethyl)-1,1,1,2,3,3,3-heptafluoro-","I","2023-01-27","2023-01-27",null,"Substance Direct Entry"]
["IAEG009711","163702-08-7","No EC available","Propane, 2-(difluoromethoxymethyl)-1,1,1,2,3,3,3-heptafluoro-","Propane, 2-(difluoromethoxymethyl)-1,1,1,2,3,3,3-heptafluoro-","I","2023-01-27","2023-01-27","100.102.084","Substance Direct Entry"]
["IAEG009794","370097-12-4","No EC available","1-Propene, 1,1,2,3,3,3-hexafluoro-, oxidized, polymd., reduced, hydrolyzed, reaction products with ammonia","1-Propene, 1,1,2,3,3,3-hexafluoro-, oxidized, polymd., reduced, hydrolyzed, reaction products with ammonia","I","2023-01-27","2023-01-27",null,"Substance Direct Entry"]
["IAEG009832","89-04-3","201-877-4","Trioctyl benzene-1,2,4-tricarboxylate","Trioctyl benzene-1,2,4-tricarboxylate","I","2023-01-27","2023-01-27","100.001.707","Substance Direct Entry"]
["IAEG009838","3648-20-2","222-884-9","Diundecyl phthalate (DuDP)","Diundecyl phthalate (DuDP)","I","2023-01-27","2023-01-27","100.020.805","Substance Direct Entry"]
["IAEG009840","120-61-6","204-411-8","Dimethyl terephthalate","Dimethyl terephthalate","I","2023-01-27","2023-01-27","100.004.011","Substance Direct Entry"]
["IAEG009842","27247-96-7","248-363-6","2-ethylhexyl nitrate","2-ethylhexyl nitrate","I","2023-01-27","2023-01-27","100.043.952","Substance Direct Entry"]
["IAEG009845","7440-62-2","231-171-1","Vanadium (V)","Vanadium (V)","I","2023-01-27","2023-01-27","100.028.337","Substance Direct Entry"]
["IAEG009847","68515-45-7","271-087-2","(1,2-Benzenedicarboxylic acid, dinonyl ester, branched and linear) ","(1,2-Benzenedicarboxylic acid, dinonyl ester, branched and linear) ","I","2023-01-27","2023-01-27",null,"Substance Direct Entry"]
["IAEG009850","6422-86-2","229-176-9","Bis(2-ethylhexyl) terephthalate","Bis(2-ethylhexyl) terephthalate","I","2023-01-27","2023-01-27","100.026.524","Substance Direct Entry"]
["IAEG009851","68515-40-2","271-082-5","1,2-Benzenedicarboxylic acid, benzyl C7-9-branched and linear alkyl esters","1,2-Benzenedicarboxylic acid, benzyl C7-9-branched and linear alkyl esters","I","2023-01-27","2023-01-27",null,"Substance Direct Entry"]
["IAEG009854","51349-94-1","257-147-0","Manganese hydrogen phosphate","Manganese hydrogen phosphate","I","2023-01-27","2023-01-27",null,"Substance Direct Entry"]
["IAEG009857","2694-54-4","220-264-2","Triallyl benzene-1,2,4-tricarboxylate","Triallyl benzene-1,2,4-tricarboxylate","I","2023-01-27","2023-01-27",null,"Substance Direct Entry"]
["IAEG009858","65039-09-0","613-739-4","1H-Imidazolium, 3-ethyl-1-methyl-, chloride (1:1)","1H-Imidazolium, 3-ethyl-1-methyl-, chloride (1:1)","I","2023-01-27","2023-01-27","100.129.917","Substance Direct Entry"]
["IAEG009859","101023-55-6","483-310-2","Imidazole hydrobromide","Imidazole hydrobromide","I","2023-01-27","2023-01-27","100.105.415","Substance Direct Entry"]
["IAEG009861","670-96-2","211-581-7","2-phenylimidazole","2-phenylimidazole","I","2023-01-27","2023-01-27","100.010.530","Substance Direct Entry"]
["IAEG009865","128-39-2","204-884-0","2,6-Di-tert-butylphenol","2,6-Di-tert-butylphenol","I","2023-01-27","2023-01-27","100.004.441","Substance Direct Entry"]
["IAEG009866","1344-43-0","215-695-8","Manganese oxide","Manganese oxide","I","2023-01-27","2023-01-27","100.014.269","Substance Direct Entry"]
["IAEG009869","1314-34-7","215-230-9","Divanadium trioxide","Divanadium trioxide","I","2023-01-27","2023-01-27","100.013.847","Substance Direct Entry"]
["IAEG009871","57-55-6","200-338-0","Propane-1,2-diol","Propane-1,2-diol","I","2023-01-27","2023-01-27","100.000.307","Substance Direct Entry"]
["IAEG009883","523-31-9","208-344-5","Dibenzyl phthalate","Dibenzyl phthalate","I","2023-01-27","2023-01-27",null,"Substance Direct Entry"]
["IAEG009886","108-32-7","203-572-1","Propylene carbonate","Propylene carbonate","I","2023-01-27","2023-01-27","100.003.248","Substance Direct Entry"]
["IAEG009896","13718-26-8","237-272-7","Sodium metavanadate","Sodium metavanadate","I","2023-01-27","2023-01-27","100.033.869","Substance Direct Entry"]
["IAEG009900","118-60-5","204-263-4","2-Ethylhexyl salicylate","2-Ethylhexyl salicylate","I","2023-01-27","2023-01-27","100.003.877","Substance Direct Entry"]
["IAEG009901","98-55-5","204-263-4","2-Ethylhexyl salicylate","2-Ethylhexyl salicylate","I","2023-01-27","2023-01-27","100.002.437","Substance Direct Entry"]
["IAEG009906","78-11-5","201-084-3","Pentaerithrityl tetranitrate","Pentaerithrityl tetranitrate","I","2023-01-27","2023-01-27","100.000.987","Substance Direct Entry"]
["IAEG009918","10101-68-5","600-150-2","Sulfuric acid, manganese(2+) salt (1:1), tetrahydrate","Sulfuric acid, manganese(2+) salt (1:1), tetrahydrate","I","2023-01-27","2023-01-27",null,"Substance Direct Entry"]
["IAEG009919","85507-79-5","287-401-6","Diundecyl phthalate, branched and linear","Diundecyl phthalate, branched and linear","I","2023-01-27","2023-01-27","100.079.428","Substance Direct Entry"]
["IAEG009921","68515-43-5","271-085-1","1,2-Benzenedicarboxylic acid, di-C9-11-branched and linear alkyl esters","1,2-Benzenedicarboxylic acid, di-C9-11-branched and linear alkyl esters","I","2023-01-27","2023-01-27","100.064.603","Substance Direct Entry"]
["IAEG009925","10101-50-5","233-251-1","Sodium permanganate","Sodium permanganate","I","2023-01-27","2023-01-27","100.030.215","Substance Direct Entry"]
["IAEG009926","27774-13-6","248-652-7","Vanadium oxide sulphate","Vanadium oxide sulphate","I","2023-01-27","2023-01-27","100.044.214","Substance Direct Entry"]
["IAEG009928","16409-43-1","240-457-5","Tetrahydro-4-methyl-2-(2-methylprop-1-enyl)pyran","Tetrahydro-4-methyl-2-(2-methylprop-1-enyl)pyran","I","2023-01-27","2023-01-27","100.036.763","Substance Direct Entry"]
["IAEG009929","1317-34-6","215-264-4","Dimanganese trioxide","Dimanganese trioxide","I","2023-01-27","2023-01-27","100.013.878","Substance Direct Entry"]
["IAEG009930","91770-15-9","294-799-5","Kerosine (petroleum), sweetened","Kerosine (petroleum), sweetened","I","2023-01-27","2023-01-27","100.086.145","Substance Direct Entry"]
["IAEG009931","63468-13-3","264-249-9","2-ethylhexyl methyl terephthalate","2-ethylhexyl methyl terephthalate","I","2023-01-27","2023-01-27",null,"Substance Direct Entry"]
["IAEG009934","1739-84-0","217-101-2","1,2-dimethylimidazole","1,2-dimethylimidazole","I","2023-01-27","2023-01-27","100.015.547","Substance Direct Entry"]
["IAEG009937","616-47-7","210-484-7","1-methylimidazole","1-methylimidazole","I","2023-01-27","2023-01-27","100.009.532","Substance Direct Entry"]
["IAEG009939","1072-62-4","214-011-5","2-ethylimidazole","2-ethylimidazole","I","2023-01-27","2023-01-27","100.012.738","Substance Direct Entry"]
["IAEG009945","10101-66-3","233-257-4","Ammonium manganese(3+) diphosphate","Ammonium manganese(3+) diphosphate","I","2023-01-27","2023-01-27","100.030.221","Substance Direct Entry"]
["IAEG009948","87-20-7","201-730-4","Isoamyl salicylate","Isoamyl salicylate","I","2023-01-27","2023-01-27","100.001.574","Substance Direct Entry"]
["IAEG009952","50-78-2","200-064-1","O-acetylsalicylic acid","O-acetylsalicylic acid","I","2023-01-27","2023-01-27","100.000.059","Substance Direct Entry"]
["IAEG009955","822-36-6","212-497-3","4-Methylimidazole (4-MEI)","4-Methylimidazole (4-MEI)","I","2023-01-27","2023-01-27","100.011.361","Substance Direct Entry"]
["IAEG009958","288-32-4","206-019-2","Imidazole","Imidazole","I","2023-01-27","2023-01-27","100.005.473","Substance Direct Entry"]
["IAEG009962","96-49-1","202-510-0","Ethylene carbonate","Ethylene carbonate","I","2023-01-27","2023-01-27","100.002.283","Substance Direct Entry"]
["IAEG009971","10377-66-9","233-828-8","Manganese dinitrate","Manganese dinitrate","I","2023-01-27","2023-01-27","100.030.741","Substance Direct Entry"]
["IAEG009974","7785-87-7","232-089-9","Manganese sulphate","Manganese sulphate","I","2023-01-27","2023-01-27","100.029.172","Substance Direct Entry"]
["IAEG009975","4717-96-8","225-207-5","Tetrahydro-4-methyl-2H-pyran","Tetrahydro-4-methyl-2H-pyran","I","2023-01-27","2023-01-27","100.022.915","Substance Direct Entry"]
["IAEG009979","108-20-3","203-560-6","Diisopropyl ether","Diisopropyl ether","I","2023-01-27","2023-01-27","100.003.237","Substance Direct Entry"]
["IAEG009981","123334-20-3","677-940-9","Vanadium Oxide Sulphate Hydrate","Vanadium Oxide Sulphate Hydrate","I","2023-01-27","2023-01-27",null,"Substance Direct Entry"]
["IAEG009987","6156-78-1","612-176-1","Acetic acid, manganese(2+) salt, tetrahydrate","Acetic acid, manganese(2+) salt, tetrahydrate","I","2023-01-27","2023-01-27",null,"Substance Direct Entry"]
["IAEG009988","131-17-9","205-016-3","Diallyl phthalate (DAP)","Diallyl phthalate (DAP)","I","2023-01-27","2023-01-27","100.004.562","Substance Direct Entry"]
["IAEG009997","68515-47-9","271-089-3","1,2-Benzenedicarboxylic acid, di-C11-14-branched alkyl esters, C13-rich","1,2-Benzenedicarboxylic acid, di-C11-14-branched alkyl esters, C13-rich","I","2023-01-27","2023-01-27","100.064.607","Substance Direct Entry"]
["IAEG010001","15956-58-8","240-085-3","2-ethylhexanoic acid, manganese salt","2-ethylhexanoic acid, manganese salt","I","2023-01-27","2023-01-27","100.036.426","Substance Direct Entry"]
["IAEG010010","68007-08-9","684-693-0","1H-Imidazole, Monohydriodide","1H-Imidazole, Monohydriodide","I","2023-01-27","2023-01-27",null,"Substance Direct Entry"]
["IAEG010012","931-36-2","213-234-5","2-ethyl-4-methylimidazole","2-ethyl-4-methylimidazole","I","2023-01-27","2023-01-27","100.012.031","Substance Direct Entry"]
["IAEG010018","121-91-5","204-506-4","Isophthalic acid","Isophthalic acid","I","2023-01-27","2023-01-27","100.004.098","Substance Direct Entry"]
["IAEG010023","1317-35-7","215-266-5","Trimanganese tetraoxide","Trimanganese tetraoxide","I","2023-01-27","2023-01-27","100.013.879","Substance Direct Entry"]
["IAEG010030","12070-10-9","235-122-5","Vanadium carbide","Vanadium carbide","I","2023-01-27","2023-01-27","100.031.917","Substance Direct Entry"]
["IAEG010038","877-24-7","212-889-4","Potassium hydrogen phthalate","Potassium hydrogen phthalate","I","2023-01-27","2023-01-27","100.011.718","Substance Direct Entry"]
["IAEG010043","7722-64-7","231-760-3","Potassium permanganate","Potassium permanganate","I","2023-01-27","2023-01-27","100.028.874","Substance Direct Entry"]
["IAEG010044","10034-96-5","600-072-9","Sulfuric acid, manganese(2+) salt (1:1), monohydrate","Sulfuric acid, manganese(2+) salt (1:1), monohydrate","I","2023-01-27","2023-01-27",null,"Substance Direct Entry"]
["IAEG010046","638-38-0","211-334-3","Manganese di(acetate)","Manganese di(acetate)","I","2023-01-27","2023-01-27","100.010.305","Substance Direct Entry"]
["IAEG010047","598-62-9","209-942-9","Manganese carbonate","Manganese carbonate","I","2023-01-27","2023-01-27","100.009.040","Substance Direct Entry"]
["IAEG010048","8030-70-4","232-445-3","Fatty acids, tall-oil, manganese salts","Fatty acids, tall-oil, manganese salts","I","2023-01-27","2023-01-27","100.029.491","Substance Direct Entry"]
["IAEG010052","55-63-0","200-240-8","Glycerol trinitrate","Glycerol trinitrate","I","2023-01-27","2023-01-27","100.000.219","Substance Direct Entry"]
["IAEG010057","88-99-3","201-873-2","Phthalic acid","Phthalic acid","I","2023-01-27","2023-01-27","100.001.703","Substance Direct Entry"]
["IAEG010058","107-21-1","203-473-3","Ethane-1,2-diol","Ethane-1,2-diol","I","2023-01-27","2023-01-27","100.003.159","Substance Direct Entry"]
["IAEG010067","7773-01-5","231-869-6","Manganese dichloride","Manganese dichloride","I","2023-01-27","2023-01-27","100.028.972","Substance Direct Entry"]
["IAEG010068","3101-60-8","221-453-2","P-tert-butylphenyl 1-(2,3-epoxy)propyl ether","P-tert-butylphenyl 1-(2,3-epoxy)propyl ether","I","2023-01-27","2023-01-27","100.019.503","Substance Direct Entry"]
["IAEG010069","1313-13-9","215-202-6","Manganese dioxide","Manganese dioxide","I","2023-01-27","2023-01-27","100.013.821","Substance Direct Entry"]
["IAEG010071","118-55-8","204-259-2","Phenyl salicylate","Phenyl salicylate","I","2023-01-27","2023-01-27","100.003.873","Substance Direct Entry"]
["IAEG010081","88-18-6","201-807-2","2-tert-butylphenol","2-tert-butylphenol","I","2023-01-27","2023-01-27","100.001.643","Substance Direct Entry"]
["IAEG010082","7439-96-5","231-105-1","Manganese (Mn)","Manganese (Mn)","I","2023-01-27","2023-01-27","100.028.277","Substance Direct Entry"]
["IAEG010083","18718-07-5","242-520-2","Manganese bis(dihydrogen phosphate)","Manganese bis(dihydrogen phosphate)","I","2023-01-27","2023-01-27","100.038.639","Substance Direct Entry"]
["IAEG010090","2050-08-0","218-080-2","Pentyl salicylate","Pentyl salicylate","I","2023-01-27","2023-01-27","100.016.438","Substance Direct Entry"]
["IAEG010091","118-58-1","204-262-9","Benzyl salicylate","Benzyl salicylate","I","2023-01-27","2023-01-27","100.003.876","Substance Direct Entry"]
["IAEG010092","96-47-9","202-507-4","Tetrahydro-2-methylfuran","Tetrahydro-2-methylfuran","I","2023-01-27","2023-01-27","100.002.281","Substance Direct Entry"]
["IAEG010103","994-05-8","213-611-4","2-Methoxy-2-methylbutane","2-Methoxy-2-methylbutane","I","2023-01-27","2023-01-27","100.012.374","Substance Direct Entry"]
["IAEG010104","637-92-3","211-309-7","2-Ethoxy-2-methylpropane","2-Ethoxy-2-methylpropane","I","2023-01-27","2023-01-27","100.010.282","Substance Direct Entry"]
["IAEG010111","93-04-9","202-213-6","Methyl 2-naphthyl ether","Methyl 2-naphthyl ether","I","2023-01-27","2023-01-27","100.002.013","Substance Direct Entry"]
["IAEG010117","101-84-8","202-981-2","Diphenyl ether","Diphenyl ether","I","2023-01-27","2023-01-27","100.002.711","Substance Direct Entry"]
["IAEG010118","103-50-4","203-118-2","Dibenzyl ether","Dibenzyl ether","I","2023-01-27","2023-01-27","100.002.835","Substance Direct Entry"]
["IAEG010120","100-66-3","202-876-1","Anisole","Anisole","I","2023-01-27","2023-01-27","100.002.615","Substance Direct Entry"]
["IAEG010153","124-26-5","204-693-2","Stearamide","Stearamide","I","2023-01-27","2023-01-27","100.004.268","Substance Direct Entry"]
["IAEG010178","112-84-5","204-009-2","(Z)-Docos-13-enamide","(Z)-Docos-13-enamide","I","2023-01-27","2023-01-27","100.003.645","Substance Direct Entry"]
["IAEG010184","107-87-9","203-528-1","Pentan-2-one","Pentan-2-one","I","2023-01-27","2023-01-27","100.003.208","Substance Direct Entry"]
["IAEG010185","106-68-3","203-423-0","Octan-3-one","Octan-3-one","I","2023-01-27","2023-01-27","100.003.113","Substance Direct Entry"]
["IAEG010190","123-19-3","204-608-9","Heptan-4-one","Heptan-4-one","I","2023-01-27","2023-01-27","100.004.191","Substance Direct Entry"]
["IAEG010192","110-43-0","203-767-1","Heptan-2-one","Heptan-2-one","I","2023-01-27","2023-01-27","100.003.426","Substance Direct Entry"]
["IAEG010193","78-93-3","201-159-0","Butanone","Butanone","I","2023-01-27","2023-01-27","100.001.054","Substance Direct Entry"]
["IAEG010194","67-64-1","200-662-2","Acetone","Acetone","I","2023-01-27","2023-01-27","100.000.602","Substance Direct Entry"]
["IAEG010198","108-05-4","203-545-4","Vinyl acetate","Vinyl acetate","I","2023-01-27","2023-01-27","100.003.224","Substance Direct Entry"]
["IAEG010199","1313-27-5","215-204-7","Molybdenum trioxide","Molybdenum trioxide","I","2023-01-27","2023-01-27","100.013.823","Substance Direct Entry"]
["IAEG010200","108-88-3","203-625-9","Toluene","Toluene","I","2023-01-27","2023-01-27","100.003.297","Substance Direct Entry"]
["IAEG010202","54-21-7","200-198-0","Sodium salicylate","Sodium salicylate","I","2023-01-27","2023-01-27","100.000.181","Substance Direct Entry"]
["IAEG010204","69-72-7","200-712-3","Salicylic acid","Salicylic acid","I","2023-01-27","2023-01-27","100.000.648","Substance Direct Entry"]
["IAEG010209","552-38-5","209-011-7","Lithium salicylate","Lithium salicylate","I","2023-01-27","2023-01-27","100.008.193","Substance Direct Entry"]
["IAEG010211","38970-76-2","254-228-2","Dilithium salicylate","Dilithium salicylate","I","2023-01-27","2023-01-27","100.049.281","Substance Direct Entry"]
["IAEG010212","94-36-0","202-327-6","Dibenzoyl peroxide","Dibenzoyl peroxide","I","2023-01-27","2023-01-27","100.002.116","Substance Direct Entry"]
["IAEG010218","133-14-2","205-094-9","Bis(2,4-dichlorobenzoyl) peroxide","Bis(2,4-dichlorobenzoyl) peroxide","I","2023-01-27","2023-01-27","100.004.633","Substance Direct Entry"]
["IAEG010220","114959-46-5","931-276-9","Benzoic acid, 2-hydroxy-, mono-C14-18-alkyl derivs., calcium salts (2:1)","Benzoic acid, 2-hydroxy-, mono-C14-18-alkyl derivs., calcium salts (2:1)","I","2023-01-27","2023-01-27","100.155.377","Substance Direct Entry"]
["IAEG010254","90640-43-0","292-562-0","Amines, N-C12-14-alkyltrimethylenedi-","Amines, N-C12-14-alkyltrimethylenedi-","I","2023-01-27","2023-01-27","100.084.116","Substance Direct Entry"]
["IAEG010255","1219010-04-4","629-719-3","N-C16-18-alkyl-(evennumbered, C18 unsaturated) propane-1,3-diamine","N-C16-18-alkyl-(evennumbered, C18 unsaturated) propane-1,3-diamine","I","2023-01-27","2023-01-27","100.157.865","Substance Direct Entry"]
["IAEG010256","7173-62-8","230-528-9","(Z)-N-9-octadecenylpropane-1,3-diamine","(Z)-N-9-octadecenylpropane-1,3-diamine","I","2023-01-27","2023-01-27","100.027.754","Substance Direct Entry"]
["IAEG010257","68784-26-9","272-234-3","Phenol, dodecyl-, sulphurised, carbonates, calcium salts, overbased","Phenol, dodecyl-, sulphurised, carbonates, calcium salts, overbased","I","2023-01-27","2023-01-27",null,"Substance Direct Entry"]
["IAEG010260","9000-90-2","232-565-6","Amylase, alpha-","Amylase, alpha-","I","2023-01-27","2023-01-27","100.029.592","Substance Direct Entry"]
["IAEG010261","156-62-7","205-861-8","Calcium cyanamide","Calcium cyanamide","I","2023-01-27","2023-01-27","100.005.330","Substance Direct Entry"]
["IAEG010262","4098-71-9","223-861-6","3-Isocyanatomethyl-3,5,5-trimethylcyclohexyl isocyanate","3-Isocyanatomethyl-3,5,5-trimethylcyclohexyl isocyanate","I","2023-01-27","2023-01-27","100.021.692","Substance Direct Entry"]
["IAEG010263","68186-85-6","269-047-4","Cobalt titanite green spinel","Cobalt titanite green spinel","I","2023-01-27","2023-01-27","100.062.752","Substance Direct Entry"]
["IAEG010264","103-11-7","203-080-7","2-Ethylhexyl acrylate","2-Ethylhexyl acrylate","I","2023-01-27","2023-01-27","100.002.801","Substance Direct Entry"]
["IAEG010265","42978-66-5","256-032-2","(1-Methyl-1,2-ethanediyl)bis[oxy(methyl-2,1-ethanediyl)] diacrylate","(1-Methyl-1,2-ethanediyl)bis[oxy(methyl-2,1-ethanediyl)] diacrylate","I","2023-01-27","2023-01-27","100.050.921","Substance Direct Entry"]
["IAEG010267","62-53-3","200-539-3","Aniline ","Aniline ","I","2023-01-27","2023-01-27","100.000.491","Substance Direct Entry"]
["IAEG010268","67-56-1","200-659-6","Methanol","Methanol","I","2023-01-27","2023-01-27","100.000.599","Substance Direct Entry"]
["IAEG010269","140-01-2","205-391-3","Pentasodium (carboxylatomethyl)iminobis(ethylenenitrilo)tetraacetate","Pentasodium (carboxylatomethyl)iminobis(ethylenenitrilo)tetraacetate","I","2023-01-27","2023-01-27","100.004.902","Substance Direct Entry"]
["IAEG010270","166412-78-8","431-890-2","Di-isononyl-cyclohexane-1,2-dicarboxylate","Di-isononyl-cyclohexane-1,2-dicarboxylate","I","2023-01-27","2023-01-27","100.103.017","Substance Direct Entry"]
["IAEG010281","76093-98-6","No EC available","Ostalloy","Ostalloy","I","2023-01-27","2023-01-27",null,"Substance Direct Entry"]
["IAEG010420","65997-18-4","266-047-6","Frits, chemicals","Frits, chemicals","I","2023-01-27","2023-01-27","100.060.024","Substance Direct Entry"]
["IAEG010421","1317-40-4","215-271-2","Copper sulphide","Copper sulphide","I","2023-01-27","2023-01-27","100.013.884","Substance Direct Entry"]
["IAEG010422","2374-14-3","219-154-7","2,4,6-Trimethyl-2,4,6-tris(3,3,3-trifluoropropyl)cyclotrisiloxane","2,4,6-Trimethyl-2,4,6-tris(3,3,3-trifluoropropyl)cyclotrisiloxane","I","2023-01-27","2023-01-27","100.017.414","Substance Direct Entry"]
["IAEG010423","31906-04-4","250-863-4","4-(4-hydroxy-4-methylpentyl)cyclohex-3-enecarbaldehyde","4-(4-hydroxy-4-methylpentyl)cyclohex-3-enecarbaldehyde","I","2023-01-27","2023-01-27",null,"Substance Direct Entry"]
["IAEG010424","1310-73-2","215-185-5","Sodium hydroxide","Sodium hydroxide","I","2023-01-27","2023-01-27","100.013.805","Substance Direct Entry"]
["IAEG010425","1310-58-3","215-181-3","Potassium hydroxide","Potassium hydroxide","I","2023-01-27","2023-01-27","100.013.802","Substance Direct Entry"]
["IAEG010427","5064-31-3","225-768-6","Trisodium nitrilotriacetate","Trisodium nitrilotriacetate","I","2023-01-27","2023-01-27","100.023.426","Substance Direct Entry"]
["IAEG010428","7697-37-2","231-714-2","Nitric acid","Nitric acid","I","2023-01-27","2023-01-27","100.028.832","Substance Direct Entry"]
["IAEG010429","7758-98-7","231-847-6","Copper sulphate","Copper sulphate","I","2023-01-27","2023-01-27","100.028.952","Substance Direct Entry"]
["IAEG010430","7758-99-8","231-847-6","Copper sulphate","Copper sulphate","I","2023-01-27","2023-01-27","100.028.952","Substance Direct Entry"]
["IAEG010431","107-13-1","203-466-5","Acrylonitrile","Acrylonitrile","I","2023-01-27","2023-01-27","100.003.152","Substance Direct Entry"]
["IAEG010433","88-58-4","201-841-8","2,5-di-tert-butylhydroquinone","2,5-di-tert-butylhydroquinone","I","2023-01-27","2023-01-27","100.001.674","Substance Direct Entry"]
["IAEG010434","16096-31-4","240-260-4","1,6-bis(2,3-epoxypropoxy)hexane","1,6-bis(2,3-epoxypropoxy)hexane","I","2023-01-27","2023-01-27",null,"Substance Direct Entry"]
["IAEG010437","532-32-1","208-534-8","Sodium benzoate","Sodium benzoate","I","2023-01-27","2023-01-27","100.007.760","Substance Direct Entry"]
["IAEG010442","93-58-3","202-259-7","Methyl benzoate","Methyl benzoate","I","2023-01-27","2023-01-27","100.002.055","Substance Direct Entry"]
["IAEG010446","6789-88-4","229-856-5","Hexyl benzoate","Hexyl benzoate","I","2023-01-27","2023-01-27","100.027.142","Substance Direct Entry"]
["IAEG010450","136-60-7","205-252-7","Butyl benzoate","Butyl benzoate","I","2023-01-27","2023-01-27","100.004.775","Substance Direct Entry"]
["IAEG010451","120-51-4","204-402-9","Benzyl benzoate","Benzyl benzoate","I","2023-01-27","2023-01-27","100.004.003","Substance Direct Entry"]
["IAEG010452","131298-44-7","603-470-0","Benzoic acid, C9-11-branched alkyl esters","Benzoic acid, C9-11-branched alkyl esters","I","2023-01-27","2023-01-27","100.101.969","Substance Direct Entry"]
["IAEG010453","131298-44-7","421-090-1","ISODECYL BENZOATE","ISODECYL BENZOATE","I","2023-01-27","2023-01-27","100.101.969","Substance Direct Entry"]
["IAEG010455","65-85-0","200-618-2","Benzoic acid","Benzoic acid","I","2023-01-27","2023-01-27","100.000.562","Substance Direct Entry"]
["IAEG010456","5444-75-7","226-641-8","2-ethylhexyl benzoate","2-ethylhexyl benzoate","I","2023-01-27","2023-01-27","100.024.219","Substance Direct Entry"]
["IAEG010469","609-08-5","210-175-7","Diethyl methylmalonate","Diethyl methylmalonate","I","2023-01-27","2023-01-27","100.009.251","Substance Direct Entry"]
["IAEG010481","2155-60-4","218-451-9","Dibutyl itaconate","Dibutyl itaconate","I","2023-01-27","2023-01-27","100.016.775","Substance Direct Entry"]
["IAEG010493","No CAS available","701-404-6","Reaction products of diethylenetriamine and 2,2'-[(1-methylethylidene)bis(4,1-phenyleneoxymethylene)]bisoxirane","Reaction products of diethylenetriamine and 2,2'-[(1-methylethylidene)bis(4,1-phenyleneoxymethylene)]bisoxirane","I","2023-01-27","2023-01-27","100.337.557","Substance Direct Entry"]
["IAEG010494","No CAS available","941-435-4","Reaction products of Bisphenol F and phenol with aniline and formaldehyde","Reaction products of Bisphenol F and phenol with aniline and formaldehyde","I","2023-01-27","2023-01-27",null,"Substance Direct Entry"]
["IAEG010495","No CAS available","701-406-7","2,2'-[(1-methylethylidene)bis(4,1-phenyleneoxymethylene)]bisoxirane reaction mass with amines, polyethylenepoly-, triethylenetetramine fraction","2,2'-[(1-methylethylidene)bis(4,1-phenyleneoxymethylene)]bisoxirane reaction mass with amines, polyethylenepoly-, triethylenetetramine fraction","I","2023-01-27","2023-01-27","100.337.580","Substance Direct Entry"]
["IAEG010498","68609-08-5","614-657-1","Cyclohexanemethanamine, 5-amino-1,3,3-trimethyl-, reaction products with bisphenol A diglycidyl ether homopolymer","Cyclohexanemethanamine, 5-amino-1,3,3-trimethyl-, reaction products with bisphenol A diglycidyl ether homopolymer","I","2023-01-27","2023-01-27","100.122.639","Substance Direct Entry"]
["IAEG010501","69415-01-6","945-909-1","Reaction mass of meso-2-{[4-(2-{4-[(oxiran-2-yl)methoxy]phenyl}-1,1-dichloroethylidene-2 yl)phenoxy]methyl}oxirane and 2RS)-2-({4-[2-(4-{[(2RS)-oxiran-2-yl]methoxy}phenyl)-1,1-dichloroethylidene-2-yl]phenoxy}methyl)oxirane","Reaction mass of meso-2-{[4-(2-{4-[(oxiran-2-yl)methoxy]phenyl}-1,1-dichloroethylidene-2 yl)phenoxy]methyl}oxirane and 2RS)-2-({4-[2-(4-{[(2RS)-oxiran-2-yl]methoxy}phenyl)-1,1-dichloroethylidene-2-yl]phenoxy}methyl)oxirane","I","2023-01-27","2023-01-27","100.249.082","Substance Direct Entry"]
["IAEG010504","No CAS available","701-405-1","4,4'-Isopropylidenediphenol, oligomeric reaction products with 1-chloro-2,3-epoxypropane, reaction products with ethylene diamine","4,4'-Isopropylidenediphenol, oligomeric reaction products with 1-chloro-2,3-epoxypropane, reaction products with ethylene diamine","I","2023-01-27","2023-01-27","100.337.565","Substance Direct Entry"]
["IAEG010507","No CAS available","946-144-6","Reaction mass of 3-phenyl-6-[(3-phenyl-3,4-dihydro-2H-1,3-benzoxazin-8-yl)methyl]-3,4-dihydro-2H-1,3-benzoxazine and 6,6'-methanediylbis(3-phenyl-3,4-dihydro-2H-1,3-benzoxazine)","Reaction mass of 3-phenyl-6-[(3-phenyl-3,4-dihydro-2H-1,3-benzoxazin-8-yl)methyl]-3,4-dihydro-2H-1,3-benzoxazine and 6,6'-methanediylbis(3-phenyl-3,4-dihydro-2H-1,3-benzoxazine)","I","2023-01-27","2023-01-27","100.250.073","Substance Direct Entry"]
["IAEG010510","No CAS available","701-263-0","Formaldehyde, oligomeric reaction products with 1-chloro-2,3-epoxypropane and phenol","Formaldehyde, oligomeric reaction products with 1-chloro-2,3-epoxypropane and phenol","I","2023-01-27","2023-01-27","100.261.988","Substance Direct Entry"]
["IAEG010512","25037-45-0","607-501-9","Carbonic acid, polymer with 4,4'-(1-methylethylidene)bis[phenol]","Carbonic acid, polymer with 4,4'-(1-methylethylidene)bis[phenol]","I","2023-01-27","2023-01-27",null,"Substance Direct Entry"]
["IAEG010513","64401-02-1","613-584-2","Poly(oxy-1,2-ethanediyl), alpha,alpha'-[(1-methylethylidene)di-4,1-phenylene]bis[w-[(1-oxo-2-propen-1-yl)oxy]-","Poly(oxy-1,2-ethanediyl), alpha,alpha'-[(1-methylethylidene)di-4,1-phenylene]bis[w-[(1-oxo-2-propen-1-yl)oxy]-","I","2023-01-27","2023-01-27",null,"Substance Direct Entry"]
["IAEG010514","25036-25-3","607-500-3","2,2'-bis(2-(2,3-epoxypropoxy)phenyl)-propane","2,2'-bis(2-(2,3-epoxypropoxy)phenyl)-propane","I","2023-01-27","2023-01-27",null,"Substance Direct Entry"]
["IAEG010517","28064-14-4","608-164-0","Phenol, polymer with formaldehyde, glycidyl ether","Phenol, polymer with formaldehyde, glycidyl ether","I","2023-01-27","2023-01-27",null,"Substance Direct Entry"]
["IAEG010519","67924-34-9","614-177-2","Phenol, 4-(1,1-dimethylethyl)-, polymer with 2-(chloromethyl)oxirane and 4,4'-(1-methylethylidene)bis[phenol]","Phenol, 4-(1,1-dimethylethyl)-, polymer with 2-(chloromethyl)oxirane and 4,4'-(1-methylethylidene)bis[phenol]","I","2023-01-27","2023-01-27",null,"Substance Direct Entry"]
["IAEG010524","36704-31-1","641-007-4","Phenol, 4,4'-(1-methylethylidene)bis-, polymer with 2-(chloromethyl)oxirane and 1,2-ethanediamine","Phenol, 4,4'-(1-methylethylidene)bis-, polymer with 2-(chloromethyl)oxirane and 1,2-ethanediamine","I","2023-01-27","2023-01-27",null,"Substance Direct Entry"]
["IAEG010525","68954-74-5","686-711-2","Phenol, 4,4'-(1-methylethylidene)bis-, polymer with 2-(chloromethyl)oxirane, 2-(1-methylethyl)-1H-imidazole-modified","Phenol, 4,4'-(1-methylethylidene)bis-, polymer with 2-(chloromethyl)oxirane, 2-(1-methylethyl)-1H-imidazole-modified","I","2023-01-27","2023-01-27",null,"Substance Direct Entry"]
["IAEG010529","60684-77-7","800-098-2","Oxirane, 2,2'-[(1-methylethylidene)bis(4,1-phenyleneoxymethylene)]bis-, polymer with 1,1'-methylenebis[isocyanatobenzene]","Oxirane, 2,2'-[(1-methylethylidene)bis(4,1-phenyleneoxymethylene)]bis-, polymer with 1,1'-methylenebis[isocyanatobenzene]","I","2023-01-27","2023-01-27",null,"Substance Direct Entry"]
["IAEG010533","28906-96-9","620-316-8","Formaldehyde, polymer with 2-(chloromethyl)oxirane and 4,4'-(1-methylethylidene)bis[phenol]","Formaldehyde, polymer with 2-(chloromethyl)oxirane and 4,4'-(1-methylethylidene)bis[phenol]","I","2023-01-27","2023-01-27",null,"Substance Direct Entry"]
["IAEG010536","25085-75-0","607-535-4","Formaldehyde, polymer with 4,4'-(1-methylethylidene)bis[phenol]","Formaldehyde, polymer with 4,4'-(1-methylethylidene)bis[phenol]","I","2023-01-27","2023-01-27",null,"Substance Direct Entry"]
["IAEG010539","37312-33-7","609-402-6","Phenol, 4,4'-(1-methylethylidene)bis-, polymer with 2-(chloromethyl)oxirane and 1,3-diisocyanatomethylbenzene","Phenol, 4,4'-(1-methylethylidene)bis-, polymer with 2-(chloromethyl)oxirane and 1,3-diisocyanatomethylbenzene","I","2023-01-27","2023-01-27",null,"Substance Direct Entry"]
["IAEG010542","41637-38-1","609-946-4","Poly(oxy-1,2-ethanediyl), alpha,alpha'-[(1-methylethylidene)di-4,1-phenylene]bis[w-[(2-methyl-1-oxo-2-propen-1-yl)oxy]-","Poly(oxy-1,2-ethanediyl), alpha,alpha'-[(1-methylethylidene)di-4,1-phenylene]bis[w-[(2-methyl-1-oxo-2-propen-1-yl)oxy]-","I","2023-01-27","2023-01-27",null,"Substance Direct Entry"]
["IAEG010544","75768-65-9","278-305-5","Phosphonium, triphenyl(phenylmethyl)-, salt with 4,4'-[2,2,2-trifluoro-1-(trifluoromethyl)ethylidene]bis[phenol] (1:1)","Phosphonium, triphenyl(phenylmethyl)-, salt with 4,4'-[2,2,2-trifluoro-1-(trifluoromethyl)ethylidene]bis[phenol] (1:1)","I","2023-01-27","2023-01-27","100.071.165","Substance Direct Entry"]
["IAEG010555","101657-77-6","405-790-4","4,4'-methylenebis(2,6-dimethylphenyl cyanate)","4,4'-methylenebis(2,6-dimethylphenyl cyanate)","I","2023-01-27","2023-01-27","100.100.735","Substance Direct Entry"]
["IAEG010556","1156-51-0","214-590-4","4,4'-isopropylidenediphenyl dicyanate","4,4'-isopropylidenediphenyl dicyanate","I","2023-01-27","2023-01-27","100.013.264","Substance Direct Entry"]
["IAEG010558","38294-69-8","500-104-0","4,4'-Isopropylidenediphenol, oligomeric reaction products with 1-chloro-2,3-epoxypropane, reaction products with triethylenetetramine","4,4'-Isopropylidenediphenol, oligomeric reaction products with 1-chloro-2,3-epoxypropane, reaction products with triethylenetetramine","I","2023-01-27","2023-01-27",null,"Substance Direct Entry"]
["IAEG010559","36425-15-7","500-089-0","4,4'-Isopropylidenediphenol, oligomeric reaction products with 1-chloro-2,3-epoxypropane, reaction products with methacrylic acid","4,4'-Isopropylidenediphenol, oligomeric reaction products with 1-chloro-2,3-epoxypropane, reaction products with methacrylic acid","I","2023-01-27","2023-01-27",null,"Substance Direct Entry"]
["IAEG010560","36425-16-8","500-090-6","4,4'-Isopropylidenediphenol, oligomeric reaction products with 1-chloro-2,3-epoxypropane, reaction products with maleic anhydride and methacrylic acid","4,4'-Isopropylidenediphenol, oligomeric reaction products with 1-chloro-2,3-epoxypropane, reaction products with maleic anhydride and methacrylic acid","I","2023-01-27","2023-01-27",null,"Substance Direct Entry"]
["IAEG010561","67989-52-0","500-180-5","4,4'-Isopropylidenediphenol, oligomeric reaction products with 1-chloro-2,3-epoxypropane, reaction products with fatty acids, C18-unsatd., dimers","4,4'-Isopropylidenediphenol, oligomeric reaction products with 1-chloro-2,3-epoxypropane, reaction products with fatty acids, C18-unsatd., dimers","I","2023-01-27","2023-01-27","100.368.856","Substance Direct Entry"]
["IAEG010562","72480-18-3","500-253-1","4,4'-Isopropylidenediphenol, oligomeric reaction products with 1-chloro-2,3-epoxypropane, reaction products with ethylenediamine","4,4'-Isopropylidenediphenol, oligomeric reaction products with 1-chloro-2,3-epoxypropane, reaction products with ethylenediamine","I","2023-01-27","2023-01-27",null,"Substance Direct Entry"]
["IAEG010563","31326-29-1","500-072-8","4,4'-Isopropylidenediphenol, oligomeric reaction products with 1-chloro-2,3-epoxypropane, reaction products with diethylenetriamine","4,4'-Isopropylidenediphenol, oligomeric reaction products with 1-chloro-2,3-epoxypropane, reaction products with diethylenetriamine","I","2023-01-27","2023-01-27",null,"Substance Direct Entry"]
["IAEG010566","38294-67-6","500-103-5","4,4'-Isopropylidenediphenol, oligomeric reaction products with 1-chloro-2,3-epoxypropane, reaction products with 4,4'-methylenebis(cyclohexylamine)","4,4'-Isopropylidenediphenol, oligomeric reaction products with 1-chloro-2,3-epoxypropane, reaction products with 4,4'-methylenebis(cyclohexylamine)","I","2023-01-27","2023-01-27",null,"Substance Direct Entry"]
["IAEG010567","68002-42-6","500-181-0","4,4'-Isopropylidenediphenol, oligomeric reaction products with 1-chloro-2,3-epoxypropane, reaction products with 2-methylimidazole","4,4'-Isopropylidenediphenol, oligomeric reaction products with 1-chloro-2,3-epoxypropane, reaction products with 2-methylimidazole","I","2023-01-27","2023-01-27",null,"Substance Direct Entry"]
["IAEG010568","55818-57-0","500-130-2","4,4'-Isopropylidenediphenol, oligomeric reaction products with 1-chloro-2,3-epoxypropane, esters with acrylic acid","4,4'-Isopropylidenediphenol, oligomeric reaction products with 1-chloro-2,3-epoxypropane, esters with acrylic acid","I","2023-01-27","2023-01-27","100.105.629","Substance Direct Entry"]
["IAEG010569","32492-61-8","500-082-2","4,4'-Isopropylidenediphenol, ethoxylated","4,4'-Isopropylidenediphenol, ethoxylated","I","2023-01-27","2023-01-27","100.105.586","Substance Direct Entry"]
["IAEG010571","1745-89-7","217-121-1","4,4'-isopropylidenebis[2-allylphenol]","4,4'-isopropylidenebis[2-allylphenol]","I","2023-01-27","2023-01-27","100.015.565","Substance Direct Entry"]
["IAEG010572","3739-67-1","223-123-3","4,4'-isopropylidenebis[(allyloxy)benzene]","4,4'-isopropylidenebis[(allyloxy)benzene]","I","2023-01-27","2023-01-27",null,"Substance Direct Entry"]
["IAEG010573","47073-92-7","405-740-1","4,4'-Ethylidenediphenyl dicyanate","4,4'-Ethylidenediphenyl dicyanate","I","2023-01-27","2023-01-27","100.100.731","Substance Direct Entry"]
["IAEG010579","13080-86-9","235-985-8","Benzenamine, 4,4'-[(1-methylethylidene) bis(4,1-phenyleneoxy)]bis-","Benzenamine, 4,4'-[(1-methylethylidene) bis(4,1-phenyleneoxy)]bis-","I","2023-01-27","2023-01-27","100.032.699","Substance Direct Entry"]
["IAEG010583","27955-94-8","405-800-7","4,4',4''-(ethan-1,1,1-triyl)triphenol","4,4',4''-(ethan-1,1,1-triyl)triphenol","I","2023-01-27","2023-01-27","100.100.736","Substance Direct Entry"]
["IAEG010584","1843-03-4","217-420-7","4,4',4''-(1-methylpropanyl-3-ylidene)tris[6-tert-butyl-m-cresol]","4,4',4''-(1-methylpropanyl-3-ylidene)tris[6-tert-butyl-m-cresol]","I","2023-01-27","2023-01-27","100.015.837","Substance Direct Entry"]
["IAEG010585","68610-41-3","680-511-9","2-Propenenitrile, polymer with 1,3-butadiene, carboxy-terminated, polymers with bisphenol A and epichlorohydrin","2-Propenenitrile, polymer with 1,3-butadiene, carboxy-terminated, polymers with bisphenol A and epichlorohydrin","I","2023-01-27","2023-01-27",null,"Substance Direct Entry"]
["IAEG010588","39382-25-7","609-663-6","2-Butenedioic acid (2E)-, polymer with .alpha.,.alpha.'-[(1-methylethylidene)di-4,1-phenylene]bis[.omega.-hydroxypoly[oxy(methyl-1,2-ethanediyl)]]","2-Butenedioic acid (2E)-, polymer with .alpha.,.alpha.'-[(1-methylethylidene)di-4,1-phenylene]bis[.omega.-hydroxypoly[oxy(methyl-1,2-ethanediyl)]]","I","2023-01-27","2023-01-27",null,"Substance Direct Entry"]
["IAEG010590","1333-16-0","908-912-9","Reaction mass of 2,2'-methylenediphenol and 4,4'-methylenediphenol and o-[(4-hydroxyphenyl)methyl]phenol","Reaction mass of 2,2'-methylenediphenol and 4,4'-methylenediphenol and o-[(4-hydroxyphenyl)methyl]phenol","I","2023-01-27","2023-01-27","100.140.161","Substance Direct Entry"]
["IAEG010596","2095-03-6","218-257-4","2,2'-[methylenebis(p-phenyleneoxymethylene)]bisoxirane","2,2'-[methylenebis(p-phenyleneoxymethylene)]bisoxirane","I","2023-01-27","2023-01-27",null,"Substance Direct Entry"]
["IAEG010598","25085-99-8","607-537-5","Bisphenol A-diglycidylether polymer (mw<700)","Bisphenol A-diglycidylether polymer (mw<700)","I","2023-01-27","2023-01-27",null,"Substance Direct Entry"]
["IAEG010599","116-37-0","204-137-9","1,1'-isopropylidenebis(p-phenyleneoxy)dipropan-2-ol","1,1'-isopropylidenebis(p-phenyleneoxy)dipropan-2-ol","I","2023-01-27","2023-01-27","100.003.762","Substance Direct Entry"]
["IAEG010603","1565-94-2","216-367-7","(1-methylethylidene)bis[4,1-phenyleneoxy(2-hydroxy-3,1-propanediyl)] bismethacrylate","(1-methylethylidene)bis[4,1-phenyleneoxy(2-hydroxy-3,1-propanediyl)] bismethacrylate","I","2023-01-27","2023-01-27",null,"Substance Direct Entry"]
["IAEG010605","24448-20-2","246-263-7","(1-methylethylidene)bis(4,1-phenyleneoxy-2,1-ethanediyl) bismethacrylate","(1-methylethylidene)bis(4,1-phenyleneoxy-2,1-ethanediyl) bismethacrylate","I","2023-01-27","2023-01-27",null,"Substance Direct Entry"]
["IAEG010621","71888-91-0","276-159-7","Amines, C12-14-tert-alkyl, reaction products with O,O-di-C1-14-alkyl hydrogen phosphorodithioate","Amines, C12-14-tert-alkyl, reaction products with O,O-di-C1-14-alkyl hydrogen phosphorodithioate","I","2023-01-27","2023-01-27",null,"Substance Direct Entry"]
["IAEG010628","61789-32-0","263-052-5","Fatty acids, coco, 2-sulfoethyl esters, sodium salts","Fatty acids, coco, 2-sulfoethyl esters, sodium salts","I","2023-01-27","2023-01-27","100.057.302","Substance Direct Entry"]
["IAEG010642","129757-67-1","406-750-9","Reaction mass of: bis(2,2,6,6-tetramethyl-1-octyloxypiperidin-4-yl)-1,10-decanedioate","Reaction mass of: bis(2,2,6,6-tetramethyl-1-octyloxypiperidin-4-yl)-1,10-decanedioate","I","2023-01-27","2023-01-27","100.100.831","Substance Direct Entry"]
["IAEG010643","191743-75-6","426-650-9","CGL 052","CGL 052","I","2023-01-27","2023-01-27","100.102.511","Substance Direct Entry"]
["IAEG010644","26266-63-7","247-570-9","Tetrahydrophthalic anhydride","Tetrahydrophthalic anhydride","I","2023-01-27","2023-01-27","100.043.231","Substance Direct Entry"]
["IAEG010645","11070-44-3","234-290-7","Tetrahydromethylphthalic anhydride","Tetrahydromethylphthalic anhydride","I","2023-01-27","2023-01-27","100.031.161","Substance Direct Entry"]
["IAEG010646","34090-76-1","251-823-9","Tetrahydro-4-methylphthalic anhydride","Tetrahydro-4-methylphthalic anhydride","I","2023-01-27","2023-01-27","100.047.097","Substance Direct Entry"]
["IAEG010647","117-08-8","204-171-4","Tetrachlorophthalic anhydride","Tetrachlorophthalic anhydride","I","2023-01-27","2023-01-27","100.003.793","Substance Direct Entry"]
["IAEG010648","632-79-1","211-185-4","Tetrabromophthalic anhydride","Tetrabromophthalic anhydride","I","2023-01-27","2023-01-27","100.010.170","Substance Direct Entry"]
["IAEG010651","85-43-8","201-605-4","1,2,3,6-Tetrahydrophthalic anhydride","1,2,3,6-Tetrahydrophthalic anhydride","I","2023-01-27","2023-01-27","100.001.460","Substance Direct Entry"]
["IAEG010652","25134-21-8","246-644-8","1,2,3,6-tetrahydromethyl-3,6-methanophthalic anhydride","1,2,3,6-tetrahydromethyl-3,6-methanophthalic anhydride","I","2023-01-27","2023-01-27","100.042.389","Substance Direct Entry"]
["IAEG010654","5333-84-6","226-247-6","1,2,3,6-tetrahydro-3-methylphthalic anhydride","1,2,3,6-tetrahydro-3-methylphthalic anhydride","I","2023-01-27","2023-01-27","100.023.861","Substance Direct Entry"]
["IAEG010656","2421-28-5","219-348-1","Benzophenone-3,3',4,4'-tetracarboxylic dianhydride","Benzophenone-3,3',4,4'-tetracarboxylic dianhydride","I","2023-01-27","2023-01-27","100.017.590","Substance Direct Entry"]
["IAEG010658","1823-59-2","412-830-4","4,4'-oxydiphthalic anhydride","4,4'-oxydiphthalic anhydride","I","2023-01-27","2023-01-27","100.101.210","Substance Direct Entry"]
["IAEG010661","10377-52-3","233-823-0","Trilithium orthophosphate","Trilithium orthophosphate","I","2023-01-27","2023-01-27","100.030.736","Substance Direct Entry"]
["IAEG010665","12627-14-4","235-730-0","Silicic acid, lithium salt","Silicic acid, lithium salt","I","2023-01-27","2023-01-27","100.032.469","Substance Direct Entry"]
["IAEG010670","10377-48-7","233-820-4","Lithium sulphate","Lithium sulphate","I","2023-01-27","2023-01-27","100.030.734","Substance Direct Entry"]
["IAEG010671","10102-25-7","600-157-0","Sulfuric acid, dilithium salt, monohydrate","Sulfuric acid, dilithium salt, monohydrate","I","2023-01-27","2023-01-27",null,"Substance Direct Entry"]
["IAEG010673","7791-03-9","232-237-2","Lithium Perchlorate","Lithium Perchlorate","I","2023-01-27","2023-01-27","100.029.307","Substance Direct Entry"]
["IAEG010674","7790-69-4","232-218-9","Lithium nitrate","Lithium nitrate","I","2023-01-27","2023-01-27","100.029.290","Substance Direct Entry"]
["IAEG010677","1310-66-3","603-454-3","Lithium hydroxide (Li(OH)), monohydrate","Lithium hydroxide (Li(OH)), monohydrate","I","2023-01-27","2023-01-27",null,"Substance Direct Entry"]
["IAEG010678","1310-65-2","215-183-4","Lithium hydroxide","Lithium hydroxide","I","2023-01-27","2023-01-27","100.013.804","Substance Direct Entry"]
["IAEG010679","7580-67-8","231-484-3","Lithium hydride","Lithium hydride","I","2023-01-27","2023-01-27","100.028.623","Substance Direct Entry"]
["IAEG010680","21324-40-3","244-334-7","Lithium hexafluorophosphate(1-)","Lithium hexafluorophosphate(1-)","I","2023-01-27","2023-01-27","100.040.289","Substance Direct Entry"]
["IAEG010681","7789-24-4","232-152-0","Lithium fluoride","Lithium fluoride","I","2023-01-27","2023-01-27","100.029.229","Substance Direct Entry"]
["IAEG010682","4111-54-0","223-893-0","Lithium diisopropylamide","Lithium diisopropylamide","I","2023-01-27","2023-01-27","100.021.721","Substance Direct Entry"]
["IAEG010684","7447-41-8","231-212-3","Lithium chloride","Lithium chloride","I","2023-01-27","2023-01-27","100.028.375","Substance Direct Entry"]
["IAEG010685","554-13-2","209-062-5","Lithium carbonate","Lithium carbonate","I","2023-01-27","2023-01-27","100.008.239","Substance Direct Entry"]
["IAEG010686","7550-35-8","231-439-8","Lithium bromide","Lithium bromide","I","2023-01-27","2023-01-27","100.028.582","Substance Direct Entry"]
["IAEG010687","553-54-8","209-042-6","Lithium benzoate","Lithium benzoate","I","2023-01-27","2023-01-27","100.008.221","Substance Direct Entry"]
["IAEG010692","7439-93-2","231-102-5","Lithium (Li)","Lithium (Li)","I","2023-01-27","2023-01-27","100.028.274","Substance Direct Entry"]
["IAEG010699","Not Applicable","Not Applicable","Perfluoroheptanoic acid salts",null,"D1","2023-01-27","2023-01-27",null,"Group Direct Entry"]
["IAEG010700","106-43-4","203-397-0","4-chlorotoluene","4-chlorotoluene","I","2023-01-27","2023-01-27","100.003.089","Substance Direct Entry"]
["IAEG010745","Not Applicable","Not Applicable","Bis(2-ethylhexyl) tetrabromophthalate covering any of the individual isomers and/or combinations thereof",null,"D1","2023-01-27","2023-01-27","100.362.813","Group Direct Entry"]
["IAEG008950","26040-51-7","247-426-5","Bis(2-ethylhexyl) tetrabromophthalate",null,"D1;I","2022-02-17","2023-01-27","100.043.099","Group Member","IAEG010745"]
["IAEG011240","Not Applicable","Not Applicable","1,2-benzenedicarboxylic acid, di-C6-10-alkyl esters or mixed decyl and hexyl and octyl diesters",null,"R2;D1;D2","2023-01-27","2023-01-27","100.239.145","Group Direct Entry"]
["IAEG003837","68515-51-5","271-094-0","1,2-Benzenedicarboxylic acid, di-C6-10-alkyl esters","Di(C6-C10)alkyl phthalate","R2;D1;I","2015-03-17","2023-01-27","100.064.611","Group Member","IAEG011240"]
["IAEG004174","68648-93-1","272-013-1","1,2-Benzenedicarboxylic acid, mixed decyl and hexyl and octyl diesters",null,"R2;D1","2015-03-17","2015-03-17","100.065.447","Group Member","IAEG011240"]
["IAEG011241","Not Applicable","Not Applicable","4,4'-oxydianiline and its salts",null,"D1","2023-01-27","2023-01-27","100.239.146","Group Direct Entry"]
["IAEG004125","101-80-4","202-977-0","4,4'-Diaminodiphenyl ether","4,4'-Oxydianiline; Bis(4-aminophenyl) ether","R1;D1","2015-03-17","2017-08-14","100.002.707","Group Member","IAEG011241"]
["IAEG011242","Not Applicable","Not Applicable","Acids generated from chromium trioxide and their oligomers",null,"R2;D1;D2","2023-01-27","2023-01-27","100.239.153","Group Direct Entry"]
["IAEG000359","7738-94-5","231-801-5","Chromic acid",null,"R1;R2;D1","2015-03-17","2015-03-17","100.028.910","Group Member","IAEG011242"]
["IAEG000360","13530-68-2","236-881-5","Dichromic acid",null,"R1;R2;D1","2015-03-17","2015-03-17","100.033.513","Group Member","IAEG011242"]
["IAEG011257","No CAS available","No EC Available","Oligomers of chromic acid and dichromic acid",null,"R1;R2;D1","2023-01-27","2023-01-27","100.239.160","Group Member","IAEG011242"]
["IAEG011243","Not Applicable","Not Applicable","Boric Acid",null,"D1;I","2023-01-27","2023-01-27","100.239.155","Group Direct Entry"]
["IAEG004110","10043-35-3","233-139-2","Boric acid",null,"D1","2015-03-17","2015-03-17","100.030.114","Group Member","IAEG011243"]
["IAEG004111","11113-50-1","234-343-4","Boric acid",null,"D1;I","2015-03-17","2023-01-27","100.031.209","Group Member","IAEG011243"]
["IAEG011244","Not Applicable","Not Applicable","Cyclohexane-1,2-dicarboxylic anhydride",null,"D1","2023-01-27","2023-01-27","100.239.156","Group Direct Entry"]
["IAEG004152","85-42-7","201-604-9","Cyclohexane-1,2-dicarboxylic anhydride","Hexahydrophthalic anhydride; Hexahydro-2-benzofuran-1,3-dione (HHPA)","D1","2017-08-14","2017-08-14","100.001.459","Group Member","IAEG011244"]
["IAEG004161","14166-21-3","238-009-9","Trans-cyclohexane-1,2-dicarboxylic anhydride",null,"D1","2015-03-17","2017-08-14","100.034.539","Group Member","IAEG011244"]
["IAEG004171","13149-00-3","236-086-3","Cis-cyclohexane-1,2-dicarboxylic anhydride",null,"D1","2015-03-17","2015-03-17","100.032.791","Group Member","IAEG011244"]
["IAEG011245","Not Applicable","Not Applicable","Hexabromocyclododecane (HBCDD)",null,"R2;D1;D2","2023-01-27","2023-01-27","100.239.157","Group Direct Entry"]
["IAEG004090","25637-99-4","247-148-4","Hexabromocyclododecane",null,"R1;R2;D1;I","2015-03-17","2023-01-27","100.042.848","Group Member","IAEG011245"]
["IAEG004091","3194-55-6","221-695-9","1,2,5,6,9,10-hexabromocyclododecane",null,"R1;R2;D1;I","2015-03-17","2023-01-27","100.019.724","Group Member","IAEG011245"]
["IAEG004092","134237-50-6","603-801-9","alpha-hexabromocyclododecane",null,"R1;R2;D1","2015-03-17","2015-03-17","100.131.125","Group Member","IAEG011245"]
["IAEG004093","134237-51-7","603-802-4","beta-hexabromocyclododecane",null,"R1;R2;D1","2015-03-17","2015-03-17","100.131.015","Group Member","IAEG011245"]
["IAEG004094","134237-52-8","603-804-5","gamma-hexabromocyclododecane",null,"R1;R2;D1","2015-03-17","2015-03-17","100.130.841","Group Member","IAEG011245"]
["IAEG011246","Not Applicable","Not Applicable","Hexahydromethylphthalic anhydride",null,"D1","2023-01-27","2023-01-27","100.239.158","Group Direct Entry"]
["IAEG004154","19438-60-9","243-072-0","Hexahydro-4-methylphthalic anhydride",null,"D1","2015-03-17","2015-03-17","100.039.141","Group Member","IAEG011246"]
["IAEG004158","25550-51-0","247-094-1","Hexahydromethylphthalic anhydride",null,"D1","2015-03-17","2017-08-14","100.042.798","Group Member","IAEG011246"]
["IAEG004160","57110-29-9","260-566-1","Hexahydro-3-methylphthalic anhydride",null,"D1","2015-03-17","2015-03-17","100.055.043","Group Member","IAEG011246"]
["IAEG004172","48122-14-1","256-356-4","Hexahydro-1-methylphthalic anhydride",null,"D1","2017-08-14","2017-08-14","100.051.216","Group Member","IAEG011246"]
["IAEG011247","Not Applicable","Not Applicable","Sodium perborate, perboric acid, sodium salt",null,"R2;D1;D2","2023-01-27","2023-01-27","100.239.162","Group Direct Entry"]
["IAEG004127","11138-47-9","234-390-0","Perboric acid, sodium salt",null,"R2;D1","2015-03-17","2017-08-14","100.031.251","Group Member","IAEG011247"]
["IAEG004135","15120-21-5","239-172-9","Sodium perborate","Perboric acid (H3BO2(O2)), monosodium salt trihydrate","R2;D1","2015-03-17","2015-03-17","100.035.597","Group Member","IAEG011247"]
["IAEG004645","37244-98-7","234-390-0","Perboric acid, sodium salt, tetrahydrate",null,"D1","2017-08-14","2017-08-14","100.368.533","Group Member","IAEG011247"]
["IAEG004647","13517-20-9","603-902-8","Sodium perborate trihydrate","Perboric acid (H3BO2(O2)), monosodium salt, trihydrate","D1","2017-08-14","2017-08-14","100.106.721","Group Member","IAEG011247"]
["IAEG004657","90568-23-3","No EC available","Borate(2-), tetrahydroxybis[mu-(peroxy-kappaO1:kappaO2)]di-, sodium (1:2); molecular formula B2H4O8.2Na)",null,"R2;D1","2017-08-14","2017-08-14","100.297.786","Group Member","IAEG011247"]
["IAEG004658","125022-34-6","No EC available","Borate(2-), tetrahydroxybis[mu-(peroxy-kappaO1:kappaO2)]di-,sodium, hydrate (1:2:6); molecular formula B2H4O8.6H2O.2Na)",null,"R2;D1","2017-08-14","2017-08-14","100.297.787","Group Member","IAEG011247"]
["IAEG011260","10486-00-7","600-611-8","Perboric acid (HBO(O2)), sodium salt, tetrahydrate",null,"R2;D1","2023-01-27","2023-01-27","100.115.659","Group Member","IAEG011247"]
["IAEG011261","10332-33-9","600-419-4","Sodium perborate monohydrate",null,"R2;D1","2023-01-27","2023-01-27","100.107.346","Group Member","IAEG011247"]
["IAEG011248","Not Applicable","Not Applicable","Perfluorononan-1-oic-acid and its sodium and ammonium salts",null,"D1;I","2023-01-27","2023-01-27","100.242.186","Group Direct Entry","IAEG011247"]
["IAEG003216","375-95-1","206-801-3","Heptadecafluorononanoic acid","2,2,3,3,4,4,5,5,6,6,7,7,8,8,9,9,9-Heptadecafluorononanoic acid; Perfluorononan-1-oic acid; Perfluorononanoic acid (PFNA)","R1;R2;D1;I","2017-08-14","2023-01-27","100.006.184","Group Member","IAEG011248"]
["IAEG004177","21049-39-8","No EC available","Perfluorononan-1-oic acid, sodium salt",null,"R1;R2;D1;I","2017-08-14","2023-01-27","100.242.187","Group Member","IAEG011248"]
["IAEG004178","4149-60-4","No EC available","Perfluorononan-1-oic acid, ammonium salt",null,"R1;R2;D1;I","2017-08-14","2023-01-27","100.242.185","Group Member","IAEG011248"]
["IAEG011249","Not Applicable","Not Applicable","Nonadecafluorodecanoic acid (PFDA) and its sodium and ammonium salts",null,"D1;I","2023-01-27","2023-01-27","100.244.606","Group Direct Entry"]
["IAEG003391","335-76-2","206-400-3","Nonadecafluorodecanoic acid","Perfluorodecanoic acid (PFDA)","R1;R2;D1;I","2017-08-14","2023-01-27","100.005.819","Group Member","IAEG011249"]
["IAEG004270","3108-42-7","221-470-5","Ammonium nonadecafluorodecanoate","Ammonium salt of Nonadecafluorodecanoic acid","R1;R2;D1;I","2017-08-14","2023-01-27","100.019.518","Group Member","IAEG011249"]
["IAEG004276","3830-45-3","No EC available","Sodium nonadecafluorodecanoate","Sodium salt of Nonadecafluorodecanoic acid","R1;R2;D1;I","2015-03-17","2023-01-27","100.249.275","Group Member","IAEG011249"]
["IAEG011250","Not Applicable","Not Applicable","Reaction products of 1,3,4-thiadiazolidine-2,5-dithione, formaldehyde and 4-heptylphenol, branched and linear (RP-HP)",null,"R2;D1;D2;I","2023-01-27","2023-01-27","100.253.517","Group Direct Entry"]
["IAEG005364","1471311-26-8","939-460-0","Reaction product of 1,3,4-thiadiazolidine-2,5-dithione, formaldehyde and phenol, heptyl derivs.",null,"D1;I","2019-01-24","2023-01-27","100.226.747","Group Member","IAEG011250"]
["IAEG006542","93925-00-9","300-298-5","Formaldehyde, reaction products with branched and linear heptylphenol, carbon disulfide and hydrazine","Reaction products of 1,3,4-thiadiazolidine-2,5-dithione, formaldehyde and 4-heptylphenol, branched and linear (RP-HP)","D1;I","2019-01-24","2023-01-27","100.091.138","Group Member","IAEG011250"]
["IAEG011251","Not Applicable","Not Applicable","2,2-bis(bromomethyl)propane-1,3-diol (BMP); 2,2-dimethylpropan-1-ol, tribromo derivative/3-bromo-2,2-bis(bromomethyl)-1-propanol (TBNPA); 2,3-dibromo-1-propanol (2,3-DBPA)",null,"D1","2023-01-27","2023-01-27","100.316.784","Group Direct Entry"]
["IAEG004262","3296-90-0","221-967-7","2,2-Bis(bromomethyl)-1,3-propanediol","2,2-Bis(bromomethyl)propane-1,3-diol","D1;I","2017-08-14","2023-01-27","100.019.971","Group Member","IAEG011251"]
["IAEG009173","36483-57-5","253-057-0","2,2-dimethylpropan-1-ol, tribromo derivative, 3-bromo-2,2-bis(bromomethyl)-1-propanol (TBNPA)",null,"D1;I","2022-02-17","2023-01-27","100.048.218","Group Member","IAEG011251"]
["IAEG009174","96-13-9","202-480-9","2,3-dibromo-1-propanol (2,3-DBPA)",null,"D1;I","2022-02-17","2023-01-27","100.002.256","Group Member","IAEG011251"]
["IAEG009182","1522-92-5","622-370-8","3-bromo-2,2-bis(bromomethyl)-1-propanol (TBNPA)",null,"D1;I","2022-02-17","2023-01-27","100.151.139","Group Member","IAEG011251"]
["IAEG011252","Not Applicable","Not Applicable","Perfluoroheptanoic acid and its salts",null,"D1","2023-01-27","2023-01-27","100.356.090","Group Direct Entry"]
["IAEG009656","6130-43-4","228-098-2","Ammonium perfluoroheptanoate","Heptanoic acid, 2,2,3,3,4,4,5,5,6,6,7,7,7-tridecafluoro-, ammonium salt (1:1)","D1;I","2023-01-27","2023-01-27","100.025.544","Group Member","IAEG011252"]
["IAEG009600","20109-59-5","243-518-4","Sodium perfluoroheptanoate",null,"D1;I","2023-01-27","2023-01-27","100.039.548","Group Member","IAEG011252"]
["IAEG010744","21049-36-5",null,"Potassium tridecafluoroheptanoate",null,"D1;I","2023-01-27","2023-01-27","100.361.353","Group Member","IAEG011252"]

{"sheet":"UDL","index":10,"n_rows":55,"n_cols":10,"rows_kept":55,"cut":false,"hidden":false,"merged":[]}
["Authority","Identity","Version","Date","Authority","Identity","Version","Date",null,"return to tab\n4.Substance-in-Product"]
["IAEG","ADSFUDL-0618","1.0","2018-06-07","IAEG","ADMFUDL-0618","1.0","2018-06-07",null,"return to tab\n5.Substance-in-Process"]
["IAEG ID Number","Substance Use Function","Explanation",null,"IAEG ID Number","Material Use Function","Explanation",null,null,{"$f":"Overview!E3","v":"Version: 2.0"}]
["SF01","Abrasive","Grinding or friction agent",null,"MF01","Abrasion or polishing","Removes surface materials to clean and/or make smooth"]
["SF02","Adhesion promoter","Promotes adhesion of coatings, inks, or adhesives to a substrate of interest",null,"MF02","Adhesive","Joins of two or more objects or materials together by chemical bond"]
["SF03","Adsorbent/absorbent","Adheres materials to a surface",null,"MF03","Adsorbent or absorbent","Holds particles, liquids or gases by taking in or holding on surfaces"]
["SF04","Alloy constituent","Metal alloy constituent",null,"MF04","Fragrance or odor supressant","Chemically modifies air or materials to enhance or suppress odor"]
["SF05","Antiadhesive","Retards or delays adhesion between two materials",null,"MF05","Anti-freeze or de-icing","Prevents or removes frozen water from surfaces"]
["SF06","Antiscaling","Prevents lime formation",null,"MF06","Anti-slip surfacing","Increases friction between two surfaces"]
["SF07","Antisiccative","Promotes absorption of moisture",null,"MF07","Base metal or alloy","Metallic structural material"]
["SF08","Antistat","Controls static electricity buildup or discharge",null,"MF08","Biocide or pest management","Pesticide or herbicide"]
["SF09","Binder","Holds or draws other materials together to form a cohesive whole mechanically, chemically, by adhesion or cohesion",null,"MF09","Bleaching or decolorizing","Diminishes or removes color"]
["SF10","Catalyst","Speeds up a chemical reaction, but is not consumed by the reaction",null,"MF10","Binder","Produces or promotes cohesion in loosely assembled substances "]
["SF11","Chelating agent","Bonding of ions and molecules to metal ions",null,"MF11","Catalyst or accelerant","Accelerates chemical reactions and does not react "]
["SF12","Conditioner","Improves quality/performance of a material",null,"MF12","Chelator","Binds and sequesters metal ions"]
["SF13","Diluent","Non-reactive dilution agent, including solvents",null,"MF13","Chemical extraction","Removes constituents of one mixture into another"]
["SF14","Electrolyte","Dissociates into ions in solution and acquires the capacity to conduct electricity",null,"MF14","Coating removal","Removes paints, etc. from surfaces"]
["SF15","Emulsifier","Stabilizes oil-and-water emulsions",null,"MF15","Coloring agent, colorant, pigment","Adds color to porous materials"]
["SF16","Flame retardant/smoke suppresant","Prevents, or suppresses the initiation, propogation of combustion and/or the generation of combustion by-products (heat or smoke)",null,"MF16","Dessicant","Removes moisture"]
["SF17","Fluid property modulator","Inhibits or restricts foaming, promotes solids coagulation or floatation, disperses or emulsifies constituents, adjusts viscosity, etc.",null,"MF17","Diagnostic or test","Identifies and examines flaws - cracks, weaknesses, etc."]
["SF18","Fluorescent","Re-emits light upon light excitation",null,"MF18","Dye or colorant","Imparts color to objects or materials"]
["SF19","Fragrance","Imparts fragrance",null,"MF19","Electrolyte ","Contains ions and that can be decomposed by electrolysis, e.g., that present in a battery."]
["SF20","Glidant","Increases flowability of powders",null,"MF20","Explosive or ammunition","Materials that can be made to explode, or provide weapon propulsion"]
["SF21","Gloss agent","Imparts a gloss finish in cured coatings",null,"MF21","Filler, insulating or potting","Thermal, acoustical, electrical or radiational attenuation"]
["SF22","Heat stabilizer","Protects polymers against degradation resulting from heat",null,"MF22","Filler, putty, caulking or plaster","Used to fill voids in objects"]
["SF23","Heat transfer agent","Transfers heat energy through a media",null,"MF23","Fire retardant, suppresant or extinguisher","Prevents, suppresses or extinguishes fire"]
["SF24","Humectant","Retains or preserves moisture content",null,"MF24","Fuel or propellant","Provide energy for power or motion by chemical consumption"]
["SF25","Inert/filler","Non-reactive substance that only imparts bulk or density",null,"MF25","Glass or ceramic","Hard, brittle, noncrystalline material"]
["SF26","Lubricant","Reduces friction between mechanical parts",null,"MF26","Heat transfer","Transfers heat, providing heating or cooling through a media"]
["SF27","Matting agent","Imparts a matte finish in cured coatings",null,"MF27","Ink or toner","Transfers image to, or prints on a surface"]
["SF28","Oxidizer","Oxidizes other substances",null,"MF28","Leather, paper, board or fabric treatment","Enhance or protect listed materials"]
["SF29","Pesticide, herbicide, fungicide, antimicrobial, repellant or attractant","Prevents access by, retards or kills unwanted insects, fungi, microbes",null,"MF29","Lubricants and greases","Reduces friction to enhance movement and/or reduce wear"]
["SF30","pH modifier/ buffer","Modifies material pH",null,"MF30","Material conditioning, plasticizer or hardener","Changes plasticity, ductility and/or brittleness properties of a non-metallic material"]
["SF31","Pigment/colorant","Imparts shading, color or tone",null,"MF31","Metal-working or metal cutting","Provides cooling and/or particle control during metal cutting operations"]
["SF32","Plasticizer","Produces or promotes plasticity and flexibility and to reduce brittleness in synthetic resins",null,"MF32","Non-metal structural (non-polymeric)","Non-metallic, non-polymeric (plastic) structural materials"]
["SF33","Propellant","Pressurizes materials to promote or control release",null,"MF33","Photo-chemical or resist","Affects electromagnetic modification of substrates to effect or prevent change "]
["SF34","Reactant (monomeric)","Substance reactant that does forms polymeric units on reacting",null,"MF34","Pest management","Pesticide, herbicide, fungicide, repellant or attractant"]
["SF35","Reactant (non-monomeric)","Substance reactant that does not form polymeric units",null,"MF35","Plating or metallic coating deposition","Coats a thin metal layer on surfaces"]
["SF36","Stabilizer","Substance that is used to prevent non-thermal degradation",null,"MF36","Polish or wax","Materials used to clean and smooth surfaces"]
["SF37","Surfactant","Lowers the surface tension (or interfacial tension) between two liquids, a gas and a liquid, or between a liquid and a solid",null,"MF37","Plastic or resin","Organic polymeric materials"]
["SF38","Tackifier","Increases the stickiness of an adhesive or contact agent",null,"MF38","Preservative","Prevents degradation caused by biological or chemical action"]
["SF39","Texturizer","Imparts material texture",null,"MF39","Pressure transfer, propellant","Transfers or impart pressure by gas or fluid"]
["SF40","Thixotrope","Substance that lowers viscosity of a mixture when the mixture is shaken, agitated, sheared or otherwise stressed.",null,"MF40","Coating ","Primer, coating, paint, or sealant"]
["SF41","UV stabilizer","Inhibits degradation by UV radiation",null,"MF41","Processing aid -  pH-regulator, flocculation, precipitation, or neutralization","Modifies the content of liquid mixtures"]
["SF42","Warping or shrinking preventor","Inhibits or prevents material deformation, warping or shrinking",null,"MF42","Semiconductor","Component of various kinds of electronic circuit elements"]
["SF43","Other ","Substance functions not fitting into other functions",null,"MF43","Shielding or blanketing","Protects surfaces from contamination by covering"]
[null,null,null,null,"MF44","Surface treatment","Modifies the chemical composition of metal surfaces"]
[null,null,null,null,"MF45","Textile dyeing or impregnating","Changes the chemical content of fabric"]
[null,null,null,null,"MF46","Solvent or thinner","Dissolves solids or liquids"]
[null,null,null,null,"MF47","Washing, degreasing or other cleaning","Cleaning compounds"]
[null,null,null,null,"MF48","Water proofing","Imparts water resistance to materials"]
[null,null,null,null,"MF49","Welding, soldering, brazing or flux","Joins two or more metal surfaces"]
[null,null,null,null,"MF50","Other","Material functions not fitting into other functions"]
[]
[null,null,null,null,"Variable:","UDL_MaterialFunction"]

{"sheet":"Countries","index":11,"n_rows":221,"n_cols":1,"rows_kept":221,"cut":false,"hidden":true,"merged":[]}
["AM - Armenia"]
["BQ - Bonaire, Sint Eustatius and Saba"]
["BA - Bosnia and Herzegovina"]
["BR - Brazil"]
["IO - British Indian Ocean Territory"]
["BN - Brunei Darussalam"]
["BG - Bulgaria"]
["BF - Burkina Faso"]
["BI - Burundi"]
["KH - Cambodia"]
["CM - Cameroon"]
["CA - Canada"]
["CV - Cabo Verde"]
["KY - Cayman Islands"]
["CF - Central African Republic"]
["TD - Chad"]
["CL - Chile"]
["CN - China"]
["CX - Christmas Island"]
["CC - Cocos (Keeling) Islands"]
["CO - Colombia"]
["KM - Comoros"]
["CG - Congo"]
["CD - Congo (Democratic Republic of the)"]
["CK - Cook Islands"]
["CR - Costa Rica"]
["CI - Cote d'Ivoire"]
["HR - Croatia"]
["CU - Cuba"]
["CW - Curacao"]
["CY - Cyprus"]
["CZ - Czech Republic"]
["DK - Denmark"]
["DJ - Djibouti"]
["DM - Dominica"]
["DO - Dominican Republic"]
["EC - Ecuador"]
["EG - Egypt"]
["SV - El Salvador"]
["GQ - Equatorial Guinea"]
["ER - Eritrea"]
["EE - Estonia"]
["ET - Ethiopia"]
["FK - Falkland Islands (Malvinas)"]
["FO - Faroe Islands"]
["FJ - Fiji"]
["FI - Finland"]
["FR - France"]
["GF - French Guiana"]
["PF - French Polynesia"]
["TF - French Southern Territories"]
["GA - Gabon"]
["GM - Gambia"]
["GE - Georgia"]
["DE - Germany"]
["GH - Ghana"]
["GI - Gibraltar"]
["GR - Greece"]
["GL - Greenland"]
["GD - Grenada"]
["GP - Guadeloupe"]
["GU - Guam"]
["GT - Guatemala"]
["GG - Guernsey"]
["GN - Guinea"]
["GW - Guinea-Bissau"]
["GY - Guyana"]
["HT - Haiti"]
["HM - Heard Island and McDonald Islands"]
["VA - Holy See"]
["HN - Honduras"]
["HK - Hong Kong"]
["HU - Hungary"]
["IS - Iceland"]
["IN - India"]
["ID - Indonesia"]
["IR - Iran (Islamic Republic of)"]
["IQ - Iraq"]
["IE - Ireland"]
["IM - Isle of Man"]
["IL - Israel"]
["IT - Italy"]
["JM - Jamaica"]
["JP - Japan"]
["JE - Jersey"]
["JO - Jordan"]
["KZ - Kazakhstan"]
["KE - Kenya"]
["KI - Kiribati"]
["KP - Korea (Democratic People's Republic of)"]
["KR - Korea (Republic of)"]
["KW - Kuwait"]
["KG - Kyrgyzstan"]
["LA - Lao People's Democratic Republic"]
["LV - Latvia"]
["LB - Lebanon"]
["LS - Lesotho"]
["LR - Liberia"]
["LY - Libya"]
["LI - Liechtenstein"]
["LT - Lithuania"]
["LU - Luxembourg"]
["MO - Macao"]
["MK - Macedonia (the former Yugoslav Republic of)"]
["MG - Madagascar"]
["MW - Malawi"]
["MY - Malaysia"]
["MV - Maldives"]
["ML - Mali"]
["MT - Malta"]
["MH - Marshall Islands"]
["MQ - Martinique"]
["MR - Mauritania"]
["MU - Mauritius"]
["YT - Mayotte"]
["MX - Mexico"]
["FM - Micronesia (Federated States of)"]
["MD - Moldova (Republic of)"]
["MC - Monaco"]
["MN - Mongolia"]
["ME - Montenegro"]
["MS - Montserrat"]
["MA - Morocco"]
["MZ - Mozambique"]
["MM - Myanmar"]
["NA - Namibia"]
["NR - Nauru"]
["NP - Nepal"]
["NL - Netherlands"]
["NC - New Caledonia"]
["NZ - New Zealand"]
["NI - Nicaragua"]
["NE - Niger"]
["NG - Nigeria"]
["NU - Niue"]
["NF - Norfolk Island"]
["MP - Northern Mariana Islands"]
["NO - Norway"]
["OM - Oman"]
["PK - Pakistan"]
["PW - Palau"]
["PS - Palestine, State of"]
["PA - Panama"]
["PG - Papua New Guinea"]
["PY - Paraguay"]
["PE - Peru"]
["PH - Philippines"]
["PN - Pitcairn"]
["PL - Poland"]
["PT - Portugal"]
["PR - Puerto Rico"]
["QA - Qatar"]
["RE - Reunion"]
["RO - Romania"]
["RU - Russian Federation"]
["RW - Rwanda"]
["BL - Saint Barthelemy"]
["SH - Saint Helena, Ascension and Tristan da Cunha"]
["KN - Saint Kitts and Nevis"]
["LC - Saint Lucia"]
["MF - Saint Martin (French part)"]
["PM - Saint Pierre and Miquelon"]
["VC - Saint Vincent and the Grenadines"]
["WS - Samoa"]
["SM - San Marino"]
["ST - Sao Tome and Principe"]
["SA - Saudi Arabia"]
["SN - Senegal"]
["RS - Serbia"]
["SC - Seychelles"]
["SL - Sierra Leone"]
["SG - Singapore"]
["SX - Sint Maarten (Dutch part)"]
["SK - Slovakia"]
["SI - Slovenia"]
["SB - Solomon Islands"]
["SO - Somalia"]
["ZA - South Africa"]
["GS - South Georgia and the South Sandwich Islands"]
["SS - South Sudan"]
["ES - Spain"]
["LK - Sri Lanka"]
["SD - Sudan"]
["SR - Suriname"]
["SJ - Svalbard and Jan Mayen"]
["SZ - Swaziland"]
["SE - Sweden"]
["CH - Switzerland"]
["SY - Syrian Arab Republic"]
["TW - Taiwan, Province of China"]
["TJ - Tajikistan"]
["TZ - Tanzania, United Republic of"]
["TH - Thailand"]
["TL - Timor-Leste"]
["TG - Togo"]
["TK - Tokelau"]
["TO - Tonga"]
["TT - Trinidad and Tobago"]
["TN - Tunisia"]
["TR - Turkey"]
["TM - Turkmenistan"]
["TC - Turks and Caicos Islands"]
["TV - Tuvalu"]
["UG - Uganda"]
["UA - Ukraine"]
["AE - United Arab Emirates"]
["GB - United Kingdom of Great Britain and Northern Ireland"]
["US - United States of America"]
["UM - United States Minor Outlying Islands"]
["UY - Uruguay"]
["UZ - Uzbekistan"]
["VU - Vanuatu"]
["VE - Venezuela (Bolivarian Republic of)"]
["VN - Viet Nam"]
["VG - Virgin Islands (British)"]
["VI - Virgin Islands (U.S.)"]
["WF - Wallis and Futuna"]
["EH - Western Sahara"]
["YE - Yemen"]
["ZM - Zambia"]
["ZW - Zimbabwe"]

{"sheet":"-Parameters-","index":12,"n_rows":250,"n_cols":27,"rows_kept":250,"cut":false,"hidden":false,"merged":[]}
["DeclarationClass","YesNoAnswer","YesNoUnknownAnswer","ProductUoM",null,"MaterialUoM",null,"Unit Type",null,"SubstanceUoM","CompanyIDType","Authority","IAEGWG2","IEC62474","Pick a Material Class","Pick An Exemption / Authorisation Class","EUROHS0508","EL2011_534_EU","EL2010_122_EU","EL2011_65_EU_ANNEX_IV","EL2011_37_EU","CountryCode",null,"ProcessStage","Location","Safe_Use_Instructions","SubstanceGroup"]
["E - Product Statement (only)","Yes","Yes","Each","Each","%","percent","Each",null,"%","Vendor Code","Custom","IAEG01 - Deoxidizing of Al alloys","M-001 Stainless Steel ","IEC62474","EUROHS0508","Cadmium/cadmium compounds","1(c) - Mercury in single capped (compact) fluorescent lamps not exceeding (per burner):For general lighting purposes greater than or equal to 50 W and less than 150 W; 5 mg","1 - Mercury in compact fluorescent lamps not exceeding 5 mg per lamp.","1 - Lead, cadmium and mercury in detectors for ionising radiation","1(a) - Lead as an alloying element: Steel for machining purposes and batch hot dip galvanised steel components containing up to 0,35% lead by weight  ","AF - Afghanistan",null,"Production","Overview",null,"4-Nonylphenol, branched and linear [substances with a linear and/or branched alkyl chain with a carbon number of 9 covalently bound in position 4 to phenol, covering also UVCB- and well-defined substances which include any of the individual isomers or a combination thereof]"]
["F - Declarable Substance Declaration","No","No","mm","millimeter","kg","milligram","Meter",null,"ppm","DUNS Code","DUNS","IAEG02 - Organic Coating  (External Epoxy Primer)","M-002 Other Ferrous Alloys, Non-stainless Steels","IAEGWG2","EL2011_534_EU","Polybrominated biphenyls (PBBs)","1(d) - Mercury in single capped (compact) fluorescent lamps not exceeding (per burner):For general lighting purposes greater than or equal to 150 W; 15 mg","2a - Mercury in straight fluorescent lamps for general purposes not exceeding 10 mg in halophosphate lamps.","1a - Lead and cadmium in ion selective electrodes including glass of pH electrodes.","1(b) - Lead as an alloying element: Continuously galvanised steel sheet containing up to 0,35% lead by weight  ","AX - Aland Islands","Resctionary","Product Operation","Instructions",null,"4-Nonylphenol, branched and linear, ethoxylated [substances with a linear and/or branched alkyl chain with a carbon number of 9 covalently bound in position 4 to phenol, ethoxylated covering UVCB- and well-defined substances, polymers and homologues, which include any of the individual isomers and/or combinations thereof]"]
["G - Extended Substance Declaration",null,"Unknown","cm","centimeter","g","gram","m^2","Square Meter","kg","CAGE Code","CAGE","IAEG03 - Organic Coating (Fuel Tank coating)","M-003 Aluminum and Its Alloys ",null,"EL2010_122_EU","Polybrominated diphenyl ethers (PBDEs)","1(e) - Mercury in single capped (compact) fluorescent lamps not exceeding (per burner):For general lighting purposes with circular or square structural shape and tube diameter less than or equal to 17 mm","2b - Mercury in straight fluorescent lamps for general purposes not exceeding 5 mg in triphosphate lamps with a normal lifetime.","1b - Lead anodes in electrochemical oxygen sensors.","2(a) - Lead as an alloying element: Aluminium for machining purposes with a lead content up to 2% by weight  ","AL - Albania","Other","Maintenance","1.Requester-Supplier",null,"Aluminosilicate Refractory Ceramic Fibres (Al-RCF) (fibres covered by index number 650-017-00-8 in Annex VI of Regulation (EC) No 1272/2008, and fulfilling the three following conditions: a) oxides of aluminium and silicon are the main components present (in the fibres) within variable concentration ranges b) fibres have a length weighted geometric mean diameter less two standard geometric errors of 6 or less micrometres  c) alkaline oxide and alkali earth oxide (Na2O+K2O+CaO+MgO+BaO) content less or equal to 18% by weight)"]
[null,null,null,"mm","meter","mg","kilogram","m^3","Cube Meter","g",null,null,"IAEG04 - Chromium Plating (Hard)","M-004 Copper and Its Alloys ",null,"EL2011_65_EU_ANNEX_IV","Chromium VI compounds","1(f) - Mercury in single capped (compact) fluorescent lamps not exceeding (per burner):For special purposes: 5 mg","2c - Mercury in straight fluorescent lamps for general purposes not exceeding 8 mg in triphosphate lamps with long lifetime.","1c - Lead, cadmium and mercury in infra-red light detectors.","2(b) - Lead as an alloying element: Aluminium with a lead content up to 1,5% by weight  ","DZ - Algeria",null,"Repair","2.Product-Group",null,"4-(1,1,3,3-tetramethylbutyl)phenol, ethoxylated [covering well-defined substances and UVCB substances, polymers and homologues]"]
[null,null,null,"mm^2","square mm",null,null,"cm","Centimeter","mg",null,null,"IAEG05 - Organic Coating (Bonding primer)","M-005 Magnesium and Its Alloys ",null,"EL2011_37_EU","Lead/lead compounds","1(g) - Mercury in single capped (compact) fluorescent lamps not exceeding (per burner):For general lighting purposes less than 30 W with a lifetime equal or above 20,000 h: 3.5 mg","3 - Mercury in straight fluorescent lamps for special\npurposes.","1d - Mercury in reference electrodes: low chloride mercury chloride, mercury sulphate and mercury oxide.","2(c) - Lead as an alloying element: Aluminium with a lead content up to 0,4% by weight  ","AS - American Samoa",null,"Overhaul/Refurbishment","3.Product-Statement",null,"5-Sec-butyl-2-(2,4-dimethylcyclohex-3-en-1-yl)-5-methyl-1,3-dioxane [1], 5-sec-butyl-2-(4,6-dimethylcyclohex-3-en-1-yl)-5-methyl-1,3-dioxane [2] [covering any of the individual isomers of [1] and [2] or any combination thereof]"]
[null,null,null,"cm^2","square cm",null,null,"cm^2","Square centimeter","unknown",null,null,"IAEG06 - Sealants (Organic polysulphide Sealing of structure)","M-006 Nickel and Its Alloys ",null,null,"Mercury/mercury compounds","2(b)(2) - Mercury in other fluorescent lamps not exceeding (per lamp):Non-linear halophosphate lamps (all diameters): 15 mg","4 - Mercury in other lamps not specifically mentioned in this Annex.","2 - Lead bearings in X-ray tubes.","3 - Lead as an alloying element: Copper alloy containing up to 4% lead by weight  ","AD - Andorra",null,null,"4.Substance-in-Product",null,"Individual isomers of (+/-)-1,7,7-trimethyl-3-[(4-methylphenyl)methylene]bicyclo[2.2.1]heptan-2-one (4-MBC) or any combination thereof (4-MBC)"]
[null,null,null,"m^2","square m",null,null,"cm^3","Cube centimeter",null,null,null,"IAEG07 - Paint","M-007 Zinc and Its Alloys",null,null,null,"4(e) - Mercury in metal halide lamps (MH)","5 - Lead in glass of cathode ray tubes, electronic\ncomponents and fluorescent tubes.","3 - Lead in electromagnetic radiation amplification devices: micro-channel plate and capillary plate.","4(a) - Lead as an alloying element: Lead as an alloying element in bearing shells and bushes  ","AO - Angola",null,null,"5.Substance-in-Process",null,"4-Heptylphenol, branched and linear [substances with a linear and/or branched alkyl chain with a carbon number of 7 covalently bound predominantly in position 4 to phenol, covering also UVCB- and well-defined substances which include any of the individual isomers or a combination thereof]"]
[null,null,null,"mm^3","cubic mm",null,null,"Liter",null,null,null,null,"IAEG07 - Etchants for surface preparation for adhesive bonding","M-008 Precious Metals ",null,null,null,"4(f) - Mercury in other discharge lamps for special purposes not specially mentioned in this Annex","6 - Lead as an alloying element in steel containing up to 0,35 % lead by weight, aluminium containing up to 0,4% lead by weight and as a copper alloy containing up to 4% lead by weight.","4 - Lead in glass frit of X-ray tubes and image intensifiers and lead in glass frit binder for assembly of gas lasers and for vacuum tubes that convert electromagnetic radiation into electrons.","4(b) - Lead as an alloying element: Bearing shells and bushes in engines, transmissions and air conditioning compressors  ","AI - Anguilla",null,null,"6.Attachment",null,"Orthoboric acid, sodium salt"]
[null,null,null,"l","liter",null,null,null,null,null,null,null,"IAEG08 - Bonding Pre-treatment","M-009 Other Non-ferrous Metals and Alloys",null,null,null,"5(a) - Lead in glass of cathode ray tubes","7a - Lead in high melting temperature type solders (i.e., lead based solder alloys containing 85% by weight or more lead)","5 - Lead in shielding for ionising radiation.","5 - Lead and lead compounds in components: Batteries  ","AQ - Antarctica",null,null,"7.Supplier-Authorization",null,"Perfluorohexane-1-sulphonic acid salts"]
[null,null,null,"cm^3","cubic cm",null,null,null,null,null,null,null,"IAEG09 - Anodizing of Magnesium alloys","M-010 Ceramics / Glass",null,null,"5(b) - Lead in glass of fluorescent tubes not exceeding 0.2% by weight","7b - Lead in solders for servers, storage and storage array systems, network infrastructure equipment for switching, signaling, transmission as well as network management for telecommunications","6 - Lead in X-ray test objects.","6 - Lead and lead compounds in components: Vibration dampers  ",{"$f":"(S11& \" - \"&T11)","v":"6 - Lead in X-ray test objects. - 6 - Lead and lead compounds in components: Vibration dampers  "},"AG - Antigua and Barbuda",null,null,"TermsOfUse",null,"Individual isomers of 1,6,7,8,9,14,15,16,17,17,18,18-dodecachloropentacyclo[12.2.1.16,9.02,13.05,10]octadeca-7,15-diene (Dechlorane Plus) or any combination thereof"]
[null,null,null,"m^3","cubic meter",null,null,null,null,null,null,null,"IAEG10 - Al/Al alloys deposition","M-011 Other Inorganic Materials",null,null,"6(a) - Lead as an alloying element in steel for machining\npurposes and in galvanized steel containing up to 0.35%\nlead by weight","7c - Lead in electronic ceramic parts (e.g., piezoelectronic devices)","7 - Lead stearate X-ray diffraction crystals.","7(a) - Lead and lead compounds in components: Vulcanising agents and stabilisers for elastomers in brake hoses, fuel hoses, air ventilation hoses, elastomer/metal parts in the chassis applications, and engine mountings  ","7 - Lead stearate X-ray diffraction crystals. - 7(a) - Lead and lead compounds in components: Vulcanising agents and stabilisers for elastomers in brake hoses, fuel hoses, air ventilation hoses, elastomer/metal parts in the chassis applications, and engine mountings  ","AR - Argentina",null,null,"Substances-List",null,"Tris(4-nonylphenyl, branched and linear) phosphite (TNPP)"]
[null,null,null,null,null,null,null,null,null,null,null,null,"IAEG11 - Chemical Conversion Coating of Mg alloys","M-010 Organic Materials",null,null,"6(b) - Lead as an alloying element in aluminium containing up to 0.4% lead by weight","8 - Cadmium and its compounds in electrical contacts and cadmium plating except for applications banned under Directive 91/338/EEC (1) amending Directive 76/769/EEC (2) relating to restrictions on the marketing and use of certain dangerous substances and preparations.","8 - Radioactive cadmium isotope source for portable X-ray fluorescence spectrometers.","7(b) - Lead and lead compounds in components: Vulcanising agents and stabilisers for elastomers in brake hoses, fuel hoses, air ventilation hoses, elastomer/metal parts in the chassis applications, and engine mountings containing up to 0,5% lead by weight  ","8 - Radioactive cadmium isotope source for portable X-ray fluorescence spectrometers. - 7(b) - Lead and lead compounds in components: Vulcanising agents and stabilisers for elastomers in brake hoses, fuel hoses, air ventilation hoses, elastomer/metal parts in the chassis applications, and engine mountings containing up to 0,5% lead by weight  ","AM - Armenia",null,null,"Use-Descriptor-List",null,"2,3,3,3-tetrafluoro-2-(heptafluoropropoxy)propionic acid"]
[null,null,null,null,null,null,null,null,null,null,null,null,"IAEG12 - Sacrificial paint or coating systems eg Sermetel W, Ipcote","M-012 PolyVinylChloride (PVC)",null,null,"6(c) - Copper alloy containing up to 4% lead by weight","9 - Hexavalent chromium as an anti-corrosion of the carbon steel cooling system in absorption refrigerators.","9 - Cadmium in helium-cadmium lasers.","7(c) - Lead and lead compounds in components: Bonding agents for elastomers in powertrain applications containing up to 0,5% lead by weight  ","9 - Cadmium in helium-cadmium lasers. - 7(c) - Lead and lead compounds in components: Bonding agents for elastomers in powertrain applications containing up to 0,5% lead by weight  ","AW - Aruba",null,null,null,null,"Salts and acyl halides of 2,3,3,3-tetrafluoro-2-(heptafluoropropoxy)propionic acid (covering any of their individual isomers and combinations thereof)"]
[null,null,null,null,null,null,null,null,null,null,null,null,"IAEG13 - Zn/Zn alloys plating","M-013 Thermoplastics",null,null,"7(a) - Lead in high melting temperature type solders (i.e., lead-based alloys containing 85% by weight or\nmore lead)","9b - Lead in lead-bronze bearing shells and bushes.","10 - Lead and cadmium in atomic absorption spectroscopy lamps.","8(a) - Lead and lead compounds in components: Lead in solders to attach electrical and electronic components to electronic circuit boards and lead in finishes on terminations of components other than electrolyte aluminium capacitors, on component pins and on electronic circuit boards  ","10 - Lead and cadmium in atomic absorption spectroscopy lamps. - 8(a) - Lead and lead compounds in components: Lead in solders to attach electrical and electronic components to electronic circuit boards and lead in finishes on terminations of components other than electrolyte aluminium capacitors, on component pins and on electronic circuit boards  ","AU - Australia",null,null,null,null,"Perfluorobutan sulfonic acid (PFBS) and its salts"]
[null,null,null,null,null,null,null,null,null,null,null,null,"IAEG14 -Decorative Chromium Plating","M-014 Other Plastics & Rubber",null,null,"7(b) - Lead in solders for servers, storage and storage array systems, network infrastructure equipment for switching, signalling, transmission, and network management for telecommunications","11 - Lead used in compliant pin connector systems.","11 - Lead in alloys as a superconductor and thermal conductor in MRI.","8(b) - Lead and lead compounds in components: Lead in solders in electrical applications other than soldering on electronic circuit boards or on glass  ","11 - Lead in alloys as a superconductor and thermal conductor in MRI. - 8(b) - Lead and lead compounds in components: Lead in solders in electrical applications other than soldering on electronic circuit boards or on glass  ","AT - Austria",null,null,null,null,"Inorganic ammonium salts"]
[null,null,null,null,null,null,null,null,null,null,null,null,"IAEG15 - Black Chromium plate","M-015 Other Organic Materials",null,null,"7(c)-I - Electrical and electronic components containing lead in a glass or ceramic other than dielectric ceramic in capacitors, e.g., piezoelectronic devices, or in a glass\nor ceramic matrix compound","12 - Lead as a coating material for the thermal conduction module c-ring.","12 - Lead and cadmium in metallic bonds creating superconducting magnetic circuits in MRI, SQUID, NMR (Nuclear Magnetic Resonance) or FTMS (Fourier Transform Mass Spectrometer) detectors. Expires on 30 June 2021.","8(c) - Lead and lead compounds in components: Lead in finishes on terminals of electrolyte aluminium capacitors  ","12 - Lead and cadmium in metallic bonds creating superconducting magnetic circuits in MRI, SQUID, NMR (Nuclear Magnetic Resonance) or FTMS (Fourier Transform Mass Spectrometer) detectors. Expires on 30 June 2021. - 8(c) - Lead and lead compounds in components: Lead in finishes on terminals of electrolyte aluminium capacitors  ","AZ - Azerbaijan",null,null,null,null,"2-(4-tert-butylbenzyl)propionaldehyde and its individual stereoisomers"]
[null,null,null,null,null,null,null,null,null,null,null,null,"IAEG16 - Anodizing of Titanium alloys",null,null,null,"7(c)-II - Lead in dielectric ceramic in capacitors for a rated voltage of 125 V AC or 250 V DC or higher","13 - Lead and cadmium in optical and filter glass.","13 - Lead in counterweights.","8(d) - Lead and lead compounds in components: Lead used in soldering on glass in mass airflow sensors  ","13 - Lead in counterweights. - 8(d) - Lead and lead compounds in components: Lead used in soldering on glass in mass airflow sensors  ","BS - Bahamas",null,null,null,null,"Medium-chain chlorinated paraffins (MCCP)"]
[null,null,null,null,null,null,null,null,null,null,null,null,"IAEG17 - Al/Al alloys plating",null,null,null,"7(c)-IV - Lead in PZT based dielectric ceramic materials for capacitors being part of integrated circuits or discrete semiconductors","14 - Lead in solders consisting of more than two elements for the connection between the pins and the package of microprocessors with a lead content of more than 80% and less than 85% by weight.","14 - Lead in single crystal piezoelectric materials for ultrasonic transducers.","8(e) - Lead and lead compounds in components: Lead in high melting temperature type solders (i.e. lead-based alloys containing 85 % by weight or more lead)  ","14 - Lead in single crystal piezoelectric materials for ultrasonic transducers. - 8(e) - Lead and lead compounds in components: Lead in high melting temperature type solders (i.e. lead-based alloys containing 85 % by weight or more lead)  ","BH - Bahrain",null,null,null,null,"Phenol, alkylation products (mainly in para position) with C12-rich branched alkylchains from propene oligomerisation (PDDP)"]
[null,null,null,null,null,null,null,null,null,null,null,null,"IAEG18 -\"Silicon modified aluminium slurry for high temperature diffusion coatings eg Sermaloy J and IPAL1041\"",null,null,null,"8(b) - Cadmium and its compounds in electrical contacts","15 - Lead in solders to complete a viable electrical connection\nbetween semiconductor die and carrier within integrated\ncircuit Flip Chip packages","15 - Lead in solders for bonding to ultrasonic transducers.","8(f) - Lead and lead compounds in components: Lead in compliant pin connector systems  ","15 - Lead in solders for bonding to ultrasonic transducers. - 8(f) - Lead and lead compounds in components: Lead in compliant pin connector systems  ","BD - Bangladesh",null,null,null,null,"Dioctyltin dilaurate, stannane, dioctyl-, bis(coco acyloxy) derivs., and any other stannane, dioctyl-, bis(fatty acyloxy) derivs. wherein C12 is the predominant carbon number of the fatty acyloxy moiety"]
[null,null,null,null,null,null,null,null,null,null,null,null,"IAEG19 - Other",null,null,null,"9 - Hexavalent chromium as an anticorrosion agent of the carbon steel cooling system in absorption refrigerators up to 0.75% by weight in the cooling solution","16 - Lead in linear incandescent lamps with silicate coated tubes.","16 - Mercury in very high accuracy capacitance and loss measurement bridges and in high frequency RF switches and relays in monitoring and control instruments not exceeding 20 mg of mercury per switch or relay.","8(g) - Lead and lead compounds in components: Lead in solders to complete a viable electrical connection between semiconductor die and carrier within integrated circuit flip chip packages  ","16 - Mercury in very high accuracy capacitance and loss measurement bridges and in high frequency RF switches and relays in monitoring and control instruments not exceeding 20 mg of mercury per switch or relay. - 8(g) - Lead and lead compounds in components: Lead in solders to complete a viable electrical connection between semiconductor die and carrier within integrated circuit flip chip packages  ","BB - Barbados"]
[null,null,null,null,null,null,null,null,null,null,null,null,null,null,null,null,"9(b) - Lead in bearing shells and bushes for refrigerantcontaining compressors for heating, ventilation, air conditioning and refrigeration (HVACR) applications","17 - Lead halide as radiant agent in High Intensity Discharge (HID) lamps used for professional reprography applications.","17 - Lead in solders in portable emergency defibrillators.","8(h) - Lead and lead compounds in components: Lead in solder to attach heat spreaders to the heat sink in power semiconductor assemblies with a chip size of at least 1 cm2 of projection area and a nominal current density of at least 1 A/mm2 of silicon chip area  ","17 - Lead in solders in portable emergency defibrillators. - 8(h) - Lead and lead compounds in components: Lead in solder to attach heat spreaders to the heat sink in power semiconductor assemblies with a chip size of at least 1 cm2 of projection area and a nominal current density of at least 1 A/mm2 of silicon chip area  ","BY - Belarus"]
[null,null,null,null,null,null,null,null,null,null,null,null,null,null,null,null,"13(a) - Lead in white glasses used for optical  applications","18 - Lead as activator in the fluorescent powder (1% lead by weight or less) of discharge lamps when used as sun tanning lamps containing phosphors such as BSP (BaSi2O5:Pb) as well as when used as specialty lamps for diazoprinting reprography, lithography, insect traps, photochemical and curing processes containing phosphors such as SMS ((Sr,Ba)2MgSi2O7:Pb).","18 - Lead in solders of high performance infrared imaging modules to detect in the range 8-14 micrometer.","8(i) - Lead and lead compounds in components: Lead in solders in electrical glazing applications on glass except for soldering in laminated glazing  ","18 - Lead in solders of high performance infrared imaging modules to detect in the range 8-14 micrometer. - 8(i) - Lead and lead compounds in components: Lead in solders in electrical glazing applications on glass except for soldering in laminated glazing  ","BE - Belgium"]
[null,null,null,null,null,null,null,null,null,null,null,null,null,null,null,null,"13(b) - Cadmium and lead in filter glasses and glasses used for reflectance standards","19 - Lead with PbBiSn-Hg and PbInSn-Hg in specific\ncompositions as main amalgam and with PbSn-Hg as auxiliary amalgam in very compact Energy Saving Lamps (ESL).","19 - Lead in Liquid crystal on silicon (LCoS) displays.","8(j) - Lead and lead compounds in components: Lead in solders for soldering in laminated glazing  ","19 - Lead in Liquid crystal on silicon (LCoS) displays. - 8(j) - Lead and lead compounds in components: Lead in solders for soldering in laminated glazing  ","BZ - Belize"]
[null,null,null,null,null,null,null,null,null,null,null,null,null,null,null,null,"15 - Lead in solders to complete a viable electrical connection between semiconductor die and carrier within integrated circuit flip chip packages","20 - Lead oxide in glass used for bonding front and rear substrates of flat fluorescent lamps used for Liquid Crystal Displays (LCD).","20 - Cadmium in X-ray measurement filters.","9 - Lead and lead compounds in components: Valve seats  ","20 - Cadmium in X-ray measurement filters. - 9 - Lead and lead compounds in components: Valve seats  ","BJ - Benin"]
[null,null,null,null,null,null,null,null,null,null,null,null,null,null,null,null,"17 - Lead halide as radiant agent in high intensity discharge  (HID) lamps used for professional reprography applications","21 - Lead and cadmium in printing inks for the application of  enamels on borosilicate glass.","21 - Cadmium in phosphor coatings in image intensifiers for X-ray images until 31 December 2019 and in spare parts for X-ray systems placed on the EU market before 1 January 2020.","10(a) - Lead and lead compounds in components: Electrical and electronic components which contain lead in a glass or ceramic, in a glass or ceramic matrix compound, in a glass-ceramic material, or in a glass-ceramic matrix compound. This exemption does not cover the use of lead in: - glass in bulbs and glaze of spark plugs, - dielectric ceramic materials of components listed under 10(b), 10(c) and 10(d).  ","21 - Cadmium in phosphor coatings in image intensifiers for X-ray images until 31 December 2019 and in spare parts for X-ray systems placed on the EU market before 1 January 2020. - 10(a) - Lead and lead compounds in components: Electrical and electronic components which contain lead in a glass or ceramic, in a glass or ceramic matrix compound, in a glass-ceramic material, or in a glass-ceramic matrix compound. This exemption does not cover the use of lead in: - glass in bulbs and glaze of spark plugs, - dielectric ceramic materials of components listed under 10(b), 10(c) and 10(d).  ","BM - Bermuda"]
[null,null,null,null,null,null,null,null,null,null,null,null,null,null,null,null,"18(b) - Lead as activator in the fluorescent powder (1% lead by weight or less) of discharge lamps when used as\nsun tanning lamps containing phosphors such as BSP\n(BaSi2O5:Pb)","23 - Lead in finishes of fine pitch components other than connectors with a pitch of 0.65 mm or less with NiFe lead frames and lead in finishes of fine pitch components other than connectors with a pitch of 0.65 mm or less with copper lead frames.","22 - Lead acetate marker for use in stereotactic head frames for use with CT and MRI and in positioning systems for gamma beam and particle therapy equipment. Expires on 30 June 2021.","10(b) - Lead and lead compounds in components: Lead in PZT based dielectric ceramic materials of capacitors being part of integrated circuits or discrete semiconductors  ","22 - Lead acetate marker for use in stereotactic head frames for use with CT and MRI and in positioning systems for gamma beam and particle therapy equipment. Expires on 30 June 2021. - 10(b) - Lead and lead compounds in components: Lead in PZT based dielectric ceramic materials of capacitors being part of integrated circuits or discrete semiconductors  ","BT - Bhutan"]
[null,null,null,null,null,null,null,null,null,null,null,null,null,null,null,null,"21 - Lead and cadmium in printing inks for the application of enamels on glasses, such as borosilicate and soda lime glasses","24- Lead in solders for the soldering to machined through  hole discoidal and planar array ceramic multilayer capacitors.","23 - Lead as an alloying element for bearings and wear surfaces in medical equipment exposed to ionising radiation. Expires on 30 June 2021.","10(c) - Lead and lead compounds in components: Lead in dielectric ceramic materials of capacitors with a rated voltage of less than 125 V AC or 250 V DC  ","23 - Lead as an alloying element for bearings and wear surfaces in medical equipment exposed to ionising radiation. Expires on 30 June 2021. - 10(c) - Lead and lead compounds in components: Lead in dielectric ceramic materials of capacitors with a rated voltage of less than 125 V AC or 250 V DC  ","BO - Bolivia (Plurinational State of)"]
[null,null,null,null,null,null,null,null,null,null,null,null,null,null,null,null,"24  - Lead in solders for the soldering to machined through hole discoidal and planar array ceramic multilayer capacitors","25 - Lead oxide in plasma display panels (PDP) and surface conduction electron emitter displays (SED) used in  structural elements; notably in the front and rear glass dielectric layer, the bus electrode, the black stripe, the address electrode, the barrier ribs, the seal frit and frit ring as well as in print pastes.","24 - Lead enabling vacuum tight connections between aluminium and steel in X-ray image intensifiers. Expires on 31 December 2019.","10(d) - Lead and lead compounds in components: Lead in the dielectric ceramic materials of capacitors compensating the temperature-related deviations of sensors in ultrasonic sonar systems  ","24 - Lead enabling vacuum tight connections between aluminium and steel in X-ray image intensifiers. Expires on 31 December 2019. - 10(d) - Lead and lead compounds in components: Lead in the dielectric ceramic materials of capacitors compensating the temperature-related deviations of sensors in ultrasonic sonar systems  ","BQ - Bonaire, Sint Eustatius and Saba"]
[null,null,null,null,null,null,null,null,null,null,null,null,null,null,null,null,"25 - Lead oxide in surface conduction electron emitter displays (SED) used in structural elements, notably in the seal frit and frit ring","26 - Lead oxide in the glass envelope of Black Light Blue (BLB) lamps.","25 - Lead in the surface coatings of pin connector systems requiring nonmagnetic connectors which are used durably at a temperature below -20°C under normal operating and storage conditions. Expires on 30 June 2021.","11 - Lead and lead compounds in components: Pyrotechnic initiators  ","25 - Lead in the surface coatings of pin connector systems requiring nonmagnetic connectors which are used durably at a temperature below -20°C under normal operating and storage conditions. Expires on 30 June 2021. - 11 - Lead and lead compounds in components: Pyrotechnic initiators  ","BA - Bosnia and Herzegovina"]
[null,null,null,null,null,null,null,null,null,null,null,null,null,null,null,null,"29 - Lead bound in crystal glass as defined in Annex I\n(Categories 1, 2, 3 and 4) of Council Directive 69/493/\nEEC","29 - Lead bound in crystal glass as defined in Annex I (Categories 1, 2, 3 and 4) of Council Directive 69/493/EEC.","26 - Lead in solders on printed circuit boards, termination coatings of electrical and electronic components and coatings of printed circuit boards, solders for connecting wires and cables, solders connecting transducers and sensors, that are used durably at a temperature below -20°C under normal operating and storage conditions. Expires on 30 June 2021.","12 - Lead and lead compounds in components: Lead-containing thermoelectric materials in automotive electrical applications to reduce CO2 emissions by recuperation of exhaust heat  ","26 - Lead in solders on printed circuit boards, termination coatings of electrical and electronic components and coatings of printed circuit boards, solders for connecting wires and cables, solders connecting transducers and sensors, that are used durably at a temperature below -20°C under normal operating and storage conditions. Expires on 30 June 2021. - 12 - Lead and lead compounds in components: Lead-containing thermoelectric materials in automotive electrical applications to reduce CO2 emissions by recuperation of exhaust heat  ","BW - Botswana"]
[null,null,null,null,null,null,null,null,null,null,null,null,null,null,null,null,"30 - Cadmium alloys as electrical/mechanical solder joints to electrical conductors located directly on the voice coil in transducers used in high-powered loudspeakers with sound pressure levels of 100 dB (A) and more","30 - Cadmium alloys as electrical/mechanical solder joints to electrical conductors located directly on the voice coil in transducers used in high-powered loudspeakers with sound pressure levels of 100 dB (A) and more.","27 - Lead in solders, termination coatings of electrical and electronic components and printed circuit boards, connections of electrical wires, shields and enclosed connectors, which are used in (a) magnetic fields within the sphere of 1 m radius around the isocenter of the magnet in medical magnetic resonance imaging equipment, including patient monitors designed to be used within this sphere, or (b) magnetic fields within 1 m distance from the external surfaces of cyclotron magnets, magnets for beam transport and beam direction control applied for particle therapy. Expires on 30 June 2020.","13(a) - Hexavalent chromium: Corrosion preventive coatings  ","27 - Lead in solders, termination coatings of electrical and electronic components and printed circuit boards, connections of electrical wires, shields and enclosed connectors, which are used in (a) magnetic fields within the sphere of 1 m radius around the isocenter of the magnet in medical magnetic resonance imaging equipment, including patient monitors designed to be used within this sphere, or (b) magnetic fields within 1 m distance from the external surfaces of cyclotron magnets, magnets for beam transport and beam direction control applied for particle therapy. Expires on 30 June 2020. - 13(a) - Hexavalent chromium: Corrosion preventive coatings  ","BV - Bouvet Island"]
[null,null,null,null,null,null,null,null,null,null,null,null,null,null,null,null,"31 -Lead in soldering materials in mercury free flat fluorescent lamps (which e.g., are used for liquid crystal displays, design or industrial lighting)","31 - Lead in soldering materials in mercury free flat fluorescent lamps (which e.g., are used for liquid crystal displays, design or industrial lighting).","28 - Lead in solders for mounting cadmium telluride and cadmium zinc telluride digital array detectors to printed circuit boards. Expires on 31 December 2017.","13(b) - Hexavalent chromium: Corrosion preventive coatings related to bolt and nut assemblies for chassis applications  ","28 - Lead in solders for mounting cadmium telluride and cadmium zinc telluride digital array detectors to printed circuit boards. Expires on 31 December 2017. - 13(b) - Hexavalent chromium: Corrosion preventive coatings related to bolt and nut assemblies for chassis applications  ","BR - Brazil"]
[null,null,null,null,null,null,null,null,null,null,null,null,null,null,null,null,"32 - Lead oxide in seal frit used for making window\nassemblies for Argon and Krypton laser tubes","32 - Lead oxide in seal frit used for making window\nassemblies for Argon and Krypton laser tubes","29 - Lead in alloys, as a superconductor or thermal conductor, used in cryo-cooler cold heads and/or in cryo-cooled cold probes and/or in cryo-cooled equipotential bonding systems, in medical devices (category 8) and/or in industrial monitoring and control instruments. Expires on 30 June 2021.","14 - Hexavalent chromium: As an anti-corrosion agent of the carbon steel cooling system in absorption refrigerators in motor-caravans up to 0,75 weight-% in the cooling solution except where the use of other cooling technologies is practicable (i.e. available on the market for the application in motor caravans) and does not lead to negative environmental, health and/or consumer safety impacts  ","29 - Lead in alloys, as a superconductor or thermal conductor, used in cryo-cooler cold heads and/or in cryo-cooled cold probes and/or in cryo-cooled equipotential bonding systems, in medical devices (category 8) and/or in industrial monitoring and control instruments. Expires on 30 June 2021. - 14 - Hexavalent chromium: As an anti-corrosion agent of the carbon steel cooling system in absorption refrigerators in motor-caravans up to 0,75 weight-% in the cooling solution except where the use of other cooling technologies is practicable (i.e. available on the market for the application in motor caravans) and does not lead to negative environmental, health and/or consumer safety impacts  ","IO - British Indian Ocean Territory"]
[null,null,null,null,null,null,null,null,null,null,null,null,null,null,null,null,"33 - Lead in solders for the soldering of thin copper wires of 100 micrometer diameter and less in power transformers","33 - Lead in solders for the soldering of thin copper wires of 100 μm diameter and less in power transformers.","30 - Hexavalent chromium in alkali dispensers used to create photocathodes in X-ray image intensifiers until 31 December 2019 and in spare parts for X-ray systems placed on the EU market before 1 January 2020.","15(a) - Mercury: Discharge lamps for headlight application  ","30 - Hexavalent chromium in alkali dispensers used to create photocathodes in X-ray image intensifiers until 31 December 2019 and in spare parts for X-ray systems placed on the EU market before 1 January 2020. - 15(a) - Mercury: Discharge lamps for headlight application  ","BN - Brunei Darussalam"]
[null,null,null,null,null,null,null,null,null,null,null,null,null,null,null,null,"34 - Lead in cermet-based trimmer potentiometer elements","34 - Lead in cermet-based trimmer potentiometer elements","31 -Lead, cadmium and hexavalent chromium in reused spare parts, recovered from medical devices placed on the market before 22 July 2014 and used in category 8 equipment placed on the market before 22 July 2021, provided that reuse takes place in auditable closed-loop business-to-business return systems, and that the reuse of parts is notified to the consumer. Expires on 21 July 2021.","15(b) - Mercury: Fluorescent tubes used in instrument panel displays  ","31 -Lead, cadmium and hexavalent chromium in reused spare parts, recovered from medical devices placed on the market before 22 July 2014 and used in category 8 equipment placed on the market before 22 July 2021, provided that reuse takes place in auditable closed-loop business-to-business return systems, and that the reuse of parts is notified to the consumer. Expires on 21 July 2021. - 15(b) - Mercury: Fluorescent tubes used in instrument panel displays  ","BG - Bulgaria"]
[null,null,null,null,null,null,null,null,null,null,null,null,null,null,null,null,"37 - Lead in the plating layer of high voltage diodes on the basis of a zinc borate glass body","37 - Lead in the plating layer of high voltage diodes on the  basis of a zinc borate glass body.","32 - Lead in solders on printed circuit boards of detectors and data acquisition units for Positron Emission Tomographs which are integrated into Magnetic Resonance Imaging equipment. Expires on 31 December 2019.","16 - Cadmium: Batteries for electrical vehicles  ","32 - Lead in solders on printed circuit boards of detectors and data acquisition units for Positron Emission Tomographs which are integrated into Magnetic Resonance Imaging equipment. Expires on 31 December 2019. - 16 - Cadmium: Batteries for electrical vehicles  ","BF - Burkina Faso"]
[null,null,null,null,null,null,null,null,null,null,null,null,null,null,null,null,"38 - Cadmium and cadmium oxide in thick film pastes used on aluminium bonded beryllium oxide","38 - Cadmium and cadmium oxide in thick film pastes used on aluminium bonded beryllium oxide.","33 - Lead in solders on populated printed circuit boards used in Directive 93/42/EEC class IIa and IIb mobile medical devices other than portable emergency defibrillators. Expires on 30 June 2016 for class IIa and on 31 December 2020 for class IIb.",null,"33 - Lead in solders on populated printed circuit boards used in Directive 93/42/EEC class IIa and IIb mobile medical devices other than portable emergency defibrillators. Expires on 30 June 2016 for class IIa and on 31 December 2020 for class IIb. - ","BI - Burundi"]
[null,null,null,null,null,null,null,null,null,null,null,null,null,null,null,null,"39 - Cadmium in colour converting II-VI LEDs (less than\n10 microgram Cd per mm 2 of light-emitting area) for\nuse in solid state illumination or display systems","39 - Cadmium in colour-converting II-VI LEDs (<10 μg Cd per mm 2 of light-emitting area) for use in solid state illumination or display systems","34 - Lead as an activator in the fluorescent powder of discharge lamps when used for extracorporeal photopheresis lamps containing BSP (BaSi2O5:Pb) phosphors. Expires on 22 July 2021.",null,"34 - Lead as an activator in the fluorescent powder of discharge lamps when used for extracorporeal photopheresis lamps containing BSP (BaSi2O5:Pb) phosphors. Expires on 22 July 2021. - ","KH - Cambodia"]
[null,null,null,null,null,null,null,null,null,null,null,null,null,null,null,null,null,null,"35 - Mercury in cold cathode fluorescent lamps for back-lighting liquid crystal displays, not exceeding 5 mg per lamp, used in industrial monitoring and control instruments placed on the market before 22 July 2017. Expires on 21 July 2024.",null,"35 - Mercury in cold cathode fluorescent lamps for back-lighting liquid crystal displays, not exceeding 5 mg per lamp, used in industrial monitoring and control instruments placed on the market before 22 July 2017. Expires on 21 July 2024. - ","CM - Cameroon"]
[null,null,null,null,null,null,null,null,null,null,null,null,null,null,null,null,null,null,"36 - Lead used in other than C-press compliant pin connector systems for industrial monitoring and control instruments. Expires on 31 December 2020. May be used after that date in spare parts for industrial monitoring and control instruments placed on the market before 1 January 2021.",null,"36 - Lead used in other than C-press compliant pin connector systems for industrial monitoring and control instruments. Expires on 31 December 2020. May be used after that date in spare parts for industrial monitoring and control instruments placed on the market before 1 January 2021. - ","CA - Canada"]
[null,null,null,null,null,null,null,null,null,null,null,null,null,null,null,null,null,null,"37 - Lead in platinized platinum electrodes used for conductivity measurements where at least one of the following conditions applies: (a) wide-range measurements with a conductivity range covering more than 1 order of magnitude (e.g. range between 0.1 mS/m and 5 mS/m) in laboratory applications for unknown concentrations; (b) measurements of solutions where an accuracy of +/– 1 % of the sample range and where high corrosion resistance of the electrode are required for any of the following: (i) solutions with an acidity less than pH 1; (ii) solutions with an alkalinity greater than pH 13; (iii) corrosive solutions containing halogen gas; (c) measurements of conductivities above 100 mS/m that must be performed with portable instruments. Expires on 31 December 2018. ",null,"37 - Lead in platinized platinum electrodes used for conductivity measurements where at least one of the following conditions applies: (a) wide-range measurements with a conductivity range covering more than 1 order of magnitude (e.g. range between 0.1 mS/m and 5 mS/m) in laboratory applications for unknown concentrations; (b) measurements of solutions where an accuracy of +/– 1 % of the sample range and where high corrosion resistance of the electrode are required for any of the following: (i) solutions with an acidity less than pH 1; (ii) solutions with an alkalinity greater than pH 13; (iii) corrosive solutions containing halogen gas; (c) measurements of conductivities above 100 mS/m that must be performed with portable instruments. Expires on 31 December 2018.  - ","CV - Cabo Verde"]
[null,null,null,null,null,null,null,null,null,null,null,null,null,null,null,null,null,null,"38 - Lead in solder in one interface of large area stacked die elements with more than 500 interconnects per interface which are used in X-ray detectors of computed tomography and X-ray systems. Expires on 31 December 2019. May be used after that date in spare parts for CT and X-ray systems placed on the market before 1 January 2020.",null,"38 - Lead in solder in one interface of large area stacked die elements with more than 500 interconnects per interface which are used in X-ray detectors of computed tomography and X-ray systems. Expires on 31 December 2019. May be used after that date in spare parts for CT and X-ray systems placed on the market before 1 January 2020. - ","KY - Cayman Islands"]
[null,null,null,null,null,null,null,null,null,null,null,null,null,null,null,null,null,null,"39 - Lead in micro-channel plates (MCPs) used in equipment where at least one of the following properties is present: (a) a compact size of the detector for electrons or ions, where the space for the detector is limited to a maximum of 3 mm/MCP (detector thickness + space for installation of the MCP), a maximum of 6 mm in total, and an alternative design yielding more space for the detector is scientifically and technically impracticable; (b) a two-dimensional spatial resolution for detecting electrons or ions, where at least one of the following applies: (i) a response time shorter than 25 ns; (ii) a sample detection area larger than 149 mm2; (iii) a multiplication factor larger than 1.3 × 103. (c) a response time shorter than 5 ns for detecting electrons or ions; (d) a sample detection area larger than 314 mm2 for detecting electrons or ions; (e) a multiplication factor larger than 4.0 × 107. The exemption expires on the following dates: (a) 21 July 2021 for medical devices and monitoring and control instruments; (b) 21 July 2023 for in-vitro diagnostic medical devices; (c) 21 July 2024 for industrial monitoring and control instruments.",null,"39 - Lead in micro-channel plates (MCPs) used in equipment where at least one of the following properties is present: (a) a compact size of the detector for electrons or ions, where the space for the detector is limited to a maximum of 3 mm/MCP (detector thickness + space for installation of the MCP), a maximum of 6 mm in total, and an alternative design yielding more space for the detector is scientifically and technically impracticable; (b) a two-dimensional spatial resolution for detecting electrons or ions, where at least one of the following applies: (i) a response time shorter than 25 ns; (ii) a sample detection area larger than 149 mm2; (iii) a multiplication factor larger than 1.3 × 103. (c) a response time shorter than 5 ns for detecting electrons or ions; (d) a sample detection area larger than 314 mm2 for detecting electrons or ions; (e) a multiplication factor larger than 4.0 × 107. The exemption expires on the following dates: (a) 21 July 2021 for medical devices and monitoring and control instruments; (b) 21 July 2023 for in-vitro diagnostic medical devices; (c) 21 July 2024 for industrial monitoring and control instruments. - ","CF - Central African Republic"]
[null,null,null,null,null,null,null,null,null,null,null,null,null,null,null,null,null,null,"40 - Lead in dielectric ceramic in capacitors for a rated voltage of less than 125 V AC or 250 V DC for industrial monitoring and control instruments. Expires on 31 December 2020. May be used after that date in spare parts for industrial monitoring and control instruments placed on the market before 1 January 2021.",null,"40 - Lead in dielectric ceramic in capacitors for a rated voltage of less than 125 V AC or 250 V DC for industrial monitoring and control instruments. Expires on 31 December 2020. May be used after that date in spare parts for industrial monitoring and control instruments placed on the market before 1 January 2021. - ","TD - Chad"]
[null,null,null,null,null,null,null,null,null,null,null,null,null,null,null,null,null,null,null,null," - ","CL - Chile"]
[null,null,null,null,null,null,null,null,null,null,null,null,null,null,null,null,null,null,null,null," - ","CN - China"]
[null,null,null,null,null,null,null,null,null,null,null,null,null,null,null,null,null,null,null,null," - ","CX - Christmas Island"]
[null,null,null,null,null,null,null,null,null,null,null,null,null,null,null,null,null,null,null,null," - ","CC - Cocos (Keeling) Islands"]
[null,null,null,null,null,null,null,null,null,null,null,null,null,null,null,null,null,null,null,null," - ","CO - Colombia"]
[null,null,null,null,null,null,null,null,null,null,null,null,null,null,null,null,null,null,null,null," - ","KM - Comoros"]
[null,null,null,null,null,null,null,null,null,null,null,null,null,null,null,null,null,null,null,null," - ","CG - Congo"]
[null,null,null,null,null,null,null,null,null,null,null,null,null,null,null,null,null,null,null,null," - ","CD - Congo (Democratic Republic of the)"]
[null,null,null,null,null,null,null,null,null,null,null,null,null,null,null,null,null,null,null,null," - ","CK - Cook Islands"]
[null,null,null,null,null,null,null,null,null,null,null,null,null,null,null,null,null,null,null,null," - ","CR - Costa Rica"]
[null,null,null,null,null,null,null,null,null,null,null,null,null,null,null,null,null,null,null,null," - ","CI - Cote d'Ivoire"]
[null,null,null,null,null,null,null,null,null,null,null,null,null,null,null,null,null,null,null,null," - ","HR - Croatia"]
[null,null,null,null,null,null,null,null,null,null,null,null,null,null,null,null,null,null,null,null," - ","CU - Cuba"]
[null,null,null,null,null,null,null,null,null,null,null,null,null,null,null,null,null,null,null,null," - ","CW - Curacao !Curaçao"]
[null,null,null,null,null,null,null,null,null,null,null,null,null,null,null,null,null,null,null,null," - ","CY - Cyprus"]
[null,null,null,null,null,null,null,null,null,null,null,null,null,null,null,null,null,null,null,null," - ","CZ - Czech Republic"]
[null,null,null,null,null,null,null,null,null,null,null,null,null,null,null,null,null,null,null,null," - ","DK - Denmark"]
[null,null,null,null,null,null,null,null,null,null,null,null,null,null,null,null,null,null,null,null," - ","DJ - Djibouti"]
[null,null,null,null,null,null,null,null,null,null,null,null,null,null,null,null,null,null,null,null," - ","DM - Dominica"]
[null,null,null,null,null,null,null,null,null,null,null,null,null,null,null,null,null,null,null,null," - ","DO - Dominican Republic"]
[null,null,null,null,null,null,null,null,null,null,null,null,null,null,null,null,null,null,null,null,{"$f":"(S66& \" - \"&T66)","v":" - "},"EC - Ecuador"]
[null,null,null,null,null,null,null,null,null,null,null,null,null,null,null,null,null,null,null,null," - ","EG - Egypt"]
[null,null,null,null,null,null,null,null,null,null,null,null,null,null,null,null,null,null,null,null," - ","SV - El Salvador"]
[null,null,null,null,null,null,null,null,null,null,null,null,null,null,null,null,null,null,null,null," - ","GQ - Equatorial Guinea"]
[null,null,null,null,null,null,null,null,null,null,null,null,null,null,null,null,null,null,null,null," - ","ER - Eritrea"]
[null,null,null,null,null,null,null,null,null,null,null,null,null,null,null,null,null,null,null,null," - ","EE - Estonia"]
[null,null,null,null,null,null,null,null,null,null,null,null,null,null,null,null,null,null,null,null," - ","ET - Ethiopia"]
[null,null,null,null,null,null,null,null,null,null,null,null,null,null,null,null,null,null,null,null," - ","FK - Falkland Islands (Malvinas)"]
[null,null,null,null,null,null,null,null,null,null,null,null,null,null,null,null,null,null,null,null," - ","FO - Faroe Islands"]
[null,null,null,null,null,null,null,null,null,null,null,null,null,null,null,null,null,null,null,null," - ","FJ - Fiji"]
[null,null,null,null,null,null,null,null,null,null,null,null,null,null,null,null,null,null,null,null," - ","FI - Finland"]
[null,null,null,null,null,null,null,null,null,null,null,null,null,null,null,null,null,null,null,null," - ","FR - France"]
[null,null,null,null,null,null,null,null,null,null,null,null,null,null,null,null,null,null,null,null," - ","GF - French Guiana"]
[null,null,null,null,null,null,null,null,null,null,null,null,null,null,null,null,null,null,null,null," - ","PF - French Polynesia"]
[null,null,null,null,null,null,null,null,null,null,null,null,null,null,null,null,null,null,null,null," - ","TF - French Southern Territories"]
[null,null,null,null,null,null,null,null,null,null,null,null,null,null,null,null,null,null,null,null," - ","GA - Gabon"]
[null,null,null,null,null,null,null,null,null,null,null,null,null,null,null,null,null,null,null,null," - ","GM - Gambia"]
[null,null,null,null,null,null,null,null,null,null,null,null,null,null,null,null,null,null,null,null," - ","GE - Georgia"]
[null,null,null,null,null,null,null,null,null,null,null,null,null,null,null,null,null,null,null,null," - ","DE - Germany"]
[null,null,null,null,null,null,null,null,null,null,null,null,null,null,null,null,null,null,null,null," - ","GH - Ghana"]
[null,null,null,null,null,null,null,null,null,null,null,null,null,null,null,null,null,null,null,null," - ","GI - Gibraltar"]
[null,null,null,null,null,null,null,null,null,null,null,null,null,null,null,null,null,null,null,null," - ","GR - Greece"]
[null,null,null,null,null,null,null,null,null,null,null,null,null,null,null,null,null,null,null,null," - ","GL - Greenland"]
[null,null,null,null,null,null,null,null,null,null,null,null,null,null,null,null,null,null,null,null," - ","GD - Grenada"]
[null,null,null,null,null,null,null,null,null,null,null,null,null,null,null,null,null,null,null,null," - ","GP - Guadeloupe"]
[null,null,null,null,null,null,null,null,null,null,null,null,null,null,null,null,null,null,null,null," - ","GU - Guam"]
[null,null,null,null,null,null,null,null,null,null,null,null,null,null,null,null,null,null,null,null," - ","GT - Guatemala"]
[null,null,null,null,null,null,null,null,null,null,null,null,null,null,null,null,null,null,null,null," - ","GG - Guernsey"]
[null,null,null,null,null,null,null,null,null,null,null,null,null,null,null,null,null,null,null,null," - ","GN - Guinea"]
[null,null,null,null,null,null,null,null,null,null,null,null,null,null,null,null,null,null,null,null," - ","GW - Guinea-Bissau"]
[null,null,null,null,null,null,null,null,null,null,null,null,null,null,null,null,null,null,null,null," - ","GY - Guyana"]
[null,null,null,null,null,null,null,null,null,null,null,null,null,null,null,null,null,null,null,null," - ","HT - Haiti"]
[null,null,null,null,null,null,null,null,null,null,null,null,null,null,null,null,null,null,null,null," - ","HM - Heard Island and McDonald Islands"]
[null,null,null,null,null,null,null,null,null,null,null,null,null,null,null,null,null,null,null,null," - ","VA - Holy See"]
[null,null,null,null,null,null,null,null,null,null,null,null,null,null,null,null,null,null,null,null," - ","HN - Honduras"]
[null,null,null,null,null,null,null,null,null,null,null,null,null,null,null,null,null,null,null,null," - ","HK - Hong Kong"]
[null,null,null,null,null,null,null,null,null,null,null,null,null,null,null,null,null,null,null,null," - ","HU - Hungary"]
[null,null,null,null,null,null,null,null,null,null,null,null,null,null,null,null,null,null,null,null," - ","IS - Iceland"]
[null,null,null,null,null,null,null,null,null,null,null,null,null,null,null,null,null,null,null,null," - ","IN - India"]
[null,null,null,null,null,null,null,null,null,null,null,null,null,null,null,null,null,null,null,null," - ","ID - Indonesia"]
[null,null,null,null,null,null,null,null,null,null,null,null,null,null,null,null,null,null,null,null," - ","IR - Iran (Islamic Republic of)"]
[null,null,null,null,null,null,null,null,null,null,null,null,null,null,null,null,null,null,null,null," - ","IQ - Iraq"]
[null,null,null,null,null,null,null,null,null,null,null,null,null,null,null,null,null,null,null,null," - ","IE - Ireland"]
[null,null,null,null,null,null,null,null,null,null,null,null,null,null,null,null,null,null,null,null," - ","IM - Isle of Man"]
[null,null,null,null,null,null,null,null,null,null,null,null,null,null,null,null,null,null,null,null," - ","IL - Israel"]
[null,null,null,null,null,null,null,null,null,null,null,null,null,null,null,null,null,null,null,null," - ","IT - Italy"]
[null,null,null,null,null,null,null,null,null,null,null,null,null,null,null,null,null,null,null,null," - ","JM - Jamaica"]
[null,null,null,null,null,null,null,null,null,null,null,null,null,null,null,null,null,null,null,null," - ","JP - Japan"]
[null,null,null,null,null,null,null,null,null,null,null,null,null,null,null,null,null,null,null,null," - ","JE - Jersey"]
[null,null,null,null,null,null,null,null,null,null,null,null,null,null,null,null,null,null,null,null," - ","JO - Jordan"]
[null,null,null,null,null,null,null,null,null,null,null,null,null,null,null,null,null,null,null,null," - ","KZ - Kazakhstan"]
[null,null,null,null,null,null,null,null,null,null,null,null,null,null,null,null,null,null,null,null," - ","KE - Kenya"]
[null,null,null,null,null,null,null,null,null,null,null,null,null,null,null,null,null,null,null,null," - ","KI - Kiribati"]
[null,null,null,null,null,null,null,null,null,null,null,null,null,null,null,null,null,null,null,null," - ","KP - Korea (Democratic People's Republic of)"]
[null,null,null,null,null,null,null,null,null,null,null,null,null,null,null,null,null,null,null,null," - ","KR - Korea (Republic of)"]
[null,null,null,null,null,null,null,null,null,null,null,null,null,null,null,null,null,null,null,null," - ","KW - Kuwait"]
[null,null,null,null,null,null,null,null,null,null,null,null,null,null,null,null,null,null,null,null," - ","KG - Kyrgyzstan"]
[null,null,null,null,null,null,null,null,null,null,null,null,null,null,null,null,null,null,null,null," - ","LA - Lao People's Democratic Republic"]
[null,null,null,null,null,null,null,null,null,null,null,null,null,null,null,null,null,null,null,null," - ","LV - Latvia"]
[null,null,null,null,null,null,null,null,null,null,null,null,null,null,null,null,null,null,null,null," - ","LB - Lebanon"]
[null,null,null,null,null,null,null,null,null,null,null,null,null,null,null,null,null,null,null,null," - ","LS - Lesotho"]
[null,null,null,null,null,null,null,null,null,null,null,null,null,null,null,null,null,null,null,null," - ","LR - Liberia"]
[null,null,null,null,null,null,null,null,null,null,null,null,null,null,null,null,null,null,null,null," - ","LY - Libya"]
[null,null,null,null,null,null,null,null,null,null,null,null,null,null,null,null,null,null,null,null," - ","LI - Liechtenstein"]
[null,null,null,null,null,null,null,null,null,null,null,null,null,null,null,null,null,null,null,null,{"$f":"(S130& \" - \"&T130)","v":" - "},"LT - Lithuania"]
[null,null,null,null,null,null,null,null,null,null,null,null,null,null,null,null,null,null,null,null," - ","LU - Luxembourg"]
[null,null,null,null,null,null,null,null,null,null,null,null,null,null,null,null,null,null,null,null," - ","MO - Macao"]
[null,null,null,null,null,null,null,null,null,null,null,null,null,null,null,null,null,null,null,null," - ","MK - Macedonia (the former Yugoslav Republic of)"]
[null,null,null,null,null,null,null,null,null,null,null,null,null,null,null,null,null,null,null,null," - ","MG - Madagascar"]
[null,null,null,null,null,null,null,null,null,null,null,null,null,null,null,null,null,null,null,null," - ","MW - Malawi"]
[null,null,null,null,null,null,null,null,null,null,null,null,null,null,null,null,null,null,null,null," - ","MY - Malaysia"]
[null,null,null,null,null,null,null,null,null,null,null,null,null,null,null,null,null,null,null,null," - ","MV - Maldives"]
[null,null,null,null,null,null,null,null,null,null,null,null,null,null,null,null,null,null,null,null," - ","ML - Mali"]
[null,null,null,null,null,null,null,null,null,null,null,null,null,null,null,null,null,null,null,null," - ","MT - Malta"]
[null,null,null,null,null,null,null,null,null,null,null,null,null,null,null,null,null,null,null,null," - ","MH - Marshall Islands"]
[null,null,null,null,null,null,null,null,null,null,null,null,null,null,null,null,null,null,null,null," - ","MQ - Martinique"]
[null,null,null,null,null,null,null,null,null,null,null,null,null,null,null,null,null,null,null,null," - ","MR - Mauritania"]
[null,null,null,null,null,null,null,null,null,null,null,null,null,null,null,null,null,null,null,null," - ","MU - Mauritius"]
[null,null,null,null,null,null,null,null,null,null,null,null,null,null,null,null,null,null,null,null," - ","YT - Mayotte"]
[null,null,null,null,null,null,null,null,null,null,null,null,null,null,null,null,null,null,null,null," - ","MX - Mexico"]
[null,null,null,null,null,null,null,null,null,null,null,null,null,null,null,null,null,null,null,null," - ","FM - Micronesia (Federated States of)"]
[null,null,null,null,null,null,null,null,null,null,null,null,null,null,null,null,null,null,null,null," - ","MD - Moldova (Republic of)"]
[null,null,null,null,null,null,null,null,null,null,null,null,null,null,null,null,null,null,null,null," - ","MC - Monaco"]
[null,null,null,null,null,null,null,null,null,null,null,null,null,null,null,null,null,null,null,null," - ","MN - Mongolia"]
[null,null,null,null,null,null,null,null,null,null,null,null,null,null,null,null,null,null,null,null," - ","ME - Montenegro"]
[null,null,null,null,null,null,null,null,null,null,null,null,null,null,null,null,null,null,null,null," - ","MS - Montserrat"]
[null,null,null,null,null,null,null,null,null,null,null,null,null,null,null,null,null,null,null,null," - ","MA - Morocco"]
[null,null,null,null,null,null,null,null,null,null,null,null,null,null,null,null,null,null,null,null," - ","MZ - Mozambique"]
[null,null,null,null,null,null,null,null,null,null,null,null,null,null,null,null,null,null,null,null," - ","MM - Myanmar"]
[null,null,null,null,null,null,null,null,null,null,null,null,null,null,null,null,null,null,null,null," - ","NA - Namibia"]
[null,null,null,null,null,null,null,null,null,null,null,null,null,null,null,null,null,null,null,null," - ","NR - Nauru"]
[null,null,null,null,null,null,null,null,null,null,null,null,null,null,null,null,null,null,null,null," - ","NP - Nepal"]
[null,null,null,null,null,null,null,null,null,null,null,null,null,null,null,null,null,null,null,null," - ","NL - Netherlands"]
[null,null,null,null,null,null,null,null,null,null,null,null,null,null,null,null,null,null,null,null," - ","NC - New Caledonia"]
[null,null,null,null,null,null,null,null,null,null,null,null,null,null,null,null,null,null,null,null," - ","NZ - New Zealand"]
[null,null,null,null,null,null,null,null,null,null,null,null,null,null,null,null,null,null,null,null," - ","NI - Nicaragua"]
[null,null,null,null,null,null,null,null,null,null,null,null,null,null,null,null,null,null,null,null," - ","NE - Niger"]
[null,null,null,null,null,null,null,null,null,null,null,null,null,null,null,null,null,null,null,null," - ","NG - Nigeria"]
[null,null,null,null,null,null,null,null,null,null,null,null,null,null,null,null,null,null,null,null," - ","NU - Niue"]
[null,null,null,null,null,null,null,null,null,null,null,null,null,null,null,null,null,null,null,null," - ","NF - Norfolk Island"]
[null,null,null,null,null,null,null,null,null,null,null,null,null,null,null,null,null,null,null,null," - ","MP - Northern Mariana Islands"]
[null,null,null,null,null,null,null,null,null,null,null,null,null,null,null,null,null,null,null,null," - ","NO - Norway"]
[null,null,null,null,null,null,null,null,null,null,null,null,null,null,null,null,null,null,null,null," - ","OM - Oman"]
[null,null,null,null,null,null,null,null,null,null,null,null,null,null,null,null,null,null,null,null," - ","PK - Pakistan"]
[null,null,null,null,null,null,null,null,null,null,null,null,null,null,null,null,null,null,null,null," - ","PW - Palau"]
[null,null,null,null,null,null,null,null,null,null,null,null,null,null,null,null,null,null,null,null," - ","PS - Palestine, State of"]
[null,null,null,null,null,null,null,null,null,null,null,null,null,null,null,null,null,null,null,null," - ","PA - Panama"]
[null,null,null,null,null,null,null,null,null,null,null,null,null,null,null,null,null,null,null,null," - ","PG - Papua New Guinea"]
[null,null,null,null,null,null,null,null,null,null,null,null,null,null,null,null,null,null,null,null," - ","PY - Paraguay"]
[null,null,null,null,null,null,null,null,null,null,null,null,null,null,null,null,null,null,null,null," - ","PE - Peru"]
[null,null,null,null,null,null,null,null,null,null,null,null,null,null,null,null,null,null,null,null," - ","PH - Philippines"]
[null,null,null,null,null,null,null,null,null,null,null,null,null,null,null,null,null,null,null,null," - ","PN - Pitcairn"]
[null,null,null,null,null,null,null,null,null,null,null,null,null,null,null,null,null,null,null,null," - ","PL - Poland"]
[null,null,null,null,null,null,null,null,null,null,null,null,null,null,null,null,null,null,null,null," - ","PT - Portugal"]
[null,null,null,null,null,null,null,null,null,null,null,null,null,null,null,null,null,null,null,null," - ","PR - Puerto Rico"]
[null,null,null,null,null,null,null,null,null,null,null,null,null,null,null,null,null,null,null,null," - ","QA - Qatar"]
[null,null,null,null,null,null,null,null,null,null,null,null,null,null,null,null,null,null,null,null," - ","RE - Reunion"]
[null,null,null,null,null,null,null,null,null,null,null,null,null,null,null,null,null,null,null,null," - ","RO - Romania"]
[null,null,null,null,null,null,null,null,null,null,null,null,null,null,null,null,null,null,null,null," - ","RU - Russian Federation"]
[null,null,null,null,null,null,null,null,null,null,null,null,null,null,null,null,null,null,null,null," - ","RW - Rwanda"]
[null,null,null,null,null,null,null,null,null,null,null,null,null,null,null,null,null,null,null,null," - ","BL - Saint Barthelemy"]
[null,null,null,null,null,null,null,null,null,null,null,null,null,null,null,null,null,null,null,null," - ","SH - Saint Helena, Ascension and Tristan da Cunha"]
[null,null,null,null,null,null,null,null,null,null,null,null,null,null,null,null,null,null,null,null," - ","KN - Saint Kitts and Nevis"]
[null,null,null,null,null,null,null,null,null,null,null,null,null,null,null,null,null,null,null,null," - ","LC - Saint Lucia"]
[null,null,null,null,null,null,null,null,null,null,null,null,null,null,null,null,null,null,null,null," - ","MF - Saint Martin (French part)"]
[null,null,null,null,null,null,null,null,null,null,null,null,null,null,null,null,null,null,null,null," - ","PM - Saint Pierre and Miquelon"]
[null,null,null,null,null,null,null,null,null,null,null,null,null,null,null,null,null,null,null,null," - ","VC - Saint Vincent and the Grenadines"]
[null,null,null,null,null,null,null,null,null,null,null,null,null,null,null,null,null,null,null,null," - ","WS - Samoa"]
[null,null,null,null,null,null,null,null,null,null,null,null,null,null,null,null,null,null,null,null,{"$f":"(S194& \" - \"&T194)","v":" - "},"SM - San Marino"]
[null,null,null,null,null,null,null,null,null,null,null,null,null,null,null,null,null,null,null,null," - ","ST - Sao Tome and Principe"]
[null,null,null,null,null,null,null,null,null,null,null,null,null,null,null,null,null,null,null,null," - ","SA - Saudi Arabia"]
[null,null,null,null,null,null,null,null,null,null,null,null,null,null,null,null,null,null,null,null," - ","SN - Senegal"]
[null,null,null,null,null,null,null,null,null,null,null,null,null,null,null,null,null,null,null,null," - ","RS - Serbia"]
[null,null,null,null,null,null,null,null,null,null,null,null,null,null,null,null,null,null,null,null," - ","SC - Seychelles"]
[null,null,null,null,null,null,null,null,null,null,null,null,null,null,null,null,null,null,null,null," - ","SL - Sierra Leone"]
[null,null,null,null,null,null,null,null,null,null,null,null,null,null,null,null,null,null,null,null," - ","SG - Singapore"]
[null,null,null,null,null,null,null,null,null,null,null,null,null,null,null,null,null,null,null,null," - ","SX - Sint Maarten (Dutch part)"]
[null,null,null,null,null,null,null,null,null,null,null,null,null,null,null,null,null,null,null,null," - ","SK - Slovakia"]
[null,null,null,null,null,null,null,null,null,null,null,null,null,null,null,null,null,null,null,null," - ","SI - Slovenia"]
[null,null,null,null,null,null,null,null,null,null,null,null,null,null,null,null,null,null,null,null," - ","SB - Solomon Islands"]
[null,null,null,null,null,null,null,null,null,null,null,null,null,null,null,null,null,null,null,null," - ","SO - Somalia"]
[null,null,null,null,null,null,null,null,null,null,null,null,null,null,null,null,null,null,null,null," - ","ZA - South Africa"]
[null,null,null,null,null,null,null,null,null,null,null,null,null,null,null,null,null,null,null,null," - ","GS - South Georgia and the South Sandwich Islands"]
[null,null,null,null,null,null,null,null,null,null,null,null,null,null,null,null,null,null,null,null," - ","SS - South Sudan"]
[null,null,null,null,null,null,null,null,null,null,null,null,null,null,null,null,null,null,null,null," - ","ES - Spain"]
[null,null,null,null,null,null,null,null,null,null,null,null,null,null,null,null,null,null,null,null," - ","LK - Sri Lanka"]
[null,null,null,null,null,null,null,null,null,null,null,null,null,null,null,null,null,null,null,null," - ","SD - Sudan"]
[null,null,null,null,null,null,null,null,null,null,null,null,null,null,null,null,null,null,null,null," - ","SR - Suriname"]
[null,null,null,null,null,null,null,null,null,null,null,null,null,null,null,null,null,null,null,null," - ","SJ - Svalbard and Jan Mayen"]
[null,null,null,null,null,null,null,null,null,null,null,null,null,null,null,null,null,null,null,null," - ","SZ - Swaziland"]
[null,null,null,null,null,null,null,null,null,null,null,null,null,null,null,null,null,null,null,null," - ","SE - Sweden"]
[null,null,null,null,null,null,null,null,null,null,null,null,null,null,null,null,null,null,null,null," - ","CH - Switzerland"]
[null,null,null,null,null,null,null,null,null,null,null,null,null,null,null,null,null,null,null,null," - ","SY - Syrian Arab Republic"]
[null,null,null,null,null,null,null,null,null,null,null,null,null,null,null,null,null,null,null,null," - ","TW - Taiwan, Province of China"]
[null,null,null,null,null,null,null,null,null,null,null,null,null,null,null,null,null,null,null,null," - ","TJ - Tajikistan"]
[null,null,null,null,null,null,null,null,null,null,null,null,null,null,null,null,null,null,null,null," - ","TZ - Tanzania, United Republic of"]
[null,null,null,null,null,null,null,null,null,null,null,null,null,null,null,null,null,null,null,null," - ","TH - Thailand"]
[null,null,null,null,null,null,null,null,null,null,null,null,null,null,null,null,null,null,null,null," - ","TL - Timor-Leste"]
[null,null,null,null,null,null,null,null,null,null,null,null,null,null,null,null,null,null,null,null," - ","TG - Togo"]
[null,null,null,null,null,null,null,null,null,null,null,null,null,null,null,null,null,null,null,null," - ","TK - Tokelau"]
[null,null,null,null,null,null,null,null,null,null,null,null,null,null,null,null,null,null,null,null," - ","TO - Tonga"]
[null,null,null,null,null,null,null,null,null,null,null,null,null,null,null,null,null,null,null,null," - ","TT - Trinidad and Tobago"]
[null,null,null,null,null,null,null,null,null,null,null,null,null,null,null,null,null,null,null,null," - ","TN - Tunisia"]
[null,null,null,null,null,null,null,null,null,null,null,null,null,null,null,null,null,null,null,null," - ","TR - Turkey"]
[null,null,null,null,null,null,null,null,null,null,null,null,null,null,null,null,null,null,null,null," - ","TM - Turkmenistan"]
[null,null,null,null,null,null,null,null,null,null,null,null,null,null,null,null,null,null,null,null," - ","TC - Turks and Caicos Islands"]
[null,null,null,null,null,null,null,null,null,null,null,null,null,null,null,null,null,null,null,null," - ","TV - Tuvalu"]
[null,null,null,null,null,null,null,null,null,null,null,null,null,null,null,null,null,null,null,null," - ","UG - Uganda"]
[null,null,null,null,null,null,null,null,null,null,null,null,null,null,null,null,null,null,null,null," - ","UA - Ukraine"]
[null,null,null,null,null,null,null,null,null,null,null,null,null,null,null,null,null,null,null,null," - ","AE - United Arab Emirates"]
[null,null,null,null,null,null,null,null,null,null,null,null,null,null,null,null,null,null,null,null," - ","GB - United Kingdom of Great Britain and Northern Ireland"]
[null,null,null,null,null,null,null,null,null,null,null,null,null,null,null,null,null,null,null,null," - ","US - United States of America"]
[null,null,null,null,null,null,null,null,null,null,null,null,null,null,null,null,null,null,null,null," - ","UM - United States Minor Outlying Islands"]
[null,null,null,null,null,null,null,null,null,null,null,null,null,null,null,null,null,null,null,null," - ","UY - Uruguay"]
[null,null,null,null,null,null,null,null,null,null,null,null,null,null,null,null,null,null,null,null," - ","UZ - Uzbekistan"]
[null,null,null,null,null,null,null,null,null,null,null,null,null,null,null,null,null,null,null,null," - ","VU - Vanuatu"]
[null,null,null,null,null,null,null,null,null,null,null,null,null,null,null,null,null,null,null,null," - ","VE - Venezuela (Bolivarian Republic of)"]
[null,null,null,null,null,null,null,null,null,null,null,null,null,null,null,null,null,null,null,null," - ","VN - Viet Nam"]
[null,null,null,null,null,null,null,null,null,null,null,null,null,null,null,null,null,null,null,null," - ","VG - Virgin Islands (British)"]
[null,null,null,null,null,null,null,null,null,null,null,null,null,null,null,null,null,null,null,null," - ","VI - Virgin Islands (U.S.)"]
[null,null,null,null,null,null,null,null,null,null,null,null,null,null,null,null,null,null,null,null," - ","WF - Wallis and Futuna"]
[null,null,null,null,null,null,null,null,null,null,null,null,null,null,null,null,null,null,null,null," - ","EH - Western Sahara"]
[null,null,null,null,null,null,null,null,null,null,null,null,null,null,null,null,null,null,null,null," - ","YE - Yemen"]
[null,null,null,null,null,null,null,null,null,null,null,null,null,null,null,null,null,null,null,null," - ","ZM - Zambia"]
[null,null,null,null,null,null,null,null,null,null,null,null,null,null,null,null,null,null,null,null,null,"ZW - Zimbabwe"]

{"sheet":"Multiple Pick Lists","index":13,"n_rows":104,"n_cols":5,"rows_kept":104,"cut":false,"hidden":false,"merged":[]}
[null,"Name type (PG6-60741 v1.0)","1.0","Identity","PICKLISTS"]
["Identifier","Text",null,"Authority","ECHA"]
[66247,"brand",null,"Revision","3.0"]
[66248,"model",null,"Date","2023-08-25"]
[66249,"type",null,"Source","https://echa.europa.edu/scip-format"]
[1342,"other"]
[null,"Primary article identifier type, Article identifier type (PG6-60746 v2.0)","2.0"]
["Identifier","Text"]
[66297,"ECHA Article ID  "]
[66298,"GTIN (Global Trade Item Number)  "]
[66299,"EAN (European Article Number)"]
[66300,"GPC (Universal Product Code)"]
[66301,"JAN (Japanese Article Number)"]
[66302,"UDI (Unique Device Identification)"]
[66303,"ISBN (International Standard Book Number)"]
[66304,"catalogue number"]
[66305,"batch number"]
[66306,"part number "]
[66307,"item number"]
[66308,"reference number"]
[66309,"serial number"]
[1342,"other:"]
[null,"Production in European Union (PG6-60742 v2.3)","2.3"]
["Identifier","Text"]
[108023,"both EU produced and imported"]
[108022,"EU imported"]
[108021,"EU produced"]
[58236,"no data"]
[null,"Height, Length, Width, Diameter (PG6-60759 v1.0)","1.0"]
["Identifier","Text"]
[66310,"m"]
[66311,"dm"]
[66312,"cm"]
[2120,"mm"]
[null,"Density (PG6-60760 v1.0)","1.0"]
["Identifier","Text"]
[2022,"kg/m³"]
[66313,"kg/dm³"]
[1929,"g/cm³"]
[null,"Weight (PG6-60761 v1.0)","1.0"]
["Identifier","Text"]
[66314,"t"]
[58374,"kg"]
[58373,"g"]
[64929,"mg"]
[null,"Volume (PG6-60762 v1.0)","1.0"]
["Identifier","Text"]
[58376,"m³"]
[66315,"dm³"]
[58375,"cm³"]
[null,"Colour (PG6-60569 v3.0)","3.0"]
["Identifier","Text"]
["64912","colourless"]
["64913","black"]
["64914","blue"]
["64915","brown"]
["64916","gold"]
["64917","green"]
["64918","grey"]
["64919","orange"]
["64920","pink"]
["64921","purple"]
["64922","red"]
["64923","silver"]
["64924","violet"]
["64925","white"]
["64926","yellow"]
["1342","other:"]
[null,"Language (PG6-60564 v2.0)","2.0"]
["Identifier","Text"]
[3601,"Bulgarian"]
[3633,"Croatian"]
[3609,"Czech"]
[3611,"Danish"]
[355,"Dutch"]
[3615,"English"]
[3618,"Estonian"]
[3621,"Finnish"]
[3624,"French"]
[3612,"German"]
[3614,"Greek"]
[3634,"Hungarian"]
[3640,"Icelandic"]
[3626,"Irish"]
[3641,"Italian"]
[3659,"Latvian"]
[3658,"Lithuanian"]
[3668,"Maltese"]
[3673,"Norwegian"]
[1395,"Polish"]
[3680,"Portuguese"]
[3684,"Romanian"]
[3692,"Slovak"]
[3693,"Slovenian"]
[3617,"Spanish"]
[3702,"Swedish"]
[null,"Concentration range (PG6-60757 v1.0)","1.0"]
["Identifier","Text"]
[66279,"> 0.1% w/w and < 0.3% w/w"]
[66280,"≥ 0.3% w/w and < 1.0% w/w "]
[66281,"≥ 1.0% w/w and < 10.0% w/w"]
[66284,"≥ 10.0% w/w and < 20.0% w/w"]
[66285,"≥ 20.0% w/w and < 100% w/w"]
[66286,"> 0.1% w/w and ≤ 100% w/w"]

{"sheet":"TARIC Codes","index":14,"n_rows":14953,"n_cols":10,"rows_kept":4500,"cut":true,"hidden":false,"merged":[],"bounds":{"rows_first":2000,"rows_last":500,"rows_between":2000,"halvings":0}}
["Identifier","SelectableFlag","Text","PhraseIndex","ParentPhrase2","ObsoleteFlag","ID",null,"Identity","TARIC"]
["108787",false,"SECTION I (01 - 05) Live animals; animal products",1,"",false,{"$f":"VALUE(Table2[[#This Row],[Identifier]])","v":108787},null,"Authority","ECHA"]
["109229",false,"0500000000 - Products of animal origin, not elsewhere specified or included",2517,1,false,{"$f":"VALUE(Table2[[#This Row],[Identifier]])","v":109229},null,"Revision","4.2"]
["89811",true,"0501000000 - Human hair, unworked, whether or not washed or scoured; waste of human hair",2518,2517,false,{"$f":"VALUE(Table2[[#This Row],[Identifier]])","v":89811},null,"Date","2023-07-20"]
["109230",false,"0502000000 - Pigs', hogs' or boars' bristles and hair; badger hair and other brush making hair; waste of such bristles or hair",2519,2517,false,{"$f":"VALUE(Table2[[#This Row],[Identifier]])","v":109230},null,"Phrase Group","PG6-60768 v4.2"]
["89812",true,"0502100000 - Pigs', hogs' or boars' bristles and hair and waste thereof",2520,2519,false,{"$f":"VALUE(Table2[[#This Row],[Identifier]])","v":89812},null,"Source","https://echa.europa.edu/scip-format"]
["89813",true,"0502900000 - Other",2521,2519,false,{"$f":"VALUE(Table2[[#This Row],[Identifier]])","v":89813}]
["89814",true,"0504000000 - Guts, bladders and stomachs of animals (other than fish), whole and pieces thereof, fresh, chilled, frozen, salted, in brine, dried or smoked",2522,2517,false,{"$f":"VALUE(Table2[[#This Row],[Identifier]])","v":89814}]
["89815",true,"0504000010 - Casings",2523,2522,false,{"$f":"VALUE(Table2[[#This Row],[Identifier]])","v":89815}]
["89816",true,"0504000090 - Other",2524,2522,false,{"$f":"VALUE(Table2[[#This Row],[Identifier]])","v":89816}]
["109231",false,"0505000000 - Skins and other parts of birds, with their feathers or down, feathers and parts of feathers (whether or not with trimmed edges) and down, not further worked than cleaned, disinfected or treated for preservation; powder and waste of feathers or parts of feathers",2525,2517,false,{"$f":"VALUE(Table2[[#This Row],[Identifier]])","v":109231}]
["89817",true,"0505100000 - Feathers of a kind used for stuffing; down",2526,2525,false,{"$f":"VALUE(Table2[[#This Row],[Identifier]])","v":89817}]
["89818",true,"0505101000 - Raw",2527,2526,false,{"$f":"VALUE(Table2[[#This Row],[Identifier]])","v":89818}]
["89819",true,"0505109000 - Other",2528,2526,false,{"$f":"VALUE(Table2[[#This Row],[Identifier]])","v":89819}]
["89820",true,"0505900000 - Other",2529,2525,false,{"$f":"VALUE(Table2[[#This Row],[Identifier]])","v":89820}]
["109232",false,"0506000000 - Bones and horn-cores, unworked, defatted, simply prepared (but not cut to shape), treated with acid or degelatinised; powder and waste of these products",2530,2517,false,{"$f":"VALUE(Table2[[#This Row],[Identifier]])","v":109232}]
["89821",true,"0506100000 - Ossein and bones treated with acid",2531,2530,false,{"$f":"VALUE(Table2[[#This Row],[Identifier]])","v":89821}]
["89822",true,"0506900000 - Other",2532,2530,false,{"$f":"VALUE(Table2[[#This Row],[Identifier]])","v":89822}]
["109233",false,"0507000000 - Ivory, tortoiseshell, whalebone and whalebone hair, horns, antlers, hooves, nails, claws and beaks, unworked or simply prepared but not cut to shape; powder and waste of these products",2533,2517,false,{"$f":"VALUE(Table2[[#This Row],[Identifier]])","v":109233}]
["89823",true,"0507100000 - Ivory; ivory powder and waste",2534,2533,false,{"$f":"VALUE(Table2[[#This Row],[Identifier]])","v":89823}]
["89824",true,"0507900000 - Other",2535,2533,false,{"$f":"VALUE(Table2[[#This Row],[Identifier]])","v":89824}]
["89825",true,"0508000000 - Coral and similar materials, unworked or simply prepared but not otherwise worked; shells of molluscs, crustaceans or echinoderms and cuttle-bone, unworked or simply prepared but not cut to shape, powder and waste thereof",2536,2517,false,{"$f":"VALUE(Table2[[#This Row],[Identifier]])","v":89825}]
["130971",true,"0508001000 - Red coral (Corallium rubrum)",2537,2536,false,{"$f":"VALUE(Table2[[#This Row],[Identifier]])","v":130971}]
["130972",true,"0508009000 - Other",2538,2536,false,{"$f":"VALUE(Table2[[#This Row],[Identifier]])","v":130972}]
["130973",true,"0508009010 - Empty shells for food use and use as raw material for glucosamine",2539,2538,false,{"$f":"VALUE(Table2[[#This Row],[Identifier]])","v":130973}]
["130974",true,"0508009020 - Shells containing soft tissue and flesh used for different purposes covered under Article 10(k)(i) of Regulation (EC) No 1069/2009",2540,2538,false,{"$f":"VALUE(Table2[[#This Row],[Identifier]])","v":130974}]
["130975",true,"0508009090 - Other",2541,2538,false,{"$f":"VALUE(Table2[[#This Row],[Identifier]])","v":130975}]
["89829",true,"0510000000 - Ambergris, castoreum, civet and musk; cantharides; bile, whether or not dried; glands and other animal products used in the preparation of pharmaceutical products, fresh, chilled, frozen or otherwise provisionally preserved",2542,2517,false,{"$f":"VALUE(Table2[[#This Row],[Identifier]])","v":89829}]
["109234",false,"0511000000 - Animal products not elsewhere specified or included; dead animals of Chapter|1|or 3, unfit for human consumption",2543,2517,false,{"$f":"VALUE(Table2[[#This Row],[Identifier]])","v":109234}]
["89830",true,"0511100000 - Bovine semen",2544,2543,false,{"$f":"VALUE(Table2[[#This Row],[Identifier]])","v":89830}]
["109235",false,"0511910000 - Other",2545,2543,false,{"$f":"VALUE(Table2[[#This Row],[Identifier]])","v":109235}]
["89831",true,"0511910000 - Products of fish or crustaceans, molluscs or other aquatic invertebrates; dead animals of Chapter|3",2546,2545,false,{"$f":"VALUE(Table2[[#This Row],[Identifier]])","v":89831}]
["89832",true,"0511911000 - Fish waste",2547,2546,false,{"$f":"VALUE(Table2[[#This Row],[Identifier]])","v":89832}]
["89833",true,"0511919000 - Other",2548,2546,false,{"$f":"VALUE(Table2[[#This Row],[Identifier]])","v":89833}]
["89834",true,"0511990000 - Other",2549,2545,false,{"$f":"VALUE(Table2[[#This Row],[Identifier]])","v":89834}]
["89835",true,"0511991000 - Sinews or tendons; parings and similar waste of raw hides or skins",2550,2549,false,{"$f":"VALUE(Table2[[#This Row],[Identifier]])","v":89835}]
["109236",false,"0511993100 - Natural sponges of animal origin",2551,2549,false,{"$f":"VALUE(Table2[[#This Row],[Identifier]])","v":109236}]
["89836",true,"0511993100 - Raw",2552,2551,false,{"$f":"VALUE(Table2[[#This Row],[Identifier]])","v":89836}]
["89837",true,"0511993900 - Other",2553,2551,false,{"$f":"VALUE(Table2[[#This Row],[Identifier]])","v":89837}]
["89838",true,"0511998500 - Other",2554,2549,false,{"$f":"VALUE(Table2[[#This Row],[Identifier]])","v":89838}]
["89839",true,"0511998510 - Mammalian semen",2555,2554,false,{"$f":"VALUE(Table2[[#This Row],[Identifier]])","v":89839}]
["89840",true,"0511998520 - Mammalian ova and mammalian embryos",2556,2554,false,{"$f":"VALUE(Table2[[#This Row],[Identifier]])","v":89840}]
["89841",true,"0511998590 - Other",2557,2554,false,{"$f":"VALUE(Table2[[#This Row],[Identifier]])","v":89841}]
["109237",false,"SECTION II (06 - 14) Vegetable products",2558,"",false,{"$f":"VALUE(Table2[[#This Row],[Identifier]])","v":109237}]
["109496",false,"1400000000 - Vegetable plaiting materials; vegetable products not elsewhere specified or included",3940,2558,false,{"$f":"VALUE(Table2[[#This Row],[Identifier]])","v":109496}]
["109497",false,"1401000000 - Vegetable materials of a kind used primarily for plaiting (for example, bamboos, rattans, reeds, rushes, osier, raffia, cleaned, bleached or dyed cereal straw, and lime bark)",3941,3940,false,{"$f":"VALUE(Table2[[#This Row],[Identifier]])","v":109497}]
["90862",true,"1401100000 - Bamboos",3942,3941,false,{"$f":"VALUE(Table2[[#This Row],[Identifier]])","v":90862}]
["90863",true,"1401200000 - Rattans",3943,3941,false,{"$f":"VALUE(Table2[[#This Row],[Identifier]])","v":90863}]
["90864",true,"1401900000 - Other",3944,3941,false,{"$f":"VALUE(Table2[[#This Row],[Identifier]])","v":90864}]
["109498",false,"1404000000 - Vegetable products not elsewhere specified or included",3945,3940,false,{"$f":"VALUE(Table2[[#This Row],[Identifier]])","v":109498}]
["90865",true,"1404200000 - Cotton linters",3946,3945,false,{"$f":"VALUE(Table2[[#This Row],[Identifier]])","v":90865}]
["90866",true,"1404900000 - Other",3947,3945,false,{"$f":"VALUE(Table2[[#This Row],[Identifier]])","v":90866}]
["90867",true,"1404900010 - Betel leaves (Piper betle L.)",3948,3947,false,{"$f":"VALUE(Table2[[#This Row],[Identifier]])","v":90867}]
["90868",true,"1404900090 - Other",3949,3947,false,{"$f":"VALUE(Table2[[#This Row],[Identifier]])","v":90868}]
["109499",false,"SECTION III (15) Animal or vegetable fats and oils and their cleavage products; prepared edible fats; animal or vegetable waxes",3950,"",false,{"$f":"VALUE(Table2[[#This Row],[Identifier]])","v":109499}]
["109566",false,"SECTION IV (16 - 24) Prepared foodstuffs; beverages, spirits and vinegar; tobacco and manufactured tobacco substitutes",4251,"",false,{"$f":"VALUE(Table2[[#This Row],[Identifier]])","v":109566}]
["109677",false,"1900000000 - Preparations of cereals, flour, starch or milk; pastrycooks' products",4806,4251,false,{"$f":"VALUE(Table2[[#This Row],[Identifier]])","v":109677}]
["109688",false,"1905000000 - Bread, pastry, cakes, biscuits and other bakers' wares, whether or not containing cocoa; communion wafers, empty cachets of a kind suitable for pharmaceutical use, sealing wafers, rice paper and similar products",4892,4806,false,{"$f":"VALUE(Table2[[#This Row],[Identifier]])","v":109688}]
["91570",true,"1905900000 - Other",4920,4892,false,{"$f":"VALUE(Table2[[#This Row],[Identifier]])","v":91570}]
["91572",true,"1905902000 - Communion wafers, empty cachets of a kind suitable for pharmaceutical use, sealing wafers, rice paper and similar products",4922,4920,false,{"$f":"VALUE(Table2[[#This Row],[Identifier]])","v":91572}]
["110269",false,"2400000000 - Tobacco and manufactured tobacco substitutes; products, whether or not containing nicotine, intended for inhalation without combustion; other nicotine containing products intended for the intake of nicotine into the human body",7406,4251,false,{"$f":"VALUE(Table2[[#This Row],[Identifier]])","v":110269}]
["133502",false,"2404000000 - Products containing tobacco, reconstituted tobacco, nicotine, or tobacco or nicotine substitutes, intended for inhalation without combustion; other nicotine containing products intended for the intake of nicotine into the human body",7476,7406,false,{"$f":"VALUE(Table2[[#This Row],[Identifier]])","v":133502}]
["133503",false,"2404110000 - Products intended for inhalation without combustion",7477,7476,false,{"$f":"VALUE(Table2[[#This Row],[Identifier]])","v":133503}]
["133504",true,"2404110000 - Containing tobacco or reconstituted tobacco",7478,7477,false,{"$f":"VALUE(Table2[[#This Row],[Identifier]])","v":133504}]
["133505",true,"2404110010 - Containing reconstituted tobacco",7479,7478,false,{"$f":"VALUE(Table2[[#This Row],[Identifier]])","v":133505}]
["133506",true,"2404110090 - Other",7480,7478,false,{"$f":"VALUE(Table2[[#This Row],[Identifier]])","v":133506}]
["133507",true,"2404120000 - Other, containing nicotine",7481,7477,false,{"$f":"VALUE(Table2[[#This Row],[Identifier]])","v":133507}]
["133508",true,"2404120010 - Cartridges and refills, filled, for electronic cigarettes, preparations for use in cartridges and refills for electronic cigarettes",7482,7481,false,{"$f":"VALUE(Table2[[#This Row],[Identifier]])","v":133508}]
["133509",true,"2404120090 - Other",7483,7481,false,{"$f":"VALUE(Table2[[#This Row],[Identifier]])","v":133509}]
["133510",true,"2404190000 - Other",7484,7477,false,{"$f":"VALUE(Table2[[#This Row],[Identifier]])","v":133510}]
["133511",true,"2404191000 - Containing tobacco substitutes",7485,7484,false,{"$f":"VALUE(Table2[[#This Row],[Identifier]])","v":133511}]
["133512",true,"2404199000 - Other",7486,7484,false,{"$f":"VALUE(Table2[[#This Row],[Identifier]])","v":133512}]
["133513",false,"2404910000 - Other",7487,7476,false,{"$f":"VALUE(Table2[[#This Row],[Identifier]])","v":133513}]
["133514",true,"2404910000 - For oral application",7488,7487,false,{"$f":"VALUE(Table2[[#This Row],[Identifier]])","v":133514}]
["133515",true,"2404911000 - Nicotine containing products intended to assist tobacco use cessation",7489,7488,false,{"$f":"VALUE(Table2[[#This Row],[Identifier]])","v":133515}]
["133516",true,"2404919000 - Other",7490,7488,false,{"$f":"VALUE(Table2[[#This Row],[Identifier]])","v":133516}]
["133517",true,"2404920000 - For transdermal application",7491,7487,false,{"$f":"VALUE(Table2[[#This Row],[Identifier]])","v":133517}]
["133518",true,"2404990000 - Other",7492,7487,false,{"$f":"VALUE(Table2[[#This Row],[Identifier]])","v":133518}]
["110285",false,"SECTION V (25 - 27) Mineral products",7493,"",false,{"$f":"VALUE(Table2[[#This Row],[Identifier]])","v":110285}]
["110286",false,"2500000000 - Salt; sulphur; earths and stone; plastering materials, lime and cement",7494,7493,false,{"$f":"VALUE(Table2[[#This Row],[Identifier]])","v":110286}]
["110292",false,"2504000000 - Natural graphite",7510,7494,false,{"$f":"VALUE(Table2[[#This Row],[Identifier]])","v":110292}]
["93498",true,"2504100000 - In powder or in flakes",7511,7510,false,{"$f":"VALUE(Table2[[#This Row],[Identifier]])","v":93498}]
["93499",true,"2504900000 - Other",7512,7510,false,{"$f":"VALUE(Table2[[#This Row],[Identifier]])","v":93499}]
["110294",false,"2506000000 - Quartz (other than natural sands); quartzite, whether or not roughly trimmed or merely cut, by sawing or otherwise, into blocks or slabs of a rectangular (including square) shape",7516,7494,false,{"$f":"VALUE(Table2[[#This Row],[Identifier]])","v":110294}]
["93502",true,"2506100000 - Quartz",7517,7516,false,{"$f":"VALUE(Table2[[#This Row],[Identifier]])","v":93502}]
["93503",true,"2506200000 - Quartzite",7518,7516,false,{"$f":"VALUE(Table2[[#This Row],[Identifier]])","v":93503}]
["110295",false,"2507000000 - Kaolin and other kaolinic clays, whether or not calcined",7519,7494,false,{"$f":"VALUE(Table2[[#This Row],[Identifier]])","v":110295}]
["93504",true,"2507002000 - Kaolin",7520,7519,false,{"$f":"VALUE(Table2[[#This Row],[Identifier]])","v":93504}]
["93505",true,"2507008000 - Other kaolinic clays",7521,7519,false,{"$f":"VALUE(Table2[[#This Row],[Identifier]])","v":93505}]
["110296",false,"2508000000 - Other clays (not including expanded clays of heading|6806), andalusite, kyanite and sillimanite, whether or not calcined; mullite; chamotte or dinas earths",7522,7494,false,{"$f":"VALUE(Table2[[#This Row],[Identifier]])","v":110296}]
["93506",true,"2508100000 - Bentonite",7523,7522,false,{"$f":"VALUE(Table2[[#This Row],[Identifier]])","v":93506}]
["93507",true,"2508300000 - Fireclay",7524,7522,false,{"$f":"VALUE(Table2[[#This Row],[Identifier]])","v":93507}]
["93508",true,"2508400000 - Other clays",7525,7522,false,{"$f":"VALUE(Table2[[#This Row],[Identifier]])","v":93508}]
["93509",true,"2508500000 - Andalusite, kyanite and sillimanite",7526,7522,false,{"$f":"VALUE(Table2[[#This Row],[Identifier]])","v":93509}]
["93510",true,"2508600000 - Mullite",7527,7522,false,{"$f":"VALUE(Table2[[#This Row],[Identifier]])","v":93510}]
["93511",true,"2508700000 - Chamotte or dinas earths",7528,7522,false,{"$f":"VALUE(Table2[[#This Row],[Identifier]])","v":93511}]
["93512",true,"2509000000 - Chalk",7529,7494,false,{"$f":"VALUE(Table2[[#This Row],[Identifier]])","v":93512}]
["110297",false,"2510000000 - Natural calcium phosphates, natural aluminium calcium phosphates and phosphatic chalk",7530,7494,false,{"$f":"VALUE(Table2[[#This Row],[Identifier]])","v":110297}]
["93513",true,"2510100000 - Unground",7531,7530,false,{"$f":"VALUE(Table2[[#This Row],[Identifier]])","v":93513}]
["93514",true,"2510200000 - Ground",7532,7530,false,{"$f":"VALUE(Table2[[#This Row],[Identifier]])","v":93514}]
["110298",false,"2511000000 - Natural barium sulphate (barytes); natural barium carbonate (witherite), whether or not calcined, other than barium oxide of heading|2816",7533,7494,false,{"$f":"VALUE(Table2[[#This Row],[Identifier]])","v":110298}]
["93515",true,"2511100000 - Natural barium sulphate (barytes)",7534,7533,false,{"$f":"VALUE(Table2[[#This Row],[Identifier]])","v":93515}]
["93516",true,"2511200000 - Natural barium carbonate (witherite)",7535,7533,false,{"$f":"VALUE(Table2[[#This Row],[Identifier]])","v":93516}]
["93517",true,"2512000000 - Siliceous fossil meals (for example, kieselguhr, tripolite and diatomite) and similar siliceous earths, whether or not calcined, of an apparent specific gravity of 1|or less",7536,7494,false,{"$f":"VALUE(Table2[[#This Row],[Identifier]])","v":93517}]
["110299",false,"2513000000 - Pumice stone; emery; natural corundum, natural garnet and other natural abrasives, whether or not heat-treated",7537,7494,false,{"$f":"VALUE(Table2[[#This Row],[Identifier]])","v":110299}]
["93518",true,"2513100000 - Pumice stone",7538,7537,false,{"$f":"VALUE(Table2[[#This Row],[Identifier]])","v":93518}]
["93519",true,"2513200000 - Emery, natural corundum, natural garnet and other natural abrasives",7539,7537,false,{"$f":"VALUE(Table2[[#This Row],[Identifier]])","v":93519}]
["93520",true,"2514000000 - Slate, whether or not roughly trimmed or merely cut, by sawing or otherwise, into blocks or slabs of a rectangular (including square) shape",7540,7494,false,{"$f":"VALUE(Table2[[#This Row],[Identifier]])","v":93520}]
["110300",false,"2515000000 - Marble, travertine, ecaussine and other calcareous monumental or building stone of an apparent specific gravity of 2,5|or more, and alabaster, whether or not roughly trimmed or merely cut, by sawing or otherwise, into blocks or slabs of a rectangular (including square) shape",7541,7494,false,{"$f":"VALUE(Table2[[#This Row],[Identifier]])","v":110300}]
["110301",false,"2515110000 - Marble and travertine",7542,7541,false,{"$f":"VALUE(Table2[[#This Row],[Identifier]])","v":110301}]
["93521",true,"2515110000 - Crude or roughly trimmed",7543,7542,false,{"$f":"VALUE(Table2[[#This Row],[Identifier]])","v":93521}]
["93522",true,"2515120000 - Merely cut, by sawing or otherwise, into blocks or slabs of a rectangular (including square) shape",7544,7542,false,{"$f":"VALUE(Table2[[#This Row],[Identifier]])","v":93522}]
["93523",true,"2515200000 - Ecaussine and other calcareous monumental or building stone; alabaster",7545,7541,false,{"$f":"VALUE(Table2[[#This Row],[Identifier]])","v":93523}]
["110302",false,"2516000000 - Granite, porphyry, basalt, sandstone and other monumental or building stone, whether or not roughly trimmed or merely cut, by sawing or otherwise, into blocks or slabs of a rectangular (including square) shape",7546,7494,false,{"$f":"VALUE(Table2[[#This Row],[Identifier]])","v":110302}]
["110303",false,"2516110000 - Granite",7547,7546,false,{"$f":"VALUE(Table2[[#This Row],[Identifier]])","v":110303}]
["93524",true,"2516110000 - Crude or roughly trimmed",7548,7547,false,{"$f":"VALUE(Table2[[#This Row],[Identifier]])","v":93524}]
["93525",true,"2516120000 - Merely cut, by sawing or otherwise, into blocks or slabs of a rectangular (including square) shape",7549,7547,false,{"$f":"VALUE(Table2[[#This Row],[Identifier]])","v":93525}]
["93526",true,"2516200000 - Sandstone",7550,7546,false,{"$f":"VALUE(Table2[[#This Row],[Identifier]])","v":93526}]
["93527",true,"2516900000 - Other monumental or building stone",7551,7546,false,{"$f":"VALUE(Table2[[#This Row],[Identifier]])","v":93527}]
["110306",false,"2518000000 - Dolomite, whether or not calcined or sintered, including dolomite roughly trimmed or merely cut, by sawing or otherwise, into blocks or slabs of a rectangular (including square) shape",7562,7494,false,{"$f":"VALUE(Table2[[#This Row],[Identifier]])","v":110306}]
["93536",true,"2518100000 - Dolomite, not calcined or sintered",7563,7562,false,{"$f":"VALUE(Table2[[#This Row],[Identifier]])","v":93536}]
["93537",true,"2518200000 - Calcined or sintered dolomite",7564,7562,false,{"$f":"VALUE(Table2[[#This Row],[Identifier]])","v":93537}]
["110307",false,"2519000000 - Natural magnesium carbonate (magnesite); fused magnesia; dead-burned (sintered) magnesia, whether or not containing small quantities of other oxides added before sintering; other magnesium oxide, whether or not pure",7565,7494,false,{"$f":"VALUE(Table2[[#This Row],[Identifier]])","v":110307}]
["93539",true,"2519100000 - Natural magnesium carbonate (magnesite)",7566,7565,false,{"$f":"VALUE(Table2[[#This Row],[Identifier]])","v":93539}]
["93540",true,"2519900000 - Other",7567,7565,false,{"$f":"VALUE(Table2[[#This Row],[Identifier]])","v":93540}]
["93541",true,"2519901000 - Magnesium oxide, other than calcined natural magnesium carbonate",7568,7567,false,{"$f":"VALUE(Table2[[#This Row],[Identifier]])","v":93541}]
["93542",true,"2519901010 - Fused magnesia with a purity by weight of 94|% or more",7569,7568,false,{"$f":"VALUE(Table2[[#This Row],[Identifier]])","v":93542}]
["93543",true,"2519901090 - Other",7570,7568,false,{"$f":"VALUE(Table2[[#This Row],[Identifier]])","v":93543}]
["93544",true,"2519903000 - Dead-burned (sintered) magnesia",7571,7567,false,{"$f":"VALUE(Table2[[#This Row],[Identifier]])","v":93544}]
["93545",true,"2519909000 - Other",7572,7567,false,{"$f":"VALUE(Table2[[#This Row],[Identifier]])","v":93545}]
["110308",false,"2520000000 - Gypsum; anhydrite; plasters (consisting of calcined gypsum or calcium sulphate) whether or not coloured, with or without small quantities of accelerators or retarders",7573,7494,false,{"$f":"VALUE(Table2[[#This Row],[Identifier]])","v":110308}]
["93546",true,"2520100000 - Gypsum; anhydrite",7574,7573,false,{"$f":"VALUE(Table2[[#This Row],[Identifier]])","v":93546}]
["93547",true,"2520200000 - Plasters",7575,7573,false,{"$f":"VALUE(Table2[[#This Row],[Identifier]])","v":93547}]
["110314",false,"2526000000 - Natural steatite, whether or not roughly trimmed or merely cut, by sawing or otherwise, into blocks or slabs of a rectangular (including square) shape; talc",7595,7494,false,{"$f":"VALUE(Table2[[#This Row],[Identifier]])","v":110314}]
["93562",true,"2526100000 - Not crushed, not powdered",7596,7595,false,{"$f":"VALUE(Table2[[#This Row],[Identifier]])","v":93562}]
["93563",true,"2526200000 - Crushed or powdered",7597,7595,false,{"$f":"VALUE(Table2[[#This Row],[Identifier]])","v":93563}]
["93564",true,"2528000000 - Natural borates and concentrates thereof (whether or not calcined), but not including borates separated from natural brine; natural boric acid containing not more than 85|% of H@3BO@3|calculated on the dry weight",7598,7494,false,{"$f":"VALUE(Table2[[#This Row],[Identifier]])","v":93564}]
["110315",false,"2529000000 - Feldspar; leucite; nepheline and nepheline syenite; fluorspar",7599,7494,false,{"$f":"VALUE(Table2[[#This Row],[Identifier]])","v":110315}]
["93565",true,"2529100000 - Feldspar",7600,7599,false,{"$f":"VALUE(Table2[[#This Row],[Identifier]])","v":93565}]
["110316",false,"2529210000 - Fluorspar",7601,7599,false,{"$f":"VALUE(Table2[[#This Row],[Identifier]])","v":110316}]
["93566",true,"2529210000 - Containing by weight 97|% or less of calcium fluoride",7602,7601,false,{"$f":"VALUE(Table2[[#This Row],[Identifier]])","v":93566}]
["93567",true,"2529220000 - Containing by weight more than 97|% of calcium fluoride",7603,7601,false,{"$f":"VALUE(Table2[[#This Row],[Identifier]])","v":93567}]
["93568",true,"2529300000 - Leucite; nepheline and nepheline syenite",7604,7599,false,{"$f":"VALUE(Table2[[#This Row],[Identifier]])","v":93568}]
["110317",false,"2530000000 - Mineral substances not elsewhere specified or included",7605,7494,false,{"$f":"VALUE(Table2[[#This Row],[Identifier]])","v":110317}]
["93569",true,"2530100000 - Vermiculite, perlite and chlorites, unexpanded",7606,7605,false,{"$f":"VALUE(Table2[[#This Row],[Identifier]])","v":93569}]
["93570",true,"2530200000 - Kieserite, epsomite (natural magnesium sulphates)",7607,7605,false,{"$f":"VALUE(Table2[[#This Row],[Identifier]])","v":93570}]
["93571",true,"2530900000 - Other",7608,7605,false,{"$f":"VALUE(Table2[[#This Row],[Identifier]])","v":93571}]
["133519",true,"2530903000 - Celestine and strontianite",7609,7608,false,{"$f":"VALUE(Table2[[#This Row],[Identifier]])","v":133519}]
["133520",true,"2530904000 - Spodumene, petalite, lepidolite, amblygonite, hectorite, jadarite and similar minerals, suitable for the extraction of lithium",7610,7608,false,{"$f":"VALUE(Table2[[#This Row],[Identifier]])","v":133520}]
["133521",true,"2530905000 - Bastnaesite, xenotime and similar minerals, suitable for the extraction of rare-earth metals, scandium or yttrium",7611,7608,false,{"$f":"VALUE(Table2[[#This Row],[Identifier]])","v":133521}]
["133522",true,"2530907000 - Other",7612,7608,false,{"$f":"VALUE(Table2[[#This Row],[Identifier]])","v":133522}]
["110387",false,"SECTION VI (28 - 38) Products of the chemical or allied industries",7910,"",false,{"$f":"VALUE(Table2[[#This Row],[Identifier]])","v":110387}]
["110388",false,"2800000000 - Inorganic chemicals; organic or inorganic compounds of precious metals, of rare-earth metals, of radioactive elements or of isotopes",7911,7910,false,{"$f":"VALUE(Table2[[#This Row],[Identifier]])","v":110388}]
["110389",false,"2801000000 - I. CHEMICAL ELEMENTS",7912,7911,false,{"$f":"VALUE(Table2[[#This Row],[Identifier]])","v":110389}]
["110390",false,"2801000000 - Fluorine, chlorine, bromine and iodine",7913,7912,false,{"$f":"VALUE(Table2[[#This Row],[Identifier]])","v":110390}]
["93795",true,"2801100000 - Chlorine",7914,7913,false,{"$f":"VALUE(Table2[[#This Row],[Identifier]])","v":93795}]
["93796",true,"2801200000 - Iodine",7915,7913,false,{"$f":"VALUE(Table2[[#This Row],[Identifier]])","v":93796}]
["93797",true,"2801300000 - Fluorine; bromine",7916,7913,false,{"$f":"VALUE(Table2[[#This Row],[Identifier]])","v":93797}]
["93798",true,"2801301000 - Fluorine",7917,7916,false,{"$f":"VALUE(Table2[[#This Row],[Identifier]])","v":93798}]
["93799",true,"2801309000 - Bromine",7918,7916,false,{"$f":"VALUE(Table2[[#This Row],[Identifier]])","v":93799}]
["93800",true,"2802000000 - Sulphur, sublimed or precipitated; colloidal sulphur",7919,7911,false,{"$f":"VALUE(Table2[[#This Row],[Identifier]])","v":93800}]
["110391",false,"2804000000 - Hydrogen, rare gases and other non-metals",7921,7911,false,{"$f":"VALUE(Table2[[#This Row],[Identifier]])","v":110391}]
["93802",true,"2804100000 - Hydrogen",7922,7921,false,{"$f":"VALUE(Table2[[#This Row],[Identifier]])","v":93802}]
["110392",false,"2804210000 - Rare gases",7923,7921,false,{"$f":"VALUE(Table2[[#This Row],[Identifier]])","v":110392}]
["93803",true,"2804210000 - Argon",7924,7923,false,{"$f":"VALUE(Table2[[#This Row],[Identifier]])","v":93803}]
["93804",true,"2804290000 - Other",7925,7923,false,{"$f":"VALUE(Table2[[#This Row],[Identifier]])","v":93804}]
["93805",true,"2804291000 - Helium",7926,7925,false,{"$f":"VALUE(Table2[[#This Row],[Identifier]])","v":93805}]
["93806",true,"2804299000 - Other",7927,7925,false,{"$f":"VALUE(Table2[[#This Row],[Identifier]])","v":93806}]
["93807",true,"2804300000 - Nitrogen",7928,7921,false,{"$f":"VALUE(Table2[[#This Row],[Identifier]])","v":93807}]
["93808",true,"2804400000 - Oxygen",7929,7921,false,{"$f":"VALUE(Table2[[#This Row],[Identifier]])","v":93808}]
["93809",true,"2804500000 - Boron; tellurium",7930,7921,false,{"$f":"VALUE(Table2[[#This Row],[Identifier]])","v":93809}]
["93810",true,"2804501000 - Boron",7931,7930,false,{"$f":"VALUE(Table2[[#This Row],[Identifier]])","v":93810}]
["93811",true,"2804509000 - Tellurium",7932,7930,false,{"$f":"VALUE(Table2[[#This Row],[Identifier]])","v":93811}]
["93812",true,"2804509040 - Tellurium (CAS|RN|13494-80-9) of a purity by weight of 99,99|% or more, but not more than 99,999|%, based on metallic impurities measured by ICP analysis",7933,7932,false,{"$f":"VALUE(Table2[[#This Row],[Identifier]])","v":93812}]
["93813",true,"2804509090 - Other",7934,7932,false,{"$f":"VALUE(Table2[[#This Row],[Identifier]])","v":93813}]
["110393",false,"2804610000 - Silicon",7935,7921,false,{"$f":"VALUE(Table2[[#This Row],[Identifier]])","v":110393}]
["93814",true,"2804610000 - Containing by weight not less than 99,99|% of silicon",7936,7935,false,{"$f":"VALUE(Table2[[#This Row],[Identifier]])","v":93814}]
["93815",true,"2804690000 - Other",7937,7935,false,{"$f":"VALUE(Table2[[#This Row],[Identifier]])","v":93815}]
["93816",true,"2804690010 - Consigned from the Republic of Korea",7938,7937,false,{"$f":"VALUE(Table2[[#This Row],[Identifier]])","v":93816}]
["93817",true,"2804690020 - Consigned from Taiwan",7939,7937,false,{"$f":"VALUE(Table2[[#This Row],[Identifier]])","v":93817}]
["93818",true,"2804690090 - Other",7940,7937,false,{"$f":"VALUE(Table2[[#This Row],[Identifier]])","v":93818}]
["93819",true,"2804700000 - Phosphorus",7941,7921,false,{"$f":"VALUE(Table2[[#This Row],[Identifier]])","v":93819}]
["131017",true,"2804701000 - Red phosphorus",7942,7941,false,{"$f":"VALUE(Table2[[#This Row],[Identifier]])","v":131017}]
["131018",true,"2804709000 - Other",7943,7941,false,{"$f":"VALUE(Table2[[#This Row],[Identifier]])","v":131018}]
["93820",true,"2804800000 - Arsenic",7944,7921,false,{"$f":"VALUE(Table2[[#This Row],[Identifier]])","v":93820}]
["93821",true,"2804900000 - Selenium",7945,7921,false,{"$f":"VALUE(Table2[[#This Row],[Identifier]])","v":93821}]
["110421",false,"2824000000 - Lead oxides; red lead and orange lead",8110,7911,false,{"$f":"VALUE(Table2[[#This Row],[Identifier]])","v":110421}]
["93950",true,"2824100000 - Lead monoxide (litharge, massicot)",8111,8110,false,{"$f":"VALUE(Table2[[#This Row],[Identifier]])","v":93950}]
["93951",true,"2824900000 - Other",8112,8110,false,{"$f":"VALUE(Table2[[#This Row],[Identifier]])","v":93951}]
["110478",false,"2900000000 - Organic chemicals",8499,7910,false,{"$f":"VALUE(Table2[[#This Row],[Identifier]])","v":110478}]
["110485",false,"2903000000 - Halogenated derivatives of hydrocarbons",8524,8499,false,{"$f":"VALUE(Table2[[#This Row],[Identifier]])","v":110485}]
["110486",false,"2903110000 - Saturated chlorinated derivatives of acyclic hydrocarbons",8525,8524,false,{"$f":"VALUE(Table2[[#This Row],[Identifier]])","v":110486}]
["94278",true,"2903110000 - Chloromethane (methyl chloride) and chloroethane (ethyl chloride)",8526,8525,false,{"$f":"VALUE(Table2[[#This Row],[Identifier]])","v":94278}]
["94279",true,"2903120000 - Dichloromethane (methylene chloride)",8527,8525,false,{"$f":"VALUE(Table2[[#This Row],[Identifier]])","v":94279}]
["94280",true,"2903130000 - Chloroform (trichloromethane)",8528,8525,false,{"$f":"VALUE(Table2[[#This Row],[Identifier]])","v":94280}]
["94281",true,"2903140000 - Carbon tetrachloride",8529,8525,false,{"$f":"VALUE(Table2[[#This Row],[Identifier]])","v":94281}]
["94282",true,"2903150000 - Ethylene dichloride (ISO) (1,2-dichloroethane)",8530,8525,false,{"$f":"VALUE(Table2[[#This Row],[Identifier]])","v":94282}]
["94283",true,"2903190000 - Other",8531,8525,false,{"$f":"VALUE(Table2[[#This Row],[Identifier]])","v":94283}]
["94284",true,"2903190010 - 1,1,1-Trichloroethane (methylchloroform)",8532,8531,false,{"$f":"VALUE(Table2[[#This Row],[Identifier]])","v":94284}]
["133588",true,"2903190020 - 1,3-Dichloropropane (CAS RN 142-28-9) with a purity by weight of 99 % or more",8533,8531,false,{"$f":"VALUE(Table2[[#This Row],[Identifier]])","v":133588}]
["94285",true,"2903190090 - Other",8534,8531,false,{"$f":"VALUE(Table2[[#This Row],[Identifier]])","v":94285}]
["110487",false,"2903210000 - Unsaturated chlorinated derivatives of acyclic hydrocarbons",8535,8524,false,{"$f":"VALUE(Table2[[#This Row],[Identifier]])","v":110487}]
["94286",true,"2903210000 - Vinyl chloride (chloroethylene)",8536,8535,false,{"$f":"VALUE(Table2[[#This Row],[Identifier]])","v":94286}]
["94287",true,"2903220000 - Trichloroethylene",8537,8535,false,{"$f":"VALUE(Table2[[#This Row],[Identifier]])","v":94287}]
["131023",true,"2903220010 - With a purity by weight of 99 % or more",8538,8537,false,{"$f":"VALUE(Table2[[#This Row],[Identifier]])","v":131023}]
["131024",true,"2903220090 - Other",8539,8537,false,{"$f":"VALUE(Table2[[#This Row],[Identifier]])","v":131024}]
["94288",true,"2903230000 - Tetrachloroethylene (perchloroethylene)",8540,8535,false,{"$f":"VALUE(Table2[[#This Row],[Identifier]])","v":94288}]
["94289",true,"2903290000 - Other",8541,8535,false,{"$f":"VALUE(Table2[[#This Row],[Identifier]])","v":94289}]
["133589",false,"2903410000 - Saturated fluorinated derivatives of acyclic hydrocarbons",8542,8524,false,{"$f":"VALUE(Table2[[#This Row],[Identifier]])","v":133589}]
["133590",true,"2903410000 - Trifluoromethane (HFC-23)",8543,8542,false,{"$f":"VALUE(Table2[[#This Row],[Identifier]])","v":133590}]
["133591",true,"2903420000 - Difluoromethane (HFC-32)",8544,8542,false,{"$f":"VALUE(Table2[[#This Row],[Identifier]])","v":133591}]
["133592",true,"2903430000 - Fluoromethane (HFC-41), 1,2-difluoroethane (HFC-152) and 1,1-difluoroethane (HFC-152a)",8545,8542,false,{"$f":"VALUE(Table2[[#This Row],[Identifier]])","v":133592}]
["133593",true,"2903430010 - Fluoromethane (methyl fluoride) (HFC-41)",8546,8545,false,{"$f":"VALUE(Table2[[#This Row],[Identifier]])","v":133593}]
["133594",true,"2903430020 - 1,2-Difluoroethane (HFC-152)",8547,8545,false,{"$f":"VALUE(Table2[[#This Row],[Identifier]])","v":133594}]
["133595",true,"2903430030 - 1,1-Difluoroethane (HFC-152a)",8548,8545,false,{"$f":"VALUE(Table2[[#This Row],[Identifier]])","v":133595}]
["133596",true,"2903440000 - Pentafluoroethane (HFC-125), 1,1,1-trifluoroethane (HFC-143a) and 1,1,2-trifluoroethane (HFC-143)",8549,8542,false,{"$f":"VALUE(Table2[[#This Row],[Identifier]])","v":133596}]
["133597",true,"2903440010 - Pentafluoroethane (CAS RN 354-33-6)",8550,8549,false,{"$f":"VALUE(Table2[[#This Row],[Identifier]])","v":133597}]
["133598",true,"2903440020 - 1,1,1-Trifluoroethane (HFC-143a)",8551,8549,false,{"$f":"VALUE(Table2[[#This Row],[Identifier]])","v":133598}]
["133599",true,"2903440030 - 1,1,2-Trifluoroethane (HFC-143)",8552,8549,false,{"$f":"VALUE(Table2[[#This Row],[Identifier]])","v":133599}]
["133600",true,"2903450000 - 1,1,1,2-Tetrafluoroethane (HFC-134a) and 1,1,2,2-tetrafluoroethane (HFC-134)",8553,8542,false,{"$f":"VALUE(Table2[[#This Row],[Identifier]])","v":133600}]
["133601",true,"2903450010 - 1,1,1,2-Tetrafluoroethane (HFC-134a)",8554,8553,false,{"$f":"VALUE(Table2[[#This Row],[Identifier]])","v":133601}]
["133602",true,"2903450020 - 1,1,2,2-Tetrafluoroethane (HFC-134)",8555,8553,false,{"$f":"VALUE(Table2[[#This Row],[Identifier]])","v":133602}]
["133603",true,"2903450030 - 1,1,1,2-Tetrafluoroethane (CAS RN 811-97-2) conforming to the following specifications:\n \n-not more than 600 ppm by weight of HFC-134 (1,1,2,2-tetrafluoroethane),\n \n-not more than 5 ppm by weight of HFC-143a (1,1,1-trifluoroethane),\n \n-not more than 2 ppm by weight of HFC-125 (pentafluoroethane),\n \n-not more than 100 ppm by weight of HCFC-124 (1-chloro-1,2,2,2- tetrafluoroethane),\n \n-not more than 30 ppm by weight of CFC-114 (1,2-dichlorotetrafluoroethane),\n \n-not more than 50 ppm by weight of CFC-114a (1,1-dichlorotetrafluoroethane),\n \n-not more than 250 ppm by weight of HCFC-133a (1-chloro-2,2,2-trifluoroethane),\n \n-not more than 2 ppm by weight of HCFC-22 (chlorodifluoromethane),\n \n-not more than 2 ppm by weight of CFC-115 (chloropentafluoroethane),\n \n-not more than 2 ppm by weight of CFC-12 (dichlorodifluoromethane),\n \n-not more than 20 ppm by weight of HCC-40 (methyl chloride),\n \n-not more than 20 ppm by weight of HFC-245cb (1,1,1,2,2-pentafluoropropane),\n \n-not more than 20 ppm by weight of H-12B1 (chlorodifluorobromomethane),\n \n-not more than 20 ppm by weight of HFC-32 (difluoromethane),\n \n-not more than 15 ppm by weight of HCFC-31 (chlorofluoromethane),\n \n-not more than 10 ppm by weight of HFC-152a (1,1-difluoroethane),\n \n-not more than 20 ppm by weight of HFO-1131 (1-chloro-2-fluoroethylene),\n \n-not more than 20 ppm by weight of HCFO-1122 (1-chloro-2,2-difluoroethylene),\n \n-not more than 3 ppm by weight of HFO-1234yf (2,3,3,3-tetrafluoropropene),\n \n-not more than 3 ppm by weight of HFO-1243zf (3,3,3-trifluoropropene), \n \n-not more than 3 ppm by weight of HCFO-1122a (1-chloro-1,2-difluoroethylene),\n \n-not more than 4,5 ppm by weight of HFO-1234yf  HCFO-1122a  HFO-1243zf (2,3,3,3-tetrafluoropropene  1-chloro-1,2-difluoroethylene  3,3,3-trifluoropropene),\n \n-not more than 3 ppm by weight of any individual unspecified/unknown chemical,\n \n-not more than 10 ppm by weight of all unspecified/unknown chemicals combined,\n \n-not more than 10 ppm by weight of water,\n \n-with an acidity level of not more than 0,1 ppm by weight, \n \n-without halides,\n \n-not more than 0,01 % by volume of high boilers,\n \n-without any odour (no malodour),\nfor use with or without further purification as an under GMP (Good Manufacturing Practice) produced inhalation grade of HFC-134a in the manufacture of a propellant for medical aerosols whose contents are absorbed in the oral or nasal cavities, and/or the respiratory tract",8556,8553,false,{"$f":"VALUE(Table2[[#This Row],[Identifier]])","v":133603}]
["133604",true,"2903460000 - 1,1,1,2,3,3,3-Heptafluoropropane (HFC-227ea), 1,1,1,2,2,3-hexafluoropropane (HFC-236cb), 1,1,1,2,3,3-hexafluoropropane (HFC-236ea) and 1,1,1,3,3,3-hexafluoropropane (HFC-236fa)",8557,8542,false,{"$f":"VALUE(Table2[[#This Row],[Identifier]])","v":133604}]
["133605",true,"2903460010 - 1,1,1,2,3,3,3-Heptafluoropropane (HFC-227ea)",8558,8557,false,{"$f":"VALUE(Table2[[#This Row],[Identifier]])","v":133605}]
["133606",true,"2903460020 - 1,1,1,2,2,3-Hexafluoropropane (HFC-236cb)",8559,8557,false,{"$f":"VALUE(Table2[[#This Row],[Identifier]])","v":133606}]
["133607",true,"2903460030 - 1,1,1,2,3,3-Hexafluoropropane (HFC-236ea)",8560,8557,false,{"$f":"VALUE(Table2[[#This Row],[Identifier]])","v":133607}]
["133608",true,"2903460040 - 1,1,1,3,3,3-Hexafluoropropane (HFC-236fa)",8561,8557,false,{"$f":"VALUE(Table2[[#This Row],[Identifier]])","v":133608}]
["133609",true,"2903470000 - 1,1,1,3,3-Pentafluoropropane (HFC-245fa) and 1,1,2,2,3-pentafluoropropane (HFC-245ca)",8562,8542,false,{"$f":"VALUE(Table2[[#This Row],[Identifier]])","v":133609}]
["133610",true,"2903470010 - 1,1,2,2,3-Pentafluoropropane (HFC-245fa)  (CAS RN 460-73-1)",8563,8562,false,{"$f":"VALUE(Table2[[#This Row],[Identifier]])","v":133610}]
["133611",true,"2903470020 - 1,1,1,3,3-Pentafluoropropane (HFC-245fa) (CAS RN 460-73-1)",8564,8562,false,{"$f":"VALUE(Table2[[#This Row],[Identifier]])","v":133611}]
["133612",true,"2903480000 - 1,1,1,3,3-Pentafluorobutane (HFC-365mfc) and 1,1,1,2,2,3,4,5,5,5-decafluoropentane (HFC-43-10mee)",8565,8542,false,{"$f":"VALUE(Table2[[#This Row],[Identifier]])","v":133612}]
["133613",true,"2903480010 - 1,1,1,3,3-Pentafluorobutane (HFC-365mfc)",8566,8565,false,{"$f":"VALUE(Table2[[#This Row],[Identifier]])","v":133613}]
["133614",true,"2903480020 - 1,1,1,2,2,3,4,5,5,5-Decafluoropentane (HFC-43-10mee)",8567,8565,false,{"$f":"VALUE(Table2[[#This Row],[Identifier]])","v":133614}]
["133615",true,"2903490000 - Other",8568,8542,false,{"$f":"VALUE(Table2[[#This Row],[Identifier]])","v":133615}]
["133616",true,"2903491000 - Other pentafluoropropanes, hexafluoropropanes and heptafluoropropanes",8569,8568,false,{"$f":"VALUE(Table2[[#This Row],[Identifier]])","v":133616}]
["133617",true,"2903493000 - Perfluorinated derivatives",8570,8568,false,{"$f":"VALUE(Table2[[#This Row],[Identifier]])","v":133617}]
["133618",true,"2903493010 - Carbon tetrafluoride (tetrafluoromethane) (CAS RN 75-73-0)",8571,8570,false,{"$f":"VALUE(Table2[[#This Row],[Identifier]])","v":133618}]
["133619",true,"2903493020 - Perfluoroethane (CAS RN 76-16-4)",8572,8570,false,{"$f":"VALUE(Table2[[#This Row],[Identifier]])","v":133619}]
["133620",true,"2903493030 - 1H-Perfluorohexane (CAS RN 355-37-3)",8573,8570,false,{"$f":"VALUE(Table2[[#This Row],[Identifier]])","v":133620}]
["133621",true,"2903493090 - Other",8574,8570,false,{"$f":"VALUE(Table2[[#This Row],[Identifier]])","v":133621}]
["133622",true,"2903499000 - Other",8575,8568,false,{"$f":"VALUE(Table2[[#This Row],[Identifier]])","v":133622}]
["133623",true,"2903499010 - Fluoroethane (ethyl fluoride) (HFC-161)",8576,8575,false,{"$f":"VALUE(Table2[[#This Row],[Identifier]])","v":133623}]
["133624",true,"2903499090 - Other",8577,8575,false,{"$f":"VALUE(Table2[[#This Row],[Identifier]])","v":133624}]
["133625",false,"2903510000 - Unsaturated fluorinated derivatives of acyclic hydrocarbons",8578,8524,false,{"$f":"VALUE(Table2[[#This Row],[Identifier]])","v":133625}]
["133626",true,"2903510000 - 2,3,3,3-Tetrafluoropropene (HFO-1234yf), 1,3,3,3-tetrafluoropropene (HFO-1234ze) and (Z)-1,1,1,4,4,4-hexafluoro-2-butene (HFO-1336mzz)",8579,8578,false,{"$f":"VALUE(Table2[[#This Row],[Identifier]])","v":133626}]
["133627",true,"2903510010 - 2,3,3,3-Tetrafluoroprop-1-ene (2,3,3,3-tetrafluoropropene) (CAS RN 754-12-1)",8580,8579,false,{"$f":"VALUE(Table2[[#This Row],[Identifier]])","v":133627}]
["133628",true,"2903510020 - Trans-1,3,3,3-tetrafluoroprop-1-ene (Trans-1,3,3,3-tetrafluoropropene)|(CAS|RN|29118-24-9)",8581,8579,false,{"$f":"VALUE(Table2[[#This Row],[Identifier]])","v":133628}]
["133629",true,"2903510090 - Other",8582,8579,false,{"$f":"VALUE(Table2[[#This Row],[Identifier]])","v":133629}]
["133630",true,"2903590000 - Other",8583,8578,false,{"$f":"VALUE(Table2[[#This Row],[Identifier]])","v":133630}]
["133631",true,"2903590020 - (Perfluorobutyl) ethylene (CAS RN 19430-93-4)",8584,8583,false,{"$f":"VALUE(Table2[[#This Row],[Identifier]])","v":133631}]
["133632",true,"2903590030 - Hexafluoropropene (CAS RN 116-15-4)",8585,8583,false,{"$f":"VALUE(Table2[[#This Row],[Identifier]])","v":133632}]
["133633",true,"2903590040 - 1,1,2,3,4,4-Hexafluorobuta-1,3-diene (CAS|RN|685-63-2)",8586,8583,false,{"$f":"VALUE(Table2[[#This Row],[Identifier]])","v":133633}]
["133634",true,"2903590090 - Other",8587,8583,false,{"$f":"VALUE(Table2[[#This Row],[Identifier]])","v":133634}]
["133635",false,"2903610000 - Brominated or iodinated derivatives of acyclic hydrocarbons",8588,8524,false,{"$f":"VALUE(Table2[[#This Row],[Identifier]])","v":133635}]
["133636",true,"2903610000 - Methyl bromide (bromomethane)",8589,8588,false,{"$f":"VALUE(Table2[[#This Row],[Identifier]])","v":133636}]
["133637",true,"2903620000 - Ethylene dibromide (ISO) (1,2-dibromoethane)",8590,8588,false,{"$f":"VALUE(Table2[[#This Row],[Identifier]])","v":133637}]
["133638",true,"2903690000 - Other",8591,8588,false,{"$f":"VALUE(Table2[[#This Row],[Identifier]])","v":133638}]
["133639",false,"2903691100 - Bromides",8592,8591,false,{"$f":"VALUE(Table2[[#This Row],[Identifier]])","v":133639}]
["133640",true,"2903691100 - Dibromomethane",8593,8592,false,{"$f":"VALUE(Table2[[#This Row],[Identifier]])","v":133640}]
["133641",true,"2903691900 - Other",8594,8592,false,{"$f":"VALUE(Table2[[#This Row],[Identifier]])","v":133641}]
["133642",true,"2903691930 - 1-Bomopropane (CAS RN 106-94-5)",8595,8594,false,{"$f":"VALUE(Table2[[#This Row],[Identifier]])","v":133642}]
["133643",true,"2903691940 - 3-(Bromomethyl)pentane (CAS RN 3814-34-4) with a purity by weight of 99 % or more",8596,8594,false,{"$f":"VALUE(Table2[[#This Row],[Identifier]])","v":133643}]
["133644",true,"2903691950 - Vinyl bromide (CAS RN 593-60-2) with a purity by weight of 98 % or more, or as a solution in tetrahydrofuran (CAS RN 109-99-9) containing by weight 23 % or more, but not more than 26 % vinylbromide",8597,8594,false,{"$f":"VALUE(Table2[[#This Row],[Identifier]])","v":133644}]
["133645",true,"2903691960 - 1-Bromo-2-methylpropane (CAS RN 78-77-3) with a purity by weight of 99 % or more",8598,8594,false,{"$f":"VALUE(Table2[[#This Row],[Identifier]])","v":133645}]
["133646",true,"2903691990 - Other",8599,8594,false,{"$f":"VALUE(Table2[[#This Row],[Identifier]])","v":133646}]
["133647",true,"2903698000 - Iodides",8600,8591,false,{"$f":"VALUE(Table2[[#This Row],[Identifier]])","v":133647}]
["110492",false,"2903710000 - Halogenated derivatives of acyclic hydrocarbons containing two or more different halogens",8601,8524,false,{"$f":"VALUE(Table2[[#This Row],[Identifier]])","v":110492}]
["94327",true,"2903710000 - Chlorodifluoromethane (HCFC-22)",8602,8601,false,{"$f":"VALUE(Table2[[#This Row],[Identifier]])","v":94327}]
["94328",true,"2903720000 - Dichlorotrifluoroethanes (HCFC-123)",8603,8601,false,{"$f":"VALUE(Table2[[#This Row],[Identifier]])","v":94328}]
["118781",true,"2903720010 - Dichloro-1,1,1-trifluoroethane (CAS RN 306-83-2) with a purity by weight of 99 % or more",8604,8603,false,{"$f":"VALUE(Table2[[#This Row],[Identifier]])","v":118781}]
["118782",true,"2903720090 - Other",8605,8603,false,{"$f":"VALUE(Table2[[#This Row],[Identifier]])","v":118782}]
["94329",true,"2903730000 - Dichlorofluoroethanes (HCFC-141, 141b)",8606,8601,false,{"$f":"VALUE(Table2[[#This Row],[Identifier]])","v":94329}]
["94330",true,"2903740000 - Chlorodifluoroethanes (HCFC-142, 142b)",8607,8601,false,{"$f":"VALUE(Table2[[#This Row],[Identifier]])","v":94330}]
["94333",true,"2903750000 - Dichloropentafluoropropanes (HCFC-225, 225ca, 225cb)",8608,8601,false,{"$f":"VALUE(Table2[[#This Row],[Identifier]])","v":94333}]
["94334",true,"2903760000 - Bromochlorodifluoromethane (Halon-1211), bromotrifluoromethane (Halon-1301) and dibromotetrafluoroethanes (Halon-2402)",8609,8601,false,{"$f":"VALUE(Table2[[#This Row],[Identifier]])","v":94334}]
["94335",true,"2903761000 - Bromochlorodifluoromethane (Halon-1211)",8610,8609,false,{"$f":"VALUE(Table2[[#This Row],[Identifier]])","v":94335}]
["94336",true,"2903762000 - Bromotrifluoromethane (Halon-1301)",8611,8609,false,{"$f":"VALUE(Table2[[#This Row],[Identifier]])","v":94336}]
["94337",true,"2903769000 - Dibromotetrafluoroethanes (Halon-2402)",8612,8609,false,{"$f":"VALUE(Table2[[#This Row],[Identifier]])","v":94337}]
["94338",true,"2903770000 - Other, perhalogenated only with fluorine and chlorine",8613,8601,false,{"$f":"VALUE(Table2[[#This Row],[Identifier]])","v":94338}]
["94339",true,"2903776000 - Trichlorofluoromethane, dichlorodifluoromethane, trichlorotrifluoroethanes, dichlorotetrafluoroethanes and chloropentafluoroethane",8614,8613,false,{"$f":"VALUE(Table2[[#This Row],[Identifier]])","v":94339}]
["94340",true,"2903776010 - 1,1,1-Trichlorotrifluoroethane (CAS RN 354-58-5)",8615,8614,false,{"$f":"VALUE(Table2[[#This Row],[Identifier]])","v":94340}]
["94341",true,"2903776090 - Other",8616,8614,false,{"$f":"VALUE(Table2[[#This Row],[Identifier]])","v":94341}]
["94342",true,"2903779000 - Other",8617,8613,false,{"$f":"VALUE(Table2[[#This Row],[Identifier]])","v":94342}]
["94343",true,"2903779010 - Chlorotrifluoroethylene (CAS RN 79-38-9)",8618,8617,false,{"$f":"VALUE(Table2[[#This Row],[Identifier]])","v":94343}]
["94344",true,"2903779015 - Pentachlorofluoroethane",8619,8617,false,{"$f":"VALUE(Table2[[#This Row],[Identifier]])","v":94344}]
["94345",true,"2903779020 - Tetrachlorodifluoroethanes",8620,8617,false,{"$f":"VALUE(Table2[[#This Row],[Identifier]])","v":94345}]
["94346",true,"2903779025 - Heptachlorofluoropropanes",8621,8617,false,{"$f":"VALUE(Table2[[#This Row],[Identifier]])","v":94346}]
["94347",true,"2903779030 - Hexachlorodifluoropropanes",8622,8617,false,{"$f":"VALUE(Table2[[#This Row],[Identifier]])","v":94347}]
["94348",true,"2903779035 - Pentachlorotrifluoropropanes",8623,8617,false,{"$f":"VALUE(Table2[[#This Row],[Identifier]])","v":94348}]
["94349",true,"2903779040 - Tetrachlorotetrafluoropropanes",8624,8617,false,{"$f":"VALUE(Table2[[#This Row],[Identifier]])","v":94349}]
["94350",true,"2903779045 - Trichloropentafluoropropanes",8625,8617,false,{"$f":"VALUE(Table2[[#This Row],[Identifier]])","v":94350}]
["94351",true,"2903779050 - Dichlorohexafluoropropanes",8626,8617,false,{"$f":"VALUE(Table2[[#This Row],[Identifier]])","v":94351}]
["94352",true,"2903779055 - Chloroheptafluoropropanes",8627,8617,false,{"$f":"VALUE(Table2[[#This Row],[Identifier]])","v":94352}]
["94353",true,"2903779060 - Chlorotrifluoromethane",8628,8617,false,{"$f":"VALUE(Table2[[#This Row],[Identifier]])","v":94353}]
["94354",true,"2903779090 - Other",8629,8617,false,{"$f":"VALUE(Table2[[#This Row],[Identifier]])","v":94354}]
["94355",true,"2903780000 - Other perhalogenated derivatives",8630,8601,false,{"$f":"VALUE(Table2[[#This Row],[Identifier]])","v":94355}]
["94356",true,"2903780010 - Octafluoro-1,4-diiodobutane (CAS|RN|375-50-8)",8631,8630,false,{"$f":"VALUE(Table2[[#This Row],[Identifier]])","v":94356}]
["118783",true,"2903780020 - Trifluoroiodomethane (CAS RN 2314-97-8)",8632,8630,false,{"$f":"VALUE(Table2[[#This Row],[Identifier]])","v":118783}]
["94357",true,"2903780090 - Other",8633,8630,false,{"$f":"VALUE(Table2[[#This Row],[Identifier]])","v":94357}]
["94358",true,"2903790000 - Other",8634,8601,false,{"$f":"VALUE(Table2[[#This Row],[Identifier]])","v":94358}]
["94359",true,"2903793000 - Halogenated only with bromine and chlorine, fluorine and chlorine or with fluorine and bromine",8635,8634,false,{"$f":"VALUE(Table2[[#This Row],[Identifier]])","v":94359}]
["94360",true,"2903793010 - Trans-1-chloro-3,3,3-trifluoropropene (CAS RN 102687-65-0)",8636,8635,false,{"$f":"VALUE(Table2[[#This Row],[Identifier]])","v":94360}]
["94361",true,"2903793020 - Bromochloromethane (CAS RN 74-97-5)",8637,8635,false,{"$f":"VALUE(Table2[[#This Row],[Identifier]])","v":94361}]
["118784",true,"2903793030 - 1-Bromo-5-chloropentane (CAS RN 54512-75-3) with a purity by weight of 99 % or more",8638,8635,false,{"$f":"VALUE(Table2[[#This Row],[Identifier]])","v":118784}]
["94362",true,"2903793090 - Other",8639,8635,false,{"$f":"VALUE(Table2[[#This Row],[Identifier]])","v":94362}]
["94363",true,"2903798000 - Other",8640,8634,false,{"$f":"VALUE(Table2[[#This Row],[Identifier]])","v":94363}]
["110493",false,"2903810000 - Halogenated derivatives of cyclanic, cyclenic or cycloterpenic hydrocarbons",8641,8524,false,{"$f":"VALUE(Table2[[#This Row],[Identifier]])","v":110493}]
["94364",true,"2903810000 - 1,2,3,4,5,6-Hexachlorocyclohexane (HCH (ISO)), including lindane (ISO, INN)",8642,8641,false,{"$f":"VALUE(Table2[[#This Row],[Identifier]])","v":94364}]
["94365",true,"2903820000 - Aldrin (ISO), chlordane (ISO) and heptachlor (ISO)",8643,8641,false,{"$f":"VALUE(Table2[[#This Row],[Identifier]])","v":94365}]
["94366",true,"2903830000 - Mirex (ISO)",8644,8641,false,{"$f":"VALUE(Table2[[#This Row],[Identifier]])","v":94366}]
["94367",true,"2903890000 - Other",8645,8641,false,{"$f":"VALUE(Table2[[#This Row],[Identifier]])","v":94367}]
["94368",true,"2903891000 - 1,2-Dibromo-4-(1,2-dibromoethyl)cyclohexane; tetrabromocyclooctanes",8646,8645,false,{"$f":"VALUE(Table2[[#This Row],[Identifier]])","v":94368}]
["94369",true,"2903898000 - Other",8647,8645,false,{"$f":"VALUE(Table2[[#This Row],[Identifier]])","v":94369}]
["118785",true,"2903898020 - 1,2,5,6,9,10-Hexabromocyclodecane (CAS RN 3194-55-6)",8648,8647,false,{"$f":"VALUE(Table2[[#This Row],[Identifier]])","v":118785}]
["118786",true,"2903898025 - rel-(1R,2R,5S,6R,9R,10S)-1,2,5,6,9,10-hexabromocyclododecane (CAS RN 134237-50-6)",8649,8647,false,{"$f":"VALUE(Table2[[#This Row],[Identifier]])","v":118786}]
["118787",true,"2903898030 - rel-(1R,2R,5R,6S,9R,10S)-1,2,5,6,9,10-hexabromocyclododecane (CAS RN 134237-51-7)",8650,8647,false,{"$f":"VALUE(Table2[[#This Row],[Identifier]])","v":118787}]
["118788",true,"2903898035 - rel-(1R,2R,5R,6S,9S,10R)-1,2,5,6,9,10-hexabromocyclododecane (CAS RN 134237-52-8)",8651,8647,false,{"$f":"VALUE(Table2[[#This Row],[Identifier]])","v":118788}]
["94372",true,"2903898050 - Chlorocyclopentane (CAS RN 930-28-9)",8652,8647,false,{"$f":"VALUE(Table2[[#This Row],[Identifier]])","v":94372}]
["94373",true,"2903898060 - Octafluorocyclobutane (CAS|RN|115-25-3)",8653,8647,false,{"$f":"VALUE(Table2[[#This Row],[Identifier]])","v":94373}]
["94374",true,"2903898090 - Other",8654,8647,false,{"$f":"VALUE(Table2[[#This Row],[Identifier]])","v":94374}]
["110494",false,"2903910000 - Halogenated derivatives of aromatic hydrocarbons",8655,8524,false,{"$f":"VALUE(Table2[[#This Row],[Identifier]])","v":110494}]
["94375",true,"2903910000 - Chlorobenzene, o-dichlorobenzene and p-dichlorobenzene",8656,8655,false,{"$f":"VALUE(Table2[[#This Row],[Identifier]])","v":94375}]
["94376",true,"2903920000 - Hexachlorobenzene (ISO) and DDT (ISO) (clofenotane (INN), 1,1,1-trichloro-2,2-bis(p-chlorophenyl)ethane)",8657,8655,false,{"$f":"VALUE(Table2[[#This Row],[Identifier]])","v":94376}]
["94377",true,"2903930000 - Pentachlorobenzene (ISO)",8658,8655,false,{"$f":"VALUE(Table2[[#This Row],[Identifier]])","v":94377}]
["94378",true,"2903940000 - Hexabromobiphenyls",8659,8655,false,{"$f":"VALUE(Table2[[#This Row],[Identifier]])","v":94378}]
["94379",true,"2903990000 - Other",8660,8655,false,{"$f":"VALUE(Table2[[#This Row],[Identifier]])","v":94379}]
["94380",true,"2903991000 - 2,3,4,5,6-Pentabromoethylbenzene",8661,8660,false,{"$f":"VALUE(Table2[[#This Row],[Identifier]])","v":94380}]
["94381",true,"2903998000 - Other",8662,8660,false,{"$f":"VALUE(Table2[[#This Row],[Identifier]])","v":94381}]
["94382",true,"2903998015 - 4-Bromo-2-chloro-1-fluorobenzene (CAS RN 60811-21-4)",8663,8662,false,{"$f":"VALUE(Table2[[#This Row],[Identifier]])","v":94382}]
["94383",true,"2903998020 - 1,2-Bis(pentabromophenyl)ethane (CAS RN 84852-53-9)",8664,8662,false,{"$f":"VALUE(Table2[[#This Row],[Identifier]])","v":94383}]
["131026",true,"2903998025 - 2,2'-Dibromobiphenyl (CAS RN 13029-09-9) with a purity by weight of 95 % or more",8665,8662,false,{"$f":"VALUE(Table2[[#This Row],[Identifier]])","v":131026}]
["94384",true,"2903998030 - 1,3-Dichlorobenzene (CAS RN 541-73-1)",8666,8662,false,{"$f":"VALUE(Table2[[#This Row],[Identifier]])","v":94384}]
["131027",true,"2903998035 - 2-Bromo-9,9'-spirobi[9H-fluoren] (CAS RN 171408-76-7) with a purity by weight of 95 % or more",8667,8662,false,{"$f":"VALUE(Table2[[#This Row],[Identifier]])","v":131027}]
["94385",true,"2903998040 - 2,6-Dichlorotoluene (CAS RN 118-69-4), of a purity by weight of 99|% or more and containing:\n \n-|0,001|mg/kg or less of tetrachlorodibenzodioxines,\n \n-|0,001|mg/kg or less of tetrachlorodibenzofurans,\n \n-|0,2|mg/kg or less of tetrachlorobiphenyls",8668,8662,false,{"$f":"VALUE(Table2[[#This Row],[Identifier]])","v":94385}]
["131028",true,"2903998045 - 1-Bromo-4-(trans-4-propylcyclohexyl)benzene (CAS RN 86579-53-5) with a purity by weight of 95 % or more",8669,8662,false,{"$f":"VALUE(Table2[[#This Row],[Identifier]])","v":131028}]
["94386",true,"2903998050 - Fluorobenzene (CAS RN|462-06-6)",8670,8662,false,{"$f":"VALUE(Table2[[#This Row],[Identifier]])","v":94386}]
["131029",true,"2903998055 - 1-Bromo-4-(trans-4-ethylcyclohexyl)benzene (CAS RN 91538-82-8) with a purity by weight of 95 % or more",8671,8662,false,{"$f":"VALUE(Table2[[#This Row],[Identifier]])","v":131029}]
["133648",true,"2903998065 - 2,6-Difluorobenzyl bromide (CAS RN 85118-00-9) with a purity by weight of 97 % or more",8672,8662,false,{"$f":"VALUE(Table2[[#This Row],[Identifier]])","v":133648}]
["133649",true,"2903998070 - 1-[Chloro(phenyl)methyl]-2-methylbenzene (CAS RN 41870-52-4) with a purity by weight of 99 % or more",8673,8662,false,{"$f":"VALUE(Table2[[#This Row],[Identifier]])","v":133649}]
["94388",true,"2903998075 - 3-Chloro-alpha,alpha,alpha-trifluorotoluene (CAS RN 98-15-7)",8674,8662,false,{"$f":"VALUE(Table2[[#This Row],[Identifier]])","v":94388}]
["94389",true,"2903998080 - 1-Bromo-3,4,5-trifluorobenzene (CAS RN 138526-69-9)",8675,8662,false,{"$f":"VALUE(Table2[[#This Row],[Identifier]])","v":94389}]
["94390",true,"2903998090 - Other",8676,8662,false,{"$f":"VALUE(Table2[[#This Row],[Identifier]])","v":94390}]
["110524",false,"2910000000 - Epoxides, epoxyalcohols, epoxyphenols and epoxyethers, with a three-membered ring, and their halogenated, sulphonated, nitrated or nitrosated derivatives",8939,8499,false,{"$f":"VALUE(Table2[[#This Row],[Identifier]])","v":110524}]
["94610",true,"2910100000 - Oxirane (ethylene oxide)",8940,8939,false,{"$f":"VALUE(Table2[[#This Row],[Identifier]])","v":94610}]
["94611",true,"2910200000 - Methyloxirane (propylene oxide)",8941,8939,false,{"$f":"VALUE(Table2[[#This Row],[Identifier]])","v":94611}]
["94612",true,"2910300000 - 1-Chloro-2,3-epoxypropane (epichlorohydrin)",8942,8939,false,{"$f":"VALUE(Table2[[#This Row],[Identifier]])","v":94612}]
["94613",true,"2910400000 - Dieldrin (ISO, INN)",8943,8939,false,{"$f":"VALUE(Table2[[#This Row],[Identifier]])","v":94613}]
["94614",true,"2910500000 - Endrin (ISO)",8944,8939,false,{"$f":"VALUE(Table2[[#This Row],[Identifier]])","v":94614}]
["94615",true,"2910900000 - Other",8945,8939,false,{"$f":"VALUE(Table2[[#This Row],[Identifier]])","v":94615}]
["118803",true,"2910900010 - 2-[(2-Methoxyphenoxy)methyl]oxirane (CAS RN 2210-74-4)",8946,8945,false,{"$f":"VALUE(Table2[[#This Row],[Identifier]])","v":118803}]
["94616",true,"2910900015 - 1,2-Epoxycyclohexane (CAS RN 286-20-4)",8947,8945,false,{"$f":"VALUE(Table2[[#This Row],[Identifier]])","v":94616}]
["94617",true,"2910900025 - Phenyloxirane (CAS RN 96-09-3)",8948,8945,false,{"$f":"VALUE(Table2[[#This Row],[Identifier]])","v":94617}]
["94618",true,"2910900030 - 2,3-Epoxypropan-1-ol (glycidol)|(CAS RN 556-52-5)",8949,8945,false,{"$f":"VALUE(Table2[[#This Row],[Identifier]])","v":94618}]
["131037",true,"2910900040 - [(2R)-Oxiran-2-yl]methyl 3-nitrobenzenesulphonate (CAS RN 115314-17-5) with a purity by weight of 97 % or more",8950,8945,false,{"$f":"VALUE(Table2[[#This Row],[Identifier]])","v":131037}]
["94619",true,"2910900050 - 2,3-Epoxypropyl phenyl ether (CAS RN 122-60-1)",8951,8945,false,{"$f":"VALUE(Table2[[#This Row],[Identifier]])","v":94619}]
["94620",true,"2910900080 - Allyl glycidyl ether (CAS RN 106-92-3)",8952,8945,false,{"$f":"VALUE(Table2[[#This Row],[Identifier]])","v":94620}]
["94621",true,"2910900090 - Other",8953,8945,false,{"$f":"VALUE(Table2[[#This Row],[Identifier]])","v":94621}]
["110561",false,"2921000000 - IX. NITROGEN-FUNCTION COMPOUNDS",9455,8499,false,{"$f":"VALUE(Table2[[#This Row],[Identifier]])","v":110561}]
["110562",false,"2921000000 - Amine-function compounds",9456,9455,false,{"$f":"VALUE(Table2[[#This Row],[Identifier]])","v":110562}]
["110563",false,"2921110000 - Acyclic monoamines and their derivatives; salts thereof",9457,9456,false,{"$f":"VALUE(Table2[[#This Row],[Identifier]])","v":110563}]
["95037",true,"2921110000 - Methylamine, di- or trimethylamine and their salts",9458,9457,false,{"$f":"VALUE(Table2[[#This Row],[Identifier]])","v":95037}]
["95038",true,"2921120000 - 2-(N,N-Dimethylamino)ethylchloride hydrochloride",9459,9457,false,{"$f":"VALUE(Table2[[#This Row],[Identifier]])","v":95038}]
["95039",true,"2921130000 - 2-(N,N-Diethylamino)ethylchloride hydrochloride",9460,9457,false,{"$f":"VALUE(Table2[[#This Row],[Identifier]])","v":95039}]
["133719",true,"2921130010 - Aqueous solution containing by weight 63 % or more, but not more than 67 % of 2-(N,N-Diethylamino)ethylchloride hydrochloride",9461,9460,false,{"$f":"VALUE(Table2[[#This Row],[Identifier]])","v":133719}]
["133720",true,"2921130090 - Other",9462,9460,false,{"$f":"VALUE(Table2[[#This Row],[Identifier]])","v":133720}]
["95040",true,"2921140000 - 2-(N,N-Diisopropylamino)ethylchloride hydrochloride",9463,9457,false,{"$f":"VALUE(Table2[[#This Row],[Identifier]])","v":95040}]
["95041",true,"2921190000 - Other",9464,9457,false,{"$f":"VALUE(Table2[[#This Row],[Identifier]])","v":95041}]
["95042",true,"2921194000 - 1,1,3,3-Tetramethylbutylamine",9465,9464,false,{"$f":"VALUE(Table2[[#This Row],[Identifier]])","v":95042}]
["95043",true,"2921195000 - Diethylamine and its salts",9466,9464,false,{"$f":"VALUE(Table2[[#This Row],[Identifier]])","v":95043}]
["95046",true,"2921199900 - Other",9467,9464,false,{"$f":"VALUE(Table2[[#This Row],[Identifier]])","v":95046}]
["95047",true,"2921199920 - Ethyl(2-methylallyl)amine (CAS RN 18328-90-0)",9468,9467,false,{"$f":"VALUE(Table2[[#This Row],[Identifier]])","v":95047}]
["95048",true,"2921199930 - Allylamine (CAS RN 107-11-9)",9469,9467,false,{"$f":"VALUE(Table2[[#This Row],[Identifier]])","v":95048}]
["95049",true,"2921199945 - 2-Chloro-N-(2-chloroethyl)ethanamine hydrochloride (CAS RN 821-48-7)",9470,9467,false,{"$f":"VALUE(Table2[[#This Row],[Identifier]])","v":95049}]
["95051",true,"2921199975 - Octadecylamine (CAS RN 124-30-1)",9471,9467,false,{"$f":"VALUE(Table2[[#This Row],[Identifier]])","v":95051}]
["95052",true,"2921199980 - Taurine (CAS RN 107-35-7), with 0,5 % addition of anti-caking agent silicon dioxide (CAS RN 112926-00-8)",9472,9467,false,{"$f":"VALUE(Table2[[#This Row],[Identifier]])","v":95052}]
["95053",true,"2921199990 - Other",9473,9467,false,{"$f":"VALUE(Table2[[#This Row],[Identifier]])","v":95053}]
["110564",false,"2921210000 - Acyclic polyamines and their derivatives; salts thereof",9474,9456,false,{"$f":"VALUE(Table2[[#This Row],[Identifier]])","v":110564}]
["95054",true,"2921210000 - Ethylenediamine and its salts",9475,9474,false,{"$f":"VALUE(Table2[[#This Row],[Identifier]])","v":95054}]
["95055",true,"2921220000 - Hexamethylenediamine and its salts",9476,9474,false,{"$f":"VALUE(Table2[[#This Row],[Identifier]])","v":95055}]
["95056",true,"2921290000 - Other",9477,9474,false,{"$f":"VALUE(Table2[[#This Row],[Identifier]])","v":95056}]
["131059",true,"2921290015 - (2S)-propane-1,2-diamine dihydrochloride (CAS RN 19777-66-3) with a purity by weight of 98 % or more",9478,9477,false,{"$f":"VALUE(Table2[[#This Row],[Identifier]])","v":131059}]
["95057",true,"2921290020 - Tris[3-(dimethylamino)propyl]amine|(CAS RN 33329-35-0)",9479,9477,false,{"$f":"VALUE(Table2[[#This Row],[Identifier]])","v":95057}]
["131060",true,"2921290025 - N,N'-Diallylpropane-1,3-diamine dihydrochloride (CAS RN 205041-15-2) with a purity by weight or 96 % or more",9480,9477,false,{"$f":"VALUE(Table2[[#This Row],[Identifier]])","v":131060}]
["95058",true,"2921290030 - Bis[3-(dimethylamino)propyl]methylamine|(CAS RN 3855-32-1)",9481,9477,false,{"$f":"VALUE(Table2[[#This Row],[Identifier]])","v":95058}]
["133721",true,"2921290035 - Pentamethylenediamine (CAS RN 462-94-2) with a purity by weight of 99 % or more, also as an aqueous solution containing by weight more than 50 % of pentamethylenediamine",9482,9477,false,{"$f":"VALUE(Table2[[#This Row],[Identifier]])","v":133721}]
["95059",true,"2921290040 - Decamethylenediamine (CAS RN 646-25-3)",9483,9477,false,{"$f":"VALUE(Table2[[#This Row],[Identifier]])","v":95059}]
["95060",true,"2921290050 - N'-[3-(Dimethylamino)propyl]-N,N-dimethylpropane-1,3-diamine, (CAS RN 6711-48-4)",9484,9477,false,{"$f":"VALUE(Table2[[#This Row],[Identifier]])","v":95060}]
["95061",true,"2921290060 - Bis(2-dimethylaminoethyl)(methyl)amine (CAS RN 3030-47-5)",9485,9477,false,{"$f":"VALUE(Table2[[#This Row],[Identifier]])","v":95061}]
["131061",true,"2921290070 - N,N,N',N'-tetramethylethylenediamine (CAS RN 110-18-9) with a purity by weight of 99 % or more",9486,9477,false,{"$f":"VALUE(Table2[[#This Row],[Identifier]])","v":131061}]
["95062",true,"2921290090 - Other",9487,9477,false,{"$f":"VALUE(Table2[[#This Row],[Identifier]])","v":95062}]
["95063",true,"2921300000 - Cyclanic, cyclenic or cycloterpenic mono- or polyamines, and their derivatives; salts thereof",9488,9456,false,{"$f":"VALUE(Table2[[#This Row],[Identifier]])","v":95063}]
["95064",true,"2921301000 - Cyclohexylamine and cyclohexyldimethylamine, and their salts",9489,9488,false,{"$f":"VALUE(Table2[[#This Row],[Identifier]])","v":95064}]
["95065",true,"2921301010 - 2-(4-(cyclopropanecarbonyl)phenyl)-2-methylpropanoic acid cyclohexylamine salt (CAS|RN|1690344-90-1)",9490,9489,false,{"$f":"VALUE(Table2[[#This Row],[Identifier]])","v":95065}]
["95066",true,"2921301090 - Other",9491,9489,false,{"$f":"VALUE(Table2[[#This Row],[Identifier]])","v":95066}]
["95067",true,"2921309100 - Cyclohex-1,3-ylenediamine (1,3-diaminocyclohexane)",9492,9488,false,{"$f":"VALUE(Table2[[#This Row],[Identifier]])","v":95067}]
["95068",true,"2921309900 - Other",9493,9488,false,{"$f":"VALUE(Table2[[#This Row],[Identifier]])","v":95068}]
["95070",true,"2921309940 - Cyclopropylamin (CAS RN 765-30-0)",9494,9493,false,{"$f":"VALUE(Table2[[#This Row],[Identifier]])","v":95070}]
["118843",true,"2921309950 - Bicyclo[1.1.1]pentan-1-amine hydrochloride (CAS RN 22287-35-0)",9495,9493,false,{"$f":"VALUE(Table2[[#This Row],[Identifier]])","v":118843}]
["95071",true,"2921309990 - Other",9496,9493,false,{"$f":"VALUE(Table2[[#This Row],[Identifier]])","v":95071}]
["110565",false,"2921410000 - Aromatic monoamines and their derivatives; salts thereof",9497,9456,false,{"$f":"VALUE(Table2[[#This Row],[Identifier]])","v":110565}]
["95072",true,"2921410000 - Aniline and its salts",9498,9497,false,{"$f":"VALUE(Table2[[#This Row],[Identifier]])","v":95072}]
["95073",true,"2921410010 - Aniline (CAS RN 62-53-3) with a purity by weight of 99 % or more",9499,9498,false,{"$f":"VALUE(Table2[[#This Row],[Identifier]])","v":95073}]
["95074",true,"2921410090 - Other",9500,9498,false,{"$f":"VALUE(Table2[[#This Row],[Identifier]])","v":95074}]
["95075",true,"2921420000 - Aniline derivatives and their salts",9501,9497,false,{"$f":"VALUE(Table2[[#This Row],[Identifier]])","v":95075}]
["95077",true,"2921420025 - Sodium hydrogen 2-aminobenzene-1,4-disulphonate (CAS RN 24605-36-5)",9502,9501,false,{"$f":"VALUE(Table2[[#This Row],[Identifier]])","v":95077}]
["95079",true,"2921420035 - 2-Nitroaniline (CAS RN 88-74-4)",9503,9501,false,{"$f":"VALUE(Table2[[#This Row],[Identifier]])","v":95079}]
["95080",true,"2921420040 - Sodium sulphanilate (CAS RN 515-74-2), also in form of its mono- or dihydrates (CAS RN 123333-70-0 or 6106-22-5)",9504,9501,false,{"$f":"VALUE(Table2[[#This Row],[Identifier]])","v":95080}]
["95081",true,"2921420045 - 2,4,5-Trichloroaniline (CAS RN 636-30-6)",9505,9501,false,{"$f":"VALUE(Table2[[#This Row],[Identifier]])","v":95081}]
["95082",true,"2921420050 - 3-Aminobenzenesulfonic acid (CAS RN 121-47-1)",9506,9501,false,{"$f":"VALUE(Table2[[#This Row],[Identifier]])","v":95082}]
["118844",true,"2921420055 - 4-Chloroaniline (CAS RN 106-47-8)",9507,9501,false,{"$f":"VALUE(Table2[[#This Row],[Identifier]])","v":118844}]
["95083",true,"2921420060 - Sulphanilic acid",9508,9501,false,{"$f":"VALUE(Table2[[#This Row],[Identifier]])","v":95083}]
["131062",true,"2921420061 - Potassium sulphanilate, calcium sulphanilate",9509,9501,false,{"$f":"VALUE(Table2[[#This Row],[Identifier]])","v":131062}]
["95084",true,"2921420070 - 2-Aminobenzene-1,4-disulfonic acid (CAS RN 98-44-2)",9510,9501,false,{"$f":"VALUE(Table2[[#This Row],[Identifier]])","v":95084}]
["95085",true,"2921420080 - 4-Chloro-2-nitroaniline (CAS RN 89-63-4)",9511,9501,false,{"$f":"VALUE(Table2[[#This Row],[Identifier]])","v":95085}]
["95086",true,"2921420085 - 3,5-Dichloroaniline (CAS RN 626-43-7)",9512,9501,false,{"$f":"VALUE(Table2[[#This Row],[Identifier]])","v":95086}]
["95087",true,"2921420086 - 2,5-Dichloroaniline|(CAS RN 95-82-9)",9513,9501,false,{"$f":"VALUE(Table2[[#This Row],[Identifier]])","v":95087}]
["95088",true,"2921420087 - N-Methylaniline (CAS RN 100-61-8)",9514,9501,false,{"$f":"VALUE(Table2[[#This Row],[Identifier]])","v":95088}]
["95089",true,"2921420088 - 3,4-Dichloroaniline-6-sulphonic acid (CAS RN 6331-96-0)",9515,9501,false,{"$f":"VALUE(Table2[[#This Row],[Identifier]])","v":95089}]
["95090",true,"2921420089 - 4-Fluoro-N-(1-methylethyl)benzeneamine (CAS RN 70441-63-3)",9516,9501,false,{"$f":"VALUE(Table2[[#This Row],[Identifier]])","v":95090}]
["95091",true,"2921420090 - Other",9517,9501,false,{"$f":"VALUE(Table2[[#This Row],[Identifier]])","v":95091}]
["95092",true,"2921430000 - Toluidines and their derivatives; salts thereof",9518,9497,false,{"$f":"VALUE(Table2[[#This Row],[Identifier]])","v":95092}]
["95093",true,"2921430020 - 4-Amino-6-chlorotoluene-3-sulphonic acid (CAS RN 88-51-7)",9519,9518,false,{"$f":"VALUE(Table2[[#This Row],[Identifier]])","v":95093}]
["133722",true,"2921430025 - 6-Chloro-α,α,α-trifluoro-m-toluidine (CAS RN 121-50-6) with a purity by weight of 98 % or more",9520,9518,false,{"$f":"VALUE(Table2[[#This Row],[Identifier]])","v":133722}]
["95094",true,"2921430030 - 3-Nitro-p-toluidine (CAS RN 119-32-4)",9521,9518,false,{"$f":"VALUE(Table2[[#This Row],[Identifier]])","v":95094}]
["95095",true,"2921430040 - 4-Aminotoluene-3-sulphonic acid (CAS RN 88-44-8)",9522,9518,false,{"$f":"VALUE(Table2[[#This Row],[Identifier]])","v":95095}]
["95097",true,"2921430060 - 3-Aminobenzotrifluoride (CAS RN 98-16-8)",9523,9518,false,{"$f":"VALUE(Table2[[#This Row],[Identifier]])","v":95097}]
["95098",true,"2921430070 - 5-Bromo-4-fluoro-2-methylaniline (CAS RN 627871-16-3)",9524,9518,false,{"$f":"VALUE(Table2[[#This Row],[Identifier]])","v":95098}]
["118845",true,"2921430080 - 2-Methylaniline (CAS RN 95-53-4) with a purity by weight of at least 99 %",9525,9518,false,{"$f":"VALUE(Table2[[#This Row],[Identifier]])","v":118845}]
["95099",true,"2921430090 - Other",9526,9518,false,{"$f":"VALUE(Table2[[#This Row],[Identifier]])","v":95099}]
["95100",true,"2921440000 - Diphenylamine and its derivatives; salts thereof",9527,9497,false,{"$f":"VALUE(Table2[[#This Row],[Identifier]])","v":95100}]
["95101",true,"2921440020 - Diphenylamine (CAS RN 122-39-4)",9528,9527,false,{"$f":"VALUE(Table2[[#This Row],[Identifier]])","v":95101}]
["95102",true,"2921440090 - Other",9529,9527,false,{"$f":"VALUE(Table2[[#This Row],[Identifier]])","v":95102}]
["95103",true,"2921450000 - 1-Naphthylamine (α-naphthylamine), 2-naphthylamine (β-naphthylamine) and their derivatives; salts thereof",9530,9497,false,{"$f":"VALUE(Table2[[#This Row],[Identifier]])","v":95103}]
["95104",true,"2921450020 - 2-Aminonaphthalene-1,5-disulphonic acid (CAS RN 117-62-4) or one of its sodium salts (CAS RN 19532-03-7) or (CAS RN 62203-79-6)",9531,9530,false,{"$f":"VALUE(Table2[[#This Row],[Identifier]])","v":95104}]
["95105",true,"2921450030 - (5 or 8)-Aminonaphthalene-2-sulphonic acid (CAS RN 51548-48-2)",9532,9530,false,{"$f":"VALUE(Table2[[#This Row],[Identifier]])","v":95105}]
["95106",true,"2921450050 - 7-Aminonaphthalene-1,3,6-trisulphonic acid (CAS RN 118-03-6)",9533,9530,false,{"$f":"VALUE(Table2[[#This Row],[Identifier]])","v":95106}]
["95107",true,"2921450060 - 1-Naphthylamine (CAS|RN|134-32-7)",9534,9530,false,{"$f":"VALUE(Table2[[#This Row],[Identifier]])","v":95107}]
["95109",true,"2921450080 - 2-Aminonaphthalene-1-sulphonic acid (CAS RN 81-16-3)",9535,9530,false,{"$f":"VALUE(Table2[[#This Row],[Identifier]])","v":95109}]
["95110",true,"2921450090 - Other",9536,9530,false,{"$f":"VALUE(Table2[[#This Row],[Identifier]])","v":95110}]
["95111",true,"2921460000 - Amfetamine (INN), benzfetamine (INN), dexamfetamine (INN), etilamfetamine (INN), fencamfamin (INN), lefetamine (INN), levamfetamine (INN), mefenorex (INN) and phentermine (INN); salts thereof",9537,9497,false,{"$f":"VALUE(Table2[[#This Row],[Identifier]])","v":95111}]
["95112",true,"2921490000 - Other",9538,9497,false,{"$f":"VALUE(Table2[[#This Row],[Identifier]])","v":95112}]
["95113",true,"2921490020 - Pendimethalin (ISO) (CAS RN 40487-42-1)",9539,9538,false,{"$f":"VALUE(Table2[[#This Row],[Identifier]])","v":95113}]
["118846",true,"2921490030 - 4-Isopropylaniline (CAS RN 99-88-7)",9540,9538,false,{"$f":"VALUE(Table2[[#This Row],[Identifier]])","v":118846}]
["95114",true,"2921490035 - 2-Ethylaniline (CAS RN 578-54-1)",9541,9538,false,{"$f":"VALUE(Table2[[#This Row],[Identifier]])","v":95114}]
["95115",true,"2921490040 - N-1-Naphthylaniline (CAS RN 90-30-2)",9542,9538,false,{"$f":"VALUE(Table2[[#This Row],[Identifier]])","v":95115}]
["131063",true,"2921490045 - 2-(4-Biphenylyl)amino-9,9-dimethylfluoren (CAS RN 897671-69-1) with a purity by weight of 95 % or more",9543,9538,false,{"$f":"VALUE(Table2[[#This Row],[Identifier]])","v":131063}]
["131064",true,"2921490055 - 2-(2-Biphenylyl)amino-9,9-dimethylfluoren (CAS RN 1198395-24-2) with a purity by weight of 95 % or more",9544,9538,false,{"$f":"VALUE(Table2[[#This Row],[Identifier]])","v":131064}]
["95116",true,"2921490060 - 2,6-Diisopropylaniline (CAS RN 24544-04-5)",9545,9538,false,{"$f":"VALUE(Table2[[#This Row],[Identifier]])","v":95116}]
["131065",true,"2921490065 - Bis-(9,9-dimethylfluoren-2-yl)amine (CAS RN 500717-23-7) with a purity by weight of 95 % or more",9546,9538,false,{"$f":"VALUE(Table2[[#This Row],[Identifier]])","v":131065}]
["95118",true,"2921490090 - Other",9547,9538,false,{"$f":"VALUE(Table2[[#This Row],[Identifier]])","v":95118}]
["110566",false,"2921510000 - Aromatic polyamines and their derivatives; salts thereof",9548,9456,false,{"$f":"VALUE(Table2[[#This Row],[Identifier]])","v":110566}]
["95119",true,"2921510000 - o-, m-, p-Phenylenediamine, diaminotoluenes, and their derivatives; salts thereof",9549,9548,false,{"$f":"VALUE(Table2[[#This Row],[Identifier]])","v":95119}]
["110567",false,"2921511100 - o-, m-, p-Phenylenediamine, diaminotoluenes and their halogenated, sulphonated, nitrated and nitrosated derivatives; salts thereof",9550,9549,false,{"$f":"VALUE(Table2[[#This Row],[Identifier]])","v":110567}]
["95120",true,"2921511100 - m-Phenylenediamine, of a purity by weight of 99|% or more and containing:\n-|1|% or less by weight of water,\n-|200|mg/kg or less of o-phenylenediamine and\n-|450|mg/kg or less of p-phenylenediamine",9551,9550,false,{"$f":"VALUE(Table2[[#This Row],[Identifier]])","v":95120}]
["95121",true,"2921511900 - Other",9552,9550,false,{"$f":"VALUE(Table2[[#This Row],[Identifier]])","v":95121}]
["95122",true,"2921511910 - o-Phenylenediamine (CAS RN 95-54-5)",9553,9552,false,{"$f":"VALUE(Table2[[#This Row],[Identifier]])","v":95122}]
["95123",true,"2921511930 - 2-Methyl-p-phenylenediamine sulphate (CAS RN 615-50-9)",9554,9552,false,{"$f":"VALUE(Table2[[#This Row],[Identifier]])","v":95123}]
["95124",true,"2921511940 - p-Phenylenediamine (CAS RN 106-50-3)",9555,9552,false,{"$f":"VALUE(Table2[[#This Row],[Identifier]])","v":95124}]
["95125",true,"2921511950 - Mono- and dichloroderivatives of p-phenylenediamine and p-diaminotoluene",9556,9552,false,{"$f":"VALUE(Table2[[#This Row],[Identifier]])","v":95125}]
["95126",true,"2921511960 - 2,4-Diaminobenzenesulphonic acid (CAS RN 88-63-1)",9557,9552,false,{"$f":"VALUE(Table2[[#This Row],[Identifier]])","v":95126}]
["95128",true,"2921511990 - Other",9558,9552,false,{"$f":"VALUE(Table2[[#This Row],[Identifier]])","v":95128}]
["95129",true,"2921519000 - Other",9559,9549,false,{"$f":"VALUE(Table2[[#This Row],[Identifier]])","v":95129}]
["118847",true,"2921519010 - N-(4-Chlorophenyl)benzene-1,2-diamine (CAS RN 68817-71-0) with a purity by weight of 97 % or more",9560,9559,false,{"$f":"VALUE(Table2[[#This Row],[Identifier]])","v":118847}]
["118848",true,"2921519090 - Other",9561,9559,false,{"$f":"VALUE(Table2[[#This Row],[Identifier]])","v":118848}]
["95130",true,"2921590000 - Other",9562,9548,false,{"$f":"VALUE(Table2[[#This Row],[Identifier]])","v":95130}]
["95131",true,"2921595000 - m-Phenylenebis(methylamine); 2,2′-dichloro-4,4′-methylenedianiline; 4,4′-bi-o-toluidine; 1,8-naphthylenediamine",9563,9562,false,{"$f":"VALUE(Table2[[#This Row],[Identifier]])","v":95131}]
["118849",true,"2921595010 - 2,2'-dichloro-4,4'-methylenedianiline (MOCA) (CAS RN 101-14-4)",9564,9563,false,{"$f":"VALUE(Table2[[#This Row],[Identifier]])","v":118849}]
["118850",true,"2921595090 - Other",9565,9563,false,{"$f":"VALUE(Table2[[#This Row],[Identifier]])","v":118850}]
["95132",true,"2921599000 - Other",9566,9562,false,{"$f":"VALUE(Table2[[#This Row],[Identifier]])","v":95132}]
["95133",true,"2921599010 - Mixture of isomers of 3,5-diethyltoluenediamine (CAS RN 68479-98-1, CAS RN 75389-89-8)",9567,9566,false,{"$f":"VALUE(Table2[[#This Row],[Identifier]])","v":95133}]
["95134",true,"2921599030 - 3,3'-Dichlorobenzidine dihydrochloride (CAS RN 612-83-9)",9568,9566,false,{"$f":"VALUE(Table2[[#This Row],[Identifier]])","v":95134}]
["95135",true,"2921599040 - 4,4'-Diaminostilbene-2,2'-disulphonic acid (CAS RN 81-11-8)",9569,9566,false,{"$f":"VALUE(Table2[[#This Row],[Identifier]])","v":95135}]
["118851",true,"2921599075 - 4,4’- Diaminodiphenylmethane (MDA) (CAS RN 101-77-9)",9570,9566,false,{"$f":"VALUE(Table2[[#This Row],[Identifier]])","v":118851}]
["118852",true,"2921599085 - 4,4'-Methanediyldianiline (CAS RN 101-77-9) with a purity by weight of at least 97 %, in the form of granules, for use in the manufacture of prepolymers",9571,9566,false,{"$f":"VALUE(Table2[[#This Row],[Identifier]])","v":118852}]
["95139",true,"2921599090 - Other",9572,9566,false,{"$f":"VALUE(Table2[[#This Row],[Identifier]])","v":95139}]
["110591",false,"2933000000 - Heterocyclic compounds with nitrogen hetero-atom(s) only",10096,8499,false,{"$f":"VALUE(Table2[[#This Row],[Identifier]])","v":110591}]
["110592",false,"2933110000 - Compounds containing an unfused pyrazole ring (whether or not hydrogenated) in the structure",10097,10096,false,{"$f":"VALUE(Table2[[#This Row],[Identifier]])","v":110592}]
["95578",true,"2933110000 - Phenazone (antipyrin) and its derivatives",10098,10097,false,{"$f":"VALUE(Table2[[#This Row],[Identifier]])","v":95578}]
["95579",true,"2933111000 - Propyphenazone (INN)",10099,10098,false,{"$f":"VALUE(Table2[[#This Row],[Identifier]])","v":95579}]
["95580",true,"2933119000 - Other",10100,10098,false,{"$f":"VALUE(Table2[[#This Row],[Identifier]])","v":95580}]
["95581",true,"2933190000 - Other",10101,10097,false,{"$f":"VALUE(Table2[[#This Row],[Identifier]])","v":95581}]
["95582",true,"2933191000 - Phenylbutazone (INN)",10102,10101,false,{"$f":"VALUE(Table2[[#This Row],[Identifier]])","v":95582}]
["95583",true,"2933199000 - Other",10103,10101,false,{"$f":"VALUE(Table2[[#This Row],[Identifier]])","v":95583}]
["118881",true,"2933199013 - 3-(Difluoromethyl)-5-fluoro-1-methyl-1H-pyrazole-4-carbonyl fluoride (CAS RN 1255735-07-9) with a purity by weight of 95 % or more",10104,10103,false,{"$f":"VALUE(Table2[[#This Row],[Identifier]])","v":118881}]
["95584",true,"2933199015 - Pyrasulfotole (ISO) (CAS RN 365400-11-9) with a purity by weight of 96 % or more",10105,10103,false,{"$f":"VALUE(Table2[[#This Row],[Identifier]])","v":95584}]
["118882",true,"2933199017 - 1,3-dimethyl-1H-pyrazole (CAS RN 694-48-4) with a purity by weight of 98 % or more",10106,10103,false,{"$f":"VALUE(Table2[[#This Row],[Identifier]])","v":118882}]
["118883",true,"2933199023 - Fluindapyr (ISO) (CAS RN 1383809-87-7) with a purity by weight of 96 % or more",10107,10103,false,{"$f":"VALUE(Table2[[#This Row],[Identifier]])","v":118883}]
["95585",true,"2933199025 - 3-Difluoromethyl-1-methyl-1H-pyrazole-4-carboxylic acid (CAS RN 176969-34-9)",10108,10103,false,{"$f":"VALUE(Table2[[#This Row],[Identifier]])","v":95585}]
["118884",true,"2933199027 - 3-(3,3,3-trifluoro-2,2-dimethylpropoxy)-1H-pyrazole-4-carboxylic acid (CAS RN 2229861-20-3) with a purity by weight of 95 % or more",10109,10103,false,{"$f":"VALUE(Table2[[#This Row],[Identifier]])","v":118884}]
["95586",true,"2933199030 - 3-Methyl-1-p-tolyl-5-pyrazolone (CAS RN 86-92-0)",10110,10103,false,{"$f":"VALUE(Table2[[#This Row],[Identifier]])","v":95586}]
["118885",true,"2933199033 - Fipronil (ISO) (CAS RN 120068-37-3) with a purity by weight of 95 % or more for the use in the manufacture of veterinary medicine",10111,10103,false,{"$f":"VALUE(Table2[[#This Row],[Identifier]])","v":118885}]
["133812",true,"2933199038 - 4,5-Dimethyl-1H-pyrazole-3-carboxylic acid (CAS RN 89831-40-3) with a purity by weight of 98 % or more",10112,10103,false,{"$f":"VALUE(Table2[[#This Row],[Identifier]])","v":133812}]
["95588",true,"2933199040 - Edaravone (INN) (CAS RN 89-25-8)",10113,10103,false,{"$f":"VALUE(Table2[[#This Row],[Identifier]])","v":95588}]
["131099",true,"2933199043 - tert-Butyl 2-(3,5-dimethyl-1H-pyrazol-4-yl)acetate (CAS RN 1082827-81-3) with a purity by weight of 95 % or more",10114,10103,false,{"$f":"VALUE(Table2[[#This Row],[Identifier]])","v":131099}]
["95589",true,"2933199045 - 5-Amino-1-[2,6-dichloro-4-(trifluoromethyl)phenyl]-1H-pyrazole-3-carbonitrile (CAS RN 120068-79-3)",10115,10103,false,{"$f":"VALUE(Table2[[#This Row],[Identifier]])","v":95589}]
["131100",true,"2933199048 - 1-(3-iodo-1-isopropyl-1H-pyrazol-4-yl)ethanone (CAS RN 1269440-49-4) with a purity by weight of 98 % or more",10116,10103,false,{"$f":"VALUE(Table2[[#This Row],[Identifier]])","v":131100}]
["95590",true,"2933199050 - Fenpyroximate (ISO) (CAS RN 134098-61-6)",10117,10103,false,{"$f":"VALUE(Table2[[#This Row],[Identifier]])","v":95590}]
["133813",true,"2933199053 - 3-[2-(Dispiro[2.0.2⁴.1³]heptan-7-yl)ethoxy]-1H-pyrazole-4-carboxylic acid (CAS RN 2608048-67-3) with a purity by weight of 98 % or more",10118,10103,false,{"$f":"VALUE(Table2[[#This Row],[Identifier]])","v":133813}]
["95592",true,"2933199060 - Pyraflufen-ethyl (ISO) (CAS RN 129630-19-9)",10119,10103,false,{"$f":"VALUE(Table2[[#This Row],[Identifier]])","v":95592}]
["95593",true,"2933199065 - 4-Bromo-1-(1-ethoxyethyl)-1H-pyrazole (CAS RN 1024120-52-2)",10120,10103,false,{"$f":"VALUE(Table2[[#This Row],[Identifier]])","v":95593}]
["95594",true,"2933199070 - 4,5-Diamino-1-(2-hydroxyethyl)-pyrazolsulphate (CAS RN 155601-30-2)",10121,10103,false,{"$f":"VALUE(Table2[[#This Row],[Identifier]])","v":95594}]
["95596",true,"2933199090 - Other",10122,10103,false,{"$f":"VALUE(Table2[[#This Row],[Identifier]])","v":95596}]
["110593",false,"2933210000 - Compounds containing an unfused imidazole ring (whether or not hydrogenated) in the structure",10123,10096,false,{"$f":"VALUE(Table2[[#This Row],[Identifier]])","v":110593}]
["95597",true,"2933210000 - Hydantoin and its derivatives",10124,10123,false,{"$f":"VALUE(Table2[[#This Row],[Identifier]])","v":95597}]
["133814",true,"2933210045 - Sodium (5S,8S)-8-methoxy-2,4-dioxo-1,3-diazaspiro[4.5]decan-3-ide (CAS RN 1400584-86-2) with a purity by weight of 90 % or more",10125,10124,false,{"$f":"VALUE(Table2[[#This Row],[Identifier]])","v":133814}]
["95599",true,"2933210050 - 1-Bromo-3-chloro-5,5-dimethylhydantoin (CAS RN 16079-88-2) / (CAS RN 32718-18-6)",10126,10124,false,{"$f":"VALUE(Table2[[#This Row],[Identifier]])","v":95599}]
["95600",true,"2933210055 - 1-Aminohydantoin hydrochloride (CAS|RN|2827-56-7)",10127,10124,false,{"$f":"VALUE(Table2[[#This Row],[Identifier]])","v":95600}]
["95601",true,"2933210060 - DL-p-Hydroxyphenylhydantoin (CAS RN 2420-17-9)",10128,10124,false,{"$f":"VALUE(Table2[[#This Row],[Identifier]])","v":95601}]
["95602",true,"2933210080 - 5,5-Dimethylhydantoin (CAS RN 77-71-4)",10129,10124,false,{"$f":"VALUE(Table2[[#This Row],[Identifier]])","v":95602}]
["95603",true,"2933210090 - Other",10130,10124,false,{"$f":"VALUE(Table2[[#This Row],[Identifier]])","v":95603}]
["95604",true,"2933290000 - Other",10131,10123,false,{"$f":"VALUE(Table2[[#This Row],[Identifier]])","v":95604}]
["95605",true,"2933291000 - Naphazoline hydrochloride (INNM) and naphazoline nitrate (INNM); phentolamine (INN); tolazoline hydrochloride (INNM)",10132,10131,false,{"$f":"VALUE(Table2[[#This Row],[Identifier]])","v":95605}]
["95606",true,"2933299000 - Other",10133,10131,false,{"$f":"VALUE(Table2[[#This Row],[Identifier]])","v":95606}]
["95607",true,"2933299015 - Ethyl 4-(1-hydroxy-1-methylethyl)-2-propylimidazole-5-carboxylate (CAS RN 144689-93-0)",10134,10133,false,{"$f":"VALUE(Table2[[#This Row],[Identifier]])","v":95607}]
["95608",true,"2933299018 - 2-(2-chlorophenyl)-1-[2-(2-chlorophenyl)-4,5-diphenyl-2H-imidazol-2-yl]-4,5-diphenyl-1H-imidazole (CAS|RN|7189-82-4)",10135,10133,false,{"$f":"VALUE(Table2[[#This Row],[Identifier]])","v":95608}]
["133815",true,"2933299020 - tert-Butyl (2S)-2-(5-bromo-1H-imidazol-2-yl)pyrrolidine-1-carboxylate (CAS RN 1007882-59-8) with a purity by weight of 98 % or more",10136,10133,false,{"$f":"VALUE(Table2[[#This Row],[Identifier]])","v":133815}]
["131101",true,"2933299023 - 1,1'-Thiocarbonylbis(imidazole) (CAS RN 6160-65-2) with a purity by weight of 95 % or more",10137,10133,false,{"$f":"VALUE(Table2[[#This Row],[Identifier]])","v":131101}]
["131102",true,"2933299028 - Prochloraz (ISO) (CAS RN 67747-09-5) with purity by weight of 97 % or more",10138,10133,false,{"$f":"VALUE(Table2[[#This Row],[Identifier]])","v":131102}]
["95611",true,"2933299045 - Prochloraz copper chloride (ISO) (CAS RN 156065-03-1)",10139,10133,false,{"$f":"VALUE(Table2[[#This Row],[Identifier]])","v":95611}]
["95612",true,"2933299050 - 1,3-Dimethylimidazolidin-2-one (CAS RN 80-73-9)",10140,10133,false,{"$f":"VALUE(Table2[[#This Row],[Identifier]])","v":95612}]
["95613",true,"2933299055 - Fenamidone (ISO) (CAS RN 161326-34-7) with a purity by weight of 97 % or more",10141,10133,false,{"$f":"VALUE(Table2[[#This Row],[Identifier]])","v":95613}]
["95614",true,"2933299060 - 1-Cyano-2-methyl-1-[2-(5-methylimidazol-4-ylmethylthio)ethyl]isothiourea|(CAS RN 52378-40-2)",10142,10133,false,{"$f":"VALUE(Table2[[#This Row],[Identifier]])","v":95614}]
["95617",true,"2933299075 - 2,2'-Azobis[2-(2-imidazolin-2-yl)propane] dihydrochloride (CAS RN 27776-21-2)",10143,10133,false,{"$f":"VALUE(Table2[[#This Row],[Identifier]])","v":95617}]
["95618",true,"2933299080 - Imazalil (ISO) (CAS RN 35554-44-0)",10144,10133,false,{"$f":"VALUE(Table2[[#This Row],[Identifier]])","v":95618}]
["95620",true,"2933299090 - Other",10145,10133,false,{"$f":"VALUE(Table2[[#This Row],[Identifier]])","v":95620}]
["110594",false,"2933310000 - Compounds containing an unfused pyridine ring (whether or not hydrogenated) in the structure",10146,10096,false,{"$f":"VALUE(Table2[[#This Row],[Identifier]])","v":110594}]
["95621",true,"2933310000 - Pyridine and its salts",10147,10146,false,{"$f":"VALUE(Table2[[#This Row],[Identifier]])","v":95621}]
["95622",true,"2933320000 - Piperidine and its salts",10148,10146,false,{"$f":"VALUE(Table2[[#This Row],[Identifier]])","v":95622}]
["95623",true,"2933330000 - Alfentanil (INN), anileridine (INN), bezitramide (INN), bromazepam (INN), carfentanil (INN), difenoxin (INN), diphenoxylate (INN), dipipanone (INN), fentanyl (INN), ketobemidone (INN), methylphenidate (INN), pentazocine (INN), pethidine (INN), pethidine (INN) intermediate A, phencyclidine (INN) (PCP), phenoperidine (INN), pipradrol (INN), piritramide (INN), propiram (INN), remifentanil (INN) and trimeperidine (INN); salts thereof",10149,10146,false,{"$f":"VALUE(Table2[[#This Row],[Identifier]])","v":95623}]
["133816",true,"2933340000 - Other fentanyls and their derivatives",10150,10146,false,{"$f":"VALUE(Table2[[#This Row],[Identifier]])","v":133816}]
["133817",true,"2933350000 - 3-Quinuclidinol",10151,10146,false,{"$f":"VALUE(Table2[[#This Row],[Identifier]])","v":133817}]
["133818",true,"2933360000 - 4-Anilino-N-phenethylpiperidine (ANPP)",10152,10146,false,{"$f":"VALUE(Table2[[#This Row],[Identifier]])","v":133818}]
["133819",true,"2933370000 - N-Phenethyl-4-piperidone (NPP)",10153,10146,false,{"$f":"VALUE(Table2[[#This Row],[Identifier]])","v":133819}]
["95624",true,"2933390000 - Other",10154,10146,false,{"$f":"VALUE(Table2[[#This Row],[Identifier]])","v":95624}]
["95625",true,"2933391000 - Iproniazid (INN); ketobemidone hydrochloride (INNM); pyridostigmine bromide (INN)",10155,10154,false,{"$f":"VALUE(Table2[[#This Row],[Identifier]])","v":95625}]
["95626",true,"2933392000 - 2,3,5,6-Tetrachloropyridine",10156,10154,false,{"$f":"VALUE(Table2[[#This Row],[Identifier]])","v":95626}]
["95627",true,"2933392500 - 3,6-Dichloropyridine-2-carboxylic acid",10157,10154,false,{"$f":"VALUE(Table2[[#This Row],[Identifier]])","v":95627}]
["95628",true,"2933393500 - 2-Hydroxyethylammonium-3,6-dichloropyridine-2-carboxylate",10158,10154,false,{"$f":"VALUE(Table2[[#This Row],[Identifier]])","v":95628}]
["95629",true,"2933394000 - 2-Butoxyethyl(3,5,6-trichloro-2-pyridyloxy)acetate",10159,10154,false,{"$f":"VALUE(Table2[[#This Row],[Identifier]])","v":95629}]
["95630",true,"2933394500 - 3,5-Dichloro-2,4,6-trifluoropyridine",10160,10154,false,{"$f":"VALUE(Table2[[#This Row],[Identifier]])","v":95630}]
["95631",true,"2933395000 - Fluroxypyr (ISO), methyl ester",10161,10154,false,{"$f":"VALUE(Table2[[#This Row],[Identifier]])","v":95631}]
["95632",true,"2933395500 - 4-Methylpyridine",10162,10154,false,{"$f":"VALUE(Table2[[#This Row],[Identifier]])","v":95632}]
["95633",true,"2933399900 - Other",10163,10154,false,{"$f":"VALUE(Table2[[#This Row],[Identifier]])","v":95633}]
["133820",true,"2933399909 - 2-(2-Pyridyl)ethanol (CAS RN 103-74-2) with a purity by weight of 99 % or more",10164,10163,false,{"$f":"VALUE(Table2[[#This Row],[Identifier]])","v":133820}]
["95634",true,"2933399910 - 2-Aminopyridin-4-ol hydrochloride (CAS RN 1187932-09-7)",10165,10163,false,{"$f":"VALUE(Table2[[#This Row],[Identifier]])","v":95634}]
["95635",true,"2933399911 - 2-(Chloromethyl)-4-(3-methoxypropoxy)-3-methylpyridine hydrochloride(CAS RN 153259-31-5) ",10166,10163,false,{"$f":"VALUE(Table2[[#This Row],[Identifier]])","v":95635}]
["95636",true,"2933399912 - 2,3-Dichloropyridine (CAS RN 2402-77-9)",10167,10163,false,{"$f":"VALUE(Table2[[#This Row],[Identifier]])","v":95636}]
["133821",true,"2933399915 - (S)-6-Bromo-2-(4-(3-(1,3-dioxoisoindolin-2-yl)propyl)-2,2-dimethylpyrrolidin-1-yl)nicotinamide (CAS RN 2606972-45-4) with a purity by weight of 98 % or more",10168,10163,false,{"$f":"VALUE(Table2[[#This Row],[Identifier]])","v":133821}]
["133822",true,"2933399918 - Perfluorophenyl 6-fluoropyridine-2-sulfonate (CAS RN 2608048-81-1) with a purity by weight of 98 % or more",10169,10163,false,{"$f":"VALUE(Table2[[#This Row],[Identifier]])","v":133822}]
["95643",true,"2933399921 - Boscalid (ISO) (CAS RN 188425-85-6)",10170,10163,false,{"$f":"VALUE(Table2[[#This Row],[Identifier]])","v":95643}]
["133823",true,"2933399922 - N-(5-bromo-3-methylpyridin-2-yl)-N-methylbenzamide (CAS RN 446299-80-5) with a purity by weight of 98 % or more",10171,10163,false,{"$f":"VALUE(Table2[[#This Row],[Identifier]])","v":133823}]
["95646",true,"2933399924 - 2-Chloromethyl-4-methoxy-3,5-dimethylpyridine hydrochloride (CAS RN 86604-75-3)",10172,10163,false,{"$f":"VALUE(Table2[[#This Row],[Identifier]])","v":95646}]
["95647",true,"2933399925 - Imazethapyr (ISO)|(CAS RN 81335-77-5)",10173,10163,false,{"$f":"VALUE(Table2[[#This Row],[Identifier]])","v":95647}]
["95649",true,"2933399927 - Pyridine-2,6-dicarboxylic acid (CAS RN 499-83-2)",10174,10163,false,{"$f":"VALUE(Table2[[#This Row],[Identifier]])","v":95649}]
["95650",true,"2933399928 - Ethyl-3-[(3-amino-4-methylamino-benzoyl)-pyridin-2-yl-amino]-propionate (CAS RN 212322-56-0)",10175,10163,false,{"$f":"VALUE(Table2[[#This Row],[Identifier]])","v":95650}]
["131103",true,"2933399930 - 4-amino-3-(4-phenoxyphenyl)-1-[(3R)-piperidin-3-yl]-1,3-dihydro-2H-imidazo[4,5-c]pyridin-2-one (CAS RN 1971921-35-3) mono oxalate with a purity by weight of the free base of 70 % or more",10176,10163,false,{"$f":"VALUE(Table2[[#This Row],[Identifier]])","v":131103}]
["95652",true,"2933399931 - 2-(Chloromethyl)-3-methyl-4-(2,2,2-trifluoroethoxy)pyridine hydrochloride(CAS RN 127337-60-4) ",10177,10163,false,{"$f":"VALUE(Table2[[#This Row],[Identifier]])","v":95652}]
["95653",true,"2933399932 - 2-(Chloromethyl)-3,4-dimethoxypyridine hydrochloride|(CAS RN 72830-09-2)",10178,10163,false,{"$f":"VALUE(Table2[[#This Row],[Identifier]])","v":95653}]
["95654",true,"2933399933 - 5-(3-chlorophenyl)-3-methoxypyridine-2-carbonitrile (CAS RN 1415226-39-9)",10179,10163,false,{"$f":"VALUE(Table2[[#This Row],[Identifier]])","v":95654}]
["133824",true,"2933399934 - Pyridin-3-ol (CAS RN 109-00-2) with a purity by weight of 98 % or more",10180,10163,false,{"$f":"VALUE(Table2[[#This Row],[Identifier]])","v":133824}]
["95656",true,"2933399935 - Aminopyralid (ISO) (CAS RN 150114-71-9)",10181,10163,false,{"$f":"VALUE(Table2[[#This Row],[Identifier]])","v":95656}]
["95657",true,"2933399936 - 1-[2-[5-Methyl-3-(trifluoromethyl)-1H-pyrazol-1-yl]acetyl]piperidine-4-carbothioamide (CAS RN 1003319-95-6)",10182,10163,false,{"$f":"VALUE(Table2[[#This Row],[Identifier]])","v":95657}]
["95658",true,"2933399937 - Aqueous solution of pyridine-2-thiol-1-oxide, sodium salt|(CAS RN 3811-73-2)",10183,10163,false,{"$f":"VALUE(Table2[[#This Row],[Identifier]])","v":95658}]
["95659",true,"2933399938 - (2-chloropyridin-3-yl) methanol (CAS|RN|42330-59-6)",10184,10163,false,{"$f":"VALUE(Table2[[#This Row],[Identifier]])","v":95659}]
["133825",true,"2933399940 - 2-Hydroxypyridine-N-oxide (CAS RN 13161-30-3) with a purity by weight of 98 % or more",10185,10163,false,{"$f":"VALUE(Table2[[#This Row],[Identifier]])","v":133825}]
["133826",true,"2933399942 - Glasdegib maleate (INN) (CAS RN 2030410-25-2) with a purity by weight of 98 % or more",10186,10163,false,{"$f":"VALUE(Table2[[#This Row],[Identifier]])","v":133826}]
["95665",true,"2933399946 - Fluopicolide (ISO) (CAS RN 239110-15-7) with a content by weight of 97% or more",10187,10163,false,{"$f":"VALUE(Table2[[#This Row],[Identifier]])","v":95665}]
["95666",true,"2933399947 - (-)-trans-4-(4'-Fluorophenyl)-3-hydroxymethyl-N-methylpiperidine (CAS RN 105812-81-5)",10188,10163,false,{"$f":"VALUE(Table2[[#This Row],[Identifier]])","v":95666}]
["95667",true,"2933399948 - Flonicamid (ISO) (CAS RN 158062-67-0)",10189,10163,false,{"$f":"VALUE(Table2[[#This Row],[Identifier]])","v":95667}]
["133827",true,"2933399949 - 2-Phenyl-2-(2-pyridyl)acetamide (CAS RN 7251-52-7) with a purity by weight of 98 % or more",10190,10163,false,{"$f":"VALUE(Table2[[#This Row],[Identifier]])","v":133827}]
["133828",true,"2933399950 - N,4-Dimethyl-1-(phenylmethyl)- 3-piperidinamine hydrochloride (1:2) (CAS RN 1228879-37-5) with a purity by weight of 98 % or more",10191,10163,false,{"$f":"VALUE(Table2[[#This Row],[Identifier]])","v":133828}]
["95669",true,"2933399952 - 6-Chloro-3-nitropyridin-2-ylamine (CAS RN 27048-04-0)",10192,10163,false,{"$f":"VALUE(Table2[[#This Row],[Identifier]])","v":95669}]
["95672",true,"2933399955 - Pyriproxyfen (ISO) (CAS RN 95737-68-1) of a purity by weight of 97 % or more",10193,10163,false,{"$f":"VALUE(Table2[[#This Row],[Identifier]])","v":95672}]
["95674",true,"2933399957 - Tert-butyl 3-(6-amino-3-methylpyridin-2-yl)benzoate|(CAS RN 1083057-14-0)",10194,10163,false,{"$f":"VALUE(Table2[[#This Row],[Identifier]])","v":95674}]
["95675",true,"2933399959 - Chlorpyrifos-Methyl (ISO) (CAS RN 5598-13-0)",10195,10163,false,{"$f":"VALUE(Table2[[#This Row],[Identifier]])","v":95675}]
["95676",true,"2933399960 - 2-Fluoro-6-(trifluoromethyl)pyridine (CAS RN 94239-04-0)",10196,10163,false,{"$f":"VALUE(Table2[[#This Row],[Identifier]])","v":95676}]
["95677",true,"2933399961 - 6-Bromopyridin-2-amine (CAS RN 19798-81-3)",10197,10163,false,{"$f":"VALUE(Table2[[#This Row],[Identifier]])","v":95677}]
["95678",true,"2933399962 - Ethyl 2,6-Dichloronicotinate (CAS RN 58584-86-4)",10198,10163,false,{"$f":"VALUE(Table2[[#This Row],[Identifier]])","v":95678}]
["95679",true,"2933399964 - Methyl 1-(3-chloropyridin-2-yl)-3-hydroxymethyl-1H-pyrazole-5-carboxylate (CAS RN 960316-73-8)",10199,10163,false,{"$f":"VALUE(Table2[[#This Row],[Identifier]])","v":95679}]
["95680",true,"2933399965 - Acetamiprid (ISO) (CAS RN 135410-20-7)",10200,10163,false,{"$f":"VALUE(Table2[[#This Row],[Identifier]])","v":95680}]
["95681",true,"2933399967 - (1R,3S,4S)-tert-Butyl 3-(6-bromo-1H-benzo[d]imidazol-2-yl)-2-azabicyclo[2.2.1]heptane-2-carboxylate (CAS RN 1256387-74-2)",10201,10163,false,{"$f":"VALUE(Table2[[#This Row],[Identifier]])","v":95681}]
["95682",true,"2933399968 - 1-(3-Chloropyridin-2-yl)-3-[[5-(trifluoromethyl)-2H-tetrazol-2-yl]methyl]-1H-pyrazole-5-carboxylic acid (CAS RN 1352319-02-8) with a purity by weight of 85 % or more",10202,10163,false,{"$f":"VALUE(Table2[[#This Row],[Identifier]])","v":95682}]
["95683",true,"2933399970 - 2,3-Dichloro-5-trifluoromethylpyridine, (CAS RN 69045-84-7)",10203,10163,false,{"$f":"VALUE(Table2[[#This Row],[Identifier]])","v":95683}]
["118886",true,"2933399971 - Diflufenican (ISO) (CAS RN 83164-33-4)",10204,10163,false,{"$f":"VALUE(Table2[[#This Row],[Identifier]])","v":118886}]
["118887",true,"2933399973 - 6-Chloro-4-(4-fluoro-2-methylphenyl)pyridin-3-amine hydrochloride",10205,10163,false,{"$f":"VALUE(Table2[[#This Row],[Identifier]])","v":118887}]
["118888",true,"2933399974 - 4-Aminopyridine-2-carboxamide (CAS RN 100137-47-1) with a purity by weight of 98 % or more",10206,10163,false,{"$f":"VALUE(Table2[[#This Row],[Identifier]])","v":118888}]
["131104",true,"2933399975 - Clodinafop-propargyl (ISO) (CAS RN 105512-06-9) with a purity by weight of 90 % or more",10207,10163,false,{"$f":"VALUE(Table2[[#This Row],[Identifier]])","v":131104}]
["118889",true,"2933399976 - Apalutamide (INN) (CAS RN 956104-40-8)",10208,10163,false,{"$f":"VALUE(Table2[[#This Row],[Identifier]])","v":118889}]
["95685",true,"2933399977 - Imazamox (ISO) (CAS RN 114311-32-9)",10209,10163,false,{"$f":"VALUE(Table2[[#This Row],[Identifier]])","v":95685}]
["118890",true,"2933399978 - Niraparib tosylate monohydrate (INNM) (CAS RN 1613220-15-7)",10210,10163,false,{"$f":"VALUE(Table2[[#This Row],[Identifier]])","v":118890}]
["118891",true,"2933399979 - Avibactam (INN) - sodium (CAS RN 1192491-61-4)",10211,10163,false,{"$f":"VALUE(Table2[[#This Row],[Identifier]])","v":118891}]
["131105",true,"2933399980 - Tert-Butyl (3R)-3-(4-amino-2-oxo-2,3-dihydro-1H-imidazo[4, 5-c]pyridin-1-yl)piperidine-1-carboxylate (CAS RN 1971921-33-1) with a purity by weight of 95 % or more",10212,10163,false,{"$f":"VALUE(Table2[[#This Row],[Identifier]])","v":131105}]
["118892",true,"2933399981 - 4-Hydroxy-3-pyridinesulphonic acid (CAS RN 51498-37-4) with a purity by weight of 98 % or more",10213,10163,false,{"$f":"VALUE(Table2[[#This Row],[Identifier]])","v":118892}]
["118893",true,"2933399982 - Picloram (ISO) (CAS RN 1918-02-1) containing by weight not more than 15 % of water and with a dry weight purity of 92 % or more",10214,10163,false,{"$f":"VALUE(Table2[[#This Row],[Identifier]])","v":118893}]
["131106",true,"2933399983 - 2-Hydroxy-4-azoniaspiro[3,5]nonane chloride (CAS RN 15285-58-2) with a purity by weight of 97 % or more",10215,10163,false,{"$f":"VALUE(Table2[[#This Row],[Identifier]])","v":131106}]
["131107",true,"2933399984 - Diethyl(3-pyridyl)borane (CAS RN 89878-14-8) with a purity by weight of 98 % or more",10216,10163,false,{"$f":"VALUE(Table2[[#This Row],[Identifier]])","v":131107}]
["95686",true,"2933399985 - 2-Chloro-5-chloromethylpyridine (CAS RN 70258-18-3)",10217,10163,false,{"$f":"VALUE(Table2[[#This Row],[Identifier]])","v":95686}]
["131108",true,"2933399986 - 3-(N-hydroxycarbamimidoyl)pyridine 1-oxide (CAS RN 92757-16-9) with a purity by weight of 97 % or more",10218,10163,false,{"$f":"VALUE(Table2[[#This Row],[Identifier]])","v":131108}]
["131109",true,"2933399987 - 6-Chloro-N-(2,2-dimethylpropyl)pyridine-3-carboxamide (CAS RN 585544-20-3) with a purity by weight of 97 % or more",10219,10163,false,{"$f":"VALUE(Table2[[#This Row],[Identifier]])","v":131109}]
["131111",true,"2933399989 - 1-Benzyl-4-phenylpiperidine-4-carbonitrile monohydrochloride (CAS RN 71258-18-9) with a purity by weight of 98 % or more",10220,10163,false,{"$f":"VALUE(Table2[[#This Row],[Identifier]])","v":131111}]
["95687",true,"2933399990 - Other",10221,10163,false,{"$f":"VALUE(Table2[[#This Row],[Identifier]])","v":95687}]
["110595",false,"2933410000 - Compounds containing in the structure a quinoline or isoquinoline ring-system (whether or not hydrogenated), not further fused",10222,10096,false,{"$f":"VALUE(Table2[[#This Row],[Identifier]])","v":110595}]
["95688",true,"2933410000 - Levorphanol (INN) and its salts",10223,10222,false,{"$f":"VALUE(Table2[[#This Row],[Identifier]])","v":95688}]
["95689",true,"2933490000 - Other",10224,10222,false,{"$f":"VALUE(Table2[[#This Row],[Identifier]])","v":95689}]
["95690",true,"2933491000 - Halogen derivatives of quinoline; quinolinecarboxylic acid derivatives",10225,10224,false,{"$f":"VALUE(Table2[[#This Row],[Identifier]])","v":95690}]
["95691",true,"2933491010 - Quinmerac (ISO) (CAS RN 90717-03-6)",10226,10225,false,{"$f":"VALUE(Table2[[#This Row],[Identifier]])","v":95691}]
["95692",true,"2933491020 - 3-Hydroxy-2-methylquinoline-4-carboxylic acid (CAS RN 117-57-7)",10227,10225,false,{"$f":"VALUE(Table2[[#This Row],[Identifier]])","v":95692}]
["95694",true,"2933491040 - 4,7-Dichloroquinoline (CAS RN 86-98-6)",10228,10225,false,{"$f":"VALUE(Table2[[#This Row],[Identifier]])","v":95694}]
["95695",true,"2933491050 - 1-Cyclopropyl-6,7,8-trifluoro-1,4-dihydro-4-oxo-3-quinolinecarboxylic acid (CAS|RN|94695-52-0)",10229,10225,false,{"$f":"VALUE(Table2[[#This Row],[Identifier]])","v":95695}]
["95697",true,"2933491090 - Other",10230,10225,false,{"$f":"VALUE(Table2[[#This Row],[Identifier]])","v":95697}]
["95698",true,"2933493000 - Dextromethorphan (INN) and its salts",10231,10224,false,{"$f":"VALUE(Table2[[#This Row],[Identifier]])","v":95698}]
["95699",true,"2933499000 - Other",10232,10224,false,{"$f":"VALUE(Table2[[#This Row],[Identifier]])","v":95699}]
["95700",true,"2933499025 - Cloquintocet-mexyl (ISO) (CAS RN 99607-70-2)",10233,10232,false,{"$f":"VALUE(Table2[[#This Row],[Identifier]])","v":95700}]
["95701",true,"2933499030 - Quinoline (CAS RN 91-22-5)",10234,10232,false,{"$f":"VALUE(Table2[[#This Row],[Identifier]])","v":95701}]
["95704",true,"2933499045 - 6,7-Dimethoxy-3,4- dihydroisoquinoline hydrochloride (CAS RN 20232-39-7)",10235,10232,false,{"$f":"VALUE(Table2[[#This Row],[Identifier]])","v":95704}]
["131112",true,"2933499055 - 2-(tert-butoxycarbonyl)-5,7-dichloro-1,2,3,4-tetrahydroisoquinoline-6-carboxylic acid (CAS RN 851784-82-2) with a purity by weight of 98 % or more",10236,10232,false,{"$f":"VALUE(Table2[[#This Row],[Identifier]])","v":131112}]
["95706",true,"2933499070 - Quinolin-8-ol (CAS RN 148-24-3)",10237,10232,false,{"$f":"VALUE(Table2[[#This Row],[Identifier]])","v":95706}]
["133829",true,"2933499075 - 2-Methyl-4-(1-methyl-1H-1,2,4-triazol-5-yl)quinolin-8-ol (CAS RN 1174132-59-2) with a purity by weight of 98 % or more",10238,10232,false,{"$f":"VALUE(Table2[[#This Row],[Identifier]])","v":133829}]
["95708",true,"2933499090 - Other",10239,10232,false,{"$f":"VALUE(Table2[[#This Row],[Identifier]])","v":95708}]
["110596",false,"2933520000 - Compounds containing a pyrimidine ring (whether or not hydrogenated) or piperazine ring in the structure",10240,10096,false,{"$f":"VALUE(Table2[[#This Row],[Identifier]])","v":110596}]
["95709",true,"2933520000 - Malonylurea (barbituric acid) and its salts",10241,10240,false,{"$f":"VALUE(Table2[[#This Row],[Identifier]])","v":95709}]
["95710",true,"2933520010 - Malonylurea (barbituric acid) (CAS RN 67-52-7)",10242,10241,false,{"$f":"VALUE(Table2[[#This Row],[Identifier]])","v":95710}]
["95711",true,"2933520090 - Other",10243,10241,false,{"$f":"VALUE(Table2[[#This Row],[Identifier]])","v":95711}]
["95712",true,"2933530000 - Allobarbital (INN), amobarbital (INN), barbital (INN), butalbital (INN), butobarbital, cyclobarbital (INN), methylphenobarbital (INN), pentobarbital (INN), phenobarbital (INN), secbutabarbital (INN), secobarbital (INN) and vinylbital (INN); salts thereof",10244,10240,false,{"$f":"VALUE(Table2[[#This Row],[Identifier]])","v":95712}]
["95713",true,"2933531000 - Phenobarbital (INN), barbital (INN), and their salts",10245,10244,false,{"$f":"VALUE(Table2[[#This Row],[Identifier]])","v":95713}]
["95714",true,"2933539000 - Other",10246,10244,false,{"$f":"VALUE(Table2[[#This Row],[Identifier]])","v":95714}]
["95715",true,"2933540000 - Other derivatives of malonylurea (barbituric acid); salts thereof",10247,10240,false,{"$f":"VALUE(Table2[[#This Row],[Identifier]])","v":95715}]
["95716",true,"2933540010 - 5,5 '-(1,2-diazenediyl)bis [2,4,6 (1H, 3H, 5H)-pyrimidinetrione] (CAS RN 25157-64-6)",10248,10247,false,{"$f":"VALUE(Table2[[#This Row],[Identifier]])","v":95716}]
["95717",true,"2933540090 - Other",10249,10247,false,{"$f":"VALUE(Table2[[#This Row],[Identifier]])","v":95717}]
["95718",true,"2933550000 - Loprazolam (INN), mecloqualone (INN), methaqualone (INN) and zipeprol (INN); salts thereof",10250,10240,false,{"$f":"VALUE(Table2[[#This Row],[Identifier]])","v":95718}]
["95719",true,"2933590000 - Other",10251,10240,false,{"$f":"VALUE(Table2[[#This Row],[Identifier]])","v":95719}]
["95720",true,"2933591000 - Diazinon (ISO)",10252,10251,false,{"$f":"VALUE(Table2[[#This Row],[Identifier]])","v":95720}]
["95721",true,"2933592000 - 1,4-Diazabicyclo[2.2.2]octane (triethylenediamine)",10253,10251,false,{"$f":"VALUE(Table2[[#This Row],[Identifier]])","v":95721}]
["95722",true,"2933599500 - Other",10254,10251,false,{"$f":"VALUE(Table2[[#This Row],[Identifier]])","v":95722}]
["95723",true,"2933599510 - 6-Amino-1,3-dimethyluracil (CAS RN 6642-31-5)",10255,10254,false,{"$f":"VALUE(Table2[[#This Row],[Identifier]])","v":95723}]
["95724",true,"2933599513 - 2-Diethylamino-6-hydroxy-4-methylpyrimidine (CAS|RN|42487-72-9)",10256,10254,false,{"$f":"VALUE(Table2[[#This Row],[Identifier]])","v":95724}]
["95725",true,"2933599515 - Sitagliptin phosphate monohydrate (CAS RN 654671-77-9)",10257,10254,false,{"$f":"VALUE(Table2[[#This Row],[Identifier]])","v":95725}]
["95728",true,"2933599520 - 2,4-Diamino-6-chloropyrimidine|(CAS RN 156-83-2)",10258,10254,false,{"$f":"VALUE(Table2[[#This Row],[Identifier]])","v":95728}]
["95729",true,"2933599521 - N-(2-oxo-1,2-dihydropyrimidin-4-yl)benzamide (CAS|RN|26661-13-2)",10259,10254,false,{"$f":"VALUE(Table2[[#This Row],[Identifier]])","v":95729}]
["95734",true,"2933599527 - 2-[(2-Amino-6-oxo-1,6-dihydro-9H-purin-9-yl)methoxy]-3-hydroxypropylacetate (CAS RN 88110-89-8)",10260,10254,false,{"$f":"VALUE(Table2[[#This Row],[Identifier]])","v":95734}]
["118894",true,"2933599528 - 6,8-Difluoro-1-(methylamino)-7-(4-methylpiperazin-1-yl)-4-oxo-1,4-dihydroquinoline-3-carboxylic acid (CAS RN 100276-37-7)",10261,10254,false,{"$f":"VALUE(Table2[[#This Row],[Identifier]])","v":118894}]
["133830",true,"2933599529 - 2-Amino-4-(4-methylpiperazin-1-yl) benzoic acid tert-butyl ester (CAS RN 1034975-35-3) with a purity by weight of 95 % or more",10262,10254,false,{"$f":"VALUE(Table2[[#This Row],[Identifier]])","v":133830}]
["95735",true,"2933599530 - Mepanipyrim (ISO) (CAS RN 110235-47-7)",10263,10254,false,{"$f":"VALUE(Table2[[#This Row],[Identifier]])","v":95735}]
["133831",true,"2933599531 - Sotorasib (INN) (CAS RN 2296729-00-3) with a purity by weight of 99 % or more",10264,10254,false,{"$f":"VALUE(Table2[[#This Row],[Identifier]])","v":133831}]
["95736",true,"2933599533 - 4,6-Dichloro-5-fluoropyrimidine (CAS RN 213265-83-9)",10265,10254,false,{"$f":"VALUE(Table2[[#This Row],[Identifier]])","v":95736}]
["133832",true,"2933599534 - 6-chloro-1,3-dimethyluracil (CAS RN 6972-27-6) with a purity by weight of 97 % or more",10266,10254,false,{"$f":"VALUE(Table2[[#This Row],[Identifier]])","v":133832}]
["133833",true,"2933599536 - 1-(Cyclopropylcarbonyl)piperazine hydrochloride (CAS RN 1021298-67-8) with a purity by weight of 98 % or more",10267,10254,false,{"$f":"VALUE(Table2[[#This Row],[Identifier]])","v":133833}]
["95737",true,"2933599537 - 6-Iodo-3-propyl-2-thioxo-2,3-dihydroquinazolin-4(1H)-one (CAS RN 200938-58-5)",10268,10254,false,{"$f":"VALUE(Table2[[#This Row],[Identifier]])","v":95737}]
["133834",true,"2933599538 - 5-(5-Chlorosulfonyl-2-ethoxyphenyl)-1-methyl-3-propyl-1,6-dihydro-7H-pyrazolo[4,3-d]pyrimidin-7-one (CAS No 139756-22-2) with a purity by weight of 98 % or more",10269,10254,false,{"$f":"VALUE(Table2[[#This Row],[Identifier]])","v":133834}]
["133835",true,"2933599541 - 2-(4-Phenoxyphenyl)-7-(piperidin-4-yl)-4,5,6,7-tetrahydropyrazolo[1,5-a]pyrimidine-3-carbonitrile (CAS RN 2190506-57-9) with a purity by weight of 98 % or more",10270,10254,false,{"$f":"VALUE(Table2[[#This Row],[Identifier]])","v":133835}]
["131113",true,"2933599542 - 2-Chloropyrimidine (CAS RN 1722-12-9) with a purity by weight of 98 % or more",10271,10254,false,{"$f":"VALUE(Table2[[#This Row],[Identifier]])","v":131113}]
["95740",true,"2933599545 - 1-[3-(Hydroxymethyl)pyridin-2-yl]-4-methyl-2-phenylpiperazine (CAS RN 61337-89-1)",10272,10254,false,{"$f":"VALUE(Table2[[#This Row],[Identifier]])","v":95740}]
["95741",true,"2933599547 - 6-Methyl-2-oxoperhydropyrimidin-4-ylurea (CAS RN 1129-42-6) with a purity of 94|% or more",10273,10254,false,{"$f":"VALUE(Table2[[#This Row],[Identifier]])","v":95741}]
["95742",true,"2933599550 - 2-(2-Piperazin-1-ylethoxy)ethanol (CAS RN 13349-82-1)",10274,10254,false,{"$f":"VALUE(Table2[[#This Row],[Identifier]])","v":95742}]
["131114",true,"2933599552 - 6-Benzyladenine (CAS RN 1214-39-7) with a purity by weight of 97 % or more",10275,10254,false,{"$f":"VALUE(Table2[[#This Row],[Identifier]])","v":131114}]
["95745",true,"2933599560 - 2,6-Dichloro-4,8-dipiperidinopyrimido[5,4-d]pyrimidine (CAS RN 7139-02-8)",10276,10254,false,{"$f":"VALUE(Table2[[#This Row],[Identifier]])","v":95745}]
["95746",true,"2933599563 - 1-(3-Chlorophenyl) piperazine (CAS RN 6640-24-0)",10277,10254,false,{"$f":"VALUE(Table2[[#This Row],[Identifier]])","v":95746}]
["95747",true,"2933599565 - 1-Chloromethyl-4-fluoro-1,4-diazoniabicyclo[2.2.2]octane bis(tetrafluoroborate) (CAS RN 140681-55-6)",10278,10254,false,{"$f":"VALUE(Table2[[#This Row],[Identifier]])","v":95747}]
["118895",true,"2933599568 - Guanine (CAS RN 73-40-5) with a purity by weight of 99 % or more",10279,10254,false,{"$f":"VALUE(Table2[[#This Row],[Identifier]])","v":118895}]
["95748",true,"2933599570 - N-(4-Ethyl-2,3-dioxopiperazin-1-ylcarbonyl)-D-2-phenylglycine (CAS RN 63422-71-9)",10280,10254,false,{"$f":"VALUE(Table2[[#This Row],[Identifier]])","v":95748}]
["95750",true,"2933599577 - 3-(Trifluoromethyl)-5,6,7,8-tetrahydro[1,2,4]triazolo[4,3-a]pyrazine hydrochloride (1:1) (CAS RN 762240-92-6)",10281,10254,false,{"$f":"VALUE(Table2[[#This Row],[Identifier]])","v":95750}]
["95751",true,"2933599587 - 5-Bromo-2,4-dichloropyrimidine (CAS RN 36082-50-5)",10282,10254,false,{"$f":"VALUE(Table2[[#This Row],[Identifier]])","v":95751}]
["95753",true,"2933599590 - Other",10283,10254,false,{"$f":"VALUE(Table2[[#This Row],[Identifier]])","v":95753}]
["110597",false,"2933610000 - Compounds containing an unfused triazine ring (whether or not hydrogenated) in the structure",10284,10096,false,{"$f":"VALUE(Table2[[#This Row],[Identifier]])","v":110597}]
["95754",true,"2933610000 - Melamine",10285,10284,false,{"$f":"VALUE(Table2[[#This Row],[Identifier]])","v":95754}]
["95755",true,"2933690000 - Other",10286,10284,false,{"$f":"VALUE(Table2[[#This Row],[Identifier]])","v":95755}]
["95756",true,"2933691000 - Atrazine (ISO); propazine (ISO); simazine (ISO); hexahydro-1,3,5-trinitro-1,3,5-triazine (hexogen, trimethylenetrinitramine)",10287,10286,false,{"$f":"VALUE(Table2[[#This Row],[Identifier]])","v":95756}]
["95757",true,"2933694000 - Methenamine (INN) (hexamethylenetetramine); 2,6-di-tert-butyl-4-[4,6-bis(octylthio)-1,3,5-triazin-2-ylamino]phenol",10288,10286,false,{"$f":"VALUE(Table2[[#This Row],[Identifier]])","v":95757}]
["95758",true,"2933698000 - Other",10289,10286,false,{"$f":"VALUE(Table2[[#This Row],[Identifier]])","v":95758}]
["95759",true,"2933698013 - Metribuzin (ISO) (CAS|RN|21087-64-9) with a purity by weight of 93|% or more",10290,10289,false,{"$f":"VALUE(Table2[[#This Row],[Identifier]])","v":95759}]
["95760",true,"2933698015 - 2-Chloro-4,6-dimethoxy-1,3,5-triazine (CAS|RN|3140-73-6)",10291,10289,false,{"$f":"VALUE(Table2[[#This Row],[Identifier]])","v":95760}]
["95761",true,"2933698017 - Benzoguanamine (CAS RN 91-76-9)",10292,10289,false,{"$f":"VALUE(Table2[[#This Row],[Identifier]])","v":95761}]
["118896",true,"2933698023 - 1,3,5-tris(2,3-dibromopropyl)-1,3,5-triazinane-2,4,6-trione (CAS RN 52434-90-9)",10293,10289,false,{"$f":"VALUE(Table2[[#This Row],[Identifier]])","v":118896}]
["95762",true,"2933698027 - Troclosene sodium dihydrate (INNM) (CAS RN 51580-86-0)",10294,10289,false,{"$f":"VALUE(Table2[[#This Row],[Identifier]])","v":95762}]
["95763",true,"2933698030 - 1,3,5-Tris[3-(dimethylamino)propyl]hexahydro-1,3,5-triazine (CAS RN 15875-13-5)",10295,10289,false,{"$f":"VALUE(Table2[[#This Row],[Identifier]])","v":95763}]
["131115",true,"2933698033 - 2,4,6-Trichloro-1,3,5-triazine (CAS RN 108-77-0) with a purity by weight of 99 % or more",10296,10289,false,{"$f":"VALUE(Table2[[#This Row],[Identifier]])","v":131115}]
["95764",true,"2933698040 - Troclosene sodium (INNM)|(CAS RN 2893-78-9)",10297,10289,false,{"$f":"VALUE(Table2[[#This Row],[Identifier]])","v":95764}]
["95765",true,"2933698045 - 2-(4,6-Bis-(2,4-dimethylphenyl)-1,3,5-triazin-2-yl)-5-(octyloxy)-phenol (CAS|RN|2725-22-6)",10298,10289,false,{"$f":"VALUE(Table2[[#This Row],[Identifier]])","v":95765}]
["95766",true,"2933698055 - Terbutryn (ISO) (CAS RN 886-50-0)",10299,10289,false,{"$f":"VALUE(Table2[[#This Row],[Identifier]])","v":95766}]
["95767",true,"2933698060 - Cyanuric acid (CAS RN 108-80-5)",10300,10289,false,{"$f":"VALUE(Table2[[#This Row],[Identifier]])","v":95767}]
["95768",true,"2933698065 - 1,3,5-Triazine-2,4,6(1H,3H,5H)-trithione, trisodium salt (CAS RN 17766-26-6)",10301,10289,false,{"$f":"VALUE(Table2[[#This Row],[Identifier]])","v":95768}]
["95769",true,"2933698070 - Trichloroisocyanuric acid, also referred to as ‘symclosene’ under the international non-proprietary name (INN)",10302,10289,false,{"$f":"VALUE(Table2[[#This Row],[Identifier]])","v":95769}]
["95770",true,"2933698075 - Metamitron (ISO) (CAS RN 41394-05-2) ",10303,10289,false,{"$f":"VALUE(Table2[[#This Row],[Identifier]])","v":95770}]
["95771",true,"2933698080 - Tris(2-hydroxyethyl)-1,3,5-triazinetrione (CAS RN 839-90-7)",10304,10289,false,{"$f":"VALUE(Table2[[#This Row],[Identifier]])","v":95771}]
["95772",true,"2933698090 - Other",10305,10289,false,{"$f":"VALUE(Table2[[#This Row],[Identifier]])","v":95772}]
["110598",false,"2933710000 - Lactams",10306,10096,false,{"$f":"VALUE(Table2[[#This Row],[Identifier]])","v":110598}]
["95773",true,"2933710000 - 6-Hexanelactam (epsilon-caprolactam)",10307,10306,false,{"$f":"VALUE(Table2[[#This Row],[Identifier]])","v":95773}]
["95774",true,"2933720000 - Clobazam (INN) and methyprylon (INN)",10308,10306,false,{"$f":"VALUE(Table2[[#This Row],[Identifier]])","v":95774}]
["95775",true,"2933790000 - Other lactams",10309,10306,false,{"$f":"VALUE(Table2[[#This Row],[Identifier]])","v":95775}]
["95776",true,"2933790015 - Ethyl N-(tert-Butoxycarbonyl)-L-pyroglutamate (CAS RN 144978-12-1)",10310,10309,false,{"$f":"VALUE(Table2[[#This Row],[Identifier]])","v":95776}]
["95777",true,"2933790025 - Methyl 2-oxo-2,3-dihydro-1H-indole-6-carboxylate (CAS|RN|14192-26-8)",10311,10309,false,{"$f":"VALUE(Table2[[#This Row],[Identifier]])","v":95777}]
["95778",true,"2933790030 - 5-Vinyl-2-pyrrolidone (CAS RN 7529-16-0)",10312,10309,false,{"$f":"VALUE(Table2[[#This Row],[Identifier]])","v":95778}]
["95779",true,"2933790035 - 1-tert-butyl 2-methyl(2S)-5-oxopyrrolidine-1,2-dicarboxylate (CAS RN 108963-96-8)",10313,10309,false,{"$f":"VALUE(Table2[[#This Row],[Identifier]])","v":95779}]
["131116",true,"2933790045 - 1-phenyl-3H-indol-2-one (CAS RN 3335-98-6) with a purity by weight of 99 % or more",10314,10309,false,{"$f":"VALUE(Table2[[#This Row],[Identifier]])","v":131116}]
["95780",true,"2933790050 - 6-Bromo-3-methyl-3H-dibenz(f,ij)isoquinoline-2,7-dione (CAS RN 81-85-6)",10315,10309,false,{"$f":"VALUE(Table2[[#This Row],[Identifier]])","v":95780}]
["133836",true,"2933790055 - (3S,4R)-3-Amino-4-hydroxypyrrolidin-2-one hydrochloride (CAS RN 2446872-13-3) with a purity by weight of 98 % or more",10316,10309,false,{"$f":"VALUE(Table2[[#This Row],[Identifier]])","v":133836}]
["133837",true,"2933790065 - 1-Dodecyl-2-pyrrolidone (CAS RN 2687-96-9) with a purity by weight of 98 % or more",10317,10309,false,{"$f":"VALUE(Table2[[#This Row],[Identifier]])","v":133837}]
["95782",true,"2933790070 - (S)-N-[(Diethylamino)methyl]-alpha-ethyl-2-oxo-1-pyrrolidineacetamide L-(+)-tartrate (CAS RN 754186-36-2)",10318,10309,false,{"$f":"VALUE(Table2[[#This Row],[Identifier]])","v":95782}]
["133838",true,"2933790075 - N-(n-octyl)-2-pyrrolidone (CAS RN 2687-94-7) with a purity by weight of 99 % or more",10319,10309,false,{"$f":"VALUE(Table2[[#This Row],[Identifier]])","v":133838}]
["133839",true,"2933790080 - (S)-2-Amino-3-[(S)-2-oxopyrrolidin-3-yl]propanamide hydrochloride (CAS RN 2628280-48-6) with a purity by weight of 98 % or more",10320,10309,false,{"$f":"VALUE(Table2[[#This Row],[Identifier]])","v":133839}]
["95783",true,"2933790090 - Other",10321,10309,false,{"$f":"VALUE(Table2[[#This Row],[Identifier]])","v":95783}]
["110599",false,"2933910000 - Other",10322,10096,false,{"$f":"VALUE(Table2[[#This Row],[Identifier]])","v":110599}]
["95784",true,"2933910000 - Alprazolam (INN), camazepam (INN), chlordiazepoxide (INN), clonazepam (INN), clorazepate, delorazepam (INN), diazepam (INN), estazolam (INN), ethyl loflazepate (INN), fludiazepam (INN), flunitrazepam (INN), flurazepam (INN), halazepam (INN), lorazepam (INN), lormetazepam (INN), mazindol (INN), medazepam (INN), midazolam (INN), nimetazepam (INN), nitrazepam (INN), nordazepam (INN), oxazepam (INN), pinazepam (INN), prazepam (INN), pyrovalerone (INN), temazepam (INN), tetrazepam (INN) and triazolam (INN); salts thereof",10323,10322,false,{"$f":"VALUE(Table2[[#This Row],[Identifier]])","v":95784}]
["95785",true,"2933911000 - Chlordiazepoxide (INN)",10324,10323,false,{"$f":"VALUE(Table2[[#This Row],[Identifier]])","v":95785}]
["95786",true,"2933919000 - Other",10325,10323,false,{"$f":"VALUE(Table2[[#This Row],[Identifier]])","v":95786}]
["95787",true,"2933920000 - Azinphos-methyl (ISO)",10326,10322,false,{"$f":"VALUE(Table2[[#This Row],[Identifier]])","v":95787}]
["95788",true,"2933990000 - Other",10327,10322,false,{"$f":"VALUE(Table2[[#This Row],[Identifier]])","v":95788}]
["95789",true,"2933992000 - Indole, 3-methylindole (skatole), 6-allyl-6,7-dihydro-5H-dibenz[c,e]azepine (azapetine), phenindamine (INN) and their salts; imipramine hydrochloride (INNM)",10328,10327,false,{"$f":"VALUE(Table2[[#This Row],[Identifier]])","v":95789}]
["95790",true,"2933995000 - 2,4-Di-tert-butyl-6-(5-chlorobenzotriazol-2-yl)phenol",10329,10327,false,{"$f":"VALUE(Table2[[#This Row],[Identifier]])","v":95790}]
["95791",true,"2933998000 - Other",10330,10327,false,{"$f":"VALUE(Table2[[#This Row],[Identifier]])","v":95791}]
["133840",true,"2933998005 - 1,4,7,10-Tetraazacyclododecane (CAS RN 294-90-6) with a purity by weight of 96 % or more",10331,10330,false,{"$f":"VALUE(Table2[[#This Row],[Identifier]])","v":133840}]
["133841",true,"2933998006 - Metconazole (ISO) (CAS RN 125116-23-6) with a purity by weight of 98 % or more",10332,10330,false,{"$f":"VALUE(Table2[[#This Row],[Identifier]])","v":133841}]
["133842",true,"2933998007 - 4-(2-Oxo-2,3-dihydro-1H-benzimidazol-1-yl)butanoic acid (CAS RN 3273-68-5) with a purity by weight of 98 % or more",10333,10330,false,{"$f":"VALUE(Table2[[#This Row],[Identifier]])","v":133842}]
["133843",true,"2933998008 - Prothioconazole (ISO) (CAS RN 178928-70-6) with a purity by weight of 98 % or more",10334,10330,false,{"$f":"VALUE(Table2[[#This Row],[Identifier]])","v":133843}]
["133844",true,"2933998009 - 5,7-Difluoro-2-(4-fluorophenyl)-1H-indole (CAS RN 901188-04-3) with a purity by weight of 98 % or more",10335,10330,false,{"$f":"VALUE(Table2[[#This Row],[Identifier]])","v":133844}]
["133845",true,"2933998010 - (R)-2-(2,5-difluorophenyl)pyrrolidine hydrochloride (CAS RN 1218935-60-4) with a purity by weight of 98 % or more",10336,10330,false,{"$f":"VALUE(Table2[[#This Row],[Identifier]])","v":133845}]
["95792",true,"2933998011 - Fenbuconazole (ISO) (CAS RN 114369-43-6)",10337,10330,false,{"$f":"VALUE(Table2[[#This Row],[Identifier]])","v":95792}]
["95793",true,"2933998012 - Myclobutanil (ISO) (CAS RN 88671-89-0)",10338,10330,false,{"$f":"VALUE(Table2[[#This Row],[Identifier]])","v":95793}]
["95794",true,"2933998013 - 5-Difluormethoxy-2-mercapto-1-H-benzimidazole|(CAS RN 97963-62-7)",10339,10330,false,{"$f":"VALUE(Table2[[#This Row],[Identifier]])","v":95794}]
["95795",true,"2933998014 - 2-(2H-benzotriazol-2-yl)-4-methyl-6-(2-methylprop-2-en-1-yl)phenol(CAS|RN|98809-58-6)",10340,10330,false,{"$f":"VALUE(Table2[[#This Row],[Identifier]])","v":95795}]
["95796",true,"2933998015 - 2-(2H-Benzotriazol-2-yl)-4,6-di-tert-pentylphenol (CAS RN 25973-55-1)",10341,10330,false,{"$f":"VALUE(Table2[[#This Row],[Identifier]])","v":95796}]
["95797",true,"2933998016 - Pyridate (ISO)(CAS RN 55512-33-9) with a purity by weight of 90|% or more",10342,10330,false,{"$f":"VALUE(Table2[[#This Row],[Identifier]])","v":95797}]
["133846",true,"2933998017 - (1R,2S,5S)-3-[(S)-3,3-dimethyl-2-(2,2,2-trifluoroacetamido)butanoyl]-6,6-dimethyl-3-azabicyclo[3.1.0]hexane-2-carboxylic acid (CAS RN 2755812-45-2) with a purity by weight of 98 % or more",10343,10330,false,{"$f":"VALUE(Table2[[#This Row],[Identifier]])","v":133846}]
["133847",true,"2933998018 - 2-(2-Ethoxyphenyl)-5-methyl-7-propylimidazolo[5,1-f][1,2,4]-triazin-4(3H)-one (CAS RN 224789-21-3) with a purity by weight of 95 % or more",10344,10330,false,{"$f":"VALUE(Table2[[#This Row],[Identifier]])","v":133847}]
["95799",true,"2933998019 - 2-(2,4-Dichlorophenyl)-3-(1H-1,2,4-triazol-1-yl)propan-1-ol (CAS RN 112281-82-0)",10345,10330,false,{"$f":"VALUE(Table2[[#This Row],[Identifier]])","v":95799}]
["95800",true,"2933998020 - 2-(2H-Benzotriazol-2-yl)-4,6-bis(1-methyl-1-phenylethyl)phenol|(CAS RN 70321-86-7)",10346,10330,false,{"$f":"VALUE(Table2[[#This Row],[Identifier]])","v":95800}]
["95801",true,"2933998021 - 1-(Bis(dimethylamino)methylene)-1H-[1,2,3]triazolo[4,5-b]pyridinium 3-oxide hexafluorophosphate(V) (CAS RN 148893-10-1)",10347,10330,false,{"$f":"VALUE(Table2[[#This Row],[Identifier]])","v":95801}]
["133848",true,"2933998022 - Dibenz[b,f]azepine-5-carbonyl chloride (CAS RN 33948-22-0) with a purity by weight of 98 % or more",10348,10330,false,{"$f":"VALUE(Table2[[#This Row],[Identifier]])","v":133848}]
["95802",true,"2933998023 - Tebuconazole (ISO) (CAS RN 107534-96-3) with a purity by weight of 95 % or more",10349,10330,false,{"$f":"VALUE(Table2[[#This Row],[Identifier]])","v":95802}]
["95803",true,"2933998024 - 1,3-Dihydro-5,6-diamino-2H-benzimidazol-2-one (CAS RN 55621-49-3)",10350,10330,false,{"$f":"VALUE(Table2[[#This Row],[Identifier]])","v":95803}]
["131117",true,"2933998025 - 6-(4-Benzylamino-3-nitrophenyl)-5-methyl-4,5-dihydro-2H-pyridazin-3-one (CAS RN 77469-62-6) with a purity by weight of 95 % or more",10351,10330,false,{"$f":"VALUE(Table2[[#This Row],[Identifier]])","v":131117}]
["133849",true,"2933998026 - Benzotriazole-1-yl-oxy-tris-pyrrolidino-phosphonium hexafluorophosphate (CAS RN 128625-52-5) with a purity by weight of 97 % or more",10352,10330,false,{"$f":"VALUE(Table2[[#This Row],[Identifier]])","v":133849}]
["95805",true,"2933998027 - 5,6-Dimethylbenzimidazole (CAS RN 582-60-5)",10353,10330,false,{"$f":"VALUE(Table2[[#This Row],[Identifier]])","v":95805}]
["133850",true,"2933998028 - 7-(2-Methyl-4-nitrophenoxy)-[1,2,4]triazolo[1,5-a]pyridine (CAS RN 937263-44-0) with a purity by weight of 98 % or more",10354,10330,false,{"$f":"VALUE(Table2[[#This Row],[Identifier]])","v":133850}]
["95807",true,"2933998030 - Quizalofop-P-ethyl (ISO) (CAS RN 100646-51-3)",10355,10330,false,{"$f":"VALUE(Table2[[#This Row],[Identifier]])","v":95807}]
["133851",true,"2933998032 - 1H-1,2,3-Triazole (CAS RN 288-36-8) or 2H-1,2,3-triazole (CAS RN 288-35-7) with a purity by weight of 99 % or more",10356,10330,false,{"$f":"VALUE(Table2[[#This Row],[Identifier]])","v":133851}]
["95809",true,"2933998033 - Penconazole (ISO) (CAS RN 66246-88-6)",10357,10330,false,{"$f":"VALUE(Table2[[#This Row],[Identifier]])","v":95809}]
["95810",true,"2933998034 - 2,4-Dihydro-5-methoxy-4-methyl-3H-1,2,4-triazol-3-on (CAS RN 135302-13-5)",10358,10330,false,{"$f":"VALUE(Table2[[#This Row],[Identifier]])","v":95810}]
["95811",true,"2933998036 - 3-Chloro-2-(1,1-difluoro-3-buten-1-yl)-6-methoxyquinoxaline (CAS RN 1799733-46-2)",10359,10330,false,{"$f":"VALUE(Table2[[#This Row],[Identifier]])","v":95811}]
["95812",true,"2933998037 - 8-Chloro-5,10-dihydro-11H-dibenzo [b,e] [1,4]diazepin-11-one (CAS RN 50892-62-1)",10360,10330,false,{"$f":"VALUE(Table2[[#This Row],[Identifier]])","v":95812}]
["95813",true,"2933998038 - (4aS,7aS)-Octahydro-1H-pyrrolo[3,4-b]pyridine (CAS RN 151213-40-0)",10361,10330,false,{"$f":"VALUE(Table2[[#This Row],[Identifier]])","v":95813}]
["95815",true,"2933998040 - trans-4-Hydroxy-L-proline (CAS RN 51-35-4)",10362,10330,false,{"$f":"VALUE(Table2[[#This Row],[Identifier]])","v":95815}]
["95816",true,"2933998041 - 5-[4'-(bromomethyl)biphenyl-2-yl]-1-trityl-1H-tetrazole (CAS RN 124750-51-2)",10363,10330,false,{"$f":"VALUE(Table2[[#This Row],[Identifier]])","v":95816}]
["95817",true,"2933998042 - (S)-2,2,4-Trimethylpyrrolidine hydrochloride (CAS RN 1897428-40-8)",10364,10330,false,{"$f":"VALUE(Table2[[#This Row],[Identifier]])","v":95817}]
["95819",true,"2933998045 - Maleic hydrazide (ISO) (CAS RN 123-33-1)",10365,10330,false,{"$f":"VALUE(Table2[[#This Row],[Identifier]])","v":95819}]
["95820",true,"2933998046 - (S)-indoline-2-carboxylic acid (CAS RN 79815-20-6)",10366,10330,false,{"$f":"VALUE(Table2[[#This Row],[Identifier]])","v":95820}]
["95821",true,"2933998047 - Paclobutrazol (ISO) (CAS RN 76738-62-0)",10367,10330,false,{"$f":"VALUE(Table2[[#This Row],[Identifier]])","v":95821}]
["95822",true,"2933998048 - 5-Amino-6-methyl-2-benzimidazolone (CAS|RN|67014-36-2)",10368,10330,false,{"$f":"VALUE(Table2[[#This Row],[Identifier]])","v":95822}]
["95827",true,"2933998053 - Potassium (S)-5-(tert-butoxycarbonyl)-5-azaspiro[2.4]heptane-6-carboxylate (CAS RN 1441673-92-2)",10369,10330,false,{"$f":"VALUE(Table2[[#This Row],[Identifier]])","v":95827}]
["95828",true,"2933998054 - 3-(Salicyloylamino)-1,2,4-triazole (CAS RN 36411-52-6)",10370,10330,false,{"$f":"VALUE(Table2[[#This Row],[Identifier]])","v":95828}]
["95829",true,"2933998055 - Pyridaben (ISO) (CAS RN 96489-71-3)",10371,10330,false,{"$f":"VALUE(Table2[[#This Row],[Identifier]])","v":95829}]
["95830",true,"2933998056 - Methyl 3,5-diamino-6-chloropyrazine-2-carboxylate (CAS|RN|1458-01-1)",10372,10330,false,{"$f":"VALUE(Table2[[#This Row],[Identifier]])","v":95830}]
["95831",true,"2933998057 - 2-(5-Methoxyindol-3-yl)ethylamine (CAS RN 608-07-1)",10373,10330,false,{"$f":"VALUE(Table2[[#This Row],[Identifier]])","v":95831}]
["95832",true,"2933998058 - Ipconazole (ISO) (CAS RN 125225-28-7) with a purity by weight of 90 % or more",10374,10330,false,{"$f":"VALUE(Table2[[#This Row],[Identifier]])","v":95832}]
["95833",true,"2933998059 - Hydrates of Hydroxybenzotriazole (CAS RN 80029-43-2 and CAS RN 123333-53-9)",10375,10330,false,{"$f":"VALUE(Table2[[#This Row],[Identifier]])","v":95833}]
["131118",true,"2933998060 - 2-[(6,11-Dihydro-5H-dibenz[b,e]azepin-6-yl)-methyl]-1H-isoindole-1,3(2H)-dione (CAS RN 143878-20-0) with a purity by weight of 99 % or more",10376,10330,false,{"$f":"VALUE(Table2[[#This Row],[Identifier]])","v":131118}]
["95834",true,"2933998061 - (1R,5S)-8-Benzyl-8-azabicyclo(3.2.1)octan-3-one hydrochloride (CAS RN 83393-23-1)",10377,10330,false,{"$f":"VALUE(Table2[[#This Row],[Identifier]])","v":95834}]
["95835",true,"2933998063 - L-Prolinamide (CAS RN 7531-52-4)",10378,10330,false,{"$f":"VALUE(Table2[[#This Row],[Identifier]])","v":95835}]
["118897",true,"2933998066 - (6-(4-fluorobenzyl)-3,3-dimethyl-2,3-dihydro-1H-pyrrolo[3,2-b]pyrid-5-yl)methanol (CAS RN 1799327-42-6) with a purity by weight of 98 % or more",10379,10330,false,{"$f":"VALUE(Table2[[#This Row],[Identifier]])","v":118897}]
["95836",true,"2933998067 - Candesartan ethyl ester (INNM), (CAS RN 139481-58-6)",10380,10330,false,{"$f":"VALUE(Table2[[#This Row],[Identifier]])","v":95836}]
["95837",true,"2933998068 - 5-((1S,2S)-2-((2R,6S,9S,11R,12R,14aS,15S,16S,20R,23S,25aR)-9-amino-20-((R)-3-amino-1-hydroxy-3-oxopropyl)-2,11,12,15-tetrahydroxy-6-((R)-1-hydroxyethyl)-16-methyl-5,8,14,19,22,25-hexaoxotetracosahydro-1H-dipyrrolo[2,1-c:2',1'-l][1,4,7,10,13,16]hexaazacyclohenicosin-23-yl)-1,2-dihydroxyethyl)-2-hydroxyphenyl hydrogen sulphate (CAS RN 168110-44-9)",10381,10330,false,{"$f":"VALUE(Table2[[#This Row],[Identifier]])","v":95837}]
["131120",true,"2933998069 - 5-Formyl-2,4-dimethyl-1H-pyrrole-3-carboxylic acid (CAS RN 253870-02-9) with a purity by weight of 96 % or more",10382,10330,false,{"$f":"VALUE(Table2[[#This Row],[Identifier]])","v":131120}]
["131121",true,"2933998070 - 5-(Bis-(2-hydroxyethyl)-amino)-1-methyl-1H-benzimidazole-2-butanoic acid ethyl ester (CAS RN 3543-74-6) with a purity by weight of 98 % or more",10383,10330,false,{"$f":"VALUE(Table2[[#This Row],[Identifier]])","v":131121}]
["95838",true,"2933998071 - 10-Methoxyiminostilbene (CAS RN 4698-11-7)",10384,10330,false,{"$f":"VALUE(Table2[[#This Row],[Identifier]])","v":95838}]
["95839",true,"2933998072 - 1,4,7-Trimethyl-1,4,7-Triazacyclononane  (CAS RN 96556-05-7)",10385,10330,false,{"$f":"VALUE(Table2[[#This Row],[Identifier]])","v":95839}]
["95840",true,"2933998073 - 5-(acetoacetylamino)benzimidazolone (CAS RN 26576-46-5)",10386,10330,false,{"$f":"VALUE(Table2[[#This Row],[Identifier]])","v":95840}]
["118898",true,"2933998075 - 1-[Bis(dimethylamino)methylene]-1H-benzotriazolium hexafluorophosphate(1-) 3-oxide (CAS RN 94790-37-1)​",10387,10330,false,{"$f":"VALUE(Table2[[#This Row],[Identifier]])","v":118898}]
["131122",true,"2933998076 - 2-Methylindoline (CAS RN 6872-06-6) with a purity by weight of 98 % or more",10388,10330,false,{"$f":"VALUE(Table2[[#This Row],[Identifier]])","v":131122}]
["131123",true,"2933998077 - 9-[1,1′-Biphenyl]-3-yl-9′-[1,1′-biphenyl]-4-yl-3,3′-bi-9H-carbazole (CAS RN 1643479-47-3) with a purity by weight of 95 % or more",10389,10330,false,{"$f":"VALUE(Table2[[#This Row],[Identifier]])","v":131123}]
["95842",true,"2933998078 - 3-Amino-3-azabicyclo (3.3.0) octane hydrochloride (CAS RN 58108-05-7)",10390,10330,false,{"$f":"VALUE(Table2[[#This Row],[Identifier]])","v":95842}]
["131124",true,"2933998080 - Pyrrole-2-carboxaldehyde (CAS RN 1003-29-8) with a purity by weight of 97 % or more",10391,10330,false,{"$f":"VALUE(Table2[[#This Row],[Identifier]])","v":131124}]
["95843",true,"2933998081 - 1,2,3-Benzotriazole (CAS RN 95-14-7)",10392,10330,false,{"$f":"VALUE(Table2[[#This Row],[Identifier]])","v":95843}]
["95844",true,"2933998082 - Tolytriazole (CAS RN 29385-43-1)",10393,10330,false,{"$f":"VALUE(Table2[[#This Row],[Identifier]])","v":95844}]
["118900",true,"2933998085 - 2-benzotriazol-2-yl-4,6-di-tert-butylphenol (UV-320) (CAS RN 3846-71-7)",10394,10330,false,{"$f":"VALUE(Table2[[#This Row],[Identifier]])","v":118900}]
["118901",true,"2933998086 - 2-(2H-benzotriazol-2-yl)-4-(tert-butyl)-6- (sec-butyl)phenol (UV-350)  (CAS RN 36437-37-3)",10395,10330,false,{"$f":"VALUE(Table2[[#This Row],[Identifier]])","v":118901}]
["131125",true,"2933998087 - Carfentrazone-ethyl (ISOM) (CAS RN 128639-02-1) with a purity by weight of 90 % or more",10396,10330,false,{"$f":"VALUE(Table2[[#This Row],[Identifier]])","v":131125}]
["95846",true,"2933998090 - Other",10397,10330,false,{"$f":"VALUE(Table2[[#This Row],[Identifier]])","v":95846}]
["110620",false,"3000000000 - Pharmaceutical products",10640,7910,false,{"$f":"VALUE(Table2[[#This Row],[Identifier]])","v":110620}]
["110631",false,"3005000000 - Wadding, gauze, bandages and similar articles (for example, dressings, adhesive plasters, poultices), impregnated or coated with pharmaceutical substances or put up in forms or packings for retail sale for medical, surgical, dental or veterinary purposes",10700,10640,false,{"$f":"VALUE(Table2[[#This Row],[Identifier]])","v":110631}]
["96095",true,"3005100000 - Adhesive dressings and other articles having an adhesive layer",10701,10700,false,{"$f":"VALUE(Table2[[#This Row],[Identifier]])","v":96095}]
["96096",true,"3005900000 - Other",10702,10700,false,{"$f":"VALUE(Table2[[#This Row],[Identifier]])","v":96096}]
["96097",true,"3005901000 - Wadding and articles of wadding",10703,10702,false,{"$f":"VALUE(Table2[[#This Row],[Identifier]])","v":96097}]
["110632",false,"3005903100 - Other",10704,10702,false,{"$f":"VALUE(Table2[[#This Row],[Identifier]])","v":110632}]
["110633",false,"3005903100 - Of textile materials",10705,10704,false,{"$f":"VALUE(Table2[[#This Row],[Identifier]])","v":110633}]
["96098",true,"3005903100 - Gauze and articles of gauze",10706,10705,false,{"$f":"VALUE(Table2[[#This Row],[Identifier]])","v":96098}]
["96099",true,"3005905000 - Other",10707,10705,false,{"$f":"VALUE(Table2[[#This Row],[Identifier]])","v":96099}]
["96100",true,"3005909900 - Other",10708,10704,false,{"$f":"VALUE(Table2[[#This Row],[Identifier]])","v":96100}]
["110634",false,"3006000000 - Pharmaceutical goods specified in note|4|to this chapter",10709,10640,false,{"$f":"VALUE(Table2[[#This Row],[Identifier]])","v":110634}]
["96101",true,"3006100000 - Sterile surgical catgut, similar sterile suture materials (including sterile absorbable surgical or dental yarns) and sterile tissue adhesives for surgical wound closure; sterile laminaria and sterile laminaria tents; sterile absorbable surgical or dental haemostatics; sterile surgical or dental adhesion barriers, whether or not absorbable",10710,10709,false,{"$f":"VALUE(Table2[[#This Row],[Identifier]])","v":96101}]
["96102",true,"3006101000 - Sterile surgical catgut",10711,10710,false,{"$f":"VALUE(Table2[[#This Row],[Identifier]])","v":96102}]
["96103",true,"3006103000 - Sterile surgical or dental adhesion barriers, whether or not absorbable",10712,10710,false,{"$f":"VALUE(Table2[[#This Row],[Identifier]])","v":96103}]
["96104",true,"3006109000 - Other",10713,10710,false,{"$f":"VALUE(Table2[[#This Row],[Identifier]])","v":96104}]
["96106",true,"3006300000 - Opacifying preparations for X-ray examinations; diagnostic reagents designed to be administered to the patient",10714,10709,false,{"$f":"VALUE(Table2[[#This Row],[Identifier]])","v":96106}]
["96107",true,"3006400000 - Dental cements and other dental fillings; bone reconstruction cements",10715,10709,false,{"$f":"VALUE(Table2[[#This Row],[Identifier]])","v":96107}]
["96108",true,"3006500000 - First-aid boxes and kits",10716,10709,false,{"$f":"VALUE(Table2[[#This Row],[Identifier]])","v":96108}]
["96109",true,"3006600000 - Chemical contraceptive preparations based on hormones, on other products of heading|2937|or on spermicides",10717,10709,false,{"$f":"VALUE(Table2[[#This Row],[Identifier]])","v":96109}]
["96110",true,"3006700000 - Gel preparations designed to be used in human or veterinary medicine as a lubricant for parts of the body for surgical operations or physical examinations or as a coupling agent between the body and medical instruments",10718,10709,false,{"$f":"VALUE(Table2[[#This Row],[Identifier]])","v":96110}]
["110635",false,"3006910000 - Other",10719,10709,false,{"$f":"VALUE(Table2[[#This Row],[Identifier]])","v":110635}]
["96111",true,"3006910000 - Appliances identifiable for ostomy use",10720,10719,false,{"$f":"VALUE(Table2[[#This Row],[Identifier]])","v":96111}]
["96112",true,"3006920000 - Waste pharmaceuticals",10721,10719,false,{"$f":"VALUE(Table2[[#This Row],[Identifier]])","v":96112}]
["133894",true,"3006930000 - Placebos and blinded (or double-blinded) clinical trial kits for a recognised clinical trial, put up in measured doses",10722,10719,false,{"$f":"VALUE(Table2[[#This Row],[Identifier]])","v":133894}]
["110644",false,"3200000000 - Tanning or dyeing extracts; tannins and their derivatives; dyes, pigments and other colouring matter; paints and varnishes; putty and other mastics; inks",10805,7910,false,{"$f":"VALUE(Table2[[#This Row],[Identifier]])","v":110644}]
["96305",true,"3205000000 - Colour lakes; preparations as specified in note|3|to this chapter based on colour lakes",10914,10805,false,{"$f":"VALUE(Table2[[#This Row],[Identifier]])","v":96305}]
["96306",true,"3205000010 - Aluminium lakes prepared from dyes for use in the manufacture of pigments for the pharmaceutical industry",10915,10914,false,{"$f":"VALUE(Table2[[#This Row],[Identifier]])","v":96306}]
["96307",true,"3205000020 - Colourant C.I. Solvent Red 48 (CAS RN 13473-26-2) preparation, in a form of dry powder, containing by weight:\n\n-16 % or more but not more than 25 % of Colourant C.I. Solvent Red 48 (CAS RN 13473-26-2)\n\n-65 % or more but no more than 75 % of aluminium hydroxide (CAS RN 21645-51-2)",10916,10914,false,{"$f":"VALUE(Table2[[#This Row],[Identifier]])","v":96307}]
["96308",true,"3205000030 - Colourant C.I. Pigment Red 174 (CAS RN 15876-58-1) preparation, in a form of dry powder, containing by weight:\n\n-16 % or more but not more than 21 % of Colourant C.I. Pigment Red 174 (CAS RN 15876-58-1)\n\n-65 % or more but no more than 69 % of aluminium hydroxide (CAS RN 21645-51-2)",10917,10914,false,{"$f":"VALUE(Table2[[#This Row],[Identifier]])","v":96308}]
["96309",true,"3205000090 - Other",10918,10914,false,{"$f":"VALUE(Table2[[#This Row],[Identifier]])","v":96309}]
["110650",false,"3206000000 - Other colouring matter; preparations as specified in note|3|to this chapter, other than those of heading|3203, 3204|or 3205; inorganic products of a kind used as luminophores, whether or not chemically defined",10919,10805,false,{"$f":"VALUE(Table2[[#This Row],[Identifier]])","v":110650}]
["110651",false,"3206110000 - Pigments and preparations based on titanium dioxide",10920,10919,false,{"$f":"VALUE(Table2[[#This Row],[Identifier]])","v":110651}]
["96310",true,"3206110000 - Containing 80|% or more by weight of titanium dioxide calculated on the dry matter",10921,10920,false,{"$f":"VALUE(Table2[[#This Row],[Identifier]])","v":96310}]
["96311",true,"3206110010 - Titanium dioxide coated with isopropoxytitanium triisostearate, containing by weight 1,5|% or more but not more than 2,5|% of isopropoxytitanium triisostearate",10922,10921,false,{"$f":"VALUE(Table2[[#This Row],[Identifier]])","v":96311}]
["96312",true,"3206110090 - Other",10923,10921,false,{"$f":"VALUE(Table2[[#This Row],[Identifier]])","v":96312}]
["96313",true,"3206190000 - Other",10924,10920,false,{"$f":"VALUE(Table2[[#This Row],[Identifier]])","v":96313}]
["96314",true,"3206190010 - Preparation containing by weight:\n \n-|72|% (±|2|%) of mica (CAS RN 12001-26-2) and\n \n-|28|% (±|2|%) of titanium dioxide (CAS RN 13463-67-7)",10925,10924,false,{"$f":"VALUE(Table2[[#This Row],[Identifier]])","v":96314}]
["96315",true,"3206190090 - Other",10926,10924,false,{"$f":"VALUE(Table2[[#This Row],[Identifier]])","v":96315}]
["96316",true,"3206200000 - Pigments and preparations based on chromium compounds",10927,10919,false,{"$f":"VALUE(Table2[[#This Row],[Identifier]])","v":96316}]
["118920",true,"3206200010 - Lead chromate molybdate  sulphate  red (C.I. Pigment Red 104) (CAS-nr: 12656-85-8)",10928,10927,false,{"$f":"VALUE(Table2[[#This Row],[Identifier]])","v":118920}]
["118921",true,"3206200020 - Lead sulfochromate yellow (C.I. Pigment Yellow 34)  (CAS RN 1344-37-2)",10929,10927,false,{"$f":"VALUE(Table2[[#This Row],[Identifier]])","v":118921}]
["118922",true,"3206200030 - Pentazinc chromate octahydroxide (CAS RN 49663-84-5)",10930,10927,false,{"$f":"VALUE(Table2[[#This Row],[Identifier]])","v":118922}]
["118923",true,"3206200040 - Strontium chromate (CAS RN 7789-06-2)",10931,10927,false,{"$f":"VALUE(Table2[[#This Row],[Identifier]])","v":118923}]
["118924",true,"3206200090 - Other",10932,10927,false,{"$f":"VALUE(Table2[[#This Row],[Identifier]])","v":118924}]
["110652",false,"3206410000 - Other colouring matter and other preparations",10933,10919,false,{"$f":"VALUE(Table2[[#This Row],[Identifier]])","v":110652}]
["96317",true,"3206410000 - Ultramarine and preparations based thereon",10934,10933,false,{"$f":"VALUE(Table2[[#This Row],[Identifier]])","v":96317}]
["96318",true,"3206420000 - Lithopone and other pigments and preparations based on zinc sulphide",10935,10933,false,{"$f":"VALUE(Table2[[#This Row],[Identifier]])","v":96318}]
["96319",true,"3206420010 - Lithopone|(CAS RN 1345-05-7)",10936,10935,false,{"$f":"VALUE(Table2[[#This Row],[Identifier]])","v":96319}]
["96320",true,"3206420090 - Other",10937,10935,false,{"$f":"VALUE(Table2[[#This Row],[Identifier]])","v":96320}]
["96321",true,"3206490000 - Other",10938,10933,false,{"$f":"VALUE(Table2[[#This Row],[Identifier]])","v":96321}]
["96322",true,"3206491000 - Magnetite",10939,10938,false,{"$f":"VALUE(Table2[[#This Row],[Identifier]])","v":96322}]
["96323",true,"3206497000 - Other",10940,10938,false,{"$f":"VALUE(Table2[[#This Row],[Identifier]])","v":96323}]
["96324",true,"3206497020 - Colourant C.I. Pigment Blue 27 (CAS RN 14038-43-8)",10941,10940,false,{"$f":"VALUE(Table2[[#This Row],[Identifier]])","v":96324}]
["96326",true,"3206497040 - Colourant C.I. Pigment Blue 27|(CAS|RN|25869-00-5) and preparations thereon with a colourant C.I. Pigment Blue 27|content of 85|% or more by weight",10942,10940,false,{"$f":"VALUE(Table2[[#This Row],[Identifier]])","v":96326}]
["133896",true,"3206497050 - Concentrated mixture of pigments (masterbatch) in the form of pellets containing by weight:\n \n-50 % or more but not more than 70 % of polyamide-6.6 (CAS RN 32131-17-2),\n \n-15 % or more but not more than 20 % of iron powder (CAS RN 7439-89-6),\n \n-5 % or more but not more than 15 % of barium sulphate (CAS RN 7727-43-7), and\n \n-5 % or more but not more than 10 % of blue pigment, consisting of a mixture of Titanium dioxide (CAS RN 13463-67-7) and Copper(II) phtalocyanine(CAS RN 147-14-8)",10943,10940,false,{"$f":"VALUE(Table2[[#This Row],[Identifier]])","v":133896}]
["96327",true,"3206497090 - Other",10944,10940,false,{"$f":"VALUE(Table2[[#This Row],[Identifier]])","v":96327}]
["96328",true,"3206500000 - Inorganic products of a kind used as luminophores",10945,10919,false,{"$f":"VALUE(Table2[[#This Row],[Identifier]])","v":96328}]
["110653",false,"3207000000 - Prepared pigments, prepared opacifiers and prepared colours, vitrifiable enamels and glazes, engobes (slips), liquid lustres and similar preparations, of a kind used in the ceramic, enamelling or glass industry; glass frit and other glass, in the form of powder, granules or flakes",10946,10805,false,{"$f":"VALUE(Table2[[#This Row],[Identifier]])","v":110653}]
["96329",true,"3207100000 - Prepared pigments, prepared opacifiers, prepared colours and similar preparations",10947,10946,false,{"$f":"VALUE(Table2[[#This Row],[Identifier]])","v":96329}]
["96330",true,"3207200000 - Vitrifiable enamels and glazes, engobes (slips) and similar preparations",10948,10946,false,{"$f":"VALUE(Table2[[#This Row],[Identifier]])","v":96330}]
["96331",true,"3207201000 - Engobes (slips)",10949,10948,false,{"$f":"VALUE(Table2[[#This Row],[Identifier]])","v":96331}]
["96332",true,"3207209000 - Other",10950,10948,false,{"$f":"VALUE(Table2[[#This Row],[Identifier]])","v":96332}]
["96333",true,"3207300000 - Liquid lustres and similar preparations",10951,10946,false,{"$f":"VALUE(Table2[[#This Row],[Identifier]])","v":96333}]
["96334",true,"3207300020 - Printing paste containing\n \n-|30|% by weight or more, but not more than 50|% of silver and\n \n-|8|% by weight or more, but not more than 17|% of palladium",10952,10951,false,{"$f":"VALUE(Table2[[#This Row],[Identifier]])","v":96334}]
["96335",true,"3207300090 - Other",10953,10951,false,{"$f":"VALUE(Table2[[#This Row],[Identifier]])","v":96335}]
["96336",true,"3207400000 - Glass frit and other glass, in the form of powder, granules or flakes",10954,10946,false,{"$f":"VALUE(Table2[[#This Row],[Identifier]])","v":96336}]
["96337",true,"3207404000 - Glass in the form of flakes of a length of 0,1|mm or more but not exceeding 3,5|mm and of a thickness of 2|micrometres or more but not exceeding 5|micrometres; glass, in the form of powder or granules, containing by weight 99|% or more of silicon dioxide",10955,10954,false,{"$f":"VALUE(Table2[[#This Row],[Identifier]])","v":96337}]
["96338",true,"3207408500 - Other",10956,10954,false,{"$f":"VALUE(Table2[[#This Row],[Identifier]])","v":96338}]
["110654",false,"3208000000 - Paints and varnishes (including enamels and lacquers) based on synthetic polymers or chemically modified natural polymers, dispersed or dissolved in a non-aqueous medium; solutions as defined in note|4|to this chapter",10957,10805,false,{"$f":"VALUE(Table2[[#This Row],[Identifier]])","v":110654}]
["96341",true,"3208100000 - Based on polyesters",10958,10957,false,{"$f":"VALUE(Table2[[#This Row],[Identifier]])","v":96341}]
["96342",true,"3208101000 - Solutions as defined in note|4|to this chapter",10959,10958,false,{"$f":"VALUE(Table2[[#This Row],[Identifier]])","v":96342}]
["96345",true,"3208109000 - Other",10960,10958,false,{"$f":"VALUE(Table2[[#This Row],[Identifier]])","v":96345}]
["96346",true,"3208200000 - Based on acrylic or vinyl polymers",10961,10957,false,{"$f":"VALUE(Table2[[#This Row],[Identifier]])","v":96346}]
["96347",true,"3208201000 - Solutions as defined in note|4|to this chapter",10962,10961,false,{"$f":"VALUE(Table2[[#This Row],[Identifier]])","v":96347}]
["96348",true,"3208201010 - Copolymer of N-vinylcaprolactam, N-vinyl-2-pyrrolidone and dimethylaminoethyl methacrylate, in the form of a solution in ethanol containing by weight 34|% or more but not more than 40|% of copolymer",10963,10962,false,{"$f":"VALUE(Table2[[#This Row],[Identifier]])","v":96348}]
["96349",true,"3208201020 - Immersion topcoat solution containing by weight|0,5|% or more but not more than 15|% of acrylate-methacrylate-alkenesulphonate copolymers with fluorinated side chains, in a solution of n-butanol and/or 4-methyl-2-pentanol and/or diisoamylether",10964,10962,false,{"$f":"VALUE(Table2[[#This Row],[Identifier]])","v":96349}]
["133897",true,"3208201050 - Copolymer of vinylcaprolactam and vinylpyrrolidone (CAS RN 51987-20-3) in the form of a solution in 2-butoxyethanol (CAS RN 111-76-2) containing by weight 45 % or more but not more than 58 % of copolymer",10965,10962,false,{"$f":"VALUE(Table2[[#This Row],[Identifier]])","v":133897}]
["96350",true,"3208201090 - Other",10966,10962,false,{"$f":"VALUE(Table2[[#This Row],[Identifier]])","v":96350}]
["96351",true,"3208209000 - Other",10967,10961,false,{"$f":"VALUE(Table2[[#This Row],[Identifier]])","v":96351}]
["96352",true,"3208900000 - Other",10968,10957,false,{"$f":"VALUE(Table2[[#This Row],[Identifier]])","v":96352}]
["110655",false,"3208901100 - Solutions as defined in note|4|to this chapter",10969,10968,false,{"$f":"VALUE(Table2[[#This Row],[Identifier]])","v":110655}]
["96353",true,"3208901100 - Polyurethane of 2,2′-(tert-butylimino)diethanol and 4,4′-methylenedicyclohexyl diisocyanate, in the form of a solution in N,N-dimethylacetamide, containing by weight 48|% or more of polymer",10970,10969,false,{"$f":"VALUE(Table2[[#This Row],[Identifier]])","v":96353}]
["96354",true,"3208901300 - Copolymer of p-cresol and divinylbenzene, in the form of a solution in N,N-dimethylacetamide, containing by weight 48|% or more of polymer",10971,10969,false,{"$f":"VALUE(Table2[[#This Row],[Identifier]])","v":96354}]
["96355",true,"3208901900 - Other",10972,10969,false,{"$f":"VALUE(Table2[[#This Row],[Identifier]])","v":96355}]
["131144",true,"3208901913 - Mixture, containing by weight:\n-\t20% or more but not more than 40% of a copolymer of methyl vinyl ether and monobutyl maleate (CAS RN 25119-68-0),\n-\t7% or more but not more than 20% of a copolymer of methyl vinyl ether and monoethyl maleate (CAS RN 25087-06-3),\n-\t40% or more, but not more than 65% of ethanol (CAS RN 64-17-5), \n-\t1% or more but not more than 7% of butan-1-ol (CAS RN 71-36-3)",10973,10972,false,{"$f":"VALUE(Table2[[#This Row],[Identifier]])","v":131144}]
["96356",true,"3208901915 - Chlorinated polyolefins, in a solution",10974,10972,false,{"$f":"VALUE(Table2[[#This Row],[Identifier]])","v":96356}]
["96358",true,"3208901940 - Polymer of methylsiloxane, in the form of a solution in a mixture of acetone, butanol, ethanol and isopropanol, containing by weight 5|% or more but not more than 11|% of polymer of methylsiloxane",10975,10972,false,{"$f":"VALUE(Table2[[#This Row],[Identifier]])","v":96358}]
["96359",true,"3208901945 - Polymer consisting of a polycondensate of formaldehyde and naphthalenediol, chemically modified by reaction with an alkyne halide, dissolved in propylene glycol methyl ether acetate",10976,10972,false,{"$f":"VALUE(Table2[[#This Row],[Identifier]])","v":96359}]
["96360",true,"3208901947 - Solution containing by weight:\n \n-|0.1|% or more but not more than 20|% of| alkoxygroups containing siloxane polymer with alkyl or aryl substituents\n \n-|75|% or more of an organic solvent containing one or more of propyleneglycolethylether| (CAS RN 1569-02-4), propylene glycol mono methylether acetate (CAS RN 108-65-6)| or propyleneglycol propylether| (CAS RN 1569-01-3)",10977,10972,false,{"$f":"VALUE(Table2[[#This Row],[Identifier]])","v":96360}]
["96361",true,"3208901950 - Solution containing by weight:\n \n-|(65|±|10)|% of γ-butyrolactone,\n \n-|(30|±|10)|% of polyamide resin,\n \n-|(3,5|±|1,5)|% of naphthoquinone ester derivative and\n \n-|(1,5|±|0,5)|% of arylsilicic acid",10978,10972,false,{"$f":"VALUE(Table2[[#This Row],[Identifier]])","v":96361}]
["96362",true,"3208901955 - Preparation of 5 % or more but not more than 20 % by weight of a copolymer of propylene and maleic anhydride, or a blend of polypropylene and a copolymer of propylene and maleic anhydride, or a blend of polypropylene and a copolymer of propylene, isobutene and maleic anhydride in an organic solvent",10979,10972,false,{"$f":"VALUE(Table2[[#This Row],[Identifier]])","v":96362}]
["96363",true,"3208901960 - Copolymer of hydroxystyrene with one or more of the following: \n- styrene \n- alkoxystyrene \n- alkylacrylates \ndissolved in ethyl lactate",10980,10972,false,{"$f":"VALUE(Table2[[#This Row],[Identifier]])","v":96363}]
["96364",true,"3208901965 - Silicones containing 50 % by weight or more of xylene and not more than 25 % by weight of silica, of a kind used for the manufacture of long term surgical implants",10981,10972,false,{"$f":"VALUE(Table2[[#This Row],[Identifier]])","v":96364}]
["96366",true,"3208901990 - Other",10982,10972,false,{"$f":"VALUE(Table2[[#This Row],[Identifier]])","v":96366}]
["110656",false,"3208909100 - Other",10983,10968,false,{"$f":"VALUE(Table2[[#This Row],[Identifier]])","v":110656}]
["96367",true,"3208909100 - Based on synthetic polymers",10984,10983,false,{"$f":"VALUE(Table2[[#This Row],[Identifier]])","v":96367}]
["96368",true,"3208909900 - Based on chemically modified natural polymers",10985,10983,false,{"$f":"VALUE(Table2[[#This Row],[Identifier]])","v":96368}]
["110657",false,"3209000000 - Paints and varnishes (including enamels and lacquers) based on synthetic polymers or chemically modified natural polymers, dispersed or dissolved in an aqueous medium",10986,10805,false,{"$f":"VALUE(Table2[[#This Row],[Identifier]])","v":110657}]
["96369",true,"3209100000 - Based on acrylic or vinyl polymers",10987,10986,false,{"$f":"VALUE(Table2[[#This Row],[Identifier]])","v":96369}]
["96370",true,"3209900000 - Other",10988,10986,false,{"$f":"VALUE(Table2[[#This Row],[Identifier]])","v":96370}]
["110659",false,"3212000000 - Pigments (including metallic powders and flakes) dispersed in non-aqueous media, in liquid or paste form, of a kind used in the manufacture of paints (including enamels); stamping foils; dyes and other colouring matter put up in forms or packings for retail sale",10993,10805,false,{"$f":"VALUE(Table2[[#This Row],[Identifier]])","v":110659}]
["96374",true,"3212100000 - Stamping foils",10994,10993,false,{"$f":"VALUE(Table2[[#This Row],[Identifier]])","v":96374}]
["96375",true,"3212900000 - Other",10995,10993,false,{"$f":"VALUE(Table2[[#This Row],[Identifier]])","v":96375}]
["110660",false,"3213000000 - Artists', students' or signboard painters' colours, modifying tints, amusement colours and the like, in tablets, tubes, jars, bottles, pans or in similar forms or packings",10996,10805,false,{"$f":"VALUE(Table2[[#This Row],[Identifier]])","v":110660}]
["96376",true,"3213100000 - Colours in sets",10997,10996,false,{"$f":"VALUE(Table2[[#This Row],[Identifier]])","v":96376}]
["96377",true,"3213900000 - Other",10998,10996,false,{"$f":"VALUE(Table2[[#This Row],[Identifier]])","v":96377}]
["110661",false,"3214000000 - Glaziers' putty, grafting putty, resin cements, caulking compounds and other mastics; painters' fillings; non-refractory surfacing preparations for façades, indoor walls, floors, ceilings or the like",10999,10805,false,{"$f":"VALUE(Table2[[#This Row],[Identifier]])","v":110661}]
["96378",true,"3214100000 - Glaziers' putty, grafting putty, resin cements, caulking compounds and other mastics; painters' fillings",11000,10999,false,{"$f":"VALUE(Table2[[#This Row],[Identifier]])","v":96378}]
["96379",true,"3214101000 - Glaziers' putty, grafting putty, resin cements, caulking compounds and other mastics",11001,11000,false,{"$f":"VALUE(Table2[[#This Row],[Identifier]])","v":96379}]
["96380",true,"3214109000 - Painters' fillings",11002,11000,false,{"$f":"VALUE(Table2[[#This Row],[Identifier]])","v":96380}]
["96381",true,"3214900000 - Other",11003,10999,false,{"$f":"VALUE(Table2[[#This Row],[Identifier]])","v":96381}]
["110662",false,"3215000000 - Printing ink, writing or drawing ink and other inks, whether or not concentrated or solid",11004,10805,false,{"$f":"VALUE(Table2[[#This Row],[Identifier]])","v":110662}]
["110663",false,"3215110000 - Printing ink",11005,11004,false,{"$f":"VALUE(Table2[[#This Row],[Identifier]])","v":110663}]
["96382",true,"3215110000 - Black",11006,11005,false,{"$f":"VALUE(Table2[[#This Row],[Identifier]])","v":96382}]
["96385",true,"3215190000 - Other",11007,11005,false,{"$f":"VALUE(Table2[[#This Row],[Identifier]])","v":96385}]
["96387",true,"3215190020 - Ink:\n-|consisting of a polyester polymer and a dispersion of silver (CAS RN 7440-22-4) and silver chloride (CAS RN 7783-90-6) in methyl propyl ketone (CAS RN 107-87-9),\n- with a total solid content by weight of 55 % or more, but not more than 57 %, and\n- with a specific|density of 1,40 g/cm³ or more, but not more than 1,60 g/cm³,\nfor use in the manufacture of electrodes",11008,11007,false,{"$f":"VALUE(Table2[[#This Row],[Identifier]])","v":96387}]
["96388",true,"3215190090 - Other",11009,11007,false,{"$f":"VALUE(Table2[[#This Row],[Identifier]])","v":96388}]
["96389",true,"3215900000 - Other",11010,11004,false,{"$f":"VALUE(Table2[[#This Row],[Identifier]])","v":96389}]
["96390",true,"3215902000 - Ink cartridges (without an integrated print head) for insertion into apparatus of subheadings 8443|31, 8443|32|or 8443|39, and incorporating mechanical or electrical components; solid ink in engineered shapes for insertion into apparatus of subheadings 8443|31, 8443|32|or 8443|39",11011,11010,false,{"$f":"VALUE(Table2[[#This Row],[Identifier]])","v":96390}]
["96391",true,"3215907000 - Other",11012,11010,false,{"$f":"VALUE(Table2[[#This Row],[Identifier]])","v":96391}]
["96392",true,"3215907010 - Ink formulation, for use in the manufacture of ink-jet cartridges",11013,11012,false,{"$f":"VALUE(Table2[[#This Row],[Identifier]])","v":96392}]
["96393",true,"3215907020 - Heat sensitive ink fixed on a plastic film",11014,11012,false,{"$f":"VALUE(Table2[[#This Row],[Identifier]])","v":96393}]
["96394",true,"3215907030 - Disposable cartridge ink, containing by weight:\n \n-|1|% or more, but not more than 10|% of amorphous silicon dioxide or\n \n-|3,8|% or more of dye C.I. Solvent Black 7|in organic solvents\nfor use in the marking of integrated circuits",11015,11012,false,{"$f":"VALUE(Table2[[#This Row],[Identifier]])","v":96394}]
["96395",true,"3215907040 - Dry ink powder|with a base of hybrid resin (made from polystyrene acrilyc resin|and polyester resin) mixed with: \n-|wax; \n \n-|a vinyl-based polymer and \n \n-|a colouring agent \nfor use in the manufacture of toner bottles for photocopiers, fax machines, printers and multifunction devices",11016,11012,false,{"$f":"VALUE(Table2[[#This Row],[Identifier]])","v":96395}]
["96396",true,"3215907090 - Other",11017,11012,false,{"$f":"VALUE(Table2[[#This Row],[Identifier]])","v":96396}]
["110664",false,"3300000000 - Essential oils and resinoids; perfumery, cosmetic or toilet preparations",11018,7910,false,{"$f":"VALUE(Table2[[#This Row],[Identifier]])","v":110664}]
["110677",false,"3304000000 - Beauty or make-up preparations and preparations for the care of the skin (other than medicaments), including sunscreen or suntan preparations; manicure or pedicure preparations",11074,11018,false,{"$f":"VALUE(Table2[[#This Row],[Identifier]])","v":110677}]
["96438",true,"3304100000 - Lip make-up preparations",11075,11074,false,{"$f":"VALUE(Table2[[#This Row],[Identifier]])","v":96438}]
["96439",true,"3304200000 - Eye make-up preparations",11076,11074,false,{"$f":"VALUE(Table2[[#This Row],[Identifier]])","v":96439}]
["96440",true,"3304300000 - Manicure or pedicure preparations",11077,11074,false,{"$f":"VALUE(Table2[[#This Row],[Identifier]])","v":96440}]
["110678",false,"3304910000 - Other",11078,11074,false,{"$f":"VALUE(Table2[[#This Row],[Identifier]])","v":110678}]
["96441",true,"3304910000 - Powders, whether or not compressed",11079,11078,false,{"$f":"VALUE(Table2[[#This Row],[Identifier]])","v":96441}]
["96442",true,"3304990000 - Other",11080,11078,false,{"$f":"VALUE(Table2[[#This Row],[Identifier]])","v":96442}]
["110680",false,"3306000000 - Preparations for oral or dental hygiene, including denture fixative pastes and powders; yarn used to clean between the teeth (dental floss), in individual retail packages",11086,11018,false,{"$f":"VALUE(Table2[[#This Row],[Identifier]])","v":110680}]
["96447",true,"3306100000 - Dentifrices",11087,11086,false,{"$f":"VALUE(Table2[[#This Row],[Identifier]])","v":96447}]
["96448",true,"3306200000 - Yarn used to clean between the teeth (dental floss)",11088,11086,false,{"$f":"VALUE(Table2[[#This Row],[Identifier]])","v":96448}]
["96449",true,"3306900000 - Other",11089,11086,false,{"$f":"VALUE(Table2[[#This Row],[Identifier]])","v":96449}]
["110683",false,"3400000000 - Soap, organic surface-active agents, washing preparations, lubricating preparations, artificial waxes, prepared waxes, polishing or scouring preparations, candles and similar articles, modelling pastes, 'dental waxes' and dental preparations with a basis of plaster",11100,7910,false,{"$f":"VALUE(Table2[[#This Row],[Identifier]])","v":110683}]
["110686",false,"3402000000 - Organic surface-active agents (other than soap); surface-active preparations, washing preparations (including auxiliary washing preparations) and cleaning preparations, whether or not containing soap, other than those of heading|3401",11109,11100,false,{"$f":"VALUE(Table2[[#This Row],[Identifier]])","v":110686}]
["133902",false,"3402310000 - Anionic organic surface-active agents, whether or not put up for retail sale",11110,11109,false,{"$f":"VALUE(Table2[[#This Row],[Identifier]])","v":133902}]
["133903",true,"3402310000 - Linear alkylbenzene sulphonic acids and their salts",11111,11110,false,{"$f":"VALUE(Table2[[#This Row],[Identifier]])","v":133903}]
["133904",true,"3402390000 - Other",11112,11110,false,{"$f":"VALUE(Table2[[#This Row],[Identifier]])","v":133904}]
["133905",true,"3402391000 - Aqueous solution containing by weight 30|% or more but not more than 50|% of disodium alkyl [oxydi(benzenesulphonate)]",11113,11112,false,{"$f":"VALUE(Table2[[#This Row],[Identifier]])","v":133905}]
["133906",true,"3402399000 - Other",11114,11112,false,{"$f":"VALUE(Table2[[#This Row],[Identifier]])","v":133906}]
["133907",true,"3402399010 - Sodium lauroyl methyl isethionate",11115,11114,false,{"$f":"VALUE(Table2[[#This Row],[Identifier]])","v":133907}]
["133908",true,"3402399090 - Other",11116,11114,false,{"$f":"VALUE(Table2[[#This Row],[Identifier]])","v":133908}]
["133909",false,"3402410000 - Other organic surface-active agents, whether or not put up for retail sale",11117,11109,false,{"$f":"VALUE(Table2[[#This Row],[Identifier]])","v":133909}]
["133910",true,"3402410000 - Cationic",11118,11117,false,{"$f":"VALUE(Table2[[#This Row],[Identifier]])","v":133910}]
["133911",true,"3402420000 - Non-ionic",11119,11117,false,{"$f":"VALUE(Table2[[#This Row],[Identifier]])","v":133911}]
["133912",true,"3402420010 - Vinyl copolymer surface active agent based on polypropylene glycol",11120,11119,false,{"$f":"VALUE(Table2[[#This Row],[Identifier]])","v":133912}]
["133913",true,"3402420020 - Surfactant containing 1,4-dimethyl-1,4-bis(2-methylpropyl)-2-butyne-1,4-diyl ether, polymerised with oxirane, methyl terminated",11121,11119,false,{"$f":"VALUE(Table2[[#This Row],[Identifier]])","v":133913}]
["133914",true,"3402420090 - Other",11122,11119,false,{"$f":"VALUE(Table2[[#This Row],[Identifier]])","v":133914}]
["133915",true,"3402490000 - Other",11123,11117,false,{"$f":"VALUE(Table2[[#This Row],[Identifier]])","v":133915}]
["133916",true,"3402500000 - Preparations put up for retail sale",11124,11109,false,{"$f":"VALUE(Table2[[#This Row],[Identifier]])","v":133916}]
["133917",true,"3402501000 - Surface-active preparations",11125,11124,false,{"$f":"VALUE(Table2[[#This Row],[Identifier]])","v":133917}]
["133918",true,"3402509000 - Washing preparations and cleaning preparations",11126,11124,false,{"$f":"VALUE(Table2[[#This Row],[Identifier]])","v":133918}]
["96478",true,"3402900000 - Other",11127,11109,false,{"$f":"VALUE(Table2[[#This Row],[Identifier]])","v":96478}]
["96479",true,"3402901000 - Surface-active preparations",11128,11127,false,{"$f":"VALUE(Table2[[#This Row],[Identifier]])","v":96479}]
["96480",true,"3402901010 - Surface-active mixture of methyltri-C8-C10-alkylammonium chlorides",11129,11128,false,{"$f":"VALUE(Table2[[#This Row],[Identifier]])","v":96480}]
["96481",true,"3402901020 - Mixture of docusate sodium (INN) and sodium benzoate",11130,11128,false,{"$f":"VALUE(Table2[[#This Row],[Identifier]])","v":96481}]
["96485",true,"3402901070 - Surface-active preparation, containing ethoxylated 2,4,7,9-tetramethyl-5-decyne-4,7-diol (CAS RN 9014-85-1)",11131,11128,false,{"$f":"VALUE(Table2[[#This Row],[Identifier]])","v":96485}]
["96486",true,"3402901090 - Other",11132,11128,false,{"$f":"VALUE(Table2[[#This Row],[Identifier]])","v":96486}]
["96487",true,"3402909000 - Washing preparations and cleaning preparations",11133,11127,false,{"$f":"VALUE(Table2[[#This Row],[Identifier]])","v":96487}]
["110688",false,"3403000000 - Lubricating preparations (including cutting-oil preparations, bolt or nut release preparations, anti-rust or anti-corrosion preparations and mould-release preparations, based on lubricants) and preparations of a kind used for the oil or grease treatment of textile materials, leather, furskins or other materials, but excluding preparations containing, as basic constituents, 70|% or more by weight of petroleum oils or of oils obtained from bituminous minerals",11134,11100,false,{"$f":"VALUE(Table2[[#This Row],[Identifier]])","v":110688}]
["110689",false,"3403110000 - Containing petroleum oils or oils obtained from bituminous minerals",11135,11134,false,{"$f":"VALUE(Table2[[#This Row],[Identifier]])","v":110689}]
["96488",true,"3403110000 - Preparations for the treatment of textile materials, leather, furskins or other materials",11136,11135,false,{"$f":"VALUE(Table2[[#This Row],[Identifier]])","v":96488}]
["96489",true,"3403190000 - Other",11137,11135,false,{"$f":"VALUE(Table2[[#This Row],[Identifier]])","v":96489}]
["96490",true,"3403191000 - Containing 70|% or more by weight of petroleum oils or of oils obtained from bituminous minerals but not as the basic constituent",11138,11137,false,{"$f":"VALUE(Table2[[#This Row],[Identifier]])","v":96490}]
["96491",true,"3403192000 - Lubricants having a bio-based carbon content of at least 25|% by mass and which are biodegradable at a level of at least 60|%",11139,11137,false,{"$f":"VALUE(Table2[[#This Row],[Identifier]])","v":96491}]
["96492",true,"3403198000 - Other",11140,11137,false,{"$f":"VALUE(Table2[[#This Row],[Identifier]])","v":96492}]
["110690",false,"3403910000 - Other",11141,11134,false,{"$f":"VALUE(Table2[[#This Row],[Identifier]])","v":110690}]
["96493",true,"3403910000 - Preparations for the treatment of textile materials, leather, furskins or other materials",11142,11141,false,{"$f":"VALUE(Table2[[#This Row],[Identifier]])","v":96493}]
["96494",true,"3403990000 - Other",11143,11141,false,{"$f":"VALUE(Table2[[#This Row],[Identifier]])","v":96494}]
["96504",true,"3406000000 - Candles, tapers and the like",11155,11100,false,{"$f":"VALUE(Table2[[#This Row],[Identifier]])","v":96504}]
["110693",false,"3500000000 - Albuminoidal substances; modified starches; glues; enzymes",11157,7910,false,{"$f":"VALUE(Table2[[#This Row],[Identifier]])","v":110693}]
["110703",false,"3506000000 - Prepared glues and other prepared adhesives, not elsewhere specified or included; products suitable for use as glues or adhesives, put up for retail sale as glues or adhesives, not exceeding a net weight of 1|kg",11209,11157,false,{"$f":"VALUE(Table2[[#This Row],[Identifier]])","v":110703}]
["96546",true,"3506100000 - Products suitable for use as glues or adhesives, put up for retail sale as glues or adhesives, not exceeding a net weight of 1|kg",11210,11209,false,{"$f":"VALUE(Table2[[#This Row],[Identifier]])","v":96546}]
["110704",false,"3506910000 - Other",11211,11209,false,{"$f":"VALUE(Table2[[#This Row],[Identifier]])","v":110704}]
["96547",true,"3506910000 - Adhesives based on polymers of headings|3901|to 3913|or on rubber",11212,11211,false,{"$f":"VALUE(Table2[[#This Row],[Identifier]])","v":96547}]
["96548",true,"3506911000 - Optically clear free-film adhesives and optically clear curable liquid adhesives of a kind used solely or principally for the manufacture of flat panel displays or touch-sensitive screen panels",11213,11212,false,{"$f":"VALUE(Table2[[#This Row],[Identifier]])","v":96548}]
["96551",true,"3506919000 - Other",11214,11212,false,{"$f":"VALUE(Table2[[#This Row],[Identifier]])","v":96551}]
["96552",true,"3506919010 - Adhesive based on an aqueous dispersion of a mixture of dimerised rosin and a copolymer of ethylene and vinyl acetate (EVA)",11215,11214,false,{"$f":"VALUE(Table2[[#This Row],[Identifier]])","v":96552}]
["96553",true,"3506919030 - Two component microencapsulated epoxy adhesive dispersed in a solvent",11216,11214,false,{"$f":"VALUE(Table2[[#This Row],[Identifier]])","v":96553}]
["96554",true,"3506919040 - Acrylic pressure sensitive adhesive with a thickness of 0,076 mm or more but not more than 0,127 mm, put up in rolls of a width of 45,7 cm or more but not more than 132 cm supplied on a release liner with an initial peel adhesion release value of not less than 15 N/25 mm (measured according to ASTM D3330)",11217,11214,false,{"$f":"VALUE(Table2[[#This Row],[Identifier]])","v":96554}]
["96555",true,"3506919050 - Preparation containing by weight:\n-\t15% or more but not more than 60% of styrene butadiene copolymers or styrene isoprene copolymers and\n-\t10% or more but not more than 30% of pinene polymers or pentadiene copolymers\nDissolved in :\n-\tMethyl ethyl ketone (CAS RN 78-93-3)\n-\tHeptane (CAS RN 142-82-5), and\n-\tToluene (CAS RN 108-88-3) or light aliphatic solvent naphta (CAS RN 64742-89-8)",11218,11214,false,{"$f":"VALUE(Table2[[#This Row],[Identifier]])","v":96555}]
["110705",false,"3506919091 - Other",11219,11214,false,{"$f":"VALUE(Table2[[#This Row],[Identifier]])","v":110705}]
["96558",true,"3506919091 - Technical aerosols that contain hydrofluorocarbons (HFCs) with global warming potential (GWP) of 150 or more",11220,11219,false,{"$f":"VALUE(Table2[[#This Row],[Identifier]])","v":96558}]
["96559",true,"3506919099 - Other",11221,11219,false,{"$f":"VALUE(Table2[[#This Row],[Identifier]])","v":96559}]
["96560",true,"3506990000 - Other",11222,11211,false,{"$f":"VALUE(Table2[[#This Row],[Identifier]])","v":96560}]
["110706",false,"3507000000 - Enzymes; prepared enzymes not elsewhere specified or included",11223,11157,false,{"$f":"VALUE(Table2[[#This Row],[Identifier]])","v":110706}]
["96561",true,"3507100000 - Rennet and concentrates thereof",11224,11223,false,{"$f":"VALUE(Table2[[#This Row],[Identifier]])","v":96561}]
["96562",true,"3507900000 - Other",11225,11223,false,{"$f":"VALUE(Table2[[#This Row],[Identifier]])","v":96562}]
["96563",true,"3507903000 - Lipoprotein lipase; aspergillus alkaline protease",11226,11225,false,{"$f":"VALUE(Table2[[#This Row],[Identifier]])","v":96563}]
["96564",true,"3507909000 - Other",11227,11225,false,{"$f":"VALUE(Table2[[#This Row],[Identifier]])","v":96564}]
["96565",true,"3507909010 - Preparation of Achromobacter lyticus protease (CAS RN 123175-82-6) for use in the manufacture of human and analogue insulin products",11228,11227,false,{"$f":"VALUE(Table2[[#This Row],[Identifier]])","v":96565}]
["96567",true,"3507909030 - Salicylate 1-monooxygenase (CAS RN 9059-28-3) in aqueous solution with\n \n-|an enzyme concentration of 6,0|U/ml or more, but not more than 7,4|U/ml ,\n \n-|a| concentration by weight of sodium azide (CAS RN 26628-22-8) of not more than 0,09|% and\n \n-|a pH value of 6,5|or more, but not more than 8,5",11229,11227,false,{"$f":"VALUE(Table2[[#This Row],[Identifier]])","v":96567}]
["96568",true,"3507909090 - Other",11230,11227,false,{"$f":"VALUE(Table2[[#This Row],[Identifier]])","v":96568}]
["110707",false,"3600000000 - Explosives; pyrotechnic products; matches; pyrophoric alloys; certain combustible preparations",11231,7910,false,{"$f":"VALUE(Table2[[#This Row],[Identifier]])","v":110707}]
["96569",true,"3601000000 - Propellent powders",11232,11231,false,{"$f":"VALUE(Table2[[#This Row],[Identifier]])","v":96569}]
["133921",true,"3601000020 - Pyrotechnical mixture in cylindrical shape or granulate form, composed of strontium nitrate or copper nitrate in a matrix of nitroguanidine or guanidine nitrate, also containing a binder and additives, used as a component of airbag inflators",11233,11232,false,{"$f":"VALUE(Table2[[#This Row],[Identifier]])","v":133921}]
["96571",true,"3601000090 - Other",11234,11232,false,{"$f":"VALUE(Table2[[#This Row],[Identifier]])","v":96571}]
["96572",true,"3602000000 - Prepared explosives, other than propellent powders",11235,11231,false,{"$f":"VALUE(Table2[[#This Row],[Identifier]])","v":96572}]
["131145",true,"3602000010 - Free flowing porous prills predominantly based on ammonium nitrate with the following composition (in percentage by weight):\n—ammonium nitrate >99,4\n—(total nitrogen >34,5)\n—anionic polymer 0,28\n—coating 0,08\nThe oil absorption of the prills is >10 % by weight.\nThe prills have a bulk density of 0,72 g /cm³.\n\nFree flowing porous prills predominantly based on ammonium nitrate with the following composition (in percentage by weight):\n—ammonium nitrate > 99\n—(total nitrogen > 34,5)\n—magnesium nitrate 0,4\n—mixture of diammonium phosphate, ammonium sulphate and boric acid 0,06\n—coating 0,08\nThe oil absorption of the prills is >7 % by weight.\nThe prills have a bulk density of 0,80 g /cm³.",11236,11235,false,{"$f":"VALUE(Table2[[#This Row],[Identifier]])","v":131145}]
["131146",true,"3602000090 - Other",11237,11235,false,{"$f":"VALUE(Table2[[#This Row],[Identifier]])","v":131146}]
["110708",false,"3603000000 - Safety fuses; detonating cords; percussion or detonating caps; igniters; electric detonators",11238,11231,false,{"$f":"VALUE(Table2[[#This Row],[Identifier]])","v":110708}]
["133922",true,"3603100000 - Safety fuses",11239,11238,false,{"$f":"VALUE(Table2[[#This Row],[Identifier]])","v":133922}]
["133923",true,"3603200000 - Detonating cords",11240,11238,false,{"$f":"VALUE(Table2[[#This Row],[Identifier]])","v":133923}]
["133924",true,"3603300000 - Percussion caps",11241,11238,false,{"$f":"VALUE(Table2[[#This Row],[Identifier]])","v":133924}]
["133925",true,"3603400000 - Detonating caps",11242,11238,false,{"$f":"VALUE(Table2[[#This Row],[Identifier]])","v":133925}]
["133926",true,"3603500000 - Igniters",11243,11238,false,{"$f":"VALUE(Table2[[#This Row],[Identifier]])","v":133926}]
["133927",true,"3603500010 - Igniters for gas generators with an overall maximum length of 20,34mm or more but not more than 29,4mm  and a pin length of 6,68mm  (± 0,3mm ) or more but not more than 7,54mm  (± 0,3mm )",11244,11243,false,{"$f":"VALUE(Table2[[#This Row],[Identifier]])","v":133927}]
["133928",true,"3603500090 - Other",11245,11243,false,{"$f":"VALUE(Table2[[#This Row],[Identifier]])","v":133928}]
["133929",true,"3603600000 - Electric detonators",11246,11238,false,{"$f":"VALUE(Table2[[#This Row],[Identifier]])","v":133929}]
["110709",false,"3604000000 - Fireworks, signalling flares, rain rockets, fog signals and other pyrotechnic articles",11247,11231,false,{"$f":"VALUE(Table2[[#This Row],[Identifier]])","v":110709}]
["96581",true,"3604100000 - Fireworks",11248,11247,false,{"$f":"VALUE(Table2[[#This Row],[Identifier]])","v":96581}]
["96582",true,"3604900000 - Other",11249,11247,false,{"$f":"VALUE(Table2[[#This Row],[Identifier]])","v":96582}]
["96583",true,"3605000000 - Matches, other than pyrotechnic articles of heading|3604",11250,11231,false,{"$f":"VALUE(Table2[[#This Row],[Identifier]])","v":96583}]
["110710",false,"3606000000 - Ferro-cerium and other pyrophoric alloys in all forms; articles of combustible materials as specified in note|2|to this chapter",11251,11231,false,{"$f":"VALUE(Table2[[#This Row],[Identifier]])","v":110710}]
["96584",true,"3606100000 - Liquid or liquefied-gas fuels in containers of a kind used for filling or refilling cigarette or similar lighters and of a capacity not exceeding 300|cm$3",11252,11251,false,{"$f":"VALUE(Table2[[#This Row],[Identifier]])","v":96584}]
["96585",true,"3606900000 - Other",11253,11251,false,{"$f":"VALUE(Table2[[#This Row],[Identifier]])","v":96585}]
["96586",true,"3606901000 - Ferro-cerium and other pyrophoric alloys in all forms",11254,11253,false,{"$f":"VALUE(Table2[[#This Row],[Identifier]])","v":96586}]
["96587",true,"3606909000 - Other",11255,11253,false,{"$f":"VALUE(Table2[[#This Row],[Identifier]])","v":96587}]
["110711",false,"3700000000 - Photographic or cinematographic goods",11256,7910,false,{"$f":"VALUE(Table2[[#This Row],[Identifier]])","v":110711}]
["110712",false,"3701000000 - Photographic plates and film in the flat, sensitised, unexposed, of any material other than paper, paperboard or textiles; instant print film in the flat, sensitised, unexposed, whether or not in packs",11257,11256,false,{"$f":"VALUE(Table2[[#This Row],[Identifier]])","v":110712}]
["96588",true,"3701100000 - For X-ray",11258,11257,false,{"$f":"VALUE(Table2[[#This Row],[Identifier]])","v":96588}]
["96589",true,"3701200000 - Instant print film",11259,11257,false,{"$f":"VALUE(Table2[[#This Row],[Identifier]])","v":96589}]
["96590",true,"3701300000 - Other plates and film, with any side exceeding 255|mm",11260,11257,false,{"$f":"VALUE(Table2[[#This Row],[Identifier]])","v":96590}]
["110713",false,"3701910000 - Other",11261,11257,false,{"$f":"VALUE(Table2[[#This Row],[Identifier]])","v":110713}]
["96591",true,"3701910000 - For colour photography (polychrome)",11262,11261,false,{"$f":"VALUE(Table2[[#This Row],[Identifier]])","v":96591}]
["96592",true,"3701990000 - Other",11263,11261,false,{"$f":"VALUE(Table2[[#This Row],[Identifier]])","v":96592}]
["110714",false,"3702000000 - Photographic film in rolls, sensitised, unexposed, of any material other than paper, paperboard or textiles; instant print film in rolls, sensitised, unexposed",11264,11256,false,{"$f":"VALUE(Table2[[#This Row],[Identifier]])","v":110714}]
["96593",true,"3702100000 - For X-ray",11265,11264,false,{"$f":"VALUE(Table2[[#This Row],[Identifier]])","v":96593}]
["110715",false,"3702310000 - Other film, without perforations, of a width not exceeding 105|mm",11266,11264,false,{"$f":"VALUE(Table2[[#This Row],[Identifier]])","v":110715}]
["96594",true,"3702310000 - For colour photography (polychrome)",11267,11266,false,{"$f":"VALUE(Table2[[#This Row],[Identifier]])","v":96594}]
["96595",true,"3702319100 - Colour negative film:-|of a width of 75|mm or more but not exceeding 105|mm and-|of a length of 100|m or morefor the manufacture of instant-picture film-packs",11268,11267,false,{"$f":"VALUE(Table2[[#This Row],[Identifier]])","v":96595}]
["96596",true,"3702319700 - Other",11269,11267,false,{"$f":"VALUE(Table2[[#This Row],[Identifier]])","v":96596}]
["96597",true,"3702320000 - Other, with silver halide emulsion",11270,11266,false,{"$f":"VALUE(Table2[[#This Row],[Identifier]])","v":96597}]
["110716",false,"3702321000 - Of a width not exceeding 35|mm",11271,11270,false,{"$f":"VALUE(Table2[[#This Row],[Identifier]])","v":110716}]
["96598",true,"3702321000 - Microfilm; film for the graphic arts",11272,11271,false,{"$f":"VALUE(Table2[[#This Row],[Identifier]])","v":96598}]
["96599",true,"3702322000 - Other",11273,11271,false,{"$f":"VALUE(Table2[[#This Row],[Identifier]])","v":96599}]
["96600",true,"3702328500 - Of a width exceeding 35|mm",11274,11270,false,{"$f":"VALUE(Table2[[#This Row],[Identifier]])","v":96600}]
["96601",true,"3702390000 - Other",11275,11266,false,{"$f":"VALUE(Table2[[#This Row],[Identifier]])","v":96601}]
["110717",false,"3702410000 - Other film, without perforations, of a width exceeding 105|mm",11276,11264,false,{"$f":"VALUE(Table2[[#This Row],[Identifier]])","v":110717}]
["96602",true,"3702410000 - Of a width exceeding 610|mm and of a length exceeding 200|m, for colour photography (polychrome)",11277,11276,false,{"$f":"VALUE(Table2[[#This Row],[Identifier]])","v":96602}]
["96603",true,"3702420000 - Of a width exceeding 610|mm and of a length exceeding 200|m, other than for colour photography",11278,11276,false,{"$f":"VALUE(Table2[[#This Row],[Identifier]])","v":96603}]
["96604",true,"3702430000 - Of a width exceeding 610|mm and of a length not exceeding 200|m",11279,11276,false,{"$f":"VALUE(Table2[[#This Row],[Identifier]])","v":96604}]
["96605",true,"3702440000 - Of a width exceeding 105|mm but not exceeding 610|mm",11280,11276,false,{"$f":"VALUE(Table2[[#This Row],[Identifier]])","v":96605}]
["110718",false,"3702520000 - Other film, for colour photography (polychrome)",11281,11264,false,{"$f":"VALUE(Table2[[#This Row],[Identifier]])","v":110718}]
["96606",true,"3702520000 - Of a width not exceeding 16|mm",11282,11281,false,{"$f":"VALUE(Table2[[#This Row],[Identifier]])","v":96606}]
["96607",true,"3702530000 - Of a width exceeding 16|mm but not exceeding 35|mm and of a length not exceeding 30|m, for slides",11283,11281,false,{"$f":"VALUE(Table2[[#This Row],[Identifier]])","v":96607}]
["96608",true,"3702540000 - Of a width exceeding 16|mm but not exceeding 35|mm and of a length not exceeding 30|m, other than for slides",11284,11281,false,{"$f":"VALUE(Table2[[#This Row],[Identifier]])","v":96608}]
["96609",true,"3702550000 - Of a width exceeding 16|mm but not exceeding 35|mm and of a length exceeding 30|m",11285,11281,false,{"$f":"VALUE(Table2[[#This Row],[Identifier]])","v":96609}]
["96610",true,"3702560000 - Of a width exceeding 35|mm",11286,11281,false,{"$f":"VALUE(Table2[[#This Row],[Identifier]])","v":96610}]
["110719",false,"3702960000 - Other",11287,11264,false,{"$f":"VALUE(Table2[[#This Row],[Identifier]])","v":110719}]
["96611",true,"3702960000 - Of a width not exceeding 35|mm and of a length not exceeding 30|m",11288,11287,false,{"$f":"VALUE(Table2[[#This Row],[Identifier]])","v":96611}]
["96612",true,"3702961000 - Microfilm; film for the graphic arts",11289,11288,false,{"$f":"VALUE(Table2[[#This Row],[Identifier]])","v":96612}]
["96613",true,"3702969000 - Other",11290,11288,false,{"$f":"VALUE(Table2[[#This Row],[Identifier]])","v":96613}]
["96614",true,"3702970000 - Of a width not exceeding 35|mm and of a length exceeding 30|m",11291,11287,false,{"$f":"VALUE(Table2[[#This Row],[Identifier]])","v":96614}]
["96615",true,"3702971000 - Microfilm; film for the graphic arts",11292,11291,false,{"$f":"VALUE(Table2[[#This Row],[Identifier]])","v":96615}]
["96616",true,"3702979000 - Other",11293,11291,false,{"$f":"VALUE(Table2[[#This Row],[Identifier]])","v":96616}]
["96617",true,"3702980000 - Of a width exceeding 35|mm",11294,11287,false,{"$f":"VALUE(Table2[[#This Row],[Identifier]])","v":96617}]
["110720",false,"3703000000 - Photographic paper, paperboard and textiles, sensitised, unexposed",11295,11256,false,{"$f":"VALUE(Table2[[#This Row],[Identifier]])","v":110720}]
["96618",true,"3703100000 - In rolls of a width exceeding 610|mm",11296,11295,false,{"$f":"VALUE(Table2[[#This Row],[Identifier]])","v":96618}]
["96619",true,"3703200000 - Other, for colour photography (polychrome)",11297,11295,false,{"$f":"VALUE(Table2[[#This Row],[Identifier]])","v":96619}]
["96620",true,"3703900000 - Other",11298,11295,false,{"$f":"VALUE(Table2[[#This Row],[Identifier]])","v":96620}]
["110721",false,"3704000000 - Photographic plates, film, paper, paperboard and textiles, exposed but not developed",11299,11256,false,{"$f":"VALUE(Table2[[#This Row],[Identifier]])","v":110721}]
["96621",true,"3704001000 - Plates and film",11300,11299,false,{"$f":"VALUE(Table2[[#This Row],[Identifier]])","v":96621}]
["96622",true,"3704009000 - Other",11301,11299,false,{"$f":"VALUE(Table2[[#This Row],[Identifier]])","v":96622}]
["110722",false,"3705000000 - Photographic plates and film, exposed and developed, other than cinematographic film",11302,11256,false,{"$f":"VALUE(Table2[[#This Row],[Identifier]])","v":110722}]
["96623",true,"3705001000 - For offset reproduction",11303,11302,false,{"$f":"VALUE(Table2[[#This Row],[Identifier]])","v":96623}]
["96624",true,"3705009000 - Other",11304,11302,false,{"$f":"VALUE(Table2[[#This Row],[Identifier]])","v":96624}]
["110723",false,"3706000000 - Cinematographic film, exposed and developed, whether or not incorporating soundtrack or consisting only of soundtrack",11305,11256,false,{"$f":"VALUE(Table2[[#This Row],[Identifier]])","v":110723}]
["96625",true,"3706100000 - Of a width of 35|mm or more",11306,11305,false,{"$f":"VALUE(Table2[[#This Row],[Identifier]])","v":96625}]
["96626",true,"3706102000 - Consisting only of soundtrack; negatives; intermediate positives",11307,11306,false,{"$f":"VALUE(Table2[[#This Row],[Identifier]])","v":96626}]
["96627",true,"3706109900 - Other positives",11308,11306,false,{"$f":"VALUE(Table2[[#This Row],[Identifier]])","v":96627}]
["96628",true,"3706900000 - Other",11309,11305,false,{"$f":"VALUE(Table2[[#This Row],[Identifier]])","v":96628}]
["96629",true,"3706905200 - Consisting only of soundtrack; negatives; intermediate positives; newsreels",11310,11309,false,{"$f":"VALUE(Table2[[#This Row],[Identifier]])","v":96629}]
["110724",false,"3706909100 - Other, of a width of",11311,11309,false,{"$f":"VALUE(Table2[[#This Row],[Identifier]])","v":110724}]
["96630",true,"3706909100 - Less than 10|mm",11312,11311,false,{"$f":"VALUE(Table2[[#This Row],[Identifier]])","v":96630}]
["96631",true,"3706909900 - 10|mm or more",11313,11311,false,{"$f":"VALUE(Table2[[#This Row],[Identifier]])","v":96631}]
["110725",false,"3707000000 - Chemical preparations for photographic uses (other than varnishes, glues, adhesives and similar preparations); unmixed products for photographic uses, put up in measured portions or put up for retail sale in a form ready for use",11314,11256,false,{"$f":"VALUE(Table2[[#This Row],[Identifier]])","v":110725}]
["96632",true,"3707100000 - Sensitising emulsions",11315,11314,false,{"$f":"VALUE(Table2[[#This Row],[Identifier]])","v":96632}]
["96644",true,"3707900000 - Other",11316,11314,false,{"$f":"VALUE(Table2[[#This Row],[Identifier]])","v":96644}]
["110726",true,"3707902000 - Developers and fixers",11317,11316,false,{"$f":"VALUE(Table2[[#This Row],[Identifier]])","v":110726}]
["96647",true,"3707909000 - Other",11318,11316,false,{"$f":"VALUE(Table2[[#This Row],[Identifier]])","v":96647}]
["110727",false,"3800000000 - Miscellaneous chemical products",11319,7910,false,{"$f":"VALUE(Table2[[#This Row],[Identifier]])","v":110727}]
["110728",false,"3801000000 - Artificial graphite; colloidal or semi-colloidal graphite; preparations based on graphite or other carbon in the form of pastes, blocks, plates or other semi-manufactures",11320,11319,false,{"$f":"VALUE(Table2[[#This Row],[Identifier]])","v":110728}]
["96648",true,"3801100000 - Artificial graphite",11321,11320,false,{"$f":"VALUE(Table2[[#This Row],[Identifier]])","v":96648}]
["131147",true,"3801100020 - Artificial graphite (CAS RN 7782-42-5) powder form, with:\n \n-specific surface area (measured by BET) of 0,8 m²/g (± 0,25),\n \n-tap density: 0,85 g/cm³ (± 0,10),\n \n-particle size represented by d50 value of 21,0 µm (± 2,0),\n \n-specific discharge capacity of 351,0 mAh/g (±3,0),\n \n-initial efficiency of 94,0 % (± 2,0)",11322,11321,false,{"$f":"VALUE(Table2[[#This Row],[Identifier]])","v":131147}]
["131148",true,"3801100030 - Artificial graphite in powder form, (CAS RN 7782-42-5) with:\n \n-with or without coating on the surface,\n \n-particle size represented by d50 value of 15 μm (± 4),\n \n-specific surface area (measured by BET) less than 3,5 m²/g,\n \n-tap density: 1,3 g/m³ (± 0,5),\n \n-specific Discharge Capacity of 348 mAh/g (± 13),\n \n-initial efficiency above 93,0 %",11323,11321,false,{"$f":"VALUE(Table2[[#This Row],[Identifier]])","v":131148}]
["131149",true,"3801100090 - Other",11324,11321,false,{"$f":"VALUE(Table2[[#This Row],[Identifier]])","v":131149}]
["96649",true,"3801200000 - Colloidal or semi-colloidal graphite",11325,11320,false,{"$f":"VALUE(Table2[[#This Row],[Identifier]])","v":96649}]
["96650",true,"3801201000 - Colloidal graphite in suspension in oil; semi-colloidal graphite",11326,11325,false,{"$f":"VALUE(Table2[[#This Row],[Identifier]])","v":96650}]
["96651",true,"3801209000 - Other",11327,11325,false,{"$f":"VALUE(Table2[[#This Row],[Identifier]])","v":96651}]
["96652",true,"3801300000 - Carbonaceous pastes for electrodes and similar pastes for furnace linings",11328,11320,false,{"$f":"VALUE(Table2[[#This Row],[Identifier]])","v":96652}]
["96653",true,"3801900000 - Other",11329,11320,false,{"$f":"VALUE(Table2[[#This Row],[Identifier]])","v":96653}]
["96654",true,"3801900010 - Expandable graphite (CAS RN 90387-90-9|and CAS RN 12777-87-6)",11330,11329,false,{"$f":"VALUE(Table2[[#This Row],[Identifier]])","v":96654}]
["96655",true,"3801900090 - Other",11331,11329,false,{"$f":"VALUE(Table2[[#This Row],[Identifier]])","v":96655}]
["110729",false,"3802000000 - Activated carbon; activated natural mineral products; animal black, including spent animal black",11332,11319,false,{"$f":"VALUE(Table2[[#This Row],[Identifier]])","v":110729}]
["96656",true,"3802100000 - Activated carbon",11333,11332,false,{"$f":"VALUE(Table2[[#This Row],[Identifier]])","v":96656}]
["96657",true,"3802100010 - Mixture of activated carbon and polyethylene, in form of powder",11334,11333,false,{"$f":"VALUE(Table2[[#This Row],[Identifier]])","v":96657}]
["133930",true,"3802100040 - Chemically activated carbon for the absorption and desorption of vapors, in a defined or irregular shape with an effective butane capacity of 5 g butane / 100 ml or more (according to ASTM D 5228)",11335,11333,false,{"$f":"VALUE(Table2[[#This Row],[Identifier]])","v":133930}]
["96660",true,"3802100090 - Other",11336,11333,false,{"$f":"VALUE(Table2[[#This Row],[Identifier]])","v":96660}]
["96661",true,"3802900000 - Other",11337,11332,false,{"$f":"VALUE(Table2[[#This Row],[Identifier]])","v":96661}]
["110730",false,"3802900011 - Soda flux calcinated diatomaceous earth",11338,11337,false,{"$f":"VALUE(Table2[[#This Row],[Identifier]])","v":110730}]
["96662",true,"3802900011 - Soda flux calcinated diatomaceous earth, acid washed, for use as a filter aid in the manufacture of pharmaceutical and/or biochemical products",11339,11338,false,{"$f":"VALUE(Table2[[#This Row],[Identifier]])","v":96662}]
["96663",true,"3802900019 - Other",11340,11338,false,{"$f":"VALUE(Table2[[#This Row],[Identifier]])","v":96663}]
["96664",true,"3802900090 - Other",11341,11337,false,{"$f":"VALUE(Table2[[#This Row],[Identifier]])","v":96664}]
["110731",false,"3803000000 - Tall oil, whether or not refined",11342,11319,false,{"$f":"VALUE(Table2[[#This Row],[Identifier]])","v":110731}]
["96665",true,"3803001000 - Crude",11343,11342,false,{"$f":"VALUE(Table2[[#This Row],[Identifier]])","v":96665}]
["96666",true,"3803009000 - Other",11344,11342,false,{"$f":"VALUE(Table2[[#This Row],[Identifier]])","v":96666}]
["96667",true,"3804000000 - Residual lyes from the manufacture of wood pulp, whether or not concentrated, desugared or chemically treated, including lignin sulphonates, but excluding tall oil of heading|3803",11345,11319,false,{"$f":"VALUE(Table2[[#This Row],[Identifier]])","v":96667}]
["96668",true,"3804000010 - Sodium lignosulphonate (CAS RN 8061-51-6)",11346,11345,false,{"$f":"VALUE(Table2[[#This Row],[Identifier]])","v":96668}]
["96669",true,"3804000090 - Other",11347,11345,false,{"$f":"VALUE(Table2[[#This Row],[Identifier]])","v":96669}]
["110732",false,"3805000000 - Gum, wood or sulphate turpentine and other terpenic oils produced by the distillation or other treatment of coniferous woods; crude dipentene; sulphite turpentine and other crude para-cymene; pine oil containing alpha-terpineol as the main constituent",11348,11319,false,{"$f":"VALUE(Table2[[#This Row],[Identifier]])","v":110732}]
["96670",true,"3805100000 - Gum, wood or sulphate turpentine oils",11349,11348,false,{"$f":"VALUE(Table2[[#This Row],[Identifier]])","v":96670}]
["96671",true,"3805101000 - Gum turpentine",11350,11349,false,{"$f":"VALUE(Table2[[#This Row],[Identifier]])","v":96671}]
["96672",true,"3805103000 - Wood turpentine",11351,11349,false,{"$f":"VALUE(Table2[[#This Row],[Identifier]])","v":96672}]
["96673",true,"3805109000 - Sulphate turpentine",11352,11349,false,{"$f":"VALUE(Table2[[#This Row],[Identifier]])","v":96673}]
["96674",true,"3805900000 - Other",11353,11348,false,{"$f":"VALUE(Table2[[#This Row],[Identifier]])","v":96674}]
["96675",true,"3805901000 - Pine oil",11354,11353,false,{"$f":"VALUE(Table2[[#This Row],[Identifier]])","v":96675}]
["96676",true,"3805909000 - Other",11355,11353,false,{"$f":"VALUE(Table2[[#This Row],[Identifier]])","v":96676}]
["110733",false,"3806000000 - Rosin and resin acids, and derivatives thereof; rosin spirit and rosin oils; run gums",11356,11319,false,{"$f":"VALUE(Table2[[#This Row],[Identifier]])","v":110733}]
["96677",true,"3806100000 - Rosin and resin acids",11357,11356,false,{"$f":"VALUE(Table2[[#This Row],[Identifier]])","v":96677}]
["96678",true,"3806100010 - Obtained from fresh oleoresins",11358,11357,false,{"$f":"VALUE(Table2[[#This Row],[Identifier]])","v":96678}]
["96679",true,"3806100090 - Other",11359,11357,false,{"$f":"VALUE(Table2[[#This Row],[Identifier]])","v":96679}]
["96680",true,"3806200000 - Salts of rosin, of resin acids or of derivatives of rosin or resin acids, other than salts of rosin adducts",11360,11356,false,{"$f":"VALUE(Table2[[#This Row],[Identifier]])","v":96680}]
["96681",true,"3806300000 - Ester gums",11361,11356,false,{"$f":"VALUE(Table2[[#This Row],[Identifier]])","v":96681}]
["96682",true,"3806900000 - Other",11362,11356,false,{"$f":"VALUE(Table2[[#This Row],[Identifier]])","v":96682}]
["110734",false,"3807000000 - Wood tar; wood tar oils; wood creosote; wood naphtha; vegetable pitch; brewers' pitch and similar preparations based on rosin, resin acids or on vegetable pitch",11363,11319,false,{"$f":"VALUE(Table2[[#This Row],[Identifier]])","v":110734}]
["96683",true,"3807001000 - Wood tar",11364,11363,false,{"$f":"VALUE(Table2[[#This Row],[Identifier]])","v":96683}]
["96684",true,"3807009000 - Other",11365,11363,false,{"$f":"VALUE(Table2[[#This Row],[Identifier]])","v":96684}]
["110735",false,"3808000000 - Insecticides, rodenticides, fungicides, herbicides, anti-sprouting products and plant-growth regulators, disinfectants and similar products, put up in forms or packings for retail sale or as preparations or articles (for example, sulphur-treated bands, wicks and candles, and fly-papers)",11366,11319,false,{"$f":"VALUE(Table2[[#This Row],[Identifier]])","v":110735}]
["110736",false,"3808520000 - Goods specified in subheading note|1|to this chapter",11367,11366,false,{"$f":"VALUE(Table2[[#This Row],[Identifier]])","v":110736}]
["96685",true,"3808520000 - DDT (ISO) (clofenotane (INN)), in packings of a net weight content not exceeding 300|g",11368,11367,false,{"$f":"VALUE(Table2[[#This Row],[Identifier]])","v":96685}]
["96686",true,"3808590000 - Other",11369,11367,false,{"$f":"VALUE(Table2[[#This Row],[Identifier]])","v":96686}]
["110737",false,"3808610000 - Goods specified in subheading note|2|to this chapter",11370,11366,false,{"$f":"VALUE(Table2[[#This Row],[Identifier]])","v":110737}]
["96687",true,"3808610000 - In packings of a net weight content not exceeding 300|g",11371,11370,false,{"$f":"VALUE(Table2[[#This Row],[Identifier]])","v":96687}]
["96688",true,"3808620000 - In packings of a net weight content exceeding 300|g but not exceeding 7,5|kg",11372,11370,false,{"$f":"VALUE(Table2[[#This Row],[Identifier]])","v":96688}]
["96689",true,"3808690000 - Other",11373,11370,false,{"$f":"VALUE(Table2[[#This Row],[Identifier]])","v":96689}]
["110738",false,"3808910000 - Other",11374,11366,false,{"$f":"VALUE(Table2[[#This Row],[Identifier]])","v":110738}]
["96690",true,"3808910000 - Insecticides",11375,11374,false,{"$f":"VALUE(Table2[[#This Row],[Identifier]])","v":96690}]
["96691",true,"3808911000 - Based on pyrethroids",11376,11375,false,{"$f":"VALUE(Table2[[#This Row],[Identifier]])","v":96691}]
["96692",true,"3808911010 - Technical aerosols that contain hydrofluorocarbons (HFCs) with global warming potential (GWP) of 150 or more",11377,11376,false,{"$f":"VALUE(Table2[[#This Row],[Identifier]])","v":96692}]
["96693",true,"3808911090 - Other",11378,11376,false,{"$f":"VALUE(Table2[[#This Row],[Identifier]])","v":96693}]
["96694",true,"3808912000 - Based on chlorinated hydrocarbons",11379,11375,false,{"$f":"VALUE(Table2[[#This Row],[Identifier]])","v":96694}]
["96695",true,"3808913000 - Based on carbamates",11380,11375,false,{"$f":"VALUE(Table2[[#This Row],[Identifier]])","v":96695}]
["96696",true,"3808914000 - Based on organophosphorus compounds",11381,11375,false,{"$f":"VALUE(Table2[[#This Row],[Identifier]])","v":96696}]
["96697",true,"3808919000 - Other",11382,11375,false,{"$f":"VALUE(Table2[[#This Row],[Identifier]])","v":96697}]
["96698",true,"3808919010 - Indoxacarb (ISO) and its (R) isomer, fixed on a support of silicon dioxide",11383,11382,false,{"$f":"VALUE(Table2[[#This Row],[Identifier]])","v":96698}]
["96699",true,"3808919030 - Preparation containing endospores or spores and protein crystals derived from either:\n \n-|Bacillus thuringiensis Berliner subsp. aizawai and kurstaki or,\n \n-|Bacillus thuringiensis subsp. kurstaki or,\n \n-|Bacillus thuringiensis subsp. israelensis or,\n \n-|Bacillus thuringiensis subsp. aizawai or,\n \n-|Bacillus thuringiensis subsp. tenebrionis",11384,11382,false,{"$f":"VALUE(Table2[[#This Row],[Identifier]])","v":96699}]
["96700",true,"3808919040 - Spinosad (ISO)",11385,11382,false,{"$f":"VALUE(Table2[[#This Row],[Identifier]])","v":96700}]
["96701",true,"3808919060 - Spinetoram (ISO) (CAS RN 935545-74-7), preparation of two spinosyn components (3'-ethoxy-5,6-dihydro spinosyn J) and (3'-ethoxy- spinosyn L)",11386,11382,false,{"$f":"VALUE(Table2[[#This Row],[Identifier]])","v":96701}]
["96702",true,"3808919090 - Other",11387,11382,false,{"$f":"VALUE(Table2[[#This Row],[Identifier]])","v":96702}]
["96703",true,"3808920000 - Fungicides",11388,11374,false,{"$f":"VALUE(Table2[[#This Row],[Identifier]])","v":96703}]
["110739",false,"3808921000 - Inorganic",11389,11388,false,{"$f":"VALUE(Table2[[#This Row],[Identifier]])","v":110739}]
["96704",true,"3808921000 - Preparations based on copper compounds",11390,11389,false,{"$f":"VALUE(Table2[[#This Row],[Identifier]])","v":96704}]
["96705",true,"3808922000 - Other",11391,11389,false,{"$f":"VALUE(Table2[[#This Row],[Identifier]])","v":96705}]
["110740",false,"3808923000 - Other",11392,11388,false,{"$f":"VALUE(Table2[[#This Row],[Identifier]])","v":110740}]
["96706",true,"3808923000 - Based on dithiocarbamates",11393,11392,false,{"$f":"VALUE(Table2[[#This Row],[Identifier]])","v":96706}]
["96707",true,"3808923010 - Mancozeb (ISO) (CAS RN 8018-01-7) imported in immediate packings of a content of 500|kg or more",11394,11393,false,{"$f":"VALUE(Table2[[#This Row],[Identifier]])","v":96707}]
["96708",true,"3808923090 - Other",11395,11393,false,{"$f":"VALUE(Table2[[#This Row],[Identifier]])","v":96708}]
["96709",true,"3808924000 - Based on benzimidazoles",11396,11392,false,{"$f":"VALUE(Table2[[#This Row],[Identifier]])","v":96709}]
["96710",true,"3808925000 - Based on diazoles or triazoles",11397,11392,false,{"$f":"VALUE(Table2[[#This Row],[Identifier]])","v":96710}]
["96711",true,"3808926000 - Based on diazines or morpholines",11398,11392,false,{"$f":"VALUE(Table2[[#This Row],[Identifier]])","v":96711}]
["96712",true,"3808929000 - Other",11399,11392,false,{"$f":"VALUE(Table2[[#This Row],[Identifier]])","v":96712}]
["96713",true,"3808929010 - Fungicide in the form of a powder, containing by weight 65|% or more but not more than 75|% of hymexazole (ISO), not put up for retail sale",11400,11399,false,{"$f":"VALUE(Table2[[#This Row],[Identifier]])","v":96713}]
["96714",true,"3808929030 - Preparation consisting of a suspension of pyrithione zinc (INN) in water, containing by weight:\n \n-|24|% or more but not more than 26|% of pyrithione zinc (INN), or\n \n-|39|% or more but not more than 41|% of pyrithione zinc (INN)",11401,11399,false,{"$f":"VALUE(Table2[[#This Row],[Identifier]])","v":96714}]
["96715",true,"3808929040 - Preparation containing 38% or more but not more than 50% by weight of pyrithione zinc (INN) (CAS RN 13463-41-7) in an aqueous dispersion",11402,11399,false,{"$f":"VALUE(Table2[[#This Row],[Identifier]])","v":96715}]
["96716",true,"3808929050 - Preparations based on copper pyrithione (CAS RN 14915-37-8)",11403,11399,false,{"$f":"VALUE(Table2[[#This Row],[Identifier]])","v":96716}]
["96717",true,"3808929090 - Other",11404,11399,false,{"$f":"VALUE(Table2[[#This Row],[Identifier]])","v":96717}]
["96718",true,"3808930000 - Herbicides, anti-sprouting products and plant-growth regulators",11405,11374,false,{"$f":"VALUE(Table2[[#This Row],[Identifier]])","v":96718}]
["110741",false,"3808931100 - Herbicides",11406,11405,false,{"$f":"VALUE(Table2[[#This Row],[Identifier]])","v":110741}]
["96719",true,"3808931100 - Based on phenoxy-phytohormones",11407,11406,false,{"$f":"VALUE(Table2[[#This Row],[Identifier]])","v":96719}]
["96720",true,"3808931300 - Based on triazines",11408,11406,false,{"$f":"VALUE(Table2[[#This Row],[Identifier]])","v":96720}]
["96721",true,"3808931500 - Based on amides",11409,11406,false,{"$f":"VALUE(Table2[[#This Row],[Identifier]])","v":96721}]
["96722",true,"3808931700 - Based on carbamates",11410,11406,false,{"$f":"VALUE(Table2[[#This Row],[Identifier]])","v":96722}]
["96723",true,"3808932100 - Based on dinitroaniline derivatives",11411,11406,false,{"$f":"VALUE(Table2[[#This Row],[Identifier]])","v":96723}]
["96724",true,"3808932300 - Based on derivatives of urea, of uracil or of sulphonylurea",11412,11406,false,{"$f":"VALUE(Table2[[#This Row],[Identifier]])","v":96724}]
["96727",true,"3808932700 - Other",11413,11406,false,{"$f":"VALUE(Table2[[#This Row],[Identifier]])","v":96727}]
["96730",true,"3808933000 - Anti-sprouting products",11414,11405,false,{"$f":"VALUE(Table2[[#This Row],[Identifier]])","v":96730}]
["96731",true,"3808939000 - Plant-growth regulators",11415,11405,false,{"$f":"VALUE(Table2[[#This Row],[Identifier]])","v":96731}]
["96732",true,"3808939010 - Preparation, in the form of granules, containing by weight:\n \n-|38,8|% or more but not more than 41,2|% of Gibberellin A3, or\n \n-|9,5|% or more but not more than 10,5|% of Gibberellin A4|and A7",11416,11415,false,{"$f":"VALUE(Table2[[#This Row],[Identifier]])","v":96732}]
["96733",true,"3808939020 - Preparation consisting of benzyl(purin-6-yl)amine in a glycol|solution, containing by weight: \n-|1,88|% or more but not more than 2,00|%|of benzyl(purin-6-yl)amine \nof a kind used in plant growth regulators",11417,11415,false,{"$f":"VALUE(Table2[[#This Row],[Identifier]])","v":96733}]
["96738",true,"3808939090 - Other",11418,11415,false,{"$f":"VALUE(Table2[[#This Row],[Identifier]])","v":96738}]
["96739",true,"3808940000 - Disinfectants",11419,11374,false,{"$f":"VALUE(Table2[[#This Row],[Identifier]])","v":96739}]
["96740",true,"3808941000 - Based on quaternary ammonium salts",11420,11419,false,{"$f":"VALUE(Table2[[#This Row],[Identifier]])","v":96740}]
["96741",true,"3808942000 - Based on halogenated compounds",11421,11419,false,{"$f":"VALUE(Table2[[#This Row],[Identifier]])","v":96741}]
["96742",true,"3808942020 - Trichloroisocyanuric acid and preparations thereof, also referred to as ‘symclosene’ under the international non-propriatory name (INN)",11422,11421,false,{"$f":"VALUE(Table2[[#This Row],[Identifier]])","v":96742}]
["96743",true,"3808942030 - Bromochloro-5,5-dimethylimidazolidine-2,4-dione (CAS RN 32718-18-6)|containing:\n \n-|1,3-Dichloro-5,5-dimethylimidazolidine-2,4-dione (CAS RN 118-52-5),\n \n-|1,3-Dibromo-5,5-dimethylimidazolidine-2,4-dione (CAS RN 77-48-5),\n \n-|1-Bromo,3-chloro-5,5-dimethylimidazolidine-2,4-dione (CAS RN 16079-88-2), and/or\n \n-|1-Chloro,3-bromo-5,5-dimethylimidazolidine-2,4-dione (CAS RN 126-06-7)",11423,11421,false,{"$f":"VALUE(Table2[[#This Row],[Identifier]])","v":96743}]
["133931",true,"3808942040 - Aqueous solution containing by weight:\n- 10,0 % or more but not more than 11,3 % of 5-chloro-2-methyl-2H-isothiazol-3-one,\n- 3,0 % or more but not more than 4,1 % of 2-methyl-2H-isothiazol-3-one,\n- a combined concentration of isothiazolones (CAS RN 55965-84-9) of 13,0 % or more but not more than 15,4 %,\n- 18 % or more but not more than 22 % of nitrates, calculated as sodium nitrate, and\n- 5 % or more but not more than 8 % of chlorides, calculated as sodium chloride",11424,11421,false,{"$f":"VALUE(Table2[[#This Row],[Identifier]])","v":133931}]
["96744",true,"3808942090 - Other",11425,11421,false,{"$f":"VALUE(Table2[[#This Row],[Identifier]])","v":96744}]
["96745",true,"3808949000 - Other",11426,11419,false,{"$f":"VALUE(Table2[[#This Row],[Identifier]])","v":96745}]
["96746",true,"3808949010 - Technical aerosols that contain hydrofluorocarbons (HFCs) with global warming potential (GWP) of 150 or more",11427,11426,false,{"$f":"VALUE(Table2[[#This Row],[Identifier]])","v":96746}]
["96747",true,"3808949090 - other",11428,11426,false,{"$f":"VALUE(Table2[[#This Row],[Identifier]])","v":96747}]
["96748",true,"3808990000 - Other",11429,11374,false,{"$f":"VALUE(Table2[[#This Row],[Identifier]])","v":96748}]
["96749",true,"3808991000 - Rodenticides",11430,11429,false,{"$f":"VALUE(Table2[[#This Row],[Identifier]])","v":96749}]
["96750",true,"3808999000 - Other",11431,11429,false,{"$f":"VALUE(Table2[[#This Row],[Identifier]])","v":96750}]
["96752",true,"3808999020 - Abamectin|(ISO) (CAS RN 71751-41-2)",11432,11431,false,{"$f":"VALUE(Table2[[#This Row],[Identifier]])","v":96752}]
["96753",true,"3808999090 - Other",11433,11431,false,{"$f":"VALUE(Table2[[#This Row],[Identifier]])","v":96753}]
["110742",false,"3809000000 - Finishing agents, dye carriers to accelerate the dyeing or fixing of dyestuffs and other products and preparations (for example, dressings and mordants), of a kind used in the textile, paper, leather or like industries, not elsewhere specified or included",11434,11319,false,{"$f":"VALUE(Table2[[#This Row],[Identifier]])","v":110742}]
["96754",true,"3809100000 - With a basis of amylaceous substances",11435,11434,false,{"$f":"VALUE(Table2[[#This Row],[Identifier]])","v":96754}]
["96755",true,"3809101000 - Containing by weight less than 55|% of such substances",11436,11435,false,{"$f":"VALUE(Table2[[#This Row],[Identifier]])","v":96755}]
["96756",true,"3809103000 - Containing by weight 55|% or more but less than 70|% of such substances",11437,11435,false,{"$f":"VALUE(Table2[[#This Row],[Identifier]])","v":96756}]
["96757",true,"3809105000 - Containing by weight 70|% or more but less than 83|% of such substances",11438,11435,false,{"$f":"VALUE(Table2[[#This Row],[Identifier]])","v":96757}]
["96758",true,"3809109000 - Containing by weight 83|% or more of such substances",11439,11435,false,{"$f":"VALUE(Table2[[#This Row],[Identifier]])","v":96758}]
["110743",false,"3809910000 - Other",11440,11434,false,{"$f":"VALUE(Table2[[#This Row],[Identifier]])","v":110743}]
["96759",true,"3809910000 - Of a kind used in the textile or like industries",11441,11440,false,{"$f":"VALUE(Table2[[#This Row],[Identifier]])","v":96759}]
["96760",true,"3809910010 - Mixture of 5-ethyl-2-methyl-2-oxo-1,3,2λ$5-dioxaphosphoran-5-ylmethyl methyl methylphosphonate and bis(5-ethyl-2-methyl-2-oxo-1,3,2λ$5-dioxaphosphoran-5-ylmethyl) methylphosphonate",11442,11441,false,{"$f":"VALUE(Table2[[#This Row],[Identifier]])","v":96760}]
["96761",true,"3809910090 - Other",11443,11441,false,{"$f":"VALUE(Table2[[#This Row],[Identifier]])","v":96761}]
["96762",true,"3809920000 - Of a kind used in the paper or like industries",11444,11440,false,{"$f":"VALUE(Table2[[#This Row],[Identifier]])","v":96762}]
["96765",true,"3809930000 - Of a kind used in the leather or like industries",11445,11440,false,{"$f":"VALUE(Table2[[#This Row],[Identifier]])","v":96765}]
["110744",false,"3810000000 - Pickling preparations for metal surfaces; fluxes and other auxiliary preparations for soldering, brazing or welding; soldering, brazing or welding powders and pastes consisting of metal and other materials; preparations of a kind used as cores or coatings for welding electrodes or rods",11446,11319,false,{"$f":"VALUE(Table2[[#This Row],[Identifier]])","v":110744}]
["96766",true,"3810100000 - Pickling preparations for metal surfaces; soldering, brazing or welding powders and pastes consisting of metal and other materials",11447,11446,false,{"$f":"VALUE(Table2[[#This Row],[Identifier]])","v":96766}]
["96767",true,"3810100010 - Soldering or welding paste, consisting of a mixture of metals and resin containing by weight:\n \n-|70|% or more, but not more than 90|% of tin\n \n-|not more than 10|% of one or more metals of silver, copper, bismuth, zinc, or indium\nfor use in the electro technical industry",11448,11447,false,{"$f":"VALUE(Table2[[#This Row],[Identifier]])","v":96767}]
["96768",true,"3810100090 - Other",11449,11447,false,{"$f":"VALUE(Table2[[#This Row],[Identifier]])","v":96768}]
["96769",true,"3810900000 - Other",11450,11446,false,{"$f":"VALUE(Table2[[#This Row],[Identifier]])","v":96769}]
["96770",true,"3810901000 - Preparations of a kind used as cores or coatings for welding electrodes and rods",11451,11450,false,{"$f":"VALUE(Table2[[#This Row],[Identifier]])","v":96770}]
["96771",true,"3810909000 - Other",11452,11450,false,{"$f":"VALUE(Table2[[#This Row],[Identifier]])","v":96771}]
["110745",false,"3811000000 - Anti-knock preparations, oxidation inhibitors, gum inhibitors, viscosity improvers, anti-corrosive preparations and other prepared additives, for mineral oils (including gasoline) or for other liquids used for the same purposes as mineral oils",11453,11319,false,{"$f":"VALUE(Table2[[#This Row],[Identifier]])","v":110745}]
["110746",false,"3811110000 - Anti-knock preparations",11454,11453,false,{"$f":"VALUE(Table2[[#This Row],[Identifier]])","v":110746}]
["96772",true,"3811110000 - Based on lead compounds",11455,11454,false,{"$f":"VALUE(Table2[[#This Row],[Identifier]])","v":96772}]
["96773",true,"3811111000 - Based on tetraethyl-lead",11456,11455,false,{"$f":"VALUE(Table2[[#This Row],[Identifier]])","v":96773}]
["96774",true,"3811119000 - Other",11457,11455,false,{"$f":"VALUE(Table2[[#This Row],[Identifier]])","v":96774}]
["96775",true,"3811190000 - Other",11458,11454,false,{"$f":"VALUE(Table2[[#This Row],[Identifier]])","v":96775}]
["96776",true,"3811190010 - Solution of more than 61|% but not more than 63|% by weight of methylcyclopentadienyl manganese tricarbonyl in an aromatic hydrocarbon solvent, containing by weight not more than:\n \n-|4,9|% of|1,2,4-trimethyl-benzene,\n \n-|4,9|% of naphthalene, and\n \n-|0,5|%|of|1,3,5-trimethyl-benzene",11459,11458,false,{"$f":"VALUE(Table2[[#This Row],[Identifier]])","v":96776}]
["96777",true,"3811190090 - Other",11460,11458,false,{"$f":"VALUE(Table2[[#This Row],[Identifier]])","v":96777}]
["110747",false,"3811210000 - Additives for lubricating oils",11461,11453,false,{"$f":"VALUE(Table2[[#This Row],[Identifier]])","v":110747}]
["96778",true,"3811210000 - Containing petroleum oils or oils obtained from bituminous minerals",11462,11461,false,{"$f":"VALUE(Table2[[#This Row],[Identifier]])","v":96778}]
["96779",true,"3811210010 - Salts of dinonylnaphthalenesulphonic acid, in the form of a solution in mineral oils",11463,11462,false,{"$f":"VALUE(Table2[[#This Row],[Identifier]])","v":96779}]
["96780",true,"3811210011 - Dispersing agent and oxidation inhibitor containing :\n \n-|o-amino polyisobutylenephenol (CAS RN 78330-13-9),\n \n-|more than 30|% by weight but not more than 50|% by weight of mineral oils,\nused in the manufacture of blends of additives for lubricating oils",11464,11462,false,{"$f":"VALUE(Table2[[#This Row],[Identifier]])","v":96780}]
["96781",true,"3811210012 - Dispersing agent containing :\n \n-|esters of polyisobutenyl succinic acid and pentaerythritol (CAS RN 103650-95-9),\n \n-|35|% or more but not more than 55|% by weight of mineral oils and\n \n-|with a chlorine content of not more than 0,05|% by weight,\nused in the manufacture of blends of additives for lubricating oils",11465,11462,false,{"$f":"VALUE(Table2[[#This Row],[Identifier]])","v":96781}]
["96782",true,"3811210013 - Additives containing|:\n \n-|borated magnesium (C16-C24) alkylbenzene sulphonates and\n \n-|mineral oils,\nhaving a total base number| (TBN) of more than 250, but not more than 350,| for use in the manufacture of| lubricating oils",11466,11462,false,{"$f":"VALUE(Table2[[#This Row],[Identifier]])","v":96782}]
["96783",true,"3811210014 - Dispersing agent|:\n \n-|containing polyisobutene succinimide derived from reaction products of polyethylenepolyamines with polyisobutenyl succinic anhydride (CAS RN 147880-09-9),\n \n-|containing|35|% or more but not more than 55|% by weight of mineral oils,\n \n-|with a chlorine content by weight of not more than|0,05|%,|\n \n-|having a total base number of less than|15,\nused in the manufacture of blends of additives for lubricating oils",11467,11462,false,{"$f":"VALUE(Table2[[#This Row],[Identifier]])","v":96783}]
["96784",true,"3811210016 - Detergent containing :\n \n-|Calcium salt of beta-aminocarbonyl alkylphenol (reaction product Mannich base of alkylphenol)\n \n-|40|% or more but not more than 60|% by weight of mineral oils and\n \n-|having a total base number more than 120\nused in the manufacture of blends of additives for lubricating oils",11468,11462,false,{"$f":"VALUE(Table2[[#This Row],[Identifier]])","v":96784}]
["96785",true,"3811210018 - Detergent containing :\n \n-|long chain alkyltoluene calcium| sulphonates,\n \n-|more than 30|% but not more than 50|% by weight of mineral oils, and\n \n-|having a total base number of more than 310|but not more| than 340,\nused in the manufacture of blends of additives for lubricating oils",11469,11462,false,{"$f":"VALUE(Table2[[#This Row],[Identifier]])","v":96785}]
["96786",true,"3811210019 - Additives containing:\n \n-| a polyisobutylene succinimide based mixture, and\n \n-| more than 30|% but not more than 50|% by weight of mineral oils,\nhaving a total base number of more than 40, for use in the manufacture of lubricating oils",11470,11462,false,{"$f":"VALUE(Table2[[#This Row],[Identifier]])","v":96786}]
["96787",true,"3811210020 - Additives for lubricating oils, based on complex organic molybdenum compounds, in the form of a solution in mineral oil",11471,11462,false,{"$f":"VALUE(Table2[[#This Row],[Identifier]])","v":96787}]
["133932",true,"3811210022 - Additive consisting essentially of:\n \n-Polyisobutenyl succinic anhydride (CAS RN 192662-34-3) reaction product with N,N-diethylaminoethanol (CAS RN 100-37-8),\n \n-25 % or more by weight, but not more than 40 % by weight of mineral oil,\nused in the manufacture of blends of additives for lubricating oils",11472,11462,false,{"$f":"VALUE(Table2[[#This Row],[Identifier]])","v":133932}]
["133933",true,"3811210024 - Additive consisting essentially of:\n \n-Polyisobutenyl succinic anhydride reaction product with polyethylenepolyamines, borated (CAS RN 134758-95-5), with a chlorine content by weight of 0,05 % or more but not more than 0,25 % and a total base number (TBN) of more than 20,\n \n-45 % and more by weight and no more than 55 % by weight of mineral oil,\nused in the manufacture of blends of additives for lubricating oils",11473,11462,false,{"$f":"VALUE(Table2[[#This Row],[Identifier]])","v":133933}]
["96788",true,"3811210025 - Additives containing:\n \n-|a| (C8-18) alkyl polymethacrylate copolymer with| N-[3-(dimethylamino)propyl]methacrylamide, of an average molecular weight (Mw) of more than 10,000|but not more than 20,000, and\n \n-|more than 15|% , but not more than 30|% by weight of mineral oils,\nfor use in the manufacture of| lubricating oils",11474,11462,false,{"$f":"VALUE(Table2[[#This Row],[Identifier]])","v":96788}]
["133934",true,"3811210026 - Additive consisting essentially of:\n \n-Phosphorodithioic acid, mixed O,O-bis (1,3-dimethylbutyl and isopropyl) esters, zinc salts (CAS RN 84605-29-8),\n \n-7 % or more by weight but not more than 12 % by weight of mineral oil,\nused in the manufacture of blends of additives for lubricating oils",11475,11462,false,{"$f":"VALUE(Table2[[#This Row],[Identifier]])","v":133934}]
["96789",true,"3811210027 - Additives containing:\n-10 % or more by weight of an ethylene-propylene copolymer chemically modified by succinic anhydride groups reacted with 3-nitroaniline, and\n\n-mineral oils,\n\nfor use in the manufacture of lubricating oils",11476,11462,false,{"$f":"VALUE(Table2[[#This Row],[Identifier]])","v":96789}]
["133935",true,"3811210028 - Additive consisting essentially of:\n \n-Zinc bis(O,O-bis(2-ethylhexyl)) bis (dithiophosphate) (CAS RN 4259-15-8);\n \n-triphenyl phosphite (CAS RN 101-02-0) more than 0,5 % by weight but not more than 6 % by weight,\n \n-O,O,O-triphenyl phosphorothioate (CAS RN 597-82-0) more than 0,5 % by weight but not more than 6 % by weight, and not more than 7,5 % by weight of the combination of triphenylphosphorus compounds\n \n-10 % or more by weight but not more than 20 % by weight of mineral oils,\nused in the manufacture of blends of additives for lubricating oils",11477,11462,false,{"$f":"VALUE(Table2[[#This Row],[Identifier]])","v":133935}]
["96790",true,"3811210030 - Additives for lubricating oils, containing mineral oils, consisting of calcium salts of reaction products of polyisobutylene substituted phenol with salicylic acid and formaldehyde, used as a concentrated additive for the manufacture of engine oils through a blending process",11478,11462,false,{"$f":"VALUE(Table2[[#This Row],[Identifier]])","v":96790}]
["133936",true,"3811210031 - Additive consisting essentially of:\n \n-Phosphorodithioic acid, mixed O,O-bis (isobutyl and pentyl) esters, zinc salts (CAS RN 68457-79-4),\n \n-8 % or more by weight but not more than 15 % by weight of mineral oil,\nused in the manufacture of blends of additives for lubricating oils",11479,11462,false,{"$f":"VALUE(Table2[[#This Row],[Identifier]])","v":133936}]
["133937",true,"3811210032 - Additive consisting essentially of:\n \n-Zinc O,O,O',O'-tetrakis (1,3-dimethylbutyl) bis(phosphorodithioate) (CAS RN 2215-35-2),\n \n-4 % or more by weight but not more than 12 % by weight of mineral oil,\nused in the manufacture of blends of additives for lubricating oils",11480,11462,false,{"$f":"VALUE(Table2[[#This Row],[Identifier]])","v":133937}]
["96791",true,"3811210033 - Additives containing:\n \n-|calcium salts of heptylphenol reaction products with formaldehyde (CAS RN 84605-23-2), and\n \n-|mineral oils,\nhaving a total base number (TBN) of more than 40|but not more than 100, for use in the manufacture of lubricating oils or|overbased detergents for use in lubricating oils",11481,11462,false,{"$f":"VALUE(Table2[[#This Row],[Identifier]])","v":96791}]
["96792",true,"3811210037 - Additives containing:\n \n-|a styrene-maleic anhydride copolymer esterified with C4-C20|alcohols, modified by| aminopropylmorpholine, and\n \n-|more than 50|% but not more than 75|% by weight of mineral oils,\n|for use in the|manufacture of lubricating oils",11482,11462,false,{"$f":"VALUE(Table2[[#This Row],[Identifier]])","v":96792}]
["96793",true,"3811210048 - Additives containing\n \n-|overbased magnesium (C20-C24) alkylbenzenesulphonates (CAS RN 231297-75-9) and\n \n-|by weight more than 25|% but not more than 50|% of mineral oils,\nhaving a|total base number|of more than 350, but not more than 450, for use in the manufacture of lubricating oils",11483,11462,false,{"$f":"VALUE(Table2[[#This Row],[Identifier]])","v":96793}]
["96794",true,"3811210050 - Additives for lubricating oils,\n \n-|based on calcium C16-24|alkylbenzenesulphonates (CAS|RN|70024-69-0),\n \n-|containing mineral oils,\nused as a concentrated additive for the manufacture of engine oils through a blending process",11484,11462,false,{"$f":"VALUE(Table2[[#This Row],[Identifier]])","v":96794}]
["96795",true,"3811210053 - Additives containing:|\n \n-|overbased calcium petroleum sulphonates (CAS 68783-96-0) with a sulphonate content by weight of 15|%|or more, but not more than 30|% and\n \n-|by weight more than 40|%|but not more than 60|% of mineral oil,\nhaving a total base number|of 280|or more but not more than 420,for use in the manufacture of lubricating oils",11485,11462,false,{"$f":"VALUE(Table2[[#This Row],[Identifier]])","v":96795}]
["96796",true,"3811210055 - Additives containing:\n \n-|low base number calcium polypropylbenzenesulphonate|(CAS RN 75975-85-8) and\n \n-|by weight more than|40|% but not more than 60|% mineral oils,\nhaving a total base number|of| more than 10|but not more than 25, for use in the manufacture of lubricating oils",11486,11462,false,{"$f":"VALUE(Table2[[#This Row],[Identifier]])","v":96796}]
["96797",true,"3811210060 - Additives for lubricating oils, containing mineral oils,\n \n-|based on calcium polypropylenyl substituted benzenesulphonate (CAS RN 75975-85-8) with a content by weight of 25|% or more but not more than 35|%,\n \n-|with a total base number (TBN) of 280|or more but not more than 320,\nused as a concentrated additive for the manufacture of engine oils through a blending process",11487,11462,false,{"$f":"VALUE(Table2[[#This Row],[Identifier]])","v":96797}]
["96798",true,"3811210063 - Additives containing:\n \n-|an overbased mixture of calcium petroleum sulphonates (CAS RN|61789-86-4) and synthetic calcium alkylbenzenesulphonates (CAS RN 68584-23-6|and CAS RN 70024-69-0)| with a total sulphonate content by weight of 15|% or more, but not more than 25|% and\n \n-|by weight more than 40|%|but not more than 60|% of mineral oils,\nhaving a total base number|of 280|or more but not more than 320, for use in the manufacture of lubricating oils",11488,11462,false,{"$f":"VALUE(Table2[[#This Row],[Identifier]])","v":96798}]
["96799",true,"3811210065 - Additives containing:\n \n-|a polyisobutylene succinimide based mixture (CAS RN 160610-76-4), and\n \n-|more than 35|% but not more than 50|% by weight of mineral oils,\nhaving a sulphur content of more than 0,7|% but not more than 1,3|% by weight, having a total base number of more than 8, for use in the manufacture of lubricating oils",11489,11462,false,{"$f":"VALUE(Table2[[#This Row],[Identifier]])","v":96799}]
["96800",true,"3811210070 - Additives for lubricating oils,\n \n-|containing polyisobutylene succinimide derived from reaction products of polyethylenepolyamines with polyisobutenyl succinic anhydride (CAS RN 84605-20-9),\n \n-|containing mineral oils,\n \n-|with a chlorine content by weight of 0,05|% or more but not more than 0,25|%,\n \n-|with a total base number (TBN) of more than 20,\nused as a concentrated additive for the manufacture of engine oils through a blending process",11490,11462,false,{"$f":"VALUE(Table2[[#This Row],[Identifier]])","v":96800}]
["96801",true,"3811210073 - Additives containing:\n \n-|borated succinimide compounds (CAS RN 134758-95-5),\n \n-|mineral oils, and\n \n-|having a total base number (TBN) greater than 40,\nfor use in the manufacture of additive mixtures|for lubricating oils",11491,11462,false,{"$f":"VALUE(Table2[[#This Row],[Identifier]])","v":96801}]
["96802",true,"3811210075 - Additives containing:\n \n-|Calcium (C10-C14) dialkylbenzenesulfonates,\n \n-|more than 40|%, but not more than 60|% by weight of mineral oils,\nwith a total base number of not more than 10, for use in the manufacture of blends of additives for lubricating oils",11492,11462,false,{"$f":"VALUE(Table2[[#This Row],[Identifier]])","v":96802}]
["96803",true,"3811210077 - Antifoam additives consisting of:\n \n-|a copolymer of 2-ethylhexyl acrylate and ethyl acrylate, and\n \n-|more than 50|% but not more than 80|% by weight of mineral oils\nfor use in the manufacture of| additive blends for lubricating oils",11493,11462,false,{"$f":"VALUE(Table2[[#This Row],[Identifier]])","v":96803}]
["96804",true,"3811210080 - Additives containing :\n \n-|polyisobutylene aromatic polyamine succinimide,\n \n-|more than 40|% but not more than 60|% by weight of mineral oils,\nwith a nitrogen content of more than 0,6|% but not more than 0,9|% by weight, for use in the manufacture of additive blends for lubricating oils",11494,11462,false,{"$f":"VALUE(Table2[[#This Row],[Identifier]])","v":96804}]
["96805",true,"3811210083 - Additives containing:\n \n-|polyisobutene succinimide derived from reaction of polyethylenepolyamines with polyisobutenyl succinic anhydride (CAS RN 84605-20-9),\n \n-|containing more than 31,9|% but not more than 43,3|% by weight of mineral oils,\n \n-|not more than 0,05|% by weight chlorine, and\n \n-|having a total base number (TBN) greater than 20,\nfor use in the manufacture of additives blends for lubricating oils",11495,11462,false,{"$f":"VALUE(Table2[[#This Row],[Identifier]])","v":96805}]
["96806",true,"3811210085 - Additives,\n \n-|containing more than 20|% but not more than 45|% by weight of mineral oils,\n \n-|based on a mixture of branched dodecylphenol sulfide calcium salts, whether or not carbonated,\nfor use in the manufacture of blends of additives",11496,11462,false,{"$f":"VALUE(Table2[[#This Row],[Identifier]])","v":96806}]
["96807",true,"3811210090 - Other",11497,11462,false,{"$f":"VALUE(Table2[[#This Row],[Identifier]])","v":96807}]
["96808",true,"3811290000 - Other",11498,11461,false,{"$f":"VALUE(Table2[[#This Row],[Identifier]])","v":96808}]
["96809",true,"3811290015 - Additive containing :\n \n-|products from the reaction of branched heptyl phenol with formaldehyde, carbon disulphide and hydrazine (CAS RN 93925-00-9) and\n \n-|by weight more than 15|% but not more than 28|% of light aromatic petroleum naphtha solvent,\nfor use in the manufacture of lubricating oils",11499,11498,false,{"$f":"VALUE(Table2[[#This Row],[Identifier]])","v":96809}]
["96810",true,"3811290018 - Additive consisting of dihydroxy butanedioic acid - (mixed C12-16-alkyl and C13-rich C11-14-isoalkyl) diester, for use in the manufacture of engine oils",11500,11498,false,{"$f":"VALUE(Table2[[#This Row],[Identifier]])","v":96810}]
["96811",true,"3811290020 - Additives for lubricating oils, consisting of reaction products of bis(2-methylpentan-2-yl)dithiophosphoric acid with propylene oxide, phosphorus oxide, and amines with C12-14|alkyl chains, used as a concentrated additive for the manufacture of lubricating oils",11501,11498,false,{"$f":"VALUE(Table2[[#This Row],[Identifier]])","v":96811}]
["96812",true,"3811290025 - Additives containing at least salts of primary amines and mono- and di-alkylphosphoric acids, for use in the manufacture of lubricating oils or greases",11502,11498,false,{"$f":"VALUE(Table2[[#This Row],[Identifier]])","v":96812}]
["96813",true,"3811290030 - Additives for lubricating oils, consisting of reaction products of butyl-cyclohex-3-enecarboxylate, sulphur and triphenyl phosphite (CAS RN 93925-37-2), used as a concentrated additive for the manufacture of engine oils through a blending process",11503,11498,false,{"$f":"VALUE(Table2[[#This Row],[Identifier]])","v":96813}]
["96814",true,"3811290035 - Additives consisting of an imidazoline based mixture (CAS RN 68784-17-8), for use in the manufacture of lubricating oils",11504,11498,false,{"$f":"VALUE(Table2[[#This Row],[Identifier]])","v":96814}]
["96815",true,"3811290040 - Additives for lubricating oils, consisting of reaction products of 2-methyl-prop-1-ene| with sulphur monochloride and sodium sulphide (CAS RN 68511-50-2), with a chlorine content by weight of 0,01|% or more but not more than| 0,5|%, used as a concentrated additive for the manufacture of lubricating oils",11505,11498,false,{"$f":"VALUE(Table2[[#This Row],[Identifier]])","v":96815}]
["96816",true,"3811290045 - Additives consisting of a mixture of (C7-C9) dialkyl adipates, in which diisooctyl adipate (CAS RN 1330-86-5) is more than 85 % by weight of the mixture, for use in the manufacture of lubricating oils",11506,11498,false,{"$f":"VALUE(Table2[[#This Row],[Identifier]])","v":96816}]
["96817",true,"3811290050 - Additives for lubricating oils, consisting of a mixture of N,N-dialkyl -2-hydroxyacetamides with alkyl chain lengths between 12|and 18|carbon atoms (CAS RN 866259-61-2), used as a concentrated additive for the manufacture of engine oils through a blending process",11507,11498,false,{"$f":"VALUE(Table2[[#This Row],[Identifier]])","v":96817}]
["133938",true,"3811290057 - Additives consisting of reaction products of diphenylamine and branched nonenes with:\n- more than 20 % but not more than 50 % by weight 4-monononyldiphenylamine, and\n- more than 50 % but not more than 80 % by weight 4,4'-dinonyldiphenylamine,\n- a total percentage of 2,4-dinonyldiphenylamine and 2,4'-dinonyldiphenylamine of not more than 15 % by weight,\nused for the manufacture of lubricating oils",11508,11498,false,{"$f":"VALUE(Table2[[#This Row],[Identifier]])","v":133938}]
["96820",true,"3811290070 - Additives consisting of dialkylphosphites (in which the alkyl groups contain more than 80 % by weight of oleyl, palmityl and stearyl groups), for use in the manufacture of lubricating oils",11509,11498,false,{"$f":"VALUE(Table2[[#This Row],[Identifier]])","v":96820}]
["96821",true,"3811290075 - Oxidation inhibitor mainly containing a mixture of isomers of 1-(tert-dodecylthio)propan-2-ol (CAS RN 67124-09-8), used in the manufacture of blends of additives for lubricating oils",11510,11498,false,{"$f":"VALUE(Table2[[#This Row],[Identifier]])","v":96821}]
["96822",true,"3811290080 - Additives containing :\n \n-|more than 70|%| by weight of 2,5-bis(tert-nonyldithio)-[1,3,4]-thiadiazole (CAS RN 89347-09-1), and\n \n-|more than 15|% by weight of 5-(tert-nonyldithio)- 1,3,4-thiadiazole-2(3H)-thione (CAS RN 97503-12-3),\n|for use in the manufacture of lubricating oils",11511,11498,false,{"$f":"VALUE(Table2[[#This Row],[Identifier]])","v":96822}]
["96823",true,"3811290085 - Additives consisting of a mixture of 3-((C9-11)-isoalkyloxy)tetrahydrothiophene 1,1-dioxide, C10-rich (CAS RN 398141-87-2), for use in the manufacture of lubricating oils ",11512,11498,false,{"$f":"VALUE(Table2[[#This Row],[Identifier]])","v":96823}]
["96824",true,"3811290090 - Other",11513,11498,false,{"$f":"VALUE(Table2[[#This Row],[Identifier]])","v":96824}]
["96825",true,"3811900000 - Other",11514,11453,false,{"$f":"VALUE(Table2[[#This Row],[Identifier]])","v":96825}]
["96826",true,"3811900010 - Dinonylnaphthylsulphonic acid salt, in a mineral oil solution",11515,11514,false,{"$f":"VALUE(Table2[[#This Row],[Identifier]])","v":96826}]
["96827",true,"3811900040 - Solution of a quaternary ammonium salt based on polyisobutenyl succinimide, containing by weight 10% or more but not more than 29,9% of 2-ethylhexanol",11516,11514,false,{"$f":"VALUE(Table2[[#This Row],[Identifier]])","v":96827}]
["96828",true,"3811900050 - Corrosion inhibitor| containing|:\n \n-|polyisobutenyl succinic acid and|\n \n-|more than 5|% and not more than 20|% by weight of mineral oils\nfor use in the manufacture of blends of additives for fuels",11517,11514,false,{"$f":"VALUE(Table2[[#This Row],[Identifier]])","v":96828}]
["96829",true,"3811900090 - Other",11518,11514,false,{"$f":"VALUE(Table2[[#This Row],[Identifier]])","v":96829}]
["110748",false,"3812000000 - Prepared rubber accelerators; compound plasticisers for rubber or plastics, not elsewhere specified or included; anti-oxidising preparations and other compound stabilisers for rubber or plastics",11519,11319,false,{"$f":"VALUE(Table2[[#This Row],[Identifier]])","v":110748}]
["96830",true,"3812100000 - Prepared rubber accelerators",11520,11519,false,{"$f":"VALUE(Table2[[#This Row],[Identifier]])","v":96830}]
["96831",true,"3812100010 - Rubber accelerator based on diphenyl guanidine granules (CAS RN 102-06-7)",11521,11520,false,{"$f":"VALUE(Table2[[#This Row],[Identifier]])","v":96831}]
["96832",true,"3812100090 - Other",11522,11520,false,{"$f":"VALUE(Table2[[#This Row],[Identifier]])","v":96832}]
["96833",true,"3812200000 - Compound plasticisers for rubber or plastics",11523,11519,false,{"$f":"VALUE(Table2[[#This Row],[Identifier]])","v":96833}]
["96834",true,"3812201000 - Reaction mixture containing benzyl 3-isobutyryloxy-1-isopropyl-2,2-dimethylpropyl phthalate and benzyl 3-isobutyryloxy-2,2,4-trimethylpentyl phthalate",11524,11523,false,{"$f":"VALUE(Table2[[#This Row],[Identifier]])","v":96834}]
["96835",true,"3812209000 - Other",11525,11523,false,{"$f":"VALUE(Table2[[#This Row],[Identifier]])","v":96835}]
["96836",true,"3812209010 - Plasticizer, containing:\n \n-|bis(2-ethylhexyl)-1,4-benzene dicarboxylate (CAS RN 6422-86-2)\n \n-|more than 10|% but not more than 60|% by weight of dibutylterephthalate (CAS RN 1962-75-0)",11526,11525,false,{"$f":"VALUE(Table2[[#This Row],[Identifier]])","v":96836}]
["118925",true,"3812209020 - 1,2-Benzenedicarboxylic acid, di-C6-8-branched alkyl esters, C7-rich (CAS RN 71888-89-6) (CAS RN 71888-89-6)",11527,11525,false,{"$f":"VALUE(Table2[[#This Row],[Identifier]])","v":118925}]
["118926",true,"3812209030 - 1,2-Benzenedicarboxylic acid, di-C7-11-branched and linear alkyl esters (CAS RN 68515-42-4)",11528,11525,false,{"$f":"VALUE(Table2[[#This Row],[Identifier]])","v":118926}]
["118927",true,"3812209040 - N-pentyl-isopentylphthalate (CAS RN 776297-69-9)",11529,11525,false,{"$f":"VALUE(Table2[[#This Row],[Identifier]])","v":118927}]
["96837",true,"3812209090 - Other",11530,11525,false,{"$f":"VALUE(Table2[[#This Row],[Identifier]])","v":96837}]
["110749",false,"3812310000 - Anti-oxidising preparations and other compound stabilisers for rubber or plastics",11531,11519,false,{"$f":"VALUE(Table2[[#This Row],[Identifier]])","v":110749}]
["96838",true,"3812310000 - Mixtures of oligomers of 2,2,4-trimethyl-1,2-dihydroquinoline (TMQ)",11532,11531,false,{"$f":"VALUE(Table2[[#This Row],[Identifier]])","v":96838}]
["96839",true,"3812390000 - Other",11533,11531,false,{"$f":"VALUE(Table2[[#This Row],[Identifier]])","v":96839}]
["96840",true,"3812391000 - Anti-oxidising preparations",11534,11533,false,{"$f":"VALUE(Table2[[#This Row],[Identifier]])","v":96840}]
["96843",true,"3812399000 - Other",11535,11533,false,{"$f":"VALUE(Table2[[#This Row],[Identifier]])","v":96843}]
["96844",true,"3812399020 - Mixture containing predominantly bis(2,2,6,6-tetramethyl-1-octyloxy-4-piperidyl) sebacate",11536,11535,false,{"$f":"VALUE(Table2[[#This Row],[Identifier]])","v":96844}]
["96845",true,"3812399025 - UV|photo stabiliser containing:\n \n-|α-[3-[3-(2H-Benzotriazol-2-yl)-5-(1,1-dimethylethyl)-4-hydroxyphenyl]-1-oxopropyl]-ω-hydroxypoly(oxy-1,2-ethanediyl) (CAS RN 104810-48-2); |\n \n-|α-[3-[3-(2H-Benzotriazol-2-yl)-5-(1,1-dimethylethyl)-4-hydroxyphenyl]-1-oxopropyl]-ω-[3-[3-(2H-benzotriazol-2-yl)-5-(1,1-dimethylethyl)-4-hydroxyphenyl]-1-oxopropoxy]poly (oxy-1,2-ethanediyl) (CAS RN 104810-47-1);|\n \n-|polyethylene glycol of a weight average molecular weight (Mw) of 300|(CAS RN 25322-68-3)\n \n-|bis (1,2,2,6,6-pentamethyl-4-piperidyl)sebacate (CAS RN 41556-26-7), and\n \n-|methyl-1,2,2,6,6-pentamethyl-4- piperidyl sebacate (CAS RN 82919-37-7)",11537,11535,false,{"$f":"VALUE(Table2[[#This Row],[Identifier]])","v":96845}]
["96846",true,"3812399030 - Compound stabilisers containing by weight 15 % or more but not more than 40 % of sodium perchlorate and not more than 70 % of 2-(2-methoxyethoxy)ethanol",11538,11535,false,{"$f":"VALUE(Table2[[#This Row],[Identifier]])","v":96846}]
["96847",true,"3812399035 - Mixture containing by weight:\n \n-|25|% or more but not more than 55|% of a mixture of C15-18|tetramethylpiperidinyl esters (CAS RN|86403-32-9)\n \n-|not more than 20|% of other organic compounds\n \n-|on a carrier of polypropylene (CAS RN 9003-07-0) or amorphous silica (CAS RN 7631-86-9 or 112926-00-8)",11539,11535,false,{"$f":"VALUE(Table2[[#This Row],[Identifier]])","v":96847}]
["96848",true,"3812399040 - Mixture of:\n \n-|80|% (±|10|%) by weight of 2-ethylhexyl 10-ethyl-4,4-dimethyl-7-oxo-8-oxa-3,5-dithia-4-stannatetradecanoate (CAS RN 57583-35-4), and\n \n-|20|% (±|10|%) by weight of 2-ethylhexyl 10-ethyl-4-[[2-[(2-ethylhexyl)oxy]-2-oxoethyl]thio]-4-methyl-7-oxo-8-oxa-3,5-dithia-4-stannatetradecanoate (CAS RN 57583-34-3)",11540,11535,false,{"$f":"VALUE(Table2[[#This Row],[Identifier]])","v":96848}]
["133939",true,"3812399045 - 2-Aminoethanol reaction products with cyclohexane and peroxidized N-butyl-2,2,6,6-tetramethyl-4-piperidinamine-2,4,6-trichloro-1,3,5-triazine reaction products (CAS RN 191743-75-6) with a purity by weight of 99 % or more",11541,11535,false,{"$f":"VALUE(Table2[[#This Row],[Identifier]])","v":133939}]
["133940",true,"3812399050 - Reaction mass of 2-ethylhexyl 10-ethyl-4,4-dioctyl-7-oxo- 8-oxa-3,5-dithia-4-stannatetradecanoate and 2-ethylhexyl 10-ethyl-4-[[2-[(2-ethylhexyl)oxy]-2-oxoethyl]thio]-4-octyl- 7-oxo-8-oxa-3,5-dithia-4-stannatetradecanoate (reaction mass of DOTE and MOTE)",11542,11535,false,{"$f":"VALUE(Table2[[#This Row],[Identifier]])","v":133940}]
["96849",true,"3812399055 - UV stabilizer, containing: \n\t\t\t\t\t\t\n-|2-(4,6-bis(2,4-dimethylphenyl)-1,3,5-triazin-2-yl)-5-(octyloxy)-phenol (CAS|RN|2725-22-6) and \n\t\t\t\t\t\t\n-|either N,N'-bis(1,2,2,6,6-pentamethyl-4-piperidinyl)-1,6-hexanediamine, polymer with 2,4- dichloro-6-(4-morpholinyl)-1,3,5-triazine (CAS|RN|193098-40-7)|or \n\t\t\t\t\t\t\n-|N,N'-bis(2,2,6,6-tetramethyl-4-piperidinyl)-1,6-hexanediamine, polymer with 2,4-|dichloro-6-(4-morpholinyl)-1,3,5-triazine (CAS|RN|82451-48-7)",11543,11535,false,{"$f":"VALUE(Table2[[#This Row],[Identifier]])","v":96849}]
["96850",true,"3812399065 - Stabiliser for plastic material containing: \n\t\t\t\t\t\t\n-|2-ethylhexyl 10-ethyl-4,4-dimethyl-7-oxo-8-oxa-3,5-dithia-4-stannatetradecanoate (CAS|RN|57583-35-4), \n\t\t\t\t\t\t\n-|2-ethylhexyl 10-ethyl-4-[[2-[(2-ethylhexyl)oxy]-2-oxoethyl]thio]-4-methyl-7-oxo-8-oxa-3,5-dithia-4-stannatetradecanoate (CAS|RN|57583-34-3), and \n\t\t\t\t\t\t\n-|2-ethylhexyl mercaptoacetate (CAS RN 7659-86-1)",11544,11535,false,{"$f":"VALUE(Table2[[#This Row],[Identifier]])","v":96850}]
["96852",true,"3812399080 - UV-stabilizer, consisting of:\n \n-|a hindered amine: N,N'-bis(1,2,2,6,6-pentamethyl-4-piperidinyl)-1,6-hexanediamine, polymer with 2,4- dichloro-6-(4-morpholinyl)-1,3,5-triazine (CAS RN 193098-40-7) and\n \n-|either an o-hydroxyphenyl triazine UV light absorber or\n \n-|a chemically modified phenolic compound",11545,11535,false,{"$f":"VALUE(Table2[[#This Row],[Identifier]])","v":96852}]
["96853",true,"3812399090 - Other",11546,11535,false,{"$f":"VALUE(Table2[[#This Row],[Identifier]])","v":96853}]
["96854",true,"3813000000 - Preparations and charges for fire-extinguishers; charged fire-extinguishing grenades",11547,11319,false,{"$f":"VALUE(Table2[[#This Row],[Identifier]])","v":96854}]
["96855",true,"3813000010 - Preparations and charges for fire-extinguishers, of mentioned in code 8424, for use in certain types of aircraft",11548,11547,false,{"$f":"VALUE(Table2[[#This Row],[Identifier]])","v":96855}]
["96856",true,"3813000090 - Other",11549,11547,false,{"$f":"VALUE(Table2[[#This Row],[Identifier]])","v":96856}]
["110750",false,"3814000000 - Organic composite solvents and thinners, not elsewhere specified or included; prepared paint or varnish removers",11550,11319,false,{"$f":"VALUE(Table2[[#This Row],[Identifier]])","v":110750}]
["96857",true,"3814001000 - Based on butyl acetate",11551,11550,false,{"$f":"VALUE(Table2[[#This Row],[Identifier]])","v":96857}]
["96858",true,"3814001010 - Ethyl alcohol produced from agricultural products (as listed in Annex I to the Treaty on the Functioning of the European Union), denatured or undenatured, excluding products with a water content of more than 0,3|% (m/m) measured according to the standard EN 15376, but including ethyl alcohol produced from agricultural products (as listed in Annex I to the Treaty on the Functioning of the European Union) contained in blends with gasoline with an ethyl alcohol content of more than 10|% (v/v)",11552,11551,false,{"$f":"VALUE(Table2[[#This Row],[Identifier]])","v":96858}]
["96859",true,"3814001090 - Other",11553,11551,false,{"$f":"VALUE(Table2[[#This Row],[Identifier]])","v":96859}]
["96860",true,"3814009000 - Other",11554,11550,false,{"$f":"VALUE(Table2[[#This Row],[Identifier]])","v":96860}]
["96861",true,"3814009020 - Mixture containing by weight:\n \n-|69|% or more but not more than 71|% of 1-methoxypropan-2-ol (CAS RN 107-98-2),\n \n-|29|% or more but not more than 31|% of 2-methoxy-1-methylethyl acetate (CAS RN 108-65-6)",11555,11554,false,{"$f":"VALUE(Table2[[#This Row],[Identifier]])","v":96861}]
["96862",true,"3814009040 - Azeotrope mixtures containing isomers of nonafluorobutyl methyl ether and/or nonafluorobutyl ethyl ether",11556,11554,false,{"$f":"VALUE(Table2[[#This Row],[Identifier]])","v":96862}]
["96863",true,"3814009070 - Ethyl alcohol produced from agricultural products (as listed in Annex I to the Treaty on the Functioning of the European Union), denatured or undenatured, excluding products with a water content of more than 0,3|% (m/m) measured according to the standard EN 15376, but including ethyl alcohol produced from agricultural products (as listed in Annex I to the Treaty on the Functioning of the European Union) contained in blends with gasoline with an ethyl alcohol content of more than 10|% (v/v)",11557,11554,false,{"$f":"VALUE(Table2[[#This Row],[Identifier]])","v":96863}]
["96864",true,"3814009099 - Other",11558,11554,false,{"$f":"VALUE(Table2[[#This Row],[Identifier]])","v":96864}]
["110751",false,"3815000000 - Reaction initiators, reaction accelerators and catalytic preparations, not elsewhere specified or included",11559,11319,false,{"$f":"VALUE(Table2[[#This Row],[Identifier]])","v":110751}]
["110752",false,"3815110000 - Supported catalysts",11560,11559,false,{"$f":"VALUE(Table2[[#This Row],[Identifier]])","v":110752}]
["96865",true,"3815110000 - With nickel or nickel compounds as the active substance",11561,11560,false,{"$f":"VALUE(Table2[[#This Row],[Identifier]])","v":96865}]
["96866",true,"3815120000 - With precious metal or precious-metal compounds as the active substance",11562,11560,false,{"$f":"VALUE(Table2[[#This Row],[Identifier]])","v":96866}]
["96867",true,"3815120010 - Catalyst, in the form of granules or rings of a diameter of 3|mm or more but not more than 10|mm, consisting of silver on an aluminium oxide support and containing by weight 8|% or more but not more than 40|% of silver",11563,11562,false,{"$f":"VALUE(Table2[[#This Row],[Identifier]])","v":96867}]
["96868",true,"3815120020 - Spherical catalyst consisting of a support of aluminium oxide coated with platinum, with\n\n-a diameter of 1,4 mm or more but not more than 2,0 mm, and\n\n-a platinum content by weight of 0,2 % or more but not more than 0,5 %",11564,11562,false,{"$f":"VALUE(Table2[[#This Row],[Identifier]])","v":96868}]
["96869",true,"3815120030 - Catalyst\n\n-containing 0,3 gram per litre or more, but not more than 7 gram per litre of precious metals,\n\n-deposited on a ceramic honeycomb structure coated with aluminium oxide or cerium/zirconium oxide, the honeycomb structure having\n\n-a nickel content of 1,26 % by weight or more, but not more than 1,29 % by weight,\n\n-62 cells per cm² or more, but not more than 140 cells per cm² ,\n\n-a diameter of 100 mm or more, but not more than 120 mm and\n\n-a length of 60 mm or more, but not more than 150 mm,\nfor use in the production of motor vehicles",11565,11562,false,{"$f":"VALUE(Table2[[#This Row],[Identifier]])","v":96869}]
["96870",true,"3815120090 - Other",11566,11562,false,{"$f":"VALUE(Table2[[#This Row],[Identifier]])","v":96870}]
["96871",true,"3815190000 - Other",11567,11560,false,{"$f":"VALUE(Table2[[#This Row],[Identifier]])","v":96871}]
["96872",true,"3815191000 - Catalyst in the form of grains of which 90|% or more by weight have a particle-size not exceeding 10|micrometres, consisting of a mixture of oxides on a magnesium-silicate support, containing by weight:\n-|20|% or more but not more than 35|% of copper and\n-|2|% or more but not more than 3|% of bismuth,\nand of an apparent specific gravity of 0,2|or more but not exceeding 1,0",11568,11567,false,{"$f":"VALUE(Table2[[#This Row],[Identifier]])","v":96872}]
["96873",true,"3815199000 - Other",11569,11567,false,{"$f":"VALUE(Table2[[#This Row],[Identifier]])","v":96873}]
["96874",true,"3815199010 - Catalysts consisting of chromium trioxide, dichromium trioxide or organometallic compounds of chromium, fixed on a silicon dioxide support with a pore volume of 2 cm³/g or more (as determined by the nitrogen absorption method)",11570,11569,false,{"$f":"VALUE(Table2[[#This Row],[Identifier]])","v":96874}]
["96876",true,"3815199015 - Catalyst, in the form of a powder, consisting of a mixture of metal oxides fixed on a support of silicon dioxide, containing by weight 20|% or more but not more than 40|% of molybdenum, bismuth and iron evaluated together, for use in the manufacture of acrylonitrile",11571,11569,false,{"$f":"VALUE(Table2[[#This Row],[Identifier]])","v":96876}]
["96877",true,"3815199020 - Catalyst,\n \n-|in the form of solid spheres,\n \n-|of a diameter of 4|mm or more but not more than 12|mm, and\n \n-|consisting of a mixture of molybdenum oxide and other metal oxides, supported on silicon dioxide and/or aluminium oxide,\nfor use in the manufacture of acrylic acid",11572,11569,false,{"$f":"VALUE(Table2[[#This Row],[Identifier]])","v":96877}]
["96878",true,"3815199025 - Catalyst in the form of spheres of a diameter of 4,2|mm or more but not|more than 9|mm, consisting of a mixture of metal oxides containing predominantly oxides of molybdenum, nickel, cobalt and iron, on a support of aluminium oxide, for use in the manufacture of acrylic aldehyde",11573,11569,false,{"$f":"VALUE(Table2[[#This Row],[Identifier]])","v":96878}]
["96879",true,"3815199030 - Catalyst containing titanium tetrachloride supported on magnesium dichloride, for use in the manufacture of polypropylene",11574,11569,false,{"$f":"VALUE(Table2[[#This Row],[Identifier]])","v":96879}]
["96880",true,"3815199035 - Catalyst consisting of tungstosilicic acid hydrate (CAS RN 12027-43-9) impregnated on a support of silicon dioxide in the form of a powder",11575,11569,false,{"$f":"VALUE(Table2[[#This Row],[Identifier]])","v":96880}]
["96881",true,"3815199065 - Catalyst consisting of phosphoric acid chemically bonded to a support of silicon dioxide",11576,11569,false,{"$f":"VALUE(Table2[[#This Row],[Identifier]])","v":96881}]
["96882",true,"3815199070 - Catalyst consisting of organo-metallic compounds of aluminium and zirconium, fixed on a support of silicon dioxide",11577,11569,false,{"$f":"VALUE(Table2[[#This Row],[Identifier]])","v":96882}]
["96883",true,"3815199075 - Catalyst consisting of organo-metallic compounds of aluminium and chromium, fixed on a support of silicon dioxide",11578,11569,false,{"$f":"VALUE(Table2[[#This Row],[Identifier]])","v":96883}]
["96884",true,"3815199080 - Catalyst consisting of organo-metallic compounds of magnesium and titanium, fixed on a support of silicon dioxide, in the form of a suspension in mineral oil",11579,11569,false,{"$f":"VALUE(Table2[[#This Row],[Identifier]])","v":96884}]
["96885",true,"3815199085 - Catalyst consisting of organo-metallic compounds of aluminium, magnesium and titanium, fixed on a support of silicon dioxide, in the form of powder",11580,11569,false,{"$f":"VALUE(Table2[[#This Row],[Identifier]])","v":96885}]
["96886",true,"3815199086 - Catalyst containing titanium tetrachloride supported on magnesium dichloride, for use in the manufacture of polyolefins",11581,11569,false,{"$f":"VALUE(Table2[[#This Row],[Identifier]])","v":96886}]
["96887",true,"3815199090 - Other",11582,11569,false,{"$f":"VALUE(Table2[[#This Row],[Identifier]])","v":96887}]
["96888",true,"3815900000 - Other",11583,11559,false,{"$f":"VALUE(Table2[[#This Row],[Identifier]])","v":96888}]
["96889",true,"3815901000 - Catalyst consisting of ethyltriphenylphosphonium acetate in the form of a solution in methanol",11584,11583,false,{"$f":"VALUE(Table2[[#This Row],[Identifier]])","v":96889}]
["96890",true,"3815909000 - Other",11585,11583,false,{"$f":"VALUE(Table2[[#This Row],[Identifier]])","v":96890}]
["96891",true,"3815909016 - Initiator based on dimethylaminopropyl urea",11586,11585,false,{"$f":"VALUE(Table2[[#This Row],[Identifier]])","v":96891}]
["96893",true,"3815909025 - Catalyst consisting by weight of:\n \n-|30|% or more but not more than 33|% of bis(4-(diphenylsulphonio)phenyl)sulphide bis(hexafluorophosphate) (CAS RN 74227-35-3), and\n \n-|24|% or more but not more than 27|% of diphenyl(4-phenylthio)phenylsuphonium hexafluorophosphate (CAS RN 68156-13-8)\nin propylene carbonate (CAS RN 108-32-7)",11587,11585,false,{"$f":"VALUE(Table2[[#This Row],[Identifier]])","v":96893}]
["96894",true,"3815909030 - Catalyst, consisting of a suspension in mineral oil of: \n-|tetrahydrofuran complexes of magnesium chloride and titanium(III) chloride; and \n \n-|silicon dioxide \n \n-|containing 6,6|% (± 0,6|%) by weight of magnesium, and \n \n-|containing 2,3|% (± 0,2|%) by weight of titanium",11588,11585,false,{"$f":"VALUE(Table2[[#This Row],[Identifier]])","v":96894}]
["96895",true,"3815909035 - Catalyst containing by weight:\n \n-|25|% or more but not more than 27,5|% of bis[4-(diphenylsuphonio)phenyl]sulphide bis(hexafluoroantimonate) (CAS RN 89452-37-9), and\n \n-|20|% or more but not more than 22,5|% of diphenyl(4-phenylthio)phenylsufonium hexafluoroantimonate (CAS RN 71449-78-0)\nin propylene carbonate (CAS RN 108-32-7)",11589,11585,false,{"$f":"VALUE(Table2[[#This Row],[Identifier]])","v":96895}]
["131150",true,"3815909038 - Photoinitiator, containing by weight:\n \n-80 % or more of polyethylene glycol di[β-4-[4-(2-dimethylamino-2-benzyl)butanoylphenyl]piperazine]propionate (CAS RN 886463-10-1),\n \n-not more than 17 % of polyethylene glycol [β-4-[4-(2-dimethylamino-2-benzyl)butanoylphenyl]piperazine]propionate",11590,11585,false,{"$f":"VALUE(Table2[[#This Row],[Identifier]])","v":131150}]
["96896",true,"3815909040 - Catalyst:\n \n-|containing molybdenum oxide and other metal oxides in a silicon dioxide matrix,\n \n-|in the form of hollow cylindrical solids of a length of 4|mm or more but not more than 12|mm\nfor use in the manufacture of acrylic acid",11591,11585,false,{"$f":"VALUE(Table2[[#This Row],[Identifier]])","v":96896}]
["96897",true,"3815909043 - Catalyst in powder form consisting by weight of\n\n-92,50 % (± 2) % titanium dioxide (CAS RN 13463-67-7)\n\n-5 % (± 1) % silicon dioxide (CAS RN 112926-00-8) and\n\n-2,5 % (± 1,5) % sulphur trioxide (CAS RN 7446-11-9)",11592,11585,false,{"$f":"VALUE(Table2[[#This Row],[Identifier]])","v":96897}]
["131151",true,"3815909048 - Photoinitiator containing by weight:\n \n-88 % or more of α-(2-benzoylbenzoyl)-ω-[(2-benzoylbenzoyl)oxy]-poly(oxy-1,2-ethanediyl) (CAS RN 1246194-73-9),\n \n-not more than 12 % of α-(2-benzoylbenzoyl)-ω-hydroxy-poly(oxy-1,2-ethanediyl) (CAS RN 1648797-60-7)",11593,11585,false,{"$f":"VALUE(Table2[[#This Row],[Identifier]])","v":131151}]
["96898",true,"3815909050 - Catalyst containing titanium trichloride, in the form of a suspension in hexane or heptane containing by weight, in the hexane- or heptane-free material, 9|% or more but not more than 30|% of titanium",11594,11585,false,{"$f":"VALUE(Table2[[#This Row],[Identifier]])","v":96898}]
["96900",true,"3815909076 - Catalyst consisting of titanium dioxide and tungsten trioxide",11595,11585,false,{"$f":"VALUE(Table2[[#This Row],[Identifier]])","v":96900}]
["96901",true,"3815909080 - Catalyst consisting predominantly of dinonylnaphthalenedisulphonic acid in the form of a solution in isobutanol",11596,11585,false,{"$f":"VALUE(Table2[[#This Row],[Identifier]])","v":96901}]
["96902",true,"3815909081 - Catalyst, containing by weight 69|% or more but not more than 79|% of (2-hydroxy-1-methylethyl)trimethylammonium 2-ethylhexanoate",11597,11585,false,{"$f":"VALUE(Table2[[#This Row],[Identifier]])","v":96902}]
["96903",true,"3815909085 - Catalyst based on aluminosilicate (zeolite), for the alkylation of aromatic hydrocarbons, for the transalkylation of alkylaromatic hydrocarbons or for the oligomerization of olefins",11598,11585,false,{"$f":"VALUE(Table2[[#This Row],[Identifier]])","v":96903}]
["96904",true,"3815909086 - Catalyst, in the form of rodlets, consisting of an aluminosilicate (zeolite), containing by weight 2|% or more but not more than 3|% of rare-earth metal oxides and less than 1|% of disodium oxide",11599,11585,false,{"$f":"VALUE(Table2[[#This Row],[Identifier]])","v":96904}]
["96905",true,"3815909088 - Catalyst, consisting of titanium tetrachloride and magnesium chloride, containing by weight on an oil- and hexane-free basis:\n \n-|4|% or more but not more than 10|% of titanium and\n \n-|10|% or more but not more than 20|% magnesium",11600,11585,false,{"$f":"VALUE(Table2[[#This Row],[Identifier]])","v":96905}]
["96906",true,"3815909089 - Rhodococcus rhodocrous J1 bacteria, containing enzymes, suspended in a polyacrylamide gel or in water, for use as a catalyst in the production of acrylamide by the hydration of acrylonitrile",11601,11585,false,{"$f":"VALUE(Table2[[#This Row],[Identifier]])","v":96906}]
["96907",true,"3815909090 - Other",11602,11585,false,{"$f":"VALUE(Table2[[#This Row],[Identifier]])","v":96907}]
["96908",true,"3816000000 - Refractory cements, mortars, concretes and similar compositions, including dolomite ramming mix, other than products of heading|3801",11603,11319,false,{"$f":"VALUE(Table2[[#This Row],[Identifier]])","v":96908}]
["133941",true,"3816001000 - Dolomite ramming mix",11604,11603,false,{"$f":"VALUE(Table2[[#This Row],[Identifier]])","v":133941}]
["133942",true,"3816009000 - Other",11605,11603,false,{"$f":"VALUE(Table2[[#This Row],[Identifier]])","v":133942}]
["110753",false,"3817000000 - Mixed alkylbenzenes and mixed alkylnaphthalenes, other than those of heading|2707|or 2902",11606,11319,false,{"$f":"VALUE(Table2[[#This Row],[Identifier]])","v":110753}]
["96909",true,"3817005000 - Linear alkylbenzenes",11607,11606,false,{"$f":"VALUE(Table2[[#This Row],[Identifier]])","v":96909}]
["96910",true,"3817005010 - Mixture of alkylbenzenes (C14-26) containing by weight:\n \n-|35|% or more but not more than 60|% of eicosylbenzene,\n \n-|25|% or more but not more than 50|% of docosylbenzene,\n \n-|5|% or more but not more than 25|% of tetracosylbenzene",11608,11607,false,{"$f":"VALUE(Table2[[#This Row],[Identifier]])","v":96910}]
["96911",true,"3817005090 - Other",11609,11607,false,{"$f":"VALUE(Table2[[#This Row],[Identifier]])","v":96911}]
["96912",true,"3817008000 - Other",11610,11606,false,{"$f":"VALUE(Table2[[#This Row],[Identifier]])","v":96912}]
["96913",true,"3817008010 - Mixture of alkylnaphthalenes, containing by weight:\n \n-|88|% or more but not more than 98|% of hexadecylnaphthalene\n \n-|2|% or more but not more than 12|% of dihexadecylnaphthalene",11611,11610,false,{"$f":"VALUE(Table2[[#This Row],[Identifier]])","v":96913}]
["96914",true,"3817008020 - Mixture of branched alkyl benzenes mainly containing dodecyl benzenes",11612,11610,false,{"$f":"VALUE(Table2[[#This Row],[Identifier]])","v":96914}]
["96915",true,"3817008030 - Mixed alkylnaphthalenes, modified with aliphatic chains, of a chain-length varying from 12|to 56|carbon atoms",11613,11610,false,{"$f":"VALUE(Table2[[#This Row],[Identifier]])","v":96915}]
["96916",true,"3817008090 - Other",11614,11610,false,{"$f":"VALUE(Table2[[#This Row],[Identifier]])","v":96916}]
["110754",false,"3818000000 - Chemical elements doped for use in electronics, in the form of discs, wafers or similar forms; chemical compounds doped for use in electronics",11615,11319,false,{"$f":"VALUE(Table2[[#This Row],[Identifier]])","v":110754}]
["96917",true,"3818001000 - Doped silicon",11616,11615,false,{"$f":"VALUE(Table2[[#This Row],[Identifier]])","v":96917}]
["110755",false,"3818001011 - Wafers of the type used in crystalline silicon photovoltaic modules or panels with a thickness of the wafers not exceeding 400 μm",11617,11616,false,{"$f":"VALUE(Table2[[#This Row],[Identifier]])","v":110755}]
["96918",true,"3818001011 - Consigned from the People's Republic of China, unless the products are in transit in the sense of Article V GATT (http://www.wto.org/english/docs_e/legal_e/gatt47_01_e.htm)",11618,11617,false,{"$f":"VALUE(Table2[[#This Row],[Identifier]])","v":96918}]
["96919",true,"3818001019 - Other",11619,11617,false,{"$f":"VALUE(Table2[[#This Row],[Identifier]])","v":96919}]
["96920",true,"3818001090 - Other",11620,11616,false,{"$f":"VALUE(Table2[[#This Row],[Identifier]])","v":96920}]
["96921",true,"3818009000 - Other",11621,11615,false,{"$f":"VALUE(Table2[[#This Row],[Identifier]])","v":96921}]
["96922",true,"3819000000 - Hydraulic brake fluids and other prepared liquids for hydraulic transmission, not containing or containing less than 70|% by weight of petroleum oils or oils obtained from bituminous minerals",11622,11319,false,{"$f":"VALUE(Table2[[#This Row],[Identifier]])","v":96922}]
["96923",true,"3819000010 - Based on silicate or phosphoric esters, for use in certain types of aircraft",11623,11622,false,{"$f":"VALUE(Table2[[#This Row],[Identifier]])","v":96923}]
["96924",true,"3819000020 - Fire resistant hydraulic fluid based on phosphate ester",11624,11622,false,{"$f":"VALUE(Table2[[#This Row],[Identifier]])","v":96924}]
["96925",true,"3819000090 - Other",11625,11622,false,{"$f":"VALUE(Table2[[#This Row],[Identifier]])","v":96925}]
["96926",true,"3820000000 - Anti-freezing preparations and prepared de-icing fluids",11626,11319,false,{"$f":"VALUE(Table2[[#This Row],[Identifier]])","v":96926}]
["96927",true,"3820000010 - Ethyl alcohol produced from agricultural products (as listed in Annex I to the Treaty on the Functioning of the European Union), denatured or undenatured, excluding products with a water content of more than 0,3|% (m/m) measured according to the standard EN 15376, but including ethyl alcohol produced from agricultural products (as listed in Annex I to the Treaty on the Functioning of the European Union) contained in blends with gasoline with an ethyl alcohol content of more than 10|% (v/v)",11627,11626,false,{"$f":"VALUE(Table2[[#This Row],[Identifier]])","v":96927}]
["96928",true,"3820000090 - Other",11628,11626,false,{"$f":"VALUE(Table2[[#This Row],[Identifier]])","v":96928}]
["96929",true,"3821000000 - Prepared culture media for the development or maintenance of micro-organisms (including viruses and the like) or of plant, human or animal cells",11629,11319,false,{"$f":"VALUE(Table2[[#This Row],[Identifier]])","v":96929}]
["96930",true,"3822000000 - Diagnostic or laboratory reagents on a backing, prepared diagnostic or laboratory reagents whether or not on a backing, whether or not put up in the form of kits, other than those of heading|3006; certified reference materials",11630,11319,false,{"$f":"VALUE(Table2[[#This Row],[Identifier]])","v":96930}]
["133943",false,"3822110000 - Diagnostic or laboratory reagents on a backing, prepared diagnostic or laboratory reagents whether or not on a backing, whether or not put up in the form of kits",11631,11630,false,{"$f":"VALUE(Table2[[#This Row],[Identifier]])","v":133943}]
["133944",true,"3822110000 - For malaria",11632,11631,false,{"$f":"VALUE(Table2[[#This Row],[Identifier]])","v":133944}]
["133945",true,"3822120000 - For Zika and other diseases transmitted by mosquitoes of the genus Aedes",11633,11631,false,{"$f":"VALUE(Table2[[#This Row],[Identifier]])","v":133945}]
["133946",true,"3822130000 - For blood-grouping",11634,11631,false,{"$f":"VALUE(Table2[[#This Row],[Identifier]])","v":133946}]
["133947",true,"3822190000 - Other",11635,11631,false,{"$f":"VALUE(Table2[[#This Row],[Identifier]])","v":133947}]
["133948",true,"3822190010 - For SARS-CoV virus species",11636,11635,false,{"$f":"VALUE(Table2[[#This Row],[Identifier]])","v":133948}]
["133949",true,"3822190090 - Other",11637,11635,false,{"$f":"VALUE(Table2[[#This Row],[Identifier]])","v":133949}]
["133950",true,"3822900000 - Other",11638,11630,false,{"$f":"VALUE(Table2[[#This Row],[Identifier]])","v":133950}]
["110756",false,"3823000000 - Industrial monocarboxylic fatty acids; acid oils from refining; industrial fatty alcohols",11639,11319,false,{"$f":"VALUE(Table2[[#This Row],[Identifier]])","v":110756}]
["110757",false,"3823110000 - Industrial monocarboxylic fatty acids; acid oils from refining",11640,11639,false,{"$f":"VALUE(Table2[[#This Row],[Identifier]])","v":110757}]
["96931",true,"3823110000 - Stearic acid",11641,11640,false,{"$f":"VALUE(Table2[[#This Row],[Identifier]])","v":96931}]
["133951",false,"3823110020 - Of a kind used for animal feed",11642,11641,false,{"$f":"VALUE(Table2[[#This Row],[Identifier]])","v":133951}]
["133952",true,"3823110020 - Fatty acids with a carbon chain length of C6, C8, C10, C12, C14, C16 or C18 with an iodine value below 105g/100g and with a degree of split (DoS) of at least 97%, including single fatty acids (also referred to as ‘pure cut’) and blends containing a combination of two or more carbon chain length",11643,11642,false,{"$f":"VALUE(Table2[[#This Row],[Identifier]])","v":133952}]
["133953",true,"3823110050 - Other",11644,11642,false,{"$f":"VALUE(Table2[[#This Row],[Identifier]])","v":133953}]
["133954",false,"3823110070 - Other",11645,11641,false,{"$f":"VALUE(Table2[[#This Row],[Identifier]])","v":133954}]
["133955",true,"3823110070 - Fatty acids with a carbon chain length of C6, C8, C10, C12, C14, C16 or C18 with an iodine value below 105g/100g and with a degree of split (DoS) of at least 97%, including single fatty acids (also referred to as ‘pure cut’) and blends containing a combination of two or more carbon chain length",11646,11645,false,{"$f":"VALUE(Table2[[#This Row],[Identifier]])","v":133955}]
["133956",true,"3823110080 - Other",11647,11645,false,{"$f":"VALUE(Table2[[#This Row],[Identifier]])","v":133956}]
["96934",true,"3823120000 - Oleic acid",11648,11640,false,{"$f":"VALUE(Table2[[#This Row],[Identifier]])","v":96934}]
["133957",false,"3823120020 - Of a kind used for animal feed",11649,11648,false,{"$f":"VALUE(Table2[[#This Row],[Identifier]])","v":133957}]
["133958",true,"3823120020 - Fatty acids with a carbon chain length of C6, C8, C10, C12, C14, C16 or C18 with an iodine value below 105g/100g and with a degree of split (DoS) of at least 97%, including single fatty acids (also referred to as ‘pure cut’) and blends containing a combination of two or more carbon chain length",11650,11649,false,{"$f":"VALUE(Table2[[#This Row],[Identifier]])","v":133958}]
["133959",true,"3823120050 - Other",11651,11649,false,{"$f":"VALUE(Table2[[#This Row],[Identifier]])","v":133959}]
["133960",false,"3823120070 - Other",11652,11648,false,{"$f":"VALUE(Table2[[#This Row],[Identifier]])","v":133960}]
["133961",true,"3823120070 - Fatty acids with a carbon chain length of C6, C8, C10, C12, C14, C16 or C18 with an iodine value below 105g/100g and with a degree of split (DoS) of at least 97%, including single fatty acids (also referred to as ‘pure cut’) and blends containing a combination of two or more carbon chain length",11653,11652,false,{"$f":"VALUE(Table2[[#This Row],[Identifier]])","v":133961}]
["133962",true,"3823120080 - Other",11654,11652,false,{"$f":"VALUE(Table2[[#This Row],[Identifier]])","v":133962}]
["96937",true,"3823130000 - Tall oil fatty acids",11655,11640,false,{"$f":"VALUE(Table2[[#This Row],[Identifier]])","v":96937}]
["96938",true,"3823130010 - Of a kind used for animal feed",11656,11655,false,{"$f":"VALUE(Table2[[#This Row],[Identifier]])","v":96938}]
["96939",true,"3823130090 - Other",11657,11655,false,{"$f":"VALUE(Table2[[#This Row],[Identifier]])","v":96939}]
["96940",true,"3823190000 - Other",11658,11640,false,{"$f":"VALUE(Table2[[#This Row],[Identifier]])","v":96940}]
["96941",true,"3823191000 - Distilled fatty acids",11659,11658,false,{"$f":"VALUE(Table2[[#This Row],[Identifier]])","v":96941}]
["118928",true,"3823191020 - 12-Hydroxyoctadecanoic acid (CAS RN 106-14-9) for use in the manufacture of polyglycerin-poly-12-hydroxyoctadecanoic acid esters",11660,11659,false,{"$f":"VALUE(Table2[[#This Row],[Identifier]])","v":118928}]
["133963",false,"3823191030 - Of a kind used for animal feed",11661,11659,false,{"$f":"VALUE(Table2[[#This Row],[Identifier]])","v":133963}]
["133964",true,"3823191030 - Fatty acids with a carbon chain length of C6, C8, C10, C12, C14, C16 or C18 with an iodine value below 105g/100g and with a degree of split (DoS) of at least 97%, including single fatty acids (also referred to as ‘pure cut’) and blends containing a combination of two or more carbon chain length",11662,11661,false,{"$f":"VALUE(Table2[[#This Row],[Identifier]])","v":133964}]
["133965",true,"3823191050 - Other",11663,11661,false,{"$f":"VALUE(Table2[[#This Row],[Identifier]])","v":133965}]
["133966",false,"3823191070 - Other",11664,11659,false,{"$f":"VALUE(Table2[[#This Row],[Identifier]])","v":133966}]
["133967",true,"3823191070 - Fatty acids with a carbon chain length of C6, C8, C10, C12, C14, C16 or C18 with an iodine value below 105g/100g and with a degree of split (DoS) of at least 97%, including single fatty acids (also referred to as ‘pure cut’) and blends containing a combination of two or more carbon chain length",11665,11664,false,{"$f":"VALUE(Table2[[#This Row],[Identifier]])","v":133967}]
["133968",true,"3823191080 - Other",11666,11664,false,{"$f":"VALUE(Table2[[#This Row],[Identifier]])","v":133968}]
["96944",true,"3823193000 - Fatty acid distillate",11667,11658,false,{"$f":"VALUE(Table2[[#This Row],[Identifier]])","v":96944}]
["110758",false,"3823193020 - Palm fatty acid distillate, whether or not hydrogenated, with free fatty acid content|80|% or more for use in the manufacture of",11668,11667,false,{"$f":"VALUE(Table2[[#This Row],[Identifier]])","v":110758}]
["96945",true,"3823193020 - industrial monocarboxylic fatty acids of heading 3823,\n \nstearic acid of heading 3823,\n \nstearic acid of heading 2915,\n \npalmitic acid of heading 2915",11669,11668,false,{"$f":"VALUE(Table2[[#This Row],[Identifier]])","v":96945}]
["96946",true,"3823193030 - animal feed preparations of subheading 2309",11670,11668,false,{"$f":"VALUE(Table2[[#This Row],[Identifier]])","v":96946}]
["110759",false,"3823193080 - Other",11671,11667,false,{"$f":"VALUE(Table2[[#This Row],[Identifier]])","v":110759}]
["96947",true,"3823193080 - Of a kind used for animal feed",11672,11671,false,{"$f":"VALUE(Table2[[#This Row],[Identifier]])","v":96947}]
["96948",true,"3823193089 - Other",11673,11671,false,{"$f":"VALUE(Table2[[#This Row],[Identifier]])","v":96948}]
["96949",true,"3823199000 - Other",11674,11658,false,{"$f":"VALUE(Table2[[#This Row],[Identifier]])","v":96949}]
["110760",false,"3823199020 - Palm acid oils from refining for use in the manufacture of",11675,11674,false,{"$f":"VALUE(Table2[[#This Row],[Identifier]])","v":110760}]
["96950",true,"3823199020 - industrial monocarboxylic fatty acids of heading 3823,\n \nstearic acid of heading 3823,\n \nstearic acid of heading 2915,\n \npalmitic acid of heading 2915",11676,11675,false,{"$f":"VALUE(Table2[[#This Row],[Identifier]])","v":96950}]
["96951",true,"3823199030 - animal feed preparations of subheading 2309",11677,11675,false,{"$f":"VALUE(Table2[[#This Row],[Identifier]])","v":96951}]
["133969",false,"3823199070 - Other",11678,11674,false,{"$f":"VALUE(Table2[[#This Row],[Identifier]])","v":133969}]
["133970",false,"3823199070 - Of a kind used for animal feed",11679,11678,false,{"$f":"VALUE(Table2[[#This Row],[Identifier]])","v":133970}]
["133971",true,"3823199070 - Fatty acids with a carbon chain length of C6, C8, C10, C12, C14, C16 or C18 with an iodine value below 105g/100g, including single fatty acids (also referred to as ‘pure cut’) and blends containing a combination of two or more carbon chain lengths",11680,11679,false,{"$f":"VALUE(Table2[[#This Row],[Identifier]])","v":133971}]
["133972",true,"3823199075 - Other",11681,11679,false,{"$f":"VALUE(Table2[[#This Row],[Identifier]])","v":133972}]
["133973",false,"3823199095 - Other",11682,11678,false,{"$f":"VALUE(Table2[[#This Row],[Identifier]])","v":133973}]
["133974",true,"3823199095 - Fatty acids with a carbon chain length of C6, C8, C10, C12, C14, C16 or C18 with an iodine value below 105g/100g, including single fatty acids (also referred to as ‘pure cut’) and blends containing a combination of two or more carbon chain lengths",11683,11682,false,{"$f":"VALUE(Table2[[#This Row],[Identifier]])","v":133974}]
["133975",true,"3823199098 - Other",11684,11682,false,{"$f":"VALUE(Table2[[#This Row],[Identifier]])","v":133975}]
["96954",true,"3823700000 - Industrial fatty alcohols",11685,11639,false,{"$f":"VALUE(Table2[[#This Row],[Identifier]])","v":96954}]
["96955",true,"3823700010 - Of a kind used for animal feed",11686,11685,false,{"$f":"VALUE(Table2[[#This Row],[Identifier]])","v":96955}]
["96956",true,"3823700090 - Other",11687,11685,false,{"$f":"VALUE(Table2[[#This Row],[Identifier]])","v":96956}]
["110762",false,"3824000000 - Prepared binders for foundry moulds or cores; chemical products and preparations of the chemical or allied industries (including those consisting of mixtures of natural products), not elsewhere specified or included",11688,11319,false,{"$f":"VALUE(Table2[[#This Row],[Identifier]])","v":110762}]
["96957",true,"3824100000 - Prepared binders for foundry moulds or cores",11689,11688,false,{"$f":"VALUE(Table2[[#This Row],[Identifier]])","v":96957}]
["96958",true,"3824100010 - Based on synthetic resins",11690,11689,false,{"$f":"VALUE(Table2[[#This Row],[Identifier]])","v":96958}]
["96959",true,"3824100090 - Other",11691,11689,false,{"$f":"VALUE(Table2[[#This Row],[Identifier]])","v":96959}]
["96960",true,"3824300000 - Non-agglomerated metal carbides mixed together or with metallic binders",11692,11688,false,{"$f":"VALUE(Table2[[#This Row],[Identifier]])","v":96960}]
["96961",true,"3824300010 - Tungsten carbide simply mixed with metallic powder",11693,11692,false,{"$f":"VALUE(Table2[[#This Row],[Identifier]])","v":96961}]
["96962",true,"3824300090 - Other",11694,11692,false,{"$f":"VALUE(Table2[[#This Row],[Identifier]])","v":96962}]
["96963",true,"3824400000 - Prepared additives for cements, mortars or concretes",11695,11688,false,{"$f":"VALUE(Table2[[#This Row],[Identifier]])","v":96963}]
["96964",true,"3824500000 - Non-refractory mortars and concretes",11696,11688,false,{"$f":"VALUE(Table2[[#This Row],[Identifier]])","v":96964}]
["96965",true,"3824501000 - Concrete ready to pour",11697,11696,false,{"$f":"VALUE(Table2[[#This Row],[Identifier]])","v":96965}]
["96966",true,"3824509000 - Other",11698,11696,false,{"$f":"VALUE(Table2[[#This Row],[Identifier]])","v":96966}]
["96967",true,"3824600000 - Sorbitol other than that of subheading|2905|44",11699,11688,false,{"$f":"VALUE(Table2[[#This Row],[Identifier]])","v":96967}]
["110763",false,"3824601100 - In aqueous solution",11700,11699,false,{"$f":"VALUE(Table2[[#This Row],[Identifier]])","v":110763}]
["96968",true,"3824601100 - Containing 2|% or less by weight of D-mannitol, calculated on the D-glucitol content",11701,11700,false,{"$f":"VALUE(Table2[[#This Row],[Identifier]])","v":96968}]
["96969",true,"3824601900 - Other",11702,11700,false,{"$f":"VALUE(Table2[[#This Row],[Identifier]])","v":96969}]
["110764",false,"3824609100 - Other",11703,11699,false,{"$f":"VALUE(Table2[[#This Row],[Identifier]])","v":110764}]
["96970",true,"3824609100 - Containing 2|% or less by weight of D-mannitol, calculated on the D-glucitol content",11704,11703,false,{"$f":"VALUE(Table2[[#This Row],[Identifier]])","v":96970}]
["96971",true,"3824609900 - Other",11705,11703,false,{"$f":"VALUE(Table2[[#This Row],[Identifier]])","v":96971}]
["110766",false,"3824810000 - Goods specified in subheading note 3|to this chapter",11706,11688,false,{"$f":"VALUE(Table2[[#This Row],[Identifier]])","v":110766}]
["96989",true,"3824810000 - Containing oxirane (ethylene oxide)",11707,11706,false,{"$f":"VALUE(Table2[[#This Row],[Identifier]])","v":96989}]
["96990",true,"3824820000 - Containing polychlorinated biphenyls (PCBs), polychlorinated terphenyls (PCTs) or polybrominated biphenyls (PBBs)",11708,11706,false,{"$f":"VALUE(Table2[[#This Row],[Identifier]])","v":96990}]
["96991",true,"3824830000 - Containing tris(2,3-dibromopropyl) phosphate",11709,11706,false,{"$f":"VALUE(Table2[[#This Row],[Identifier]])","v":96991}]
["96992",true,"3824840000 - Containing aldrin (ISO), camphechlor (ISO) (toxaphene), chlordane (ISO), chlordecone (ISO), DDT (ISO) (clofenotane (INN), 1,1,1-trichloro-2,2-bis(p-chlorophenyl)ethane), dieldrin (ISO, INN), endosulfan (ISO), endrin (ISO), heptachlor (ISO) or mirex (ISO)",11710,11706,false,{"$f":"VALUE(Table2[[#This Row],[Identifier]])","v":96992}]
["96993",true,"3824850000 - Containing 1,2,3,4,5,6-hexachlorocyclohexane (HCH (ISO)), including lindane (ISO, INN)",11711,11706,false,{"$f":"VALUE(Table2[[#This Row],[Identifier]])","v":96993}]
["96994",true,"3824860000 - Containing pentachlorobenzene (ISO) or hexachlorobenzene (ISO)",11712,11706,false,{"$f":"VALUE(Table2[[#This Row],[Identifier]])","v":96994}]
["96995",true,"3824870000 - Containing perfluorooctane sulphonic acid, its salts, perfluorooctane sulphonamides, or perfluorooctane sulphonyl fluoride",11713,11706,false,{"$f":"VALUE(Table2[[#This Row],[Identifier]])","v":96995}]
["96996",true,"3824880000 - Containing tetra-, penta-, hexa-, hepta- or octabromodiphenyl ethers",11714,11706,false,{"$f":"VALUE(Table2[[#This Row],[Identifier]])","v":96996}]
["133976",true,"3824890000 - Containing short-chain chlorinated paraffins",11715,11706,false,{"$f":"VALUE(Table2[[#This Row],[Identifier]])","v":133976}]
["110767",false,"3824910000 - Other",11716,11688,false,{"$f":"VALUE(Table2[[#This Row],[Identifier]])","v":110767}]
["96997",true,"3824910000 - Mixtures and preparations consisting mainly of (5-ethyl-2-methyl-2-oxido-1,3,2-dioxaphosphinan-5-yl)methyl methyl methylphosphonate and bis[(5-ethyl-2-methyl-2-oxido-1,3,2-dioxaphosphinan-5-yl)methyl] methylphosphonate",11717,11716,false,{"$f":"VALUE(Table2[[#This Row],[Identifier]])","v":96997}]
["133977",true,"3824920000 - Polyglycol esters of methylphosphonic acid",11718,11716,false,{"$f":"VALUE(Table2[[#This Row],[Identifier]])","v":133977}]
["96998",true,"3824990000 - Other",11719,11716,false,{"$f":"VALUE(Table2[[#This Row],[Identifier]])","v":96998}]
["96999",true,"3824991000 - Petroleum sulphonates, excluding petroleum sulphonates of alkali metals, of ammonium or of ethanolamines; thiophenated sulphonic acids of oils obtained from bituminous minerals, and their salts",11720,11719,false,{"$f":"VALUE(Table2[[#This Row],[Identifier]])","v":96999}]
["97000",true,"3824991500 - Ion-exchangers",11721,11719,false,{"$f":"VALUE(Table2[[#This Row],[Identifier]])","v":97000}]
["97001",true,"3824991510 - Acid aluminosilicate (artificial zeolite of the Y type) in the sodium form, containing by weight not more than 11|% of sodium evaluated as sodium oxide, in the form of rodlets",11722,11721,false,{"$f":"VALUE(Table2[[#This Row],[Identifier]])","v":97001}]
["97002",true,"3824991590 - Other",11723,11721,false,{"$f":"VALUE(Table2[[#This Row],[Identifier]])","v":97002}]
["97003",true,"3824992000 - Getters for vacuum tubes",11724,11719,false,{"$f":"VALUE(Table2[[#This Row],[Identifier]])","v":97003}]
["97004",true,"3824992500 - Pyrolignites (for example, of calcium); crude calcium tartrate; crude calcium citrate",11725,11719,false,{"$f":"VALUE(Table2[[#This Row],[Identifier]])","v":97004}]
["97005",true,"3824993000 - Naphthenic acids, their water-insoluble salts and their esters",11726,11719,false,{"$f":"VALUE(Table2[[#This Row],[Identifier]])","v":97005}]
["110768",false,"3824994500 - Other",11727,11719,false,{"$f":"VALUE(Table2[[#This Row],[Identifier]])","v":110768}]
["97006",true,"3824994500 - Anti-scaling and similar compounds",11728,11727,false,{"$f":"VALUE(Table2[[#This Row],[Identifier]])","v":97006}]
["97007",true,"3824995000 - Preparations for electroplating",11729,11727,false,{"$f":"VALUE(Table2[[#This Row],[Identifier]])","v":97007}]
["97008",true,"3824995500 - Mixtures of mono-, di- and tri-, fatty acid esters of glycerol (emulsifiers for fats)",11730,11727,false,{"$f":"VALUE(Table2[[#This Row],[Identifier]])","v":97008}]
["110770",false,"3824996100 - Products and preparations for pharmaceutical or surgical uses",11731,11727,false,{"$f":"VALUE(Table2[[#This Row],[Identifier]])","v":110770}]
["97012",true,"3824996100 - Intermediate products of the antibiotics manufacturing process obtained from the fermentation of Streptomyces tenebrarius, whether or not dried, for use in the manufacture of human medicaments of heading|3004",11732,11731,false,{"$f":"VALUE(Table2[[#This Row],[Identifier]])","v":97012}]
["97013",true,"3824996200 - Intermediate products from the manufacture of monensin salts",11733,11731,false,{"$f":"VALUE(Table2[[#This Row],[Identifier]])","v":97013}]
["97014",true,"3824996400 - Other",11734,11731,false,{"$f":"VALUE(Table2[[#This Row],[Identifier]])","v":97014}]
["97015",true,"3824996500 - Auxiliary products for foundries (other than those of subheading|3824|10|00)",11735,11727,false,{"$f":"VALUE(Table2[[#This Row],[Identifier]])","v":97015}]
["97016",true,"3824997000 - Fireproofing, waterproofing and similar protective preparations used in the building industry",11736,11727,false,{"$f":"VALUE(Table2[[#This Row],[Identifier]])","v":97016}]
["110771",false,"3824997500 - Other",11737,11727,false,{"$f":"VALUE(Table2[[#This Row],[Identifier]])","v":110771}]
["97017",true,"3824997500 - Lithium niobate wafer, undoped",11738,11737,false,{"$f":"VALUE(Table2[[#This Row],[Identifier]])","v":97017}]
["97018",true,"3824998000 - Mixture of amines derived from dimerised fatty acids, of an average molecular weight of 520|or more but not exceeding 550",11739,11737,false,{"$f":"VALUE(Table2[[#This Row],[Identifier]])","v":97018}]
["97019",true,"3824998500 - 3-(1-Ethyl-1-methylpropyl)isoxazol-5-ylamine, in the form of a solution in toluene",11740,11737,false,{"$f":"VALUE(Table2[[#This Row],[Identifier]])","v":97019}]
["97020",true,"3824998600 - Mixtures consisting mainly of dimethyl methylphosphonate, oxirane and diphosphorus pentaoxide",11741,11737,false,{"$f":"VALUE(Table2[[#This Row],[Identifier]])","v":97020}]
["110772",false,"3824999200 - Chemical products or preparations, predominantly composed of organic compounds, not elsewhere specified or included",11742,11737,false,{"$f":"VALUE(Table2[[#This Row],[Identifier]])","v":110772}]
["97021",true,"3824999200 - In the form of a liquid at 20|°C",11743,11742,false,{"$f":"VALUE(Table2[[#This Row],[Identifier]])","v":97021}]
["110773",false,"3824999210 - Blends containing by weight more than 20|% of paraffinic gasoil obtained from synthesis and/or hydro-treatment, of non-fossil origin",11744,11743,false,{"$f":"VALUE(Table2[[#This Row],[Identifier]])","v":110773}]
["97022",true,"3824999210 - Consigned from Canada",11745,11744,false,{"$f":"VALUE(Table2[[#This Row],[Identifier]])","v":97022}]
["97023",true,"3824999212 - Other",11746,11744,false,{"$f":"VALUE(Table2[[#This Row],[Identifier]])","v":97023}]
["97024",true,"3824999220 - Blends containing by weight 20|% or less of paraffinic gasoil obtained from synthesis and/or hydro-treatment, of non-fossil origin",11747,11743,false,{"$f":"VALUE(Table2[[#This Row],[Identifier]])","v":97024}]
["133978",true,"3824999221 - Reaction products of 1,3,4-thiadiazolidine-2,5-dithione, formaldehyde and 4-heptylphenol, branched and linear (RP-HP) (with ≥ 0,1% w/w 4-heptylphenol, branched and linear)",11748,11743,false,{"$f":"VALUE(Table2[[#This Row],[Identifier]])","v":133978}]
["133979",true,"3824999222 - Solution containing:\n \n-30 % or more but not more than 40 % by weight of lithium hexafluorophosphate (CAS RN 21324-40-3), and\n \n-60 % or more but not more than 70 % by weight of ethyl methyl carbonate (CAS RN 623-53-0)",11749,11743,false,{"$f":"VALUE(Table2[[#This Row],[Identifier]])","v":133979}]
["97025",true,"3824999223 - Butylphosphato complexes of titanium(IV) (CAS RN 109037-78-7), dissolved in ethanol and propan-2-ol",11750,11743,false,{"$f":"VALUE(Table2[[#This Row],[Identifier]])","v":97025}]
["118958",true,"3824999224 - 4-(1,1,3,3-tetramethylbutyl)phenol, ethoxylated",11751,11743,false,{"$f":"VALUE(Table2[[#This Row],[Identifier]])","v":118958}]
["97030",true,"3824999229 - Preparation containing by weight:\n \n-|85|% or more but not more than 99|% of polyethylene glycol ether of butyl 2-cyano 3-(4-hydroxy-3-methoxyphenyl) acrylate, and\n \n-|1|% or more but not more than 15|% of polyoxyethylene (20) sorbitan trioleate",11752,11743,false,{"$f":"VALUE(Table2[[#This Row],[Identifier]])","v":97030}]
["97032",true,"3824999231 - Liquid crystal mixtures for use in the manufacture of LCD (liquid crystal display) modules",11753,11743,false,{"$f":"VALUE(Table2[[#This Row],[Identifier]])","v":97032}]
["97033",true,"3824999232 - Mixture of divinylbenzene-isomers and ethylvinylbenzene-isomers, containing by weight 56 % or more but not more than 85 % of divinylbenzene (CAS RN 1321-74-0)",11754,11743,false,{"$f":"VALUE(Table2[[#This Row],[Identifier]])","v":97033}]
["97034",true,"3824999233 - Anti-corrosion preparations consisting of salts of dinonylnaphthalenesulphonic acid, either:\n \n-|on a support of mineral wax, whether or not modified chemically, or\n \n-|in the form of a solution in an organic solvent",11755,11743,false,{"$f":"VALUE(Table2[[#This Row],[Identifier]])","v":97034}]
["118959",true,"3824999234 - 4-Nonylphenol, branched and linear, ethoxylated",11756,11743,false,{"$f":"VALUE(Table2[[#This Row],[Identifier]])","v":118959}]
["97035",true,"3824999235 - Preparations containing not less than 92|% but not more than 96,5|% by weight of 1,3:2,4-bis-O-(4-methylbenzylidene)-D-glucitol and also containing carboxylic acid derivatives and an alkyl sulphate",11757,11743,false,{"$f":"VALUE(Table2[[#This Row],[Identifier]])","v":97035}]
["97037",true,"3824999237 - Mixture of acetates of 3-butene-1,2-diol with a content by weight of 65% or more of 3-butene-1,2-diol diacetate (CAS RN 18085-02-4)",11758,11743,false,{"$f":"VALUE(Table2[[#This Row],[Identifier]])","v":97037}]
["118960",true,"3824999238 - Reaction products of phosphoryl trichloride and 2-methyloxirane (CAS RN 1244733-77-4)",11759,11743,false,{"$f":"VALUE(Table2[[#This Row],[Identifier]])","v":118960}]
["97038",true,"3824999239 - Preparations containing not less than 47|% by weight of 1,3:2,4-bis-O-benzylidene-D-glucitol",11760,11743,false,{"$f":"VALUE(Table2[[#This Row],[Identifier]])","v":97038}]
["97039",true,"3824999240 - Solution of 2-chloro-5-(chloromethyl)-pyridine (CAS RN 70258-18-3) in organic diluent",11761,11743,false,{"$f":"VALUE(Table2[[#This Row],[Identifier]])","v":97039}]
["118961",true,"3824999241 - Formaldehyde, oligomeric reaction products with aniline (CAS RN 25214-70-4)",11762,11743,false,{"$f":"VALUE(Table2[[#This Row],[Identifier]])","v":118961}]
["97040",true,"3824999242 - Preparation of |tetrahydro-α-(1-naphthylmethyl)furan-2-propionic acid (CAS RN 25379-26-4)| in toluene",11763,11743,false,{"$f":"VALUE(Table2[[#This Row],[Identifier]])","v":97040}]
["118962",true,"3824999243 - Preparation containing by weight:\n \n-65 % or more, but not more than 95 % of isopropylated triaryl phosphate (CAS RN 68937-41-7) and\n \n-5 % or more, but not more than 35 % of triphenyl phosphate (CAS RN 115-86-6)",11764,11743,false,{"$f":"VALUE(Table2[[#This Row],[Identifier]])","v":118962}]
["97041",true,"3824999245 - Preparation consisting predominantly of γ-butyrolactone and quaternary ammonium salts, for the manufacture of electrolytic capacitors",11765,11743,false,{"$f":"VALUE(Table2[[#This Row],[Identifier]])","v":97041}]
["97044",true,"3824999249 - Preparation based on 2,5,8,11-tetramethyl-6-dodecyn-5,8-diol ethoxylate (CAS RN 169117-72-0)",11766,11743,false,{"$f":"VALUE(Table2[[#This Row],[Identifier]])","v":97044}]
["97046",true,"3824999251 - Mixture containing by weight 40|% or more but not more than 50|% of 2-hydroxyethyl methacrylate and 40|% or more but not more than 50|% of glycerol ester of boric acid",11767,11743,false,{"$f":"VALUE(Table2[[#This Row],[Identifier]])","v":97046}]
["118963",true,"3824999252 - Electrolyte containing:\n \n-5 % or more but not more than 20 % lithium hexafluorophosphate (CAS RN 21324-40-3) or lithium tetrafluoroborate (CAS RN 14283-07-9),\n \n-60 % or more but not more than 90 % of a mixture of ethylene carbonate (CAS RN 96-49-1), dimethyl carbonate (CAS RN 616-38-6 ) and/or ethyl methyl carbonate (CAS RN 623-53-0),\n \n-0,5 % or more but not more than 20 % 1,3,2-dioxathiolane 2,2-dioxide (CAS RN 1072-53-3)\nfor use in the manufacture of motor vehicle batteries",11768,11743,false,{"$f":"VALUE(Table2[[#This Row],[Identifier]])","v":118963}]
["97047",true,"3824999253 - Preparations consisting predominantly of ethylene glycol and:\n \n-|either diethylene glycol, dodecandioic acid and ammonia water,\n \n-|or N,N-dimethylformamide,\n \n-|or γ-butyrolactone,\n \n-|or silicon oxide,\n \n-|or ammonium hydrogen azelate,\n \n-|or ammonium hydrogen azelate and silicon oxide,\n \n-|or dodecandioic acid, ammonia water and silicon oxide,\nfor the manufacture of electrolytic capacitors",11769,11743,false,{"$f":"VALUE(Table2[[#This Row],[Identifier]])","v":97047}]
["97048",true,"3824999254 - Poly(tetramethylene glycol) bis[(9-oxo-9H-thioxanthen-1-yloxy)acetate]|with an average polymer chain length of less than 5|monomer units (CAS RN|813452-37-8)",11770,11743,false,{"$f":"VALUE(Table2[[#This Row],[Identifier]])","v":97048}]
["97049",true,"3824999255 - Additives for paints and coatings, containing:\n \n-|a mixture of esters of phosphoric acid obtained from the reaction of phosphoric anhydride with 4-(1,1-dimethylpropyl) phenol and| copolymers of styrene-allyl alcohol| (CAS RN 84605-27-6), and\n \n-|30|% or more but not more than 35|% by weight of isobutyl alcohol",11771,11743,false,{"$f":"VALUE(Table2[[#This Row],[Identifier]])","v":97049}]
["97050",true,"3824999256 - Poly(tetramethylene glycol) bis[(2-benzoyl-phenoxy)acetate] with an average polymer chain length of less than 5 monomer units",11772,11743,false,{"$f":"VALUE(Table2[[#This Row],[Identifier]])","v":97050}]
["97051",true,"3824999257 - Poly(ethylene glycol) bis(p-dimethyl)aminobenzoate with an average polymer chain length of less than 5 monomer units",11773,11743,false,{"$f":"VALUE(Table2[[#This Row],[Identifier]])","v":97051}]
["97052",true,"3824999259 - Potassium tert-butanolate (CAS RN 865-47-4) in the form of a solution in tetrahydrofuran",11774,11743,false,{"$f":"VALUE(Table2[[#This Row],[Identifier]])","v":97052}]
["97054",true,"3824999261 - 3',4',5'-Trifluorobiphenyl-2-amine, in the form of a solution in toluene containing by weight 80|% or more but not more than 90|% of 3',4',5'-trifluorobiphenyl-2-amine",11775,11743,false,{"$f":"VALUE(Table2[[#This Row],[Identifier]])","v":97054}]
["118964",true,"3824999262 - Solution of 9-borabicyclo[3.3.1]nonane (CAS RN 280-64-8) in tetrahydrofurane (CAS RN 109-99-9), containing by weight 6 % or more 9-borabicyclo[3.3.1]nonane",11776,11743,false,{"$f":"VALUE(Table2[[#This Row],[Identifier]])","v":118964}]
["97055",true,"3824999263 - Polymer consisting of a polycondensate of formaldehyde and naphthalenediol, chemically modified by reaction with an alkyne halide, dissolved in propylene glycol methyl ether acetate",11777,11743,false,{"$f":"VALUE(Table2[[#This Row],[Identifier]])","v":97055}]
["97057",true,"3824999265 - Mixture of primary tert-alkylamines",11778,11743,false,{"$f":"VALUE(Table2[[#This Row],[Identifier]])","v":97057}]
["110774",false,"3824999266 - Ethyl alcohol produced from agricultural products (as listed in Annex I to the Treaty on the Functioning of the European Union), denatured or undenatured, excluding products with a water content of more than 0,3|% (m/m) measured according to the standard EN 15376, but including ethyl alcohol produced from agricultural products (as listed in Annex I to the Treaty on the Functioning of the European Union) contained in blends with gasoline with an ethyl alcohol content of more than 10|% (v/v)",11779,11743,false,{"$f":"VALUE(Table2[[#This Row],[Identifier]])","v":110774}]
["97058",true,"3824999266 - For use as fuel",11780,11779,false,{"$f":"VALUE(Table2[[#This Row],[Identifier]])","v":97058}]
["97059",true,"3824999267 - For other uses",11781,11779,false,{"$f":"VALUE(Table2[[#This Row],[Identifier]])","v":97059}]
["97060",true,"3824999268 - Preparation containing by weight:\n \n-|20|% (±1|%) ((3-(sec-butyl)-4-(decyloxy)phenyl)methanetriyl) Tribenzene (CAS RN 1404190-37-9),\nDissolved in:\n \n-|10|% (± 5|%) 2-sec-Butylphenol (CAS RN 89-72-5)\n \n-|64|%( ±7|%) Solvent naphtha (petroleum), heavy aromatic (CAS RN 64742-94-5) and\n \n-|6|% (± 1.0|%) Naphthalene (CAS RN 91-20-3)",11782,11743,false,{"$f":"VALUE(Table2[[#This Row],[Identifier]])","v":97060}]
["97061",true,"3824999269 - Preparation containing by weight:\n-\t80|% or more but not more than 92|% of Bisphenol-A bis(diphenyl phosphate) (CAS RN 5945-33-5)\n-\t7|% or more but not more than 20|% oligomers of Bisphenol-A bis(diphenyl phosphate) and\n-\tnot more than 1|% triphenyl phosphate (CAS RN 115-86-6)",11783,11743,false,{"$f":"VALUE(Table2[[#This Row],[Identifier]])","v":97061}]
["97062",true,"3824999270 - Mixture of 80 % (± 10 %) of 1-[2-(2-aminobutoxy)ethoxy]but-2-ylamine and 20 % (± 10 %) of 1-({[2-(2-aminobutoxy)ethoxy]methyl} propoxy)but-2-ylamine",11784,11743,false,{"$f":"VALUE(Table2[[#This Row],[Identifier]])","v":97062}]
["97063",true,"3824999272 - N-(2-phenylethyl)-1,3-benzenedimethanamine derivatives (CAS RN 404362-22-7)",11785,11743,false,{"$f":"VALUE(Table2[[#This Row],[Identifier]])","v":97063}]
["97064",true,"3824999276 - Preparation containing:\n \n-|74|% or more but not more than 90|% by weight of (S)-α-hydroxy-3-phenoxy-benzeneacetonitrile (CAS RN 61826-76-4) and\n \n-|10|% or more but not more than 26|% by weight of toluene (CAS RN 108-88-3)",11786,11743,false,{"$f":"VALUE(Table2[[#This Row],[Identifier]])","v":97064}]
["97065",true,"3824999277 - Preparation containing by weight:\n- 55% or more but not more than 78% of dimethyl gluterate (CAS RN 1119-40-0),\n- 10% or more but not more than 30% of dimethyl adipate (CAS RN 627-93-0), and\n- not more than 35% of dimethyl succinate (CAS RN 106-65-0)",11787,11743,false,{"$f":"VALUE(Table2[[#This Row],[Identifier]])","v":97065}]
["97068",true,"3824999282 - T-butylchloride dimethylsilane (CAS RN 18162-48-6) solution in toluene",11788,11743,false,{"$f":"VALUE(Table2[[#This Row],[Identifier]])","v":97068}]
["97069",true,"3824999284 - Preparation consisting by weight of 83|% or more of 3a,4,7,7a-tetrahydro-4,7-methanoindene (dicyclopentadiene), a synthetic rubber, whether or not containing by weight 7|% or more of tricyclopentadiene, and:\n \n-|either an aluminium-alkyl compound,\n \n-|or an organic complex of tungsten\n \n-|or an organic complex of molybdenum",11789,11743,false,{"$f":"VALUE(Table2[[#This Row],[Identifier]])","v":97069}]
["97070",true,"3824999285 - Mixture of bis [3-(triethoxysilyl)propyl]sulphides (CAS RN 211519-85-6)",11790,11743,false,{"$f":"VALUE(Table2[[#This Row],[Identifier]])","v":97070}]
["97072",true,"3824999288 - 2,4,7,9-Tetramethyldec-5-yne-4,7-diol, hydroxyethylated (CAS RN 9014-85-1)",11791,11743,false,{"$f":"VALUE(Table2[[#This Row],[Identifier]])","v":97072}]
["97073",true,"3824999289 - Mixture of tertiary alkyldimethyl amines containing by weight:\n- 60|% or more but not more than 80|% of dodecyldimethylamine (CAS RN 112-18-5), and\n- 20|% or more but not more than 30|% of dimethyl(tetradecyl)amine (CAS RN 112-75-4)",11792,11743,false,{"$f":"VALUE(Table2[[#This Row],[Identifier]])","v":97073}]
["118965",true,"3824999290 - 1,2-benzenedicarboxylic acid, di-C6-10-alkyl esters  (CAS RN 68515-51-5)",11793,11743,false,{"$f":"VALUE(Table2[[#This Row],[Identifier]])","v":118965}]
["118966",true,"3824999291 - 1,2-benzenedicarboxylic acid, mixed decyl and hexyl and octyl diesters with ≥ 0,3% of dihexyl phthalate  (CAS RN 68648-93-1)",11794,11743,false,{"$f":"VALUE(Table2[[#This Row],[Identifier]])","v":118966}]
["131154",true,"3824999292 - Solution consisting of:\n \n- 50 (± 2) % by weight sodium mentholate (CAS RN 19321-38-1), and\n \n- 50 (± 2) % by weight light aliphatic solvent naphtha (petroleum) (CAS RN 64742-89-8)",11795,11743,false,{"$f":"VALUE(Table2[[#This Row],[Identifier]])","v":131154}]
["131155",true,"3824999293 - Solution of not more than 15 % by weight of lithium hexafluorophosphate (CAS RN 21324-40-3) in a mixture of ethylene carbonate (CAS RN 96-49-1), dimethyl carbonate (CAS RN 616-38-6) and ethyl methyl carbonate (CAS RN 623-53-0), contains organic carbonate derivatives as additives",11796,11743,false,{"$f":"VALUE(Table2[[#This Row],[Identifier]])","v":131155}]
["133980",true,"3824999294 - ({[2-(trifluoromethyl)phenyl]carbonyl}amino)methyl acetate (CAS RN 895525-72-1) with a content of at least 45 % by weight dissolved in N,N-dimethylacetamide (CAS RN 127-19-5)",11797,11743,false,{"$f":"VALUE(Table2[[#This Row],[Identifier]])","v":133980}]
["133981",true,"3824999295 - Solution of methyl cis-1-{[(2,5-dimethylphenyl)acetyl]amino}-4-methoxycyclohexanecarboxylate (CAS RN 203313-47-7) in N,N-dimethylacetamide (CAS RN 127-19-5), containing by weight 25 % or more but not more than 45 % of the carboxylate",11798,11743,false,{"$f":"VALUE(Table2[[#This Row],[Identifier]])","v":133981}]
["118967",true,"3824999298 - Monosodium glutamate in mixture or in solution, containing by dry weight 50 % or more of monosodium glutamate",11799,11743,false,{"$f":"VALUE(Table2[[#This Row],[Identifier]])","v":118967}]
["97074",true,"3824999299 - Other",11800,11743,false,{"$f":"VALUE(Table2[[#This Row],[Identifier]])","v":97074}]
["97075",true,"3824999300 - Other",11801,11742,false,{"$f":"VALUE(Table2[[#This Row],[Identifier]])","v":97075}]
["97076",true,"3824999330 - Powder Mixture containing by weight:\n \n-|85|% or more of zinc diacrylate (CAS|RN|14643-87-9),\n \n-|not more than 5|% of 2,6-di-tert-butyl-alpha-dimethylamino-p-cresol (CAS|RN|88-27-7), and\n \n-|not more than 10|% of zinc stearate (CAS|RN|557-05-1)",11802,11801,false,{"$f":"VALUE(Table2[[#This Row],[Identifier]])","v":97076}]
["97077",true,"3824999335 - Paraffin with a level of chlorination of 70 % or more (CAS RN 63449-39-8)",11803,11801,false,{"$f":"VALUE(Table2[[#This Row],[Identifier]])","v":97077}]
["97079",true,"3824999340 - Anti-corrosion preparations consisting of salts of dinonylnaphthalenesulphonic acid, either:\n \n-|on a support of mineral wax, whether or not modified chemically, or\n \n-|in the form of a solution in an organic solvent",11804,11801,false,{"$f":"VALUE(Table2[[#This Row],[Identifier]])","v":97079}]
["97080",true,"3824999342 - Mixture of bis{4-(3-(3-phenoxycarbonylamino)tolyl)ureido}phenylsulphone, diphenyltoluene-2,4-dicarbamate and 1-[4-(4-aminobenzenesulphonyl)-phenyl]-3-(3-phenoxycarbonylamino-tolyl)-urea",11805,11801,false,{"$f":"VALUE(Table2[[#This Row],[Identifier]])","v":97080}]
["97082",true,"3824999345 - Sodium hydrogen 3-aminonaphthalene-1,5-disulphonate (CAS RN 4681-22-5) containing by weight:\n \n-|not more than 20|% of disodium sulphate, and\n \n-|not more than 10|% of sodium chloride",11806,11801,false,{"$f":"VALUE(Table2[[#This Row],[Identifier]])","v":97082}]
["118968",true,"3824999348 - Nonhalogenated flame retardant containing by weight:\n \n-50 % or more, but not more than 65 % of piperazine pyrophosphate (CAS RN 66034-17-1),\n \n-35 % or more, but not more than 45 % of a phosphoric acid derivative and\n \n-not more than 6 % of zinc oxide (CAS RN 1314-13-2)",11807,11801,false,{"$f":"VALUE(Table2[[#This Row],[Identifier]])","v":118968}]
["131156",true,"3824999351 - Tris(hydroxymethyl)phosphine oxide (CAS RN 1067-12-5) with a purity by weight of 85 % or more",11808,11801,false,{"$f":"VALUE(Table2[[#This Row],[Identifier]])","v":131156}]
["97084",true,"3824999353 - Zinc dimethacrylate (CAS RN 13189-00-9), containing not more than 2,5|% by weight of 2,6-di-tert-butyl-alpha-dimethyl amino-p-cresol (CAS RN 88-27-7), in the form of powder",11809,11801,false,{"$f":"VALUE(Table2[[#This Row],[Identifier]])","v":97084}]
["97086",true,"3824999360 - Mixture of phytosterols containing by weight:\n-\t35% or more but not more than 88% sitosterols,\n-\t20% or more but not more than 63% campesterols,\n-\t14% or more but not more than 38% stigmasterols,\n-\tnot more than 13% brassicasterols,\n-\tnot more than 10% other stanols, and\n-\tnot more than 10% other sterols",11810,11801,false,{"$f":"VALUE(Table2[[#This Row],[Identifier]])","v":97086}]
["97087",true,"3824999363 - Mixture of phytosterols, not in the form of powder, containing by weight:\n \n-|75|% or more of sterols,\n \n-|not more than 25|% of stanols,\nfor use in the manufacture of stanols/sterols or stanol/sterol esters",11811,11801,false,{"$f":"VALUE(Table2[[#This Row],[Identifier]])","v":97087}]
["97088",true,"3824999365 - Reaction mass of 1,1'-(isopropylidene)bis[3,5-dibromo-4-(2,3-dibromo-2-methylpropoxy)benzene] (CAS RN 97416-84-7) and 1,3-dibromo-2-(2,3-dibromo-2-methylpropoxy)-5-{2-[3,5-dibromo-4-(2,3,3-tribromo-2-methylpropoxy)phenyl]propan-2-yl}benzene",11812,11801,false,{"$f":"VALUE(Table2[[#This Row],[Identifier]])","v":97088}]
["97089",true,"3824999367 - Mixture of phytosterols, in the form of powder, containing by weight:\n- 75% or more of sterols, \n- not more than 25% of stanols \nfor use in the manufacture of stanols/sterols or stanol/sterol esters",11813,11801,false,{"$f":"VALUE(Table2[[#This Row],[Identifier]])","v":97089}]
["97090",true,"3824999370 - Oligomeric reaction product, consisting of bis(4-hydroxyphenyl) sulfone and 1,1'-oxybis(2-chloroethane)",11814,11801,false,{"$f":"VALUE(Table2[[#This Row],[Identifier]])","v":97090}]
["133982",true,"3824999372 - Reaction product of octadecanoic acid methyl ester, with 1-(2-hydroxy-2-methylpropoxy)-2,2,6,6-tetramethyl-4-piperidinol (CAS RN 300711-92-6)",11815,11801,false,{"$f":"VALUE(Table2[[#This Row],[Identifier]])","v":133982}]
["133983",true,"3824999374 - 1,3-Propanediamine, N1,N1'-1,2-ethanediylbis-, reaction products with cyclohexane and peroxidized N-butyl-2,2,6,6-tetramethyl-4-piperidinamine-2,4,6-trichloro-1,3,5-triazine reaction products (CAS RN 191680-81-6)",11816,11801,false,{"$f":"VALUE(Table2[[#This Row],[Identifier]])","v":133983}]
["97091",true,"3824999375 - Mixture of phytosterols, in the form of flakes and balls, containing by weight 80 % or more of sterols and not more than 4 % of stanols",11817,11801,false,{"$f":"VALUE(Table2[[#This Row],[Identifier]])","v":97091}]
["97093",true,"3824999383 - Preparation containing:\n \n-|C,C'-azodi(formamide) (CAS RN 123-77-3),\n \n-|magnesium oxide (CAS RN 1309-48-4) and\n \n-|zinc bis(p-toluene sulphinate) (CAS RN 24345-02-6)\nin which the gas formation from C,C'-azodi(formamide) occurs at 135|°C",11818,11801,false,{"$f":"VALUE(Table2[[#This Row],[Identifier]])","v":97093}]
["97094",true,"3824999385 - Particles of silicon dioxide on which are covalently bonded organic compounds, for use in the manufacture of high performance liquid chromatography columns (HPLC) and sample preparation cartridges",11819,11801,false,{"$f":"VALUE(Table2[[#This Row],[Identifier]])","v":97094}]
["97095",true,"3824999388 - Mixture of phytosterols containing by weight:\n \n-|60|% or more, but not more than 80|% of sitosterols,\n \n-|not more than 15|% of campesterols,\n \n-|not more than 5|% of stigmasterols and\n \n-|not more than 15|% of betasitostanols",11820,11801,false,{"$f":"VALUE(Table2[[#This Row],[Identifier]])","v":97095}]
["118969",true,"3824999389 - Monosodium glutamate in mixture or in solution, containing by dry weight 50 % or more of monosodium glutamate",11821,11801,false,{"$f":"VALUE(Table2[[#This Row],[Identifier]])","v":118969}]
["97096",true,"3824999390 - Other",11822,11801,false,{"$f":"VALUE(Table2[[#This Row],[Identifier]])","v":97096}]
["97097",true,"3824999600 - Other",11823,11737,false,{"$f":"VALUE(Table2[[#This Row],[Identifier]])","v":97097}]
["97098",true,"3824999630 - Rare-earth concentrate containing by weight:\n \n-|20|% or more but not more than 30|% of cerium oxide (CAS RN 1306-38-3),\n \n-|2|% or more but not more than 10|% of lanthanum oxide (CAS RN 1312-81-8),\n \n-|10|% or more but not more than 15|% of yttrium oxide (CAS RN 1314-36-9), and\n \n-|not more than 65|% of zirconium oxide (CAS RN 1314-23-4) including natural occurring hafnium oxide",11824,11823,false,{"$f":"VALUE(Table2[[#This Row],[Identifier]])","v":97098}]
["97100",true,"3824999635 - Calcined bauxite (refractory grade)",11825,11823,false,{"$f":"VALUE(Table2[[#This Row],[Identifier]])","v":97100}]
["97101",true,"3824999637 - Structured silica alumina phosphate",11826,11823,false,{"$f":"VALUE(Table2[[#This Row],[Identifier]])","v":97101}]
["97102",true,"3824999640 - Anti-corrosion preparations consisting of salts of dinonylnaphthalenesulphonic acid, either:\n \n-|on a support of mineral wax, whether or not modified chemically, or\n \n-|in the form of a solution in an organic solvent",11827,11823,false,{"$f":"VALUE(Table2[[#This Row],[Identifier]])","v":97102}]
["97103",true,"3824999645 - Lithium nickel cobalt aluminium oxide powder (CAS RN 177997-13-6) with: \n-a particle size of less than 10 μm, \n-a purity by weight of more than 98 %",11828,11823,false,{"$f":"VALUE(Table2[[#This Row],[Identifier]])","v":97103}]
["97104",true,"3824999646 - Manganese zinc ferrite granulate, containing by weight:\n-\t52|% or more but not more than 76|% of iron(III)oxide,\n-\t13|% or more but not more than 42|% of manganese oxide, and\n-\t2|% or more but not more than 22|% of zinc oxide",11829,11823,false,{"$f":"VALUE(Table2[[#This Row],[Identifier]])","v":97104}]
["97105",true,"3824999647 - Mixed metals oxides, in the form of powder, containing by weight:\n \n-|either 5|% or more of barium, neodymium or magnesium and 15|% or more of titanium,\n \n-|or 30|% or more of lead and 5|% or more of niobium,\nfor use in the manufacture of dielectric films or for use as dielectric materials in the manufacture of multilayer ceramic capacitors",11830,11823,false,{"$f":"VALUE(Table2[[#This Row],[Identifier]])","v":97105}]
["97106",true,"3824999648 - Zirconium oxide (ZrO@2), calcium oxide stabilised (CAS RN 68937-53-1) with a zirconium oxide content by weight of 92|% or more but not more than 97|%",11831,11823,false,{"$f":"VALUE(Table2[[#This Row],[Identifier]])","v":97106}]
["97107",true,"3824999650 - Nickel hydroxide, doped with 12|% or more but not more than 18|% by weight of zinc hydroxide and cobalt hydroxide, of a kind used to produce positive electrodes for accumulators",11832,11823,false,{"$f":"VALUE(Table2[[#This Row],[Identifier]])","v":97107}]
["97108",true,"3824999653 - Rare-earth concentrate containing by weight 60|% or more but not more than 95|% of rare-earth oxides and not more than 1|% each of zirconium oxide, aluminium oxide or iron oxide, and having a loss on ignition of 5|% or more by weight",11833,11823,false,{"$f":"VALUE(Table2[[#This Row],[Identifier]])","v":97108}]
["97109",true,"3824999655 - Carrier in|powder form, consisting of:\n \n-|ferrite (Iron oxide) (CAS RN 1309-37-1)\n \n-|manganese oxide (CAS RN 1344-43-0)\n \n-|magnesium oxide (CAS RN 1309-48-4)\n \n-|styrene acrylate copolymer\n|to be mixed with the toner powder, in the manufacturing of ink/toner filled |bottles or cartridges for |facsimile machines, computer printers and copiers",11834,11823,false,{"$f":"VALUE(Table2[[#This Row],[Identifier]])","v":97109}]
["97110",true,"3824999657 - Particles of silicon dioxide on which are covalently bonded organic compounds, for use in the manufacture of high performance liquid chromatography columns (HPLC) and sample preparation cartridges",11835,11823,false,{"$f":"VALUE(Table2[[#This Row],[Identifier]])","v":97110}]
["97111",true,"3824999660 - Fused magnesia containing by weight 15|% or more of dichromium trioxide",11836,11823,false,{"$f":"VALUE(Table2[[#This Row],[Identifier]])","v":97111}]
["97112",true,"3824999665 - Aluminium sodium silicate, in the form of spheres of a diameter of:\n \n-|either 1,6mm or more but not more than 3,4mm,\n \n-|or 4mm or more but not more than 6mm",11837,11823,false,{"$f":"VALUE(Table2[[#This Row],[Identifier]])","v":97112}]
["131157",true,"3824999668 - Lithium nickel dioxide (CAS RN 12325-84-7) containing by weight:\n \n-less than 5 % of lithium hydroxide (CAS RN 1310-65-2),\n \n-less than 5 % of lithium carbonate (CAS RN 554-13-2), and\n \n-less than 15 % of nickel oxide (CAS RN 11099-02-8)",11838,11823,false,{"$f":"VALUE(Table2[[#This Row],[Identifier]])","v":131157}]
["97115",true,"3824999673 - Reaction product, containing by weight:\n \n-|1|% or more but not more than 40|% of molybdenum oxide,\n \n-|10|% or more but not more than 50|% of nickel oxide,\n \n-|30|% or more but not more than 70|% of tungsten oxide",11839,11823,false,{"$f":"VALUE(Table2[[#This Row],[Identifier]])","v":97115}]
["97116",true,"3824999674 - Mixture with a non-stoichiometric composition:\n \n-|with a crystalline structure,\n \n-|with a content of fused magnesia-alumina spinel and with admixtures of silicate phases and aluminates, at least 75|% by weight of which consists of fractions with a grain size of 1-3|mm and at most 25|% consists of| fractions with a grain size of 0-1|mm",11840,11823,false,{"$f":"VALUE(Table2[[#This Row],[Identifier]])","v":97116}]
["97118",true,"3824999680 - Mixture consisting of:\n \n-|64|% or more, but not more than 74|% by weight of amorphous silica (CAS RN 7631-86-9)\n \n-|25|% or more, but not more than 35|% by weight of butanone (CAS RN 78-93-3) and\n \n-|not more than 1|% by weight of 3-(2,3-epoxypropoxy)propyltrimethoxysilane (CAS RN 2530-83-8)",11841,11823,false,{"$f":"VALUE(Table2[[#This Row],[Identifier]])","v":97118}]
["97119",true,"3824999683 - Cubic Boron nitride (CAS RN 10043-11-5) coated with nickel and/or|nickelphosphide (CAS RN 12035-64-2)",11842,11823,false,{"$f":"VALUE(Table2[[#This Row],[Identifier]])","v":97119}]
["97120",true,"3824999685 - Preparation containing:\n \n-|C,C'-azodi(formamide) (CAS RN 123-77-3),\n \n-|magnesium oxide (CAS RN 1309-48-4) and\n \n-|zinc bis(p-toluene sulphinate) (CAS RN 24345-02-6)\nin which the gas formation from C,C'-azodi(formamide) occurs at 135|°C",11843,11823,false,{"$f":"VALUE(Table2[[#This Row],[Identifier]])","v":97120}]
["97121",true,"3824999687 - Platinum oxide (CAS RN 12035-82-4) fixed on a porous support of aluminium oxide (CAS RN 1344-28-1), containing by weight:\n \n-|0,1|% or more but not more than 1|% of platinum, and\n \n-|0,5|% or more but not more than 5|% of ethylaluminium dichloride (CAS RN 563-43-9)",11844,11823,false,{"$f":"VALUE(Table2[[#This Row],[Identifier]])","v":97121}]
["118970",true,"3824999689 - Monosodium glutamate in mixture or in solution, containing by dry weight 50 % or more of monosodium glutamate",11845,11823,false,{"$f":"VALUE(Table2[[#This Row],[Identifier]])","v":118970}]
["131158",true,"3824999691 - Mixture, in pellet form, containing by weight:\n- 49 % or more but not more than 50 % of bis[3-(triethoxysilyl)propyl] polysulphides (CAS RN 211519-85-6), and\n- 50 % or more but not more than 51 % of carbon black (CAS RN 1333-86-4),\nof which 75 % by weight or more pass through a sieve with an aperture of 0,60 mm, but not more than 10 % pass through a sieve with an aperture of 0,25 mm (as determined by the ASTM D1511 method)",11846,11823,false,{"$f":"VALUE(Table2[[#This Row],[Identifier]])","v":131158}]
["97122",true,"3824999699 - Other",11847,11823,false,{"$f":"VALUE(Table2[[#This Row],[Identifier]])","v":97122}]
["110775",false,"3825000000 - Residual products of the chemical or allied industries, not elsewhere specified or included; municipal waste; sewage sludge; other wastes specified in note|6|to this chapter",11848,11319,false,{"$f":"VALUE(Table2[[#This Row],[Identifier]])","v":110775}]
["97123",false,"3825100000 - Municipal waste",11849,11848,false,{"$f":"VALUE(Table2[[#This Row],[Identifier]])","v":97123}]
["97124",true,"3825200000 - Sewage sludge",11850,11848,false,{"$f":"VALUE(Table2[[#This Row],[Identifier]])","v":97124}]
["97125",true,"3825300000 - Clinical waste",11851,11848,false,{"$f":"VALUE(Table2[[#This Row],[Identifier]])","v":97125}]
["110776",false,"3825410000 - Waste organic solvents",11852,11848,false,{"$f":"VALUE(Table2[[#This Row],[Identifier]])","v":110776}]
["97126",true,"3825410000 - Halogenated",11853,11852,false,{"$f":"VALUE(Table2[[#This Row],[Identifier]])","v":97126}]
["97127",true,"3825490000 - Other",11854,11852,false,{"$f":"VALUE(Table2[[#This Row],[Identifier]])","v":97127}]
["97128",true,"3825500000 - Wastes of metal-pickling liquors, hydraulic fluids, brake fluids and anti-freeze fluids",11855,11848,false,{"$f":"VALUE(Table2[[#This Row],[Identifier]])","v":97128}]
["110777",false,"3825610000 - Other wastes from chemical or allied industries",11856,11848,false,{"$f":"VALUE(Table2[[#This Row],[Identifier]])","v":110777}]
["97129",true,"3825610000 - Mainly containing organic constituents",11857,11856,false,{"$f":"VALUE(Table2[[#This Row],[Identifier]])","v":97129}]
["97130",true,"3825690000 - Other",11858,11856,false,{"$f":"VALUE(Table2[[#This Row],[Identifier]])","v":97130}]
["97131",true,"3825900000 - Other",11859,11848,false,{"$f":"VALUE(Table2[[#This Row],[Identifier]])","v":97131}]
["97132",true,"3825901000 - Alkaline iron oxide for the purification of gas",11860,11859,false,{"$f":"VALUE(Table2[[#This Row],[Identifier]])","v":97132}]
["97133",true,"3825909000 - Other",11861,11859,false,{"$f":"VALUE(Table2[[#This Row],[Identifier]])","v":97133}]
["110778",false,"3826000000 - Biodiesel and mixtures thereof, not containing or containing less than 70|% by weight of petroleum oils or oils obtained from bituminous minerals",11862,11319,false,{"$f":"VALUE(Table2[[#This Row],[Identifier]])","v":110778}]
["97134",true,"3826001000 - Fatty-acid mono-alkyl esters, containing by weight 96,5|% or more of esters (FAMAE)",11863,11862,false,{"$f":"VALUE(Table2[[#This Row],[Identifier]])","v":97134}]
["110779",false,"3826001020 - Mixture of fatty acid methyl esters containing by weight at least:\n \n-|65|% or more but not more than 75|% of C12|FAME,\n \n-|21|% or more but not more than 28|% of C14|FAME,\n \n-|4|% or more but not more than 8|% of C16|FAME,\nfor use in the manufacture of detergents and home and personal care products",11864,11863,false,{"$f":"VALUE(Table2[[#This Row],[Identifier]])","v":110779}]
["97135",true,"3826001020 - Consigned from Canada",11865,11864,false,{"$f":"VALUE(Table2[[#This Row],[Identifier]])","v":97135}]
["97136",true,"3826001029 - Other",11866,11864,false,{"$f":"VALUE(Table2[[#This Row],[Identifier]])","v":97136}]
["110780",false,"3826001050 - Mixture of fatty acid methyl esters containing by weight at least:\n \n-|50|% or more but not more than 58|% of C8-FAME\n \n-|35|% or more but not more than 50|% of C10-FAME\nfor the manufacturing of high purity C8|or C10|fatty acid or fatty acid mixtures thereof or of high purity methylester of C8|or C10|fatty acid",11867,11863,false,{"$f":"VALUE(Table2[[#This Row],[Identifier]])","v":110780}]
["97137",true,"3826001050 - Consigned from Canada",11868,11867,false,{"$f":"VALUE(Table2[[#This Row],[Identifier]])","v":97137}]
["97138",true,"3826001059 - Other",11869,11867,false,{"$f":"VALUE(Table2[[#This Row],[Identifier]])","v":97138}]
["110781",false,"3826001089 - Other",11870,11863,false,{"$f":"VALUE(Table2[[#This Row],[Identifier]])","v":110781}]
["97139",true,"3826001089 - Consigned from Canada",11871,11870,false,{"$f":"VALUE(Table2[[#This Row],[Identifier]])","v":97139}]
["97140",true,"3826001099 - Other",11872,11870,false,{"$f":"VALUE(Table2[[#This Row],[Identifier]])","v":97140}]
["97141",true,"3826009000 - Other",11873,11862,false,{"$f":"VALUE(Table2[[#This Row],[Identifier]])","v":97141}]
["110782",false,"3826009011 - Blends containing by weight more than 20% of fatty-acid mono-alkyl esters or of a mixture of fatty-acid mono-alkyl esters and paraffinic gasoil obtained from synthesis and/or hydro-treatment, of non-fossil origin",11874,11873,false,{"$f":"VALUE(Table2[[#This Row],[Identifier]])","v":110782}]
["97142",true,"3826009011 - Consigned from Canada",11875,11874,false,{"$f":"VALUE(Table2[[#This Row],[Identifier]])","v":97142}]
["97143",true,"3826009019 - Other",11876,11874,false,{"$f":"VALUE(Table2[[#This Row],[Identifier]])","v":97143}]
["97144",true,"3826009030 - Blends containing by weight 20 % or less of fatty-acid mono-alkyl esters or of a mixture of fatty-acid mono-alkyl esters and paraffinic gasoil obtained from synthesis and/or hydro-treatment, of non-fossil origin",11877,11873,false,{"$f":"VALUE(Table2[[#This Row],[Identifier]])","v":97144}]
["97145",true,"3826009090 - Other",11878,11873,false,{"$f":"VALUE(Table2[[#This Row],[Identifier]])","v":97145}]
["133984",false,"3827000000 - Mixtures containing halogenated derivatives of methane, ethane or propane, not elsewhere specified or included",11879,11319,false,{"$f":"VALUE(Table2[[#This Row],[Identifier]])","v":133984}]
["133985",false,"3827110000 - Containing chlorofluorocarbons (CFCs), whether or not containing hydrochlorofluorocarbons (HCFCs), perfluorocarbons (PFCs) or hydrofluorocarbons (HFCs); containing hydrobromofluorocarbons (HBFCs); containing carbon tetrachloride; containing 1,1,1-trichloroethane (methyl chloroform)",11880,11879,false,{"$f":"VALUE(Table2[[#This Row],[Identifier]])","v":133985}]
["133986",true,"3827110000 - Containing chlorofluorocarbons (CFCs), whether or not containing hydrochlorofluorocarbons (HCFCs), perfluorocarbons (PFCs) or hydrofluorocarbons (HFCs)",11881,11880,false,{"$f":"VALUE(Table2[[#This Row],[Identifier]])","v":133986}]
["133987",true,"3827120000 - Containing hydrobromofluorocarbons (HBFCs)",11882,11880,false,{"$f":"VALUE(Table2[[#This Row],[Identifier]])","v":133987}]
["133988",true,"3827130000 - Containing carbon tetrachloride",11883,11880,false,{"$f":"VALUE(Table2[[#This Row],[Identifier]])","v":133988}]
["133989",true,"3827140000 - Containing 1,1,1-trichloroethane (methyl chloroform)",11884,11880,false,{"$f":"VALUE(Table2[[#This Row],[Identifier]])","v":133989}]
["133990",true,"3827200000 - Containing bromochlorodifluoromethane (Halon-1211), bromotrifluoromethane (Halon-1301) or dibromotetrafluoroethanes (Halon-2402)",11885,11879,false,{"$f":"VALUE(Table2[[#This Row],[Identifier]])","v":133990}]
["133991",false,"3827310000 - Containing hydrochlorofluorocarbons (HCFCs), whether or not containing perfluorocarbons (PFCs) or hydrofluorocarbons (HFCs), but not containing chlorofluorocarbons (CFCs)",11886,11879,false,{"$f":"VALUE(Table2[[#This Row],[Identifier]])","v":133991}]
["133992",true,"3827310000 - Containing substances of subheadings 2903|41|to 2903|48",11887,11886,false,{"$f":"VALUE(Table2[[#This Row],[Identifier]])","v":133992}]
["133993",true,"3827320000 - Other, containing substances of subheadings 2903|71|to 2903|75",11888,11886,false,{"$f":"VALUE(Table2[[#This Row],[Identifier]])","v":133993}]
["133994",true,"3827390000 - Other",11889,11886,false,{"$f":"VALUE(Table2[[#This Row],[Identifier]])","v":133994}]
["133995",true,"3827400000 - Containing methyl bromide (bromomethane) or bromochloromethane",11890,11879,false,{"$f":"VALUE(Table2[[#This Row],[Identifier]])","v":133995}]
["133996",false,"3827510000 - Containing trifluoromethane (HFC-23) or perfluorocarbons (PFCs) but not containing chlorofluorocarbons (CFCs) or hydrochlorofluorocarbons (HCFCs)",11891,11879,false,{"$f":"VALUE(Table2[[#This Row],[Identifier]])","v":133996}]
["133997",true,"3827510000 - Containing trifluoromethane (HFC-23)",11892,11891,false,{"$f":"VALUE(Table2[[#This Row],[Identifier]])","v":133997}]
["133998",true,"3827510010 - R508A (containing 61% of hexafluoroethane (perfluoroethane) (PFC-116) and 39% of trifluoromethane (fluoroform) (HFC-23))",11893,11892,false,{"$f":"VALUE(Table2[[#This Row],[Identifier]])","v":133998}]
["133999",true,"3827510020 - R508B (containing 54|% of hexafluoroethane (perfluoroethane) (PFC-116) and 46|% of trifluoromethane (fluoroform) (HFC-23))",11894,11892,false,{"$f":"VALUE(Table2[[#This Row],[Identifier]])","v":133999}]
["134000",true,"3827510090 - Other",11895,11892,false,{"$f":"VALUE(Table2[[#This Row],[Identifier]])","v":134000}]
["134001",true,"3827590000 - Other",11896,11891,false,{"$f":"VALUE(Table2[[#This Row],[Identifier]])","v":134001}]
["134002",false,"3827610000 - Containing other hydrofluorocarbons (HFCs) but not containing chlorofluorocarbons (CFCs) or hydrochlorofluorocarbons (HCFCs)",11897,11879,false,{"$f":"VALUE(Table2[[#This Row],[Identifier]])","v":134002}]
["134003",true,"3827610000 - Containing 15|% or more by mass of 1,1,1-trifluoroethane (HFC-143a)",11898,11897,false,{"$f":"VALUE(Table2[[#This Row],[Identifier]])","v":134003}]
["134004",true,"3827610010 - R507A (containing 50|% pentafluoroethane (HFC-125) and 50|% of 1,1,1-trifluoroethane (HFC-143a))",11899,11898,false,{"$f":"VALUE(Table2[[#This Row],[Identifier]])","v":134004}]
["134005",true,"3827610020 - R404A (containing 52|% of 1,1,1-trifluoroethane (HFC-143a), 44|% of pentafluoroethane (HFC-125) and 4|% of 1,1,1,2-tetrafluoroethane (HFC-134a))",11900,11898,false,{"$f":"VALUE(Table2[[#This Row],[Identifier]])","v":134005}]
["134006",true,"3827610090 - Other",11901,11898,false,{"$f":"VALUE(Table2[[#This Row],[Identifier]])","v":134006}]
["134007",true,"3827620000 - Other, not included in the subheading above, containing 55|% or more by mass of pentafluoroethane (HFC- 125) but not containing unsaturated fluorinated derivatives of acyclic hydrocarbons (HFOs)",11902,11897,false,{"$f":"VALUE(Table2[[#This Row],[Identifier]])","v":134007}]
["134008",true,"3827620010 - Containing only 1,1,1-trifluoroethane and pentafluoroethane",11903,11902,false,{"$f":"VALUE(Table2[[#This Row],[Identifier]])","v":134008}]
["134009",true,"3827620020 - Containing only 1,1,1-trifluoroethane, pentafluoroethane and 1,1,1,2-tetrafluoroethane",11904,11902,false,{"$f":"VALUE(Table2[[#This Row],[Identifier]])","v":134009}]
["134010",true,"3827620030 - Containing only difluoromethane and pentafluoroethane",11905,11902,false,{"$f":"VALUE(Table2[[#This Row],[Identifier]])","v":134010}]
["134011",true,"3827620040 - Containing only difluoromethane and pentafluoroethane and 1,1,1,2-tetrafluoroethane",11906,11902,false,{"$f":"VALUE(Table2[[#This Row],[Identifier]])","v":134011}]
["134012",false,"3827620050 - Other",11907,11902,false,{"$f":"VALUE(Table2[[#This Row],[Identifier]])","v":134012}]
["134013",true,"3827620050 - R422D (containing 65,1|% of pentafluoroethane (HFC-125), 31,5|% of 1,1,1,2-tetrafluoroethane (HFC-134a) and 3,4|% of isobutane)",11908,11907,false,{"$f":"VALUE(Table2[[#This Row],[Identifier]])","v":134013}]
["134014",true,"3827620060 - R419A (containing 77|% of pentafluoroethane (HFC-125), 19|% of 1,1,1,2-tetrafluoroethane (HFC-134a), and 4|% of dimethyl ether (R-E170))",11909,11907,false,{"$f":"VALUE(Table2[[#This Row],[Identifier]])","v":134014}]
["134015",true,"3827620090 - Other",11910,11907,false,{"$f":"VALUE(Table2[[#This Row],[Identifier]])","v":134015}]
["134016",true,"3827630000 - Other, not included in the subheadings above, containing 40|% or more by mass of pentafluoroethane (HFC-125)",11911,11897,false,{"$f":"VALUE(Table2[[#This Row],[Identifier]])","v":134016}]
["134017",true,"3827630010 - Containing only 1,1,1-trifluoroethane and pentafluoroethane",11912,11911,false,{"$f":"VALUE(Table2[[#This Row],[Identifier]])","v":134017}]
["134018",true,"3827630015 - Containing only 1,1,1-trifluoroethane, pentafluoroethane and 1,1,1,2-tetrafluoroethane",11913,11911,false,{"$f":"VALUE(Table2[[#This Row],[Identifier]])","v":134018}]
["134019",false,"3827630020 - Containing only difluoromethane and pentafluoroethane",11914,11911,false,{"$f":"VALUE(Table2[[#This Row],[Identifier]])","v":134019}]
["134020",true,"3827630020 - R410A (containing 50% of pentafluoroethane (HFC-125) and 50% of difluoromethane (HFC-32))",11915,11914,false,{"$f":"VALUE(Table2[[#This Row],[Identifier]])","v":134020}]
["134021",true,"3827630029 - Other",11916,11914,false,{"$f":"VALUE(Table2[[#This Row],[Identifier]])","v":134021}]
["134022",false,"3827630030 - Containing only difluoromethane, pentafluoroethane and 1,1,1,2-tetrafluoroethane",11917,11911,false,{"$f":"VALUE(Table2[[#This Row],[Identifier]])","v":134022}]
["134023",true,"3827630030 - R407A (containing 40% of pentafluoroethane (HFC-125), 40% of 1,1,1,2-tetrafluoroethane (HFC-134a) and 20% of difluoromethane (HFC-32))",11918,11917,false,{"$f":"VALUE(Table2[[#This Row],[Identifier]])","v":134023}]
["134024",true,"3827630039 - Other",11919,11917,false,{"$f":"VALUE(Table2[[#This Row],[Identifier]])","v":134024}]
["134025",false,"3827630040 - Containing unsaturated hydrofluorocarbons",11920,11911,false,{"$f":"VALUE(Table2[[#This Row],[Identifier]])","v":134025}]
["134026",true,"3827630040 - R452A (containing 59% of pentafluoroethane (HFC-125), 30% of 2,3,3,3-tetrafluoropropene (HFC-1234yf) and 11% of difluoromethane (HFC-32))",11921,11920,false,{"$f":"VALUE(Table2[[#This Row],[Identifier]])","v":134026}]
["134027",true,"3827630049 - Other",11922,11920,false,{"$f":"VALUE(Table2[[#This Row],[Identifier]])","v":134027}]
["134028",false,"3827630090 - Other",11923,11911,false,{"$f":"VALUE(Table2[[#This Row],[Identifier]])","v":134028}]
["134029",true,"3827630090 - R417A (containing 50% of 1,1,1,2-tetrafluoroethane (HFC-134a), 46.6% of pentafluoroethane (HFC-125) and 3.4% of isobutane)",11924,11923,false,{"$f":"VALUE(Table2[[#This Row],[Identifier]])","v":134029}]
["134030",true,"3827630099 - Other",11925,11923,false,{"$f":"VALUE(Table2[[#This Row],[Identifier]])","v":134030}]
["134031",true,"3827640000 - Other, not included in the subheadings above, containing 30|% or more by mass of 1,1,1,2-tetrafluoroethane (HFC-134a) but not containing unsaturated fluorinated derivatives of acyclic hydrocarbons (HFOs)",11926,11897,false,{"$f":"VALUE(Table2[[#This Row],[Identifier]])","v":134031}]
["134032",true,"3827640010 - Containing only 1,1,1-trifluoroethane, pentafluoroethane and 1,1,1,2-tetrafluoroethane",11927,11926,false,{"$f":"VALUE(Table2[[#This Row],[Identifier]])","v":134032}]
["134033",false,"3827640020 - Containing only difluoromethane, pentafluoroethane and 1,1,1,2-tetrafluoroethane",11928,11926,false,{"$f":"VALUE(Table2[[#This Row],[Identifier]])","v":134033}]
["134034",true,"3827640020 - R407C (containing 52% of 1,1,1,2-tetrafluoroethane (HFC-134a), 25% of pentafluoroethane (HFC-125) and 23% of difluoromethane (HFC-32))",11929,11928,false,{"$f":"VALUE(Table2[[#This Row],[Identifier]])","v":134034}]
["134035",true,"3827640021 - R407F (containing 40% of 1,1,1,2-tetrafluoroethane (HFC-134a), 30% of difluoromethane (HFC-32) and 30% of pentafluoroethane (HFC-125))",11930,11928,false,{"$f":"VALUE(Table2[[#This Row],[Identifier]])","v":134035}]
["134036",true,"3827640022 - R407H (containing 52.5% of 1,1,1,2-tetrafluoroethane (HFC-134a), 32.5% of difluoromethane (HFC-32) and 15% of pentafluoroethane (HFC-125))",11931,11928,false,{"$f":"VALUE(Table2[[#This Row],[Identifier]])","v":134036}]
["134037",true,"3827640029 - Other",11932,11928,false,{"$f":"VALUE(Table2[[#This Row],[Identifier]])","v":134037}]
["134038",true,"3827640090 - Other",11933,11926,false,{"$f":"VALUE(Table2[[#This Row],[Identifier]])","v":134038}]
["134039",true,"3827650000 - Other, not included in the subheadings above, containing 20|% or more by mass of difluoromethane (HFC-32) and 20|% or more by mass of pentafluoroethane (HFC-125)",11934,11897,false,{"$f":"VALUE(Table2[[#This Row],[Identifier]])","v":134039}]
["134040",true,"3827650010 - Containing only difluoromethane, pentafluoroethane and 1,1,1,2-tetrafluoroethane",11935,11934,false,{"$f":"VALUE(Table2[[#This Row],[Identifier]])","v":134040}]
["134041",false,"3827650020 - Containing unsaturated hydrofluorocarbons",11936,11934,false,{"$f":"VALUE(Table2[[#This Row],[Identifier]])","v":134041}]
["134042",true,"3827650020 - R448A (containing 26% of difluoromethane (HFC-32), 26% of pentafluoroethane (HFC-125), 21% of 1,1,1,2-tetrafluoroethane (HFC-134a), 20% of 2,3,3,3-tetrafluoropropene (HFC-1234yf) and 7% of 1,3,3,3-tetrafluoropropene (HFC-1234ze)",11937,11936,false,{"$f":"VALUE(Table2[[#This Row],[Identifier]])","v":134042}]
["134043",true,"3827650021 - R449A (containing 25.7% of 1,1,1,2-tetrafluoroethane (HFC-134a), 25.3% of 2,3,3,3-tetrafluoropropene (HFC-1234yf), 24.7% of pentafluoroethane (HFC-125) and 24.3% of difluoromethane (HFC-32))",11938,11936,false,{"$f":"VALUE(Table2[[#This Row],[Identifier]])","v":134043}]
["134044",true,"3827650029 - Other",11939,11936,false,{"$f":"VALUE(Table2[[#This Row],[Identifier]])","v":134044}]
["134045",true,"3827650090 - Other",11940,11934,false,{"$f":"VALUE(Table2[[#This Row],[Identifier]])","v":134045}]
["134046",true,"3827680000 - Other, not included in the subheadings above, containing substances of subheadings 2903|41|to 2903|48",11941,11897,false,{"$f":"VALUE(Table2[[#This Row],[Identifier]])","v":134046}]
["134047",true,"3827680005 - Mixture of halogenated derivatives containing by weight:\n \n-30 % or more but not more than 60 % of difluoromethane (CAS RN 75-10-5),\n \n-30 % or more but not more than 60 % of trifluoroiodomethane (CAS RN 2314-97-8),\n \n-10 % or more but not more than 30 % of pentafluoroethane (CAS RN 354-33-6)",11942,11941,false,{"$f":"VALUE(Table2[[#This Row],[Identifier]])","v":134047}]
["134048",true,"3827680010 - R452B (containing 67% of difluoromethane (HFC-32), 26% of 2,3,3,3-tetrafluoropropene (HFC-1234yf) and 7% of pentafluoroethane (HFC-125)",11943,11941,false,{"$f":"VALUE(Table2[[#This Row],[Identifier]])","v":134048}]
["134049",true,"3827680020 - R455A (containing 75.5% of 2,3,3,3-tetrafluoropropene (HFC-1234yf), 21.5% of difluoromethane (HFC-32) and 3% of carbon dioxide)",11944,11941,false,{"$f":"VALUE(Table2[[#This Row],[Identifier]])","v":134049}]
["134050",true,"3827680030 - Containing only 1,1,1,3,3-pentafluorobutane (HFC-365mfc) and 1,1,1,2,3,3,3-heptafluoropropane (HFC-227ea)",11945,11941,false,{"$f":"VALUE(Table2[[#This Row],[Identifier]])","v":134050}]
["134051",true,"3827680040 - Containing only 1,1,1,3,3-pentafluorobutane (HFC-365mfc) and 1,1,1,3,3-pentafluoropropane (HFC-245fa)",11946,11941,false,{"$f":"VALUE(Table2[[#This Row],[Identifier]])","v":134051}]
["134052",true,"3827680090 - Other",11947,11941,false,{"$f":"VALUE(Table2[[#This Row],[Identifier]])","v":134052}]
["134053",true,"3827690000 - Other",11948,11897,false,{"$f":"VALUE(Table2[[#This Row],[Identifier]])","v":134053}]
["134054",false,"3827690010 - Containing unsaturated hydrofluorocarbons",11949,11948,false,{"$f":"VALUE(Table2[[#This Row],[Identifier]])","v":134054}]
["134055",true,"3827690010 - R450A (containing 58% of 1,3,3,3-tetrafluoropropene (HFC-1234ze) and 42% of 1,1,1,2-tetrafluoroethane (HFC-134a))",11950,11949,false,{"$f":"VALUE(Table2[[#This Row],[Identifier]])","v":134055}]
["134056",true,"3827690011 - R513A (containing 56% of 2,3,3,3-tetrafluoropropene (HFC-1234yf) and 44% of 1,1,1,2-tetrafluoroethane (HFC-134a))",11951,11949,false,{"$f":"VALUE(Table2[[#This Row],[Identifier]])","v":134056}]
["134057",true,"3827690012 - R514A (containing 74.7% of 1,1,1,4,4,4-hexafluoro-2-butene (HFC-1336mzz) and 25.3% of trans-1,2-dichloro-ethylene)",11952,11949,false,{"$f":"VALUE(Table2[[#This Row],[Identifier]])","v":134057}]
["134058",true,"3827690019 - Other",11953,11949,false,{"$f":"VALUE(Table2[[#This Row],[Identifier]])","v":134058}]
["134059",true,"3827690090 - Other",11954,11948,false,{"$f":"VALUE(Table2[[#This Row],[Identifier]])","v":134059}]
["134060",true,"3827900000 - Other",11955,11879,false,{"$f":"VALUE(Table2[[#This Row],[Identifier]])","v":134060}]
["134061",true,"3827900010 - Mixtures containing by weight:\n- 60 % or more but not more than 90 % of 2-chloropropene (CAS RN 557-98-2),\n- 8 % or more but not more than 14 % of (Z)-1-chloropropene (CAS RN 16136-84-8),\n- 5 % or more but not more than 23 % of 2-chloropropane (CAS RN 75-29-6),\n- not more than 6 % of 3-chloropropene (CAS RN 107-05-1), and\n- not more than 1 % of ethyl chloride (CAS RN 75-00-3)",11956,11955,false,{"$f":"VALUE(Table2[[#This Row],[Identifier]])","v":134061}]
["134062",true,"3827900090 - Other",11957,11955,false,{"$f":"VALUE(Table2[[#This Row],[Identifier]])","v":134062}]
["110783",false,"SECTION VII (39 - 40) Plastics and articles thereof; rubber and articles thereof",11958,"",false,{"$f":"VALUE(Table2[[#This Row],[Identifier]])","v":110783}]
["110784",false,"3900000000 - Plastics and articles thereof",11959,11958,false,{"$f":"VALUE(Table2[[#This Row],[Identifier]])","v":110784}]
["110785",false,"3901000000 - I. PRIMARY FORMS",11960,11959,false,{"$f":"VALUE(Table2[[#This Row],[Identifier]])","v":110785}]
["110786",false,"3901000000 - Polymers of ethylene, in primary forms",11961,11960,false,{"$f":"VALUE(Table2[[#This Row],[Identifier]])","v":110786}]
["97146",true,"3901100000 - Polyethylene having a specific gravity of less than 0,94",11962,11961,false,{"$f":"VALUE(Table2[[#This Row],[Identifier]])","v":97146}]
["97147",true,"3901101000 - Linear polyethylene",11963,11962,false,{"$f":"VALUE(Table2[[#This Row],[Identifier]])","v":97147}]
["97150",true,"3901109000 - Other",11968,11962,false,{"$f":"VALUE(Table2[[#This Row],[Identifier]])","v":97150}]
["97153",true,"3901200000 - Polyethylene having a specific gravity of 0,94|or more",11971,11961,false,{"$f":"VALUE(Table2[[#This Row],[Identifier]])","v":97153}]
["97156",true,"3901300000 - Ethylene-vinyl acetate copolymers",11974,11961,false,{"$f":"VALUE(Table2[[#This Row],[Identifier]])","v":97156}]
["97158",true,"3901300099 - Other",11976,11974,false,{"$f":"VALUE(Table2[[#This Row],[Identifier]])","v":97158}]
["97165",true,"3901900000 - Other",11983,11961,false,{"$f":"VALUE(Table2[[#This Row],[Identifier]])","v":97165}]
["97167",true,"3901908000 - Other",11985,11983,false,{"$f":"VALUE(Table2[[#This Row],[Identifier]])","v":97167}]
["110787",false,"3901908053 - Other",11987,11985,false,{"$f":"VALUE(Table2[[#This Row],[Identifier]])","v":110787}]
["97179",true,"3901908099 - Other",11997,11987,false,{"$f":"VALUE(Table2[[#This Row],[Identifier]])","v":97179}]
["110788",false,"3902000000 - Polymers of propylene or of other olefins, in primary forms",11998,11959,false,{"$f":"VALUE(Table2[[#This Row],[Identifier]])","v":110788}]
["97180",true,"3902100000 - Polypropylene",11999,11998,false,{"$f":"VALUE(Table2[[#This Row],[Identifier]])","v":97180}]
["97183",true,"3902100090 - Other",12002,11999,false,{"$f":"VALUE(Table2[[#This Row],[Identifier]])","v":97183}]
["97194",true,"3902900000 - Other",12016,11998,false,{"$f":"VALUE(Table2[[#This Row],[Identifier]])","v":97194}]
["97197",true,"3902909000 - Other",12019,12016,false,{"$f":"VALUE(Table2[[#This Row],[Identifier]])","v":97197}]
["110791",false,"3903000000 - Polymers of styrene, in primary forms",12031,11959,false,{"$f":"VALUE(Table2[[#This Row],[Identifier]])","v":110791}]
["110792",false,"3903110000 - Polystyrene",12032,12031,false,{"$f":"VALUE(Table2[[#This Row],[Identifier]])","v":110792}]
["97207",true,"3903190000 - Other",12034,12032,false,{"$f":"VALUE(Table2[[#This Row],[Identifier]])","v":97207}]
["97211",true,"3903300000 - Acrylonitrile-butadiene-styrene (ABS) copolymers",12038,12031,false,{"$f":"VALUE(Table2[[#This Row],[Identifier]])","v":97211}]
["97212",true,"3903900000 - Other",12039,12031,false,{"$f":"VALUE(Table2[[#This Row],[Identifier]])","v":97212}]
["97215",true,"3903909000 - Other",12042,12039,false,{"$f":"VALUE(Table2[[#This Row],[Identifier]])","v":97215}]
["97229",true,"3903909090 - Other",12055,12042,false,{"$f":"VALUE(Table2[[#This Row],[Identifier]])","v":97229}]
["110793",false,"3904000000 - Polymers of vinyl chloride or of other halogenated olefins, in primary forms",12056,11959,false,{"$f":"VALUE(Table2[[#This Row],[Identifier]])","v":110793}]
["97230",true,"3904100000 - Poly(vinyl chloride), not mixed with any other substances",12057,12056,false,{"$f":"VALUE(Table2[[#This Row],[Identifier]])","v":97230}]
["110794",false,"3904210000 - Other poly(vinyl chloride)",12060,12056,false,{"$f":"VALUE(Table2[[#This Row],[Identifier]])","v":110794}]
["97233",true,"3904210000 - Non-plasticised",12061,12060,false,{"$f":"VALUE(Table2[[#This Row],[Identifier]])","v":97233}]
["97235",true,"3904210090 - Other",12063,12061,false,{"$f":"VALUE(Table2[[#This Row],[Identifier]])","v":97235}]
["97236",true,"3904220000 - Plasticised",12064,12060,false,{"$f":"VALUE(Table2[[#This Row],[Identifier]])","v":97236}]
["97238",true,"3904220090 - Other",12066,12064,false,{"$f":"VALUE(Table2[[#This Row],[Identifier]])","v":97238}]
["110797",false,"3904610000 - Fluoropolymers",12080,12056,false,{"$f":"VALUE(Table2[[#This Row],[Identifier]])","v":110797}]
["97255",true,"3904690000 - Other",12084,12080,false,{"$f":"VALUE(Table2[[#This Row],[Identifier]])","v":97255}]
["97270",true,"3904900000 - Other",12099,12056,false,{"$f":"VALUE(Table2[[#This Row],[Identifier]])","v":97270}]
["110804",false,"3906000000 - Acrylic polymers in primary forms",12143,11959,false,{"$f":"VALUE(Table2[[#This Row],[Identifier]])","v":110804}]
["97299",true,"3906900000 - Other",12145,12143,false,{"$f":"VALUE(Table2[[#This Row],[Identifier]])","v":97299}]
["97303",true,"3906904000 - Copolymer of acrylonitrile with methyl acrylate, modified with polybutadiene-acrylonitrile (NBR)",12149,12145,false,{"$f":"VALUE(Table2[[#This Row],[Identifier]])","v":97303}]
["110805",false,"3907000000 - Polyacetals, other polyethers and epoxide resins, in primary forms; polycarbonates, alkyd resins, polyallyl esters and other polyesters, in primary forms",12164,11959,false,{"$f":"VALUE(Table2[[#This Row],[Identifier]])","v":110805}]
["97352",true,"3907300000 - Epoxide resins",12197,12164,false,{"$f":"VALUE(Table2[[#This Row],[Identifier]])","v":97352}]
["97353",true,"3907300015 - Epoxide resin, halogen-free,\n \n-|containing by weight|more than 2|% phosphoros calculated on the solid content, chemically bound in the epoxide resin,\n \n-|not containing any hydrolysable chloride or containing less than 300|ppm hydrolysable chloride, and\n \n-|containing solvents\nfor use in the manufacture of prepreg sheets or rolls of a kind used for the production of printed circuits",12198,12197,false,{"$f":"VALUE(Table2[[#This Row],[Identifier]])","v":97353}]
["97358",true,"3907300090 - Other",12202,12197,false,{"$f":"VALUE(Table2[[#This Row],[Identifier]])","v":97358}]
["97359",true,"3907400000 - Polycarbonates",12203,12164,false,{"$f":"VALUE(Table2[[#This Row],[Identifier]])","v":97359}]
["97360",true,"3907400025 - Polymer blend of polycarbonate and poly(methyl methacrylate) with a polycarbonate content of 98.5|% or more, in the form of pellets or granules, with a luminous transmittance of 88.5% or more, measured using a test sample with a thickness of 4|mm at a wavelength of λ = 400 nm (according to ISO 13468-2)",12204,12203,false,{"$f":"VALUE(Table2[[#This Row],[Identifier]])","v":97360}]
["97361",true,"3907400035 - α-Phenoxycarbonyl-ω-phenoxypoly[oxy(2,6-dibromo-1,4-phenylene) isopropylidene(3,5-dibromo-1,4-phenylene)oxycarbonyl] (CAS RN 94334-64-2)",12205,12203,false,{"$f":"VALUE(Table2[[#This Row],[Identifier]])","v":97361}]
["97362",true,"3907400045 - α-(2,4,6-Tribromophenyl)-ω-(2,4,6-tribromophenoxy)poly[oxy(2,6-dibromo-1,4-phenylene)isopropylidene(3,5-dibromo-1,4-phenylene)oxycarbonyl] (CAS RN 71342-77-3)",12206,12203,false,{"$f":"VALUE(Table2[[#This Row],[Identifier]])","v":97362}]
["97364",true,"3907400080 - Polycarbonate of carbonic dichloride, 4,4'-(1-methylethylidene)bis[2,6-dibromophenol] and 4,4'-(1-methylethylidene)bis[phenol] with 4-(1-methyl-1-phenylethyl)phenol endcaps",12208,12203,false,{"$f":"VALUE(Table2[[#This Row],[Identifier]])","v":97364}]
["97365",true,"3907400090 - Other",12209,12203,false,{"$f":"VALUE(Table2[[#This Row],[Identifier]])","v":97365}]
["110809",false,"3907910000 - Other polyesters",12217,12164,false,{"$f":"VALUE(Table2[[#This Row],[Identifier]])","v":110809}]
["97378",true,"3907990000 - Other",12223,12217,false,{"$f":"VALUE(Table2[[#This Row],[Identifier]])","v":97378}]
["97383",true,"3907998000 - Other",12226,12223,false,{"$f":"VALUE(Table2[[#This Row],[Identifier]])","v":97383}]
["97391",true,"3907998090 - Other",12233,12226,false,{"$f":"VALUE(Table2[[#This Row],[Identifier]])","v":97391}]
["110810",false,"3908000000 - Polyamides in primary forms",12234,11959,false,{"$f":"VALUE(Table2[[#This Row],[Identifier]])","v":110810}]
["97392",true,"3908100000 - Polyamide-6, -11, -12, -6,6, -6,9, -6,10|or -6,12",12235,12234,false,{"$f":"VALUE(Table2[[#This Row],[Identifier]])","v":97392}]
["97393",true,"3908900000 - Other",12236,12234,false,{"$f":"VALUE(Table2[[#This Row],[Identifier]])","v":97393}]
["97398",true,"3908900090 - Other",12239,12236,false,{"$f":"VALUE(Table2[[#This Row],[Identifier]])","v":97398}]
["110811",false,"3909000000 - Amino-resins, phenolic resins and polyurethanes, in primary forms",12240,11959,false,{"$f":"VALUE(Table2[[#This Row],[Identifier]])","v":110811}]
["97405",true,"3909400000 - Phenolic resins",12250,12240,false,{"$f":"VALUE(Table2[[#This Row],[Identifier]])","v":97405}]
["97408",true,"3909500000 - Polyurethanes",12254,12240,false,{"$f":"VALUE(Table2[[#This Row],[Identifier]])","v":97408}]
["97410",true,"3909509000 - Other",12256,12254,false,{"$f":"VALUE(Table2[[#This Row],[Identifier]])","v":97410}]
["97415",true,"3909509090 - Other",12261,12256,false,{"$f":"VALUE(Table2[[#This Row],[Identifier]])","v":97415}]
["97416",true,"3910000000 - Silicones in primary forms",12262,11959,false,{"$f":"VALUE(Table2[[#This Row],[Identifier]])","v":97416}]
["97421",true,"3910000040 - Silicones|of a kind|used in the manufacture of long term surgical implants",12268,12262,false,{"$f":"VALUE(Table2[[#This Row],[Identifier]])","v":97421}]
["97428",true,"3910000090 - Other",12277,12262,false,{"$f":"VALUE(Table2[[#This Row],[Identifier]])","v":97428}]
["110813",false,"3911000000 - Petroleum resins, coumarone-indene resins, polyterpenes, polysulphides, polysulphones and other products specified in note|3|to this chapter, not elsewhere specified or included, in primary forms",12278,11959,false,{"$f":"VALUE(Table2[[#This Row],[Identifier]])","v":110813}]
["97433",true,"3911900000 - Other",12284,12278,false,{"$f":"VALUE(Table2[[#This Row],[Identifier]])","v":97433}]
["110814",false,"3911901100 - Condensation or rearrangement polymerisation products whether or not chemically modified",12285,12284,false,{"$f":"VALUE(Table2[[#This Row],[Identifier]])","v":110814}]
["97436",true,"3911901900 - Other",12290,12285,false,{"$f":"VALUE(Table2[[#This Row],[Identifier]])","v":97436}]
["97444",true,"3911901990 - Other",12298,12290,false,{"$f":"VALUE(Table2[[#This Row],[Identifier]])","v":97444}]
["110824",false,"3915000000 - II. WASTE, PARINGS AND SCRAP; SEMI-MANUFACTURES; ARTICLES",12365,11959,false,{"$f":"VALUE(Table2[[#This Row],[Identifier]])","v":110824}]
["110825",false,"3915000000 - Waste, parings and scrap, of plastics",12366,12365,false,{"$f":"VALUE(Table2[[#This Row],[Identifier]])","v":110825}]
["97498",true,"3915100000 - Of polymers of ethylene",12367,12366,false,{"$f":"VALUE(Table2[[#This Row],[Identifier]])","v":97498}]
["97499",true,"3915200000 - Of polymers of styrene",12368,12366,false,{"$f":"VALUE(Table2[[#This Row],[Identifier]])","v":97499}]
["97500",true,"3915300000 - Of polymers of vinyl chloride",12369,12366,false,{"$f":"VALUE(Table2[[#This Row],[Identifier]])","v":97500}]
["97501",true,"3915900000 - Of other plastics",12370,12366,false,{"$f":"VALUE(Table2[[#This Row],[Identifier]])","v":97501}]
["97502",true,"3915901100 - Of polymers of propylene",12371,12370,false,{"$f":"VALUE(Table2[[#This Row],[Identifier]])","v":97502}]
["97503",true,"3915908000 - Other",12372,12370,false,{"$f":"VALUE(Table2[[#This Row],[Identifier]])","v":97503}]
["110826",false,"3916000000 - Monofilament of which any cross-sectional dimension exceeds 1|mm, rods, sticks and profile shapes, whether or not surface-worked but not otherwise worked, of plastics",12373,11959,false,{"$f":"VALUE(Table2[[#This Row],[Identifier]])","v":110826}]
["97504",true,"3916100000 - Of polymers of ethylene",12374,12373,false,{"$f":"VALUE(Table2[[#This Row],[Identifier]])","v":97504}]
["97505",true,"3916100010 - For use in certain types of aircraft",12375,12374,false,{"$f":"VALUE(Table2[[#This Row],[Identifier]])","v":97505}]
["97506",true,"3916100090 - Other",12376,12374,false,{"$f":"VALUE(Table2[[#This Row],[Identifier]])","v":97506}]
["97507",true,"3916200000 - Of polymers of vinyl chloride",12377,12373,false,{"$f":"VALUE(Table2[[#This Row],[Identifier]])","v":97507}]
["97508",true,"3916200010 - For use in certain types of aircraft",12378,12377,false,{"$f":"VALUE(Table2[[#This Row],[Identifier]])","v":97508}]
["110827",false,"3916200091 - Other",12379,12377,false,{"$f":"VALUE(Table2[[#This Row],[Identifier]])","v":110827}]
["97509",true,"3916200091 - Profiles of poly(vinyl chloride) of a kind|used in the manufacture of|sheet pilings and facings, containing the following additives:\n \n-|titanium dioxide\n \n-|poly(methyl methacrylate)\n \n-|calcium carbonate\n \n-|binding agents",12380,12379,false,{"$f":"VALUE(Table2[[#This Row],[Identifier]])","v":97509}]
["97510",true,"3916200099 - Other",12381,12379,false,{"$f":"VALUE(Table2[[#This Row],[Identifier]])","v":97510}]
["97511",true,"3916900000 - Of other plastics",12382,12373,false,{"$f":"VALUE(Table2[[#This Row],[Identifier]])","v":97511}]
["97512",true,"3916901000 - Of condensation or rearrangement polymerisation products, whether or not chemically modified",12383,12382,false,{"$f":"VALUE(Table2[[#This Row],[Identifier]])","v":97512}]
["97513",true,"3916901010 - Rods with cellular structure, containing by weight:\n \n-|polyamide-6|or poly(epoxy anhydride)\n \n-|7|% or more but not more than 9|% of polytetrafluorethylene if present\n \n-|10|% or more but not more than 25|% of inorganic fillers",12384,12383,false,{"$f":"VALUE(Table2[[#This Row],[Identifier]])","v":97513}]
["97514",true,"3916901090 - Other",12385,12383,false,{"$f":"VALUE(Table2[[#This Row],[Identifier]])","v":97514}]
["97515",true,"3916905000 - Of addition polymerisation products",12386,12382,false,{"$f":"VALUE(Table2[[#This Row],[Identifier]])","v":97515}]
["97516",true,"3916905010 - For use in certain types of aircraft",12387,12386,false,{"$f":"VALUE(Table2[[#This Row],[Identifier]])","v":97516}]
["97517",true,"3916905090 - Other",12388,12386,false,{"$f":"VALUE(Table2[[#This Row],[Identifier]])","v":97517}]
["97518",true,"3916909000 - Other",12389,12382,false,{"$f":"VALUE(Table2[[#This Row],[Identifier]])","v":97518}]
["110828",false,"3917000000 - Tubes, pipes and hoses, and fittings therefor (for example, joints, elbows, flanges), of plastics",12390,11959,false,{"$f":"VALUE(Table2[[#This Row],[Identifier]])","v":110828}]
["97519",true,"3917100000 - Artificial guts (sausage casings) of hardened protein or of cellulosic materials",12391,12390,false,{"$f":"VALUE(Table2[[#This Row],[Identifier]])","v":97519}]
["97520",true,"3917101000 - Of hardened protein",12392,12391,false,{"$f":"VALUE(Table2[[#This Row],[Identifier]])","v":97520}]
["97521",true,"3917109000 - Of cellulosic materials",12393,12391,false,{"$f":"VALUE(Table2[[#This Row],[Identifier]])","v":97521}]
["110829",false,"3917210000 - Tubes, pipes and hoses, rigid",12394,12390,false,{"$f":"VALUE(Table2[[#This Row],[Identifier]])","v":110829}]
["97522",true,"3917210000 - Of polymers of ethylene",12395,12394,false,{"$f":"VALUE(Table2[[#This Row],[Identifier]])","v":97522}]
["97523",true,"3917211000 - Seamless and of a length exceeding the maximum cross-sectional dimension, whether or not surface-worked, but not otherwise worked",12396,12395,false,{"$f":"VALUE(Table2[[#This Row],[Identifier]])","v":97523}]
["97524",true,"3917211010 - For use in certain types of aircraft",12397,12396,false,{"$f":"VALUE(Table2[[#This Row],[Identifier]])","v":97524}]
["97525",true,"3917211090 - Other",12398,12396,false,{"$f":"VALUE(Table2[[#This Row],[Identifier]])","v":97525}]
["97526",true,"3917219000 - Other",12399,12395,false,{"$f":"VALUE(Table2[[#This Row],[Identifier]])","v":97526}]
["97527",true,"3917219010 - With fittings attached, for use in civil aircraft",12400,12399,false,{"$f":"VALUE(Table2[[#This Row],[Identifier]])","v":97527}]
["97528",true,"3917219020 - For use in certain types of aircraft",12401,12399,false,{"$f":"VALUE(Table2[[#This Row],[Identifier]])","v":97528}]
["97529",true,"3917219090 - Other",12402,12399,false,{"$f":"VALUE(Table2[[#This Row],[Identifier]])","v":97529}]
["97530",true,"3917220000 - Of polymers of propylene",12403,12394,false,{"$f":"VALUE(Table2[[#This Row],[Identifier]])","v":97530}]
["97531",true,"3917221000 - Seamless and of a length exceeding the maximum cross-sectional dimension, whether or not surface-worked, but not otherwise worked",12404,12403,false,{"$f":"VALUE(Table2[[#This Row],[Identifier]])","v":97531}]
["97532",true,"3917221010 - For use in certain types of aircraft",12405,12404,false,{"$f":"VALUE(Table2[[#This Row],[Identifier]])","v":97532}]
["97533",true,"3917221090 - Other",12406,12404,false,{"$f":"VALUE(Table2[[#This Row],[Identifier]])","v":97533}]
["97534",true,"3917229000 - Other",12407,12403,false,{"$f":"VALUE(Table2[[#This Row],[Identifier]])","v":97534}]
["97535",true,"3917229010 - With fittings attached, for use in civil aircraft",12408,12407,false,{"$f":"VALUE(Table2[[#This Row],[Identifier]])","v":97535}]
["97536",true,"3917229020 - For use in certain types of aircraft",12409,12407,false,{"$f":"VALUE(Table2[[#This Row],[Identifier]])","v":97536}]
["97537",true,"3917229090 - Other",12410,12407,false,{"$f":"VALUE(Table2[[#This Row],[Identifier]])","v":97537}]
["97538",true,"3917230000 - Of polymers of vinyl chloride",12411,12394,false,{"$f":"VALUE(Table2[[#This Row],[Identifier]])","v":97538}]
["97539",true,"3917231000 - Seamless and of a length exceeding the maximum cross-sectional dimension, whether or not surface-worked, but not otherwise worked",12412,12411,false,{"$f":"VALUE(Table2[[#This Row],[Identifier]])","v":97539}]
["97540",true,"3917231010 - For use in certain types of aircraft",12413,12412,false,{"$f":"VALUE(Table2[[#This Row],[Identifier]])","v":97540}]
["97541",true,"3917231090 - Other",12414,12412,false,{"$f":"VALUE(Table2[[#This Row],[Identifier]])","v":97541}]
["97542",true,"3917239000 - Other",12415,12411,false,{"$f":"VALUE(Table2[[#This Row],[Identifier]])","v":97542}]
["97543",true,"3917239010 - With fittings attached, for use in civil aircraft",12416,12415,false,{"$f":"VALUE(Table2[[#This Row],[Identifier]])","v":97543}]
["97544",true,"3917239020 - For use in certain types of aircraft",12417,12415,false,{"$f":"VALUE(Table2[[#This Row],[Identifier]])","v":97544}]
["97545",true,"3917239090 - Other",12418,12415,false,{"$f":"VALUE(Table2[[#This Row],[Identifier]])","v":97545}]
["97546",true,"3917290000 - Of other plastics",12419,12394,false,{"$f":"VALUE(Table2[[#This Row],[Identifier]])","v":97546}]
["110830",false,"3917290011 - Of addition polymerisation products",12420,12419,false,{"$f":"VALUE(Table2[[#This Row],[Identifier]])","v":110830}]
["97547",true,"3917290011 - For use in certain types of aircraft",12421,12420,false,{"$f":"VALUE(Table2[[#This Row],[Identifier]])","v":97547}]
["97548",true,"3917290019 - Other",12422,12420,false,{"$f":"VALUE(Table2[[#This Row],[Identifier]])","v":97548}]
["110831",false,"3917290091 - Other",12423,12419,false,{"$f":"VALUE(Table2[[#This Row],[Identifier]])","v":110831}]
["97549",true,"3917290091 - With fittings attached, for use in civil aircraft",12424,12423,false,{"$f":"VALUE(Table2[[#This Row],[Identifier]])","v":97549}]
["97550",true,"3917290099 - Other",12425,12423,false,{"$f":"VALUE(Table2[[#This Row],[Identifier]])","v":97550}]
["110832",false,"3917310000 - Other tubes, pipes and hoses",12426,12390,false,{"$f":"VALUE(Table2[[#This Row],[Identifier]])","v":110832}]
["97551",true,"3917310000 - Flexible tubes, pipes and hoses, having a minimum burst pressure of 27,6|MPa",12427,12426,false,{"$f":"VALUE(Table2[[#This Row],[Identifier]])","v":97551}]
["97552",true,"3917310010 - With fittings attached, for use in civil aircraft",12428,12427,false,{"$f":"VALUE(Table2[[#This Row],[Identifier]])","v":97552}]
["97553",true,"3917310020 - For use in certain types of aircraft",12429,12427,false,{"$f":"VALUE(Table2[[#This Row],[Identifier]])","v":97553}]
["131173",true,"3917310030 - Tubings:\n \n-with an outer diameter of 0,33 mm or more but not more than 3,3 mm,\n \n-with an inner diameter of 0,01 mm or more but not more than 2,1 mm,\n \n-suitable for a maximum working pressure rate from 2,7 MPa up to 70 MPa,\n \n-suitable for all solutions used in chromatography,\n \n-whether or not with fused silica,\n \n-whether or not covered with PEEK,\nfor use in chromatographic system",12430,12427,false,{"$f":"VALUE(Table2[[#This Row],[Identifier]])","v":131173}]
["97554",true,"3917310090 - Other",12431,12427,false,{"$f":"VALUE(Table2[[#This Row],[Identifier]])","v":97554}]
["97555",true,"3917320000 - Other, not reinforced or otherwise combined with other materials, without fittings",12432,12426,false,{"$f":"VALUE(Table2[[#This Row],[Identifier]])","v":97555}]
["97556",true,"3917320010 - For use in certain types of aircraft",12433,12432,false,{"$f":"VALUE(Table2[[#This Row],[Identifier]])","v":97556}]
["131174",true,"3917320020 - Tubings:\n \n-with an outer diameter of 0,33 mm or more but not more than 3,3 mm,\n \n-with an inner diameter of 0,01 mm or more but not more than 2,1 mm,\n \n-suitable for a maximum working pressure rate from 2,7 MPa up to 70 MPa,\n \n-suitable for all solutions used in chromatography,\n \n-whether or not with fused silica,\n \n-whether or not covered with PEEK,\nfor use in chromatographic system",12434,12432,false,{"$f":"VALUE(Table2[[#This Row],[Identifier]])","v":131174}]
["134116",true,"3917320030 - Heat shrinkable tube:\n \n-containing by weight 80 % or more polymer,\n \n-with an insulation resistance of 90 MW or more,\n \n-with a dielectric strength of 35 kV / mm or more,\n \n-with a wall thickness of 0,04 mm or more, but not more than 0,9 mm,\n \n-with a lay-flat width of 18 mm or more, but not more than 156 mm,\nfor use in the manufacture of aluminium electrolytic capacitors",12435,12432,false,{"$f":"VALUE(Table2[[#This Row],[Identifier]])","v":134116}]
["97557",true,"3917320090 - Other",12436,12432,false,{"$f":"VALUE(Table2[[#This Row],[Identifier]])","v":97557}]
["97558",true,"3917330000 - Other, not reinforced or otherwise combined with other materials, with fittings",12437,12426,false,{"$f":"VALUE(Table2[[#This Row],[Identifier]])","v":97558}]
["97559",true,"3917330010 - With fittings attached, for use in civil aircraft",12438,12437,false,{"$f":"VALUE(Table2[[#This Row],[Identifier]])","v":97559}]
["97560",true,"3917330090 - Other",12439,12437,false,{"$f":"VALUE(Table2[[#This Row],[Identifier]])","v":97560}]
["97561",true,"3917390000 - Other",12440,12426,false,{"$f":"VALUE(Table2[[#This Row],[Identifier]])","v":97561}]
["97562",true,"3917390010 - With fittings attached, for use in civil aircraft",12441,12440,false,{"$f":"VALUE(Table2[[#This Row],[Identifier]])","v":97562}]
["110833",false,"3917390020 - Other",12442,12440,false,{"$f":"VALUE(Table2[[#This Row],[Identifier]])","v":110833}]
["131175",true,"3917390020 - Tubings:\n \n-with an outer diameter of 0,33 mm or more but not more than 3,3 mm,\n \n-with an inner diameter of 0,01 mm or more but not more than 2,1 mm,\n \n-suitable for a maximum working pressure rate from 2,7 MPa up to 70 MPa,\n \n-suitable for all solutions used in chromatography,\n \n-whether or not with fused silica,\n \n-whether or not covered with PEEK,\nfor use in chromatographic system",12443,12442,false,{"$f":"VALUE(Table2[[#This Row],[Identifier]])","v":131175}]
["97563",true,"3917390091 - For use in certain types of aircraft",12444,12442,false,{"$f":"VALUE(Table2[[#This Row],[Identifier]])","v":97563}]
["97564",true,"3917390099 - Other",12445,12442,false,{"$f":"VALUE(Table2[[#This Row],[Identifier]])","v":97564}]
["97565",true,"3917400000 - Fittings",12446,12390,false,{"$f":"VALUE(Table2[[#This Row],[Identifier]])","v":97565}]
["97566",true,"3917400010 - For use in civil aircraft",12447,12446,false,{"$f":"VALUE(Table2[[#This Row],[Identifier]])","v":97566}]
["110834",false,"3917400020 - Other",12448,12446,false,{"$f":"VALUE(Table2[[#This Row],[Identifier]])","v":110834}]
["131176",true,"3917400020 - Plastic fittings (kit of nuts and ferrules or nuts) and connectors:\n \n-threaded,\n \n-supported with or without a stainless steel ring,\n \n-suitable for a maximum working pressure rate of 2,7 MPa or more but not more than 114 MPa, \nfor tubings with:\n \n-outer diameter of 0,33 mm or more but not more than 3,3 mm,\n \n-suitable for a maximum working pressure rate of 2,7 MPa or more but not more than 114 MPa,\n \n-suitable for all solutions used in chromatography,\nfor use in the production of chromatographic systems",12449,12448,false,{"$f":"VALUE(Table2[[#This Row],[Identifier]])","v":131176}]
["97567",true,"3917400091 - Plastic connectors containing O-rings, a retainer clip and a release system for insertion into car fuel hoses",12450,12448,false,{"$f":"VALUE(Table2[[#This Row],[Identifier]])","v":97567}]
["97568",true,"3917400099 - Other",12451,12448,false,{"$f":"VALUE(Table2[[#This Row],[Identifier]])","v":97568}]
["110835",false,"3918000000 - Floor coverings of plastics, whether or not self-adhesive, in rolls or in the form of tiles; wall or ceiling coverings of plastics, as defined in note 9|to this chapter",12452,11959,false,{"$f":"VALUE(Table2[[#This Row],[Identifier]])","v":110835}]
["97569",true,"3918100000 - Of polymers of vinyl chloride",12453,12452,false,{"$f":"VALUE(Table2[[#This Row],[Identifier]])","v":97569}]
["97570",true,"3918101000 - Consisting of a support impregnated, coated or covered with poly(vinyl chloride)",12454,12453,false,{"$f":"VALUE(Table2[[#This Row],[Identifier]])","v":97570}]
["97571",true,"3918101010 - For use in certain types of aircraft",12455,12454,false,{"$f":"VALUE(Table2[[#This Row],[Identifier]])","v":97571}]
["97572",true,"3918101090 - Other",12456,12454,false,{"$f":"VALUE(Table2[[#This Row],[Identifier]])","v":97572}]
["97573",true,"3918109000 - Other",12457,12453,false,{"$f":"VALUE(Table2[[#This Row],[Identifier]])","v":97573}]
["97574",true,"3918109010 - For use in certain types of aircraft",12458,12457,false,{"$f":"VALUE(Table2[[#This Row],[Identifier]])","v":97574}]
["97575",true,"3918109090 - Other",12459,12457,false,{"$f":"VALUE(Table2[[#This Row],[Identifier]])","v":97575}]
["97576",true,"3918900000 - Of other plastics",12460,12452,false,{"$f":"VALUE(Table2[[#This Row],[Identifier]])","v":97576}]
["97577",true,"3918900010 - For use in certain types of aircraft",12461,12460,false,{"$f":"VALUE(Table2[[#This Row],[Identifier]])","v":97577}]
["97578",true,"3918900090 - Other",12462,12460,false,{"$f":"VALUE(Table2[[#This Row],[Identifier]])","v":97578}]
["110836",false,"3919000000 - Self-adhesive plates, sheets, film, foil, tape, strip and other flat shapes, of plastics, whether or not in rolls",12463,11959,false,{"$f":"VALUE(Table2[[#This Row],[Identifier]])","v":110836}]
["97579",true,"3919100000 - In rolls of a width not exceeding 20|cm",12464,12463,false,{"$f":"VALUE(Table2[[#This Row],[Identifier]])","v":97579}]
["110837",false,"3919101200 - Strips, the coating of which consists of unvulcanised natural or synthetic rubber",12465,12464,false,{"$f":"VALUE(Table2[[#This Row],[Identifier]])","v":110837}]
["97580",true,"3919101200 - Of poly(vinyl chloride) or of polyethylene",12466,12465,false,{"$f":"VALUE(Table2[[#This Row],[Identifier]])","v":97580}]
["97581",true,"3919101500 - Of polypropylene",12467,12465,false,{"$f":"VALUE(Table2[[#This Row],[Identifier]])","v":97581}]
["97582",true,"3919101900 - Other",12468,12465,false,{"$f":"VALUE(Table2[[#This Row],[Identifier]])","v":97582}]
["97583",true,"3919101910 - Reflecting film, consisting of a layer of polyurethane, with, on one side, security imprints against counterfeiting, alteration or substitution of data or duplication, or an official mark for an intended use, and embedded glass beads and, on the other side, an adhesive layer, covered on one side or on both sides with a release film",12469,12468,false,{"$f":"VALUE(Table2[[#This Row],[Identifier]])","v":97583}]
["97584",true,"3919101990 - Other",12470,12468,false,{"$f":"VALUE(Table2[[#This Row],[Identifier]])","v":97584}]
["97585",true,"3919108000 - Other",12471,12464,false,{"$f":"VALUE(Table2[[#This Row],[Identifier]])","v":97585}]
["97586",true,"3919108010 - For use in certain types of aircraft",12472,12471,false,{"$f":"VALUE(Table2[[#This Row],[Identifier]])","v":97586}]
["110838",false,"3919108025 - Other",12473,12471,false,{"$f":"VALUE(Table2[[#This Row],[Identifier]])","v":110838}]
["97587",true,"3919108025 - Reflecting film, consisting of a layer of polyurethane, with, on one side, security imprints against counterfeiting, alteration or substitution of data or duplication, or an official mark for an intended use, and embedded glass beads and, on the other side, an adhesive layer, covered on one side or on both sides with a release film",12474,12473,false,{"$f":"VALUE(Table2[[#This Row],[Identifier]])","v":97587}]
["97588",true,"3919108027 - Polyester film:\n \n-|coated on one side|with an acrylic thermal release adhesive that debonds at temperatures of|90|°C or more but not more than|200|°C, and a polyester liner, and\n \n-|on the other side not coated or coated with an acrylic pressure sensitive adhesive or with an acrylic thermal release adhesive that debonds at temperatures of|90|°C or more but not more than| 200|°C, and a polyester liner",12475,12473,false,{"$f":"VALUE(Table2[[#This Row],[Identifier]])","v":97588}]
["97589",true,"3919108035 - Reflecting film, consisting of a layer of poly(vinyl chloride), a layer of alkyd polyester, with, on one side, security imprints against counterfeiting, alteration or substitution of data or duplication, or an official mark for an intended use, only visible by means of a retroreflecting lighting, and embedded glass beads and, on the other side, an adhesive layer, covered on one side or on both sides with a release film",12476,12473,false,{"$f":"VALUE(Table2[[#This Row],[Identifier]])","v":97589}]
["97590",true,"3919108037 - Polytetrafluoroethylene film:\n \n-|with a thickness of 100|µm or more,\n \n-|an elongation at break of not more than 100|%,\n \n-|coated on one side with a pressure sensitive silicon adhesive",12477,12473,false,{"$f":"VALUE(Table2[[#This Row],[Identifier]])","v":97590}]
["97593",true,"3919108045 - Reinforced polyethylene foam tape, coated on both sides with an acrylic micro channelled pressure sensitive adhesive and on one side a liner, with an application thickness of 0,38|mm or more but not more than 1,53|mm",12478,12473,false,{"$f":"VALUE(Table2[[#This Row],[Identifier]])","v":97593}]
["131177",true,"3919108048 - Plastic strips of polypropylene,\n \n-self-adhesive,\n \n-unilaterally adhesive-coated with an Acrylic Polymer,\n \n-in rolls with a width of 20 cm or less,\n \n-with a thickness including adhesion layer of 0,03 mm or less,\nfor use in the manufacturing of lithium-ion electric rechargeable batteries",12479,12473,false,{"$f":"VALUE(Table2[[#This Row],[Identifier]])","v":131177}]
["97594",true,"3919108050 - Adhesive film consisting of a base of a copolymer of ethylene and vinyl acetate (EVA) of a thickness of 70 µm or more and an adhesive part of acrylic type of a thickness of 5 µm or more, for use in the grinding and/or dicing process of silicon discs",12480,12473,false,{"$f":"VALUE(Table2[[#This Row],[Identifier]])","v":97594}]
["97595",true,"3919108055 - Acrylic foam tape, covered on one side with a heat activatable adhesive or an acrylic pressure sensitive adhesive and on the other side with an acrylic pressure sensitive adhesive and a release sheet, of a peel adhesion at an angle of 90|º of more than 25|N/cm (as determined by the ASTM D 3330|method)",12481,12473,false,{"$f":"VALUE(Table2[[#This Row],[Identifier]])","v":97595}]
["97596",true,"3919108057 - Reflecting sheet:\n \n-|of a polycarbonate or acrylic polymer film embossed on one side in a regular shaped pattern\n \n-|covered on one or both sides with one or more layers of plastic or metallisation, and\n \n-|whether or not covered on one side with a self-adhesive layer and a release sheet",12482,12473,false,{"$f":"VALUE(Table2[[#This Row],[Identifier]])","v":97596}]
["97597",true,"3919108063 - Reflecting film consisting of\n \n-|a layer of an acrylic resin with imprints against counterfeiting, alteration or substitution of data or duplication, or an official mark for an intended use,\n \n-|a layer of an acrylic resin having embedded glass beads,\n \n-|a layer of an acrylic resin hardened by a melamine cross-linking agent,\n \n-|a metal layer,\n \n-|an acrylic adhesive, and\n \n-|a release film",12483,12473,false,{"$f":"VALUE(Table2[[#This Row],[Identifier]])","v":97597}]
["97599",true,"3919108073 - Self-adhesive reflecting sheet whether or not in segmented pieces,\n \n-|whether or not containing a watermark,\n \n-|with or without an application tape coated on one side with an adhesive;\nthe reflective sheet consists of:\n \n-|a layer of acrylic or vinyl polymer,\n \n-|a layer of poly(methyl methacrylate)| or| polycarbonate containing microprisms,\n \n-|a layer of metallisation,\n \n-|an adhesive layer, and\n \n-|a release sheet\n \n-|whether or not containing an additional layer of polyester",12484,12473,false,{"$f":"VALUE(Table2[[#This Row],[Identifier]])","v":97599}]
["97600",true,"3919108075 - Self adhesive reflecting film, consisting of several layers including: \n-|a copolymer of acrylic resin, \n \n-|polyurethane,| \n \n-|a metalised layer with, on one side, laser imprints against counterfeiting, alteration or substitution of data or duplications, or an official mark for an intended use, \n \n-|glass microspheres, and \n \n-|an adhesive layer, with a release liner on one or both sides",12485,12473,false,{"$f":"VALUE(Table2[[#This Row],[Identifier]])","v":97600}]
["97601",true,"3919108085 - Poly(vinyl chloride), poly(ethyleneterephthalate), polyethylene or any other polyolefin film: \n-coated on one side with an acrylic UV-sensitive adhesive and a liner \n-of a total thickness of 65 μm or more without release liner",12486,12473,false,{"$f":"VALUE(Table2[[#This Row],[Identifier]])","v":97601}]
["97602",true,"3919108090 - Other",12487,12473,false,{"$f":"VALUE(Table2[[#This Row],[Identifier]])","v":97602}]
["97603",true,"3919900000 - Other",12488,12463,false,{"$f":"VALUE(Table2[[#This Row],[Identifier]])","v":97603}]
["97604",true,"3919902000 - Self-adhesive circular polishing pads of a kind used for the manufacture of semiconductor wafers",12489,12488,false,{"$f":"VALUE(Table2[[#This Row],[Identifier]])","v":97604}]
["97605",true,"3919908000 - Other",12490,12488,false,{"$f":"VALUE(Table2[[#This Row],[Identifier]])","v":97605}]
["97606",true,"3919908010 - For use in certain types of aircraft",12491,12490,false,{"$f":"VALUE(Table2[[#This Row],[Identifier]])","v":97606}]
["110839",false,"3919908019 - Other",12492,12490,false,{"$f":"VALUE(Table2[[#This Row],[Identifier]])","v":110839}]
["97607",true,"3919908019 - Transparent poly(ethylene terephthalate) self-adhesive film:\n \n-|free from impurities or faults,\n \n-|coated on one side with an acrylic pressure sensitive adhesive and a protective liner, and on the other side with an antistatic layer of ionic organic choline compound,\n \n-|whether or not with a printable dust-proof layer of modified long chain alkyl organic compound,\n \n-|with a total thickness without the liner of 54|μm or more but not more than 64|μm, and\n \n-|a width of more than 1|295|mm but not more than 1|305|mm",12493,12492,false,{"$f":"VALUE(Table2[[#This Row],[Identifier]])","v":97607}]
["97608",true,"3919908020 - Polyester film:\n \n-|coated on one side|with an acrylic thermal release adhesive that debonds at temperatures of|90|°C or more but not more than|200|°C, and a polyester liner, and\n \n-|on the other side not coated or coated with an acrylic pressure sensitive adhesive or with an acrylic thermal release adhesive that debonds at temperatures of|90|°C or more but not more than| 200|°C, and a polyester liner",12494,12492,false,{"$f":"VALUE(Table2[[#This Row],[Identifier]])","v":97608}]
["97610",true,"3919908022 - Polyester, polyethylene or polypropylene film coated on one or both sides with an acrylic and/or rubber pressure sensitive adhesive, whether or not supplied with a release liner, put up in rolls of a width of 45,7 cm or more but not more than 160 cm",12495,12492,false,{"$f":"VALUE(Table2[[#This Row],[Identifier]])","v":97610}]
["97611",true,"3919908023 - Film consisting of 1|to 3|laminated layers of poly(ethylene terephthalate) and a copolymer of terephthalic acid, sebacic acid and ethylene glycol, coated on one side with an acrylic abrasion resistant coating and on the other side with an acrylic pressure sensitive adhesive, a water soluble methylcellulose coating and a poly(ethylene terephthalate) protective liner",12496,12492,false,{"$f":"VALUE(Table2[[#This Row],[Identifier]])","v":97611}]
["97612",true,"3919908024 - Reflecting laminated sheet:\n \n-|consisting of an epoxy acrylate layer embossed on one side in a regular shaped pattern,\n \n-|covered on both sides with one or more layers of plastic material and\n \n-|covered on one side with an adhesive layer and a release sheet",12497,12492,false,{"$f":"VALUE(Table2[[#This Row],[Identifier]])","v":97612}]
["97615",true,"3919908028 - Poly(vinyl chloride), poly(ethyleneterephthalate), polyethylene or any other polyolefin film: \n-coated on one side with an acrylic UV-sensitive adhesive and a liner \n-of a total thickness of 65 μm or more without release liner",12498,12492,false,{"$f":"VALUE(Table2[[#This Row],[Identifier]])","v":97615}]
["97616",true,"3919908030 - Reflecting sheet:\n \n-|of a polycarbonate or acrylic polymer film embossed on one side in a regular shaped pattern\n \n-|covered on one or both sides with one or more layers of plastic or metallisation, and\n \n-|whether or not covered on one side with a self-adhesive layer and a release sheet",12499,12492,false,{"$f":"VALUE(Table2[[#This Row],[Identifier]])","v":97616}]
["97617",true,"3919908031 - Reflecting film, consisting of a layer of polyurethane, with, on one side, security imprints against counterfeiting, alteration or substitution of data or duplication, or an official mark for an intended use, and embedded glass beads and, on the other side, an adhesive layer, covered on one side or on both sides with a release film",12500,12492,false,{"$f":"VALUE(Table2[[#This Row],[Identifier]])","v":97617}]
["97618",true,"3919908033 - Transparent poly(ethylene) self-adhesive film, free from impurities or faults, coated on one side with an acrylic pressure sensitive adhesive, with a thickness of 60|μm or more, but not more than 70|μm, and with a width of more than 1|245|mm but not more than 1|255|mm",12501,12492,false,{"$f":"VALUE(Table2[[#This Row],[Identifier]])","v":97618}]
["97619",true,"3919908035 - Reflecting layered sheet on rolls, with a width of more than 20|cm, showing an embossed regular pattern, consisting of poly(vinyl chloride) film coated on one side with:\n \n-|a layer of polyurethane containing glass micro beads,\n \n-|a layer of poly(ethylene vinyl acetate),\n \n-|an adhesive layer, and\n \n-|a release sheet",12502,12492,false,{"$f":"VALUE(Table2[[#This Row],[Identifier]])","v":97619}]
["97620",true,"3919908037 - Polyethylene or polycarbonate film, cut into ready to use forms,\n \n-|one side partly printed whereby part of the printing either gives information about the meaning of LED's visible at the unprinted areas, or marks those points which must be touched to operate the system,\n \n-|the other side partly covered with an adhesive layer,\n \n-|both sides covered with a release liner, and\n \n-|with dimensions of not more than 14|cm x 2,5|cm,\nfor use in the manufacture of push-button switches for mechatronic system adjustable furniture",12503,12492,false,{"$f":"VALUE(Table2[[#This Row],[Identifier]])","v":97620}]
["97621",true,"3919908041 - Adhesive film consisting of a base of a copolymer of ethylene and vinyl acetate (EVA) of a thickness of 70 µm or more and an adhesive part of acrylic type of a thickness of 5 µm or more, for use in the grinding and/or dicing process of silicon discs",12504,12492,false,{"$f":"VALUE(Table2[[#This Row],[Identifier]])","v":97621}]
["97623",true,"3919908045 - Reinforced polyethylene foam tape, coated on both sides with an acrylic micro channelled pressure sensitive adhesive and on one side a liner, with an application thickness of 0,38|mm or more but not more than 1,53|mm",12505,12492,false,{"$f":"VALUE(Table2[[#This Row],[Identifier]])","v":97623}]
["97624",true,"3919908049 - Reflecting laminated sheet consisting of a film of poly(methyl methacrylate) embossed on one side in a regular shaped pattern, a film of a polymer containing glass microspheres, an adhesive layer and a release sheet",12506,12492,false,{"$f":"VALUE(Table2[[#This Row],[Identifier]])","v":97624}]
["97625",true,"3919908050 - Self-adhesive reflecting sheet whether or not in segmented pieces,\n \n-|whether or not containing a watermark,\n \n-|with or without an application tape coated on one side with an adhesive;\nthe reflective sheet consists of:\n \n-|a layer of acrylic or vinyl polymer,\n \n-|a layer of poly(methyl methacrylate)| or| polycarbonate containing microprisms,\n \n-|a layer of metallisation,\n \n-|an adhesive layer, and\n \n-|a release sheet\n \n-|whether or not containing an additional layer of polyester",12507,12492,false,{"$f":"VALUE(Table2[[#This Row],[Identifier]])","v":97625}]
["97626",true,"3919908051 - Biaxially-oriented film of poly(methyl methacrylate), of a thickness of 50μm or more but not exceeding 90μm, covered on one side with an adhesive layer and a release sheet",12508,12492,false,{"$f":"VALUE(Table2[[#This Row],[Identifier]])","v":97626}]
["97628",true,"3919908053 - Acrylic foam tape, covered on one side with a heat activatable adhesive or an acrylic pressure sensitive adhesive and on the other side with an acrylic pressure sensitive adhesive and a release sheet, of a peel adhesion at an angle of 90|º of more than 25|N/cm (as determined by the ASTM D 3330|method)",12509,12492,false,{"$f":"VALUE(Table2[[#This Row],[Identifier]])","v":97628}]
["97629",true,"3919908054 - Poly(vinyl chloride) film, on one side covered with\n-\ta polymer layer\n-\tan adhesive layer\n-\ta release liner, on one side embossed, containing oblate spheres;\nwhether or not on the other side covered with an adhesive layer and a metallised polymer layer",12510,12492,false,{"$f":"VALUE(Table2[[#This Row],[Identifier]])","v":97629}]
["97631",true,"3919908065 - Self-adhesive film with a thickness of 40 µm or more, but not more than 475 µm, consisting of one or more layers of transparent, metallized or dyed poly(ethylene terephthalate), covered on one side with a scratch resistant coating and on the other side with a pressure sensitive adhesive and a release liner",12511,12492,false,{"$f":"VALUE(Table2[[#This Row],[Identifier]])","v":97631}]
["97632",true,"3919908070 - Self-adhesive polishing discs of microporous polyurethane, whether or not|coated with a|pad",12512,12492,false,{"$f":"VALUE(Table2[[#This Row],[Identifier]])","v":97632}]
["97634",true,"3919908080 - Self adhesive reflecting film, consisting of several layers including: \n-|a copolymer of acrylic resin, \n \n-|polyurethane,| \n \n-|a metalised layer with, on one side, laser imprints against counterfeiting, alteration or substitution of data or duplications, or an official mark for an intended use, \n \n-|glass microspheres, and \n \n-|an adhesive layer, with a release liner on one or both sides",12513,12492,false,{"$f":"VALUE(Table2[[#This Row],[Identifier]])","v":97634}]
["97635",true,"3919908082 - Reflecting film consisting of:\n\n-|a polyurethane layer,\n\n-|a glass microspheres layer,\n\n-|a metallised aluminium layer, and\n\n-|an adhesive, covered on one or both sides with a release liner,\n\n-|whether or not a poly(vinyl chloride) layer,\n\n-|a layer whether or not incorporating security imprints against counterfeiting, alteration or substitution of data or duplication, or an official mark for an intended use",12514,12492,false,{"$f":"VALUE(Table2[[#This Row],[Identifier]])","v":97635}]
["97636",true,"3919908083 - Reflector or diffuser sheets, in rolls,\n \n-for protection against ultraviolet or infra-red heat radiation, to be affixed to windows or\n \n-for equal transmission and distribution of light, intended for LCD modules",12515,12492,false,{"$f":"VALUE(Table2[[#This Row],[Identifier]])","v":97636}]
["97637",true,"3919908099 - Other",12516,12492,false,{"$f":"VALUE(Table2[[#This Row],[Identifier]])","v":97637}]
["110840",false,"3920000000 - Other plates, sheets, film, foil and strip, of plastics, non-cellular and not reinforced, laminated, supported or similarly combined with other materials",12517,11959,false,{"$f":"VALUE(Table2[[#This Row],[Identifier]])","v":110840}]
["97638",true,"3920100000 - Of polymers of ethylene",12518,12517,false,{"$f":"VALUE(Table2[[#This Row],[Identifier]])","v":97638}]
["110841",false,"3920102300 - Of a thickness not exceeding 0,125|mm",12519,12518,false,{"$f":"VALUE(Table2[[#This Row],[Identifier]])","v":110841}]
["110842",false,"3920102300 - Of polyethylene having a specific gravity of",12520,12519,false,{"$f":"VALUE(Table2[[#This Row],[Identifier]])","v":110842}]
["110843",false,"3920102300 - Less than 0,94",12521,12520,false,{"$f":"VALUE(Table2[[#This Row],[Identifier]])","v":110843}]
["97639",true,"3920102300 - Polyethylene film, of a thickness of 20|micrometres or more but not exceeding 40|micrometres, for the production of photoresist film used in the manufacture of semiconductors or printed circuits",12522,12521,false,{"$f":"VALUE(Table2[[#This Row],[Identifier]])","v":97639}]
["97640",true,"3920102400 - Stretch film, not printed",12523,12521,false,{"$f":"VALUE(Table2[[#This Row],[Identifier]])","v":97640}]
["97641",true,"3920102410 - For use in certain types of aircraft",12524,12523,false,{"$f":"VALUE(Table2[[#This Row],[Identifier]])","v":97641}]
["97642",true,"3920102490 - Other",12525,12523,false,{"$f":"VALUE(Table2[[#This Row],[Identifier]])","v":97642}]
["97643",true,"3920102500 - Other",12526,12521,false,{"$f":"VALUE(Table2[[#This Row],[Identifier]])","v":97643}]
["97644",true,"3920102505 - For use in certain types of aircraft",12527,12526,false,{"$f":"VALUE(Table2[[#This Row],[Identifier]])","v":97644}]
["118979",false,"3920102530 - Other",12528,12526,false,{"$f":"VALUE(Table2[[#This Row],[Identifier]])","v":118979}]
["118980",true,"3920102530 - Mono-layered High-Density Polyethylene film:\n \n-containing by weight 99 % or more of polyethylene,\n \n-with a thickness of 12 μm or more but not more than 20 μm,\n \n-with a length of 4000 m or more but not more than 7000 m,\n \n-with a width of 600 mm or more but not more than 900 mm",12529,12528,false,{"$f":"VALUE(Table2[[#This Row],[Identifier]])","v":118980}]
["97646",true,"3920102590 - Other",12530,12528,false,{"$f":"VALUE(Table2[[#This Row],[Identifier]])","v":97646}]
["97647",true,"3920102800 - 0,94|or more",12531,12520,false,{"$f":"VALUE(Table2[[#This Row],[Identifier]])","v":97647}]
["97648",true,"3920102810 - For use in certain types of aircraft",12532,12531,false,{"$f":"VALUE(Table2[[#This Row],[Identifier]])","v":97648}]
["134117",false,"3920102820 - Other",12533,12531,false,{"$f":"VALUE(Table2[[#This Row],[Identifier]])","v":134117}]
["134118",true,"3920102820 - A Separator film of polyethylene:\n \n-coated on one side with a layer of aluminium oxide,\n \n-containing by weight not more than 70 % of polyethylene,\n \n-containing by weight not more than 30 % of aluminum oxide,\n \n-with a total thickness of 5 µm or more but not more than 25 µm,\nfor use in the manufacture of lithium-ion batteries",12534,12533,false,{"$f":"VALUE(Table2[[#This Row],[Identifier]])","v":134118}]
["97650",true,"3920102891 - Poly(ethylene) film printed with a graphic design, which is achieved by using four base colours in ink plus specialist colours, to achieve multiple colours in ink on one side of the film, and one colour on the opposite side, the graphic design also has the following characteristics:\n \n-|is repetitive and equally spaced along the length of the film\n \n-|is equally and visibly aligned when viewed from the back or front of the film",12535,12533,false,{"$f":"VALUE(Table2[[#This Row],[Identifier]])","v":97650}]
["97651",true,"3920102899 - Other",12536,12533,false,{"$f":"VALUE(Table2[[#This Row],[Identifier]])","v":97651}]
["97652",true,"3920104000 - Other",12537,12519,false,{"$f":"VALUE(Table2[[#This Row],[Identifier]])","v":97652}]
["97653",true,"3920104010 - For use in certain types of aircraft",12538,12537,false,{"$f":"VALUE(Table2[[#This Row],[Identifier]])","v":97653}]
["110846",false,"3920104040 - Other",12539,12537,false,{"$f":"VALUE(Table2[[#This Row],[Identifier]])","v":110846}]
["97654",true,"3920104040 - Tubular layered film predominately of polyethylene:\n \n-|consisting of a tri-layer barrier with a core layer of ethylene vinyl alcohol covered on| either side with a layer of polyamide, covered on either side with at least one layer of polyethylene,\n \n-|having a total thickness of 55|µm or more,\n \n-|having a diameter of 500|mm or more but not more than 600|mm",12540,12539,false,{"$f":"VALUE(Table2[[#This Row],[Identifier]])","v":97654}]
["97655",true,"3920104099 - Other",12541,12539,false,{"$f":"VALUE(Table2[[#This Row],[Identifier]])","v":97655}]
["110847",false,"3920108100 - Of a thickness exceeding 0,125|mm",12542,12518,false,{"$f":"VALUE(Table2[[#This Row],[Identifier]])","v":110847}]
["97656",true,"3920108100 - Synthetic paper pulp, in the form of moist sheets made from unconnected finely branched polyethylene fibrils, whether or not blended with cellulose fibres in a quantity not exceeding 15|%, containing poly(vinyl alcohol) dissolved in water as the moistening agent",12543,12542,false,{"$f":"VALUE(Table2[[#This Row],[Identifier]])","v":97656}]
["97657",true,"3920108900 - Other",12544,12542,false,{"$f":"VALUE(Table2[[#This Row],[Identifier]])","v":97657}]
["97658",true,"3920108910 - For use in certain types of aircraft",12545,12544,false,{"$f":"VALUE(Table2[[#This Row],[Identifier]])","v":97658}]
["110848",false,"3920108925 - Other",12546,12544,false,{"$f":"VALUE(Table2[[#This Row],[Identifier]])","v":110848}]
["97659",true,"3920108925 - Adhesive film consisting of a base of a copolymer of ethylene and vinyl acetate (EVA) of a thickness of 70 µm or more and an adhesive part of acrylic type of a thickness of 5 µm or more, for use in the grinding and/or dicing process of silicon discs",12547,12546,false,{"$f":"VALUE(Table2[[#This Row],[Identifier]])","v":97659}]
["97661",true,"3920108940 - Composite sheet containing an acrylic coating and laminated to a high-density polyethylene layer, of a total thickness of 0.8|mm or more but not exceeding 1.2|mm",12548,12546,false,{"$f":"VALUE(Table2[[#This Row],[Identifier]])","v":97661}]
["131178",true,"3920108945 - Octene and ethylene copolymer plastic film of a thickness of 0,45 mm or more but not more than 0,75 mm, for use in the manufacture of glass to glass photovoltaic solar panels",12549,12546,false,{"$f":"VALUE(Table2[[#This Row],[Identifier]])","v":131178}]
["131179",true,"3920108955 - Ethylene vinyl acetate (EVA) film:\n \n- with a raised relief surface with embossed undulations,\n \n- not laminated,\n \n- not cross-linked, and\n \n- with a thickness of more than 0,3 mm",12550,12546,false,{"$f":"VALUE(Table2[[#This Row],[Identifier]])","v":131179}]
["97662",true,"3920108990 - Other",12551,12546,false,{"$f":"VALUE(Table2[[#This Row],[Identifier]])","v":97662}]
["97663",true,"3920200000 - Of polymers of propylene",12552,12517,false,{"$f":"VALUE(Table2[[#This Row],[Identifier]])","v":97663}]
["110849",false,"3920202100 - Of a thickness not exceeding 0,10|mm",12553,12552,false,{"$f":"VALUE(Table2[[#This Row],[Identifier]])","v":110849}]
["97664",true,"3920202100 - Biaxially oriented",12554,12553,false,{"$f":"VALUE(Table2[[#This Row],[Identifier]])","v":97664}]
["97665",true,"3920202110 - For use in certain types of aircraft",12555,12554,false,{"$f":"VALUE(Table2[[#This Row],[Identifier]])","v":97665}]
["97666",true,"3920202140 - Sheets of biaxially - oriented polypropylene|film: \n\t\t\t\t\t\t\n-|with the thickness of not more than 0,1|mm, \n\t\t\t\t\t\t\n-|printed on both sides with specialised coatings to allow banknote security printing",12556,12554,false,{"$f":"VALUE(Table2[[#This Row],[Identifier]])","v":97666}]
["134119",true,"3920202150 - Biaxialy oriented film of multiple layers of polypropylene, with a total thickness of not more than 14 micron",12557,12554,false,{"$f":"VALUE(Table2[[#This Row],[Identifier]])","v":134119}]
["97667",true,"3920202190 - Other",12558,12554,false,{"$f":"VALUE(Table2[[#This Row],[Identifier]])","v":97667}]
["97668",true,"3920202900 - Other",12559,12553,false,{"$f":"VALUE(Table2[[#This Row],[Identifier]])","v":97668}]
["97669",true,"3920202910 - For use in certain types of aircraft",12560,12559,false,{"$f":"VALUE(Table2[[#This Row],[Identifier]])","v":97669}]
["110850",false,"3920202960 - Other",12561,12559,false,{"$f":"VALUE(Table2[[#This Row],[Identifier]])","v":110850}]
["97670",true,"3920202960 - Mono-axial oriented film, of a total thickness of not more than 75µm, consisting of three or four layers, each layer containing a mixture of polypropylene and polyethylene, with a core layer whether or not containing titanium dioxide, having:\n \n-|a tensile strength in the machine direction of 120|MPa or more but not more than 270|MPa and\n \n-|a tensile strength in the transverse direction of 10|MPa or more but not more than 40|MPa\nas determined by test method ASTM D882/ISO 527-3",12562,12561,false,{"$f":"VALUE(Table2[[#This Row],[Identifier]])","v":97670}]
["97671",true,"3920202970 - Mono-axial oriented film, consisting of three layers, each layer consisting of a mixture of polypropylene and a copolymer of ethylene and vinyl acetate, with a core layer whether or not containing titanium dioxide, having:\n \n-|a thickness of 55|µm or more but not more than 97|µm,\n \n-|a tensile modulus in the machine direction of 0,30|GPa or more but not more than 1,45|GPa, and\n \n-|a tensile modulus in the transverse direction of 0,20|GPa or more but not more than 0,70|GPa",12563,12561,false,{"$f":"VALUE(Table2[[#This Row],[Identifier]])","v":97671}]
["97672",true,"3920202994 - Mono-axial oriented, co-extruded film:\n \n-consisting of 3 to 5 layers,\n \n-each layer mainly consisting of polypropylene and/or polyethylene,\n \n-each layer containing not more than 10 % by weight of other polymers,\n \n-whether or not containing titanium dioxide in the core layer,\n \n-of an overall thickness of not more than 75 μm",12564,12561,false,{"$f":"VALUE(Table2[[#This Row],[Identifier]])","v":97672}]
["97673",true,"3920202999 - Other",12565,12561,false,{"$f":"VALUE(Table2[[#This Row],[Identifier]])","v":97673}]
["97674",true,"3920208000 - Of a thickness exceeding 0,10|mm",12566,12552,false,{"$f":"VALUE(Table2[[#This Row],[Identifier]])","v":97674}]
["97675",true,"3920208010 - For use in certain types of aircraft",12567,12566,false,{"$f":"VALUE(Table2[[#This Row],[Identifier]])","v":97675}]
["97676",true,"3920208090 - Other",12568,12566,false,{"$f":"VALUE(Table2[[#This Row],[Identifier]])","v":97676}]
["97677",true,"3920300000 - Of polymers of styrene",12569,12517,false,{"$f":"VALUE(Table2[[#This Row],[Identifier]])","v":97677}]
["97678",true,"3920300010 - Acrylonitrile-butadiene-styrene, for use in certain types of aircraft",12570,12569,false,{"$f":"VALUE(Table2[[#This Row],[Identifier]])","v":97678}]
["97679",true,"3920300090 - Other",12571,12569,false,{"$f":"VALUE(Table2[[#This Row],[Identifier]])","v":97679}]
["110851",false,"3920430000 - Of polymers of vinyl chloride",12572,12517,false,{"$f":"VALUE(Table2[[#This Row],[Identifier]])","v":110851}]
["97680",true,"3920430000 - Containing by weight not less than 6|% of plasticisers",12573,12572,false,{"$f":"VALUE(Table2[[#This Row],[Identifier]])","v":97680}]
["97681",true,"3920431000 - Of a thickness not exceeding 1|mm",12574,12573,false,{"$f":"VALUE(Table2[[#This Row],[Identifier]])","v":97681}]
["97682",true,"3920431010 - For use in certain types of aircraft",12575,12574,false,{"$f":"VALUE(Table2[[#This Row],[Identifier]])","v":97682}]
["110852",false,"3920431092 - Other",12576,12574,false,{"$f":"VALUE(Table2[[#This Row],[Identifier]])","v":110852}]
["97683",true,"3920431092 - Sheeting of poly(vinyl chloride), stabilized against ultraviolet rays, without any holes, even microscopic, of a thickness of 60|µm or more but not more than 80|µm, containing 30|or more but not more than 40|parts of plasticizer to 100|parts of poly(vinyl chloride)",12577,12576,false,{"$f":"VALUE(Table2[[#This Row],[Identifier]])","v":97683}]
["97684",true,"3920431094 - Film of a specular gloss of 70|or more, measured at an angle of 60|° using a glossmeter (as determined by the ISO 2813:2000|method), consisting of one or two layers of poly(vinyl chloride) coated on both sides with a layer of plastic, of a thickness of 0,26|mm or more but not more than 1,0|mm, covered on the gloss surface with a protective film of polyethylene, in rolls of a width of 1|000|mm or more but not more than 1|450|mm, for use in the manufacture of goods of heading|9403",12578,12576,false,{"$f":"VALUE(Table2[[#This Row],[Identifier]])","v":97684}]
["97685",true,"3920431095 - Reflecting laminated sheet, consisting of a film of poly(vinyl chloride) and a film of an other plastic totally embossed in a regular pyramidal pattern, covered on one side with a release sheet",12579,12576,false,{"$f":"VALUE(Table2[[#This Row],[Identifier]])","v":97685}]
["97686",true,"3920431099 - Other",12580,12576,false,{"$f":"VALUE(Table2[[#This Row],[Identifier]])","v":97686}]
["97687",true,"3920439000 - Of a thickness exceeding 1|mm",12581,12573,false,{"$f":"VALUE(Table2[[#This Row],[Identifier]])","v":97687}]
["97688",true,"3920439010 - For use in certain types of aircraft",12582,12581,false,{"$f":"VALUE(Table2[[#This Row],[Identifier]])","v":97688}]
["97689",true,"3920439090 - Other",12583,12581,false,{"$f":"VALUE(Table2[[#This Row],[Identifier]])","v":97689}]
["97690",true,"3920490000 - Other",12584,12572,false,{"$f":"VALUE(Table2[[#This Row],[Identifier]])","v":97690}]
["97691",true,"3920491000 - Of a thickness not exceeding 1|mm",12585,12584,false,{"$f":"VALUE(Table2[[#This Row],[Identifier]])","v":97691}]
["97692",true,"3920491010 - For use in certain types of aircraft",12586,12585,false,{"$f":"VALUE(Table2[[#This Row],[Identifier]])","v":97692}]
["110853",false,"3920491030 - Other",12587,12585,false,{"$f":"VALUE(Table2[[#This Row],[Identifier]])","v":110853}]
["97693",true,"3920491030 - Film of a (polyvinyl)chloride-copolymer\n \n-|containing by weight 45|% or more of fillers\n \n-|on a support",12588,12587,false,{"$f":"VALUE(Table2[[#This Row],[Identifier]])","v":97693}]
["97694",true,"3920491093 - Film of a specular gloss of 70|or more, measured at an angle of 60|° using a glossmeter (as determined by the ISO 2813:2000|method), consisting of one or two layers of poly(vinyl chloride) coated on both sides with a layer of plastic, of a thickness of 0,26|mm or more but not more than 1,0|mm, covered on the gloss surface with a protective film of polyethylene, in rolls of a width of 1|000|mm or more but not more than 1|450|mm, for use in the manufacture of goods of heading|9403",12589,12587,false,{"$f":"VALUE(Table2[[#This Row],[Identifier]])","v":97694}]
["97695",true,"3920491099 - Other",12590,12587,false,{"$f":"VALUE(Table2[[#This Row],[Identifier]])","v":97695}]
["97696",true,"3920499000 - Of a thickness exceeding 1|mm",12591,12584,false,{"$f":"VALUE(Table2[[#This Row],[Identifier]])","v":97696}]
["97697",true,"3920499010 - For use in certain types of aircraft",12592,12591,false,{"$f":"VALUE(Table2[[#This Row],[Identifier]])","v":97697}]
["97700",true,"3920510020 - Plate of poly(methyl methacrylate) containing aluminium trihydroxide, of a thickness of 3,5|mm or more but not more than 19|mm",12596,12595,false,{"$f":"VALUE(Table2[[#This Row],[Identifier]])","v":97700}]
["97707",true,"3920599000 - Other",12603,12601,false,{"$f":"VALUE(Table2[[#This Row],[Identifier]])","v":97707}]
["97709",true,"3920610030 - Reflecting sheet: \n- of a polycarbonate or acrylic polymer film embossed on one side in a regular shaped pattern\n- covered on one or both sides with one or more layers of plastic or metallisation, and\n- whether or not covered on one side with a self-adhesive layer and a release sheet",12606,12605,false,{"$f":"VALUE(Table2[[#This Row],[Identifier]])","v":97709}]
["97713",true,"3920621900 - Other",12613,12611,false,{"$f":"VALUE(Table2[[#This Row],[Identifier]])","v":97713}]
["134121",true,"3920621928 - Non-transparent poly(ethylene terephthalate) film:\n \n-covered on one side with a layer of a fluoropolymer,\n \n-covered on the other side with an adhesive and a layer of polyvinylidene difluoride,\n \n-each outer layer with a thickness of 7 nm or more but not more than 80 nm,\n \n-with a tensile strength of 300 N/cm or more (ASTM D-882),\n \n-with a total thickness of 200 µm or more but not more than 350 µm, and\n \n-with a width of 600 mm or more but not more than 1 600 mm",12619,12613,false,{"$f":"VALUE(Table2[[#This Row],[Identifier]])","v":134121}]
["97724",true,"3920621999 - Other",12626,12613,false,{"$f":"VALUE(Table2[[#This Row],[Identifier]])","v":97724}]
["97730",true,"3920690020 - Film of poly(ethylene naphthalene-2,6-dicarboxylate)",12633,12632,false,{"$f":"VALUE(Table2[[#This Row],[Identifier]])","v":97730}]
["97732",true,"3920690060 - Monolayer, transverse oriented, shrink film:\n \n-|composed of more than 80|% by weight of poly(lactic acid) and not more than 15,75|% by weight of additives of modified poly(lactic acid),\n \n-|having a thickness of 45|µm or more but not more than 50|µm,\n \n-|biodegradable and compostable (as determined by the method |EN 13432)",12636,12632,false,{"$f":"VALUE(Table2[[#This Row],[Identifier]])","v":97732}]
["97736",true,"3920731000 - Film in rolls or in strips, for cinematography or photography",12642,12641,false,{"$f":"VALUE(Table2[[#This Row],[Identifier]])","v":97736}]
["97746",true,"3920910052 - Poly(vinyl butyral) film:\n \n-|containing by weight| 26|% or more but not more than|30|% of triethyleneglycol bis(2-ethyl hexanoate) as a plasticiser,\n \n-|with a thickness|of 0,73|mm or more but not more than 1,50|mm",12653,12652,false,{"$f":"VALUE(Table2[[#This Row],[Identifier]])","v":97746}]
["110860",false,"3920910095 - Co-extruded trilayer poly(vinyl butyral) film",12656,12652,false,{"$f":"VALUE(Table2[[#This Row],[Identifier]])","v":110860}]
["97755",true,"3920990000 - Of other plastics",12663,12649,false,{"$f":"VALUE(Table2[[#This Row],[Identifier]])","v":97755}]
["97762",true,"3920992870 - Sheets on rolls, consisting of epoxy resin, with conducting properties, containing: \n-|microspheres with a coating of metal, whether or not alloyed with gold, \n \n-|an adhesive layer, \n \n-|with a protective|layer of silicone or poly(ethylene terephthalate) on one|side,| \n \n-|with a protective layer of poly(ethylene terephthalate) on the other side, and \n \n-|with a width of 5|cm or more but not more than 100|cm \n \n-|with a length of not more than 2|000|m",12672,12666,false,{"$f":"VALUE(Table2[[#This Row],[Identifier]])","v":97762}]
["97765",true,"3920995200 - Poly(vinyl fluoride) sheet; biaxially oriented poly(vinyl alcohol) film, containing by weight 97|% or more of poly(vinyl alcohol), uncoated, of a thickness not exceeding 1|mm",12675,12674,false,{"$f":"VALUE(Table2[[#This Row],[Identifier]])","v":97765}]
["97772",true,"3920995965 - Film of a vinyl alcohol copolymer, soluble in cold water, of a thickness of 34|µm or more but not more than 90|µm, a tensile strength at break of 20|MPa or more but not more than 55|MPa and an elongation at break of 250|% or more but not more than 900|%",12683,12679,false,{"$f":"VALUE(Table2[[#This Row],[Identifier]])","v":97772}]
["97776",true,"3920999000 - Other",12686,12663,false,{"$f":"VALUE(Table2[[#This Row],[Identifier]])","v":97776}]
["97781",true,"3921110090 - Other",12693,12691,false,{"$f":"VALUE(Table2[[#This Row],[Identifier]])","v":97781}]
["97786",true,"3921131000 - Flexible",12698,12697,false,{"$f":"VALUE(Table2[[#This Row],[Identifier]])","v":97786}]
["97795",true,"3921190010 - For use in certain types of aircraft",12706,12705,false,{"$f":"VALUE(Table2[[#This Row],[Identifier]])","v":97795}]
["97802",true,"3921190093 - Strip of microporous polytetrafluoroethylene on a support of a non-woven, for use in the manufacture of filters for kidney dialysis equipment",12713,12707,false,{"$f":"VALUE(Table2[[#This Row],[Identifier]])","v":97802}]
["97810",true,"3921901030 - Multilayer film consisting of:\n \n-|a poly(ethylene terephthalate) film with a thickness of more than 100|µm but not more than 150|µm,\n \n-|a primer of phenolic material with a thickness of more than 8|µm but not more than 15|µm,\n \n-|an adhesive layer of a synthetic rubber with a thickness of more than 20|µm but not more than 30|µm,\n \n-|and a transparent poly(ethylene terephthalate) liner with a thickness of more than 35|µm but not more than 40|µm",12722,12718,false,{"$f":"VALUE(Table2[[#This Row],[Identifier]])","v":97810}]
["97811",true,"3921901090 - Other",12723,12718,false,{"$f":"VALUE(Table2[[#This Row],[Identifier]])","v":97811}]
["97821",true,"3921905590 - Other",12735,12730,false,{"$f":"VALUE(Table2[[#This Row],[Identifier]])","v":97821}]
["97822",true,"3921906000 - Of addition polymerisation products",12736,12716,false,{"$f":"VALUE(Table2[[#This Row],[Identifier]])","v":97822}]
["97828",true,"3922100000 - Baths, shower-baths, sinks and washbasins",12743,12742,false,{"$f":"VALUE(Table2[[#This Row],[Identifier]])","v":97828}]
["110873",false,"3923210000 - Sacks and bags (including cones)",12752,12746,false,{"$f":"VALUE(Table2[[#This Row],[Identifier]])","v":110873}]
["97837",true,"3923290000 - Of other plastics",12754,12752,false,{"$f":"VALUE(Table2[[#This Row],[Identifier]])","v":97837}]
["97846",true,"3923500000 - Stoppers, lids, caps and other closures",12763,12746,false,{"$f":"VALUE(Table2[[#This Row],[Identifier]])","v":97846}]
["97853",true,"3924100020 - Polycarbonate infant feeding bottles",12772,12768,false,{"$f":"VALUE(Table2[[#This Row],[Identifier]])","v":97853}]
["97854",true,"3924100090 - Other",12773,12768,false,{"$f":"VALUE(Table2[[#This Row],[Identifier]])","v":97854}]
["97864",true,"3925908000 - Other",12784,12781,false,{"$f":"VALUE(Table2[[#This Row],[Identifier]])","v":97864}]
["97865",true,"3926100000 - Office or school supplies",12786,12785,false,{"$f":"VALUE(Table2[[#This Row],[Identifier]])","v":97865}]
["97873",true,"3926900000 - Other",12793,12785,false,{"$f":"VALUE(Table2[[#This Row],[Identifier]])","v":97873}]
["97886",true,"3926909727 - Gasket of polyethylene foam, intended to fill-up the space between the body of a motor vehicle|and the base of a rear-view mirror",12802,12796,false,{"$f":"VALUE(Table2[[#This Row],[Identifier]])","v":97886}]
["118984",true,"3926909740 - Silicone shell for breast implant ",12805,12796,false,{"$f":"VALUE(Table2[[#This Row],[Identifier]])","v":118984}]
["110881",false,"4001000000 - Natural rubber, balata, gutta-percha, guayule, chicle and similar natural gums, in primary forms or in plates, sheets or strip",12814,12813,false,{"$f":"VALUE(Table2[[#This Row],[Identifier]])","v":110881}]
["110884",false,"4002110000 - Styrene-butadiene rubber (SBR); carboxylated styrene-butadiene rubber (XSBR)",12822,12821,false,{"$f":"VALUE(Table2[[#This Row],[Identifier]])","v":110884}]
["97900",true,"4002110000 - Latex",12823,12822,false,{"$f":"VALUE(Table2[[#This Row],[Identifier]])","v":97900}]
["97908",true,"4002390000 - Other",12832,12830,false,{"$f":"VALUE(Table2[[#This Row],[Identifier]])","v":97908}]
["97914",true,"4002700000 - Ethylene-propylene-non-conjugated diene rubber (EPDM)",12840,12821,false,{"$f":"VALUE(Table2[[#This Row],[Identifier]])","v":97914}]
["97916",true,"4002910000 - Latex",12843,12842,false,{"$f":"VALUE(Table2[[#This Row],[Identifier]])","v":97916}]
["110890",false,"4005910000 - Other",12852,12849,false,{"$f":"VALUE(Table2[[#This Row],[Identifier]])","v":110890}]
["97929",true,"4007000010 - Siliconated vulcanised rubber thread and cord",12859,12858,false,{"$f":"VALUE(Table2[[#This Row],[Identifier]])","v":97929}]
["110893",false,"4008110000 - Of cellular rubber",12862,12861,false,{"$f":"VALUE(Table2[[#This Row],[Identifier]])","v":110893}]
["97937",true,"4008290010 - Profile shapes, cut to size, for use in civil aircraft",12870,12869,false,{"$f":"VALUE(Table2[[#This Row],[Identifier]])","v":97937}]
["110896",false,"4009110000 - Not reinforced or otherwise combined with other materials",12873,12872,false,{"$f":"VALUE(Table2[[#This Row],[Identifier]])","v":110896}]
["97946",true,"4009220090 - Other",12882,12880,false,{"$f":"VALUE(Table2[[#This Row],[Identifier]])","v":97946}]
["97948",true,"4009320000 - With fittings",12885,12883,false,{"$f":"VALUE(Table2[[#This Row],[Identifier]])","v":97948}]
["97955",true,"4009420090 - Other",12893,12890,false,{"$f":"VALUE(Table2[[#This Row],[Identifier]])","v":97955}]
["97961",true,"4010310090 - Other",12902,12900,false,{"$f":"VALUE(Table2[[#This Row],[Identifier]])","v":97961}]
["97968",true,"4010360000 - Endless synchronous belts, of an outside circumference exceeding 150|cm but not exceeding 198|cm",12909,12899,false,{"$f":"VALUE(Table2[[#This Row],[Identifier]])","v":97968}]
["97971",true,"4010390090 - Other",12912,12910,false,{"$f":"VALUE(Table2[[#This Row],[Identifier]])","v":97971}]
["97977",true,"4011300010 - For use on civil aircraft",12919,12918,false,{"$f":"VALUE(Table2[[#This Row],[Identifier]])","v":97977}]
["97981",true,"4011700000 - Of a kind used on agricultural or forestry vehicles and machines",12923,12913,false,{"$f":"VALUE(Table2[[#This Row],[Identifier]])","v":97981}]
["97988",true,"4012130000 - Of a kind used on aircraft",12932,12927,false,{"$f":"VALUE(Table2[[#This Row],[Identifier]])","v":97988}]
["97995",true,"4012900000 - Other",12939,12926,false,{"$f":"VALUE(Table2[[#This Row],[Identifier]])","v":97995}]
["97998",true,"4012909000 - Tyre flaps",12942,12939,false,{"$f":"VALUE(Table2[[#This Row],[Identifier]])","v":97998}]
["98003",true,"4014900000 - Other",12949,12947,false,{"$f":"VALUE(Table2[[#This Row],[Identifier]])","v":98003}]
["110911",false,"4016910000 - Other",12959,12955,false,{"$f":"VALUE(Table2[[#This Row],[Identifier]])","v":110911}]
["98012",true,"4016930000 - Gaskets, washers and other seals",12962,12959,false,{"$f":"VALUE(Table2[[#This Row],[Identifier]])","v":98012}]
["98020",true,"4016995700 - Other",12971,12969,false,{"$f":"VALUE(Table2[[#This Row],[Identifier]])","v":98020}]
["98021",true,"4016995710 - Air intake hose for air supply to the combustion part of the engine comprising at least:\n \n-|one flexible rubber hose,\n \n-|one plastic hose, and\n \n-|metal clips,\n \n-|whether or not a resonator\nfor use in the manufacture of goods of Chapter 87",12972,12971,false,{"$f":"VALUE(Table2[[#This Row],[Identifier]])","v":98021}]
["98031",true,"4016999790 - Other",12982,12979,false,{"$f":"VALUE(Table2[[#This Row],[Identifier]])","v":98031}]
["98035",true,"4101203000 - Wet-salted",12989,12987,false,{"$f":"VALUE(Table2[[#This Row],[Identifier]])","v":98035}]
["98038",true,"4101500000 - Whole hides and skins, of a weight exceeding 16|kg",12992,12986,false,{"$f":"VALUE(Table2[[#This Row],[Identifier]])","v":98038}]
["98046",true,"4102109000 - Other",13001,12999,false,{"$f":"VALUE(Table2[[#This Row],[Identifier]])","v":98046}]
["110920",false,"4104000000 - Tanned or crust hides and skins of bovine (including buffalo) or equine animals, without hair on, whether or not split, but not further prepared",13009,12985,false,{"$f":"VALUE(Table2[[#This Row],[Identifier]])","v":110920}]
["98053",true,"4104111000 - Whole bovine (including buffalo) hides and skins, of a unit surface area not exceeding 28|square feet (2,6|m$2)",13012,13011,false,{"$f":"VALUE(Table2[[#This Row],[Identifier]])","v":98053}]
["110925",false,"4104195100 - Of bovine (including buffalo) animals",13021,13020,false,{"$f":"VALUE(Table2[[#This Row],[Identifier]])","v":110925}]
["98059",true,"4104195100 - Whole hides and skins, of a unit surface area exceeding 28|square feet (2,6|m$2)",13022,13021,false,{"$f":"VALUE(Table2[[#This Row],[Identifier]])","v":98059}]
["98063",true,"4104411100 - East India kip, whole or with the head and legs removed, each of a net weight of not more than 4,5|kg, not further prepared than vegetable tanned, whether or not having undergone certain treatments, but obviously unsuitable for immediate use for the manufacture of leather articles",13028,13027,false,{"$f":"VALUE(Table2[[#This Row],[Identifier]])","v":98063}]
["98071",true,"4104491100 - East India kip, whole or with the head and legs removed, each of a net weight of not more than 4,5|kg, not further prepared than vegetable tanned, whether or not having undergone certain treatments, but obviously unsuitable for immediate use for the manufacture of leather articles",13039,13038,false,{"$f":"VALUE(Table2[[#This Row],[Identifier]])","v":98071}]
["110932",false,"4104495100 - Of bovine (including buffalo) animals",13042,13041,false,{"$f":"VALUE(Table2[[#This Row],[Identifier]])","v":110932}]
["110934",false,"4106000000 - Tanned or crust hides and skins of other animals, without wool or hair on, whether or not split, but not further prepared",13051,12985,false,{"$f":"VALUE(Table2[[#This Row],[Identifier]])","v":110934}]
["98084",true,"4106310000 - In the wet state (including wet-blue)",13058,13057,false,{"$f":"VALUE(Table2[[#This Row],[Identifier]])","v":98084}]
["110937",false,"4106910000 - Other",13065,13051,false,{"$f":"VALUE(Table2[[#This Row],[Identifier]])","v":110937}]
["110939",false,"4107110000 - Whole hides and skins",13069,13068,false,{"$f":"VALUE(Table2[[#This Row],[Identifier]])","v":110939}]
["98094",true,"4107111100 - Boxcalf",13072,13071,false,{"$f":"VALUE(Table2[[#This Row],[Identifier]])","v":98094}]
["98101",true,"4107129900 - Equine leather",13081,13079,false,{"$f":"VALUE(Table2[[#This Row],[Identifier]])","v":98101}]
["98107",true,"4107919000 - Other",13088,13086,false,{"$f":"VALUE(Table2[[#This Row],[Identifier]])","v":98107}]
["98111",true,"4107990000 - Other",13092,13085,false,{"$f":"VALUE(Table2[[#This Row],[Identifier]])","v":98111}]
["110945",false,"4114000000 - Chamois (including combination chamois) leather; patent leather and patent laminated leather; metallised leather",13101,12985,false,{"$f":"VALUE(Table2[[#This Row],[Identifier]])","v":110945}]
["98124",true,"4115200000 - Parings and other waste of leather or of composition leather, not suitable for the manufacture of leather articles; leather dust, powder and flour",13108,13106,false,{"$f":"VALUE(Table2[[#This Row],[Identifier]])","v":98124}]
["110949",false,"4202110000 - Trunks, suitcases, vanity cases, executive-cases, briefcases, school satchels and similar containers",13114,13113,false,{"$f":"VALUE(Table2[[#This Row],[Identifier]])","v":110949}]
["98132",true,"4202119000 - Other",13119,13115,false,{"$f":"VALUE(Table2[[#This Row],[Identifier]])","v":98132}]
["98135",true,"4202120000 - With outer surface of plastics or of textile materials",13122,13114,false,{"$f":"VALUE(Table2[[#This Row],[Identifier]])","v":98135}]
["98142",true,"4202129900 - Other",13131,13127,false,{"$f":"VALUE(Table2[[#This Row],[Identifier]])","v":98142}]
["98149",true,"4202199090 - Other",13138,13136,false,{"$f":"VALUE(Table2[[#This Row],[Identifier]])","v":98149}]
["98154",true,"4202221000 - Of sheeting of plastics",13144,13143,false,{"$f":"VALUE(Table2[[#This Row],[Identifier]])","v":98154}]
["98160",true,"4202310010 - Hand-made",13151,13150,false,{"$f":"VALUE(Table2[[#This Row],[Identifier]])","v":98160}]
["98167",true,"4202390000 - Other",13158,13149,false,{"$f":"VALUE(Table2[[#This Row],[Identifier]])","v":98167}]
["110954",false,"4202910000 - Other",13161,13113,false,{"$f":"VALUE(Table2[[#This Row],[Identifier]])","v":110954}]
["98175",true,"4202918010 - Hand-made",13167,13166,false,{"$f":"VALUE(Table2[[#This Row],[Identifier]])","v":98175}]
["98179",true,"4202921500 - Musical instrument cases",13172,13170,false,{"$f":"VALUE(Table2[[#This Row],[Identifier]])","v":98179}]
["98187",true,"4202990000 - Other",13181,13161,false,{"$f":"VALUE(Table2[[#This Row],[Identifier]])","v":98187}]
["98192",true,"4203290000 - Other",13188,13186,false,{"$f":"VALUE(Table2[[#This Row],[Identifier]])","v":98192}]
["98195",true,"4203300000 - Belts and bandoliers",13191,13184,false,{"$f":"VALUE(Table2[[#This Row],[Identifier]])","v":98195}]
["110959",false,"4205000000 - Other articles of leather or of composition leather",13197,13109,false,{"$f":"VALUE(Table2[[#This Row],[Identifier]])","v":110959}]
["98208",true,"4301800000 - Other furskins, whole, with or without head, tail or paws",13208,13204,false,{"$f":"VALUE(Table2[[#This Row],[Identifier]])","v":98208}]
["110964",false,"4302110000 - Whole skins, with or without head, tail or paws, not assembled",13211,13210,false,{"$f":"VALUE(Table2[[#This Row],[Identifier]])","v":110964}]
["98215",true,"4302194900 - Other",13218,13216,false,{"$f":"VALUE(Table2[[#This Row],[Identifier]])","v":98215}]
["98219",true,"4302200000 - Heads, tails, paws and other pieces or cuttings, not assembled",13223,13210,false,{"$f":"VALUE(Table2[[#This Row],[Identifier]])","v":98219}]
["98225",true,"4302309900 - Other",13231,13226,false,{"$f":"VALUE(Table2[[#This Row],[Identifier]])","v":98225}]
["110970",false,"SECTION IX (44 - 46) Wood and articles of wood; wood charcoal; cork and articles of cork; manufactures of straw, of esparto or of other plaiting materials; basketware and wickerwork",13238,"",false,{"$f":"VALUE(Table2[[#This Row],[Identifier]])","v":110970}]
["110973",false,"4401110000 - Fuel wood, in logs, in billets, in twigs, in faggots or in similar forms",13241,13240,false,{"$f":"VALUE(Table2[[#This Row],[Identifier]])","v":110973}]
["98234",true,"4401220000 - Non-coniferous",13246,13244,false,{"$f":"VALUE(Table2[[#This Row],[Identifier]])","v":98234}]
["98241",true,"4402100010 - Exported from Somalia",13258,13257,false,{"$f":"VALUE(Table2[[#This Row],[Identifier]])","v":98241}]
["134130",true,"4402200010 - Exported from Somalia",13261,13260,false,{"$f":"VALUE(Table2[[#This Row],[Identifier]])","v":134130}]
["98246",true,"4403110000 - Coniferous",13268,13267,false,{"$f":"VALUE(Table2[[#This Row],[Identifier]])","v":98246}]
["98248",true,"4403210000 - Of pine (Pinus spp.), of which the smallest cross-sectional dimension is 15|cm or more",13271,13270,false,{"$f":"VALUE(Table2[[#This Row],[Identifier]])","v":98248}]
["98260",true,"4403231010 - Exported from the Russian Federation in accordance with Commission regulation No 498/2012",13283,13282,false,{"$f":"VALUE(Table2[[#This Row],[Identifier]])","v":98260}]
["98265",true,"4403240000 - Of fir (Abies spp.) and spruce (Picea spp.), other",13288,13270,false,{"$f":"VALUE(Table2[[#This Row],[Identifier]])","v":98265}]
["98268",true,"4403250000 - Other, of which the smallest cross-sectional dimension is 15|cm or more",13291,13270,false,{"$f":"VALUE(Table2[[#This Row],[Identifier]])","v":98268}]
["98273",true,"4403490000 - Other",13298,13295,false,{"$f":"VALUE(Table2[[#This Row],[Identifier]])","v":98273}]
["110981",false,"4403910000 - Other",13302,13266,false,{"$f":"VALUE(Table2[[#This Row],[Identifier]])","v":110981}]
["98285",true,"4403980000 - Of eucalyptus (Eucalyptus spp.)",13311,13302,false,{"$f":"VALUE(Table2[[#This Row],[Identifier]])","v":98285}]
["110983",false,"4404200010 - Chipwood and the like",13318,13317,false,{"$f":"VALUE(Table2[[#This Row],[Identifier]])","v":110983}]
["98293",true,"4404200090 - Other",13321,13317,false,{"$f":"VALUE(Table2[[#This Row],[Identifier]])","v":98293}]
["98297",true,"4406910000 - Coniferous",13328,13327,false,{"$f":"VALUE(Table2[[#This Row],[Identifier]])","v":98297}]
["98306",true,"4407121000 - End-jointed, whether or not planed or sanded",13339,13338,false,{"$f":"VALUE(Table2[[#This Row],[Identifier]])","v":98306}]
["98308",true,"4407129000 - Other",13341,13338,false,{"$f":"VALUE(Table2[[#This Row],[Identifier]])","v":98308}]
["134137",true,"4407130091 - Sanded",13348,13347,false,{"$f":"VALUE(Table2[[#This Row],[Identifier]])","v":134137}]
["98312",true,"4407191000 - End-jointed, whether or not planed or sanded",13357,13356,false,{"$f":"VALUE(Table2[[#This Row],[Identifier]])","v":98312}]
["98313",true,"4407192000 - Planed",13358,13356,false,{"$f":"VALUE(Table2[[#This Row],[Identifier]])","v":98313}]
["98321",true,"4407220000 - Virola, imbuia and balsa",13368,13362,false,{"$f":"VALUE(Table2[[#This Row],[Identifier]])","v":98321}]
["98323",true,"4407229100 - Planed",13371,13370,false,{"$f":"VALUE(Table2[[#This Row],[Identifier]])","v":98323}]
["98326",true,"4407251000 - End-jointed, whether or not planed or sanded",13378,13377,false,{"$f":"VALUE(Table2[[#This Row],[Identifier]])","v":98326}]
["98333",true,"4407265000 - Sanded",13387,13385,false,{"$f":"VALUE(Table2[[#This Row],[Identifier]])","v":98333}]
["98340",true,"4407281000 - Sanded; end-jointed, whether or not planed or sanded",13395,13394,false,{"$f":"VALUE(Table2[[#This Row],[Identifier]])","v":98340}]
["98342",true,"4407289900 - Other",13398,13396,false,{"$f":"VALUE(Table2[[#This Row],[Identifier]])","v":98342}]
["98348",true,"4407299500 - Other",13407,13404,false,{"$f":"VALUE(Table2[[#This Row],[Identifier]])","v":98348}]
["110999",false,"4407299600 - Other tropical wood",13408,13399,false,{"$f":"VALUE(Table2[[#This Row],[Identifier]])","v":110999}]
["98354",true,"4407913100 - Blocks, strips and friezes for parquet or wood block flooring, not assembled",13418,13417,false,{"$f":"VALUE(Table2[[#This Row],[Identifier]])","v":98354}]
["98357",true,"4407920000 - Of beech (Fagus spp.)",13421,13413,false,{"$f":"VALUE(Table2[[#This Row],[Identifier]])","v":98357}]
["98363",true,"4407939900 - Other",13428,13426,false,{"$f":"VALUE(Table2[[#This Row],[Identifier]])","v":98363}]
["98370",true,"4407959100 - Sanded",13437,13436,false,{"$f":"VALUE(Table2[[#This Row],[Identifier]])","v":98370}]
["98376",true,"4407970000 - Of poplar and aspen (Populus spp.)",13444,13413,false,{"$f":"VALUE(Table2[[#This Row],[Identifier]])","v":98376}]
["98379",true,"4407979900 - Other",13448,13446,false,{"$f":"VALUE(Table2[[#This Row],[Identifier]])","v":98379}]
["111011",false,"4408109100 - Other",13457,13455,false,{"$f":"VALUE(Table2[[#This Row],[Identifier]])","v":111011}]
["98386",true,"4408109100 - Small boards for the manufacture of pencils",13458,13457,false,{"$f":"VALUE(Table2[[#This Row],[Identifier]])","v":98386}]
["98393",true,"4408390000 - Other",13467,13460,false,{"$f":"VALUE(Table2[[#This Row],[Identifier]])","v":98393}]
["98398",true,"4408393090 - Other",13474,13472,false,{"$f":"VALUE(Table2[[#This Row],[Identifier]])","v":98398}]
["98400",true,"4408397000 - Small boards for the manufacture of pencils",13478,13477,false,{"$f":"VALUE(Table2[[#This Row],[Identifier]])","v":98400}]
["98406",true,"4408908500 - Of a thickness not exceeding 1|mm",13487,13486,false,{"$f":"VALUE(Table2[[#This Row],[Identifier]])","v":98406}]
["98411",true,"4409210000 - Of bamboo",13494,13493,false,{"$f":"VALUE(Table2[[#This Row],[Identifier]])","v":98411}]
["98414",true,"4409291000 - Mouldings for frames for paintings, photographs, mirrors or similar objects",13497,13496,false,{"$f":"VALUE(Table2[[#This Row],[Identifier]])","v":98414}]
["98421",true,"4410119000 - Other",13507,13503,false,{"$f":"VALUE(Table2[[#This Row],[Identifier]])","v":98421}]
["98422",true,"4410120000 - Oriented strand board (OSB)",13508,13502,false,{"$f":"VALUE(Table2[[#This Row],[Identifier]])","v":98422}]
["134149",false,"4411129200 - Other",13517,13515,false,{"$f":"VALUE(Table2[[#This Row],[Identifier]])","v":134149}]
["134152",true,"4411129290 - Other",13520,13518,false,{"$f":"VALUE(Table2[[#This Row],[Identifier]])","v":134152}]
["98433",true,"4411140000 - Of a thickness exceeding 9|mm",13527,13514,false,{"$f":"VALUE(Table2[[#This Row],[Identifier]])","v":98433}]
["98439",true,"4411930000 - Of a density exceeding 0,5|g/cm$3|but not exceeding 0,8|g/cm$3",13537,13533,false,{"$f":"VALUE(Table2[[#This Row],[Identifier]])","v":98439}]
["98446",true,"4412310000 - With at least one outer ply of tropical wood",13544,13543,false,{"$f":"VALUE(Table2[[#This Row],[Identifier]])","v":98446}]
["98449",true,"4412311090 - Other",13547,13545,false,{"$f":"VALUE(Table2[[#This Row],[Identifier]])","v":98449}]
["134164",true,"4412339000 - Other",13553,13549,false,{"$f":"VALUE(Table2[[#This Row],[Identifier]])","v":134164}]
["134165",false,"4412410000 - Laminated veneered lumber (LVL)",13558,13541,false,{"$f":"VALUE(Table2[[#This Row],[Identifier]])","v":134165}]
["134174",true,"4412490090 - Other",13567,13565,false,{"$f":"VALUE(Table2[[#This Row],[Identifier]])","v":134174}]
["134177",true,"4412511000 - With at least one outer ply of non-coniferous wood",13570,13569,false,{"$f":"VALUE(Table2[[#This Row],[Identifier]])","v":134177}]
["134183",true,"4412911000 - Containing at least one layer of particle board",13576,13575,false,{"$f":"VALUE(Table2[[#This Row],[Identifier]])","v":134183}]
["134193",true,"4412999000 - Other",13587,13585,false,{"$f":"VALUE(Table2[[#This Row],[Identifier]])","v":134193}]
["134198",true,"4414109000 - Other",13594,13592,false,{"$f":"VALUE(Table2[[#This Row],[Identifier]])","v":134198}]
["98474",true,"4415100000 - Cases, boxes, crates, drums and similar packings; cable-drums",13597,13596,false,{"$f":"VALUE(Table2[[#This Row],[Identifier]])","v":98474}]
["134200",false,"4418110000 - Windows, French windows and their frames",13606,13605,false,{"$f":"VALUE(Table2[[#This Row],[Identifier]])","v":134200}]
["134207",true,"4418211000 - Of tropical wood specified in additional note|2|to this chapter",13613,13612,false,{"$f":"VALUE(Table2[[#This Row],[Identifier]])","v":134207}]
["134211",true,"4418298000 - Other",13617,13615,false,{"$f":"VALUE(Table2[[#This Row],[Identifier]])","v":134211}]
["98495",true,"4418739000 - Other",13624,13622,false,{"$f":"VALUE(Table2[[#This Row],[Identifier]])","v":98495}]
["98498",true,"4418790000 - Other",13627,13621,false,{"$f":"VALUE(Table2[[#This Row],[Identifier]])","v":98498}]
["134217",true,"4418820000 - Cross-laminated timber (CLT or X-lam)",13632,13628,false,{"$f":"VALUE(Table2[[#This Row],[Identifier]])","v":134217}]
["98500",true,"4418990000 - Other",13644,13641,false,{"$f":"VALUE(Table2[[#This Row],[Identifier]])","v":98500}]
["98503",true,"4419110000 - Bread boards, chopping boards and similar boards",13647,13646,false,{"$f":"VALUE(Table2[[#This Row],[Identifier]])","v":98503}]
["134231",true,"4420110000 - Of tropical wood",13656,13655,false,{"$f":"VALUE(Table2[[#This Row],[Identifier]])","v":134231}]
["134232",true,"4420111000 - Of tropical wood specified in additional note|2|to this chapter",13657,13656,false,{"$f":"VALUE(Table2[[#This Row],[Identifier]])","v":134232}]
["111044",false,"4420909191 - Other",13669,13665,false,{"$f":"VALUE(Table2[[#This Row],[Identifier]])","v":111044}]
["98523",true,"4420909990 - Other",13674,13672,false,{"$f":"VALUE(Table2[[#This Row],[Identifier]])","v":98523}]
["134237",true,"4421200000 - Coffins",13677,13675,false,{"$f":"VALUE(Table2[[#This Row],[Identifier]])","v":134237}]
["111048",false,"4421999991 - Other",13686,13684,false,{"$f":"VALUE(Table2[[#This Row],[Identifier]])","v":111048}]
["98534",true,"4501900000 - Other",13692,13690,false,{"$f":"VALUE(Table2[[#This Row],[Identifier]])","v":98534}]
["98538",true,"4503109000 - Other",13697,13695,false,{"$f":"VALUE(Table2[[#This Row],[Identifier]])","v":98538}]
["98544",true,"4504109900 - Other",13706,13704,false,{"$f":"VALUE(Table2[[#This Row],[Identifier]])","v":98544}]
["98545",true,"4504900000 - Other",13707,13699,false,{"$f":"VALUE(Table2[[#This Row],[Identifier]])","v":98545}]
["98551",true,"4601211000 - Of plaits or similar products of plaiting materials",13716,13715,false,{"$f":"VALUE(Table2[[#This Row],[Identifier]])","v":98551}]
["98557",true,"4601291000 - Of plaits or similar products of plaiting materials",13722,13721,false,{"$f":"VALUE(Table2[[#This Row],[Identifier]])","v":98557}]
["111059",false,"4601921000 - Other",13727,13725,false,{"$f":"VALUE(Table2[[#This Row],[Identifier]])","v":111059}]
["98568",true,"4601940500 - Plaits and similar products of plaiting materials, whether or not assembled into strips",13736,13735,false,{"$f":"VALUE(Table2[[#This Row],[Identifier]])","v":98568}]
["98573",true,"4601991000 - Of plaits or similar products of plaiting materials",13743,13742,false,{"$f":"VALUE(Table2[[#This Row],[Identifier]])","v":98573}]
["98576",true,"4602110010 - From plaiting materials, hand-made",13748,13747,false,{"$f":"VALUE(Table2[[#This Row],[Identifier]])","v":98576}]
["98582",true,"4602191000 - Straw envelopes for bottles",13754,13753,false,{"$f":"VALUE(Table2[[#This Row],[Identifier]])","v":98582}]
["98585",true,"4602199090 - Other",13757,13755,false,{"$f":"VALUE(Table2[[#This Row],[Identifier]])","v":98585}]
["111069",false,"4703110000 - Unbleached",13766,13765,false,{"$f":"VALUE(Table2[[#This Row],[Identifier]])","v":111069}]
["98593",true,"4703290000 - Non-coniferous",13771,13769,false,{"$f":"VALUE(Table2[[#This Row],[Identifier]])","v":98593}]
["98596",true,"4704210000 - Coniferous",13777,13776,false,{"$f":"VALUE(Table2[[#This Row],[Identifier]])","v":98596}]
["98603",true,"4706920000 - Chemical",13786,13784,false,{"$f":"VALUE(Table2[[#This Row],[Identifier]])","v":98603}]
["98609",true,"4707309000 - Other",13793,13791,false,{"$f":"VALUE(Table2[[#This Row],[Identifier]])","v":98609}]
["98612",true,"4707909000 - Sorted",13796,13794,false,{"$f":"VALUE(Table2[[#This Row],[Identifier]])","v":98612}]
["98615",true,"4802200000 - Paper and paperboard of a kind used as a base for photosensitive, heat-sensitive or electrosensitive paper or paperboard",13801,13799,false,{"$f":"VALUE(Table2[[#This Row],[Identifier]])","v":98615}]
["98620",true,"4802550000 - Weighing 40|g/m$2|or more but not more than 150|g/m$2, in rolls",13807,13805,false,{"$f":"VALUE(Table2[[#This Row],[Identifier]])","v":98620}]
["98629",true,"4802580000 - Weighing more than 150|g/m$2",13816,13805,false,{"$f":"VALUE(Table2[[#This Row],[Identifier]])","v":98629}]
["98635",true,"4802620000 - In sheets with one side not exceeding 435|mm and the other side not exceeding 297|mm in the unfolded state",13823,13819,false,{"$f":"VALUE(Table2[[#This Row],[Identifier]])","v":98635}]
["111082",false,"4803003100 - Creped paper and webs of cellulose fibres (tissues), weighing, per ply",13827,13825,false,{"$f":"VALUE(Table2[[#This Row],[Identifier]])","v":111082}]
["111085",false,"4804111100 - Of which not less than 80|% by weight of the total fibre content consists of coniferous fibres obtained by the chemical sulphate or soda process",13834,13833,false,{"$f":"VALUE(Table2[[#This Row],[Identifier]])","v":111085}]
["98648",true,"4804191900 - 175|g or more",13843,13841,false,{"$f":"VALUE(Table2[[#This Row],[Identifier]])","v":98648}]
["111088",false,"4804210000 - Sack kraft paper",13846,13831,false,{"$f":"VALUE(Table2[[#This Row],[Identifier]])","v":111088}]
["111089",false,"4804310000 - Other kraft paper and paperboard weighing 150|g/m$2|or less",13853,13831,false,{"$f":"VALUE(Table2[[#This Row],[Identifier]])","v":111089}]
["98659",true,"4804315800 - Other",13857,13855,false,{"$f":"VALUE(Table2[[#This Row],[Identifier]])","v":98659}]
["98666",true,"4804419100 - Saturating kraft",13866,13865,false,{"$f":"VALUE(Table2[[#This Row],[Identifier]])","v":98666}]
["98672",true,"4804590000 - Other",13873,13870,false,{"$f":"VALUE(Table2[[#This Row],[Identifier]])","v":98672}]
["111094",false,"4805000000 - Other uncoated paper and paperboard, in rolls or sheets, not further worked or processed than as specified in note|3|to this chapter",13876,13797,false,{"$f":"VALUE(Table2[[#This Row],[Identifier]])","v":111094}]
["98683",true,"4805400000 - Filter paper and paperboard",13887,13876,false,{"$f":"VALUE(Table2[[#This Row],[Identifier]])","v":98683}]
["98688",true,"4805932000 - Made from recovered paper",13893,13892,false,{"$f":"VALUE(Table2[[#This Row],[Identifier]])","v":98688}]
["98690",true,"4806100000 - Vegetable parchment",13896,13895,false,{"$f":"VALUE(Table2[[#This Row],[Identifier]])","v":98690}]
["98696",true,"4807003000 - Made from recovered paper, whether or not covered with paper",13903,13902,false,{"$f":"VALUE(Table2[[#This Row],[Identifier]])","v":98696}]
["98698",true,"4808100000 - Corrugated paper and paperboard, whether or not perforated",13906,13905,false,{"$f":"VALUE(Table2[[#This Row],[Identifier]])","v":98698}]
["111103",false,"4810130000 - Paper and paperboard of a kind used for writing, printing or other graphic purposes, not containing fibres obtained by a mechanical or chemi-mechanical process or of which not more than 10|% by weight of the total fibre content consists of such fibres",13916,13915,false,{"$f":"VALUE(Table2[[#This Row],[Identifier]])","v":111103}]
["98711",true,"4810190000 - Other",13923,13916,false,{"$f":"VALUE(Table2[[#This Row],[Identifier]])","v":98711}]
["111104",false,"4810220000 - Paper and paperboard of a kind used for writing, printing or other graphic purposes, of which more than 10|% by weight of the total fibre content consists of fibres obtained by a mechanical or chemi-mechanical process",13926,13915,false,{"$f":"VALUE(Table2[[#This Row],[Identifier]])","v":111104}]
["98720",true,"4810293080 - Other",13933,13931,false,{"$f":"VALUE(Table2[[#This Row],[Identifier]])","v":98720}]
["111106",false,"4810920000 - Other paper and paperboard",13943,13915,false,{"$f":"VALUE(Table2[[#This Row],[Identifier]])","v":111106}]
["98731",true,"4810923000 - With only one outer layer bleached",13946,13944,false,{"$f":"VALUE(Table2[[#This Row],[Identifier]])","v":98731}]
["98738",true,"4810998020 - With a weight of 70|g/m² or more but not more than 400|g/m² and brightness of more than 84 (measured according to ISO 2470-1), excluding rolls suitable for use in web-fed presses",13953,13952,false,{"$f":"VALUE(Table2[[#This Row],[Identifier]])","v":98738}]
["98740",true,"4811100000 - Tarred, bituminised or asphalted paper and paperboard",13956,13955,false,{"$f":"VALUE(Table2[[#This Row],[Identifier]])","v":98740}]
["118987",true,"4811590090 - Other",13966,13964,false,{"$f":"VALUE(Table2[[#This Row],[Identifier]])","v":118987}]
["111110",false,"4813000000 - Cigarette paper, whether or not cut to size or in the form of booklets or tubes",13973,13797,false,{"$f":"VALUE(Table2[[#This Row],[Identifier]])","v":111110}]
["98754",true,"4813900000 - Other",13976,13973,false,{"$f":"VALUE(Table2[[#This Row],[Identifier]])","v":98754}]
["98760",true,"4814907000 - Other",13983,13981,false,{"$f":"VALUE(Table2[[#This Row],[Identifier]])","v":98760}]
["98767",true,"4817300000 - Boxes, pouches, wallets and writing compendiums, of paper or paperboard, containing an assortment of paper stationery",13992,13989,false,{"$f":"VALUE(Table2[[#This Row],[Identifier]])","v":98767}]
["111115",false,"4818209100 - Hand towels",13999,13997,false,{"$f":"VALUE(Table2[[#This Row],[Identifier]])","v":111115}]
["98776",true,"4818500000 - Articles of apparel and clothing accessories",14003,13993,false,{"$f":"VALUE(Table2[[#This Row],[Identifier]])","v":98776}]
["98779",true,"4818909000 - Other",14006,14004,false,{"$f":"VALUE(Table2[[#This Row],[Identifier]])","v":98779}]
["98785",true,"4819600000 - Box files, letter trays, storage boxes and similar articles, of a kind used in offices, shops or the like",14013,14007,false,{"$f":"VALUE(Table2[[#This Row],[Identifier]])","v":98785}]
["98793",true,"4820400000 - Manifold business forms and interleaved carbon sets",14022,14014,false,{"$f":"VALUE(Table2[[#This Row],[Identifier]])","v":98793}]
["98796",true,"4821100000 - Printed",14026,14025,false,{"$f":"VALUE(Table2[[#This Row],[Identifier]])","v":98796}]
["98802",true,"4822100000 - Of a kind used for winding textile yarn",14033,14032,false,{"$f":"VALUE(Table2[[#This Row],[Identifier]])","v":98802}]
["98809",true,"4823699000 - Other",14042,14040,false,{"$f":"VALUE(Table2[[#This Row],[Identifier]])","v":98809}]
["98815",true,"4823908500 - Other",14048,14046,false,{"$f":"VALUE(Table2[[#This Row],[Identifier]])","v":98815}]
["98818",true,"4901100000 - In single sheets, whether or not folded",14053,14052,false,{"$f":"VALUE(Table2[[#This Row],[Identifier]])","v":98818}]
["98820",true,"4901990000 - Other",14056,14054,false,{"$f":"VALUE(Table2[[#This Row],[Identifier]])","v":98820}]
["134240",true,"4905200000 - In book form",14063,14062,false,{"$f":"VALUE(Table2[[#This Row],[Identifier]])","v":134240}]
["111129",false,"4908000000 - Transfers (decalcomanias)",14072,14051,false,{"$f":"VALUE(Table2[[#This Row],[Identifier]])","v":111129}]
["98836",true,"4911100000 - Trade advertising material, commercial catalogues and the like",14078,14077,false,{"$f":"VALUE(Table2[[#This Row],[Identifier]])","v":98836}]
["98840",true,"4911910010 - Sheets (not being trade advertising material), not folded, merely with illustrations or pictures not bearing a text or caption, for editions of books or periodicals which are published in different countries in one or more languages",14083,14082,false,{"$f":"VALUE(Table2[[#This Row],[Identifier]])","v":98840}]
["98847",true,"5003000090 - Other",14092,14090,false,{"$f":"VALUE(Table2[[#This Row],[Identifier]])","v":98847}]
["111134",false,"5004000000 - Silk yarn (other than yarn spun from silk waste) not put up for retail sale",14093,14087,false,{"$f":"VALUE(Table2[[#This Row],[Identifier]])","v":111134}]
["98854",true,"5005001090 - Other",14101,14099,false,{"$f":"VALUE(Table2[[#This Row],[Identifier]])","v":98854}]
["98858",true,"5006001000 - Silk yarn",14106,14105,false,{"$f":"VALUE(Table2[[#This Row],[Identifier]])","v":98858}]
["111138",false,"5007201100 - Crêpes",14113,14112,false,{"$f":"VALUE(Table2[[#This Row],[Identifier]])","v":111138}]
["98871",true,"5007202110 - Manufactured on handlooms",14122,14121,false,{"$f":"VALUE(Table2[[#This Row],[Identifier]])","v":98871}]
["98873",true,"5007203100 - Plain-woven",14125,14124,false,{"$f":"VALUE(Table2[[#This Row],[Identifier]])","v":98873}]
["111141",false,"5007204100 - Other",14131,14112,false,{"$f":"VALUE(Table2[[#This Row],[Identifier]])","v":111141}]
["111143",false,"5007206100 - Of yarns of different colours",14142,14135,false,{"$f":"VALUE(Table2[[#This Row],[Identifier]])","v":111143}]
["98888",true,"5007206100 - Of a width exceeding 57|cm but not exceeding 75|cm",14143,14142,false,{"$f":"VALUE(Table2[[#This Row],[Identifier]])","v":98888}]
["98897",true,"5007900000 - Other fabrics",14152,14108,false,{"$f":"VALUE(Table2[[#This Row],[Identifier]])","v":98897}]
["98902",true,"5007903010 - Manufactured on handlooms",14157,14156,false,{"$f":"VALUE(Table2[[#This Row],[Identifier]])","v":98902}]
["98908",true,"5007909010 - Manufactured on handlooms",14163,14162,false,{"$f":"VALUE(Table2[[#This Row],[Identifier]])","v":98908}]
["98913",true,"5101290000 - Other",14172,14170,false,{"$f":"VALUE(Table2[[#This Row],[Identifier]])","v":98913}]
["98918",true,"5102193000 - Of alpaca, llama or vicuna",14179,14177,false,{"$f":"VALUE(Table2[[#This Row],[Identifier]])","v":98918}]
["98921",true,"5102200000 - Coarse animal hair",14182,14174,false,{"$f":"VALUE(Table2[[#This Row],[Identifier]])","v":98921}]
["98925",true,"5103200000 - Other waste of wool or of fine animal hair",14187,14183,false,{"$f":"VALUE(Table2[[#This Row],[Identifier]])","v":98925}]
["98929",true,"5105210000 - Combed wool in fragments",14193,14192,false,{"$f":"VALUE(Table2[[#This Row],[Identifier]])","v":98929}]
["98936",true,"5106109000 - Other",14202,14200,false,{"$f":"VALUE(Table2[[#This Row],[Identifier]])","v":98936}]
["111155",false,"5106209100 - Other",14205,14203,false,{"$f":"VALUE(Table2[[#This Row],[Identifier]])","v":111155}]
["111159",false,"5107205100 - Mixed solely or mainly with synthetic staple fibres",14217,14216,false,{"$f":"VALUE(Table2[[#This Row],[Identifier]])","v":111159}]
["98950",true,"5107209900 - Other",14222,14220,false,{"$f":"VALUE(Table2[[#This Row],[Identifier]])","v":98950}]
["98956",true,"5108209000 - Other",14229,14227,false,{"$f":"VALUE(Table2[[#This Row],[Identifier]])","v":98956}]
["98958",true,"5109101000 - In balls, hanks or skeins, of a weight exceeding 125|g but not exceeding 500|g",14232,14231,false,{"$f":"VALUE(Table2[[#This Row],[Identifier]])","v":98958}]
["111163",false,"5111000000 - Woven fabrics of carded wool or of carded fine animal hair",14236,14165,false,{"$f":"VALUE(Table2[[#This Row],[Identifier]])","v":111163}]
["98967",true,"5111308000 - Of a weight exceeding 300|g/m$2",14243,14241,false,{"$f":"VALUE(Table2[[#This Row],[Identifier]])","v":98967}]
["98973",true,"5112190000 - Other",14252,14250,false,{"$f":"VALUE(Table2[[#This Row],[Identifier]])","v":98973}]
["98976",true,"5112301000 - Of a weight not exceeding 200|g/m$2",14255,14254,false,{"$f":"VALUE(Table2[[#This Row],[Identifier]])","v":98976}]
["98982",true,"5113000000 - Woven fabrics of coarse animal hair or of horsehair",14262,14165,false,{"$f":"VALUE(Table2[[#This Row],[Identifier]])","v":98982}]
["111173",false,"5204000000 - Cotton sewing thread, whether or not put up for retail sale",14273,14263,false,{"$f":"VALUE(Table2[[#This Row],[Identifier]])","v":111173}]
["111176",false,"5205110000 - Single yarn, of uncombed fibres",14279,14278,false,{"$f":"VALUE(Table2[[#This Row],[Identifier]])","v":111176}]
["98994",true,"5205130000 - Measuring less than 232,56|decitex but not less than 192,31|decitex (exceeding 43|metric number but not exceeding 52|metric number)",14282,14279,false,{"$f":"VALUE(Table2[[#This Row],[Identifier]])","v":98994}]
["99002",true,"5205240000 - Measuring less than 192,31|decitex but not less than 125|decitex (exceeding 52|metric number but not exceeding 80|metric number)",14291,14287,false,{"$f":"VALUE(Table2[[#This Row],[Identifier]])","v":99002}]
["134246",true,"5205270010 - Raw white single cotton yarn\n- with an average fibre length of 36,5 mm or more,\n- produced through the compact ring spinning process with pneumatic compression,\n- with a tear strength of 26,5 cN/tex or more (according to ISO 2062:2009, at a speed of 5 000  mm/min)",14296,14295,false,{"$f":"VALUE(Table2[[#This Row],[Identifier]])","v":134246}]
["99008",true,"5205330000 - Measuring per single yarn less than 232,56|decitex but not less than 192,31|decitex (exceeding 43|metric number but not exceeding 52|metric number per single yarn)",14302,14299,false,{"$f":"VALUE(Table2[[#This Row],[Identifier]])","v":99008}]
["99014",true,"5205440000 - Measuring per single yarn less than 192,31|decitex but not less than 125|decitex (exceeding 52|metric number but not exceeding 80|metric number per single yarn)",14309,14305,false,{"$f":"VALUE(Table2[[#This Row],[Identifier]])","v":99014}]
["99017",true,"5205480000 - Measuring per single yarn less than 83,33|decitex (exceeding 120|metric number per single yarn)",14312,14305,false,{"$f":"VALUE(Table2[[#This Row],[Identifier]])","v":99017}]
["99023",true,"5206210000 - Measuring 714,29|decitex or more (not exceeding 14|metric number)",14321,14320,false,{"$f":"VALUE(Table2[[#This Row],[Identifier]])","v":99023}]
["111183",false,"5206310000 - Multiple (folded) or cabled yarn, of uncombed fibres",14326,14313,false,{"$f":"VALUE(Table2[[#This Row],[Identifier]])","v":111183}]
["111184",false,"5206410000 - Multiple (folded) or cabled yarn, of combed fibres",14332,14313,false,{"$f":"VALUE(Table2[[#This Row],[Identifier]])","v":111184}]
["111186",false,"5208000000 - Woven fabrics of cotton, containing 85|% or more by weight of cotton, weighing not more than 200|g/m$2",14341,14263,false,{"$f":"VALUE(Table2[[#This Row],[Identifier]])","v":111186}]
["111187",false,"5208110000 - Unbleached",14342,14341,false,{"$f":"VALUE(Table2[[#This Row],[Identifier]])","v":111187}]
["99047",true,"5208129900 - Exceeding 165|cm",14352,14350,false,{"$f":"VALUE(Table2[[#This Row],[Identifier]])","v":99047}]
["99053",true,"5208220000 - Plain weave, weighing more than 100|g/m$2",14359,14355,false,{"$f":"VALUE(Table2[[#This Row],[Identifier]])","v":99053}]
["99055",true,"5208221900 - Exceeding 165|cm",14362,14360,false,{"$f":"VALUE(Table2[[#This Row],[Identifier]])","v":99055}]
["111194",false,"5208321600 - Plain weave, weighing more than 100|g/m$2|but not more than 130|g/m$2|and of a width",14371,14370,false,{"$f":"VALUE(Table2[[#This Row],[Identifier]])","v":111194}]
["99064",true,"5208329600 - Not exceeding 165|cm",14375,14374,false,{"$f":"VALUE(Table2[[#This Row],[Identifier]])","v":99064}]
["99070",true,"5208430000 - 3-thread or 4-thread twill, including cross twill",14382,14379,false,{"$f":"VALUE(Table2[[#This Row],[Identifier]])","v":99070}]
["111199",false,"5208510091 - Other",14389,14385,false,{"$f":"VALUE(Table2[[#This Row],[Identifier]])","v":111199}]
["99077",true,"5208520000 - Plain weave, weighing more than 100|g/m$2",14392,14384,false,{"$f":"VALUE(Table2[[#This Row],[Identifier]])","v":99077}]
["111202",false,"5208591011 - Manufactured on handlooms",14401,14400,false,{"$f":"VALUE(Table2[[#This Row],[Identifier]])","v":111202}]
["99086",true,"5208591091 - Hand-printed by the \"batik\" method",14405,14404,false,{"$f":"VALUE(Table2[[#This Row],[Identifier]])","v":99086}]
["99091",true,"5208599091 - Hand-printed by the \"batik\" method",14412,14411,false,{"$f":"VALUE(Table2[[#This Row],[Identifier]])","v":99091}]
["99097",true,"5209220000 - 3-thread or 4-thread twill, including cross twill",14421,14419,false,{"$f":"VALUE(Table2[[#This Row],[Identifier]])","v":99097}]
["99102",true,"5209410000 - Plain weave",14428,14427,false,{"$f":"VALUE(Table2[[#This Row],[Identifier]])","v":99102}]
["99105",true,"5209490000 - Other fabrics",14431,14427,false,{"$f":"VALUE(Table2[[#This Row],[Identifier]])","v":99105}]
["99110",true,"5209510099 - Other",14439,14437,false,{"$f":"VALUE(Table2[[#This Row],[Identifier]])","v":99110}]
["99112",true,"5209520011 - Hand-printed by the \"batik\" method",14442,14441,false,{"$f":"VALUE(Table2[[#This Row],[Identifier]])","v":99112}]
["111217",false,"5209590091 - Other",14451,14447,false,{"$f":"VALUE(Table2[[#This Row],[Identifier]])","v":111217}]
["99123",true,"5210110090 - Other",14458,14456,false,{"$f":"VALUE(Table2[[#This Row],[Identifier]])","v":99123}]
["99126",true,"5210190090 - Other",14461,14459,false,{"$f":"VALUE(Table2[[#This Row],[Identifier]])","v":99126}]
["99134",true,"5210310010 - Manufactured on handlooms",14471,14470,false,{"$f":"VALUE(Table2[[#This Row],[Identifier]])","v":99134}]
["99141",true,"5210390090 - Other",14478,14476,false,{"$f":"VALUE(Table2[[#This Row],[Identifier]])","v":99141}]
["99143",true,"5210410010 - Manufactured on handlooms",14481,14480,false,{"$f":"VALUE(Table2[[#This Row],[Identifier]])","v":99143}]
["99152",true,"5210590010 - Manufactured on handlooms",14491,14490,false,{"$f":"VALUE(Table2[[#This Row],[Identifier]])","v":99152}]
["99153",true,"5210590090 - Other",14492,14490,false,{"$f":"VALUE(Table2[[#This Row],[Identifier]])","v":99153}]
["99160",true,"5211190000 - Other fabrics",14501,14494,false,{"$f":"VALUE(Table2[[#This Row],[Identifier]])","v":99160}]
["99166",true,"5211310000 - Plain weave",14508,14507,false,{"$f":"VALUE(Table2[[#This Row],[Identifier]])","v":99166}]
["99169",true,"5211320000 - 3-thread or 4-thread twill, including cross twill",14511,14507,false,{"$f":"VALUE(Table2[[#This Row],[Identifier]])","v":99169}]
["99178",true,"5211420000 - Denim",14521,14517,false,{"$f":"VALUE(Table2[[#This Row],[Identifier]])","v":99178}]
["99185",true,"5211491000 - Jacquard fabrics",14528,14527,false,{"$f":"VALUE(Table2[[#This Row],[Identifier]])","v":99185}]
["99188",true,"5211499000 - Other",14531,14527,false,{"$f":"VALUE(Table2[[#This Row],[Identifier]])","v":99188}]
["99194",true,"5211520000 - 3-thread or 4-thread twill, including cross twill",14538,14534,false,{"$f":"VALUE(Table2[[#This Row],[Identifier]])","v":99194}]
["99201",true,"5212111000 - Mixed mainly or solely with flax",14547,14546,false,{"$f":"VALUE(Table2[[#This Row],[Identifier]])","v":99201}]
["99205",true,"5212119010 - Manufactured on handlooms",14551,14550,false,{"$f":"VALUE(Table2[[#This Row],[Identifier]])","v":99205}]
["99212",true,"5212129010 - Manufactured on handlooms",14558,14557,false,{"$f":"VALUE(Table2[[#This Row],[Identifier]])","v":99212}]
["99215",true,"5212131000 - Mixed mainly or solely with flax",14561,14560,false,{"$f":"VALUE(Table2[[#This Row],[Identifier]])","v":99215}]
["99224",true,"5212141090 - Other",14570,14568,false,{"$f":"VALUE(Table2[[#This Row],[Identifier]])","v":99224}]
["99231",true,"5212151019 - Other",14578,14576,false,{"$f":"VALUE(Table2[[#This Row],[Identifier]])","v":99231}]
["99233",true,"5212151099 - Other",14581,14579,false,{"$f":"VALUE(Table2[[#This Row],[Identifier]])","v":99233}]
["99238",true,"5212159099 - Other",14588,14586,false,{"$f":"VALUE(Table2[[#This Row],[Identifier]])","v":99238}]
["99240",true,"5212211000 - Mixed mainly or solely with flax",14591,14590,false,{"$f":"VALUE(Table2[[#This Row],[Identifier]])","v":99240}]
["99252",true,"5212229090 - Other",14603,14601,false,{"$f":"VALUE(Table2[[#This Row],[Identifier]])","v":99252}]
["99257",true,"5212239000 - Otherwise mixed",14608,14604,false,{"$f":"VALUE(Table2[[#This Row],[Identifier]])","v":99257}]
["99260",true,"5212240000 - Of yarns of different colours",14611,14589,false,{"$f":"VALUE(Table2[[#This Row],[Identifier]])","v":99260}]
["99267",true,"5212250000 - Printed",14618,14589,false,{"$f":"VALUE(Table2[[#This Row],[Identifier]])","v":99267}]
["99273",true,"5212259000 - Otherwise mixed",14626,14618,false,{"$f":"VALUE(Table2[[#This Row],[Identifier]])","v":99273}]
["99276",true,"5212259091 - Hand-printed by the \"batik\" method",14631,14630,false,{"$f":"VALUE(Table2[[#This Row],[Identifier]])","v":99276}]
["99280",true,"5301290000 - Other",14638,14636,false,{"$f":"VALUE(Table2[[#This Row],[Identifier]])","v":99280}]
["99282",true,"5302100000 - True hemp, raw or retted",14641,14640,false,{"$f":"VALUE(Table2[[#This Row],[Identifier]])","v":99282}]
["99287",true,"5306100000 - Single",14648,14647,false,{"$f":"VALUE(Table2[[#This Row],[Identifier]])","v":99287}]
["99294",true,"5306105000 - Measuring less than 277,8|decitex (exceeding 36|metric number)",14656,14649,false,{"$f":"VALUE(Table2[[#This Row],[Identifier]])","v":99294}]
["111247",false,"5307000000 - Yarn of jute or of other textile bast fibres of heading|5303",14661,14633,false,{"$f":"VALUE(Table2[[#This Row],[Identifier]])","v":111247}]
["99304",true,"5308209000 - Put up for retail sale",14668,14666,false,{"$f":"VALUE(Table2[[#This Row],[Identifier]])","v":99304}]
["99310",true,"5309110000 - Unbleached or bleached",14677,14676,false,{"$f":"VALUE(Table2[[#This Row],[Identifier]])","v":99310}]
["99314",true,"5309210000 - Unbleached or bleached",14682,14681,false,{"$f":"VALUE(Table2[[#This Row],[Identifier]])","v":99314}]
["99319",true,"5310900000 - Other",14688,14684,false,{"$f":"VALUE(Table2[[#This Row],[Identifier]])","v":99319}]
["111254",false,"5311000000 - Woven fabrics of other vegetable textile fibres; woven fabrics of paper yarn",14691,14633,false,{"$f":"VALUE(Table2[[#This Row],[Identifier]])","v":111254}]
["111256",false,"5401000000 - Sewing thread of man-made filaments, whether or not put up for retail sale",14698,14697,false,{"$f":"VALUE(Table2[[#This Row],[Identifier]])","v":111256}]
["99330",true,"5401101600 - Textured yarn",14705,14704,false,{"$f":"VALUE(Table2[[#This Row],[Identifier]])","v":99330}]
["111260",false,"5402000000 - Synthetic filament yarn (other than sewing thread), not put up for retail sale, including synthetic monofilament of less than 67|decitex",14711,14697,false,{"$f":"VALUE(Table2[[#This Row],[Identifier]])","v":111260}]
["111262",false,"5402310000 - Textured yarn",14718,14711,false,{"$f":"VALUE(Table2[[#This Row],[Identifier]])","v":111262}]
["99348",true,"5402440090 - Other",14727,14725,false,{"$f":"VALUE(Table2[[#This Row],[Identifier]])","v":99348}]
["99349",true,"5402450000 - Other, of nylon or other polyamides",14728,14724,false,{"$f":"VALUE(Table2[[#This Row],[Identifier]])","v":99349}]
["99358",true,"5402490070 - Synthetic filament yarn, single, containing by weight 85|% or more of acrylonitrile, in the form of a wick containing 1|000|continuous filaments or more but not more than 25|000|continuous filaments, of a weight per metre of 0,12|g or more but not more than 3,75|g and of a length of 100|m or more, for the manufacture of carbon-fibre yarn",14735,14732,false,{"$f":"VALUE(Table2[[#This Row],[Identifier]])","v":99358}]
["99363",true,"5402590000 - Other",14741,14737,false,{"$f":"VALUE(Table2[[#This Row],[Identifier]])","v":99363}]
["99368",true,"5403100000 - High-tenacity yarn of viscose rayon",14748,14747,false,{"$f":"VALUE(Table2[[#This Row],[Identifier]])","v":99368}]
["99373",true,"5403320090 - Other",14757,14753,false,{"$f":"VALUE(Table2[[#This Row],[Identifier]])","v":99373}]
["99376",true,"5403330019 - Other",14761,14759,false,{"$f":"VALUE(Table2[[#This Row],[Identifier]])","v":99376}]
["111271",false,"5404000000 - Synthetic monofilament of 67|decitex or more and of which no cross-sectional dimension exceeds 1|mm; strip and the like (for example, artificial straw), of synthetic textile materials, of an apparent width not exceeding 5|mm",14768,14697,false,{"$f":"VALUE(Table2[[#This Row],[Identifier]])","v":111271}]
["99390",true,"5404901000 - Of polypropylene",14777,14776,false,{"$f":"VALUE(Table2[[#This Row],[Identifier]])","v":99390}]
["99391",true,"5404909000 - Other",14778,14776,false,{"$f":"VALUE(Table2[[#This Row],[Identifier]])","v":99391}]
["99400",true,"5407201100 - Less than 3|m",14787,14786,false,{"$f":"VALUE(Table2[[#This Row],[Identifier]])","v":99400}]
["134249",true,"5407300010 - Open mesh fabric made of thermally cross-bonded filaments of a polyolefin, with a density of 0,94 g/cm³ or more, with: \n \n-a weight of 21 g/m² or more but not more than 24 g/m², \n \n-a width of 560 mm or more but not more than 1 200 mm, \n \n-a thickness of 100 µm or more but not more than 120 µm, \n \n-an elongation at break of not more than 20 % (ASTM D5034, machine direction), \n \n-an elongation at break of not more than 22 % (ASTM D5034, cross direction), \n \n-with a stretch of not more than 100 N /5 cm (ASTM D882, machine direction), and \n \n-with a stretch of not more than 130 N /5 cm (ASTM D882, cross direction)",14791,14790,false,{"$f":"VALUE(Table2[[#This Row],[Identifier]])","v":134249}]
["111276",false,"5407510000 - Other woven fabrics, containing 85|% or more by weight of textured polyester filaments",14798,14783,false,{"$f":"VALUE(Table2[[#This Row],[Identifier]])","v":111276}]
["99415",true,"5407615000 - Of yarns of different colours",14807,14804,false,{"$f":"VALUE(Table2[[#This Row],[Identifier]])","v":99415}]
["99418",true,"5407691000 - Unbleached or bleached",14810,14809,false,{"$f":"VALUE(Table2[[#This Row],[Identifier]])","v":99418}]
["99429",true,"5407840000 - Printed",14821,14817,false,{"$f":"VALUE(Table2[[#This Row],[Identifier]])","v":99429}]
["111281",false,"5408000000 - Woven fabrics of artificial filament yarn, including woven fabrics obtained from materials of heading|5405",14827,14697,false,{"$f":"VALUE(Table2[[#This Row],[Identifier]])","v":111281}]
["99434",true,"5408100000 - Woven fabrics obtained from high-tenacity yarn of viscose rayon",14828,14827,false,{"$f":"VALUE(Table2[[#This Row],[Identifier]])","v":99434}]
["99442",true,"5408229090 - Other",14837,14835,false,{"$f":"VALUE(Table2[[#This Row],[Identifier]])","v":99442}]
["111283",false,"5408310000 - Other woven fabrics",14840,14827,false,{"$f":"VALUE(Table2[[#This Row],[Identifier]])","v":111283}]
["134253",true,"5501190000 - Other",14851,14849,false,{"$f":"VALUE(Table2[[#This Row],[Identifier]])","v":134253}]
["99456",true,"5502100000 - Of cellulose acetate",14857,14856,false,{"$f":"VALUE(Table2[[#This Row],[Identifier]])","v":99456}]
["99461",true,"5503190000 - Other",14864,14860,false,{"$f":"VALUE(Table2[[#This Row],[Identifier]])","v":99461}]
["99464",true,"5503400000 - Of polypropylene",14867,14859,false,{"$f":"VALUE(Table2[[#This Row],[Identifier]])","v":99464}]
["99473",true,"5505101010 - PA6 and PA66",14877,14876,false,{"$f":"VALUE(Table2[[#This Row],[Identifier]])","v":99473}]
["99474",true,"5505101090 - Other",14878,14876,false,{"$f":"VALUE(Table2[[#This Row],[Identifier]])","v":99474}]
["99482",true,"5506300000 - Acrylic or modacrylic",14887,14884,false,{"$f":"VALUE(Table2[[#This Row],[Identifier]])","v":99482}]
["99485",true,"5506900010 - Poly(vinyl alcohol) fibres, whether or not acetalized",14890,14889,false,{"$f":"VALUE(Table2[[#This Row],[Identifier]])","v":99485}]
["111293",false,"5509000000 - Yarn (other than sewing thread) of synthetic staple fibres, not put up for retail sale",14900,14847,false,{"$f":"VALUE(Table2[[#This Row],[Identifier]])","v":111293}]
["111296",false,"5509310000 - Containing 85|% or more by weight of acrylic or modacrylic staple fibres",14907,14900,false,{"$f":"VALUE(Table2[[#This Row],[Identifier]])","v":111296}]
["99502",true,"5509510000 - Mixed mainly or solely with artificial staple fibres",14914,14913,false,{"$f":"VALUE(Table2[[#This Row],[Identifier]])","v":99502}]
["99505",true,"5509590000 - Other",14917,14913,false,{"$f":"VALUE(Table2[[#This Row],[Identifier]])","v":99505}]
["111301",false,"5510000000 - Yarn (other than sewing thread) of artificial staple fibres, not put up for retail sale",14926,14847,false,{"$f":"VALUE(Table2[[#This Row],[Identifier]])","v":111301}]
["99514",true,"5510200000 - Other yarn, mixed mainly or solely with wool or fine animal hair",14930,14926,false,{"$f":"VALUE(Table2[[#This Row],[Identifier]])","v":99514}]
["111304",false,"5512000000 - Woven fabrics of synthetic staple fibres, containing 85|% or more by weight of synthetic staple fibres",14937,14847,false,{"$f":"VALUE(Table2[[#This Row],[Identifier]])","v":111304}]
["99524",true,"5512210000 - Unbleached or bleached",14944,14943,false,{"$f":"VALUE(Table2[[#This Row],[Identifier]])","v":99524}]
["99527",true,"5512299000 - Other",14947,14945,false,{"$f":"VALUE(Table2[[#This Row],[Identifier]])","v":99527}]
["99533",true,"5513112000 - Of a width of 165|cm or less",14956,14955,false,{"$f":"VALUE(Table2[[#This Row],[Identifier]])","v":99533}]
["99540",true,"5513231000 - 3-thread or 4-thread twill, including cross twill",14964,14963,false,{"$f":"VALUE(Table2[[#This Row],[Identifier]])","v":99540}]
["111311",false,"5513310000 - Of yarns of different colours",14967,14953,false,{"$f":"VALUE(Table2[[#This Row],[Identifier]])","v":111311}]
["99548",true,"5514120000 - 3-thread or 4-thread twill, including cross twill, of polyester staple fibres",14976,14974,false,{"$f":"VALUE(Table2[[#This Row],[Identifier]])","v":99548}]
["99549",true,"5514190000 - Other woven fabrics",14977,14974,false,{"$f":"VALUE(Table2[[#This Row],[Identifier]])","v":99549}]
["99557",true,"5514301000 - Of polyester staple fibres, plain weave",14986,14985,false,{"$f":"VALUE(Table2[[#This Row],[Identifier]])","v":99557}]
["99564",true,"5514490000 - Other woven fabrics",14994,14990,false,{"$f":"VALUE(Table2[[#This Row],[Identifier]])","v":99564}]
["99565",true,"5515110000 - Mixed mainly or solely with viscose rayon staple fibres",14997,14996,false,{"$f":"VALUE(Table2[[#This Row],[Identifier]])","v":99565}]
["111319",false,"5515131100 - Mixed mainly or solely with carded wool or fine animal hair (woollen)",15006,15005,false,{"$f":"VALUE(Table2[[#This Row],[Identifier]])","v":111319}]
["111320",false,"5515139100 - Mixed mainly or solely with combed wool or fine animal hair (worsted)",15009,15005,false,{"$f":"VALUE(Table2[[#This Row],[Identifier]])","v":111320}]
["99582",true,"5515210000 - Mixed mainly or solely with man-made filaments",15017,15016,false,{"$f":"VALUE(Table2[[#This Row],[Identifier]])","v":99582}]
["99589",true,"5515229100 - Unbleached or bleached",15026,15025,false,{"$f":"VALUE(Table2[[#This Row],[Identifier]])","v":99589}]
["99590",true,"5515229900 - Other",15027,15025,false,{"$f":"VALUE(Table2[[#This Row],[Identifier]])","v":99590}]
["99597",true,"5515992000 - Unbleached or bleached",15035,15034,false,{"$f":"VALUE(Table2[[#This Row],[Identifier]])","v":99597}]
["111327",false,"5516210000 - Containing less than 85|% by weight of artificial staple fibres, mixed mainly or solely with man-made filaments",15044,15038,false,{"$f":"VALUE(Table2[[#This Row],[Identifier]])","v":111327}]
["99606",true,"5516230000 - Of yarns of different colours",15047,15044,false,{"$f":"VALUE(Table2[[#This Row],[Identifier]])","v":99606}]
["111329",false,"5516410000 - Containing less than 85|% by weight of artificial staple fibres, mixed mainly or solely with cotton",15056,15038,false,{"$f":"VALUE(Table2[[#This Row],[Identifier]])","v":111329}]
["99619",true,"5516920000 - Dyed",15063,15061,false,{"$f":"VALUE(Table2[[#This Row],[Identifier]])","v":99619}]
["99621",true,"5516940000 - Printed",15065,15061,false,{"$f":"VALUE(Table2[[#This Row],[Identifier]])","v":99621}]
["99627",true,"5601229000 - Other",15074,15072,false,{"$f":"VALUE(Table2[[#This Row],[Identifier]])","v":99627}]
["99630",true,"5601300010 - Poly(vinyl alcohol) fibres, whether or not acetalized",15077,15076,false,{"$f":"VALUE(Table2[[#This Row],[Identifier]])","v":99630}]
["111337",false,"5602103100 - Stitch-bonded fibre fabrics",15086,15082,false,{"$f":"VALUE(Table2[[#This Row],[Identifier]])","v":111337}]
["99643",true,"5602290010 - Of coarse animal hair",15095,15094,false,{"$f":"VALUE(Table2[[#This Row],[Identifier]])","v":99643}]
["99645",true,"5602900000 - Other",15097,15080,false,{"$f":"VALUE(Table2[[#This Row],[Identifier]])","v":99645}]
["99652",true,"5603119090 - Other",15106,15104,false,{"$f":"VALUE(Table2[[#This Row],[Identifier]])","v":99652}]
["99659",true,"5603129030 - Non-wovens of aromatic polyamide fibres obtained by polycondensation of m-phenylenediamine and isophthalic acid, in the piece or cut into rectangles",15113,15111,false,{"$f":"VALUE(Table2[[#This Row],[Identifier]])","v":99659}]
["99662",true,"5603130000 - Weighing more than 70|g/m$2|but not more than 150|g/m$2",15116,15099,false,{"$f":"VALUE(Table2[[#This Row],[Identifier]])","v":99662}]
["99671",true,"5603141000 - Coated or covered",15125,15124,false,{"$f":"VALUE(Table2[[#This Row],[Identifier]])","v":99671}]
["131202",true,"5603141090 - Other",15127,15125,false,{"$f":"VALUE(Table2[[#This Row],[Identifier]])","v":131202}]
["99679",true,"5603911090 - Other",15136,15134,false,{"$f":"VALUE(Table2[[#This Row],[Identifier]])","v":99679}]
["99686",true,"5603921090 - Other",15143,15141,false,{"$f":"VALUE(Table2[[#This Row],[Identifier]])","v":99686}]
["99694",true,"5603930000 - Weighing more than 70|g/m$2|but not more than 150|g/m$2",15151,15132,false,{"$f":"VALUE(Table2[[#This Row],[Identifier]])","v":99694}]
["99699",true,"5603939050 - Non-woven polyolefin fabric, consisting of an elastomeric layer, laminated on each side with polyolefin filaments:\n- a weight of 70 g/m² or more but not more than 150 g/m²,\n- in the piece or simply cut into squares or rectangles,\n- not impregnated,\n- with cross-directional or machine-directional stretch properties\nfor use in the manufacture of infant/child care products",15156,15153,false,{"$f":"VALUE(Table2[[#This Row],[Identifier]])","v":99699}]
["99706",true,"5603949030 - Non-wovens of aromatic polyamide fibres obtained by polycondensation of m-phenylenediamine and isophthalic acid, in the piece or cut into rectangles",15163,15161,false,{"$f":"VALUE(Table2[[#This Row],[Identifier]])","v":99706}]
["111342",false,"5604000000 - Rubber thread and cord, textile covered; textile yarn, and strip and the like of heading|5404|or 5405, impregnated, coated, covered or sheathed with rubber or plastics",15166,15066,false,{"$f":"VALUE(Table2[[#This Row],[Identifier]])","v":111342}]
["99715",true,"5604909000 - Other",15173,15168,false,{"$f":"VALUE(Table2[[#This Row],[Identifier]])","v":99715}]
["99722",true,"5606001000 - Loop wale-yarn",15181,15180,false,{"$f":"VALUE(Table2[[#This Row],[Identifier]])","v":99722}]
["111346",false,"5607210000 - Of sisal or other textile fibres of the genus Agave",15186,15185,false,{"$f":"VALUE(Table2[[#This Row],[Identifier]])","v":111346}]
["99730",true,"5607490000 - Other",15193,15191,false,{"$f":"VALUE(Table2[[#This Row],[Identifier]])","v":99730}]
["99732",true,"5607491900 - Other",15196,15194,false,{"$f":"VALUE(Table2[[#This Row],[Identifier]])","v":99732}]
["99738",true,"5607501900 - Other",15204,15200,false,{"$f":"VALUE(Table2[[#This Row],[Identifier]])","v":99738}]
["99746",true,"5607509091 - Twine",15213,15212,false,{"$f":"VALUE(Table2[[#This Row],[Identifier]])","v":99746}]
["99749",true,"5607902000 - Of abaca (Manila hemp or Musa textilis Nee) or other hard (leaf) fibres; of jute or other textile bast fibres of heading|5303",15216,15215,false,{"$f":"VALUE(Table2[[#This Row],[Identifier]])","v":99749}]
["111352",false,"5608000000 - Knotted netting of twine, cordage or rope; made-up fishing nets and other made-up nets, of textile materials",15223,15066,false,{"$f":"VALUE(Table2[[#This Row],[Identifier]])","v":111352}]
["111355",false,"5608191100 - Of nylon or other polyamides",15230,15229,false,{"$f":"VALUE(Table2[[#This Row],[Identifier]])","v":111355}]
["99765",true,"5608900010 - Hammocks, of cotton, hand-made",15236,15235,false,{"$f":"VALUE(Table2[[#This Row],[Identifier]])","v":99765}]
["99770",true,"5701101010 - Hand-made",15243,15242,false,{"$f":"VALUE(Table2[[#This Row],[Identifier]])","v":99770}]
["99773",true,"5701900000 - Of other textile materials",15246,15240,false,{"$f":"VALUE(Table2[[#This Row],[Identifier]])","v":99773}]
["111358",false,"5702000000 - Carpets and other textile floor coverings, woven, not tufted or flocked, whether or not made up, including 'Kelem', 'Schumacks', 'Karamanie' and similar hand-woven rugs",15253,15239,false,{"$f":"VALUE(Table2[[#This Row],[Identifier]])","v":111358}]
["99785",true,"5702320000 - Of man-made textile materials",15260,15256,false,{"$f":"VALUE(Table2[[#This Row],[Identifier]])","v":99785}]
["111360",false,"5702410000 - Other, of pile construction, made up",15266,15253,false,{"$f":"VALUE(Table2[[#This Row],[Identifier]])","v":111360}]
["99797",true,"5702490030 - Of sisal, of other fibres of the genus Agave or of Manila hemp",15273,15271,false,{"$f":"VALUE(Table2[[#This Row],[Identifier]])","v":99797}]
["99800",true,"5702501000 - Of wool or fine animal hair",15276,15275,false,{"$f":"VALUE(Table2[[#This Row],[Identifier]])","v":99800}]
["99806",true,"5702509090 - Other",15283,15280,false,{"$f":"VALUE(Table2[[#This Row],[Identifier]])","v":99806}]
["111363",false,"5703000000 - Carpets and other textile floor coverings (including turf), tufted, whether or not made up",15293,15239,false,{"$f":"VALUE(Table2[[#This Row],[Identifier]])","v":111363}]
["134256",true,"5703210000 - Turf",15296,15295,false,{"$f":"VALUE(Table2[[#This Row],[Identifier]])","v":134256}]
["134263",true,"5703299900 - Other",15303,15301,false,{"$f":"VALUE(Table2[[#This Row],[Identifier]])","v":134263}]
["134272",true,"5703399900 - Other",15312,15310,false,{"$f":"VALUE(Table2[[#This Row],[Identifier]])","v":134272}]
["99829",true,"5703902090 - Other",15316,15314,false,{"$f":"VALUE(Table2[[#This Row],[Identifier]])","v":99829}]
["99835",true,"5704200010 - Hand-made",15323,15322,false,{"$f":"VALUE(Table2[[#This Row],[Identifier]])","v":99835}]
["99838",true,"5704900010 - Hand-made",15326,15325,false,{"$f":"VALUE(Table2[[#This Row],[Identifier]])","v":99838}]
["111370",false,"5705008031 - Of sisal, of other fibres of the genus Agave or of Manila hemp",15333,15332,false,{"$f":"VALUE(Table2[[#This Row],[Identifier]])","v":111370}]
["111372",false,"5800000000 - Special woven fabrics; tufted textile fabrics; lace; tapestries; trimmings; embroidery",15339,14086,false,{"$f":"VALUE(Table2[[#This Row],[Identifier]])","v":111372}]
["99852",true,"5801220000 - Cut corduroy",15346,15342,false,{"$f":"VALUE(Table2[[#This Row],[Identifier]])","v":99852}]
["99859",true,"5801260010 - Manufactured on handlooms",15353,15352,false,{"$f":"VALUE(Table2[[#This Row],[Identifier]])","v":99859}]
["99867",true,"5801360000 - Chenille fabrics",15362,15358,false,{"$f":"VALUE(Table2[[#This Row],[Identifier]])","v":99867}]
["99870",true,"5801901000 - Of flax",15365,15364,false,{"$f":"VALUE(Table2[[#This Row],[Identifier]])","v":99870}]
["99878",true,"5802300000 - Tufted textile fabrics",15373,15370,false,{"$f":"VALUE(Table2[[#This Row],[Identifier]])","v":99878}]
["99880",true,"5803001010 - Manufactured on handlooms",15376,15375,false,{"$f":"VALUE(Table2[[#This Row],[Identifier]])","v":99880}]
["99886",true,"5803009000 - Other",15383,15374,false,{"$f":"VALUE(Table2[[#This Row],[Identifier]])","v":99886}]
["99893",true,"5804210000 - Of man-made fibres",15392,15391,false,{"$f":"VALUE(Table2[[#This Row],[Identifier]])","v":99893}]
["99896",true,"5805000000 - Hand-woven tapestries of the type Gobelins, Flanders, Aubusson, Beauvais and the like, and needle-worked tapestries (for example, petit point, cross stitch), whether or not made up",15395,15339,false,{"$f":"VALUE(Table2[[#This Row],[Identifier]])","v":99896}]
["99902",true,"5806320000 - Of man-made fibres",15403,15401,false,{"$f":"VALUE(Table2[[#This Row],[Identifier]])","v":99902}]
["111384",false,"5807000000 - Labels, badges and similar articles of textile materials, in the piece, in strips or cut to shape or size, not embroidered",15412,15339,false,{"$f":"VALUE(Table2[[#This Row],[Identifier]])","v":111384}]
["99911",true,"5807100000 - Woven",15413,15412,false,{"$f":"VALUE(Table2[[#This Row],[Identifier]])","v":99911}]
["111386",false,"5810000000 - Embroidery in the piece, in strips or in motifs",15425,15339,false,{"$f":"VALUE(Table2[[#This Row],[Identifier]])","v":111386}]
["99922",true,"5810100000 - Embroidery without visible ground",15426,15425,false,{"$f":"VALUE(Table2[[#This Row],[Identifier]])","v":99922}]
["111387",false,"5810910000 - Other embroidery",15433,15425,false,{"$f":"VALUE(Table2[[#This Row],[Identifier]])","v":111387}]
["99937",true,"5810921000 - Of a value exceeding €|17,50/kg (net weight)",15442,15441,false,{"$f":"VALUE(Table2[[#This Row],[Identifier]])","v":99937}]
["99940",true,"5810929000 - Other",15445,15441,false,{"$f":"VALUE(Table2[[#This Row],[Identifier]])","v":99940}]
["99950",true,"5811000000 - Quilted textile products in the piece, composed of one or more layers of textile materials assembled with padding by stitching or otherwise, other than embroidery of heading|5810",15455,15339,false,{"$f":"VALUE(Table2[[#This Row],[Identifier]])","v":99950}]
["111389",false,"5900000000 - Impregnated, coated, covered or laminated textile fabrics; textile articles of a kind suitable for industrial use",15462,14086,false,{"$f":"VALUE(Table2[[#This Row],[Identifier]])","v":111389}]
["111390",false,"5901000000 - Textile fabrics coated with gum or amylaceous substances, of a kind used for the outer covers of books or the like; tracing cloth; prepared painting canvas; buckram and similar stiffened textile fabrics of a kind used for hat foundations",15463,15462,false,{"$f":"VALUE(Table2[[#This Row],[Identifier]])","v":111390}]
["99963",true,"5902209000 - Other",15472,15470,false,{"$f":"VALUE(Table2[[#This Row],[Identifier]])","v":99963}]
["99971",true,"5903201000 - Impregnated",15481,15480,false,{"$f":"VALUE(Table2[[#This Row],[Identifier]])","v":99971}]
["99973",true,"5903209020 - Two layers' plastic-laminated textile fabric with:\n- one layer consisting of knitted or crocheted polyester textile fabric,\n- other layer consisting of polyurethane foam,\n- a weight of 150g/m² or more, but not more than 500g/m²,\n- a thickness of 1mm or more, but not more than 5mm\nfor use in the manufacture of the retractable roof of motor vehicles",15483,15482,false,{"$f":"VALUE(Table2[[#This Row],[Identifier]])","v":99973}]
["99982",true,"5904900000 - Other",15492,15490,false,{"$f":"VALUE(Table2[[#This Row],[Identifier]])","v":99982}]
["111396",false,"5905003000 - Other",15495,15493,false,{"$f":"VALUE(Table2[[#This Row],[Identifier]])","v":111396}]
["99992",true,"5905007090 - Other",15504,15498,false,{"$f":"VALUE(Table2[[#This Row],[Identifier]])","v":99992}]
["99998",true,"5906910000 - Knitted or crocheted",15512,15511,false,{"$f":"VALUE(Table2[[#This Row],[Identifier]])","v":99998}]
["99999",true,"5906990000 - Other",15513,15511,false,{"$f":"VALUE(Table2[[#This Row],[Identifier]])","v":99999}]
["100007",true,"5907000090 - Other",15522,15520,false,{"$f":"VALUE(Table2[[#This Row],[Identifier]])","v":100007}]
["100009",true,"5909001000 - Of synthetic fibres",15525,15524,false,{"$f":"VALUE(Table2[[#This Row],[Identifier]])","v":100009}]
["100016",true,"5911310000 - Weighing less than 650|g/m$2",15534,15533,false,{"$f":"VALUE(Table2[[#This Row],[Identifier]])","v":100016}]
["100022",true,"5911321900 - Other",15542,15540,false,{"$f":"VALUE(Table2[[#This Row],[Identifier]])","v":100022}]
["100028",true,"5911909900 - Other",15549,15547,false,{"$f":"VALUE(Table2[[#This Row],[Identifier]])","v":100028}]
["100031",true,"5911909950 - Loudspeaker vibration damper, made from round, corrugated, flexible and cut-to-size tissue of textile fibres of| polyester, cotton or aramid or a combination hereof, of a kind used in car loudspeakers",15552,15549,false,{"$f":"VALUE(Table2[[#This Row],[Identifier]])","v":100031}]
["111407",false,"6001210000 - Looped pile fabrics",15560,15555,false,{"$f":"VALUE(Table2[[#This Row],[Identifier]])","v":111407}]
["100039",true,"6001290000 - Of other textile materials",15563,15560,false,{"$f":"VALUE(Table2[[#This Row],[Identifier]])","v":100039}]
["111409",false,"6002000000 - Knitted or crocheted fabrics of a width not exceeding 30|cm, containing by weight 5|% or more of elastomeric yarn or rubber thread, other than those of heading|6001",15572,15554,false,{"$f":"VALUE(Table2[[#This Row],[Identifier]])","v":111409}]
["111410",false,"6002400091 - Other",15575,15573,false,{"$f":"VALUE(Table2[[#This Row],[Identifier]])","v":111410}]
["100054",true,"6003300000 - Of synthetic fibres",15582,15579,false,{"$f":"VALUE(Table2[[#This Row],[Identifier]])","v":100054}]
["111413",false,"6004100091 - Other",15590,15588,false,{"$f":"VALUE(Table2[[#This Row],[Identifier]])","v":111413}]
["100067",true,"6005240000 - Printed",15599,15595,false,{"$f":"VALUE(Table2[[#This Row],[Identifier]])","v":100067}]
["100069",true,"6005360000 - Other, unbleached or bleached",15602,15600,false,{"$f":"VALUE(Table2[[#This Row],[Identifier]])","v":100069}]
["100077",true,"6005900000 - Other",15611,15594,false,{"$f":"VALUE(Table2[[#This Row],[Identifier]])","v":100077}]
["100079",true,"6005909000 - Other",15613,15611,false,{"$f":"VALUE(Table2[[#This Row],[Identifier]])","v":100079}]
["100085",true,"6006310000 - Unbleached or bleached",15622,15621,false,{"$f":"VALUE(Table2[[#This Row],[Identifier]])","v":100085}]
["100091",true,"6006430000 - Of yarns of different colours",15629,15626,false,{"$f":"VALUE(Table2[[#This Row],[Identifier]])","v":100091}]
["111422",false,"6100000000 - Articles of apparel and clothing accessories, knitted or crocheted",15632,14086,false,{"$f":"VALUE(Table2[[#This Row],[Identifier]])","v":111422}]
["100101",true,"6101902000 - Overcoats, car coats, capes, cloaks and similar articles",15641,15640,false,{"$f":"VALUE(Table2[[#This Row],[Identifier]])","v":100101}]
["100102",true,"6101902011 - Hand-made ponchos of fine animal hair",15643,15642,false,{"$f":"VALUE(Table2[[#This Row],[Identifier]])","v":100102}]
["100110",true,"6102101010 - Hand-made ponchos of fine animal hair",15652,15651,false,{"$f":"VALUE(Table2[[#This Row],[Identifier]])","v":100110}]
["100119",true,"6102900000 - Of other textile materials",15661,15649,false,{"$f":"VALUE(Table2[[#This Row],[Identifier]])","v":100119}]
["100120",true,"6102901000 - Overcoats, car coats, capes, cloaks and similar articles",15662,15661,false,{"$f":"VALUE(Table2[[#This Row],[Identifier]])","v":100120}]
["100125",true,"6103220000 - Of cotton",15669,15668,false,{"$f":"VALUE(Table2[[#This Row],[Identifier]])","v":100125}]
["111429",false,"6103410000 - Trousers, bib and brace overalls, breeches and shorts",15679,15664,false,{"$f":"VALUE(Table2[[#This Row],[Identifier]])","v":111429}]
["100136",true,"6103430000 - Of synthetic fibres",15682,15679,false,{"$f":"VALUE(Table2[[#This Row],[Identifier]])","v":100136}]
["100142",true,"6104190000 - Of other textile materials",15691,15689,false,{"$f":"VALUE(Table2[[#This Row],[Identifier]])","v":100142}]
["100149",true,"6104230000 - Of synthetic fibres",15699,15697,false,{"$f":"VALUE(Table2[[#This Row],[Identifier]])","v":100149}]
["100152",true,"6104299000 - Of other textile materials",15702,15700,false,{"$f":"VALUE(Table2[[#This Row],[Identifier]])","v":100152}]
["100160",true,"6104390090 - Other",15711,15709,false,{"$f":"VALUE(Table2[[#This Row],[Identifier]])","v":100160}]
["111435",false,"6104410000 - Dresses",15712,15688,false,{"$f":"VALUE(Table2[[#This Row],[Identifier]])","v":111435}]
["100168",true,"6104530000 - Of synthetic fibres",15721,15718,false,{"$f":"VALUE(Table2[[#This Row],[Identifier]])","v":100168}]
["111438",false,"6104690091 - Other",15729,15727,false,{"$f":"VALUE(Table2[[#This Row],[Identifier]])","v":111438}]
["111439",false,"6105000000 - Men's or boys' shirts, knitted or crocheted",15732,15632,false,{"$f":"VALUE(Table2[[#This Row],[Identifier]])","v":111439}]
["100184",true,"6106100000 - Of cotton",15741,15740,false,{"$f":"VALUE(Table2[[#This Row],[Identifier]])","v":100184}]
["111441",false,"6107000000 - Men's or boys' underpants, briefs, nightshirts, pyjamas, bathrobes, dressing gowns and similar articles, knitted or crocheted",15748,15632,false,{"$f":"VALUE(Table2[[#This Row],[Identifier]])","v":111441}]
["100195",true,"6107220000 - Of man-made fibres",15755,15753,false,{"$f":"VALUE(Table2[[#This Row],[Identifier]])","v":100195}]
["100198",true,"6107990000 - Of other textile materials",15759,15757,false,{"$f":"VALUE(Table2[[#This Row],[Identifier]])","v":100198}]
["100201",true,"6107990090 - Other",15762,15759,false,{"$f":"VALUE(Table2[[#This Row],[Identifier]])","v":100201}]
["111448",false,"6108310000 - Nightdresses and pyjamas",15771,15763,false,{"$f":"VALUE(Table2[[#This Row],[Identifier]])","v":111448}]
["100212",true,"6108990000 - Of other textile materials",15778,15775,false,{"$f":"VALUE(Table2[[#This Row],[Identifier]])","v":100212}]
["100218",true,"6109900000 - Of other textile materials",15785,15781,false,{"$f":"VALUE(Table2[[#This Row],[Identifier]])","v":100218}]
["100222",true,"6110111000 - Jerseys and pullovers, containing at least 50|% by weight of wool and weighing 600|g or more per article",15791,15790,false,{"$f":"VALUE(Table2[[#This Row],[Identifier]])","v":100222}]
["100228",true,"6110121090 - Other",15798,15796,false,{"$f":"VALUE(Table2[[#This Row],[Identifier]])","v":100228}]
["100231",true,"6110129090 - Other",15801,15799,false,{"$f":"VALUE(Table2[[#This Row],[Identifier]])","v":100231}]
["100238",true,"6110199090 - Other",15808,15806,false,{"$f":"VALUE(Table2[[#This Row],[Identifier]])","v":100238}]
["100241",true,"6110209100 - Men's or boys'",15812,15811,false,{"$f":"VALUE(Table2[[#This Row],[Identifier]])","v":100241}]
["100249",true,"6110909000 - Of other textile materials",15821,15819,false,{"$f":"VALUE(Table2[[#This Row],[Identifier]])","v":100249}]
["100255",true,"6111300000 - Of synthetic fibres",15828,15824,false,{"$f":"VALUE(Table2[[#This Row],[Identifier]])","v":100255}]
["100260",true,"6111901900 - Other",15834,15832,false,{"$f":"VALUE(Table2[[#This Row],[Identifier]])","v":100260}]
["100264",true,"6111909090 - Other",15839,15835,false,{"$f":"VALUE(Table2[[#This Row],[Identifier]])","v":100264}]
["100270",true,"6112311000 - Containing by weight 5|% or more of rubber thread",15848,15847,false,{"$f":"VALUE(Table2[[#This Row],[Identifier]])","v":100270}]
["100273",true,"6112391000 - Containing by weight 5|% or more of rubber thread",15851,15850,false,{"$f":"VALUE(Table2[[#This Row],[Identifier]])","v":100273}]
["100279",true,"6112491000 - Containing by weight 5|% or more of rubber thread",15858,15857,false,{"$f":"VALUE(Table2[[#This Row],[Identifier]])","v":100279}]
["100283",true,"6114200000 - Of cotton",15864,15863,false,{"$f":"VALUE(Table2[[#This Row],[Identifier]])","v":100283}]
["100289",true,"6115101000 - Of synthetic fibres",15871,15870,false,{"$f":"VALUE(Table2[[#This Row],[Identifier]])","v":100289}]
["111467",false,"6115301100 - Of synthetic fibres",15878,15877,false,{"$f":"VALUE(Table2[[#This Row],[Identifier]])","v":111467}]
["100297",true,"6115309000 - Of other textile materials",15881,15877,false,{"$f":"VALUE(Table2[[#This Row],[Identifier]])","v":100297}]
["111469",false,"6115969100 - Other",15887,15885,false,{"$f":"VALUE(Table2[[#This Row],[Identifier]])","v":111469}]
["100307",true,"6116108000 - Other",15898,15892,false,{"$f":"VALUE(Table2[[#This Row],[Identifier]])","v":100307}]
["134281",true,"6116108019 - Other",15901,15899,false,{"$f":"VALUE(Table2[[#This Row],[Identifier]])","v":134281}]
["111472",false,"6117000000 - Other made-up clothing accessories, knitted or crocheted; knitted or crocheted parts of garments or of clothing accessories",15908,15632,false,{"$f":"VALUE(Table2[[#This Row],[Identifier]])","v":111472}]
["100314",true,"6117801000 - Knitted or crocheted, elasticated or rubberised",15911,15910,false,{"$f":"VALUE(Table2[[#This Row],[Identifier]])","v":100314}]
["134287",true,"6201200091 - Other",15920,15916,false,{"$f":"VALUE(Table2[[#This Row],[Identifier]])","v":134287}]
["134295",true,"6201301099 - Other",15928,15926,false,{"$f":"VALUE(Table2[[#This Row],[Identifier]])","v":134295}]
["134298",true,"6201309011 - Parkas",15931,15930,false,{"$f":"VALUE(Table2[[#This Row],[Identifier]])","v":134298}]
["134305",false,"6201401011 - Overcoats, raincoats, car-coats, capes, cloaks and similar articles",15938,15937,false,{"$f":"VALUE(Table2[[#This Row],[Identifier]])","v":134305}]
["134310",false,"6201409011 - Overcoats, raincoats, car-coats, capes, cloaks and similar articles",15943,15942,false,{"$f":"VALUE(Table2[[#This Row],[Identifier]])","v":134310}]
["134317",true,"6202200000 - Of wool or fine animal hair",15951,15950,false,{"$f":"VALUE(Table2[[#This Row],[Identifier]])","v":134317}]
["134324",true,"6202301000 - Of a weight, per garment, not exceeding 1|kg",15958,15957,false,{"$f":"VALUE(Table2[[#This Row],[Identifier]])","v":134324}]
["134327",true,"6202301019 - Other",15961,15959,false,{"$f":"VALUE(Table2[[#This Row],[Identifier]])","v":134327}]
["134334",true,"6202309019 - Other",15968,15966,false,{"$f":"VALUE(Table2[[#This Row],[Identifier]])","v":134334}]
["134339",true,"6202401000 - Of a weight, per garment, not exceeding 1|kg",15973,15972,false,{"$f":"VALUE(Table2[[#This Row],[Identifier]])","v":134339}]
["134347",true,"6202409019 - Other",15981,15979,false,{"$f":"VALUE(Table2[[#This Row],[Identifier]])","v":134347}]
["100370",true,"6203110000 - Of wool or fine animal hair",15988,15987,false,{"$f":"VALUE(Table2[[#This Row],[Identifier]])","v":100370}]
["100378",true,"6203228000 - Other",15997,15995,false,{"$f":"VALUE(Table2[[#This Row],[Identifier]])","v":100378}]
["100380",true,"6203231000 - Industrial and occupational",15999,15998,false,{"$f":"VALUE(Table2[[#This Row],[Identifier]])","v":100380}]
["100387",true,"6203310000 - Of wool or fine animal hair",16008,16007,false,{"$f":"VALUE(Table2[[#This Row],[Identifier]])","v":100387}]
["100390",true,"6203329000 - Other",16011,16009,false,{"$f":"VALUE(Table2[[#This Row],[Identifier]])","v":100390}]
["100396",true,"6203391900 - Other",16018,16016,false,{"$f":"VALUE(Table2[[#This Row],[Identifier]])","v":100396}]
["100404",true,"6203423100 - Of denim",16029,16028,false,{"$f":"VALUE(Table2[[#This Row],[Identifier]])","v":100404}]
["100406",true,"6203423500 - Other",16031,16028,false,{"$f":"VALUE(Table2[[#This Row],[Identifier]])","v":100406}]
["100411",true,"6203431100 - Industrial and occupational",16038,16037,false,{"$f":"VALUE(Table2[[#This Row],[Identifier]])","v":100411}]
["100417",true,"6203491100 - Industrial and occupational",16047,16046,false,{"$f":"VALUE(Table2[[#This Row],[Identifier]])","v":100417}]
["100419",true,"6203493100 - Industrial and occupational",16050,16049,false,{"$f":"VALUE(Table2[[#This Row],[Identifier]])","v":100419}]
["100426",true,"6204120090 - Other",16059,16057,false,{"$f":"VALUE(Table2[[#This Row],[Identifier]])","v":100426}]
["100428",true,"6204190000 - Of other textile materials",16061,16055,false,{"$f":"VALUE(Table2[[#This Row],[Identifier]])","v":100428}]
["100434",true,"6204228000 - Other",16068,16066,false,{"$f":"VALUE(Table2[[#This Row],[Identifier]])","v":100434}]
["100442",true,"6204291800 - Other",16077,16075,false,{"$f":"VALUE(Table2[[#This Row],[Identifier]])","v":100442}]
["100449",true,"6204329000 - Other",16085,16083,false,{"$f":"VALUE(Table2[[#This Row],[Identifier]])","v":100449}]
["100452",true,"6204330000 - Of synthetic fibres",16088,16081,false,{"$f":"VALUE(Table2[[#This Row],[Identifier]])","v":100452}]
["100460",true,"6204399090 - Other",16097,16095,false,{"$f":"VALUE(Table2[[#This Row],[Identifier]])","v":100460}]
["111501",false,"6204410000 - Dresses",16098,16054,false,{"$f":"VALUE(Table2[[#This Row],[Identifier]])","v":111501}]
["100469",true,"6204490000 - Of other textile materials",16107,16098,false,{"$f":"VALUE(Table2[[#This Row],[Identifier]])","v":100469}]
["100475",true,"6204510011 - Hand-made",16115,16114,false,{"$f":"VALUE(Table2[[#This Row],[Identifier]])","v":100475}]
["100478",true,"6204520000 - Of cotton",16118,16112,false,{"$f":"VALUE(Table2[[#This Row],[Identifier]])","v":100478}]
["100487",true,"6204591090 - Other",16127,16125,false,{"$f":"VALUE(Table2[[#This Row],[Identifier]])","v":100487}]
["100490",true,"6204599090 - Other",16130,16128,false,{"$f":"VALUE(Table2[[#This Row],[Identifier]])","v":100490}]
["111506",false,"6204623100 - Other",16138,16136,false,{"$f":"VALUE(Table2[[#This Row],[Identifier]])","v":111506}]
["100504",true,"6204623990 - Other",16147,16145,false,{"$f":"VALUE(Table2[[#This Row],[Identifier]])","v":100504}]
["111507",false,"6204625100 - Bib and brace overalls",16148,16135,false,{"$f":"VALUE(Table2[[#This Row],[Identifier]])","v":111507}]
["111508",false,"6204631100 - Trousers and breeches",16157,16156,false,{"$f":"VALUE(Table2[[#This Row],[Identifier]])","v":111508}]
["100518",true,"6204633900 - Other",16164,16162,false,{"$f":"VALUE(Table2[[#This Row],[Identifier]])","v":100518}]
["100522",true,"6204639010 - Hand-printed by the \"batik\" method",16168,16167,false,{"$f":"VALUE(Table2[[#This Row],[Identifier]])","v":100522}]
["111512",false,"6204693100 - Bib and brace overalls",16177,16171,false,{"$f":"VALUE(Table2[[#This Row],[Identifier]])","v":111512}]
["100535",true,"6204695090 - Other",16184,16182,false,{"$f":"VALUE(Table2[[#This Row],[Identifier]])","v":100535}]
["100538",true,"6204699090 - Other",16187,16185,false,{"$f":"VALUE(Table2[[#This Row],[Identifier]])","v":100538}]
["100544",true,"6205901000 - Of flax or ramie",16194,16193,false,{"$f":"VALUE(Table2[[#This Row],[Identifier]])","v":100544}]
["100548",true,"6205908010 - Of wool or fine animal hair",16198,16197,false,{"$f":"VALUE(Table2[[#This Row],[Identifier]])","v":100548}]
["100556",true,"6206900000 - Of other textile materials",16207,16200,false,{"$f":"VALUE(Table2[[#This Row],[Identifier]])","v":100556}]
["100559",true,"6206901090 - Other",16210,16208,false,{"$f":"VALUE(Table2[[#This Row],[Identifier]])","v":100559}]
["100563",true,"6207210000 - Of cotton",16217,16216,false,{"$f":"VALUE(Table2[[#This Row],[Identifier]])","v":100563}]
["100571",true,"6207991000 - Of man-made fibres",16227,16226,false,{"$f":"VALUE(Table2[[#This Row],[Identifier]])","v":100571}]
["100576",true,"6208190000 - Of other textile materials",16234,16232,false,{"$f":"VALUE(Table2[[#This Row],[Identifier]])","v":100576}]
["100578",true,"6208220000 - Of man-made fibres",16237,16235,false,{"$f":"VALUE(Table2[[#This Row],[Identifier]])","v":100578}]
["100584",true,"6208910090 - Other",16246,16240,false,{"$f":"VALUE(Table2[[#This Row],[Identifier]])","v":100584}]
["100585",true,"6208920000 - Of man-made fibres",16247,16239,false,{"$f":"VALUE(Table2[[#This Row],[Identifier]])","v":100585}]
["100594",true,"6209300010 - Gloves, mittens and mitts",16257,16256,false,{"$f":"VALUE(Table2[[#This Row],[Identifier]])","v":100594}]
["100597",true,"6209900000 - Of other textile materials",16260,16251,false,{"$f":"VALUE(Table2[[#This Row],[Identifier]])","v":100597}]
["100604",true,"6209909020 - Stockings, socks and sockettes",16267,16265,false,{"$f":"VALUE(Table2[[#This Row],[Identifier]])","v":100604}]
["100608",true,"6210109200 - Single-use gowns, of a kind used by patients or surgeons during surgical procedures",16273,16272,false,{"$f":"VALUE(Table2[[#This Row],[Identifier]])","v":100608}]
["111530",false,"6211110000 - Swimwear",16284,16283,false,{"$f":"VALUE(Table2[[#This Row],[Identifier]])","v":111530}]
["100616",true,"6211200000 - Ski suits",16287,16283,false,{"$f":"VALUE(Table2[[#This Row],[Identifier]])","v":100616}]
["100622",true,"6211324100 - Upper parts",16296,16295,false,{"$f":"VALUE(Table2[[#This Row],[Identifier]])","v":100622}]
["100623",true,"6211324200 - Lower parts",16297,16295,false,{"$f":"VALUE(Table2[[#This Row],[Identifier]])","v":100623}]
["111535",false,"6211334100 - Other",16303,16301,false,{"$f":"VALUE(Table2[[#This Row],[Identifier]])","v":111535}]
["100636",true,"6211423100 - With an outer shell of a single identical fabric",16314,16313,false,{"$f":"VALUE(Table2[[#This Row],[Identifier]])","v":100636}]
["100638",true,"6211424200 - Lower parts",16317,16315,false,{"$f":"VALUE(Table2[[#This Row],[Identifier]])","v":100638}]
["100645",true,"6211439000 - Other",16326,16319,false,{"$f":"VALUE(Table2[[#This Row],[Identifier]])","v":100645}]
["100651",true,"6212300000 - Corselettes",16333,16328,false,{"$f":"VALUE(Table2[[#This Row],[Identifier]])","v":100651}]
["100654",true,"6213200010 - Hand-made",16337,16336,false,{"$f":"VALUE(Table2[[#This Row],[Identifier]])","v":100654}]
["100662",true,"6214200000 - Of wool or fine animal hair",16346,16342,false,{"$f":"VALUE(Table2[[#This Row],[Identifier]])","v":100662}]
["100663",true,"6214200010 - Hand-made",16347,16346,false,{"$f":"VALUE(Table2[[#This Row],[Identifier]])","v":100663}]
["111545",false,"6214900091 - Other",16359,16355,false,{"$f":"VALUE(Table2[[#This Row],[Identifier]])","v":111545}]
["100677",true,"6215100010 - Hand-made",16364,16363,false,{"$f":"VALUE(Table2[[#This Row],[Identifier]])","v":100677}]
["100680",true,"6215200010 - Hand-made",16367,16366,false,{"$f":"VALUE(Table2[[#This Row],[Identifier]])","v":100680}]
["100688",true,"6217100090 - Other",16376,16374,false,{"$f":"VALUE(Table2[[#This Row],[Identifier]])","v":100688}]
["100692",true,"6301201000 - Knitted or crocheted",16383,16382,false,{"$f":"VALUE(Table2[[#This Row],[Identifier]])","v":100692}]
["100698",true,"6301309000 - Other",16389,16387,false,{"$f":"VALUE(Table2[[#This Row],[Identifier]])","v":100698}]
["111551",false,"6301409091 - Other",16396,16394,false,{"$f":"VALUE(Table2[[#This Row],[Identifier]])","v":111551}]
["100705",true,"6301409091 - Hand-made",16397,16396,false,{"$f":"VALUE(Table2[[#This Row],[Identifier]])","v":100705}]
["100712",true,"6301909029 - Other",16406,16404,false,{"$f":"VALUE(Table2[[#This Row],[Identifier]])","v":100712}]
["111556",false,"6302210000 - Other bedlinen, printed",16412,16410,false,{"$f":"VALUE(Table2[[#This Row],[Identifier]])","v":111556}]
["111558",false,"6302210081 - Other",16417,16413,false,{"$f":"VALUE(Table2[[#This Row],[Identifier]])","v":111558}]
["111559",false,"6302310000 - Other bedlinen",16426,16410,false,{"$f":"VALUE(Table2[[#This Row],[Identifier]])","v":111559}]
["100733",true,"6302399000 - Of other textile materials",16433,16431,false,{"$f":"VALUE(Table2[[#This Row],[Identifier]])","v":100733}]
["100735",true,"6302510000 - Of cotton",16436,16435,false,{"$f":"VALUE(Table2[[#This Row],[Identifier]])","v":100735}]
["100741",true,"6302590000 - Of other textile materials",16442,16435,false,{"$f":"VALUE(Table2[[#This Row],[Identifier]])","v":100741}]
["100746",true,"6302600000 - Toilet linen and kitchen linen, of terry towelling or similar terry fabrics, of cotton",16447,16410,false,{"$f":"VALUE(Table2[[#This Row],[Identifier]])","v":100746}]
["100754",true,"6302939000 - Other",16456,16454,false,{"$f":"VALUE(Table2[[#This Row],[Identifier]])","v":100754}]
["111563",false,"6303120000 - Knitted or crocheted",16463,16462,false,{"$f":"VALUE(Table2[[#This Row],[Identifier]])","v":111563}]
["100763",true,"6303910010 - Net curtains",16468,16467,false,{"$f":"VALUE(Table2[[#This Row],[Identifier]])","v":100763}]
["100770",true,"6303929090 - Other",16476,16474,false,{"$f":"VALUE(Table2[[#This Row],[Identifier]])","v":100770}]
["111567",false,"6303999031 - Curtains (including drapes) of wool",16483,16481,false,{"$f":"VALUE(Table2[[#This Row],[Identifier]])","v":111567}]
["100778",true,"6303999090 - Other",16486,16481,false,{"$f":"VALUE(Table2[[#This Row],[Identifier]])","v":100778}]
["100781",true,"6304191000 - Of cotton",16491,16490,false,{"$f":"VALUE(Table2[[#This Row],[Identifier]])","v":100781}]
["111570",false,"6304199091 - Other",16497,16495,false,{"$f":"VALUE(Table2[[#This Row],[Identifier]])","v":111570}]
["100794",true,"6304930000 - Not knitted or crocheted, of synthetic fibres",16506,16501,false,{"$f":"VALUE(Table2[[#This Row],[Identifier]])","v":100794}]
["111573",false,"6304990092 - Other",16513,16511,false,{"$f":"VALUE(Table2[[#This Row],[Identifier]])","v":111573}]
["111574",false,"6305000000 - Sacks and bags, of a kind used for the packing of goods",16516,16378,false,{"$f":"VALUE(Table2[[#This Row],[Identifier]])","v":111574}]
["100806",true,"6305200010 - Knitted or crocheted",16521,16520,false,{"$f":"VALUE(Table2[[#This Row],[Identifier]])","v":100806}]
["100815",true,"6305330000 - Other, of polyethylene or polypropylene strip or the like",16533,16523,false,{"$f":"VALUE(Table2[[#This Row],[Identifier]])","v":100815}]
["100818",true,"6305390000 - Other",16536,16523,false,{"$f":"VALUE(Table2[[#This Row],[Identifier]])","v":100818}]
["100823",true,"6305900010 - Sacks and bags, of a kind used for the packing of goods, used, of flax or of sisal",16543,16542,false,{"$f":"VALUE(Table2[[#This Row],[Identifier]])","v":100823}]
["100826",true,"6305900099 - Other",16547,16545,false,{"$f":"VALUE(Table2[[#This Row],[Identifier]])","v":100826}]
["100832",true,"6306400000 - Pneumatic mattresses",16556,16548,false,{"$f":"VALUE(Table2[[#This Row],[Identifier]])","v":100832}]
["100837",true,"6307100000 - Floorcloths, dishcloths, dusters and similar cleaning cloths",16563,16562,false,{"$f":"VALUE(Table2[[#This Row],[Identifier]])","v":100837}]
["100840",true,"6307109000 - Other",16566,16563,false,{"$f":"VALUE(Table2[[#This Row],[Identifier]])","v":100840}]
["100846",true,"6307909100 - Of felt",16573,16572,false,{"$f":"VALUE(Table2[[#This Row],[Identifier]])","v":100846}]
["131205",true,"6307909300 - Filtering facepieces (FFP) according to EN149; other masks conforming to a similar standard for masks as respiratory protective devices to protect against particles",16577,16576,false,{"$f":"VALUE(Table2[[#This Row],[Identifier]])","v":131205}]
["131214",false,"6307909511 - Medical face masks according to EN14683; other masks conforming to a similar standard for medical face masks",16586,16585,false,{"$f":"VALUE(Table2[[#This Row],[Identifier]])","v":131214}]
["100848",true,"6307909800 - Other",16593,16574,false,{"$f":"VALUE(Table2[[#This Row],[Identifier]])","v":100848}]
["100850",true,"6307909891 - Hand-made",16596,16595,false,{"$f":"VALUE(Table2[[#This Row],[Identifier]])","v":100850}]
["111590",false,"6309000000 - III. WORN CLOTHING AND WORN TEXTILE ARTICLES; RAGS",16603,16378,false,{"$f":"VALUE(Table2[[#This Row],[Identifier]])","v":111590}]
["100860",true,"6401920000 - Covering the ankle but not covering the knee",16613,16612,false,{"$f":"VALUE(Table2[[#This Row],[Identifier]])","v":100860}]
["100863",true,"6401990000 - Other",16616,16612,false,{"$f":"VALUE(Table2[[#This Row],[Identifier]])","v":100863}]
["100868",true,"6402129000 - Snowboard boots",16623,16621,false,{"$f":"VALUE(Table2[[#This Row],[Identifier]])","v":100868}]
["111599",false,"6402991000 - Other",16632,16630,false,{"$f":"VALUE(Table2[[#This Row],[Identifier]])","v":111599}]
["100876",true,"6402991000 - With uppers of rubber",16633,16632,false,{"$f":"VALUE(Table2[[#This Row],[Identifier]])","v":100876}]
["111604",false,"6402999600 - Other",16643,16641,false,{"$f":"VALUE(Table2[[#This Row],[Identifier]])","v":111604}]
["111605",false,"6403000000 - Footwear with outer soles of rubber, plastics, leather or composition leather and uppers of leather",16646,16609,false,{"$f":"VALUE(Table2[[#This Row],[Identifier]])","v":111605}]
["100888",true,"6403510000 - Covering the ankle",16653,16652,false,{"$f":"VALUE(Table2[[#This Row],[Identifier]])","v":100888}]
["111611",false,"6403519100 - Other, with insoles of a length",16663,16657,false,{"$f":"VALUE(Table2[[#This Row],[Identifier]])","v":111611}]
["100896",true,"6403519500 - For men",16666,16665,false,{"$f":"VALUE(Table2[[#This Row],[Identifier]])","v":100896}]
["111614",false,"6403591100 - Footwear with a vamp made of straps or which has one or several pieces cut out",16673,16672,false,{"$f":"VALUE(Table2[[#This Row],[Identifier]])","v":111614}]
["100907",true,"6403599100 - Of less than 24|cm",16682,16681,false,{"$f":"VALUE(Table2[[#This Row],[Identifier]])","v":100907}]
["100912",true,"6403910510 - Hand-made",16689,16688,false,{"$f":"VALUE(Table2[[#This Row],[Identifier]])","v":100912}]
["100914",true,"6403911100 - Of less than 24|cm",16693,16692,false,{"$f":"VALUE(Table2[[#This Row],[Identifier]])","v":100914}]
["111622",false,"6403911300 - Of 24|cm or more",16696,16692,false,{"$f":"VALUE(Table2[[#This Row],[Identifier]])","v":111622}]
["118994",true,"6403911690 - Other",16703,16701,false,{"$f":"VALUE(Table2[[#This Row],[Identifier]])","v":118994}]
["100920",true,"6403919600 - For men",16712,16711,false,{"$f":"VALUE(Table2[[#This Row],[Identifier]])","v":100920}]
["111628",false,"6403991100 - Footwear with a vamp made of straps or which has one or several pieces cut out",16719,16718,false,{"$f":"VALUE(Table2[[#This Row],[Identifier]])","v":111628}]
["111630",false,"6403993300 - Of 24|cm or more",16723,16721,false,{"$f":"VALUE(Table2[[#This Row],[Identifier]])","v":111630}]
["118998",true,"6403999190 - Other",16732,16730,false,{"$f":"VALUE(Table2[[#This Row],[Identifier]])","v":118998}]
["111633",false,"6403999300 - Of 24|cm or more",16733,16729,false,{"$f":"VALUE(Table2[[#This Row],[Identifier]])","v":111633}]
["119003",true,"6403999810 - Sports footwear; tennis shoes, basketball shoes, gym shoes, training shoes and the like",16742,16741,false,{"$f":"VALUE(Table2[[#This Row],[Identifier]])","v":119003}]
["100936",true,"6404110000 - Sports footwear; tennis shoes, basketball shoes, gym shoes, training shoes and the like",16746,16745,false,{"$f":"VALUE(Table2[[#This Row],[Identifier]])","v":100936}]
["111637",false,"6405000000 - Other footwear",16753,16609,false,{"$f":"VALUE(Table2[[#This Row],[Identifier]])","v":111637}]
["100950",true,"6405909000 - With outer soles of other materials",16762,16760,false,{"$f":"VALUE(Table2[[#This Row],[Identifier]])","v":100950}]
["100952",true,"6406101000 - Of leather",16765,16764,false,{"$f":"VALUE(Table2[[#This Row],[Identifier]])","v":100952}]
["100959",true,"6406201000 - Of rubber",16772,16771,false,{"$f":"VALUE(Table2[[#This Row],[Identifier]])","v":100959}]
["100969",true,"6406905000 - Removable insoles and other removable accessories",16782,16778,false,{"$f":"VALUE(Table2[[#This Row],[Identifier]])","v":100969}]
["100970",true,"6406905010 - Hand-made",16783,16782,false,{"$f":"VALUE(Table2[[#This Row],[Identifier]])","v":100970}]
["100978",true,"6406909090 - Other",16792,16790,false,{"$f":"VALUE(Table2[[#This Row],[Identifier]])","v":100978}]
["100982",true,"6505001000 - Of fur felt or of felt of wool and fur, made from the hat bodies, hoods or plateaux of heading|6501|00|00",16798,16797,false,{"$f":"VALUE(Table2[[#This Row],[Identifier]])","v":100982}]
["100986",true,"6505009090 - Other",16803,16801,false,{"$f":"VALUE(Table2[[#This Row],[Identifier]])","v":100986}]
["100993",true,"6506999000 - Other",16812,16810,false,{"$f":"VALUE(Table2[[#This Row],[Identifier]])","v":100993}]
["111647",false,"6601000000 - Umbrellas and sun umbrellas (including walking-stick umbrellas, garden umbrellas and similar umbrellas)",16815,16814,false,{"$f":"VALUE(Table2[[#This Row],[Identifier]])","v":111647}]
["100999",true,"6601999000 - Other",16821,16819,false,{"$f":"VALUE(Table2[[#This Row],[Identifier]])","v":100999}]
["111651",false,"6702000000 - Artificial flowers, foliage and fruit and parts thereof; articles made of artificial flowers, foliage or fruit",16832,16830,false,{"$f":"VALUE(Table2[[#This Row],[Identifier]])","v":111651}]
["101008",true,"6702100000 - Of plastics",16833,16832,false,{"$f":"VALUE(Table2[[#This Row],[Identifier]])","v":101008}]
["111654",false,"SECTION XIII (68 - 70) Articles of stone, plaster, cement, asbestos, mica or similar materials; ceramic products; glass and glassware",16842,"",false,{"$f":"VALUE(Table2[[#This Row],[Identifier]])","v":111654}]
["111656",false,"6802000000 - Worked monumental or building stone (except slate) and articles thereof, other than goods of heading|6801; mosaic cubes and the like, of natural stone (including slate), whether or not on a backing; artificially coloured granules, chippings and powder, of natural stone (including slate)",16845,16843,false,{"$f":"VALUE(Table2[[#This Row],[Identifier]])","v":111656}]
["111658",false,"6802910000 - Other",16851,16845,false,{"$f":"VALUE(Table2[[#This Row],[Identifier]])","v":111658}]
["101030",true,"6802939090 - Other",16862,16860,false,{"$f":"VALUE(Table2[[#This Row],[Identifier]])","v":101030}]
["101036",true,"6803001000 - Roofing and wall slates",16869,16868,false,{"$f":"VALUE(Table2[[#This Row],[Identifier]])","v":101036}]
["101038",true,"6804100000 - Millstones and grindstones for milling, grinding or pulping",16872,16871,false,{"$f":"VALUE(Table2[[#This Row],[Identifier]])","v":101038}]
["101042",true,"6804220000 - Of other agglomerated abrasives or of ceramics",16877,16873,false,{"$f":"VALUE(Table2[[#This Row],[Identifier]])","v":101042}]
["101046",true,"6804225000 - Of other materials",16883,16878,false,{"$f":"VALUE(Table2[[#This Row],[Identifier]])","v":101046}]
["101055",true,"6806100000 - Slag-wool, rock-wool and similar mineral wools (including intermixtures thereof), in bulk, sheets or rolls",16892,16891,false,{"$f":"VALUE(Table2[[#This Row],[Identifier]])","v":101055}]
["101058",true,"6806209000 - Other",16895,16893,false,{"$f":"VALUE(Table2[[#This Row],[Identifier]])","v":101058}]
["111668",false,"6809110000 - Boards, sheets, panels, tiles and similar articles, not ornamented",16902,16901,false,{"$f":"VALUE(Table2[[#This Row],[Identifier]])","v":111668}]
["111670",false,"6810110000 - Tiles, flagstones, bricks and similar articles",16907,16906,false,{"$f":"VALUE(Table2[[#This Row],[Identifier]])","v":111670}]
["101074",true,"6811820000 - Other sheets, panels, tiles and similar articles",16919,16917,false,{"$f":"VALUE(Table2[[#This Row],[Identifier]])","v":101074}]
["101076",true,"6812800000 - Of crocidolite",16922,16921,false,{"$f":"VALUE(Table2[[#This Row],[Identifier]])","v":101076}]
["101086",true,"6812990000 - Other",16931,16929,false,{"$f":"VALUE(Table2[[#This Row],[Identifier]])","v":101086}]
["101092",true,"6812999090 - Other",16937,16935,false,{"$f":"VALUE(Table2[[#This Row],[Identifier]])","v":101092}]
["111677",false,"6813810000 - Not containing asbestos",16942,16938,false,{"$f":"VALUE(Table2[[#This Row],[Identifier]])","v":111677}]
["101098",true,"6813810090 - Other",16945,16943,false,{"$f":"VALUE(Table2[[#This Row],[Identifier]])","v":101098}]
["101103",true,"6814100000 - Plates, sheets and strips of agglomerated or reconstituted mica, whether or not on a support",16952,16951,false,{"$f":"VALUE(Table2[[#This Row],[Identifier]])","v":101103}]
["111681",false,"6815910000 - Other articles",16963,16956,false,{"$f":"VALUE(Table2[[#This Row],[Identifier]])","v":111681}]
["111684",false,"6902000000 - Refractory bricks, blocks, tiles and similar refractory ceramic constructional goods, other than those of siliceous fossil meals or similar siliceous earths",16969,16966,false,{"$f":"VALUE(Table2[[#This Row],[Identifier]])","v":111684}]
["101116",true,"6902201000 - Containing, by weight, 93|% or more of silica (SiO@2)",16972,16971,false,{"$f":"VALUE(Table2[[#This Row],[Identifier]])","v":101116}]
["101123",true,"6903209000 - Containing, by weight, 45|% or more of alumina (Al@2O@3)",16981,16979,false,{"$f":"VALUE(Table2[[#This Row],[Identifier]])","v":101123}]
["101124",true,"6903900000 - Other",16982,16977,false,{"$f":"VALUE(Table2[[#This Row],[Identifier]])","v":101124}]
["101132",true,"6905900000 - Other",16993,16991,false,{"$f":"VALUE(Table2[[#This Row],[Identifier]])","v":101132}]
["101136",true,"6907230000 - Of a water absorption coefficient by weight exceeding 10|%",16999,16996,false,{"$f":"VALUE(Table2[[#This Row],[Identifier]])","v":101136}]
["111692",false,"6909000000 - Ceramic wares for laboratory, chemical or other technical uses; ceramic troughs, tubs and similar receptacles of a kind used in agriculture; ceramic pots, jars and similar articles of a kind used for the conveyance or packing of goods",17002,16966,false,{"$f":"VALUE(Table2[[#This Row],[Identifier]])","v":111692}]
["101145",true,"6909190050 - Ceramic articles made of continuous filaments of ceramic oxides, containing by weight:\n \n-|2|% or more of diboron trioxide,\n \n-|28|% or less of silicon dioxide and\n \n-|60|% or more of dialuminium trioxide",17011,17006,false,{"$f":"VALUE(Table2[[#This Row],[Identifier]])","v":101145}]
["111694",false,"6910000000 - Ceramic sinks, washbasins, washbasin pedestals, baths, bidets, water closet pans, flushing cisterns, urinals and similar sanitary fixtures",17016,16966,false,{"$f":"VALUE(Table2[[#This Row],[Identifier]])","v":111694}]
["101155",true,"6911100090 - Other",17022,17020,false,{"$f":"VALUE(Table2[[#This Row],[Identifier]])","v":101155}]
["101160",true,"6912002191 - Tableware and kitchenware, excluding condiment or spice mills and their ceramic grinding parts, coffee mills, knife sharpeners, sharpeners, kitchen tools to be used for cutting, grinding, grating, slicing, scraping and peeling, cordierite ceramic pizza-stones of a kind used for baking pizza or bread",17031,17030,false,{"$f":"VALUE(Table2[[#This Row],[Identifier]])","v":101160}]
["101161",true,"6912002199 - Other",17032,17030,false,{"$f":"VALUE(Table2[[#This Row],[Identifier]])","v":101161}]
["101170",true,"6912002990 - Other",17041,17039,false,{"$f":"VALUE(Table2[[#This Row],[Identifier]])","v":101170}]
["101174",true,"6912008300 - Stoneware",17046,17042,false,{"$f":"VALUE(Table2[[#This Row],[Identifier]])","v":101174}]
["101179",true,"6913100090 - Other",17052,17050,false,{"$f":"VALUE(Table2[[#This Row],[Identifier]])","v":101179}]
["101187",true,"6913909800 - Other",17061,17057,false,{"$f":"VALUE(Table2[[#This Row],[Identifier]])","v":101187}]
["111704",false,"6914900020 - Other",17068,17066,false,{"$f":"VALUE(Table2[[#This Row],[Identifier]])","v":111704}]
["111705",false,"7000000000 - Glass and glassware",17072,16842,false,{"$f":"VALUE(Table2[[#This Row],[Identifier]])","v":111705}]
["101199",true,"7002100000 - Balls",17079,17078,false,{"$f":"VALUE(Table2[[#This Row],[Identifier]])","v":101199}]
["101202",true,"7002209000 - Other",17082,17080,false,{"$f":"VALUE(Table2[[#This Row],[Identifier]])","v":101202}]
["111712",false,"7003129100 - Other",17091,17089,false,{"$f":"VALUE(Table2[[#This Row],[Identifier]])","v":111712}]
["101214",true,"7003300000 - Profiles",17098,17087,false,{"$f":"VALUE(Table2[[#This Row],[Identifier]])","v":101214}]
["111714",false,"7004209100 - Other",17102,17100,false,{"$f":"VALUE(Table2[[#This Row],[Identifier]])","v":111714}]
["111716",false,"7005102500 - Other, of a thickness",17111,17109,false,{"$f":"VALUE(Table2[[#This Row],[Identifier]])","v":111716}]
["101231",true,"7005213000 - Of a thickness exceeding 3,5|mm but not exceeding 4,5|mm",17118,17116,false,{"$f":"VALUE(Table2[[#This Row],[Identifier]])","v":101231}]
["101234",true,"7005292500 - Of a thickness not exceeding 3,5|mm",17121,17120,false,{"$f":"VALUE(Table2[[#This Row],[Identifier]])","v":101234}]
["111718",false,"7006000000 - Glass of heading|7003, 7004|or 7005, bent, edge-worked, engraved, drilled, enamelled or otherwise worked, but not framed or fitted with other materials",17125,17124,false,{"$f":"VALUE(Table2[[#This Row],[Identifier]])","v":111718}]
["111720",false,"7007110000 - Toughened (tempered) safety glass",17132,17131,false,{"$f":"VALUE(Table2[[#This Row],[Identifier]])","v":111720}]
["101249",true,"7007198000 - Other",17141,17138,false,{"$f":"VALUE(Table2[[#This Row],[Identifier]])","v":101249}]
["101253",true,"7007198085 - Single or double-side coated",17148,17146,false,{"$f":"VALUE(Table2[[#This Row],[Identifier]])","v":101253}]
["101255",true,"7007210000 - Of size and shape suitable for incorporation in vehicles, aircraft, spacecraft or vessels",17151,17150,false,{"$f":"VALUE(Table2[[#This Row],[Identifier]])","v":101255}]
["101263",true,"7008008900 - Other",17161,17159,false,{"$f":"VALUE(Table2[[#This Row],[Identifier]])","v":101263}]
["111728",false,"7009910000 - Other",17168,17162,false,{"$f":"VALUE(Table2[[#This Row],[Identifier]])","v":111728}]
["111729",false,"7010000000 - Carboys, bottles, flasks, jars, pots, phials, ampoules and other containers, of glass, of a kind used for the conveyance or packing of goods; preserving jars of glass; stoppers, lids and other closures, of glass",17171,17072,false,{"$f":"VALUE(Table2[[#This Row],[Identifier]])","v":111729}]
["111731",false,"7010903100 - Other, of a nominal capacity of",17178,17176,false,{"$f":"VALUE(Table2[[#This Row],[Identifier]])","v":111731}]
["111733",false,"7010904100 - For beverages and foodstuffs",17181,17180,false,{"$f":"VALUE(Table2[[#This Row],[Identifier]])","v":111733}]
["101285",true,"7010905500 - 0,15|l or more but not more than 0,33|l",17191,17188,false,{"$f":"VALUE(Table2[[#This Row],[Identifier]])","v":101285}]
["101290",true,"7010907900 - Not exceeding 0,055|l",17198,17196,false,{"$f":"VALUE(Table2[[#This Row],[Identifier]])","v":101290}]
["101292",true,"7010909900 - Of coloured glass",17201,17199,false,{"$f":"VALUE(Table2[[#This Row],[Identifier]])","v":101292}]
["101299",true,"7013229000 - Gathered mechanically",17211,17209,false,{"$f":"VALUE(Table2[[#This Row],[Identifier]])","v":101299}]
["101304",true,"7013331100 - Cut or otherwise decorated",17218,17217,false,{"$f":"VALUE(Table2[[#This Row],[Identifier]])","v":101304}]
["101306",true,"7013339100 - Cut or otherwise decorated",17221,17220,false,{"$f":"VALUE(Table2[[#This Row],[Identifier]])","v":101306}]
["101311",true,"7013375900 - Other",17228,17226,false,{"$f":"VALUE(Table2[[#This Row],[Identifier]])","v":101311}]
["101313",true,"7013379900 - Other",17231,17229,false,{"$f":"VALUE(Table2[[#This Row],[Identifier]])","v":101313}]
["101318",true,"7013490000 - Other",17237,17232,false,{"$f":"VALUE(Table2[[#This Row],[Identifier]])","v":101318}]
["101327",true,"7013990090 - Other",17248,17246,false,{"$f":"VALUE(Table2[[#This Row],[Identifier]])","v":101327}]
["101330",true,"7014000090 - Other",17251,17249,false,{"$f":"VALUE(Table2[[#This Row],[Identifier]])","v":101330}]
["101335",true,"7016901000 - Leaded lights and the like",17258,17257,false,{"$f":"VALUE(Table2[[#This Row],[Identifier]])","v":101335}]
["111756",false,"7018101100 - Glass beads",17267,17266,false,{"$f":"VALUE(Table2[[#This Row],[Identifier]])","v":111756}]
["101345",true,"7018101990 - Other",17271,17269,false,{"$f":"VALUE(Table2[[#This Row],[Identifier]])","v":101345}]
["101351",true,"7018900000 - Other",17278,17265,false,{"$f":"VALUE(Table2[[#This Row],[Identifier]])","v":101351}]
["111758",false,"7019000000 - Glass fibres (including glass wool) and articles thereof (for example, yarn, rovings, woven fabrics)",17281,17072,false,{"$f":"VALUE(Table2[[#This Row],[Identifier]])","v":111758}]
["101360",true,"7019120022 - Rovings, measuring 650|tex or more but not more than 2|500|tex, coated with a layer of polyurethane whether or not mixed with other materials",17290,17289,false,{"$f":"VALUE(Table2[[#This Row],[Identifier]])","v":101360}]
["134367",true,"7019130020 - Yarn of 10,3|tex or more but not more than 11,9|tex, obtained from continuous spun-glass filaments, in which filaments of a diameter of 4.83|μm or more but not more than 5.83|μm predominate",17298,17295,false,{"$f":"VALUE(Table2[[#This Row],[Identifier]])","v":134367}]
["134370",true,"7019130050 - Yarn of 11|tex or a multiple thereof (± 7,5|%), obtained from continuous spun-glass filaments, containing 93|percent by weight or more of silicon dioxide, of a nominal diameter of 6|µm or 9|µm, other than those treated",17301,17295,false,{"$f":"VALUE(Table2[[#This Row],[Identifier]])","v":134370}]
["134377",true,"7019150000 - Chemically bonded mats",17308,17282,false,{"$f":"VALUE(Table2[[#This Row],[Identifier]])","v":134377}]
["134385",true,"7019610011 - Open mesh fabrics of glass fibres, of a cell size of more than 1.8|mm both in length and in width and weighting more than 35|g/m², excluding fibreglass discs",17317,17316,false,{"$f":"VALUE(Table2[[#This Row],[Identifier]])","v":134385}]
["134391",true,"7019610050 - Open mesh fabrics of glass fibres, of a cell size of more than 1,8|mm both in length and in width and weighing more than 35|g/m², excluding fibreglass discs",17323,17322,false,{"$f":"VALUE(Table2[[#This Row],[Identifier]])","v":134391}]
["134396",true,"7019610083 - Consigned from Turkey",17328,17326,false,{"$f":"VALUE(Table2[[#This Row],[Identifier]])","v":134396}]
["134399",true,"7019620000 - Other closed fabrics of rovings",17331,17314,false,{"$f":"VALUE(Table2[[#This Row],[Identifier]])","v":134399}]
["134406",false,"7019630011 - Open mesh fabrics of glass fibres, of a cell size of more than 1.8 mm both in length and in width and weighting more than 35 g/m², excluding fibreglass discs",17338,17337,false,{"$f":"VALUE(Table2[[#This Row],[Identifier]])","v":134406}]
["134414",false,"7019630081 - Other",17346,17337,false,{"$f":"VALUE(Table2[[#This Row],[Identifier]])","v":134414}]
["134419",true,"7019630085 - Other",17351,17346,false,{"$f":"VALUE(Table2[[#This Row],[Identifier]])","v":134419}]
["134426",true,"7019640015 - Consigned from Indonesia",17358,17353,false,{"$f":"VALUE(Table2[[#This Row],[Identifier]])","v":134426}]
["134435",true,"7019650000 - Open woven fabrics of a width not exceeding 30|cm",17367,17314,false,{"$f":"VALUE(Table2[[#This Row],[Identifier]])","v":134435}]
["134438",true,"7019650011 - Consigned from Malaysia",17370,17369,false,{"$f":"VALUE(Table2[[#This Row],[Identifier]])","v":134438}]
["134444",true,"7019650019 - Other",17376,17368,false,{"$f":"VALUE(Table2[[#This Row],[Identifier]])","v":134444}]
["134449",true,"7019650050 - Open mesh fabrics of glass fibres, of a cell size of more than 1,8|mm both in length and in width and weighing more than 35|g/m², excluding fibreglass discs",17381,17380,false,{"$f":"VALUE(Table2[[#This Row],[Identifier]])","v":134449}]
["134456",true,"7019650085 - Other",17388,17383,false,{"$f":"VALUE(Table2[[#This Row],[Identifier]])","v":134456}]
["134465",true,"7019660015 - Consigned from Indonesia",17397,17392,false,{"$f":"VALUE(Table2[[#This Row],[Identifier]])","v":134465}]
["134470",true,"7019660029 - Other",17402,17400,false,{"$f":"VALUE(Table2[[#This Row],[Identifier]])","v":134470}]
["134476",true,"7019660081 - Consigned from Morocco",17408,17407,false,{"$f":"VALUE(Table2[[#This Row],[Identifier]])","v":134476}]
["134485",true,"7019691084 - Other",17417,17414,false,{"$f":"VALUE(Table2[[#This Row],[Identifier]])","v":134485}]
["134486",true,"7019691085 - Other",17418,17413,false,{"$f":"VALUE(Table2[[#This Row],[Identifier]])","v":134486}]
["134495",false,"7019699081 - Other",17427,17419,false,{"$f":"VALUE(Table2[[#This Row],[Identifier]])","v":134495}]
["134500",true,"7019699085 - Other",17432,17427,false,{"$f":"VALUE(Table2[[#This Row],[Identifier]])","v":134500}]
["134506",true,"7019720000 - Other closed fabrics",17438,17433,false,{"$f":"VALUE(Table2[[#This Row],[Identifier]])","v":134506}]
["101420",true,"7019900000 - Other",17447,17281,false,{"$f":"VALUE(Table2[[#This Row],[Identifier]])","v":101420}]
["101423",true,"7019900030 - High modulus glass cord (K) impregnated with rubber, obtained from twisted high modulus glass filament yarns, coated with a latex comprising a resorcinol-formaldehyde resin with or without vinylpyridine and/or hydrogenated acrylonitrile-butadiene rubber (HNBR)",17450,17447,false,{"$f":"VALUE(Table2[[#This Row],[Identifier]])","v":101423}]
["134516",true,"7019900084 - Other",17455,17452,false,{"$f":"VALUE(Table2[[#This Row],[Identifier]])","v":134516}]
["101434",true,"7020003000 - Of glass having a linear coefficient of expansion not exceeding 5|!x!|10$-$6|per Kelvin within a temperature range of 0|°C to 300|°C",17467,17462,false,{"$f":"VALUE(Table2[[#This Row],[Identifier]])","v":101434}]
["101435",true,"7020008000 - Other",17468,17462,false,{"$f":"VALUE(Table2[[#This Row],[Identifier]])","v":101435}]
["111781",false,"7102000000 - Diamonds, whether or not worked, but not mounted or set",17477,17470,false,{"$f":"VALUE(Table2[[#This Row],[Identifier]])","v":111781}]
["101441",true,"7102290000 - Other",17481,17479,false,{"$f":"VALUE(Table2[[#This Row],[Identifier]])","v":101441}]
["101445",true,"7103910000 - Rubies, sapphires and emeralds",17488,17487,false,{"$f":"VALUE(Table2[[#This Row],[Identifier]])","v":101445}]
["134522",true,"7104990000 - Other",17497,17495,false,{"$f":"VALUE(Table2[[#This Row],[Identifier]])","v":134522}]
["101451",true,"7105900000 - Other",17500,17498,false,{"$f":"VALUE(Table2[[#This Row],[Identifier]])","v":101451}]
["101455",true,"7107000000 - Base metals clad with silver, not further worked than semi-manufactured",17507,17470,false,{"$f":"VALUE(Table2[[#This Row],[Identifier]])","v":101455}]
["101457",true,"7108120000 - Other unwrought forms",17511,17509,false,{"$f":"VALUE(Table2[[#This Row],[Identifier]])","v":101457}]
["111794",false,"7110110000 - Platinum",17518,17517,false,{"$f":"VALUE(Table2[[#This Row],[Identifier]])","v":111794}]
["101469",true,"7110310000 - Unwrought or in powder form",17527,17526,false,{"$f":"VALUE(Table2[[#This Row],[Identifier]])","v":101469}]
["101471",true,"7110410000 - Unwrought or in powder form",17530,17529,false,{"$f":"VALUE(Table2[[#This Row],[Identifier]])","v":101471}]
["111802",false,"7113110000 - Of precious metal whether or not plated or clad with precious metal",17541,17540,false,{"$f":"VALUE(Table2[[#This Row],[Identifier]])","v":111802}]
["101481",true,"7114110000 - Of silver, whether or not plated or clad with other precious metal",17547,17546,false,{"$f":"VALUE(Table2[[#This Row],[Identifier]])","v":101481}]
["101486",true,"7116100000 - Of natural or cultured pearls",17554,17553,false,{"$f":"VALUE(Table2[[#This Row],[Identifier]])","v":101486}]
["101489",true,"7116208000 - Other",17557,17555,false,{"$f":"VALUE(Table2[[#This Row],[Identifier]])","v":101489}]
["101495",true,"7118100000 - Coin (other than gold coin), not being legal tender",17566,17565,false,{"$f":"VALUE(Table2[[#This Row],[Identifier]])","v":101495}]
["111813",false,"7201000000 - Pig iron and spiegeleisen in pigs, blocks or other primary forms",17571,17570,false,{"$f":"VALUE(Table2[[#This Row],[Identifier]])","v":111813}]
["101501",true,"7201101900 - Containing by weight more than 1|% of silicon",17577,17573,false,{"$f":"VALUE(Table2[[#This Row],[Identifier]])","v":101501}]
["101504",true,"7201103090 - Other",17580,17578,false,{"$f":"VALUE(Table2[[#This Row],[Identifier]])","v":101504}]
["111816",false,"7202110000 - Ferro-manganese",17587,17586,false,{"$f":"VALUE(Table2[[#This Row],[Identifier]])","v":111816}]
["101518",true,"7202300000 - Ferro-silico-manganese",17597,17586,false,{"$f":"VALUE(Table2[[#This Row],[Identifier]])","v":101518}]
["101524",true,"7202491020 - Containing by weight more than 30|% but not more than 90|% of chromium (super-refined ferrochromium)",17604,17603,false,{"$f":"VALUE(Table2[[#This Row],[Identifier]])","v":101524}]
["111819",false,"7202495011 - With a chromium content by weight of 30% and more",17607,17606,false,{"$f":"VALUE(Table2[[#This Row],[Identifier]])","v":111819}]
["111820",false,"7202910000 - Other",17616,17586,false,{"$f":"VALUE(Table2[[#This Row],[Identifier]])","v":111820}]
["101540",true,"7202990000 - Other",17620,17616,false,{"$f":"VALUE(Table2[[#This Row],[Identifier]])","v":101540}]
["111821",false,"7203000000 - Ferrous products obtained by direct reduction of iron ore and other spongy ferrous products, in lumps, pellets or similar forms; iron having a minimum purity by weight of 99,94|%, in lumps, pellets or similar forms",17627,17569,false,{"$f":"VALUE(Table2[[#This Row],[Identifier]])","v":111821}]
["101550",true,"7204211000 - Containing by weight 8|% or more of nickel",17634,17633,false,{"$f":"VALUE(Table2[[#This Row],[Identifier]])","v":101550}]
["101553",true,"7204219000 - Other",17637,17633,false,{"$f":"VALUE(Table2[[#This Row],[Identifier]])","v":101553}]
["111824",false,"7204410000 - Other waste and scrap",17646,17630,false,{"$f":"VALUE(Table2[[#This Row],[Identifier]])","v":111824}]
["101565",true,"7204411090 - Other",17650,17648,false,{"$f":"VALUE(Table2[[#This Row],[Identifier]])","v":101565}]
["101571",true,"7204419990 - Other",17657,17655,false,{"$f":"VALUE(Table2[[#This Row],[Identifier]])","v":101571}]
["101579",true,"7204499000 - Other",17666,17662,false,{"$f":"VALUE(Table2[[#This Row],[Identifier]])","v":101579}]
["101580",true,"7204499010 - Scrap",17667,17666,false,{"$f":"VALUE(Table2[[#This Row],[Identifier]])","v":101580}]
["111830",false,"7206000000 - Iron and non-alloy steel in ingots or other primary forms (excluding iron of heading|7203)",17676,17675,false,{"$f":"VALUE(Table2[[#This Row],[Identifier]])","v":111830}]
["111834",false,"7207111400 - Other",17684,17682,false,{"$f":"VALUE(Table2[[#This Row],[Identifier]])","v":111834}]
["101592",true,"7207119000 - Forged",17687,17681,false,{"$f":"VALUE(Table2[[#This Row],[Identifier]])","v":101592}]
["101600",true,"7207198010 - Blanks for angles, shapes and sections, rolled or obtained by continuous casting",17696,17695,false,{"$f":"VALUE(Table2[[#This Row],[Identifier]])","v":101600}]
["101604",true,"7207201500 - 0,25|% or more but less than 0,6|% of carbon",17703,17702,false,{"$f":"VALUE(Table2[[#This Row],[Identifier]])","v":101604}]
["111839",false,"7207203200 - Other, of rectangular (other than square) cross-section",17706,17698,false,{"$f":"VALUE(Table2[[#This Row],[Identifier]])","v":111839}]
["101614",true,"7208100000 - In coils, not further worked than hot-rolled, with patterns in relief",17716,17715,false,{"$f":"VALUE(Table2[[#This Row],[Identifier]])","v":101614}]
["111842",false,"7208250000 - Other, in coils, not further worked than hot-rolled, pickled",17717,17715,false,{"$f":"VALUE(Table2[[#This Row],[Identifier]])","v":111842}]
["101622",true,"7208380000 - Of a thickness of 3|mm or more but less than 4,75|mm",17726,17721,false,{"$f":"VALUE(Table2[[#This Row],[Identifier]])","v":101622}]
["101625",true,"7208390000 - Of a thickness of less than 3|mm",17729,17721,false,{"$f":"VALUE(Table2[[#This Row],[Identifier]])","v":101625}]
["101632",true,"7208512000 - Of a thickness exceeding 15|mm",17737,17736,false,{"$f":"VALUE(Table2[[#This Row],[Identifier]])","v":101632}]
["101640",true,"7208519890 - Other",17746,17744,false,{"$f":"VALUE(Table2[[#This Row],[Identifier]])","v":101640}]
["101646",true,"7208529900 - Less than 2|050|mm",17753,17749,false,{"$f":"VALUE(Table2[[#This Row],[Identifier]])","v":101646}]
["101649",true,"7208539000 - Other",17756,17754,false,{"$f":"VALUE(Table2[[#This Row],[Identifier]])","v":101649}]
["111847",false,"7209000000 - Flat-rolled products of iron or non-alloy steel, of a width of 600|mm or more, cold-rolled (cold-reduced), not clad, plated or coated",17766,17569,false,{"$f":"VALUE(Table2[[#This Row],[Identifier]])","v":111847}]
["111848",false,"7209150000 - In coils, not further worked than cold-rolled (cold-reduced)",17767,17766,false,{"$f":"VALUE(Table2[[#This Row],[Identifier]])","v":111848}]
["101667",true,"7209179000 - Other",17776,17774,false,{"$f":"VALUE(Table2[[#This Row],[Identifier]])","v":101667}]
["101673",true,"7209189990 - Other",17783,17781,false,{"$f":"VALUE(Table2[[#This Row],[Identifier]])","v":101673}]
["101674",true,"7209250000 - Of a thickness of 3|mm or more",17785,17784,false,{"$f":"VALUE(Table2[[#This Row],[Identifier]])","v":101674}]
["101685",true,"7209289000 - Other",17796,17794,false,{"$f":"VALUE(Table2[[#This Row],[Identifier]])","v":101685}]
["111852",false,"7210110000 - Plated or coated with tin",17803,17802,false,{"$f":"VALUE(Table2[[#This Row],[Identifier]])","v":111852}]
["101693",true,"7210110090 - Other",17806,17804,false,{"$f":"VALUE(Table2[[#This Row],[Identifier]])","v":101693}]
["101702",true,"7210200010 - Not further worked than surface-treated or simply cut into shapes other than rectangular (including square)",17815,17814,false,{"$f":"VALUE(Table2[[#This Row],[Identifier]])","v":101702}]
["101704",true,"7210300000 - Electrolytically plated or coated with zinc",17817,17802,false,{"$f":"VALUE(Table2[[#This Row],[Identifier]])","v":101704}]
["101711",true,"7210490020 - Aluminium killed; plated or coated by hot dip galvanisation with zinc and/or with aluminium, and no other metal; chemically passivated; containing by weight: 0.015% or more but not more than 0.170% of carbon, 0.015% or more but not more than 0.100% of aluminium, not more than 0.045% of niobium, not more than 0.010% of titanium and not more than 0.010% of vanadium; presented in coils, cut-to-length sheets and narrow strips",17826,17825,false,{"$f":"VALUE(Table2[[#This Row],[Identifier]])","v":101711}]
["101716",true,"7210610000 - Plated or coated with aluminium-zinc alloys",17833,17832,false,{"$f":"VALUE(Table2[[#This Row],[Identifier]])","v":101716}]
["101718",true,"7210610080 - Other",17836,17833,false,{"$f":"VALUE(Table2[[#This Row],[Identifier]])","v":101718}]
["101722",true,"7210700000 - Painted, varnished or coated with plastics",17841,17802,false,{"$f":"VALUE(Table2[[#This Row],[Identifier]])","v":101722}]
["101732",true,"7210903000 - Clad",17853,17852,false,{"$f":"VALUE(Table2[[#This Row],[Identifier]])","v":101732}]
["101735",true,"7210904000 - Tinned and printed",17856,17852,false,{"$f":"VALUE(Table2[[#This Row],[Identifier]])","v":101735}]
["119014",true,"7210908092 - Plated or coated by hot dip galvanisation with magnesium or magnesium-zinc alloys, whether or not alloyed with silicon; chemically passivated; with or without any additional surface treatment such as oiling or sealing; containing by weight: not more than 0,5% of carbon, not more than 1,1% of aluminium, not more than 0,12% of niobium, not more than 0,17% of titanium and not more than 0,15% of vanadium; presented in coils, cut-to-length sheets and narrow strips",17863,17861,false,{"$f":"VALUE(Table2[[#This Row],[Identifier]])","v":119014}]
["101744",true,"7211140010 - Of a width exceeding 500 mm",17871,17870,false,{"$f":"VALUE(Table2[[#This Row],[Identifier]])","v":101744}]
["101747",true,"7211190010 - Of a width exceeding 500 mm",17876,17875,false,{"$f":"VALUE(Table2[[#This Row],[Identifier]])","v":101747}]
["101751",true,"7211232010 - Of a width exceeding 500 mm",17883,17882,false,{"$f":"VALUE(Table2[[#This Row],[Identifier]])","v":101751}]
["101753",true,"7211233000 - Of a thickness of 0,35|mm or more",17886,17885,false,{"$f":"VALUE(Table2[[#This Row],[Identifier]])","v":101753}]
["101758",true,"7211238011 - In coils, annealed (known as 'black plates')",17893,17892,false,{"$f":"VALUE(Table2[[#This Row],[Identifier]])","v":101758}]
["101763",true,"7211238099 - Other",17901,17899,false,{"$f":"VALUE(Table2[[#This Row],[Identifier]])","v":101763}]
["111868",false,"7211290091 - Of a width not exceeding 500 mm",17906,17902,false,{"$f":"VALUE(Table2[[#This Row],[Identifier]])","v":111868}]
["101772",true,"7211908010 - Not further worked than surface-treated",17913,17912,false,{"$f":"VALUE(Table2[[#This Row],[Identifier]])","v":101772}]
["111870",false,"7212000000 - Flat-rolled products of iron or non-alloy steel, of a width of less than 600|mm, clad, plated or coated",17916,17569,false,{"$f":"VALUE(Table2[[#This Row],[Identifier]])","v":111870}]
["101783",true,"7212200019 - Other",17927,17925,false,{"$f":"VALUE(Table2[[#This Row],[Identifier]])","v":101783}]
["101788",true,"7212400000 - Painted, varnished or coated with plastics",17933,17916,false,{"$f":"VALUE(Table2[[#This Row],[Identifier]])","v":101788}]
["111873",false,"7212402091 - Other",17936,17934,false,{"$f":"VALUE(Table2[[#This Row],[Identifier]])","v":111873}]
["111876",false,"7212408001 - Not further worked than surface-treated",17943,17942,false,{"$f":"VALUE(Table2[[#This Row],[Identifier]])","v":111876}]
["101799",true,"7212408091 - Of non-alloy steel, painted, varnished or coated with plastics on at least one side, excluding so-called 'sandwich panels' of a kind used for building applications and consisting of two outer metal sheets with a stabilising core of insulation material sandwiched between them, and excluding those products with a final coating of zinc-dust (a zinc-rich paint, containing by weight 70% or more of zinc)",17950,17949,false,{"$f":"VALUE(Table2[[#This Row],[Identifier]])","v":101799}]
["101804",true,"7212502019 - Other",17956,17954,false,{"$f":"VALUE(Table2[[#This Row],[Identifier]])","v":101804}]
["101810",true,"7212504000 - Plated or coated with copper",17963,17952,false,{"$f":"VALUE(Table2[[#This Row],[Identifier]])","v":101810}]
["101812",true,"7212504019 - Other",17966,17964,false,{"$f":"VALUE(Table2[[#This Row],[Identifier]])","v":101812}]
["101817",true,"7212506900 - Other",17973,17968,false,{"$f":"VALUE(Table2[[#This Row],[Identifier]])","v":101817}]
["111884",false,"7212509013 - Other",17980,17978,false,{"$f":"VALUE(Table2[[#This Row],[Identifier]])","v":111884}]
["119021",true,"7212509095 - Other",17986,17984,false,{"$f":"VALUE(Table2[[#This Row],[Identifier]])","v":119021}]
["101828",true,"7212600091 - Hot-rolled, not further worked than clad",17993,17992,false,{"$f":"VALUE(Table2[[#This Row],[Identifier]])","v":101828}]
["101835",true,"7213912000 - Of a type used for tyre cord",18002,18000,false,{"$f":"VALUE(Table2[[#This Row],[Identifier]])","v":101835}]
["101838",true,"7213917000 - Containing by weight 0,25|% or more but not more than 0,75|% of carbon",18006,18003,false,{"$f":"VALUE(Table2[[#This Row],[Identifier]])","v":101838}]
["101844",true,"7214100010 - Concrete reinforcement bars and rods, containing indentations, ribs, grooves or other deformations produced during the rolling process; excluding high fatigue performance concrete reinforcement bars and rods, and excluding other long products, such as round bars",18013,18012,false,{"$f":"VALUE(Table2[[#This Row],[Identifier]])","v":101844}]
["101847",true,"7214200010 - High fatigue performance concrete reinforcing bars and rods",18016,18015,false,{"$f":"VALUE(Table2[[#This Row],[Identifier]])","v":101847}]
["111893",false,"7214910000 - Other",18023,18011,false,{"$f":"VALUE(Table2[[#This Row],[Identifier]])","v":111893}]
["111894",false,"7214991000 - Containing by weight less than 0,25|% of carbon",18032,18031,false,{"$f":"VALUE(Table2[[#This Row],[Identifier]])","v":111894}]
["111895",false,"7214993100 - Other, of circular cross-section measuring in diameter",18036,18032,false,{"$f":"VALUE(Table2[[#This Row],[Identifier]])","v":111895}]
["101868",true,"7214997900 - Less than 80|mm",18043,18041,false,{"$f":"VALUE(Table2[[#This Row],[Identifier]])","v":101868}]
["101875",true,"7215501900 - Other",18052,18050,false,{"$f":"VALUE(Table2[[#This Row],[Identifier]])","v":101875}]
["101878",true,"7215900010 - Hot-rolled, hot-drawn or extruded, not further worked than clad",18055,18054,false,{"$f":"VALUE(Table2[[#This Row],[Identifier]])","v":101878}]
["111901",false,"7216210000 - L or T|sections, not further worked than hot-rolled, hot-drawn or extruded, of a height of less than 80|mm",18059,18057,false,{"$f":"VALUE(Table2[[#This Row],[Identifier]])","v":111901}]
["101886",true,"7216320000 - I|sections",18066,18062,false,{"$f":"VALUE(Table2[[#This Row],[Identifier]])","v":101886}]
["101891",true,"7216330000 - H|sections",18073,18062,false,{"$f":"VALUE(Table2[[#This Row],[Identifier]])","v":101891}]
["101899",true,"7216509100 - Bulb flats",18082,18081,false,{"$f":"VALUE(Table2[[#This Row],[Identifier]])","v":101899}]
["101900",true,"7216509900 - Other",18085,18081,false,{"$f":"VALUE(Table2[[#This Row],[Identifier]])","v":101900}]
["101909",true,"7216990010 - Hot-rolled, hot-drawn or extruded, not further worked than clad",18096,18095,false,{"$f":"VALUE(Table2[[#This Row],[Identifier]])","v":101909}]
["111910",false,"7217103100 - With a maximum cross-sectional dimension of 0,8|mm or more",18102,18100,false,{"$f":"VALUE(Table2[[#This Row],[Identifier]])","v":111910}]
["101913",true,"7217103100 - Containing indentations, ribs, grooves or other deformations produced during the rolling process",18103,18102,false,{"$f":"VALUE(Table2[[#This Row],[Identifier]])","v":101913}]
["101921",true,"7217203000 - With a maximum cross-sectional dimension of 0,8|mm or more",18112,18110,false,{"$f":"VALUE(Table2[[#This Row],[Identifier]])","v":101921}]
["101924",true,"7217209010 - Of non-alloy steel, with a maximum cross-sectional dimension exceeding 3|mm",18115,18114,false,{"$f":"VALUE(Table2[[#This Row],[Identifier]])","v":101924}]
["101931",true,"7217900000 - Other",18123,18098,false,{"$f":"VALUE(Table2[[#This Row],[Identifier]])","v":101931}]
["101937",true,"7218911000 - Containing by weight 2,5|% or more of nickel",18132,18131,false,{"$f":"VALUE(Table2[[#This Row],[Identifier]])","v":101937}]
["111916",false,"7218991100 - Of square cross-section",18135,18134,false,{"$f":"VALUE(Table2[[#This Row],[Identifier]])","v":111916}]
["134534",true,"7219110090 - Other",18145,18143,false,{"$f":"VALUE(Table2[[#This Row],[Identifier]])","v":134534}]
["134538",true,"7219129090 - Other",18152,18150,false,{"$f":"VALUE(Table2[[#This Row],[Identifier]])","v":134538}]
["101948",true,"7219130000 - Of a thickness of 3|mm or more but less than 4,75|mm",18153,18142,false,{"$f":"VALUE(Table2[[#This Row],[Identifier]])","v":101948}]
["134543",true,"7219141010 - Consigned from Turkey",18162,18161,false,{"$f":"VALUE(Table2[[#This Row],[Identifier]])","v":134543}]
["134545",true,"7219149010 - Consigned from Turkey",18165,18164,false,{"$f":"VALUE(Table2[[#This Row],[Identifier]])","v":134545}]
["101959",true,"7219229000 - Containing by weight less than 2,5|% of nickel",18175,18171,false,{"$f":"VALUE(Table2[[#This Row],[Identifier]])","v":101959}]
["134553",true,"7219240010 - Consigned from Turkey",18182,18181,false,{"$f":"VALUE(Table2[[#This Row],[Identifier]])","v":134553}]
["101966",true,"7219330000 - Of a thickness exceeding 1|mm but less than 3|mm",18189,18184,false,{"$f":"VALUE(Table2[[#This Row],[Identifier]])","v":101966}]
["101969",true,"7219340000 - Of a thickness of 0,5|mm or more but not exceeding 1|mm",18192,18184,false,{"$f":"VALUE(Table2[[#This Row],[Identifier]])","v":101969}]
["111922",false,"7220000000 - Flat-rolled products of stainless steel, of a width of less than 600|mm",18201,17569,false,{"$f":"VALUE(Table2[[#This Row],[Identifier]])","v":111922}]
["101978",true,"7220110000 - Of a thickness of 4,75|mm or more",18203,18202,false,{"$f":"VALUE(Table2[[#This Row],[Identifier]])","v":101978}]
["101982",true,"7220202900 - Less than 2,5|% of nickel",18212,18210,false,{"$f":"VALUE(Table2[[#This Row],[Identifier]])","v":101982}]
["101984",true,"7220204900 - Less than 2,5|% of nickel",18215,18213,false,{"$f":"VALUE(Table2[[#This Row],[Identifier]])","v":101984}]
["111927",false,"7221000000 - Bars and rods, hot-rolled, in irregularly wound coils, of stainless steel",18222,17569,false,{"$f":"VALUE(Table2[[#This Row],[Identifier]])","v":111927}]
["111931",false,"7222118100 - Of a diameter of less than 80|mm, containing by weight",18231,18227,false,{"$f":"VALUE(Table2[[#This Row],[Identifier]])","v":111931}]
["111933",false,"7222201100 - Of a diameter of 80|mm or more, containing by weight",18239,18238,false,{"$f":"VALUE(Table2[[#This Row],[Identifier]])","v":111933}]
["111934",false,"7222202100 - Of a diameter of 25|mm or more, but less than 80|mm, containing by weight",18242,18238,false,{"$f":"VALUE(Table2[[#This Row],[Identifier]])","v":111934}]
["102009",true,"7222300000 - Other bars and rods",18251,18225,false,{"$f":"VALUE(Table2[[#This Row],[Identifier]])","v":102009}]
["102011",true,"7222309100 - Less than 2,5|% of nickel",18254,18252,false,{"$f":"VALUE(Table2[[#This Row],[Identifier]])","v":102011}]
["102019",true,"7222409010 - Hot-rolled, hot-drawn or extruded, not further worked than clad",18262,18261,false,{"$f":"VALUE(Table2[[#This Row],[Identifier]])","v":102019}]
["111939",false,"7223001100 - Containing by weight 2,5|% or more of nickel",18265,18264,false,{"$f":"VALUE(Table2[[#This Row],[Identifier]])","v":111939}]
["111942",false,"7224000000 - Other alloy steel in ingots or other primary forms; semi-finished products of other alloy steel",18272,18271,false,{"$f":"VALUE(Table2[[#This Row],[Identifier]])","v":111942}]
["102031",true,"7224900289 - Hot-rolled or obtained by continuous casting",18280,18279,false,{"$f":"VALUE(Table2[[#This Row],[Identifier]])","v":102031}]
["102036",true,"7224901400 - Other",18289,18284,false,{"$f":"VALUE(Table2[[#This Row],[Identifier]])","v":102036}]
["111949",false,"7224903100 - Hot-rolled or obtained by continuous casting",18292,18291,false,{"$f":"VALUE(Table2[[#This Row],[Identifier]])","v":111949}]
["102043",true,"7225110015 - With a maximum core loss higher than 0.9 W/kg but not higher than 1,05 W/kg",18301,18299,false,{"$f":"VALUE(Table2[[#This Row],[Identifier]])","v":102043}]
["102044",true,"7225110019 - With a maximum core loss higher than 1,05 W/kg",18302,18299,false,{"$f":"VALUE(Table2[[#This Row],[Identifier]])","v":102044}]
["102052",true,"7225301000 - Of tool steel",18310,18309,false,{"$f":"VALUE(Table2[[#This Row],[Identifier]])","v":102052}]
["102060",true,"7225404000 - Of a thickness exceeding 10|mm",18319,18318,false,{"$f":"VALUE(Table2[[#This Row],[Identifier]])","v":102060}]
["102063",true,"7225406090 - Other",18322,18320,false,{"$f":"VALUE(Table2[[#This Row],[Identifier]])","v":102063}]
["102071",true,"7225910010 - Not further worked than surface-treated, including cladding or simply cut into shapes other than rectangular (including square)",18331,18330,false,{"$f":"VALUE(Table2[[#This Row],[Identifier]])","v":102071}]
["102073",true,"7225920000 - Otherwise plated or coated with zinc",18333,18329,false,{"$f":"VALUE(Table2[[#This Row],[Identifier]])","v":102073}]
["102079",true,"7225990025 - Other",18342,18338,false,{"$f":"VALUE(Table2[[#This Row],[Identifier]])","v":102079}]
["111957",false,"7226000000 - Flat-rolled products of other alloy steel, of a width of less than 600|mm",18352,17569,false,{"$f":"VALUE(Table2[[#This Row],[Identifier]])","v":111957}]
["111958",false,"7226110000 - Of silicon-electrical steel",18353,18352,false,{"$f":"VALUE(Table2[[#This Row],[Identifier]])","v":111958}]
["111962",false,"7226110092 - Of a thickness exceeding 0,16|mm",18362,18361,false,{"$f":"VALUE(Table2[[#This Row],[Identifier]])","v":111962}]
["134560",true,"7226191091 - Of a width not exceeding 350 mm and of a thickness of 50 mm or more",18371,18370,false,{"$f":"VALUE(Table2[[#This Row],[Identifier]])","v":134560}]
["102097",true,"7226198000 - Other",18373,18367,false,{"$f":"VALUE(Table2[[#This Row],[Identifier]])","v":102097}]
["111964",false,"7226919100 - Other",18382,18380,false,{"$f":"VALUE(Table2[[#This Row],[Identifier]])","v":111964}]
["102109",true,"7226920090 - Of a width not exceeding 500 mm",18389,18387,false,{"$f":"VALUE(Table2[[#This Row],[Identifier]])","v":102109}]
["102110",true,"7226990000 - Other",18390,18379,false,{"$f":"VALUE(Table2[[#This Row],[Identifier]])","v":102110}]
["102118",true,"7226997091 - Painted, varnished or coated with plastics on at least one side, excluding so-called \"sandwich panels\" of a kind used for building applications and consisting of two outer metal sheets with a stabilising core of insulation material sandwiched between them, excluding those products with a final coating of zinc-dust (a zinc-rich paint, containing by weight 70% or more of zinc) and excluding products with a substrate with a metallic coating of chromium or tin",18402,18401,false,{"$f":"VALUE(Table2[[#This Row],[Identifier]])","v":102118}]
["119029",true,"7226997093 - Plated or coated by hot dip galvanisation with magnesium and/or aluminium, whether or not alloyed with zinc, whether or not alloyed with silicon; chemically passivated; with or without additional surface treatment such as oiling or sealing; containing by weight: not more than 0,5% of carbon, not more than 1,1% of aluminium, not more than 0,12% of niobium, not more than 0,17% of titanium and not more than 0,15% of vanadium; presented in coils, cut-to-length sheets and narrow strips",18403,18401,false,{"$f":"VALUE(Table2[[#This Row],[Identifier]])","v":119029}]
["102126",true,"7227909500 - Other",18412,18409,false,{"$f":"VALUE(Table2[[#This Row],[Identifier]])","v":102126}]
["102133",true,"7228201010 - Not further worked than hot-rolled, hot-drawn or extruded",18420,18419,false,{"$f":"VALUE(Table2[[#This Row],[Identifier]])","v":102133}]
["102135",true,"7228201099 - Other",18423,18421,false,{"$f":"VALUE(Table2[[#This Row],[Identifier]])","v":102135}]
["102142",true,"7228304100 - Of circular cross-section of a diameter of 80|mm or more",18432,18431,false,{"$f":"VALUE(Table2[[#This Row],[Identifier]])","v":102142}]
["111973",false,"7228306100 - Of circular cross-section, of a diameter of",18439,18438,false,{"$f":"VALUE(Table2[[#This Row],[Identifier]])","v":111973}]
["102150",true,"7228306190 - Other",18442,18440,false,{"$f":"VALUE(Table2[[#This Row],[Identifier]])","v":102150}]
["102158",true,"7228308910 - High fatigue performance concrete reinforcing bars and rods, containing indentations, ribs, grooves or other deformations produced during the rolling process or twisted after rolling",18450,18449,false,{"$f":"VALUE(Table2[[#This Row],[Identifier]])","v":102158}]
["102161",true,"7228401000 - Of tool steel",18453,18452,false,{"$f":"VALUE(Table2[[#This Row],[Identifier]])","v":102161}]
["102168",true,"7228508000 - Other",18462,18458,false,{"$f":"VALUE(Table2[[#This Row],[Identifier]])","v":102168}]
["102175",true,"7228608090 - Other",18469,18467,false,{"$f":"VALUE(Table2[[#This Row],[Identifier]])","v":102175}]
["111976",false,"7229000000 - Wire of other alloy steel",18476,17569,false,{"$f":"VALUE(Table2[[#This Row],[Identifier]])","v":111976}]
["111977",false,"7300000000 - Articles of iron or steel",18482,17568,false,{"$f":"VALUE(Table2[[#This Row],[Identifier]])","v":111977}]
["111980",false,"7302102200 - Other",18489,18487,false,{"$f":"VALUE(Table2[[#This Row],[Identifier]])","v":111980}]
["102193",true,"7302102200 - Of a weight per metre of 36|kg or more",18492,18491,false,{"$f":"VALUE(Table2[[#This Row],[Identifier]])","v":102193}]
["102200",true,"7302900000 - Other",18499,18486,false,{"$f":"VALUE(Table2[[#This Row],[Identifier]])","v":102200}]
["102206",true,"7303009010 - Tubes and pipes of ductile cast iron (also known as spheroidal graphite cast iron), with the exclusion of tubes and pipes of ductile cast iron without internal and external coating (‘bare pipes’)",18506,18505,false,{"$f":"VALUE(Table2[[#This Row],[Identifier]])","v":102206}]
["102210",true,"7304110010 - Of circular cross-section, of an external diameter not exceeding 406,4 mm and with a Carbon Equivalent Value (CEV) not exceeding 0,86 according to the International Institute of Welding (IIW) formula and chemical analysis",18512,18511,false,{"$f":"VALUE(Table2[[#This Row],[Identifier]])","v":102210}]
["102217",true,"7304193020 - Of circular cross-section and with a Carbon Equivalent Value (CEV) not exceeding 0,86 according to the International Institute of Welding (IIW) formula and chemical analysis",18519,18518,false,{"$f":"VALUE(Table2[[#This Row],[Identifier]])","v":102217}]
["111986",false,"7304220000 - Casing, tubing and drill pipe, of a kind used in drilling for oil or gas",18522,18509,false,{"$f":"VALUE(Table2[[#This Row],[Identifier]])","v":111986}]
["102226",true,"7304240000 - Other, of stainless steel",18529,18522,false,{"$f":"VALUE(Table2[[#This Row],[Identifier]])","v":102226}]
["102236",true,"7304299000 - Of an external diameter exceeding 406,4|mm",18539,18532,false,{"$f":"VALUE(Table2[[#This Row],[Identifier]])","v":102236}]
["111987",false,"7304310000 - Other, of circular cross-section, of iron or non-alloy steel",18542,18509,false,{"$f":"VALUE(Table2[[#This Row],[Identifier]])","v":111987}]
["134564",true,"7304395000 - Threaded or threadable tubes (gas pipe)",18549,18548,false,{"$f":"VALUE(Table2[[#This Row],[Identifier]])","v":134564}]
["134567",false,"7304398200 - Other, of an external diameter",18552,18548,false,{"$f":"VALUE(Table2[[#This Row],[Identifier]])","v":134567}]
["102264",true,"7304410010 - With attached fittings, suitable for conducting gases or liquids, for use in civil aircraft",18562,18561,false,{"$f":"VALUE(Table2[[#This Row],[Identifier]])","v":102264}]
["134579",true,"7304498510 - With attached fittings, suitable for conducting gases or liquids, for use in civil aircraft",18569,18568,false,{"$f":"VALUE(Table2[[#This Row],[Identifier]])","v":134579}]
["134582",true,"7304498910 - With attached fittings, suitable for conducting gases or liquids, for use in civil aircraft",18572,18571,false,{"$f":"VALUE(Table2[[#This Row],[Identifier]])","v":134582}]
["102283",true,"7304518900 - Other",18579,18577,false,{"$f":"VALUE(Table2[[#This Row],[Identifier]])","v":102283}]
["134587",true,"7304598200 - Of an external diameter not exceeding 168,3|mm",18585,18584,false,{"$f":"VALUE(Table2[[#This Row],[Identifier]])","v":134587}]
["102299",true,"7304900000 - Other",18592,18509,false,{"$f":"VALUE(Table2[[#This Row],[Identifier]])","v":102299}]
["102303",true,"7305110000 - Longitudinally submerged arc welded",18599,18598,false,{"$f":"VALUE(Table2[[#This Row],[Identifier]])","v":102303}]
["102306",true,"7305200000 - Casing of a kind used in drilling for oil or gas",18602,18597,false,{"$f":"VALUE(Table2[[#This Row],[Identifier]])","v":102306}]
["112004",false,"7306210000 - Casing and tubing of a kind used in drilling for oil or gas",18611,18607,false,{"$f":"VALUE(Table2[[#This Row],[Identifier]])","v":112004}]
["112007",false,"7306304100 - Threaded or threadable tubes (gas pipe)",18619,18618,false,{"$f":"VALUE(Table2[[#This Row],[Identifier]])","v":112007}]
["102323",true,"7306304190 - Other",18622,18620,false,{"$f":"VALUE(Table2[[#This Row],[Identifier]])","v":102323}]
["102328",true,"7306307280 - Tubes and pipes",18629,18628,false,{"$f":"VALUE(Table2[[#This Row],[Identifier]])","v":102328}]
["102337",true,"7306500000 - Other, welded, of circular cross-section, of other alloy steel",18638,18607,false,{"$f":"VALUE(Table2[[#This Row],[Identifier]])","v":102337}]
["134599",true,"7306502900 - Other",18641,18639,false,{"$f":"VALUE(Table2[[#This Row],[Identifier]])","v":134599}]
["102344",true,"7306690000 - Of other non-circular cross-section",18649,18643,false,{"$f":"VALUE(Table2[[#This Row],[Identifier]])","v":102344}]
["102347",true,"7306900000 - Other",18652,18607,false,{"$f":"VALUE(Table2[[#This Row],[Identifier]])","v":102347}]
["102352",true,"7307191000 - Of cast iron",18659,18658,false,{"$f":"VALUE(Table2[[#This Row],[Identifier]])","v":102352}]
["112014",false,"7307210000 - Other, of stainless steel",18664,18653,false,{"$f":"VALUE(Table2[[#This Row],[Identifier]])","v":112014}]
["102367",true,"7307229090 - Other",18672,18670,false,{"$f":"VALUE(Table2[[#This Row],[Identifier]])","v":102367}]
["134604",false,"7307231050 - Other",18679,18675,false,{"$f":"VALUE(Table2[[#This Row],[Identifier]])","v":134604}]
["134609",true,"7307239035 - For use in certain types of aircraft",18688,18687,false,{"$f":"VALUE(Table2[[#This Row],[Identifier]])","v":134609}]
["134612",true,"7307239050 - For use in certain types of aircraft",18691,18690,false,{"$f":"VALUE(Table2[[#This Row],[Identifier]])","v":134612}]
["102384",true,"7307298010 - For use in certain types of aircraft",18701,18700,false,{"$f":"VALUE(Table2[[#This Row],[Identifier]])","v":102384}]
["102385",true,"7307298090 - Other",18702,18700,false,{"$f":"VALUE(Table2[[#This Row],[Identifier]])","v":102385}]
["102393",true,"7307929000 - Elbows and bends",18709,18707,false,{"$f":"VALUE(Table2[[#This Row],[Identifier]])","v":102393}]
["112022",false,"7307931130 - Other",18718,18714,false,{"$f":"VALUE(Table2[[#This Row],[Identifier]])","v":112022}]
["112023",false,"7307931191 - Other",18720,18718,false,{"$f":"VALUE(Table2[[#This Row],[Identifier]])","v":112023}]
["102408",true,"7307931919 - Other",18729,18727,false,{"$f":"VALUE(Table2[[#This Row],[Identifier]])","v":102408}]
["112027",false,"7307939100 - With greatest external diameter exceeding 609,6|mm",18738,18712,false,{"$f":"VALUE(Table2[[#This Row],[Identifier]])","v":112027}]
["102415",true,"7307939100 - Elbows and bends",18739,18738,false,{"$f":"VALUE(Table2[[#This Row],[Identifier]])","v":102415}]
["112028",false,"7307998011 - For use in certain types of aircraft",18750,18749,false,{"$f":"VALUE(Table2[[#This Row],[Identifier]])","v":112028}]
["102426",true,"7307998011 - Consigned from Taiwan, Indonesia, Sri Lanka or the Philippines",18752,18751,false,{"$f":"VALUE(Table2[[#This Row],[Identifier]])","v":102426}]
["102431",true,"7307998094 - Consigned from Sri Lanka",18759,18756,false,{"$f":"VALUE(Table2[[#This Row],[Identifier]])","v":102431}]
["102437",true,"7308300000 - Doors, windows and their frames and thresholds for doors",18768,18763,false,{"$f":"VALUE(Table2[[#This Row],[Identifier]])","v":102437}]
["112033",false,"7308905100 - Solely or principally of sheet",18771,18770,false,{"$f":"VALUE(Table2[[#This Row],[Identifier]])","v":112033}]
["102444",true,"7309003000 - Lined or heat-insulated",18780,18779,false,{"$f":"VALUE(Table2[[#This Row],[Identifier]])","v":102444}]
["134615",true,"7310100090 - Other",18788,18786,false,{"$f":"VALUE(Table2[[#This Row],[Identifier]])","v":134615}]
["112038",false,"7310210000 - Of a capacity of less than 50|l",18789,18785,false,{"$f":"VALUE(Table2[[#This Row],[Identifier]])","v":112038}]
["102456",true,"7310299000 - With a wall thickness of 0,5|mm or more",18798,18796,false,{"$f":"VALUE(Table2[[#This Row],[Identifier]])","v":102456}]
["102459",true,"7311001190 - Other",18806,18804,false,{"$f":"VALUE(Table2[[#This Row],[Identifier]])","v":102459}]
["102462",true,"7311001390 - Other",18809,18807,false,{"$f":"VALUE(Table2[[#This Row],[Identifier]])","v":102462}]
["102470",true,"7311009900 - 1|000|l or more",18818,18816,false,{"$f":"VALUE(Table2[[#This Row],[Identifier]])","v":102470}]
["102472",true,"7312102000 - Of stainless steel",18821,18820,false,{"$f":"VALUE(Table2[[#This Row],[Identifier]])","v":102472}]
["102475",true,"7312106100 - Not coated",18828,18827,false,{"$f":"VALUE(Table2[[#This Row],[Identifier]])","v":102475}]
["102482",true,"7312106991 - With not more than 18 wires, of non-alloy steel, containing by weight 0,6|% or more of carbon",18836,18835,false,{"$f":"VALUE(Table2[[#This Row],[Identifier]])","v":102482}]
["112051",false,"7312108100 - Not coated or only plated or coated with zinc, with a maximum cross-sectional dimension",18839,18838,false,{"$f":"VALUE(Table2[[#This Row],[Identifier]])","v":112051}]
["102490",true,"7312108312 - Consigned from Morocco",18848,18847,false,{"$f":"VALUE(Table2[[#This Row],[Identifier]])","v":102490}]
["102493",true,"7312108390 - Other",18851,18846,false,{"$f":"VALUE(Table2[[#This Row],[Identifier]])","v":102493}]
["112055",false,"7312108912 - Of steel",18859,18858,false,{"$f":"VALUE(Table2[[#This Row],[Identifier]])","v":112055}]
["102507",true,"7312109819 - Other",18868,18865,false,{"$f":"VALUE(Table2[[#This Row],[Identifier]])","v":102507}]
["102512",true,"7314140000 - Other woven cloth, of stainless steel",18875,18873,false,{"$f":"VALUE(Table2[[#This Row],[Identifier]])","v":102512}]
["102515",true,"7314201000 - Of ribbed wire",18878,18877,false,{"$f":"VALUE(Table2[[#This Row],[Identifier]])","v":102515}]
["102522",true,"7314500000 - Expanded metal",18887,18872,false,{"$f":"VALUE(Table2[[#This Row],[Identifier]])","v":102522}]
["112062",false,"7315110000 - Articulated link chain and parts thereof",18889,18888,false,{"$f":"VALUE(Table2[[#This Row],[Identifier]])","v":112062}]
["102532",true,"7315820000 - Other, welded link",18898,18896,false,{"$f":"VALUE(Table2[[#This Row],[Identifier]])","v":102532}]
["102535",true,"7316000000 - Anchors, grapnels and parts thereof, of iron or steel",18901,18482,false,{"$f":"VALUE(Table2[[#This Row],[Identifier]])","v":102535}]
["112067",false,"7318110000 - Threaded articles",18908,18907,false,{"$f":"VALUE(Table2[[#This Row],[Identifier]])","v":112067}]
["102545",true,"7318129010 - For use in certain types of aircraft",18915,18914,false,{"$f":"VALUE(Table2[[#This Row],[Identifier]])","v":102545}]
["102554",true,"7318149100 - Spaced-thread screws",18925,18924,false,{"$f":"VALUE(Table2[[#This Row],[Identifier]])","v":102554}]
["102557",true,"7318149900 - Other",18928,18924,false,{"$f":"VALUE(Table2[[#This Row],[Identifier]])","v":102557}]
["102564",true,"7318153590 - Other",18937,18935,false,{"$f":"VALUE(Table2[[#This Row],[Identifier]])","v":102564}]
["112071",false,"7318154200 - Other, with a tensile strength",18938,18934,false,{"$f":"VALUE(Table2[[#This Row],[Identifier]])","v":112071}]
["102572",true,"7318155210 - For use in certain types of aircraft",18948,18947,false,{"$f":"VALUE(Table2[[#This Row],[Identifier]])","v":102572}]
["131241",true,"7318155810 - Self-locking bolts and nuts (of the type \"Hi-Lok\")",18951,18950,false,{"$f":"VALUE(Table2[[#This Row],[Identifier]])","v":131241}]
["102579",true,"7318156290 - Other",18958,18956,false,{"$f":"VALUE(Table2[[#This Row],[Identifier]])","v":102579}]
["102585",true,"7318157590 - Other",18967,18965,false,{"$f":"VALUE(Table2[[#This Row],[Identifier]])","v":102585}]
["131250",true,"7318158860 - For use in certain types of aircraft",18975,18974,false,{"$f":"VALUE(Table2[[#This Row],[Identifier]])","v":131250}]
["131252",false,"7318159511 - For use in certain types of aircraft",18978,18977,false,{"$f":"VALUE(Table2[[#This Row],[Identifier]])","v":131252}]
["102597",true,"7318163110 - For use in  certain types of aircraft",18987,18986,false,{"$f":"VALUE(Table2[[#This Row],[Identifier]])","v":102597}]
["102598",true,"7318163190 - Other",18988,18986,false,{"$f":"VALUE(Table2[[#This Row],[Identifier]])","v":102598}]
["102603",true,"7318164010 - For use in  certain types of aircraft",18994,18993,false,{"$f":"VALUE(Table2[[#This Row],[Identifier]])","v":102603}]
["102613",true,"7318169990 - Other",19005,19003,false,{"$f":"VALUE(Table2[[#This Row],[Identifier]])","v":102613}]
["102617",true,"7318190090 - Other",19008,19006,false,{"$f":"VALUE(Table2[[#This Row],[Identifier]])","v":102617}]
["102621",true,"7318210091 - Of stainless steel",19018,19017,false,{"$f":"VALUE(Table2[[#This Row],[Identifier]])","v":102621}]
["129285",false,"7318220031 - Other",19026,19024,false,{"$f":"VALUE(Table2[[#This Row],[Identifier]])","v":129285}]
["119095",true,"7318220098 - Other",19034,19032,false,{"$f":"VALUE(Table2[[#This Row],[Identifier]])","v":119095}]
["131258",true,"7318240040 - Tube or pipe restraint joint elements:\n \n-of stainless steel according to specification 17-4PH or of steel according to specification tool steel S7,\n \n-produced by metal injection moulding,\n \n-with a rockwell hardness of 38 HRC (± 1) or 53 HRC (+ 2/- 1),\n \n-measuring 7 mm x 4 mm x 5 mm or more, but not more than 40 mm x 20 mm x 10 mm",19041,19039,false,{"$f":"VALUE(Table2[[#This Row],[Identifier]])","v":131258}]
["102634",true,"7318240090 - Other",19042,19039,false,{"$f":"VALUE(Table2[[#This Row],[Identifier]])","v":102634}]
["112086",false,"7320000000 - Springs and leaves for springs, of iron or steel",19051,18482,false,{"$f":"VALUE(Table2[[#This Row],[Identifier]])","v":112086}]
["102647",true,"7320101910 - For use in  certain types of aircraft",19058,19057,false,{"$f":"VALUE(Table2[[#This Row],[Identifier]])","v":102647}]
["102651",true,"7320109090 - Other",19062,19060,false,{"$f":"VALUE(Table2[[#This Row],[Identifier]])","v":102651}]
["102659",true,"7320208500 - Coil tension springs",19071,19067,false,{"$f":"VALUE(Table2[[#This Row],[Identifier]])","v":102659}]
["102666",true,"7320901000 - Flat spiral springs",19078,19077,false,{"$f":"VALUE(Table2[[#This Row],[Identifier]])","v":102666}]
["102671",true,"7320903010 - For use in  certain types of aircraft",19084,19083,false,{"$f":"VALUE(Table2[[#This Row],[Identifier]])","v":102671}]
["112090",false,"7321000000 - Stoves, ranges, grates, cookers (including those with subsidiary boilers for central heating), barbecues, braziers, gas rings, plate warmers and similar non-electric domestic appliances, and parts thereof, of iron or steel",19089,18482,false,{"$f":"VALUE(Table2[[#This Row],[Identifier]])","v":112090}]
["102677",true,"7321111000 - With oven, including separate ovens",19092,19091,false,{"$f":"VALUE(Table2[[#This Row],[Identifier]])","v":102677}]
["112093",false,"7322000000 - Radiators for central heating, not electrically heated, and parts thereof, of iron or steel; air heaters and hot-air distributors (including distributors which can also distribute fresh or conditioned air), not electrically heated, incorporating a motor-driven fan or blower, and parts thereof, of iron or steel",19101,18482,false,{"$f":"VALUE(Table2[[#This Row],[Identifier]])","v":112093}]
["112095",false,"7323000000 - Table, kitchen or other household articles and parts thereof, of iron or steel; iron or steel wool; pot scourers and scouring or polishing pads, gloves and the like, of iron or steel",19108,18482,false,{"$f":"VALUE(Table2[[#This Row],[Identifier]])","v":112095}]
["102694",true,"7323930010 - Ironing boards, including sleeve boards, whether or not free standing, and legs, tops and iron rests thereof",19114,19113,false,{"$f":"VALUE(Table2[[#This Row],[Identifier]])","v":102694}]
["102700",true,"7324100000 - Sinks and washbasins, of stainless steel",19121,19120,false,{"$f":"VALUE(Table2[[#This Row],[Identifier]])","v":102700}]
["102706",true,"7324900010 - Sanitary ware (excluding parts thereof), for use in civil aircraft",19128,19127,false,{"$f":"VALUE(Table2[[#This Row],[Identifier]])","v":102706}]
["102708",true,"7325100000 - Of non-malleable cast iron",19131,19130,false,{"$f":"VALUE(Table2[[#This Row],[Identifier]])","v":102708}]
["102713",true,"7325100099 - Other",19137,19135,false,{"$f":"VALUE(Table2[[#This Row],[Identifier]])","v":102713}]
["119096",true,"7325991031 - Channel gratings and cast tops subject to standard EN 1433, to be fitted as a component on channels in polymer, plastic, galvanised steel or concrete allowing surface water to flow into the channel",19142,19141,false,{"$f":"VALUE(Table2[[#This Row],[Identifier]])","v":119096}]
["102727",true,"7325999090 - Other",19151,19147,false,{"$f":"VALUE(Table2[[#This Row],[Identifier]])","v":102727}]
["102732",true,"7326200000 - Articles of iron or steel wire",19158,19152,false,{"$f":"VALUE(Table2[[#This Row],[Identifier]])","v":102732}]
["102735",true,"7326200090 - Other",19161,19158,false,{"$f":"VALUE(Table2[[#This Row],[Identifier]])","v":102735}]
["102743",true,"7326909220 - Devices for cargo stowage and clamping freight, for use in certain types of aircraft",19170,19168,false,{"$f":"VALUE(Table2[[#This Row],[Identifier]])","v":102743}]
["102751",true,"7326909490 - Other",19178,19173,false,{"$f":"VALUE(Table2[[#This Row],[Identifier]])","v":102751}]
["102754",true,"7326909620 - Devices for cargo stowage and clamping freight, for use in certain types of aircraft",19181,19179,false,{"$f":"VALUE(Table2[[#This Row],[Identifier]])","v":102754}]
["102761",true,"7326909840 - Iron, steel and/or zinc alloy weights:\n \n-with a weight of not more than 500 grams and measuring not more than 107 mm x 107 mm x 11 mm,\n \n-whether or not with parts of other material,\n \n-whether or not with parts of other metals,\n \n-whether or not surface treated,\n \n-whether or not printed,\nof a kind used for the production of remote controls",19188,19184,false,{"$f":"VALUE(Table2[[#This Row],[Identifier]])","v":102761}]
["112107",false,"7403000000 - Refined copper and copper alloys, unwrought",19193,19190,false,{"$f":"VALUE(Table2[[#This Row],[Identifier]])","v":112107}]
["102771",true,"7403220000 - Copper-tin base alloys (bronze)",19201,19199,false,{"$f":"VALUE(Table2[[#This Row],[Identifier]])","v":102771}]
["102776",true,"7405000000 - Master alloys of copper",19208,19190,false,{"$f":"VALUE(Table2[[#This Row],[Identifier]])","v":102776}]
["102778",true,"7406200000 - Powders of lamellar structure; flakes",19211,19209,false,{"$f":"VALUE(Table2[[#This Row],[Identifier]])","v":102778}]
["102783",true,"7407290000 - Other",19218,19214,false,{"$f":"VALUE(Table2[[#This Row],[Identifier]])","v":102783}]
["102786",true,"7408191000 - Of which the maximum cross-sectional dimension exceeds 0,5|mm",19223,19222,false,{"$f":"VALUE(Table2[[#This Row],[Identifier]])","v":102786}]
["102791",true,"7409110000 - In coils",19231,19230,false,{"$f":"VALUE(Table2[[#This Row],[Identifier]])","v":102791}]
["112121",false,"7409310000 - Of copper-tin base alloys (bronze)",19238,19229,false,{"$f":"VALUE(Table2[[#This Row],[Identifier]])","v":112121}]
["102802",true,"7409400000 - Of copper-nickel base alloys (cupro-nickel) or copper-nickel-zinc base alloys (nickel silver)",19241,19229,false,{"$f":"VALUE(Table2[[#This Row],[Identifier]])","v":102802}]
["112124",false,"7410210000 - Backed",19249,19243,false,{"$f":"VALUE(Table2[[#This Row],[Identifier]])","v":112124}]
["102818",true,"7410220000 - Of copper alloys",19258,19249,false,{"$f":"VALUE(Table2[[#This Row],[Identifier]])","v":102818}]
["102820",true,"7411101000 - Straight",19261,19260,false,{"$f":"VALUE(Table2[[#This Row],[Identifier]])","v":102820}]
["102826",true,"7411290000 - Other",19268,19263,false,{"$f":"VALUE(Table2[[#This Row],[Identifier]])","v":102826}]
["102829",true,"7413000000 - Stranded wire, cables, plaited bands and the like, of copper, not electrically insulated",19272,19190,false,{"$f":"VALUE(Table2[[#This Row],[Identifier]])","v":102829}]
["112130",false,"7415330000 - Other threaded articles",19281,19276,false,{"$f":"VALUE(Table2[[#This Row],[Identifier]])","v":112130}]
["102841",true,"7418109010 - Hand-made",19288,19287,false,{"$f":"VALUE(Table2[[#This Row],[Identifier]])","v":102841}]
["102844",true,"7418200010 - Hand-made",19291,19290,false,{"$f":"VALUE(Table2[[#This Row],[Identifier]])","v":102844}]
["134624",true,"7419809000 - Other",19300,19297,false,{"$f":"VALUE(Table2[[#This Row],[Identifier]])","v":134624}]
["112137",false,"7502000000 - Unwrought nickel",19309,19305,false,{"$f":"VALUE(Table2[[#This Row],[Identifier]])","v":112137}]
["102862",true,"7502200000 - Nickel alloys",19311,19309,false,{"$f":"VALUE(Table2[[#This Row],[Identifier]])","v":102862}]
["102866",true,"7505110000 - Of nickel, not alloyed",19318,19317,false,{"$f":"VALUE(Table2[[#This Row],[Identifier]])","v":102866}]
["131259",true,"7506200020 - Sheets and strips in coils of nickel alloy to standard ASME SB-582/UNS N06030 with:\n \n-a thickness of 0,5 mm or more but not more than 3 mm,\n \n-a width of 250 mm or more but not more than 1 219 mm",19327,19325,false,{"$f":"VALUE(Table2[[#This Row],[Identifier]])","v":131259}]
["119105",true,"7506200090 - Other",19328,19325,false,{"$f":"VALUE(Table2[[#This Row],[Identifier]])","v":119105}]
["112147",false,"7601000000 - Unwrought aluminium",19338,19337,false,{"$f":"VALUE(Table2[[#This Row],[Identifier]])","v":112147}]
["134630",true,"7601109000 - Other",19341,19339,false,{"$f":"VALUE(Table2[[#This Row],[Identifier]])","v":134630}]
["102883",true,"7602001100 - Turnings, shavings, chips, milling waste, sawdust and filings; waste of coloured, coated or bonded sheets and foil, of a thickness (excluding any backing) not exceeding 0,2|mm",19348,19347,false,{"$f":"VALUE(Table2[[#This Row],[Identifier]])","v":102883}]
["119106",true,"7604101011 - Unassembled, containing not more than 99.3% of aluminium",19357,19356,false,{"$f":"VALUE(Table2[[#This Row],[Identifier]])","v":119106}]
["119111",true,"7604109029 - Other",19366,19364,false,{"$f":"VALUE(Table2[[#This Row],[Identifier]])","v":119111}]
["119113",true,"7604109089 - Other",19370,19368,false,{"$f":"VALUE(Table2[[#This Row],[Identifier]])","v":119113}]
["102900",true,"7604291040 - Bars and rods of aluminium alloys containing by weight :\n \n-|0,25|%|or more but not more than 7|% of zinc, and\n \n-|1|% or more but not more than 3|% of magnesium, and\n \n-|1|% or more but not more than 5|% of copper, and\n \n-|not more than 1|% of manganese\nconsistent with the material specifications AMS QQ-A-225, of a kind used in aerospace industry (inter alia conforming NADCAP and AS9100) and obtained by rolling mill process",19380,19377,false,{"$f":"VALUE(Table2[[#This Row],[Identifier]])","v":102900}]
["102903",true,"7604299010 - Bearing a specific manufacture number, for use in certain types of aircraft",19383,19382,false,{"$f":"VALUE(Table2[[#This Row],[Identifier]])","v":102903}]
["102909",true,"7605190090 - Other",19391,19389,false,{"$f":"VALUE(Table2[[#This Row],[Identifier]])","v":102909}]
["134633",true,"7605210010 - Aluminium alloy wire with a diameter of 9,50 mm or more but not more than 19,15 mm, in coils, for use in the manufacture of aeronautical fasteners",19394,19393,false,{"$f":"VALUE(Table2[[#This Row],[Identifier]])","v":134633}]
["102914",true,"7606110000 - Of aluminium, not alloyed",19401,19400,false,{"$f":"VALUE(Table2[[#This Row],[Identifier]])","v":102914}]
["134643",true,"7606115089 - Other",19410,19408,false,{"$f":"VALUE(Table2[[#This Row],[Identifier]])","v":134643}]
["131270",true,"7606119186 - Not backed, without internal layers of other material",19417,19416,false,{"$f":"VALUE(Table2[[#This Row],[Identifier]])","v":131270}]
["131273",true,"7606119325 - Not backed, without internal layers of other material",19421,19420,false,{"$f":"VALUE(Table2[[#This Row],[Identifier]])","v":131273}]
["131281",false,"7606119986 - Other",19430,19426,false,{"$f":"VALUE(Table2[[#This Row],[Identifier]])","v":131281}]
["131282",true,"7606119986 - Not backed, without internal layers of other material",19431,19430,false,{"$f":"VALUE(Table2[[#This Row],[Identifier]])","v":131282}]
["134647",false,"7606125023 - Plates bearing a specific manufacture number, for use in certain types of aircraft",19440,19439,false,{"$f":"VALUE(Table2[[#This Row],[Identifier]])","v":134647}]
["134654",true,"7606125085 - For use as body panels in the car industry and of a thickness of not more than 6 mm or for use in the manufacture of aircraft parts and of a thickness of not less than 0,8 mm",19447,19446,false,{"$f":"VALUE(Table2[[#This Row],[Identifier]])","v":134654}]
["134658",true,"7606125089 - Other",19451,19445,false,{"$f":"VALUE(Table2[[#This Row],[Identifier]])","v":134658}]
["131302",false,"7606129291 - Not backed, without internal layers of other material",19460,19459,false,{"$f":"VALUE(Table2[[#This Row],[Identifier]])","v":131302}]
["131305",true,"7606129292 - Hot rolled coils, tension levelled, of a thickness not exceeding 1,5 mm, of a width of not less than 800 mm but not exceeding 2050 mm, for use in the manufacture of aluminium composite panels",19463,19462,false,{"$f":"VALUE(Table2[[#This Row],[Identifier]])","v":131305}]
["131310",true,"7606129385 - For use as body panels in the car industry or for use in the manufacture of aircraft parts",19470,19469,false,{"$f":"VALUE(Table2[[#This Row],[Identifier]])","v":131310}]
["131318",false,"7606129985 - Other",19480,19473,false,{"$f":"VALUE(Table2[[#This Row],[Identifier]])","v":131318}]
["131319",false,"7606129985 - Not backed, without internal layers of other material",19481,19480,false,{"$f":"VALUE(Table2[[#This Row],[Identifier]])","v":131319}]
["131326",false,"7606910086 - Other",19490,19486,false,{"$f":"VALUE(Table2[[#This Row],[Identifier]])","v":131326}]
["102946",true,"7606920000 - Of aluminium alloys",19493,19485,false,{"$f":"VALUE(Table2[[#This Row],[Identifier]])","v":102946}]
["131335",false,"7606920085 - Not backed, without internal layers of other material,\n- in coils or in coiled strips, in cut-to-length sheets, or in the form of circles; of a thickness exceeding 0,2 mm but not  exceeding 6 mm;\n- in plates, of a thickness exceeding 6 mm",19500,19499,false,{"$f":"VALUE(Table2[[#This Row],[Identifier]])","v":131335}]
["102950",true,"7607111100 - In rolls of a weight not exceeding 10|kg",19510,19509,false,{"$f":"VALUE(Table2[[#This Row],[Identifier]])","v":102950}]
["131343",true,"7607111119 - Other",19513,19511,false,{"$f":"VALUE(Table2[[#This Row],[Identifier]])","v":131343}]
["102958",true,"7607111960 - For other uses than household aluminium foil,\n- Of a thickness of not less than 0,007 mm and less than 0,008 mm, whether or not annealed, or,\n- Of a thickness of not less than 0,008 mm and not more than 0,018 mm, in rolls of a width exceeding 650 mm, whether or not annealed, or,\n- Of a thickness of more than 0,018 mm and less than 0,021 mm, whether or not annealed",19520,19515,false,{"$f":"VALUE(Table2[[#This Row],[Identifier]])","v":102958}]
["112166",false,"7607119044 - Aluminium foil in rolls:\n- having a purity of 99,99 % by weight, \n- of a thickness of 0,021 mm or more but not more than 0,2 mm, \n- with a width of 500 mm, \n- with a surface oxide layer by 3 to 4 nm thick, \n- and with a cubic texture of more than 95 %",19526,19525,false,{"$f":"VALUE(Table2[[#This Row],[Identifier]])","v":112166}]
["131352",true,"7607119048 - Of a thickness of not less than 0,03 mm, without internal layers of other material",19531,19530,false,{"$f":"VALUE(Table2[[#This Row],[Identifier]])","v":131352}]
["131361",true,"7607119056 - Other",19540,19533,false,{"$f":"VALUE(Table2[[#This Row],[Identifier]])","v":131361}]
["131364",true,"7607119067 - Other",19543,19541,false,{"$f":"VALUE(Table2[[#This Row],[Identifier]])","v":131364}]
["131369",true,"7607119073 - Of a thickness of not less than 0,03 mm, without internal layers of other material",19549,19548,false,{"$f":"VALUE(Table2[[#This Row],[Identifier]])","v":131369}]
["131380",true,"7607119091 - Of a thickness of not less than 0,03 mm but less than 0.2 mm, without internal layers of other material, in coils or in coiled strips",19560,19559,false,{"$f":"VALUE(Table2[[#This Row],[Identifier]])","v":131380}]
["102969",true,"7607190000 - Other",19567,19507,false,{"$f":"VALUE(Table2[[#This Row],[Identifier]])","v":102969}]
["131388",true,"7607191011 - Consigned from Thailand",19570,19569,false,{"$f":"VALUE(Table2[[#This Row],[Identifier]])","v":131388}]
["131395",true,"7607199093 - Hot rolled coils, alloyed, tension levelled, of a width of not less than 800 mm but not exceeding 2050 mm, for use in the manufacture of aluminium composite panels",19579,19578,false,{"$f":"VALUE(Table2[[#This Row],[Identifier]])","v":131395}]
["134660",true,"7607209100 - Aluminium Composite Panel",19586,19585,false,{"$f":"VALUE(Table2[[#This Row],[Identifier]])","v":134660}]
["112168",false,"7608000000 - Aluminium tubes and pipes",19590,19337,false,{"$f":"VALUE(Table2[[#This Row],[Identifier]])","v":112168}]
["119116",true,"7608100011 - Unassembled, not welded, containing not more than 99.3% of aluminium",19593,19592,false,{"$f":"VALUE(Table2[[#This Row],[Identifier]])","v":119116}]
["102986",true,"7608202000 - Welded",19601,19600,false,{"$f":"VALUE(Table2[[#This Row],[Identifier]])","v":102986}]
["102990",true,"7608208100 - Not further worked than extruded",19606,19605,false,{"$f":"VALUE(Table2[[#This Row],[Identifier]])","v":102990}]
["134664",true,"7609000030 - Aluminium connecting block for automotive air conditioning systems: \n \n-with a T6 hardening, \n \n-equipped with round stubs with a circumferential outer groove,\n \n-with through or non-through holes, made of profiles with an upper radius of 8 mm or more but not more than 11 mm, and a lower radius of 12 mm or more but not more than 17 mm,\n \n-with a distance between holes of 15 mm or more but not more than 22 mm,\n \n-with sockets designed for brazing or clamping,\n \n-with mounting holes for M6 or M8 mounting screw, threaded or not,\n \n-with a width of 5 mm or more but not more than 16 mm,\n \n-for connecting a compressor, a condenser, an evaporator, a chiller and other lines",19618,19616,false,{"$f":"VALUE(Table2[[#This Row],[Identifier]])","v":134664}]
["103002",true,"7610100000 - Doors, windows and their frames and thresholds for doors",19621,19620,false,{"$f":"VALUE(Table2[[#This Row],[Identifier]])","v":103002}]
["103006",true,"7611000000 - Aluminium reservoirs, tanks, vats and similar containers, for any material (other than compressed or liquefied gas), of a capacity exceeding 300|litres, whether or not lined or heat-insulated, but not fitted with mechanical or thermal equipment",19630,19337,false,{"$f":"VALUE(Table2[[#This Row],[Identifier]])","v":103006}]
["112171",false,"7612000000 - Aluminium casks, drums, cans, boxes and similar containers (including rigid or collapsible tubular containers), for any material (other than compressed or liquefied gas), of a capacity not exceeding 300|litres, whether or not lined or heat-insulated, but not fitted with mechanical or thermal equipment",19631,19337,false,{"$f":"VALUE(Table2[[#This Row],[Identifier]])","v":112171}]
["103017",true,"7614900000 - Other",19643,19641,false,{"$f":"VALUE(Table2[[#This Row],[Identifier]])","v":103017}]
["103021",true,"7615101090 - Other",19648,19646,false,{"$f":"VALUE(Table2[[#This Row],[Identifier]])","v":103021}]
["103024",true,"7615108010 - Aluminium radiators and elements or sections of which such radiator is composed, whether or not such elements are assembled in blocks",19651,19650,false,{"$f":"VALUE(Table2[[#This Row],[Identifier]])","v":103024}]
["112176",false,"7616910000 - Other",19660,19654,false,{"$f":"VALUE(Table2[[#This Row],[Identifier]])","v":112176}]
["112177",false,"7616991091 - Other",19666,19663,false,{"$f":"VALUE(Table2[[#This Row],[Identifier]])","v":112177}]
["103040",true,"7616999001 - Aluminium radiators and elements or sections of which such radiator is composed, whether or not such elements are assembled in blocks",19671,19670,false,{"$f":"VALUE(Table2[[#This Row],[Identifier]])","v":103040}]
["103047",true,"7616999060 - Disc (target) with deposition material, consisting of molybdenum silicide:\n \n-|containing 1mg/kg or less of sodium and\n \n-|mounted on a copper or aluminium support",19680,19673,false,{"$f":"VALUE(Table2[[#This Row],[Identifier]])","v":103047}]
["103048",true,"7616999070 - Connecting components for use in the production of helicopter tail rotor shafts",19681,19673,false,{"$f":"VALUE(Table2[[#This Row],[Identifier]])","v":103048}]
["103053",true,"7801910000 - Containing by weight antimony as the principal other element",19690,19689,false,{"$f":"VALUE(Table2[[#This Row],[Identifier]])","v":103053}]
["103059",true,"7802000000 - Lead waste and scrap",19696,19686,false,{"$f":"VALUE(Table2[[#This Row],[Identifier]])","v":103059}]
["103062",true,"7804200000 - Powders and flakes",19701,19697,false,{"$f":"VALUE(Table2[[#This Row],[Identifier]])","v":103062}]
["103067",true,"7901121000 - Containing by weight 99,95|% or more but less than 99,99|% of zinc",19710,19709,false,{"$f":"VALUE(Table2[[#This Row],[Identifier]])","v":103067}]
["103073",true,"7903900000 - Other",19717,19715,false,{"$f":"VALUE(Table2[[#This Row],[Identifier]])","v":103073}]
["131404",true,"7907000090 - Other",19722,19720,false,{"$f":"VALUE(Table2[[#This Row],[Identifier]])","v":131404}]
["103081",true,"8007001000 - Plates, sheets and strip, of a thickness exceeding 0,2|mm",19730,19729,false,{"$f":"VALUE(Table2[[#This Row],[Identifier]])","v":103081}]
["103082",true,"8007008000 - Other",19731,19729,false,{"$f":"VALUE(Table2[[#This Row],[Identifier]])","v":103082}]
["103088",true,"8101960090 - Other",19740,19737,false,{"$f":"VALUE(Table2[[#This Row],[Identifier]])","v":103088}]
["119126",true,"8101991011 - Consigned from Laos",19745,19744,false,{"$f":"VALUE(Table2[[#This Row],[Identifier]])","v":119126}]
["112197",false,"8102000000 - Molybdenum and articles thereof, including waste and scrap",19752,19732,false,{"$f":"VALUE(Table2[[#This Row],[Identifier]])","v":112197}]
["103101",true,"8102960011 - Consigned from Malaysia",19761,19760,false,{"$f":"VALUE(Table2[[#This Row],[Identifier]])","v":103101}]
["103108",true,"8102990000 - Other",19768,19756,false,{"$f":"VALUE(Table2[[#This Row],[Identifier]])","v":103108}]
["103110",true,"8103300000 - Waste and scrap",19771,19769,false,{"$f":"VALUE(Table2[[#This Row],[Identifier]])","v":103110}]
["134669",true,"8103999000 - Other",19776,19774,false,{"$f":"VALUE(Table2[[#This Row],[Identifier]])","v":134669}]
["103119",true,"8104300000 - Raspings, turnings and granules, graded according to size; powders",19782,19777,false,{"$f":"VALUE(Table2[[#This Row],[Identifier]])","v":103119}]
["112204",false,"8105000000 - Cobalt mattes and other intermediate products of cobalt metallurgy; cobalt and articles thereof, including waste and scrap",19791,19732,false,{"$f":"VALUE(Table2[[#This Row],[Identifier]])","v":112204}]
["134670",true,"8106100000 - Containing more than 99,99|% of bismuth, by weight",19798,19797,false,{"$f":"VALUE(Table2[[#This Row],[Identifier]])","v":134670}]
["134674",true,"8106901000 - Unwrought bismuth; waste and scrap; powders",19802,19801,false,{"$f":"VALUE(Table2[[#This Row],[Identifier]])","v":134674}]
["103147",true,"8108300090 - Other",19811,19809,false,{"$f":"VALUE(Table2[[#This Row],[Identifier]])","v":103147}]
["131409",true,"8108903055 - Wires of an alloy of titanium:\n-\twith a niobium content by weight of 42% or more, but not more than 47%,\n-\twith a diameter of 2,36mm or more, but not more than 7,85mm,\n-\tin coils of 15kg or more, but not more than 45kg,\n-\tcomplying with standard AMS 4982",19818,19813,false,{"$f":"VALUE(Table2[[#This Row],[Identifier]])","v":131409}]
["103155",true,"8108903090 - Other",19821,19813,false,{"$f":"VALUE(Table2[[#This Row],[Identifier]])","v":103155}]
["103162",true,"8108906000 - Tubes and pipes",19828,19812,false,{"$f":"VALUE(Table2[[#This Row],[Identifier]])","v":103162}]
["103167",true,"8108909000 - Other",19832,19812,false,{"$f":"VALUE(Table2[[#This Row],[Identifier]])","v":103167}]
["134678",true,"8109210010 - Non-alloy zirconium sponges or ingots, containing by weight more than 0,01|% of hafnium for use in the manufacture of tubes, bars or ingots enlarged by remelting for the chemical industry",19841,19840,false,{"$f":"VALUE(Table2[[#This Row],[Identifier]])","v":134678}]
["134685",true,"8109390000 - Other",19848,19846,false,{"$f":"VALUE(Table2[[#This Row],[Identifier]])","v":134685}]
["134688",true,"8109990000 - Other",19851,19849,false,{"$f":"VALUE(Table2[[#This Row],[Identifier]])","v":134688}]
["112211",false,"8111000000 - Manganese and articles thereof, including waste and scrap",19858,19732,false,{"$f":"VALUE(Table2[[#This Row],[Identifier]])","v":112211}]
["112215",false,"8112210000 - Chromium",19868,19863,false,{"$f":"VALUE(Table2[[#This Row],[Identifier]])","v":112215}]
["103190",true,"8112219000 - Other",19871,19869,false,{"$f":"VALUE(Table2[[#This Row],[Identifier]])","v":103190}]
["134693",true,"8112410000 - Unwrought; waste and scrap; powders",19878,19877,false,{"$f":"VALUE(Table2[[#This Row],[Identifier]])","v":134693}]
["134696",true,"8112490000 - Other",19881,19877,false,{"$f":"VALUE(Table2[[#This Row],[Identifier]])","v":134696}]
["112217",false,"8112920000 - Other",19891,19863,false,{"$f":"VALUE(Table2[[#This Row],[Identifier]])","v":112217}]
["103202",true,"8112929100 - Vanadium",19898,19894,false,{"$f":"VALUE(Table2[[#This Row],[Identifier]])","v":103202}]
["134704",true,"8112994000 - Germanium",19901,19900,false,{"$f":"VALUE(Table2[[#This Row],[Identifier]])","v":134704}]
["103213",true,"8113002010 - Cermet blocks containing by weight 60|% or more of aluminium and 5|% or more of boron carbide",19908,19907,false,{"$f":"VALUE(Table2[[#This Row],[Identifier]])","v":103213}]
["103221",true,"8201300000 - Mattocks, picks, hoes and rakes",19918,19916,false,{"$f":"VALUE(Table2[[#This Row],[Identifier]])","v":103221}]
["103224",true,"8201600000 - Hedge shears, two-handed pruning shears and similar two-handed shears",19921,19916,false,{"$f":"VALUE(Table2[[#This Row],[Identifier]])","v":103224}]
["103229",true,"8202390000 - Other, including parts",19928,19926,false,{"$f":"VALUE(Table2[[#This Row],[Identifier]])","v":103229}]
["103231",true,"8202910000 - Straight saw blades, for working metal",19931,19930,false,{"$f":"VALUE(Table2[[#This Row],[Identifier]])","v":103231}]
["103236",true,"8203200000 - Pliers (including cutting pliers), pincers, tweezers and similar tools",19937,19935,false,{"$f":"VALUE(Table2[[#This Row],[Identifier]])","v":103236}]
["103244",true,"8205300000 - Planes, chisels, gouges and similar cutting tools for working wood",19948,19945,false,{"$f":"VALUE(Table2[[#This Row],[Identifier]])","v":103244}]
["103246",true,"8205510000 - Household tools",19951,19950,false,{"$f":"VALUE(Table2[[#This Row],[Identifier]])","v":103246}]
["103253",true,"8205901000 - Anvils; portable forges; hand- or pedal-operated grinding wheels with frameworks",19958,19957,false,{"$f":"VALUE(Table2[[#This Row],[Identifier]])","v":103253}]
["103260",true,"8207191090 - Other",19967,19965,false,{"$f":"VALUE(Table2[[#This Row],[Identifier]])","v":103260}]
["103267",true,"8207301010 - Set of transfer and/or tandem press tools for cold-forming, pressing, drawing, cutting, punching, bending, calibrating, bordering and throating of metal sheets, for use in the manufacture of frame parts or body parts of motor vehicles",19974,19973,false,{"$f":"VALUE(Table2[[#This Row],[Identifier]])","v":103267}]
["112233",false,"8207401000 - For working metal",19978,19977,false,{"$f":"VALUE(Table2[[#This Row],[Identifier]])","v":112233}]
["103273",true,"8207409000 - Other",19981,19977,false,{"$f":"VALUE(Table2[[#This Row],[Identifier]])","v":103273}]
["103277",true,"8207505000 - Of cermets",19988,19987,false,{"$f":"VALUE(Table2[[#This Row],[Identifier]])","v":103277}]
["103284",true,"8207605000 - Other",19997,19995,false,{"$f":"VALUE(Table2[[#This Row],[Identifier]])","v":103284}]
["103287",true,"8207700000 - Tools for milling",20001,19961,false,{"$f":"VALUE(Table2[[#This Row],[Identifier]])","v":103287}]
["103292",true,"8207800000 - Tools for turning",20008,19961,false,{"$f":"VALUE(Table2[[#This Row],[Identifier]])","v":103292}]
["103299",true,"8207905000 - Gear-cutting tools",20017,20015,false,{"$f":"VALUE(Table2[[#This Row],[Identifier]])","v":103299}]
["103300",true,"8207907100 - For working metal",20020,20019,false,{"$f":"VALUE(Table2[[#This Row],[Identifier]])","v":103300}]
["103305",true,"8208200000 - For woodworking",20027,20025,false,{"$f":"VALUE(Table2[[#This Row],[Identifier]])","v":103305}]
["112248",false,"8209000000 - Plates, sticks, tips and the like for tools, unmounted, of cermets",20031,19915,false,{"$f":"VALUE(Table2[[#This Row],[Identifier]])","v":112248}]
["103313",true,"8211910000 - Table knives having fixed blades",20038,20037,false,{"$f":"VALUE(Table2[[#This Row],[Identifier]])","v":103313}]
["103321",true,"8212200000 - Safety razor blades, including razor blade blanks in strips",20047,20043,false,{"$f":"VALUE(Table2[[#This Row],[Identifier]])","v":103321}]
["103326",true,"8214900000 - Other",20053,20050,false,{"$f":"VALUE(Table2[[#This Row],[Identifier]])","v":103326}]
["103329",true,"8215103000 - Of stainless steel",20058,20057,false,{"$f":"VALUE(Table2[[#This Row],[Identifier]])","v":103329}]
["103337",true,"8215999000 - Other",20067,20065,false,{"$f":"VALUE(Table2[[#This Row],[Identifier]])","v":103337}]
["103338",true,"8301100000 - Padlocks",20070,20069,false,{"$f":"VALUE(Table2[[#This Row],[Identifier]])","v":103338}]
["112258",false,"8301401100 - Locks of a kind used for doors of buildings",20076,20075,false,{"$f":"VALUE(Table2[[#This Row],[Identifier]])","v":112258}]
["103348",true,"8301600000 - Parts",20081,20069,false,{"$f":"VALUE(Table2[[#This Row],[Identifier]])","v":103348}]
["134708",true,"8302100020 - Armrest hinge made of magnesium with:\n \n-a length of 255 mm or more but not more than 265 mm,\n \n-a width of 155 mm or more but not more than 165 mm,\n \n-a height of 115 mm or more but not more than 125 mm,\n \n-mounting holes for a lock mechanism",20088,20086,false,{"$f":"VALUE(Table2[[#This Row],[Identifier]])","v":134708}]
["112260",false,"8302410000 - Other mountings, fittings and similar articles",20097,20085,false,{"$f":"VALUE(Table2[[#This Row],[Identifier]])","v":112260}]
["103364",true,"8302415000 - For windows and French windows",20100,20098,false,{"$f":"VALUE(Table2[[#This Row],[Identifier]])","v":103364}]
["103370",true,"8302490010 - For use in civil aircraft",20106,20105,false,{"$f":"VALUE(Table2[[#This Row],[Identifier]])","v":103370}]
["103379",true,"8304000000 - Filing cabinets, card-index cabinets, paper trays, paper rests, pen trays, office-stamp stands and similar office or desk equipment, of base metal, other than office furniture of heading|9403",20117,20068,false,{"$f":"VALUE(Table2[[#This Row],[Identifier]])","v":103379}]
["112263",false,"8305000000 - Fittings for loose-leaf binders or files, letter clips, letter corners, paper clips, indexing tags and similar office articles, of base metal; staples in strips (for example, for offices, upholstery, packaging), of base metal",20118,20068,false,{"$f":"VALUE(Table2[[#This Row],[Identifier]])","v":112263}]
["103386",true,"8305100029 - Other",20127,20124,false,{"$f":"VALUE(Table2[[#This Row],[Identifier]])","v":103386}]
["134713",true,"8305100038 - Consigned from Lao People's Democratic Republic",20132,20130,false,{"$f":"VALUE(Table2[[#This Row],[Identifier]])","v":134713}]
["103390",true,"8305100049 - Other",20138,20128,false,{"$f":"VALUE(Table2[[#This Row],[Identifier]])","v":103390}]
["103397",true,"8306290000 - Other",20147,20145,false,{"$f":"VALUE(Table2[[#This Row],[Identifier]])","v":103397}]
["103399",true,"8307100000 - Of iron or steel",20150,20149,false,{"$f":"VALUE(Table2[[#This Row],[Identifier]])","v":103399}]
["103405",true,"8308100000 - Hooks, eyes and eyelets",20157,20156,false,{"$f":"VALUE(Table2[[#This Row],[Identifier]])","v":103405}]
["103410",true,"8308900010 - Beads and spangles, hand-made",20162,20161,false,{"$f":"VALUE(Table2[[#This Row],[Identifier]])","v":103410}]
["103415",true,"8309909000 - Other",20168,20166,false,{"$f":"VALUE(Table2[[#This Row],[Identifier]])","v":103415}]
["112273",false,"SECTION XVI (84 - 85) Machinery and mechanical appliances; electrical equipment; parts thereof; sound recorders and reproducers, television image and sound recorders and reproducers, and parts and accessories of such articles",20177,"",false,{"$f":"VALUE(Table2[[#This Row],[Identifier]])","v":112273}]
["103423",true,"8401100000 - Nuclear reactors",20180,20179,false,{"$f":"VALUE(Table2[[#This Row],[Identifier]])","v":103423}]
["103433",true,"8402190000 - Other vapour generating boilers, including hybrid boilers",20192,20189,false,{"$f":"VALUE(Table2[[#This Row],[Identifier]])","v":103433}]
["112278",false,"8403000000 - Central heating boilers other than those of heading|8402",20197,20178,false,{"$f":"VALUE(Table2[[#This Row],[Identifier]])","v":112278}]
["103440",true,"8403109000 - Other",20200,20198,false,{"$f":"VALUE(Table2[[#This Row],[Identifier]])","v":103440}]
["103446",true,"8404900000 - Parts",20207,20204,false,{"$f":"VALUE(Table2[[#This Row],[Identifier]])","v":103446}]
["112281",false,"8406000000 - Steam turbines and other vapour turbines",20211,20178,false,{"$f":"VALUE(Table2[[#This Row],[Identifier]])","v":112281}]
["103454",true,"8406900000 - Parts",20218,20211,false,{"$f":"VALUE(Table2[[#This Row],[Identifier]])","v":103454}]
["103461",true,"8407210000 - Outboard motors",20227,20226,false,{"$f":"VALUE(Table2[[#This Row],[Identifier]])","v":103461}]
["103463",true,"8407219100 - Of a power not exceeding 30|kW",20230,20229,false,{"$f":"VALUE(Table2[[#This Row],[Identifier]])","v":103463}]
["103469",true,"8407329000 - Of a cylinder capacity exceeding 125|cm$3|but not exceeding 250|cm$3",20237,20235,false,{"$f":"VALUE(Table2[[#This Row],[Identifier]])","v":103469}]
["134720",true,"8407341090 - Other",20248,20246,false,{"$f":"VALUE(Table2[[#This Row],[Identifier]])","v":134720}]
["103482",true,"8407900000 - Other engines",20254,20221,false,{"$f":"VALUE(Table2[[#This Row],[Identifier]])","v":103482}]
["134721",true,"8407901040 - A power unit with a two-stroke engine with:\n \n-an output of 900 W or more, but not more than 1 100 W,\n \n-a cylinder displacement of more than 24 cm³ but not more than 30 cm³,\n \n-a rotation speed of more than 8 400 rpm but not more than 8 600 rpm at maximum power,\n \n-an idling speed of more than 2 800 rpm but not more than 3 200 rpm, and\n \n-a fuel tank with a capacity of 0,5 l or more,\nfor use in the manufacture of garden machinery and garden machinery components",20257,20255,false,{"$f":"VALUE(Table2[[#This Row],[Identifier]])","v":134721}]
["103491",true,"8407909010 - Spark-ignition reciprocating or rotary internal combustion piston engines, having a cylinder capacity of not less than 300 cm³ and a power of not less than 6 kW or more but not more than 20,0 kW, for the manufacture of: \n\n-lawn mowers of subheadings 8433 11, 8433 19 and 8433 20, \n\n-tractors of subheadings 8701 91 90, 8701 92 90 whose main function is that of a lawn mower, \n\n-four stroke mowers with motor of a cylinder capacity of not less than 300 cm³ of subheading 8433 20 10 or \n\n-snowploughs and snow blowers of subheading 8430 20",20266,20265,false,{"$f":"VALUE(Table2[[#This Row],[Identifier]])","v":103491}]
["112292",false,"8408101100 - Used",20271,20270,false,{"$f":"VALUE(Table2[[#This Row],[Identifier]])","v":112292}]
["103498",true,"8408102700 - Other",20277,20275,false,{"$f":"VALUE(Table2[[#This Row],[Identifier]])","v":103498}]
["103500",true,"8408103900 - Other",20280,20278,false,{"$f":"VALUE(Table2[[#This Row],[Identifier]])","v":103500}]
["112298",false,"8408106100 - Exceeding 300|kW but not exceeding 500|kW",20287,20274,false,{"$f":"VALUE(Table2[[#This Row],[Identifier]])","v":112298}]
["112301",false,"8408109100 - Exceeding 5|000|kW",20296,20274,false,{"$f":"VALUE(Table2[[#This Row],[Identifier]])","v":112301}]
["112302",false,"8408203100 - Other",20301,20299,false,{"$f":"VALUE(Table2[[#This Row],[Identifier]])","v":112302}]
["103518",true,"8408205100 - Not exceeding 50|kW",20307,20306,false,{"$f":"VALUE(Table2[[#This Row],[Identifier]])","v":103518}]
["103526",true,"8408902790 - Other",20316,20314,false,{"$f":"VALUE(Table2[[#This Row],[Identifier]])","v":103526}]
["112306",false,"8408904100 - New, of a power",20317,20313,false,{"$f":"VALUE(Table2[[#This Row],[Identifier]])","v":112306}]
["103536",true,"8408904500 - Exceeding 30|kW but not exceeding 50|kW",20327,20317,false,{"$f":"VALUE(Table2[[#This Row],[Identifier]])","v":103536}]
["103542",true,"8408904750 - 4|Cylinder, 4|cycle, liquid cooled, compression-ignition engine having:\n \n-|a capacity of not more than 3|850|cm$3, and\n \n-|a rated output of 15|kW or more but not more than 85|kW,\nfor use in the manufacture of vehicles of heading 8427",20334,20333,false,{"$f":"VALUE(Table2[[#This Row],[Identifier]])","v":103542}]
["103545",true,"8408906110 - For use in civil aircraft",20337,20336,false,{"$f":"VALUE(Table2[[#This Row],[Identifier]])","v":103545}]
["103552",true,"8408906790 - Other",20346,20343,false,{"$f":"VALUE(Table2[[#This Row],[Identifier]])","v":103552}]
["103558",true,"8408908590 - Other",20353,20351,false,{"$f":"VALUE(Table2[[#This Row],[Identifier]])","v":103558}]
["112308",false,"8409000000 - Parts suitable for use solely or principally with the engines of heading|8407|or 8408",20357,20178,false,{"$f":"VALUE(Table2[[#This Row],[Identifier]])","v":112308}]
["103567",true,"8409910040 - Fuel injector with solenoid valve for optimized atomization in the combustion chamber for use in the manufacture of spark-ignition internal combustion piston engines of motor vehicles",20366,20363,false,{"$f":"VALUE(Table2[[#This Row],[Identifier]])","v":103567}]
["134726",true,"8409910045 - Metal alloy intake and exhaust valve, with a Rockwell hardness HRC 20 or more, for use in the manufacture of spark or compression ignition engines of motor vehicles",20367,20363,false,{"$f":"VALUE(Table2[[#This Row],[Identifier]])","v":134726}]
["103572",true,"8409990000 - Other",20376,20362,false,{"$f":"VALUE(Table2[[#This Row],[Identifier]])","v":103572}]
["103577",true,"8409990065 - The exhaust gas recirculation assembly consisting of:\n \n-a control unit,\n \n-an air throttle,\n \n-an intake pipe,\n \n-an outlet hose,\nfor use in the manufacture of spark-ignition or compression-ignition combustion engines of motor vehicles",20380,20376,false,{"$f":"VALUE(Table2[[#This Row],[Identifier]])","v":103577}]
["103582",true,"8410120000 - Of a power exceeding 1|000|kW but not exceeding 10|000|kW",20387,20385,false,{"$f":"VALUE(Table2[[#This Row],[Identifier]])","v":103582}]
["103589",true,"8411120000 - Of a thrust exceeding 25|kN",20396,20391,false,{"$f":"VALUE(Table2[[#This Row],[Identifier]])","v":103589}]
["103596",true,"8411123020 - Intended to be fitted in aircraft imported duty free or built within the Community",20403,20401,false,{"$f":"VALUE(Table2[[#This Row],[Identifier]])","v":103596}]
["103599",true,"8411128010 - For use in civil aircraft",20406,20405,false,{"$f":"VALUE(Table2[[#This Row],[Identifier]])","v":103599}]
["103608",true,"8411222010 - For use in civil aircraft",20416,20415,false,{"$f":"VALUE(Table2[[#This Row],[Identifier]])","v":103608}]
["103609",true,"8411222020 - Intended to be fitted in aircraft imported duty free or built within the Community",20417,20415,false,{"$f":"VALUE(Table2[[#This Row],[Identifier]])","v":103609}]
["103617",true,"8411810090 - Other",20426,20424,false,{"$f":"VALUE(Table2[[#This Row],[Identifier]])","v":103617}]
["103624",true,"8411826090 - Other",20433,20431,false,{"$f":"VALUE(Table2[[#This Row],[Identifier]])","v":103624}]
["103627",true,"8411828090 - Other",20436,20434,false,{"$f":"VALUE(Table2[[#This Row],[Identifier]])","v":103627}]
["103635",true,"8411990030 - Turbine housing of turbochargers, with a hole to insert a turbine wheel, whereby the hole has a diameter of 28mm or more, but not more than 181mm",20446,20444,false,{"$f":"VALUE(Table2[[#This Row],[Identifier]])","v":103635}]
["112319",false,"8412210000 - Hydraulic power engines and motors",20453,20448,false,{"$f":"VALUE(Table2[[#This Row],[Identifier]])","v":112319}]
["103644",true,"8412212010 - For use in civil aircraft",20456,20455,false,{"$f":"VALUE(Table2[[#This Row],[Identifier]])","v":103644}]
["103653",true,"8412298100 - Hydraulic fluid power motors",20466,20465,false,{"$f":"VALUE(Table2[[#This Row],[Identifier]])","v":103653}]
["103654",true,"8412298110 - For use in civil aircraft",20467,20466,false,{"$f":"VALUE(Table2[[#This Row],[Identifier]])","v":103654}]
["103662",true,"8412390000 - Other",20476,20472,false,{"$f":"VALUE(Table2[[#This Row],[Identifier]])","v":103662}]
["103669",true,"8412808010 - For use in civil aircraft",20483,20482,false,{"$f":"VALUE(Table2[[#This Row],[Identifier]])","v":103669}]
["103672",true,"8412902000 - Of reaction engines other than turbojets",20486,20485,false,{"$f":"VALUE(Table2[[#This Row],[Identifier]])","v":103672}]
["103678",true,"8412904090 - Other",20492,20490,false,{"$f":"VALUE(Table2[[#This Row],[Identifier]])","v":103678}]
["103685",true,"8413190090 - Other",20503,20501,false,{"$f":"VALUE(Table2[[#This Row],[Identifier]])","v":103685}]
["103688",true,"8413200090 - Other",20506,20504,false,{"$f":"VALUE(Table2[[#This Row],[Identifier]])","v":103688}]
["134729",true,"8413302060 - High-pressure plunger pump for direct petrol injection:\n \n-with an operating pressure of not more than 90 MPa,\n \n-designed to contact the crankshaft,\n \n-with an electromagnetic valve",20513,20508,false,{"$f":"VALUE(Table2[[#This Row],[Identifier]])","v":134729}]
["103700",true,"8413502010 - For use in civil aircraft",20522,20521,false,{"$f":"VALUE(Table2[[#This Row],[Identifier]])","v":103700}]
["103704",true,"8413504090 - Other",20526,20524,false,{"$f":"VALUE(Table2[[#This Row],[Identifier]])","v":103704}]
["103709",true,"8413506910 - For use in civil aircraft",20533,20532,false,{"$f":"VALUE(Table2[[#This Row],[Identifier]])","v":103709}]
["103712",true,"8413508010 - For use in civil aircraft",20536,20535,false,{"$f":"VALUE(Table2[[#This Row],[Identifier]])","v":103712}]
["103719",true,"8413603110 - For use in civil aircraft",20545,20544,false,{"$f":"VALUE(Table2[[#This Row],[Identifier]])","v":103719}]
["103726",true,"8413606190 - Other",20553,20551,false,{"$f":"VALUE(Table2[[#This Row],[Identifier]])","v":103726}]
["103729",true,"8413606990 - Other",20556,20554,false,{"$f":"VALUE(Table2[[#This Row],[Identifier]])","v":103729}]
["103736",true,"8413700000 - Other centrifugal pumps",20563,20498,false,{"$f":"VALUE(Table2[[#This Row],[Identifier]])","v":103736}]
["103738",true,"8413702900 - Multi-stage",20566,20564,false,{"$f":"VALUE(Table2[[#This Row],[Identifier]])","v":103738}]
["112335",false,"8413705100 - With single entry impeller",20578,20577,false,{"$f":"VALUE(Table2[[#This Row],[Identifier]])","v":112335}]
["134733",true,"8413705140 - Electric brushless direct current motor with single-stage, radial flow pump centrifugal single entry impeller mounted on motor's shaft, monobloc with the motor, volute with integrated heater, with:\n \n-a discharge outlet diameter of 20 mm or more,\n \n-9 slots square or chain pole stator,\n \n-6 pole rotor,\n \n-ferritic or rare earth magnets,\n \n-rated power of 95 W or 80 W,\n \n-heater of nominal power of 1800 W and soldered or laser welded safety, devices,\n \n-volute with or without clamped rubber outlet,\n \n-rotor chamber with ultrasonic welded sand filter",20583,20579,false,{"$f":"VALUE(Table2[[#This Row],[Identifier]])","v":134733}]
["103751",true,"8413705910 - For use in civil aircraft",20586,20585,false,{"$f":"VALUE(Table2[[#This Row],[Identifier]])","v":103751}]
["103758",true,"8413707590 - Other",20593,20591,false,{"$f":"VALUE(Table2[[#This Row],[Identifier]])","v":103758}]
["112337",false,"8413810000 - Other pumps; liquid elevators",20601,20498,false,{"$f":"VALUE(Table2[[#This Row],[Identifier]])","v":112337}]
["112338",false,"8413910000 - Parts",20606,20498,false,{"$f":"VALUE(Table2[[#This Row],[Identifier]])","v":112338}]
["112339",false,"8414000000 - Air or vacuum pumps, air or other gas compressors and fans; ventilating or recycling hoods incorporating a fan, whether or not fitted with filters; gas-tight biological safety cabinets, whether or not fitted with filters",20613,20178,false,{"$f":"VALUE(Table2[[#This Row],[Identifier]])","v":112339}]
["112340",false,"8414102500 - Other",20616,20614,false,{"$f":"VALUE(Table2[[#This Row],[Identifier]])","v":112340}]
["103785",true,"8414108900 - Other",20625,20621,false,{"$f":"VALUE(Table2[[#This Row],[Identifier]])","v":103785}]
["103791",true,"8414208000 - Other",20631,20629,false,{"$f":"VALUE(Table2[[#This Row],[Identifier]])","v":103791}]
["103796",true,"8414302010 - For use in civil aircraft",20636,20635,false,{"$f":"VALUE(Table2[[#This Row],[Identifier]])","v":103796}]
["103798",true,"8414308100 - Hermetic or semi-hermetic",20643,20642,false,{"$f":"VALUE(Table2[[#This Row],[Identifier]])","v":103798}]
["103806",true,"8414308930 - Open shaft, scroll type compressor with clutch assembly, of a power of more than 0,4 kW, for air conditioning in vehicles, for use in the manufacture of motor vehicles of Chapter 87",20652,20649,false,{"$f":"VALUE(Table2[[#This Row],[Identifier]])","v":103806}]
["112344",false,"8414510000 - Fans",20657,20613,false,{"$f":"VALUE(Table2[[#This Row],[Identifier]])","v":112344}]
["112345",false,"8414592500 - Other",20663,20661,false,{"$f":"VALUE(Table2[[#This Row],[Identifier]])","v":112345}]
["103819",true,"8414592590 - Other",20666,20664,false,{"$f":"VALUE(Table2[[#This Row],[Identifier]])","v":103819}]
["103825",true,"8414599510 - For use in civil aircraft",20673,20672,false,{"$f":"VALUE(Table2[[#This Row],[Identifier]])","v":103825}]
["103832",true,"8414801900 - Multi-stage",20682,20678,false,{"$f":"VALUE(Table2[[#This Row],[Identifier]])","v":103832}]
["103835",true,"8414802200 - Not exceeding 60|m$3",20687,20686,false,{"$f":"VALUE(Table2[[#This Row],[Identifier]])","v":103835}]
["103841",true,"8414802890 - Other",20693,20691,false,{"$f":"VALUE(Table2[[#This Row],[Identifier]])","v":103841}]
["103848",true,"8414807300 - Single-shaft",20702,20701,false,{"$f":"VALUE(Table2[[#This Row],[Identifier]])","v":103848}]
["103850",true,"8414807330 - Hermetic rotary compressors for either hydrofluorocarbon (HFC) or hydrocarbon refrigerants:\n-\tdriven by ‘on-off’ single phase alternate current (AC) or ‘brushless direct current’ (BLDC) variable speed motors,\n-\twith a nominal power rating of not more than 1,5kW,\n-\ta rated voltage of 100V or more but not more than 240V,\n-\twith a height of not more than 300mm,\n-\tan external diameter of not more than 150mm,\n-\twith a unit weight of not more than 15kg,\nfor use in the manufacture of heat pumps for household appliances, including clothes dryers",20705,20704,false,{"$f":"VALUE(Table2[[#This Row],[Identifier]])","v":103850}]
["103853",true,"8414807510 - For use in civil aircraft",20710,20709,false,{"$f":"VALUE(Table2[[#This Row],[Identifier]])","v":103853}]
["103859",true,"8414808010 - For use in civil aircraft",20716,20715,false,{"$f":"VALUE(Table2[[#This Row],[Identifier]])","v":103859}]
["131424",true,"8414900080 - Turbocharger wheel housing of cast aluminium alloy or cast iron:\n- with a heat resistance up to 400°C,\n- with a hole of 30 mm or more but not more than 300 mm for the insertion of the compressor wheel,\nfor use in the automotive industry",20723,20718,false,{"$f":"VALUE(Table2[[#This Row],[Identifier]])","v":131424}]
["103875",true,"8415109090 - Other",20732,20730,false,{"$f":"VALUE(Table2[[#This Row],[Identifier]])","v":103875}]
["112354",false,"8415810000 - Other",20736,20725,false,{"$f":"VALUE(Table2[[#This Row],[Identifier]])","v":112354}]
["103884",true,"8415820010 - For use in civil aircraft",20743,20742,false,{"$f":"VALUE(Table2[[#This Row],[Identifier]])","v":103884}]
["134737",true,"8415900045 - Aluminium connecting block for automotive air conditioning systems: \n \n-with a T6 hardening, \n \n-equipped with round stubs with a circumferential outer groove,\n \n-with through or non-through holes, made of profiles with an upper radius of 8 mm or more but not more than 11 mm, and a lower radius of 12 mm or more but not more than 17 mm,\n \n-with a distance between holes of 15 mm or more but not more than 22 mm,\n \n-with sockets designed for brazing or clamping,\n \n-with mounting holes for M6 or M8 mounting screw, threaded or not,\n \n-with a width of 5 mm or more but not more than 16 mm,\n \n-for connecting a compressor, a condenser, an evaporator, a chiller and other lines",20752,20750,false,{"$f":"VALUE(Table2[[#This Row],[Identifier]])","v":134737}]
["112357",false,"8415900091 - Other",20755,20750,false,{"$f":"VALUE(Table2[[#This Row],[Identifier]])","v":112357}]
["103900",true,"8416200000 - Other furnace burners, including combination burners",20762,20758,false,{"$f":"VALUE(Table2[[#This Row],[Identifier]])","v":103900}]
["103903",true,"8416208000 - Other",20766,20764,false,{"$f":"VALUE(Table2[[#This Row],[Identifier]])","v":103903}]
["103909",true,"8417209000 - Other",20773,20771,false,{"$f":"VALUE(Table2[[#This Row],[Identifier]])","v":103909}]
["103917",true,"8418102010 - For use in civil aircraft",20782,20781,false,{"$f":"VALUE(Table2[[#This Row],[Identifier]])","v":103917}]
["103919",true,"8418102099 - Other",20785,20783,false,{"$f":"VALUE(Table2[[#This Row],[Identifier]])","v":103919}]
["112365",false,"8418215100 - Other",20796,20792,false,{"$f":"VALUE(Table2[[#This Row],[Identifier]])","v":112365}]
["103933",true,"8418215990 - Other",20802,20800,false,{"$f":"VALUE(Table2[[#This Row],[Identifier]])","v":103933}]
["112366",false,"8418219100 - Other, of a capacity",20803,20796,false,{"$f":"VALUE(Table2[[#This Row],[Identifier]])","v":112366}]
["103942",true,"8418290090 - Other",20812,20810,false,{"$f":"VALUE(Table2[[#This Row],[Identifier]])","v":103942}]
["103945",true,"8418302010 - For use in civil aircraft",20815,20814,false,{"$f":"VALUE(Table2[[#This Row],[Identifier]])","v":103945}]
["103954",true,"8418402010 - For use in civil aircraft",20826,20825,false,{"$f":"VALUE(Table2[[#This Row],[Identifier]])","v":103954}]
["112370",false,"8418408091 - Other",20832,20830,false,{"$f":"VALUE(Table2[[#This Row],[Identifier]])","v":112370}]
["103961",true,"8418500000 - Other furniture (chests, cabinets, display counters, showcases and the like) for storage and display, incorporating refrigerating or freezing equipment",20835,20779,false,{"$f":"VALUE(Table2[[#This Row],[Identifier]])","v":103961}]
["103967",true,"8418501990 - Other",20842,20840,false,{"$f":"VALUE(Table2[[#This Row],[Identifier]])","v":103967}]
["103975",true,"8418690000 - Other",20852,20846,false,{"$f":"VALUE(Table2[[#This Row],[Identifier]])","v":103975}]
["103976",true,"8418690010 - For use in civil aircraft",20853,20852,false,{"$f":"VALUE(Table2[[#This Row],[Identifier]])","v":103976}]
["112379",false,"8418991081 - Other",20862,20860,false,{"$f":"VALUE(Table2[[#This Row],[Identifier]])","v":112379}]
["103990",true,"8418999000 - Other",20865,20859,false,{"$f":"VALUE(Table2[[#This Row],[Identifier]])","v":103990}]
["134738",true,"8419120000 - Solar water heaters",20875,20873,false,{"$f":"VALUE(Table2[[#This Row],[Identifier]])","v":134738}]
["103999",true,"8419390000 - Other",20882,20878,false,{"$f":"VALUE(Table2[[#This Row],[Identifier]])","v":103999}]
["104006",true,"8419600000 - Machinery for liquefying air or other gases",20889,20872,false,{"$f":"VALUE(Table2[[#This Row],[Identifier]])","v":104006}]
["104008",true,"8419812000 - Percolators and other appliances for making coffee and other hot drinks",20892,20891,false,{"$f":"VALUE(Table2[[#This Row],[Identifier]])","v":104008}]
["104017",true,"8419899800 - Other",20901,20898,false,{"$f":"VALUE(Table2[[#This Row],[Identifier]])","v":104017}]
["104021",true,"8419908510 - Of heat exchange units, for use in civil aircraft",20905,20904,false,{"$f":"VALUE(Table2[[#This Row],[Identifier]])","v":104021}]
["112386",false,"8420108100 - Other",20912,20909,false,{"$f":"VALUE(Table2[[#This Row],[Identifier]])","v":112386}]
["112387",false,"8420910000 - Parts",20915,20908,false,{"$f":"VALUE(Table2[[#This Row],[Identifier]])","v":112387}]
["104033",true,"8421110000 - Cream separators",20922,20921,false,{"$f":"VALUE(Table2[[#This Row],[Identifier]])","v":104033}]
["104041",true,"8421210090 - Other",20931,20928,false,{"$f":"VALUE(Table2[[#This Row],[Identifier]])","v":104041}]
["104049",true,"8421298010 - For use in civil aircraft",20939,20938,false,{"$f":"VALUE(Table2[[#This Row],[Identifier]])","v":104049}]
["104051",true,"8421310000 - Intake air filters for internal combustion engines",20942,20941,false,{"$f":"VALUE(Table2[[#This Row],[Identifier]])","v":104051}]
["104058",true,"8421392590 - Other",20951,20949,false,{"$f":"VALUE(Table2[[#This Row],[Identifier]])","v":104058}]
["112393",false,"8421393500 - Machinery and apparatus for filtering or purifying other gases",20952,20948,false,{"$f":"VALUE(Table2[[#This Row],[Identifier]])","v":112393}]
["104066",true,"8421990000 - Other",20961,20959,false,{"$f":"VALUE(Table2[[#This Row],[Identifier]])","v":104066}]
["104070",true,"8421999091 - Parts of equipment, for the purification of water by reverse osmosis, consisting of a bundle of hollow fibres of artificial plastic material with permeable walls, embedded in a block of artificial plastic material at one end and passing through a block of artificial plastic material at the other end, whether or not housed in a cylinder",20965,20963,false,{"$f":"VALUE(Table2[[#This Row],[Identifier]])","v":104070}]
["104075",true,"8422200000 - Machinery for cleaning or drying bottles or other containers",20972,20968,false,{"$f":"VALUE(Table2[[#This Row],[Identifier]])","v":104075}]
["104083",true,"8423109000 - Other",20981,20979,false,{"$f":"VALUE(Table2[[#This Row],[Identifier]])","v":104083}]
["104086",true,"8423209000 - Other",20984,20982,false,{"$f":"VALUE(Table2[[#This Row],[Identifier]])","v":104086}]
["104092",true,"8423812300 - Machinery for weighing and labelling pre-packaged goods",20992,20990,false,{"$f":"VALUE(Table2[[#This Row],[Identifier]])","v":104092}]
["104100",true,"8423890000 - Other",21001,20988,false,{"$f":"VALUE(Table2[[#This Row],[Identifier]])","v":104100}]
["104101",true,"8423892000 - Using electronic means for gauging weight",21002,21001,false,{"$f":"VALUE(Table2[[#This Row],[Identifier]])","v":104101}]
["104108",true,"8424100090 - Other",21010,21008,false,{"$f":"VALUE(Table2[[#This Row],[Identifier]])","v":104108}]
["112404",false,"8424410000 - Agricultural or horticultural sprayers",21019,21007,false,{"$f":"VALUE(Table2[[#This Row],[Identifier]])","v":112404}]
["104117",true,"8424491000 - Sprayers and powder distributors designed to be mounted on or drawn by tractors",21022,21021,false,{"$f":"VALUE(Table2[[#This Row],[Identifier]])","v":104117}]
["104127",true,"8424900000 - Parts",21031,21007,false,{"$f":"VALUE(Table2[[#This Row],[Identifier]])","v":104127}]
["104132",true,"8425110000 - Powered by electric motor",21038,21037,false,{"$f":"VALUE(Table2[[#This Row],[Identifier]])","v":104132}]
["112408",false,"8425310000 - Winches; capstans",21040,21036,false,{"$f":"VALUE(Table2[[#This Row],[Identifier]])","v":112408}]
["104141",true,"8426190000 - Other",21051,21048,false,{"$f":"VALUE(Table2[[#This Row],[Identifier]])","v":104141}]
["104142",true,"8426200000 - Tower cranes",21052,21047,false,{"$f":"VALUE(Table2[[#This Row],[Identifier]])","v":104142}]
["104149",true,"8426990000 - Other",21061,21057,false,{"$f":"VALUE(Table2[[#This Row],[Identifier]])","v":104149}]
["104156",true,"8427209000 - Other",21070,21066,false,{"$f":"VALUE(Table2[[#This Row],[Identifier]])","v":104156}]
["112416",false,"8427900011 - Hand pallet trucks",21072,21071,false,{"$f":"VALUE(Table2[[#This Row],[Identifier]])","v":112416}]
["104166",true,"8428200000 - Pneumatic elevators and conveyors",21081,21077,false,{"$f":"VALUE(Table2[[#This Row],[Identifier]])","v":104166}]
["104172",true,"8428390000 - Other",21088,21084,false,{"$f":"VALUE(Table2[[#This Row],[Identifier]])","v":104172}]
["104175",true,"8428400000 - Escalators and moving walkways",21091,21077,false,{"$f":"VALUE(Table2[[#This Row],[Identifier]])","v":104175}]
["112421",false,"8429110000 - Bulldozers and angledozers",21100,21099,false,{"$f":"VALUE(Table2[[#This Row],[Identifier]])","v":112421}]
["104182",true,"8429190000 - Other",21102,21100,false,{"$f":"VALUE(Table2[[#This Row],[Identifier]])","v":104182}]
["104189",true,"8429510000 - Front-end shovel loaders",21111,21110,false,{"$f":"VALUE(Table2[[#This Row],[Identifier]])","v":104189}]
["104195",true,"8429529000 - Other",21118,21116,false,{"$f":"VALUE(Table2[[#This Row],[Identifier]])","v":104195}]
["112427",false,"8430410000 - Other boring or sinking machinery",21126,21120,false,{"$f":"VALUE(Table2[[#This Row],[Identifier]])","v":112427}]
["104204",true,"8430610000 - Tamping or compacting machinery",21131,21130,false,{"$f":"VALUE(Table2[[#This Row],[Identifier]])","v":104204}]
["104210",true,"8431200019 - Other",21138,21136,false,{"$f":"VALUE(Table2[[#This Row],[Identifier]])","v":104210}]
["104214",true,"8431200080 - Other",21141,21135,false,{"$f":"VALUE(Table2[[#This Row],[Identifier]])","v":104214}]
["104219",true,"8431430000 - Parts for boring or sinking machinery of subheading|8430|41|or 8430|49",21148,21145,false,{"$f":"VALUE(Table2[[#This Row],[Identifier]])","v":104219}]
["104225",true,"8432290000 - Other",21156,21154,false,{"$f":"VALUE(Table2[[#This Row],[Identifier]])","v":104225}]
["112435",false,"8432310000 - Seeders, planters and transplanters",21161,21152,false,{"$f":"VALUE(Table2[[#This Row],[Identifier]])","v":112435}]
["112437",false,"8432410000 - Manure spreaders and fertiliser distributors",21168,21152,false,{"$f":"VALUE(Table2[[#This Row],[Identifier]])","v":112437}]
["104237",true,"8432800000 - Other machinery",21171,21152,false,{"$f":"VALUE(Table2[[#This Row],[Identifier]])","v":104237}]
["104244",true,"8433190000 - Other",21182,21174,false,{"$f":"VALUE(Table2[[#This Row],[Identifier]])","v":104244}]
["104247",true,"8433195900 - Other",21188,21186,false,{"$f":"VALUE(Table2[[#This Row],[Identifier]])","v":104247}]
["104250",true,"8433200000 - Other mowers, including cutter bars for tractor mounting",21191,21173,false,{"$f":"VALUE(Table2[[#This Row],[Identifier]])","v":104250}]
["112446",false,"8433510000 - Other harvesting machinery; threshing machinery",21198,21173,false,{"$f":"VALUE(Table2[[#This Row],[Identifier]])","v":112446}]
["104262",true,"8433590000 - Other",21205,21198,false,{"$f":"VALUE(Table2[[#This Row],[Identifier]])","v":104262}]
["104267",true,"8433900000 - Parts",21211,21173,false,{"$f":"VALUE(Table2[[#This Row],[Identifier]])","v":104267}]
["104272",true,"8435900000 - Parts",21218,21216,false,{"$f":"VALUE(Table2[[#This Row],[Identifier]])","v":104272}]
["112451",false,"8436210000 - Poultry-keeping machinery; poultry incubators and brooders",21221,21219,false,{"$f":"VALUE(Table2[[#This Row],[Identifier]])","v":112451}]
["104279",true,"8436910000 - Of poultry-keeping machinery or poultry incubators and brooders",21228,21227,false,{"$f":"VALUE(Table2[[#This Row],[Identifier]])","v":104279}]
["104285",true,"8437900000 - Parts",21235,21232,false,{"$f":"VALUE(Table2[[#This Row],[Identifier]])","v":104285}]
["104290",true,"8438300000 - Machinery for sugar manufacture",21241,21236,false,{"$f":"VALUE(Table2[[#This Row],[Identifier]])","v":104290}]
["104296",true,"8438809100 - For the preparation or manufacture of drink",21248,21247,false,{"$f":"VALUE(Table2[[#This Row],[Identifier]])","v":104296}]
["112456",false,"8439000000 - Machinery for making pulp of fibrous cellulosic material or for making or finishing paper or paperboard",21251,20178,false,{"$f":"VALUE(Table2[[#This Row],[Identifier]])","v":112456}]
["104308",true,"8440100000 - Machinery",21261,21260,false,{"$f":"VALUE(Table2[[#This Row],[Identifier]])","v":104308}]
["112459",false,"8441000000 - Other machinery for making up paper pulp, paper or paperboard, including cutting machines of all kinds",21268,20178,false,{"$f":"VALUE(Table2[[#This Row],[Identifier]])","v":112459}]
["104317",true,"8441102000 - Other slitting and cross-cutting machines",21271,21269,false,{"$f":"VALUE(Table2[[#This Row],[Identifier]])","v":104317}]
["104324",true,"8441900000 - Parts",21278,21268,false,{"$f":"VALUE(Table2[[#This Row],[Identifier]])","v":104324}]
["104330",true,"8443110000 - Offset printing machinery, reel fed",21287,21286,false,{"$f":"VALUE(Table2[[#This Row],[Identifier]])","v":104330}]
["104333",true,"8443131000 - Used",21291,21290,false,{"$f":"VALUE(Table2[[#This Row],[Identifier]])","v":104333}]
["104339",true,"8443150000 - Letterpress printing machinery, other than reel fed, excluding flexographic printing",21298,21286,false,{"$f":"VALUE(Table2[[#This Row],[Identifier]])","v":104339}]
["104342",true,"8443190000 - Other",21301,21286,false,{"$f":"VALUE(Table2[[#This Row],[Identifier]])","v":104342}]
["104350",true,"8443390000 - Other",21310,21305,false,{"$f":"VALUE(Table2[[#This Row],[Identifier]])","v":104350}]
["112467",false,"8443919100 - Other",21314,21312,false,{"$f":"VALUE(Table2[[#This Row],[Identifier]])","v":112467}]
["104358",true,"8444001000 - Machines for extruding",21321,21320,false,{"$f":"VALUE(Table2[[#This Row],[Identifier]])","v":104358}]
["104363",true,"8445190000 - Other",21328,21324,false,{"$f":"VALUE(Table2[[#This Row],[Identifier]])","v":104363}]
["104370",true,"8446290000 - Other",21337,21335,false,{"$f":"VALUE(Table2[[#This Row],[Identifier]])","v":104370}]
["112474",false,"8447110000 - Circular knitting machines",21340,21339,false,{"$f":"VALUE(Table2[[#This Row],[Identifier]])","v":112474}]
["112476",false,"8448110000 - Auxiliary machinery for machines of heading|8444, 8445, 8446|or 8447",21348,21347,false,{"$f":"VALUE(Table2[[#This Row],[Identifier]])","v":112476}]
["104380",true,"8448200000 - Parts and accessories of machines of heading|8444|or of their auxiliary machinery",21351,21347,false,{"$f":"VALUE(Table2[[#This Row],[Identifier]])","v":104380}]
["104385",true,"8448420000 - Reeds for looms, healds and heald-frames",21358,21357,false,{"$f":"VALUE(Table2[[#This Row],[Identifier]])","v":104385}]
["112481",false,"8450110000 - Machines, each of a dry linen capacity not exceeding 10|kg",21367,21366,false,{"$f":"VALUE(Table2[[#This Row],[Identifier]])","v":112481}]
["104393",true,"8450111100 - Front-loading machines",21370,21369,false,{"$f":"VALUE(Table2[[#This Row],[Identifier]])","v":104393}]
["104400",true,"8451100000 - Dry-cleaning machines",21378,21377,false,{"$f":"VALUE(Table2[[#This Row],[Identifier]])","v":104400}]
["104408",true,"8451803000 - Machines for dressing or finishing",21387,21385,false,{"$f":"VALUE(Table2[[#This Row],[Identifier]])","v":104408}]
["112485",false,"8452000000 - Sewing machines, other than book-sewing machines of heading|8440; furniture, bases and covers specially designed for sewing machines; sewing machine needles",21390,20178,false,{"$f":"VALUE(Table2[[#This Row],[Identifier]])","v":112485}]
["104418",true,"8452900000 - Furniture, bases and covers for sewing machines and parts thereof; other parts of sewing machines",21400,21390,false,{"$f":"VALUE(Table2[[#This Row],[Identifier]])","v":104418}]
["112488",false,"8453000000 - Machinery for preparing, tanning or working hides, skins or leather or for making or repairing footwear or other articles of hides, skins or leather, other than sewing machines",21401,20178,false,{"$f":"VALUE(Table2[[#This Row],[Identifier]])","v":112488}]
["104424",true,"8454200000 - Ingot moulds and ladles",21408,21406,false,{"$f":"VALUE(Table2[[#This Row],[Identifier]])","v":104424}]
["104431",true,"8455220000 - Cold",21417,21415,false,{"$f":"VALUE(Table2[[#This Row],[Identifier]])","v":104431}]
["112492",false,"8455303100 - Of open-die forged steel",21420,21418,false,{"$f":"VALUE(Table2[[#This Row],[Identifier]])","v":112492}]
["104441",true,"8456120000 - Operated by other light or photon beam processes",21430,21426,false,{"$f":"VALUE(Table2[[#This Row],[Identifier]])","v":104441}]
["104447",true,"8456301900 - Other",21437,21435,false,{"$f":"VALUE(Table2[[#This Row],[Identifier]])","v":104447}]
["104448",true,"8456309000 - Other",21438,21434,false,{"$f":"VALUE(Table2[[#This Row],[Identifier]])","v":104448}]
["104456",true,"8457300000 - Multi-station transfer machines",21447,21442,false,{"$f":"VALUE(Table2[[#This Row],[Identifier]])","v":104456}]
["104462",true,"8458114900 - Multi-spindle",21456,21454,false,{"$f":"VALUE(Table2[[#This Row],[Identifier]])","v":104462}]
["104464",true,"8458190000 - Other",21458,21451,false,{"$f":"VALUE(Table2[[#This Row],[Identifier]])","v":104464}]
["104470",true,"8459210000 - Numerically controlled",21467,21466,false,{"$f":"VALUE(Table2[[#This Row],[Identifier]])","v":104470}]
["104472",true,"8459310000 - Numerically controlled",21470,21469,false,{"$f":"VALUE(Table2[[#This Row],[Identifier]])","v":104472}]
["104477",true,"8459590000 - Other",21477,21475,false,{"$f":"VALUE(Table2[[#This Row],[Identifier]])","v":104477}]
["112507",false,"8460000000 - Machine tools for deburring, sharpening, grinding, honing, lapping, polishing or otherwise finishing metal or cermets by means of grinding stones, abrasives or polishing products, other than gear cutting, gear grinding or gear finishing machines of heading|8461",21486,20178,false,{"$f":"VALUE(Table2[[#This Row],[Identifier]])","v":112507}]
["104485",true,"8460120000 - Numerically controlled",21488,21487,false,{"$f":"VALUE(Table2[[#This Row],[Identifier]])","v":104485}]
["112510",false,"8460310000 - Sharpening (tool or cutter grinding) machines",21497,21486,false,{"$f":"VALUE(Table2[[#This Row],[Identifier]])","v":112510}]
["104495",true,"8460400000 - Honing or lapping machines",21500,21486,false,{"$f":"VALUE(Table2[[#This Row],[Identifier]])","v":104495}]
["104503",true,"8461400000 - Gear-cutting, gear-grinding or gear-finishing machines",21509,21504,false,{"$f":"VALUE(Table2[[#This Row],[Identifier]])","v":104503}]
["112515",false,"8461407100 - Gear-finishing machines",21517,21509,false,{"$f":"VALUE(Table2[[#This Row],[Identifier]])","v":112515}]
["104509",true,"8461407900 - Other",21520,21518,false,{"$f":"VALUE(Table2[[#This Row],[Identifier]])","v":104509}]
["104515",true,"8461900000 - Other",21527,21504,false,{"$f":"VALUE(Table2[[#This Row],[Identifier]])","v":104515}]
["134751",true,"8462199000 - Other",21535,21533,false,{"$f":"VALUE(Table2[[#This Row],[Identifier]])","v":134751}]
["134754",true,"8462221000 - Numerically controlled",21538,21537,false,{"$f":"VALUE(Table2[[#This Row],[Identifier]])","v":134754}]
["134762",true,"8462321000 - Numerically controlled",21547,21546,false,{"$f":"VALUE(Table2[[#This Row],[Identifier]])","v":134762}]
["104527",true,"8462390000 - Other",21550,21545,false,{"$f":"VALUE(Table2[[#This Row],[Identifier]])","v":104527}]
["134770",false,"8462610000 - Cold metal working presses",21557,21528,false,{"$f":"VALUE(Table2[[#This Row],[Identifier]])","v":134770}]
["134778",true,"8462631000 - Numerically controlled",21565,21564,false,{"$f":"VALUE(Table2[[#This Row],[Identifier]])","v":134778}]
["104543",true,"8463100000 - Drawbenches for bars, tubes, profiles, wire or the like",21574,21573,false,{"$f":"VALUE(Table2[[#This Row],[Identifier]])","v":104543}]
["104546",true,"8463200000 - Thread-rolling machines",21577,21573,false,{"$f":"VALUE(Table2[[#This Row],[Identifier]])","v":104546}]
["104553",true,"8464208000 - Other",21586,21582,false,{"$f":"VALUE(Table2[[#This Row],[Identifier]])","v":104553}]
["112528",false,"8465000000 - Machine tools (including machines for nailing, stapling, glueing or otherwise assembling) for working wood, cork, bone, hard rubber, hard plastics or similar hard materials",21588,20178,false,{"$f":"VALUE(Table2[[#This Row],[Identifier]])","v":112528}]
["104562",true,"8465919000 - Other",21597,21594,false,{"$f":"VALUE(Table2[[#This Row],[Identifier]])","v":104562}]
["104565",true,"8465940000 - Bending or assembling machines",21600,21593,false,{"$f":"VALUE(Table2[[#This Row],[Identifier]])","v":104565}]
["104570",true,"8466102000 - Arbors, collets and sleeves",21607,21606,false,{"$f":"VALUE(Table2[[#This Row],[Identifier]])","v":104570}]
["104577",true,"8466209800 - Other",21616,21614,false,{"$f":"VALUE(Table2[[#This Row],[Identifier]])","v":104577}]
["112534",false,"8466910000 - Other",21618,21604,false,{"$f":"VALUE(Table2[[#This Row],[Identifier]])","v":112534}]
["112535",false,"8466935000 - Other",21627,21625,false,{"$f":"VALUE(Table2[[#This Row],[Identifier]])","v":112535}]
["104593",true,"8467190000 - Other",21636,21632,false,{"$f":"VALUE(Table2[[#This Row],[Identifier]])","v":104593}]
["112538",false,"8467210000 - With self-contained electric motor",21637,21631,false,{"$f":"VALUE(Table2[[#This Row],[Identifier]])","v":112538}]
["104599",true,"8467221000 - Chainsaws",21644,21643,false,{"$f":"VALUE(Table2[[#This Row],[Identifier]])","v":104599}]
["112541",false,"8467295100 - Grinders and sanders",21650,21649,false,{"$f":"VALUE(Table2[[#This Row],[Identifier]])","v":112541}]
["112542",false,"8467810000 - Other tools",21657,21631,false,{"$f":"VALUE(Table2[[#This Row],[Identifier]])","v":112542}]
["104618",true,"8468200000 - Other gas-operated machinery and apparatus",21666,21664,false,{"$f":"VALUE(Table2[[#This Row],[Identifier]])","v":104618}]
["104626",true,"8470300000 - Other calculating machines",21674,21669,false,{"$f":"VALUE(Table2[[#This Row],[Identifier]])","v":104626}]
["112547",false,"8471000000 - Automatic data-processing machines and units thereof; magnetic or optical readers, machines for transcribing data onto data media in coded form and machines for processing such data, not elsewhere specified or included",21677,20178,false,{"$f":"VALUE(Table2[[#This Row],[Identifier]])","v":112547}]
["104636",true,"8471700000 - Storage units",21686,21677,false,{"$f":"VALUE(Table2[[#This Row],[Identifier]])","v":104636}]
["104637",true,"8471702000 - Central storage units",21687,21686,false,{"$f":"VALUE(Table2[[#This Row],[Identifier]])","v":104637}]
["104643",true,"8471800000 - Other units of automatic data-processing machines",21696,21677,false,{"$f":"VALUE(Table2[[#This Row],[Identifier]])","v":104643}]
["112553",false,"8473000000 - Parts and accessories (other than covers, carrying cases and the like) suitable for use solely or principally with machines of headings|8470|to 8472",21704,20178,false,{"$f":"VALUE(Table2[[#This Row],[Identifier]])","v":112553}]
["104653",true,"8473211000 - Electronic assemblies",21707,21706,false,{"$f":"VALUE(Table2[[#This Row],[Identifier]])","v":104653}]
["104662",true,"8473401000 - Electronic assemblies",21716,21715,false,{"$f":"VALUE(Table2[[#This Row],[Identifier]])","v":104662}]
["104668",true,"8474200000 - Crushing or grinding machines",21723,21721,false,{"$f":"VALUE(Table2[[#This Row],[Identifier]])","v":104668}]
["104674",true,"8474809000 - Other",21730,21728,false,{"$f":"VALUE(Table2[[#This Row],[Identifier]])","v":104674}]
["112558",false,"8475210000 - Machines for manufacturing or hot working glass or glassware",21736,21734,false,{"$f":"VALUE(Table2[[#This Row],[Identifier]])","v":112558}]
["104679",true,"8475210000 - Machines for making optical fibres and preforms thereof",21737,21736,false,{"$f":"VALUE(Table2[[#This Row],[Identifier]])","v":104679}]
["112561",false,"8476810000 - Other machines",21746,21742,false,{"$f":"VALUE(Table2[[#This Row],[Identifier]])","v":112561}]
["104694",true,"8476909000 - Other",21753,21751,false,{"$f":"VALUE(Table2[[#This Row],[Identifier]])","v":104694}]
["104701",true,"8477510000 - For moulding or retreading pneumatic tyres or for moulding or otherwise forming inner tubes",21760,21759,false,{"$f":"VALUE(Table2[[#This Row],[Identifier]])","v":104701}]
["104706",true,"8477801100 - Machines for processing reactive resins",21766,21765,false,{"$f":"VALUE(Table2[[#This Row],[Identifier]])","v":104706}]
["104712",true,"8477809910 - Machines for casting or for surface modification of plastic membranes of heading|3921",21773,21772,false,{"$f":"VALUE(Table2[[#This Row],[Identifier]])","v":104712}]
["104715",true,"8477901000 - Of cast iron or cast steel",21776,21775,false,{"$f":"VALUE(Table2[[#This Row],[Identifier]])","v":104715}]
["104720",true,"8479200000 - Machinery for the extraction or preparation of animal or fixed vegetable or microbial fats or oils",21783,21781,false,{"$f":"VALUE(Table2[[#This Row],[Identifier]])","v":104720}]
["104724",true,"8479400000 - Rope- or cable-making machines",21787,21781,false,{"$f":"VALUE(Table2[[#This Row],[Identifier]])","v":104724}]
["134786",true,"8479830000 - Cold isostatic presses",21796,21793,false,{"$f":"VALUE(Table2[[#This Row],[Identifier]])","v":134786}]
["131429",true,"8479899728 - Integrated electric brake unit for immediate generation of the hydraulic pressure during braking, full electronic brake control and enabling regenerative braking of motor vehicles with:\n \n-electronic brake assistants,\n \n-hydraulic unit driven by brushless electric motor,\n \n-brake fluid reservoir,\nfor use in the manufacture of plug-in hybrid passenger cars",21803,21801,false,{"$f":"VALUE(Table2[[#This Row],[Identifier]])","v":131429}]
["131430",true,"8479899755 - Integrated automated turnkey machinery line for manufacturing jelly rolls of cylindrical lithium ion battery cells by winding, tab assembly and cutting of cathode, separator and anode",21806,21801,false,{"$f":"VALUE(Table2[[#This Row],[Identifier]])","v":131430}]
["104746",true,"8479902090 - Other",21816,21814,false,{"$f":"VALUE(Table2[[#This Row],[Identifier]])","v":104746}]
["104750",true,"8479907085 - Injectors with solenoid valve for optimised atomisation in the engine combustion chamber",21823,21819,false,{"$f":"VALUE(Table2[[#This Row],[Identifier]])","v":104750}]
["104753",true,"8480100000 - Moulding boxes for metal foundry",21826,21825,false,{"$f":"VALUE(Table2[[#This Row],[Identifier]])","v":104753}]
["104759",true,"8480490000 - Other",21833,21831,false,{"$f":"VALUE(Table2[[#This Row],[Identifier]])","v":104759}]
["112575",false,"8481000000 - Taps, cocks, valves and similar appliances for pipes, boiler shells, tanks, vats or the like, including pressure-reducing valves and thermostatically controlled valves",21839,20178,false,{"$f":"VALUE(Table2[[#This Row],[Identifier]])","v":112575}]
["104769",true,"8481101910 - For use in certain types of aircraft",21846,21845,false,{"$f":"VALUE(Table2[[#This Row],[Identifier]])","v":104769}]
["104775",true,"8481109990 - Other",21853,21849,false,{"$f":"VALUE(Table2[[#This Row],[Identifier]])","v":104775}]
["104778",true,"8481201020 - For use in certain types of aircraft",21856,21855,false,{"$f":"VALUE(Table2[[#This Row],[Identifier]])","v":104778}]
["131435",true,"8481309130 - Mechanical check (non-return) valve for opening and closing of the flow of fuel:\n \n-with an operating pressure of not more than 250 MPa,\n \n-with a flow rate of 45 cm³/minute or more, but not more than 55 cm³/minute,\n \n-with 4 input holes, each of them with a diameter of 1,2 mm or more, but not more than 1,6 mm,\n \n-made of steel",21865,21864,false,{"$f":"VALUE(Table2[[#This Row],[Identifier]])","v":131435}]
["104791",true,"8481400000 - Safety or relief valves",21873,21839,false,{"$f":"VALUE(Table2[[#This Row],[Identifier]])","v":104791}]
["104794",true,"8481401090 - Other",21876,21874,false,{"$f":"VALUE(Table2[[#This Row],[Identifier]])","v":104794}]
["104800",true,"8481801110 - For use in certain types of aircraft",21883,21882,false,{"$f":"VALUE(Table2[[#This Row],[Identifier]])","v":104800}]
["104803",true,"8481801910 - For use in certain types of aircraft",21886,21885,false,{"$f":"VALUE(Table2[[#This Row],[Identifier]])","v":104803}]
["112581",false,"8481805100 - Process control valves",21895,21894,false,{"$f":"VALUE(Table2[[#This Row],[Identifier]])","v":112581}]
["104817",true,"8481805960 - Electromagnetic valve for quantity control\n-\twith a solenoid with a coil resistance of at least 0,19 Ohm, but not more than 0,66 Ohm, and with an inductance of not more than 1 mH",21903,21897,false,{"$f":"VALUE(Table2[[#This Row],[Identifier]])","v":104817}]
["112582",false,"8481806100 - Other",21906,21894,false,{"$f":"VALUE(Table2[[#This Row],[Identifier]])","v":112582}]
["104824",true,"8481806950 - For use in certain types of aircraft",21913,21912,false,{"$f":"VALUE(Table2[[#This Row],[Identifier]])","v":104824}]
["104827",true,"8481807100 - Of cast iron",21918,21917,false,{"$f":"VALUE(Table2[[#This Row],[Identifier]])","v":104827}]
["104835",true,"8481807990 - Other",21926,21923,false,{"$f":"VALUE(Table2[[#This Row],[Identifier]])","v":104835}]
["104843",true,"8481808700 - Diaphragm valves",21933,21906,false,{"$f":"VALUE(Table2[[#This Row],[Identifier]])","v":104843}]
["104846",true,"8481809900 - Other",21936,21906,false,{"$f":"VALUE(Table2[[#This Row],[Identifier]])","v":104846}]
["131438",true,"8481900060 - Nozzle body for the regulation of angle and distribution of fuel injection:\n \n-of a cylindrical shape,\n \n-made of stainless steel,\n \n-with 4 or more, but not more than 16 holes,\n \n-with a flow rate of 100 cm³/minute or more, but not more than 500 cm³/minute",21945,21941,false,{"$f":"VALUE(Table2[[#This Row],[Identifier]])","v":131438}]
["104855",true,"8481900090 - Other",21948,21941,false,{"$f":"VALUE(Table2[[#This Row],[Identifier]])","v":104855}]
["104860",true,"8482109000 - Other",21956,21950,false,{"$f":"VALUE(Table2[[#This Row],[Identifier]])","v":104860}]
["104866",true,"8482500000 - Other cylindrical roller bearings, including cage and roller assemblies",21963,21949,false,{"$f":"VALUE(Table2[[#This Row],[Identifier]])","v":104866}]
["104873",true,"8482911000 - Tapered rollers",21972,21971,false,{"$f":"VALUE(Table2[[#This Row],[Identifier]])","v":104873}]
["131442",true,"8482919010 - Rollers with a logarithmic profile and a diameter of 25 mm or more but not more than 70 mm or balls with a diameter of 30 mm but not more than 100 mm,\n- made of 100Cr6 steel or 100CrMnSi6-4 steel (ISO 3290),\n- with a deviation of 0,5 mm or less as determined with the FBHmethod\nfor use in wind turbine industry",21974,21973,false,{"$f":"VALUE(Table2[[#This Row],[Identifier]])","v":131442}]
["104879",true,"8483102100 - Of cast iron or cast steel",21983,21982,false,{"$f":"VALUE(Table2[[#This Row],[Identifier]])","v":104879}]
["104882",true,"8483102500 - Of open-die forged steel",21986,21982,false,{"$f":"VALUE(Table2[[#This Row],[Identifier]])","v":104882}]
["104889",true,"8483105010 - For use in civil aircraft",21993,21992,false,{"$f":"VALUE(Table2[[#This Row],[Identifier]])","v":104889}]
["104899",true,"8483303290 - Other",22004,22001,false,{"$f":"VALUE(Table2[[#This Row],[Identifier]])","v":104899}]
["104901",true,"8483303810 - For use in civil aircraft",22006,22005,false,{"$f":"VALUE(Table2[[#This Row],[Identifier]])","v":104901}]
["104908",true,"8483400000 - Gears and gearing, other than toothed wheels, chain sprockets and other transmission elements presented separately; ball or roller screws; gear boxes and other speed changers, including torque converters",22013,21980,false,{"$f":"VALUE(Table2[[#This Row],[Identifier]])","v":104908}]
["104916",true,"8483402510 - For use in civil aircraft",22022,22021,false,{"$f":"VALUE(Table2[[#This Row],[Identifier]])","v":104916}]
["104918",true,"8483402900 - Other",22025,22014,false,{"$f":"VALUE(Table2[[#This Row],[Identifier]])","v":104918}]
["112594",false,"8483405100 - Gear boxes and other speed changers",22034,22013,false,{"$f":"VALUE(Table2[[#This Row],[Identifier]])","v":112594}]
["104927",true,"8483405110 - For use in civil aircraft",22036,22035,false,{"$f":"VALUE(Table2[[#This Row],[Identifier]])","v":104927}]
["104934",true,"8483409000 - Other",22043,22013,false,{"$f":"VALUE(Table2[[#This Row],[Identifier]])","v":104934}]
["104945",true,"8483508010 - For use in civil aircraft",22052,22051,false,{"$f":"VALUE(Table2[[#This Row],[Identifier]])","v":104945}]
["104952",true,"8483608010 - For use in civil aircraft",22060,22059,false,{"$f":"VALUE(Table2[[#This Row],[Identifier]])","v":104952}]
["104955",true,"8483902000 - Parts of bearing housings",22063,22062,false,{"$f":"VALUE(Table2[[#This Row],[Identifier]])","v":104955}]
["134791",true,"8483908920 - Sprocket for continuous variable valve timing to optimize the process of filling the cylinders of an internal combustion engine with:\n \n-case,\n \n-rotor,\n \n-at least 4 screws,\n \n-spring,\n \n-of an external diameter of 80 mm or more but not exceeding 95 mm,\n \n-of a thickness of 25 mm or more but not more than 35 mm,\nfor use in the manufacture of engines of motor vehicles",22072,22070,false,{"$f":"VALUE(Table2[[#This Row],[Identifier]])","v":134791}]
["104964",true,"8484100000 - Gaskets and similar joints of metal sheeting combined with other material or of two or more layers of metal",22075,22074,false,{"$f":"VALUE(Table2[[#This Row],[Identifier]])","v":104964}]
["104971",true,"8484900000 - Other",22082,22074,false,{"$f":"VALUE(Table2[[#This Row],[Identifier]])","v":104971}]
["134797",true,"8485309000 - Other",22090,22088,false,{"$f":"VALUE(Table2[[#This Row],[Identifier]])","v":134797}]
["134800",true,"8485809000 - Other",22093,22091,false,{"$f":"VALUE(Table2[[#This Row],[Identifier]])","v":134800}]
["104976",true,"8486300000 - Machines and apparatus for the manufacture of flat panel displays",22102,22099,false,{"$f":"VALUE(Table2[[#This Row],[Identifier]])","v":104976}]
["112599",false,"8487000000 - Machinery parts, not containing electrical connectors, insulators, coils, contacts or other electrical features, not specified or included elsewhere in this chapter",22105,20178,false,{"$f":"VALUE(Table2[[#This Row],[Identifier]])","v":112599}]
["112600",false,"8487905100 - Of iron or steel",22113,22109,false,{"$f":"VALUE(Table2[[#This Row],[Identifier]])","v":112600}]
["104994",true,"8487905990 - Other",22122,22120,false,{"$f":"VALUE(Table2[[#This Row],[Identifier]])","v":104994}]
["104995",true,"8487909000 - Other",22123,22109,false,{"$f":"VALUE(Table2[[#This Row],[Identifier]])","v":104995}]
["105002",true,"8501101030 - Motors for air pumps, with:\n\n-operating voltage of 9 VDC or more but not more than 24 VDC,\n\n-operating temperature range of -40°C or more but not more than 80°C,\n\n-an output not exceeding 18 W \nfor use in the manufacture of pneumatic support and ventilation systems for car seats",22132,22129,false,{"$f":"VALUE(Table2[[#This Row],[Identifier]])","v":105002}]
["134807",true,"8501101060 - Rotary actuator for automotive electric seat adjustment applications:\n \n-consisting of a permanently excited DC motor with an integrated gear mechanism,\n \n-whether brushed or brushless,\n \n-whether or not with electronic control unit,\n \n-whether or not with Hall Effect Sensor,\n \n-with a nominal voltage of 8 V or more but not more than 16 V,\n \n-with a rated output mechanical power not exceeding 35 W, and\n \n-with a specified temperature range from -40 °C to 160 °C,\nfor use in the manufacture of automotive components for car's seats",22135,22129,false,{"$f":"VALUE(Table2[[#This Row],[Identifier]])","v":134807}]
["105009",true,"8501109390 - Other",22143,22141,false,{"$f":"VALUE(Table2[[#This Row],[Identifier]])","v":105009}]
["105014",true,"8501109958 - DC Motor :\n \n-|with a speed rotation of not more than|6500|rpm (without load),\n \n-|with a nominal| voltage of 12|V (± 4|V),\n \n-|with a maximal power below than 20|W,\n \n-|with a specified temperature range from -40°C to 160°C,\n \n-|with a worm gear drive,\n \n-|with a mechanical attachment interface,\n \n-|with 2|electrical connections,\n \n-|with a maximum torque of 75|Nm",22152,22146,false,{"$f":"VALUE(Table2[[#This Row],[Identifier]])","v":105014}]
["105016",true,"8501109965 - Electric turbocharger actuator, with:\n \n-|a DC motor,\n \n-|an integrated gear mechanism,\n \n-|a (pulling)force of 200|N or more at a minimum of 140°C elevated ambient temperature,\n \n-|a (pulling) force of 250|N or more in each position of its stroke,\n \n-|an effective stroke of 15|mm or more but not more than 25|mm,\n \n-|with or without an on-board diagnostics interface",22155,22146,false,{"$f":"VALUE(Table2[[#This Row],[Identifier]])","v":105016}]
["105024",true,"8501200010 - Of an output exceeding|735|W but not exceeding|150|kW, for use in civil aircraft",22162,22161,false,{"$f":"VALUE(Table2[[#This Row],[Identifier]])","v":105024}]
["112605",false,"8501310000 - Other DC motors; DC generators, other than photovoltaic generators",22169,22127,false,{"$f":"VALUE(Table2[[#This Row],[Identifier]])","v":112605}]
["134817",false,"8501310045 - Other",22173,22170,false,{"$f":"VALUE(Table2[[#This Row],[Identifier]])","v":134817}]
["105038",true,"8501310099 - Other",22182,22173,false,{"$f":"VALUE(Table2[[#This Row],[Identifier]])","v":105038}]
["112607",false,"8501320040 - Other",22185,22183,false,{"$f":"VALUE(Table2[[#This Row],[Identifier]])","v":112607}]
["105048",true,"8501330030 - Electric drive for motor vehicles, with an output of not more than 315 kW:\n-\twith an AC or DC motor with or without transmission,\n-\twith or without power electronics",22192,22189,false,{"$f":"VALUE(Table2[[#This Row],[Identifier]])","v":105048}]
["134825",true,"8501402045 - Electric AC motor, single-phase, with:\n \n-a rated power of 275 W or more, but not more than 325 W, \n \n-an input power of 600 W or more but not more than 700 W,\n \n-an external diameter without bracket and connector of 150 mm or more but not more than 170 mm,\n \n-a rated speed of 15 000 rpm or more but not more than 20 000 rpm,\n \n-a weight of 4,2 kg or more,\n \n-a pulley and a tachometer,\nfor use in the manufacture of home appliance products",22202,22198,false,{"$f":"VALUE(Table2[[#This Row],[Identifier]])","v":134825}]
["134828",true,"8501402060 - Electric AC motor, single-phase, with:\n \n-a rated power of 275 W or more but not more than 325 W,  \n \n-an output power of 550 W or more but not more than 600 W,\n \n-an input power of 800 W or more but not more than 1 000 W,\n \n-an external diameter of more than 150 mm but not more than 170 mm without the bracket,\n \n-a rated speed of more than 16 000 rpm but not more than 18 000 rpm,\n \n-a weight of 3,4 kg or more but not more than 3,7 kg,\n \n-a pulley,\nfor use in the manufacture of home appliance products",22205,22198,false,{"$f":"VALUE(Table2[[#This Row],[Identifier]])","v":134828}]
["134830",true,"8501408060 - Electric AC motor, single-phase, whether or not with commutator\n- with a nominal output of 180 W or more,\n- with an input power of 150 W or more but not more than 2 700 W,\n- with an external diameter of more than 120 mm (± 0,2 mm) but not more than 135 mm (± 0,2 mm),\n- with a rated speed of more than 10 000 rpm but not more than 50 000 rpm,\n- whether or not equipped with air-inducting ventilator,\n- whether or not with mechanical device (pinion, screws, gear connection etc.) on the shaft,\nfor use in the manufacture of domestic appliances",22212,22208,false,{"$f":"VALUE(Table2[[#This Row],[Identifier]])","v":134830}]
["105069",true,"8501510090 - Other",22221,22215,false,{"$f":"VALUE(Table2[[#This Row],[Identifier]])","v":105069}]
["105070",true,"8501520000 - Of an output exceeding 750|W but not exceeding 75|kW",22222,22214,false,{"$f":"VALUE(Table2[[#This Row],[Identifier]])","v":105070}]
["105079",true,"8501529010 - For use in civil aircraft",22232,22231,false,{"$f":"VALUE(Table2[[#This Row],[Identifier]])","v":105079}]
["105082",true,"8501535000 - Traction motors",22235,22234,false,{"$f":"VALUE(Table2[[#This Row],[Identifier]])","v":105082}]
["105085",true,"8501538100 - Exceeding 75|kW but not exceeding 375|kW",22242,22241,false,{"$f":"VALUE(Table2[[#This Row],[Identifier]])","v":105085}]
["105091",true,"8501539490 - Other",22248,22246,false,{"$f":"VALUE(Table2[[#This Row],[Identifier]])","v":105091}]
["105102",true,"8501618099 - Other",22259,22257,false,{"$f":"VALUE(Table2[[#This Row],[Identifier]])","v":105102}]
["131449",true,"8501620040 - AC, 3-phase generator, with:\n \n-a continuous power of 147 kVA or more but not more than 222 kVA,\n \n-a continuous torque of 650 Nm or more but not more than 900 Nm,\n \n-a maximum working speed of 2700 revolutions per minute (rpm),\n \n-a liquid cooled system,\n \n-a length of 100 mm or more but not more than 200 mm,\n \n-a width of 550 mm or more but not more than 650 mm,\n \n-a height of 550 mm or more but not more than 650 mm,\n \n-weighing of not more than 150 kg",22262,22260,false,{"$f":"VALUE(Table2[[#This Row],[Identifier]])","v":131449}]
["134838",true,"8501800000 - Photovoltaic AC generators",22271,22127,false,{"$f":"VALUE(Table2[[#This Row],[Identifier]])","v":134838}]
["112614",false,"8502000000 - Electric generating sets and rotary converters",22272,22126,false,{"$f":"VALUE(Table2[[#This Row],[Identifier]])","v":112614}]
["105115",true,"8502118000 - Of an output exceeding 7,5|kVA but not exceeding 75|kVA",22278,22274,false,{"$f":"VALUE(Table2[[#This Row],[Identifier]])","v":105115}]
["105122",true,"8502132000 - Of an output exceeding 375|kVA but not exceeding 750|kVA",22285,22284,false,{"$f":"VALUE(Table2[[#This Row],[Identifier]])","v":105122}]
["105129",true,"8502138010 - For use in civil aircraft",22292,22291,false,{"$f":"VALUE(Table2[[#This Row],[Identifier]])","v":105129}]
["105138",true,"8502206000 - Of an output exceeding 375|kVA but not exceeding 750|kVA",22301,22294,false,{"$f":"VALUE(Table2[[#This Row],[Identifier]])","v":105138}]
["105144",true,"8502310000 - Wind-powered",22308,22307,false,{"$f":"VALUE(Table2[[#This Row],[Identifier]])","v":105144}]
["131453",false,"8502310085 - Other",22312,22308,false,{"$f":"VALUE(Table2[[#This Row],[Identifier]])","v":131453}]
["105153",true,"8502398090 - Other",22321,22319,false,{"$f":"VALUE(Table2[[#This Row],[Identifier]])","v":105153}]
["105154",true,"8502400000 - Electric rotary converters",22322,22272,false,{"$f":"VALUE(Table2[[#This Row],[Identifier]])","v":105154}]
["105163",true,"8503009199 - Other",22334,22332,false,{"$f":"VALUE(Table2[[#This Row],[Identifier]])","v":105163}]
["105167",true,"8503009932 - Rotor, at the inner side provided with one or two magnetic rings (uniform or sectional) whether or not incorporated in a steel ring or bearing mounted in steel housing",22339,22337,false,{"$f":"VALUE(Table2[[#This Row],[Identifier]])","v":105167}]
["105171",true,"8503009937 - Rotor for an electric motor, with the rotor cylindrical body made of agglomerated ferrite and plastics and the shaft made of metal with:\n \n-|diameter of the rotor body of 17|mm or more but not more than 37|mm,\n \n-|length of the rotor body of 12|mm or more but not more than 36|mm,\n \n-|shaft length of 52|mm or more but not more than 82|mm",22342,22337,false,{"$f":"VALUE(Table2[[#This Row],[Identifier]])","v":105171}]
["105177",true,"8504100000 - Ballasts for discharge lamps or tubes",22351,22350,false,{"$f":"VALUE(Table2[[#This Row],[Identifier]])","v":105177}]
["112622",false,"8504210000 - Liquid dielectric transformers",22358,22350,false,{"$f":"VALUE(Table2[[#This Row],[Identifier]])","v":112622}]
["112623",false,"8504310000 - Other transformers",22364,22350,false,{"$f":"VALUE(Table2[[#This Row],[Identifier]])","v":112623}]
["105194",true,"8504312910 - For use in civil aircraft",22371,22370,false,{"$f":"VALUE(Table2[[#This Row],[Identifier]])","v":105194}]
["105195",true,"8504312990 - Other",22372,22370,false,{"$f":"VALUE(Table2[[#This Row],[Identifier]])","v":105195}]
["119157",true,"8504318055 - Electrical transformer with:\n-\ta capacity of 0,22 kVA or more, but not more than 0,24 kVA,\n-\tan operating temperature range of + 10°C or more, but not more than + 125°C,\n-\tfour or five inductively coupled copper wire windings,\n-\t11 or 12 connection pins at the bottom, and\n-\tdimensions of not more than 32 mm x 37,8 mm x 25,8 mm",22381,22373,false,{"$f":"VALUE(Table2[[#This Row],[Identifier]])","v":119157}]
["105210",true,"8504330010 - For use in civil aircraft",22387,22386,false,{"$f":"VALUE(Table2[[#This Row],[Identifier]])","v":105210}]
["134840",true,"8504406010 - For use in civil aircraft",22392,22391,false,{"$f":"VALUE(Table2[[#This Row],[Identifier]])","v":134840}]
["134849",true,"8504408590 - Other",22401,22399,false,{"$f":"VALUE(Table2[[#This Row],[Identifier]])","v":134849}]
["105230",true,"8504500000 - Other inductors",22408,22350,false,{"$f":"VALUE(Table2[[#This Row],[Identifier]])","v":105230}]
["105236",true,"8504900000 - Parts",22411,22350,false,{"$f":"VALUE(Table2[[#This Row],[Identifier]])","v":105236}]
["134856",true,"8505111000 - Containing neodymium, praseodymium, dysprosium or samarium",22420,22419,false,{"$f":"VALUE(Table2[[#This Row],[Identifier]])","v":134856}]
["134858",false,"8505111047 - Other",22422,22420,false,{"$f":"VALUE(Table2[[#This Row],[Identifier]])","v":134858}]
["134867",true,"8505111075 - A quarter sleeve intended to become permanent magnet after magnetization,\n \n-|consisting of at least neodymium, iron and boron,\n \n-|with a width of 9,1|mm or more but not more than| 10,5|mm,\n \n-|with a length of 20|mm or more but not more than 30,1|mm,\nof a kind used on rotors for the manufacture of fuel pumps",22431,22422,false,{"$f":"VALUE(Table2[[#This Row],[Identifier]])","v":134867}]
["134874",true,"8505119099 - Other",22438,22435,false,{"$f":"VALUE(Table2[[#This Row],[Identifier]])","v":134874}]
["105260",true,"8505191090 - Other",22443,22440,false,{"$f":"VALUE(Table2[[#This Row],[Identifier]])","v":105260}]
["105267",true,"8505199089 - Other",22451,22446,false,{"$f":"VALUE(Table2[[#This Row],[Identifier]])","v":105267}]
["105273",true,"8505902100 - Electromagnets of a kind used solely or principally for magnetic resonance imaging apparatus other than electromagnets of heading 9018",22458,22457,false,{"$f":"VALUE(Table2[[#This Row],[Identifier]])","v":105273}]
["105277",true,"8505902999 - Other",22461,22459,false,{"$f":"VALUE(Table2[[#This Row],[Identifier]])","v":105277}]
["105282",true,"8505909010 - For use in certain types of aircraft",22466,22465,false,{"$f":"VALUE(Table2[[#This Row],[Identifier]])","v":105282}]
["105285",true,"8506101100 - Cylindrical cells",22472,22471,false,{"$f":"VALUE(Table2[[#This Row],[Identifier]])","v":105285}]
["105293",true,"8506501010 - Lithium cylindrical primary cells with:\n \n-|a diameter of 14,0|mm or more but not more than 26,0|mm;\n \n-|a length of 2,2|mm or more but not more than 51|mm;\n \n-|a voltage of 1,5|V or more, but not more than 3,6|V;\n \n-|a capacity of 0,15|Ah or more, but not more than 5,00|Ah\nfor use in the manufacture of |telemetry and medical devices, electronic meters or remote controls",22481,22480,false,{"$f":"VALUE(Table2[[#This Row],[Identifier]])","v":105293}]
["105302",true,"8506600000 - Air-zinc",22488,22469,false,{"$f":"VALUE(Table2[[#This Row],[Identifier]])","v":105302}]
["105305",true,"8506808000 - Other",22491,22489,false,{"$f":"VALUE(Table2[[#This Row],[Identifier]])","v":105305}]
["105312",true,"8507102090 - Other",22499,22497,false,{"$f":"VALUE(Table2[[#This Row],[Identifier]])","v":105312}]
["105321",true,"8507208010 - For use in civil aircraft",22508,22507,false,{"$f":"VALUE(Table2[[#This Row],[Identifier]])","v":105321}]
["105324",true,"8507302000 - Hermetically sealed",22511,22510,false,{"$f":"VALUE(Table2[[#This Row],[Identifier]])","v":105324}]
["105334",true,"8507500010 - For use in civil aircraft",22518,22517,false,{"$f":"VALUE(Table2[[#This Row],[Identifier]])","v":105334}]
["105339",true,"8507600015 - Cylindrical lithium-ion-accumulators or modules with:\n \n-|a nominal capacity of 8,8|Ah or more, but not more than 18|Ah,\n \n-|a nominal voltage of 36|V or more, but not more than 48|V,\n \n-|a power of 300|Wh or more, but not more than 648|Wh,\nfor use in the manufacture of electric bicycles",22522,22520,false,{"$f":"VALUE(Table2[[#This Row],[Identifier]])","v":105339}]
["105347",true,"8507600065 - Cylindrical lithium ion cell with\n-\ta nominal diameter of 9,8 mm or more, but not more than 14,5 mm,\n-\ta nominal voltage of 3,0 VDC or more, but not more than 4,0 VDC, and\n-\ta nominal capacity of 200 mAh or more, but not more than 1200 mAh",22531,22520,false,{"$f":"VALUE(Table2[[#This Row],[Identifier]])","v":105347}]
["105352",true,"8507800000 - Other accumulators",22538,22495,false,{"$f":"VALUE(Table2[[#This Row],[Identifier]])","v":105352}]
["105355",true,"8507900000 - Parts",22541,22495,false,{"$f":"VALUE(Table2[[#This Row],[Identifier]])","v":105355}]
["112642",false,"8508110000 - With self-contained electric motor",22550,22549,false,{"$f":"VALUE(Table2[[#This Row],[Identifier]])","v":112642}]
["105367",true,"8508190000 - Other",22552,22550,false,{"$f":"VALUE(Table2[[#This Row],[Identifier]])","v":105367}]
["112644",false,"8510000000 - Shavers, hair clippers and hair-removing appliances, with self-contained electric motor",22561,22126,false,{"$f":"VALUE(Table2[[#This Row],[Identifier]])","v":112644}]
["105381",true,"8511100010 - For use in civil aircraft",22568,22567,false,{"$f":"VALUE(Table2[[#This Row],[Identifier]])","v":105381}]
["105384",true,"8511200010 - For use in civil aircraft",22571,22570,false,{"$f":"VALUE(Table2[[#This Row],[Identifier]])","v":105384}]
["105391",true,"8511400000 - Starter motors and dual purpose starter-generators",22578,22566,false,{"$f":"VALUE(Table2[[#This Row],[Identifier]])","v":105391}]
["105402",true,"8511900010 - For use in certain types of aircraft",22588,22587,false,{"$f":"VALUE(Table2[[#This Row],[Identifier]])","v":105402}]
["105404",true,"8512100000 - Lighting or visual signalling equipment of a kind used on bicycles",22591,22590,false,{"$f":"VALUE(Table2[[#This Row],[Identifier]])","v":105404}]
["105409",true,"8512200090 - Other",22598,22592,false,{"$f":"VALUE(Table2[[#This Row],[Identifier]])","v":105409}]
["105418",true,"8512400010 - Car door mirror heating foil:\n \n-|with two electrical contacts,\n \n-|with an adhesive layer on both sides (on the side of the plastic holder of the mirror and on the|side of the mirror glass),\n \n-|with a protective paper film on both sides",22607,22606,false,{"$f":"VALUE(Table2[[#This Row],[Identifier]])","v":105418}]
["105419",true,"8512400090 - Other",22608,22606,false,{"$f":"VALUE(Table2[[#This Row],[Identifier]])","v":105419}]
["134886",true,"8514190000 - Other",22618,22616,false,{"$f":"VALUE(Table2[[#This Row],[Identifier]])","v":134886}]
["105430",true,"8514200000 - Furnaces and ovens functioning by induction or dielectric loss",22621,22615,false,{"$f":"VALUE(Table2[[#This Row],[Identifier]])","v":105430}]
["134893",true,"8514320000 - Plasma and vacuum arc furnaces",22630,22626,false,{"$f":"VALUE(Table2[[#This Row],[Identifier]])","v":134893}]
["105440",true,"8514903000 - Of other furnaces and ovens of subheadings 8514|31|10, 8514|32|10|or 8514|39|10",22638,22637,false,{"$f":"VALUE(Table2[[#This Row],[Identifier]])","v":105440}]
["112650",false,"8515110000 - Brazing or soldering machines and apparatus",22641,22640,false,{"$f":"VALUE(Table2[[#This Row],[Identifier]])","v":112650}]
["105447",true,"8515290000 - Other",22648,22646,false,{"$f":"VALUE(Table2[[#This Row],[Identifier]])","v":105447}]
["105454",true,"8515801000 - For treating metals",22657,22656,false,{"$f":"VALUE(Table2[[#This Row],[Identifier]])","v":105454}]
["119166",true,"8515908012 - Consigned from Thailand",22664,22662,false,{"$f":"VALUE(Table2[[#This Row],[Identifier]])","v":119166}]
["105461",true,"8515908090 - Other",22669,22661,false,{"$f":"VALUE(Table2[[#This Row],[Identifier]])","v":105461}]
["105463",true,"8516101100 - Instantaneous water heaters",22672,22671,false,{"$f":"VALUE(Table2[[#This Row],[Identifier]])","v":105463}]
["105467",true,"8516291000 - Liquid-filled radiators",22679,22678,false,{"$f":"VALUE(Table2[[#This Row],[Identifier]])","v":105467}]
["105474",true,"8516400000 - Electric smoothing irons",22688,22670,false,{"$f":"VALUE(Table2[[#This Row],[Identifier]])","v":105474}]
["105481",true,"8516607000 - Grillers and roasters",22695,22692,false,{"$f":"VALUE(Table2[[#This Row],[Identifier]])","v":105481}]
["105485",true,"8516609000 - Other",22699,22692,false,{"$f":"VALUE(Table2[[#This Row],[Identifier]])","v":105485}]
["105493",true,"8516800000 - Electric heating resistors",22708,22670,false,{"$f":"VALUE(Table2[[#This Row],[Identifier]])","v":105493}]
["105496",true,"8516802020 - Car door mirror heating foil:\n \n-|with two electrical contacts,\n \n-|with an adhesive layer on both sides (on the side of the plastic holder of the mirror and on the|side of the mirror glass),\n \n-|with a protective paper film on both sides",22711,22709,false,{"$f":"VALUE(Table2[[#This Row],[Identifier]])","v":105496}]
["105502",true,"8516900060 - Ventilation sub-assembly of an electric deep-fat fryer:\n \n-|fitted with a motor having a power rating of 8|W at 4|600|rpm,\n \n-|governed by an electronic circuit,\n \n-|operating at ambient temperatures above 110|°C,\n \n-|fitted with a thermoregulator",22718,22716,false,{"$f":"VALUE(Table2[[#This Row],[Identifier]])","v":105502}]
["112660",false,"8517000000 - Telephone sets, including smartphones and other telephones for cellular networks or for other wireless networks; other apparatus for the transmission or reception of voice, images or other data, including apparatus for communication in a wired or wireless network (such as a local or wide area network), other than transmission or reception apparatus of heading 8443, 8525, 8527 or 8528",22722,22126,false,{"$f":"VALUE(Table2[[#This Row],[Identifier]])","v":112660}]
["105509",true,"8517610000 - Base stations",22729,22728,false,{"$f":"VALUE(Table2[[#This Row],[Identifier]])","v":105509}]
["134905",true,"8517790000 - Other",22738,22736,false,{"$f":"VALUE(Table2[[#This Row],[Identifier]])","v":134905}]
["119170",true,"8518100010 - For use in civil aircraft",22741,22740,false,{"$f":"VALUE(Table2[[#This Row],[Identifier]])","v":119170}]
["105528",true,"8518290000 - Other",22748,22743,false,{"$f":"VALUE(Table2[[#This Row],[Identifier]])","v":105528}]
["105546",true,"8518500010 - For use in civil aircraft",22758,22757,false,{"$f":"VALUE(Table2[[#This Row],[Identifier]])","v":105546}]
["112666",false,"8519000000 - Sound recording or sound reproducing apparatus",22761,22126,false,{"$f":"VALUE(Table2[[#This Row],[Identifier]])","v":112666}]
["105557",true,"8519209990 - Other",22768,22766,false,{"$f":"VALUE(Table2[[#This Row],[Identifier]])","v":105557}]
["105573",true,"8519890000 - Other",22774,22770,false,{"$f":"VALUE(Table2[[#This Row],[Identifier]])","v":105573}]
["105577",true,"8521109510 - For use in civil aircraft",22779,22778,false,{"$f":"VALUE(Table2[[#This Row],[Identifier]])","v":105577}]
["119177",true,"8522900010 - Assemblies and sub-assemblies consisting of two or more parts or pieces fastened or joined together, for apparatus of subheading 8519 81, for use in civil aircraft",22788,22787,false,{"$f":"VALUE(Table2[[#This Row],[Identifier]])","v":119177}]
["112680",false,"8523210000 - Magnetic media",22791,22790,false,{"$f":"VALUE(Table2[[#This Row],[Identifier]])","v":112680}]
["105603",true,"8523299000 - Other",22797,22793,false,{"$f":"VALUE(Table2[[#This Row],[Identifier]])","v":105603}]
["112684",false,"8523510000 - Semiconductor media",22808,22790,false,{"$f":"VALUE(Table2[[#This Row],[Identifier]])","v":112684}]
["105612",true,"8523510000 - Solid-state non-volatile storage devices",22809,22808,false,{"$f":"VALUE(Table2[[#This Row],[Identifier]])","v":105612}]
["105621",true,"8523809000 - Other",22818,22816,false,{"$f":"VALUE(Table2[[#This Row],[Identifier]])","v":105621}]
["134908",true,"8524110000 - Of liquid crystals",22821,22820,false,{"$f":"VALUE(Table2[[#This Row],[Identifier]])","v":134908}]
["134914",true,"8524990000 - Other",22827,22824,false,{"$f":"VALUE(Table2[[#This Row],[Identifier]])","v":134914}]
["105638",true,"8526100010 - For use in civil aircraft",22838,22837,false,{"$f":"VALUE(Table2[[#This Row],[Identifier]])","v":105638}]
["105640",true,"8526910000 - Radio navigational aid apparatus",22841,22840,false,{"$f":"VALUE(Table2[[#This Row],[Identifier]])","v":105640}]
["105648",true,"8526920000 - Radio remote control apparatus",22848,22840,false,{"$f":"VALUE(Table2[[#This Row],[Identifier]])","v":105648}]
["105651",true,"8527120000 - Pocket-size radio cassette players",22853,22852,false,{"$f":"VALUE(Table2[[#This Row],[Identifier]])","v":105651}]
["105660",true,"8527212000 - With laser reading system",22859,22858,false,{"$f":"VALUE(Table2[[#This Row],[Identifier]])","v":105660}]
["105666",true,"8527290000 - Other",22868,22856,false,{"$f":"VALUE(Table2[[#This Row],[Identifier]])","v":105666}]
["112698",false,"8527910000 - Other",22871,22851,false,{"$f":"VALUE(Table2[[#This Row],[Identifier]])","v":112698}]
["105680",true,"8528490000 - Other",22878,22876,false,{"$f":"VALUE(Table2[[#This Row],[Identifier]])","v":105680}]
["105683",true,"8528529100 - With a screen of the liquid crystal display (LCD) technology",22883,22882,false,{"$f":"VALUE(Table2[[#This Row],[Identifier]])","v":105683}]
["105694",true,"8528698090 - Other",22895,22893,false,{"$f":"VALUE(Table2[[#This Row],[Identifier]])","v":105694}]
["112708",false,"8528711100 - Video tuners",22898,22897,false,{"$f":"VALUE(Table2[[#This Row],[Identifier]])","v":112708}]
["105703",true,"8528722000 - Apparatus incorporating a video recorder or reproducer",22907,22905,false,{"$f":"VALUE(Table2[[#This Row],[Identifier]])","v":105703}]
["105708",true,"8528730000 - Other, monochrome",22913,22896,false,{"$f":"VALUE(Table2[[#This Row],[Identifier]])","v":105708}]
["112713",true,"8529103000 - Outside aerials for radio or television broadcast receivers",22918,22916,false,{"$f":"VALUE(Table2[[#This Row],[Identifier]])","v":112713}]
["105715",true,"8529106590 - Other",22921,22919,false,{"$f":"VALUE(Table2[[#This Row],[Identifier]])","v":105715}]
["105722",true,"8529901500 - Organic light-emitting diode modules and organic light-emitting diode panels for the apparatus of subheadings 8528|72|or 8528|73",22928,22927,false,{"$f":"VALUE(Table2[[#This Row],[Identifier]])","v":105722}]
["105730",true,"8529906528 - Electronic assembly comprising at least:\n-\ta printed circuit board with,\n-\tone or more FPGAs (Field Programmable Gate Array) and/or processors for multi-media applications and video signal processing,\n-\toperating memory,\n-\twith or without flash memory,\n-\twith or without one or more USB, HDMI, VGA-, RJ-45 and/or other multimedia interfaces,\n-\twith or without sockets and plugs for connecting a LCD-display, a LED lighting and a control panel",22937,22934,false,{"$f":"VALUE(Table2[[#This Row],[Identifier]])","v":105730}]
["112717",false,"8529909100 - Other",22943,22932,false,{"$f":"VALUE(Table2[[#This Row],[Identifier]])","v":112717}]
["105743",true,"8529909215 - LCD modules,\n \n-|solely consisting of one or more TFT glass or plastic cells,\n \n-|not combined with touch screen facilities,\n \n-|with one or more printed circuits boards with control electronics for pixel addressing only,\n \n-|with or without backlight unit and\n \n-|with or without inverters",22948,22946,false,{"$f":"VALUE(Table2[[#This Row],[Identifier]])","v":105743}]
["105758",true,"8529909257 - Metal holder, metal fixing item or internal stiffener of metal, for use in the manufacture of televisions, monitors and video players",22957,22946,false,{"$f":"VALUE(Table2[[#This Row],[Identifier]])","v":105758}]
["105759",true,"8529909263 - LCD module\n \n-|with a diagonal measurement of the screen of 14,5|cm or more but not more than 38,5|cm,\n \n-|with or without a touch screen,\n \n-|with an LED backlight,\n \n-|with a printed circuit board with EEPROM, microcontroller, LVDS receiver and other active and passive components,\n \n-|with a plug for power supply and CAN and LVDS interfaces,\n \n-|with or without electronic components for dynamic adjustments of colour,\n \n-|in a housing, with or without mechanical, touch-sensitive or contactless control functions and with or without active cooling system,\nsuitable for installation in motor vehicles of Chapter 87",22958,22946,false,{"$f":"VALUE(Table2[[#This Row],[Identifier]])","v":105759}]
["105769",true,"8529909790 - Other",22969,22966,false,{"$f":"VALUE(Table2[[#This Row],[Identifier]])","v":105769}]
["105770",true,"8530100000 - Equipment for railways or tramways",22971,22970,false,{"$f":"VALUE(Table2[[#This Row],[Identifier]])","v":105770}]
["105776",true,"8531109510 - For use in civil aircraft",22978,22977,false,{"$f":"VALUE(Table2[[#This Row],[Identifier]])","v":105776}]
["105784",true,"8531204090 - Other",22987,22985,false,{"$f":"VALUE(Table2[[#This Row],[Identifier]])","v":105784}]
["105789",true,"8531804000 - Bells, buzzers, door chimes and similar",22992,22991,false,{"$f":"VALUE(Table2[[#This Row],[Identifier]])","v":105789}]
["105794",true,"8532100000 - Fixed capacitors designed for use in 50/60|Hz circuits and having a reactive power handling capacity of not less than 0,5|kvar (power capacitors)",22998,22997,false,{"$f":"VALUE(Table2[[#This Row],[Identifier]])","v":105794}]
["105802",true,"8532900000 - Parts",23007,22997,false,{"$f":"VALUE(Table2[[#This Row],[Identifier]])","v":105802}]
["112724",false,"8533000000 - Electrical resistors (including rheostats and potentiometers), other than heating resistors",23008,22126,false,{"$f":"VALUE(Table2[[#This Row],[Identifier]])","v":112724}]
["105809",true,"8533401000 - For a power handling capacity not exceeding 20|W",23017,23016,false,{"$f":"VALUE(Table2[[#This Row],[Identifier]])","v":105809}]
["105812",true,"8534001100 - Multilayer circuits",23022,23021,false,{"$f":"VALUE(Table2[[#This Row],[Identifier]])","v":105812}]
["105817",true,"8535100090 - Other",23028,23026,false,{"$f":"VALUE(Table2[[#This Row],[Identifier]])","v":105817}]
["105825",true,"8535301000 - For a voltage of less than 72,5|kV",23037,23036,false,{"$f":"VALUE(Table2[[#This Row],[Identifier]])","v":105825}]
["105832",true,"8535400010 - For use in certain types of aircraft",23044,23043,false,{"$f":"VALUE(Table2[[#This Row],[Identifier]])","v":105832}]
["112731",true,"8535900089 - Other",23048,23046,false,{"$f":"VALUE(Table2[[#This Row],[Identifier]])","v":112731}]
["105845",true,"8536109000 - For a current exceeding 63|A",23057,23050,false,{"$f":"VALUE(Table2[[#This Row],[Identifier]])","v":105845}]
["105846",true,"8536109010 - For use in certain types of aircraft",23058,23057,false,{"$f":"VALUE(Table2[[#This Row],[Identifier]])","v":105846}]
["105855",true,"8536300000 - Other apparatus for protecting electrical circuits",23067,23049,false,{"$f":"VALUE(Table2[[#This Row],[Identifier]])","v":105855}]
["105862",true,"8536309000 - For a current exceeding 125|A",23074,23067,false,{"$f":"VALUE(Table2[[#This Row],[Identifier]])","v":105862}]
["105865",true,"8536410000 - For a voltage not exceeding 60|V",23078,23077,false,{"$f":"VALUE(Table2[[#This Row],[Identifier]])","v":105865}]
["105874",true,"8536419089 - Other",23087,23085,false,{"$f":"VALUE(Table2[[#This Row],[Identifier]])","v":105874}]
["105879",true,"8536500000 - Other switches",23094,23049,false,{"$f":"VALUE(Table2[[#This Row],[Identifier]])","v":105879}]
["105882",true,"8536500700 - Electromechanical snap-action switches for a current not exceeding 11|A",23097,23094,false,{"$f":"VALUE(Table2[[#This Row],[Identifier]])","v":105882}]
["105887",true,"8536501510 - For use in certain types of aircraft",23104,23103,false,{"$f":"VALUE(Table2[[#This Row],[Identifier]])","v":105887}]
["105891",true,"8536501990 - Other",23108,23106,false,{"$f":"VALUE(Table2[[#This Row],[Identifier]])","v":105891}]
["105899",true,"8536619000 - Other",23117,23113,false,{"$f":"VALUE(Table2[[#This Row],[Identifier]])","v":105899}]
["105906",true,"8536699010 - For use in certain types of aircraft",23124,23123,false,{"$f":"VALUE(Table2[[#This Row],[Identifier]])","v":105906}]
["105910",true,"8536699083 - AC socket with a noise filter, composed of:\n \n-|AC socket (for power cord connection) of 230|V,\n \n-|integrated noise filter composed of capacitors and inductors,\n \n-|cable connector for connecting an AC socket with the PDP (Plasma display panel) power supply unit,\nwhether or not equipped with a metal support, which joins the AC socket to the PDP TV set",23127,23125,false,{"$f":"VALUE(Table2[[#This Row],[Identifier]])","v":105910}]
["105919",true,"8536900000 - Other apparatus",23137,23049,false,{"$f":"VALUE(Table2[[#This Row],[Identifier]])","v":105919}]
["105934",true,"8537101000 - Numerical control panels with built-in automatic data-processing machine",23144,23143,false,{"$f":"VALUE(Table2[[#This Row],[Identifier]])","v":105934}]
["112743",false,"8537109100 - Other",23147,23143,false,{"$f":"VALUE(Table2[[#This Row],[Identifier]])","v":112743}]
["131467",true,"8537109145 - Main hybrid system controller, diagnosing and controlling the elements of the hybrid propulsion system, with:\n \n-a programmable memory,\n \n-a microprocessor,\n \n-at least one composite connector,\n \n-a voltage of 24 V,\n \n-with a length of 350 mm or more but not more than 400 mm,\n \n-with a width of 200 mm or more but not more than 250 mm,\n \n-with a height of 80 mm or more but not more than 120 mm, \n \n-in a metal housing",23154,23150,false,{"$f":"VALUE(Table2[[#This Row],[Identifier]])","v":131467}]
["105941",true,"8537109159 - Electronic control units for controlling inter axle torque transferring in all-wheel drive vehicles including:\n\n-a printed circuit board with programmable memory controller,\n\n-one single connector, and\n\n-working at 12 V",23157,23150,false,{"$f":"VALUE(Table2[[#This Row],[Identifier]])","v":105941}]
["112745",false,"8537109830 - Other",23167,23165,false,{"$f":"VALUE(Table2[[#This Row],[Identifier]])","v":112745}]
["105954",true,"8537109845 - Electronic control units, manufactured according to class 2|of IPC-A-610E standard, with at least:\n \n-|an AC power input of 208|V or more but not more than| 400|V,\n \n-|a logic power input of 24|V DC,\n \n-|an automatic circuit breaker,\n \n-|a main power switch,\n \n-|internal or external electrical connectors and cables,\n \n-|in a housing with dimension of 281|mm x 180|mm x 75|mm or more, but not more than 630|mm x 420|mm x 230|mm,\nof a kind used for manufacturing recycling or sorting machines",23174,23167,false,{"$f":"VALUE(Table2[[#This Row],[Identifier]])","v":105954}]
["134933",true,"8537109853 - A control unit being a printed circuit board with at least:\n \n-a microprocessor,\n \n-two or more connectors but not more than four,\n \n-modified resins,\n \n-a length of 180 mm or more but not more than 250 mm,\n \n-a width of 130 mm or more but not more than 200 mm, and\n \n-a height of 40 mm or more but not more than 60 mm,\nfor use in the manufacture of washing machines",23177,23167,false,{"$f":"VALUE(Table2[[#This Row],[Identifier]])","v":134933}]
["131469",true,"8537109880 - Propulsion Control System with at least:\n \n-a DC/AC inverter,\n \n-a power of 190 kW or more but not more than 220 kW,\n \n-a high voltage circuits with AC and DC interfaces for connecting a traction motor, generator and energy storage system,\n \n-an integral control of all drive motor and generator traction system functions,\n \n-a CAN communications interface with System Control Unit,\n \n-a liquid cooled system,\n \n-a length of 300 mm or more but not more than 950 mm,\n \n-a width of 350 mm or more but not more than 600 mm,\n \n-a height of 200 mm or more but not more than 350 mm,\n \n-a weight of 40 kg or more but not more than 90 kg​",23183,23167,false,{"$f":"VALUE(Table2[[#This Row],[Identifier]])","v":131469}]
["105970",true,"8537209990 - Other",23194,23192,false,{"$f":"VALUE(Table2[[#This Row],[Identifier]])","v":105970}]
["105974",true,"8538900000 - Other",23197,23195,false,{"$f":"VALUE(Table2[[#This Row],[Identifier]])","v":105974}]
["112749",false,"8538909120 - Other",23204,23202,false,{"$f":"VALUE(Table2[[#This Row],[Identifier]])","v":112749}]
["105981",true,"8538909900 - Other",23207,23201,false,{"$f":"VALUE(Table2[[#This Row],[Identifier]])","v":105981}]
["105986",true,"8538909960 - Front control panel, in the form of a plastic box, with light guides, rotary switches, pressure switches and buttons switches, or other type of switches,| without any electrical component, of a kind used in the dashboard of motor vehicles of Chapter 87",23213,23209,false,{"$f":"VALUE(Table2[[#This Row],[Identifier]])","v":105986}]
["105994",true,"8539219200 - Exceeding 100|V",23224,23223,false,{"$f":"VALUE(Table2[[#This Row],[Identifier]])","v":105994}]
["105997",true,"8539219800 - Not exceeding 100|V",23227,23223,false,{"$f":"VALUE(Table2[[#This Row],[Identifier]])","v":105997}]
["106004",true,"8539229000 - Other",23234,23230,false,{"$f":"VALUE(Table2[[#This Row],[Identifier]])","v":106004}]
["106012",true,"8539299800 - Not exceeding 100|V",23243,23239,false,{"$f":"VALUE(Table2[[#This Row],[Identifier]])","v":106012}]
["106015",true,"8539310000 - Fluorescent, hot cathode",23247,23246,false,{"$f":"VALUE(Table2[[#This Row],[Identifier]])","v":106015}]
["106022",true,"8539320000 - Mercury or sodium vapour lamps; metal halide lamps",23254,23246,false,{"$f":"VALUE(Table2[[#This Row],[Identifier]])","v":106022}]
["106025",true,"8539329010 - Lamps for lighting, for use in certain types of aircraft",23257,23256,false,{"$f":"VALUE(Table2[[#This Row],[Identifier]])","v":106025}]
["106033",true,"8539490000 - Other",23266,23264,false,{"$f":"VALUE(Table2[[#This Row],[Identifier]])","v":106033}]
["112757",false,"8540000000 - Thermionic, cold cathode or photocathode valves and tubes (for example, vacuum or vapour or gas filled valves and tubes, mercury arc rectifying valves and tubes, cathode ray tubes, television camera tubes)",23273,22126,false,{"$f":"VALUE(Table2[[#This Row],[Identifier]])","v":112757}]
["106040",true,"8540110090 - Other",23277,23275,false,{"$f":"VALUE(Table2[[#This Row],[Identifier]])","v":106040}]
["106047",true,"8540201090 - Other",23284,23282,false,{"$f":"VALUE(Table2[[#This Row],[Identifier]])","v":106047}]
["106055",true,"8540600000 - Other cathode ray tubes",23293,23273,false,{"$f":"VALUE(Table2[[#This Row],[Identifier]])","v":106055}]
["106060",true,"8540710020 - Continuous wave magnetron with:\n-\ta fixed frequency of 2460MHz,\n-\ta packaged magnet,\n-\ta probe output,\n-\tan output power of 960 or more but not more than 1500W",23299,23297,false,{"$f":"VALUE(Table2[[#This Row],[Identifier]])","v":106060}]
["112761",false,"8540810000 - Other valves and tubes",23304,23273,false,{"$f":"VALUE(Table2[[#This Row],[Identifier]])","v":112761}]
["106067",true,"8540810090 - Other",23307,23305,false,{"$f":"VALUE(Table2[[#This Row],[Identifier]])","v":106067}]
["106074",true,"8540910010 - For use in certain types of aircraft",23316,23315,false,{"$f":"VALUE(Table2[[#This Row],[Identifier]])","v":106074}]
["112764",false,"8541000000 - Semiconductor devices (for example, diodes, transistors, semiconductor-based transducers); photosensitive semiconductor devices, including photovoltaic cells whether or not assembled in modules or made up into panels; light-emitting diodes (LED), whether or not assembled with other light-emitting diodes (LED); mounted piezo-electric crystals",23322,22126,false,{"$f":"VALUE(Table2[[#This Row],[Identifier]])","v":112764}]
["106083",true,"8541300000 - Thyristors, diacs and triacs, other than photosensitive devices",23327,23322,false,{"$f":"VALUE(Table2[[#This Row],[Identifier]])","v":106083}]
["134945",true,"8541510000 - Semiconductor-based transducers",23334,23333,false,{"$f":"VALUE(Table2[[#This Row],[Identifier]])","v":134945}]
["106092",true,"8542311900 - Other",23343,23341,false,{"$f":"VALUE(Table2[[#This Row],[Identifier]])","v":106092}]
["112769",false,"8542321100 - Goods specified in note|12(b)(3|and 4) to this chapter",23346,23345,false,{"$f":"VALUE(Table2[[#This Row],[Identifier]])","v":112769}]
["106098",true,"8542323900 - With a storage capacity exceeding 512|Mbits",23352,23350,false,{"$f":"VALUE(Table2[[#This Row],[Identifier]])","v":106098}]
["106101",true,"8542326100 - With a storage capacity not exceeding 512|Mbits",23357,23356,false,{"$f":"VALUE(Table2[[#This Row],[Identifier]])","v":106101}]
["106108",true,"8542390000 - Other",23364,23339,false,{"$f":"VALUE(Table2[[#This Row],[Identifier]])","v":106108}]
["106115",true,"8543300000 - Machines and apparatus for electroplating, electrolysis or electrophoresis",23373,23370,false,{"$f":"VALUE(Table2[[#This Row],[Identifier]])","v":106115}]
["106119",true,"8543700100 - Articles specifically designed for connection to telegraphic or telephonic apparatus or instruments or to telegraphic or telephonic networks",23378,23377,false,{"$f":"VALUE(Table2[[#This Row],[Identifier]])","v":106119}]
["106127",true,"8543700700 - Portable interactive electronic education devices primarily designed for children",23384,23377,false,{"$f":"VALUE(Table2[[#This Row],[Identifier]])","v":106127}]
["106137",true,"8543709010 - Engine pressure indicators, for use in certain types of aircraft",23393,23391,false,{"$f":"VALUE(Table2[[#This Row],[Identifier]])","v":106137}]
["106139",true,"8543709030 - Amplifier, consisting of active and passive elements mounted on a printed circuit, contained in a housing",23396,23391,false,{"$f":"VALUE(Table2[[#This Row],[Identifier]])","v":106139}]
["106149",true,"8543709099 - Other",23403,23391,false,{"$f":"VALUE(Table2[[#This Row],[Identifier]])","v":106149}]
["106152",true,"8544111000 - Lacquered or enamelled",23408,23407,false,{"$f":"VALUE(Table2[[#This Row],[Identifier]])","v":106152}]
["106158",true,"8544200090 - Other",23414,23411,false,{"$f":"VALUE(Table2[[#This Row],[Identifier]])","v":106158}]
["134949",true,"8544300065 - Six core cable connecting the oil pressure sensor and the differential controller of vehicles:\n \n-with PVC-coating,\n \n-with three multiple connectors, and\n \n-with or without plastic clip,\nfor use in the manufacture of goods of Chapter 87",23423,23417,false,{"$f":"VALUE(Table2[[#This Row],[Identifier]])","v":134949}]
["106167",true,"8544300089 - Other",23426,23417,false,{"$f":"VALUE(Table2[[#This Row],[Identifier]])","v":106167}]
["106171",true,"8544429010 - Data transmission cable capable of a bit rate transmission of 600|Mbit/s or more, with:\n \n-|a voltage of 1,25|V|(±|0,25|V)\n \n-|connectors fitted at one or both ends, at least one of which contains pins with a pitch of|1|mm,\n \n-|outer screening shielding,\nused solely for communication between LCD, PDP or OLED panel and video processing electronic circuits",23431,23430,false,{"$f":"VALUE(Table2[[#This Row],[Identifier]])","v":106171}]
["112780",false,"8544499100 - Other",23443,23441,false,{"$f":"VALUE(Table2[[#This Row],[Identifier]])","v":112780}]
["106184",true,"8544499100 - Wire and cables, with individual conductor wires of a diameter exceeding 0,51|mm",23444,23443,false,{"$f":"VALUE(Table2[[#This Row],[Identifier]])","v":106184}]
["106194",true,"8544600000 - Other electric conductors, for a voltage exceeding 1|000|V",23453,23405,false,{"$f":"VALUE(Table2[[#This Row],[Identifier]])","v":106194}]
["131471",true,"8544700010 - Single mode optical fibre cables, made up of one or more individually sheathed fibres, with protective casing, whether or not containing electric conductors; excluding cables in which all the optical fibres are individually fitted with operational connectors at one or both extremities and plastic insulated cables for submarine use containing a copper or aluminium conductor in which fibres are contained in metal module(s)",23457,23456,false,{"$f":"VALUE(Table2[[#This Row],[Identifier]])","v":131471}]
["106200",true,"8545110090 - Other",23464,23461,false,{"$f":"VALUE(Table2[[#This Row],[Identifier]])","v":106200}]
["112784",false,"8546000000 - Electrical insulators of any material",23473,22126,false,{"$f":"VALUE(Table2[[#This Row],[Identifier]])","v":112784}]
["106212",true,"8546900000 - Other",23476,23473,false,{"$f":"VALUE(Table2[[#This Row],[Identifier]])","v":106212}]
["106218",true,"8547200090 - Other",23483,23481,false,{"$f":"VALUE(Table2[[#This Row],[Identifier]])","v":106218}]
["134951",true,"8548003000 - Light-emitting diode (LED) backlight modules, which are lighting sources that consist of one or more LEDs, and one or more connectors and are mounted on a printed circuit or other similar substrate, and other passive components, whether or not combined with optical components or protective diodes, and used as backlight illumination for liquid crystal displays (LCDs)",23487,23485,false,{"$f":"VALUE(Table2[[#This Row],[Identifier]])","v":134951}]
["134958",true,"8548009048 - Optical unit, containing at least\n-\ta laser diode and a photodiode operating at a typical wavelength of 635 nm or more but not more than 815|nm\n-\tan optical lens\n-\ta \"Recording Photodetector Integrated Circuit\" (PDIC)\n-\ta focussing and tracking actuator",23494,23490,false,{"$f":"VALUE(Table2[[#This Row],[Identifier]])","v":134958}]
["134967",false,"8549121000 - Spent primary cells, spent primary batteries",23503,23502,false,{"$f":"VALUE(Table2[[#This Row],[Identifier]])","v":134967}]
["134970",true,"8549130000 - Sorted by chemical type and not containing lead, cadmium or mercury",23506,23498,false,{"$f":"VALUE(Table2[[#This Row],[Identifier]])","v":134970}]
["134981",true,"8549149000 - Other",23517,23512,false,{"$f":"VALUE(Table2[[#This Row],[Identifier]])","v":134981}]
["134987",true,"8549210000 - Containing primary cells, primary batteries, electric accumulators, mercury-switches, glass from cathode-ray tubes or other activated glass, or electrical or electronic components containing cadmium, mercury, lead or polychlorinated biphenyls (PCBs)",23523,23522,false,{"$f":"VALUE(Table2[[#This Row],[Identifier]])","v":134987}]
["134990",true,"8549310000 - Containing primary cells, primary batteries, electric accumulators, mercury-switches, glass from cathode-ray tubes or other activated glass, or electrical or electronic components containing cadmium, mercury, lead or polychlorinated biphenyls (PCBs)",23526,23525,false,{"$f":"VALUE(Table2[[#This Row],[Identifier]])","v":134990}]
["112792",false,"8601000000 - Rail locomotives powered from an external source of electricity or by electric accumulators",23533,23532,false,{"$f":"VALUE(Table2[[#This Row],[Identifier]])","v":112792}]
["106246",true,"8604000000 - Railway or tramway maintenance or service vehicles, whether or not self-propelled (for example, workshops, cranes, ballast tampers, trackliners, testing coaches and track inspection vehicles)",23542,23532,false,{"$f":"VALUE(Table2[[#This Row],[Identifier]])","v":106246}]
["112796",false,"8606910000 - Other",23547,23544,false,{"$f":"VALUE(Table2[[#This Row],[Identifier]])","v":112796}]
["112797",false,"8607000000 - Parts of railway or tramway locomotives or rolling stock",23553,23532,false,{"$f":"VALUE(Table2[[#This Row],[Identifier]])","v":112797}]
["106256",true,"8607120000 - Other bogies and bissel-bogies",23556,23554,false,{"$f":"VALUE(Table2[[#This Row],[Identifier]])","v":106256}]
["106262",true,"8607219000 - Other",23563,23561,false,{"$f":"VALUE(Table2[[#This Row],[Identifier]])","v":106262}]
["106271",true,"8608000000 - Railway or tramway track fixtures and fittings; mechanical (including electromechanical) signalling, safety or traffic control equipment for railways, tramways, roads, inland waterways, parking facilities, port installations or airfields; parts of the foregoing",23573,23532,false,{"$f":"VALUE(Table2[[#This Row],[Identifier]])","v":106271}]
["134995",false,"8701210000 - Road tractors for semi-trailers",23580,23578,false,{"$f":"VALUE(Table2[[#This Row],[Identifier]])","v":134995}]
["134998",true,"8701219000 - Used",23583,23581,false,{"$f":"VALUE(Table2[[#This Row],[Identifier]])","v":134998}]
["135007",true,"8701249000 - Used",23592,23590,false,{"$f":"VALUE(Table2[[#This Row],[Identifier]])","v":135007}]
["135008",true,"8701290000 - Other",23593,23580,false,{"$f":"VALUE(Table2[[#This Row],[Identifier]])","v":135008}]
["106286",true,"8701931000 - Agricultural tractors and forestry tractors, wheeled",23603,23602,false,{"$f":"VALUE(Table2[[#This Row],[Identifier]])","v":106286}]
["106289",true,"8701941000 - Agricultural tractors and forestry tractors, wheeled",23606,23605,false,{"$f":"VALUE(Table2[[#This Row],[Identifier]])","v":106289}]
["112806",false,"8702101100 - Of a cylinder capacity exceeding 2|500|cm$3",23613,23612,false,{"$f":"VALUE(Table2[[#This Row],[Identifier]])","v":112806}]
["106302",true,"8702300000 - With both spark-ignition internal combustion piston engine and electric motor as motors for propulsion",23622,23611,false,{"$f":"VALUE(Table2[[#This Row],[Identifier]])","v":106302}]
["106306",true,"8702900000 - Other",23626,23611,false,{"$f":"VALUE(Table2[[#This Row],[Identifier]])","v":106306}]
["106310",true,"8702903900 - Used",23633,23631,false,{"$f":"VALUE(Table2[[#This Row],[Identifier]])","v":106310}]
["106317",true,"8703219000 - Used",23642,23640,false,{"$f":"VALUE(Table2[[#This Row],[Identifier]])","v":106317}]
["106318",true,"8703220000 - Of a cylinder capacity exceeding 1|000|cm$3|but not exceeding 1|500|cm$3",23643,23639,false,{"$f":"VALUE(Table2[[#This Row],[Identifier]])","v":106318}]
["106326",true,"8703241000 - New",23652,23651,false,{"$f":"VALUE(Table2[[#This Row],[Identifier]])","v":106326}]
["106329",true,"8703311000 - New",23656,23655,false,{"$f":"VALUE(Table2[[#This Row],[Identifier]])","v":106329}]
["106335",true,"8703330000 - Of a cylinder capacity exceeding 2|500|cm$3",23663,23654,false,{"$f":"VALUE(Table2[[#This Row],[Identifier]])","v":106335}]
["106343",true,"8703409000 - Used",23672,23668,false,{"$f":"VALUE(Table2[[#This Row],[Identifier]])","v":106343}]
["106350",true,"8703601090 - Other",23679,23677,false,{"$f":"VALUE(Table2[[#This Row],[Identifier]])","v":106350}]
["106353",true,"8703609090 - Other",23682,23680,false,{"$f":"VALUE(Table2[[#This Row],[Identifier]])","v":106353}]
["112818",false,"8704210000 - Other, with only compression-ignition internal combustion piston engine (diesel or semi-diesel)",23692,23688,false,{"$f":"VALUE(Table2[[#This Row],[Identifier]])","v":112818}]
["106362",true,"8704210000 - Of a gross vehicle weight not exceeding 5|tonnes",23693,23692,false,{"$f":"VALUE(Table2[[#This Row],[Identifier]])","v":106362}]
["106368",true,"8704220000 - Of a gross vehicle weight exceeding 5|tonnes but not exceeding 20|tonnes",23702,23692,false,{"$f":"VALUE(Table2[[#This Row],[Identifier]])","v":106368}]
["106370",true,"8704229100 - New",23705,23704,false,{"$f":"VALUE(Table2[[#This Row],[Identifier]])","v":106370}]
["106376",true,"8704310000 - Of a gross vehicle weight not exceeding 5|tonnes",23713,23712,false,{"$f":"VALUE(Table2[[#This Row],[Identifier]])","v":106376}]
["106382",true,"8704320000 - Of a gross vehicle weight exceeding 5|tonnes",23722,23712,false,{"$f":"VALUE(Table2[[#This Row],[Identifier]])","v":106382}]
["135011",true,"8704411000 - Specially designed for the transport of highly radioactive materials",23729,23728,false,{"$f":"VALUE(Table2[[#This Row],[Identifier]])","v":135011}]
["135014",true,"8704413100 - New",23732,23731,false,{"$f":"VALUE(Table2[[#This Row],[Identifier]])","v":135014}]
["135020",true,"8704421000 - Specially designed for the transport of highly radioactive materials",23738,23737,false,{"$f":"VALUE(Table2[[#This Row],[Identifier]])","v":135020}]
["135025",true,"8704431000 - Specially designed for the transport of highly radioactive materials",23743,23742,false,{"$f":"VALUE(Table2[[#This Row],[Identifier]])","v":135025}]
["135034",true,"8704513100 - New",23752,23751,false,{"$f":"VALUE(Table2[[#This Row],[Identifier]])","v":135034}]
["135041",false,"8704529100 - Other",23759,23757,false,{"$f":"VALUE(Table2[[#This Row],[Identifier]])","v":135041}]
["135043",true,"8704529900 - Used",23761,23759,false,{"$f":"VALUE(Table2[[#This Row],[Identifier]])","v":135043}]
["112830",false,"8706000000 - Chassis fitted with engines, for the motor vehicles of headings|8701|to 8705",23772,23577,false,{"$f":"VALUE(Table2[[#This Row],[Identifier]])","v":112830}]
["112833",false,"8707000000 - Bodies (including cabs), for the motor vehicles of headings|8701|to 8705",23779,23577,false,{"$f":"VALUE(Table2[[#This Row],[Identifier]])","v":112833}]
["106400",true,"8707109000 - Other",23782,23780,false,{"$f":"VALUE(Table2[[#This Row],[Identifier]])","v":106400}]
["106408",true,"8708109000 - Other",23791,23787,false,{"$f":"VALUE(Table2[[#This Row],[Identifier]])","v":106408}]
["106410",true,"8708109090 - Other",23793,23791,false,{"$f":"VALUE(Table2[[#This Row],[Identifier]])","v":106410}]
["106419",true,"8708291000 - For the industrial assembly of:\nPedestrian-controlled tractors of subheading|8701|10;\nVehicles of heading|8703;\nVehicles of heading|8704|with either a compression-ignition internal combustion piston engine (diesel or semi-diesel) of a cylinder capacity not exceeding 2|500|cm$3|or with a spark-ignition internal combustion piston engine of a cylinder capacity not exceeding 2|800|cm$3;\nVehicles of heading|8705",23802,23801,false,{"$f":"VALUE(Table2[[#This Row],[Identifier]])","v":106419}]
["106427",true,"8708301070 - Ductile cast iron brake caliper jaw, of a |kind used in the manufacture of goods of Chapter 87",23809,23805,false,{"$f":"VALUE(Table2[[#This Row],[Identifier]])","v":106427}]
["106429",true,"8708309100 - For disc brakes",23812,23811,false,{"$f":"VALUE(Table2[[#This Row],[Identifier]])","v":106429}]
["106435",true,"8708309190 - Other",23817,23812,false,{"$f":"VALUE(Table2[[#This Row],[Identifier]])","v":106435}]
["112837",false,"8708405000 - Other",23829,23821,false,{"$f":"VALUE(Table2[[#This Row],[Identifier]])","v":112837}]
["106450",true,"8708405040 - Transmission assembly which houses 3 other shafts inside it and offers a rotating switch for shift position consisting:\n\n-cast aluminium body,-differential gear,\n\n-2 electrical motors and gears,\n\nwith the dimensions of:\n\n-a width of 280 mm or more but not more than 470 mm,\n\n-a height of 350 mm or more but not more than 595 mm,\n\n-a length of 410 mm or more but not more than 690 mm,\n\nfor use in the manufacture of motor vehicles of Chapter 87",23832,23830,false,{"$f":"VALUE(Table2[[#This Row],[Identifier]])","v":106450}]
["106454",true,"8708409900 - Other",23839,23837,false,{"$f":"VALUE(Table2[[#This Row],[Identifier]])","v":106454}]
["106459",true,"8708502050 - Double flange bearing of 3rd generation, for motor vehicles,\n\n-|with double-row ball bearing,\n\n-|whether or not with impulse (encoder) ring,\n\n-|whether or not with antilock brake system (ABS) sensor,\n\n-|whether or not with mounted screws,\nfor use in the manufacture of goods of chapter 87",23847,23841,false,{"$f":"VALUE(Table2[[#This Row],[Identifier]])","v":106459}]
["106463",true,"8708502075 - Outboard joint assembly for transmitting a torque from engine and transmission to wheels of motor vehicles, consisting of:\n\n-an inner race with 6 ball tracks for running with the bearing balls with a diameter 15,0 mm or more but not more than 20,0 mm,\n\n-an outer race with 6 ball tracks for running with 6 bearing balls, made of steel with carbon content of 0,45 % or more but not more than 0,58 %, with thread and with a spline with 26 teeth or more but not more than 38,\n\n-a spherical cage keeping bearing balls in the ball tracks of outer race and inner race in proper angular position, made of material suitable for carburizing with carbon content of 0,14 % or more but not more than 0,25 %, and\n\n-with a grease compartment,\ncapable of working at constant speed at variable articulation angle not higher than 50 degrees",23852,23841,false,{"$f":"VALUE(Table2[[#This Row],[Identifier]])","v":106463}]
["131480",true,"8708505550 - Spherical outboard constant velocity joint ball bearing cage, part of the vehicle's drive system, made of material suitable to be carburized with a carbon content of 0,14 % or more but not more than 0,57 %, forged, turned, punched, milled and hardened",23859,23857,false,{"$f":"VALUE(Table2[[#This Row],[Identifier]])","v":131480}]
["106469",true,"8708509100 - For non-driving axles",23862,23861,false,{"$f":"VALUE(Table2[[#This Row],[Identifier]])","v":106469}]
["106479",true,"8708509940 - Double flange bearing of 3rd generation, for motor vehicles,\n\n-|with double-row ball bearing,\n\n-|whether or not with impulse (encoder) ring,\n\n-|whether or not with antilock brake system (ABS) sensor,\n\n-|whether or not with mounted screws,\nfor use in the manufacture of goods of chapter 87",23871,23865,false,{"$f":"VALUE(Table2[[#This Row],[Identifier]])","v":106479}]
["106481",true,"8708700000 - Road wheels and parts and accessories thereof",23877,23786,false,{"$f":"VALUE(Table2[[#This Row],[Identifier]])","v":106481}]
["112843",false,"8708701080 - Other",23882,23878,false,{"$f":"VALUE(Table2[[#This Row],[Identifier]])","v":112843}]
["112846",false,"8708705000 - Other",23889,23877,false,{"$f":"VALUE(Table2[[#This Row],[Identifier]])","v":112846}]
["106490",true,"8708705015 - fitted with pneumatic tyres, new or retreaded, of rubber, of a kind used for buses or lorries, with a load index exceeding 121",23892,23891,false,{"$f":"VALUE(Table2[[#This Row],[Identifier]])","v":106490}]
["106499",true,"8708709930 - Other",23903,23901,false,{"$f":"VALUE(Table2[[#This Row],[Identifier]])","v":106499}]
["106504",true,"8708802010 - Upper strut insulator containing\n \n-|a metal holder with three mounting screws, and\n \n-|a rubber bump\nfor use in the manufacture of goods of Chapter 87",23909,23908,false,{"$f":"VALUE(Table2[[#This Row],[Identifier]])","v":106504}]
["106508",true,"8708803500 - Suspension shock-absorbers",23912,23911,false,{"$f":"VALUE(Table2[[#This Row],[Identifier]])","v":106508}]
["106518",true,"8708809920 - Aluminium suspension link arm, with dimensions of:\n\n-a height of 50 mm or more but not more than 150 mm,\n\n-a width of 10 mm or more but not more than 100 mm,\n\n-a length of 100 mm or more but not more than 600 mm,\n\n-a mass of 1000 g or more but not more than 3000 g,\nEquipped with at least two bushed holes made of aluminium alloy with the following characteristics:\n\n-a tensile strength of 200 mPa or more ,\n\n-a strength of 19 kN or more,\n\n-a stiffness of 5 kN/mm or more but not more than 9 kN/mm,\n\n-a frequency of 400 Hz or more but not more than 600 Hz",23919,23918,false,{"$f":"VALUE(Table2[[#This Row],[Identifier]])","v":106518}]
["106524",true,"8708912030 - Aluminium alloy inlet or outlet air tank of heat exchangers for car cooling systems, manufactured to standard EN AC 42100 or EN AC 43000 T6 with\n \n-|an insulating area flatness of not more than 0,1|mm,\n \n-|a permissible particle quantity of 0,3|mg per tank,\n \n-|a distance between pores of 2|mm or more,\n \n-|pore sizes of not more than 0,4|mm, and\n \n-|not more than 3|pores larger than 0,2mm\n\n-with a weight of 0,2kg or more but not more than 3kg",23926,23924,false,{"$f":"VALUE(Table2[[#This Row],[Identifier]])","v":106524}]
["106528",true,"8708913590 - Other",23932,23929,false,{"$f":"VALUE(Table2[[#This Row],[Identifier]])","v":106528}]
["106535",true,"8708920000 - Silencers (mufflers) and exhaust pipes; parts thereof",23939,23922,false,{"$f":"VALUE(Table2[[#This Row],[Identifier]])","v":106535}]
["106537",true,"8708923500 - Silencers (mufflers) and exhaust pipes",23942,23941,false,{"$f":"VALUE(Table2[[#This Row],[Identifier]])","v":106537}]
["106545",true,"8708931000 - For the industrial assembly of:\nPedestrian-controlled tractors of subheading|8701|10;\nVehicles of heading|8703;\nVehicles of heading|8704|with either a compression-ignition internal combustion piston engine (diesel or semi-diesel) of a cylinder capacity not exceeding 2|500|cm$3|or with a spark-ignition internal combustion piston engine of a cylinder capacity not exceeding 2|800|cm$3;\nVehicles of heading|8705",23951,23950,false,{"$f":"VALUE(Table2[[#This Row],[Identifier]])","v":106545}]
["106552",true,"8708939090 - Other",23956,23954,false,{"$f":"VALUE(Table2[[#This Row],[Identifier]])","v":106552}]
["106557",true,"8708943500 - Steering wheels, steering columns and steering boxes",23962,23961,false,{"$f":"VALUE(Table2[[#This Row],[Identifier]])","v":106557}]
["106563",true,"8708951000 - For the industrial assembly of:\nPedestrian-controlled tractors of subheading|8701|10;\nVehicles of heading|8703;\nVehicles of heading|8704|with either a compression-ignition internal combustion piston engine (diesel or semi-diesel) of a cylinder capacity not exceeding 2|500|cm$3|or with a spark-ignition internal combustion piston engine of a cylinder capacity not exceeding 2|800|cm$3;\nVehicles of heading|8705",23969,23968,false,{"$f":"VALUE(Table2[[#This Row],[Identifier]])","v":106563}]
["135052",true,"8708959950 - Airbag inflator containing both pyrotechnics and cold gas as propellant for safety airbags of vehicles, in each individual consignment of 1 000 pieces or more",23978,23975,false,{"$f":"VALUE(Table2[[#This Row],[Identifier]])","v":135052}]
["106575",true,"8708991025 - Plastic air guide for directing air flow to the surface of intercooler for use in the production of motor vehicles",23982,23981,false,{"$f":"VALUE(Table2[[#This Row],[Identifier]])","v":106575}]
["119194",true,"8708999718 - Hydrostatic speed changer:\n \n-with a hydro pump and a differential with wheel axle,\n \n-whether or not with a fan impeller and/or a pulley,\nfor use in the manufacture of tractors of subheadings 8701 91 90 and 8701 92 90, whose main function is that of a lawn mower",23989,23988,false,{"$f":"VALUE(Table2[[#This Row],[Identifier]])","v":119194}]
["131487",true,"8708999738 - A set of Compressed Natural Gas (CNG) cylinders type CNG-4, in accordance with the ECE R110 standard, consisting of four or five cylinders on aluminum frames:\n \n-made of high density polyethylene (HDPE) composite reinforced with a braid of glass and carbon fibers in epoxy resin,\n \n-with an operating pressure of not less than 20 MPa,\n \n-with a shelf life declared by the manufacturer of not less than 20 years,\n \n-with a cylinder capacity of 315 liters or more but not more than 375 liters,\n \n-equipped with a set of solenoid, manual and safety PRD valves,\n \n-with a total width of 2 200 mm or more but not more than 2 300 mm,\n \n-with a total height of 450 mm or more but not more than 460 mm,\n \n-with a total length of 3500 mm or more but not more than 3 600 mm",23992,23988,false,{"$f":"VALUE(Table2[[#This Row],[Identifier]])","v":131487}]
["106598",true,"8709111000 - Specially designed for the transport of highly radioactive materials",24001,24000,false,{"$f":"VALUE(Table2[[#This Row],[Identifier]])","v":106598}]
["112864",false,"8711000000 - Motorcycles (including mopeds) and cycles fitted with an auxiliary motor, with or without side-cars; side-cars",24008,23577,false,{"$f":"VALUE(Table2[[#This Row],[Identifier]])","v":112864}]
["112865",false,"8711209200 - Other, of a cylinder capacity",24012,24010,false,{"$f":"VALUE(Table2[[#This Row],[Identifier]])","v":112865}]
["106614",true,"8711500000 - With internal combustion piston engine of a cylinder capacity exceeding 800|cm$3",24019,24008,false,{"$f":"VALUE(Table2[[#This Row],[Identifier]])","v":106614}]
["106622",true,"8712003010 - Consigned from Indonesia, Malaysia, Sri Lanka or Tunisia",24028,24027,false,{"$f":"VALUE(Table2[[#This Row],[Identifier]])","v":106622}]
["106625",true,"8712007000 - Other",24031,24026,false,{"$f":"VALUE(Table2[[#This Row],[Identifier]])","v":106625}]
["106628",true,"8712007092 - Consigned from Cambodia, Pakistan or the Philippines",24035,24033,false,{"$f":"VALUE(Table2[[#This Row],[Identifier]])","v":106628}]
["106633",true,"8714101000 - Brakes and parts thereof",24042,24041,false,{"$f":"VALUE(Table2[[#This Row],[Identifier]])","v":106633}]
["131488",true,"8714109070 - Motor bikes radiators in consignment of 100 pieces or more",24049,24047,false,{"$f":"VALUE(Table2[[#This Row],[Identifier]])","v":131488}]
["135053",true,"8714911025 - Frame, constructed from aluminium or aluminium and carbon fibres and artificial resin, for the use in the manufacture of bicycles (including electric bicycles)",24058,24056,false,{"$f":"VALUE(Table2[[#This Row],[Identifier]])","v":135053}]
["106651",true,"8714911031 - Constructed from carbon fibres and artificial resin, for use in the manufacture of bicycles (including e-bikes)",24061,24060,false,{"$f":"VALUE(Table2[[#This Row],[Identifier]])","v":106651}]
["106659",true,"8714913029 - Other",24072,24070,false,{"$f":"VALUE(Table2[[#This Row],[Identifier]])","v":106659}]
["106663",true,"8714913089 - Other",24078,24076,false,{"$f":"VALUE(Table2[[#This Row],[Identifier]])","v":106663}]
["106666",true,"8714921000 - Rims",24081,24080,false,{"$f":"VALUE(Table2[[#This Row],[Identifier]])","v":106666}]
["106672",true,"8714940000 - Brakes, including coaster braking hubs and hub brakes, and parts thereof",24088,24052,false,{"$f":"VALUE(Table2[[#This Row],[Identifier]])","v":106672}]
["112880",false,"8714942091 - Other brakes",24091,24089,false,{"$f":"VALUE(Table2[[#This Row],[Identifier]])","v":112880}]
["106681",true,"8714950000 - Saddles",24099,24052,false,{"$f":"VALUE(Table2[[#This Row],[Identifier]])","v":106681}]
["106690",true,"8714990000 - Other",24108,24052,false,{"$f":"VALUE(Table2[[#This Row],[Identifier]])","v":106690}]
["106692",true,"8714991020 - Bicycle handlebars,\n-\twith or without integrated stem,\n-\teither made out of carbon fibres and synthetic resin or made of aluminium,\nfor use in the manufacture of bicycles (including electric bicycles)",24111,24110,false,{"$f":"VALUE(Table2[[#This Row],[Identifier]])","v":106692}]
["129295",false,"8714995091 - Other",24122,24117,false,{"$f":"VALUE(Table2[[#This Row],[Identifier]])","v":129295}]
["106703",true,"8714999030 - Seat posts, for use in the manufacture of bicycles (including electric bicycles)",24130,24126,false,{"$f":"VALUE(Table2[[#This Row],[Identifier]])","v":106703}]
["119200",true,"8714999040 - Stem for bicycle handlebars, for use in the manufacture of bicycles (including electric bicycles)",24131,24126,false,{"$f":"VALUE(Table2[[#This Row],[Identifier]])","v":119200}]
["106710",true,"8716200000 - Self-loading or self-unloading trailers and semi-trailers for agricultural purposes",24140,24136,false,{"$f":"VALUE(Table2[[#This Row],[Identifier]])","v":106710}]
["106712",true,"8716390000 - Other",24143,24141,false,{"$f":"VALUE(Table2[[#This Row],[Identifier]])","v":106712}]
["106720",true,"8716901000 - Chassis",24153,24152,false,{"$f":"VALUE(Table2[[#This Row],[Identifier]])","v":106720}]
["112891",false,"8716909095 - Other",24160,24156,false,{"$f":"VALUE(Table2[[#This Row],[Identifier]])","v":112891}]
["106727",true,"8716909096 - Other",24163,24161,false,{"$f":"VALUE(Table2[[#This Row],[Identifier]])","v":106727}]
["106731",true,"8801001010 - For civil use",24170,24169,false,{"$f":"VALUE(Table2[[#This Row],[Identifier]])","v":106731}]
["106738",true,"8802110090 - Other",24179,24177,false,{"$f":"VALUE(Table2[[#This Row],[Identifier]])","v":106738}]
["106740",true,"8802120010 - For civil use",24181,24180,false,{"$f":"VALUE(Table2[[#This Row],[Identifier]])","v":106740}]
["131489",false,"8802400011 - For civil use",24190,24189,false,{"$f":"VALUE(Table2[[#This Row],[Identifier]])","v":131489}]
["131492",true,"8802400013 - Of an unladen weight exceeding 38|000|kg but not exceeding 100|000|kg",24193,24191,false,{"$f":"VALUE(Table2[[#This Row],[Identifier]])","v":131492}]
["106751",true,"8802600000 - Spacecraft (including satellites) and suborbital and spacecraft launch vehicles",24200,24175,false,{"$f":"VALUE(Table2[[#This Row],[Identifier]])","v":106751}]
["106780",true,"8805109000 - Other",24209,24207,false,{"$f":"VALUE(Table2[[#This Row],[Identifier]])","v":106780}]
["135057",false,"8806000000 - Unmanned aircraft",24213,24167,false,{"$f":"VALUE(Table2[[#This Row],[Identifier]])","v":135057}]
["135064",true,"8806109090 - Other",24220,24218,false,{"$f":"VALUE(Table2[[#This Row],[Identifier]])","v":135064}]
["135073",true,"8806229000 - Other",24229,24227,false,{"$f":"VALUE(Table2[[#This Row],[Identifier]])","v":135073}]
["135076",true,"8806230000 - With maximum take-off weight more than 7|kg but not more than 25|kg",24232,24221,false,{"$f":"VALUE(Table2[[#This Row],[Identifier]])","v":135076}]
["135084",true,"8806291010 - For civil use",24240,24239,false,{"$f":"VALUE(Table2[[#This Row],[Identifier]])","v":135084}]
["135087",true,"8806292010 - For civil use",24243,24242,false,{"$f":"VALUE(Table2[[#This Row],[Identifier]])","v":135087}]
["135094",true,"8806920010 - For civil use",24250,24249,false,{"$f":"VALUE(Table2[[#This Row],[Identifier]])","v":135094}]
["135102",true,"8806990000 - Other",24258,24245,false,{"$f":"VALUE(Table2[[#This Row],[Identifier]])","v":135102}]
["135111",true,"8807100010 - For use in civil aircraft",24267,24266,false,{"$f":"VALUE(Table2[[#This Row],[Identifier]])","v":135111}]
["135114",true,"8807200000 - Under-carriages and parts thereof",24270,24265,false,{"$f":"VALUE(Table2[[#This Row],[Identifier]])","v":135114}]
["135123",true,"8807300099 - Other",24279,24277,false,{"$f":"VALUE(Table2[[#This Row],[Identifier]])","v":135123}]
["135124",true,"8807900000 - Other",24280,24265,false,{"$f":"VALUE(Table2[[#This Row],[Identifier]])","v":135124}]
["135132",true,"8807909020 - Intended to be fitted in aircraft imported duty free or built within the Community",24288,24286,false,{"$f":"VALUE(Table2[[#This Row],[Identifier]])","v":135132}]
["106784",true,"8901101000 - Seagoing",24293,24292,false,{"$f":"VALUE(Table2[[#This Row],[Identifier]])","v":106784}]
["106791",true,"8901309000 - Other",24300,24298,false,{"$f":"VALUE(Table2[[#This Row],[Identifier]])","v":106791}]
["135135",true,"8903110000 - Fitted or designed to be fitted with a motor, unladen (net) weight (excluding the motor) not exceeding 100|kg",24309,24308,false,{"$f":"VALUE(Table2[[#This Row],[Identifier]])","v":135135}]
["135137",true,"8903190000 - Other",24311,24308,false,{"$f":"VALUE(Table2[[#This Row],[Identifier]])","v":135137}]
["135146",false,"8903310000 - Motorboats, other than inflatable, not including outboard motorboats",24320,24307,false,{"$f":"VALUE(Table2[[#This Row],[Identifier]])","v":135146}]
["135155",true,"8903930000 - Of a length not exceeding 7,5|m",24329,24328,false,{"$f":"VALUE(Table2[[#This Row],[Identifier]])","v":135155}]
["135156",true,"8903931000 - Of a weight not exceeding 100|kg each",24330,24329,false,{"$f":"VALUE(Table2[[#This Row],[Identifier]])","v":135156}]
["106813",true,"8904009900 - Other",24339,24337,false,{"$f":"VALUE(Table2[[#This Row],[Identifier]])","v":106813}]
["112914",false,"8906000000 - Other vessels, including warships and lifeboats other than rowing boats",24348,24290,false,{"$f":"VALUE(Table2[[#This Row],[Identifier]])","v":112914}]
["106822",true,"8906900000 - Other",24350,24348,false,{"$f":"VALUE(Table2[[#This Row],[Identifier]])","v":106822}]
["112917",false,"SECTION XVIII (90 - 92) Optical, photographic, cinematographic, measuring, checking, precision, medical or surgical instruments and apparatus; clocks and watches; musical instruments; parts and accessories thereof",24359,"",false,{"$f":"VALUE(Table2[[#This Row],[Identifier]])","v":112917}]
["106835",true,"9001109090 - Other",24366,24364,false,{"$f":"VALUE(Table2[[#This Row],[Identifier]])","v":106835}]
["106836",true,"9001200000 - Sheets and plates of polarising material",24367,24361,false,{"$f":"VALUE(Table2[[#This Row],[Identifier]])","v":106836}]
["112923",false,"9001504100 - Both sides finished",24379,24378,false,{"$f":"VALUE(Table2[[#This Row],[Identifier]])","v":112923}]
["106845",true,"9001504100 - Single focal",24380,24379,false,{"$f":"VALUE(Table2[[#This Row],[Identifier]])","v":106845}]
["106854",true,"9001900000 - Other",24389,24361,false,{"$f":"VALUE(Table2[[#This Row],[Identifier]])","v":106854}]
["106869",true,"9002110020 - Lenses\n- measuring not more than 95 mm x 55 mm x 50 mm,\n- with a resolution of 160 lines/mm or better, and\n- with a zoom ratio of 3 or more times",24396,24394,false,{"$f":"VALUE(Table2[[#This Row],[Identifier]])","v":106869}]
["106881",true,"9002900000 - Other",24404,24392,false,{"$f":"VALUE(Table2[[#This Row],[Identifier]])","v":106881}]
["112927",false,"9003110000 - Frames and mountings",24409,24408,false,{"$f":"VALUE(Table2[[#This Row],[Identifier]])","v":112927}]
["106892",true,"9003900090 - Other",24416,24414,false,{"$f":"VALUE(Table2[[#This Row],[Identifier]])","v":106892}]
["106894",true,"9004101000 - With lenses optically worked",24419,24418,false,{"$f":"VALUE(Table2[[#This Row],[Identifier]])","v":106894}]
["106897",true,"9004900000 - Other",24423,24417,false,{"$f":"VALUE(Table2[[#This Row],[Identifier]])","v":106897}]
["112931",false,"9006000000 - Photographic (other than cinematographic) cameras; photographic flashlight apparatus and flashbulbs other than discharge lamps of heading|8539",24430,24360,false,{"$f":"VALUE(Table2[[#This Row],[Identifier]])","v":112931}]
["106911",true,"9006610000 - Discharge lamp (electronic) flashlight apparatus",24439,24438,false,{"$f":"VALUE(Table2[[#This Row],[Identifier]])","v":106911}]
["106916",true,"9007200000 - Projectors",24446,24444,false,{"$f":"VALUE(Table2[[#This Row],[Identifier]])","v":106916}]
["106922",true,"9007920090 - Other",24453,24451,false,{"$f":"VALUE(Table2[[#This Row],[Identifier]])","v":106922}]
["106926",true,"9010500000 - Other apparatus and equipment for photographic (including cinematographic) laboratories; negatoscopes",24459,24457,false,{"$f":"VALUE(Table2[[#This Row],[Identifier]])","v":106926}]
["106934",true,"9011200000 - Other microscopes, for photomicrography, cinephotomicrography or microprojection",24466,24464,false,{"$f":"VALUE(Table2[[#This Row],[Identifier]])","v":106934}]
["106937",true,"9011800000 - Other microscopes",24469,24464,false,{"$f":"VALUE(Table2[[#This Row],[Identifier]])","v":106937}]
["106948",true,"9013101000 - Telescopes designed to form parts of machines, appliances, instruments or apparatus of this chapter or Section XVI",24476,24475,false,{"$f":"VALUE(Table2[[#This Row],[Identifier]])","v":106948}]
["112943",false,"9014000000 - Direction finding compasses; other navigational instruments and appliances",24483,24360,false,{"$f":"VALUE(Table2[[#This Row],[Identifier]])","v":112943}]
["106966",true,"9014208000 - Other",24489,24487,false,{"$f":"VALUE(Table2[[#This Row],[Identifier]])","v":106966}]
["106980",true,"9015301000 - Electronic",24496,24495,false,{"$f":"VALUE(Table2[[#This Row],[Identifier]])","v":106980}]
["106985",true,"9015800000 - Other instruments and appliances",24499,24492,false,{"$f":"VALUE(Table2[[#This Row],[Identifier]])","v":106985}]
["106995",true,"9017101000 - Plotters",24509,24508,false,{"$f":"VALUE(Table2[[#This Row],[Identifier]])","v":106995}]
["107002",true,"9017300000 - Micrometers, callipers and gauges",24516,24507,false,{"$f":"VALUE(Table2[[#This Row],[Identifier]])","v":107002}]
["107005",true,"9017809000 - Other",24519,24517,false,{"$f":"VALUE(Table2[[#This Row],[Identifier]])","v":107005}]
["107010",true,"9018140000 - Scintigraphic apparatus",24526,24522,false,{"$f":"VALUE(Table2[[#This Row],[Identifier]])","v":107010}]
["107013",true,"9018199000 - Other",24529,24527,false,{"$f":"VALUE(Table2[[#This Row],[Identifier]])","v":107013}]
["112950",false,"9018410000 - Other instruments and appliances, used in dental sciences",24539,24521,false,{"$f":"VALUE(Table2[[#This Row],[Identifier]])","v":112950}]
["107028",true,"9018509000 - Optical",24546,24544,false,{"$f":"VALUE(Table2[[#This Row],[Identifier]])","v":107028}]
["107031",true,"9018902000 - Endoscopes",24549,24547,false,{"$f":"VALUE(Table2[[#This Row],[Identifier]])","v":107031}]
["107039",true,"9019101000 - Electrical vibratory-massage apparatus",24558,24557,false,{"$f":"VALUE(Table2[[#This Row],[Identifier]])","v":107039}]
["131500",true,"9019202000 - Mechanical ventilation apparatus, non-invasive",24562,24560,false,{"$f":"VALUE(Table2[[#This Row],[Identifier]])","v":131500}]
["131506",true,"9020009011 - Breathing appliances (excluding parts thereof), for use in civil aircraft",24569,24568,false,{"$f":"VALUE(Table2[[#This Row],[Identifier]])","v":131506}]
["107048",true,"9021109000 - Splints and other fracture appliances",24576,24574,false,{"$f":"VALUE(Table2[[#This Row],[Identifier]])","v":107048}]
["107050",true,"9021211000 - Of plastics",24579,24578,false,{"$f":"VALUE(Table2[[#This Row],[Identifier]])","v":107050}]
["107058",true,"9021500000 - Pacemakers for stimulating heart muscles, excluding parts and accessories",24588,24573,false,{"$f":"VALUE(Table2[[#This Row],[Identifier]])","v":107058}]
["107064",true,"9022140000 - Other, for medical, surgical or veterinary uses",24596,24593,false,{"$f":"VALUE(Table2[[#This Row],[Identifier]])","v":107064}]
["107066",true,"9022210000 - For medical, surgical, dental or veterinary uses",24599,24598,false,{"$f":"VALUE(Table2[[#This Row],[Identifier]])","v":107066}]
["107072",true,"9023001000 - Of a type used for teaching physics, chemistry or technical subjects",24606,24605,false,{"$f":"VALUE(Table2[[#This Row],[Identifier]])","v":107072}]
["112962",false,"9025000000 - Hydrometers and similar floating instruments, thermometers, pyrometers, barometers, hygrometers and psychrometers, recording or not, and any combination of these instruments",24615,24360,false,{"$f":"VALUE(Table2[[#This Row],[Identifier]])","v":112962}]
["107084",true,"9025112000 - Clinical or veterinary thermometers",24618,24617,false,{"$f":"VALUE(Table2[[#This Row],[Identifier]])","v":107084}]
["107094",true,"9025802000 - Barometers, not combined with other instruments",24626,24625,false,{"$f":"VALUE(Table2[[#This Row],[Identifier]])","v":107094}]
["107096",true,"9025804010 - For use in civil aircraft",24629,24628,false,{"$f":"VALUE(Table2[[#This Row],[Identifier]])","v":107096}]
["107104",true,"9025900010 - For use in civil aircraft",24638,24637,false,{"$f":"VALUE(Table2[[#This Row],[Identifier]])","v":107104}]
["107106",true,"9026100000 - For measuring or checking the flow or level of liquids",24641,24640,false,{"$f":"VALUE(Table2[[#This Row],[Identifier]])","v":107106}]
["107112",true,"9026202000 - Electronic",24649,24648,false,{"$f":"VALUE(Table2[[#This Row],[Identifier]])","v":107112}]
["107118",true,"9026900000 - Parts and accessories",24656,24640,false,{"$f":"VALUE(Table2[[#This Row],[Identifier]])","v":107118}]
["135160",true,"9027810000 - Mass spectrometers",24665,24664,false,{"$f":"VALUE(Table2[[#This Row],[Identifier]])","v":135160}]
["135163",true,"9027893000 - pH meters, rH meters and other apparatus for measuring conductivity",24668,24666,false,{"$f":"VALUE(Table2[[#This Row],[Identifier]])","v":135163}]
["107141",true,"9028309000 - Other",24678,24674,false,{"$f":"VALUE(Table2[[#This Row],[Identifier]])","v":107141}]
["107142",true,"9028900000 - Parts and accessories",24679,24671,false,{"$f":"VALUE(Table2[[#This Row],[Identifier]])","v":107142}]
["107149",true,"9029200000 - Speed indicators and tachometers; stroboscopes",24686,24682,false,{"$f":"VALUE(Table2[[#This Row],[Identifier]])","v":107149}]
["107157",true,"9029900000 - Parts and accessories",24695,24682,false,{"$f":"VALUE(Table2[[#This Row],[Identifier]])","v":107157}]
["107159",true,"9029900040 - Clustered instrument panel with:\n— stepping motors,\n— analog pointers and dials,\n— or without microprocessor control board,\n— or without LED indicators or LCD display,\n— showing at least:\n— speed,\n— engine revolutions,\n— engine temperature,\n— the fuel level,\n— communicating via CAN-BUS and/or K-LINE protocols,\nfor use in the manufacture of goods of Chapter 87",24697,24695,false,{"$f":"VALUE(Table2[[#This Row],[Identifier]])","v":107159}]
["107166",true,"9030320000 - Multimeters, with a recording device",24706,24702,false,{"$f":"VALUE(Table2[[#This Row],[Identifier]])","v":107166}]
["107179",true,"9030820000 - For measuring or checking semiconductor wafers or devices (including integrated circuits)",24715,24714,false,{"$f":"VALUE(Table2[[#This Row],[Identifier]])","v":107179}]
["107186",true,"9030900000 - Parts and accessories",24718,24699,false,{"$f":"VALUE(Table2[[#This Row],[Identifier]])","v":107186}]
["107191",true,"9031491000 - Profile projectors",24725,24724,false,{"$f":"VALUE(Table2[[#This Row],[Identifier]])","v":107191}]
["107199",true,"9032102010 - For use in civil aircraft",24734,24733,false,{"$f":"VALUE(Table2[[#This Row],[Identifier]])","v":107199}]
["107201",true,"9032108000 - Other",24736,24732,false,{"$f":"VALUE(Table2[[#This Row],[Identifier]])","v":107201}]
["107209",true,"9032890010 - For use in civil aircraft",24745,24744,false,{"$f":"VALUE(Table2[[#This Row],[Identifier]])","v":107209}]
["107212",true,"9032890050 - Gas panel for regulating and controlling of the gas flow rate, working with plasma technology, comprising\n \n-|an electronic mass flow regulator, suitable for receiving and sending of analogue and digital signals\n \n-|four pressure transducers,\n \n-|two or more pressure valves,\n \n-|electric interfaces and\n \n-|several connectors for gas lines\n \n-|suitable for in-situ plasma bonding processes or for multi frequency bond activating processes|",24748,24744,false,{"$f":"VALUE(Table2[[#This Row],[Identifier]])","v":107212}]
["112989",false,"9101000000 - Wristwatches, pocket-watches and other watches, including stopwatches, with case of precious metal or of metal clad with precious metal",24757,24756,false,{"$f":"VALUE(Table2[[#This Row],[Identifier]])","v":112989}]
["107223",true,"9101910000 - Electrically operated",24765,24764,false,{"$f":"VALUE(Table2[[#This Row],[Identifier]])","v":107223}]
["112994",false,"9102110000 - Wristwatches, electrically operated, whether or not incorporating a stopwatch facility",24768,24767,false,{"$f":"VALUE(Table2[[#This Row],[Identifier]])","v":112994}]
["112996",false,"9102910000 - Other",24775,24767,false,{"$f":"VALUE(Table2[[#This Row],[Identifier]])","v":112996}]
["107236",true,"9104000090 - Other",24783,24781,false,{"$f":"VALUE(Table2[[#This Row],[Identifier]])","v":107236}]
["107237",true,"9105110000 - Electrically operated",24786,24785,false,{"$f":"VALUE(Table2[[#This Row],[Identifier]])","v":107237}]
["107243",true,"9106100000 - Time-registers; time-recorders",24795,24794,false,{"$f":"VALUE(Table2[[#This Row],[Identifier]])","v":107243}]
["107246",true,"9107000010 - Time switches, with clock or watch movement, used in automatic systems, intended in certain types of aircraft",24798,24797,false,{"$f":"VALUE(Table2[[#This Row],[Identifier]])","v":107246}]
["107251",true,"9108200000 - With automatic winding",24805,24800,false,{"$f":"VALUE(Table2[[#This Row],[Identifier]])","v":107251}]
["107258",true,"9109900090 - Other",24813,24811,false,{"$f":"VALUE(Table2[[#This Row],[Identifier]])","v":107258}]
["107259",true,"9110110000 - Complete movements, unassembled or partly assembled (movement sets)",24816,24815,false,{"$f":"VALUE(Table2[[#This Row],[Identifier]])","v":107259}]
["107268",true,"9110900090 - Other",24825,24823,false,{"$f":"VALUE(Table2[[#This Row],[Identifier]])","v":107268}]
["107270",true,"9111200000 - Cases of base metal, whether or not gold- or silver-plated",24828,24826,false,{"$f":"VALUE(Table2[[#This Row],[Identifier]])","v":107270}]
["107276",true,"9113101000 - Of precious metal",24836,24835,false,{"$f":"VALUE(Table2[[#This Row],[Identifier]])","v":107276}]
["107283",true,"9113900095 - Other",24845,24843,false,{"$f":"VALUE(Table2[[#This Row],[Identifier]])","v":107283}]
["107288",true,"9114300000 - Dials",24848,24847,false,{"$f":"VALUE(Table2[[#This Row],[Identifier]])","v":107288}]
["135165",true,"9114901000 - Springs, including hairsprings",24855,24854,false,{"$f":"VALUE(Table2[[#This Row],[Identifier]])","v":135165}]
["107298",true,"9201101000 - New",24864,24863,false,{"$f":"VALUE(Table2[[#This Row],[Identifier]])","v":107298}]
["107300",true,"9201200000 - Grand pianos",24866,24862,false,{"$f":"VALUE(Table2[[#This Row],[Identifier]])","v":107300}]
["113017",false,"9205000000 - Wind musical instruments (for example, keyboard pipe organs, accordions, clarinets, trumpets, bagpipes), other than fairground organs and mechanical street organs",24875,24861,false,{"$f":"VALUE(Table2[[#This Row],[Identifier]])","v":113017}]
["107310",true,"9205901000 - Accordions and similar instruments",24878,24877,false,{"$f":"VALUE(Table2[[#This Row],[Identifier]])","v":107310}]
["107316",true,"9207101000 - Organs",24885,24884,false,{"$f":"VALUE(Table2[[#This Row],[Identifier]])","v":107316}]
["113019",false,"9208000000 - Musical boxes, fairground organs, mechanical street organs, mechanical singing birds, musical saws and other musical instruments not falling within any other heading of this chapter; decoy calls of all kinds; whistles, call horns and other mouth-blown sound signalling instruments",24892,24861,false,{"$f":"VALUE(Table2[[#This Row],[Identifier]])","v":113019}]
["107330",true,"9209992000 - Parts and accessories for the musical instruments of heading|9205",24902,24901,false,{"$f":"VALUE(Table2[[#This Row],[Identifier]])","v":107330}]
["107332",true,"9209995000 - Mechanisms for musical boxes",24905,24903,false,{"$f":"VALUE(Table2[[#This Row],[Identifier]])","v":107332}]
["113026",false,"9303000000 - Other firearms and similar devices which operate by the firing of an explosive charge (for example, sporting shotguns and rifles, muzzle-loading firearms, Very pistols and other devices designed to project only signal flares, pistols and revolvers for firing blank ammunition, captive-bolt humane killers, line-throwing guns)",24914,24908,false,{"$f":"VALUE(Table2[[#This Row],[Identifier]])","v":113026}]
["107338",true,"9303100000 - Muzzle-loading firearms",24915,24914,false,{"$f":"VALUE(Table2[[#This Row],[Identifier]])","v":107338}]
["107347",true,"9305200010 - Shotgun barrels",24925,24924,false,{"$f":"VALUE(Table2[[#This Row],[Identifier]])","v":107347}]
["107349",true,"9305910000 - Of military weapons of heading|9301",24928,24927,false,{"$f":"VALUE(Table2[[#This Row],[Identifier]])","v":107349}]
["107354",true,"9306290090 - Other",24935,24933,false,{"$f":"VALUE(Table2[[#This Row],[Identifier]])","v":107354}]
["107362",true,"9307000000 - Swords, cutlasses, bayonets, lances and similar arms and parts thereof and scabbards and sheaths therefor",24944,24908,false,{"$f":"VALUE(Table2[[#This Row],[Identifier]])","v":107362}]
["135173",true,"9401390000 - Other",24952,24950,false,{"$f":"VALUE(Table2[[#This Row],[Identifier]])","v":135173}]
["135176",true,"9401490000 - Other",24955,24953,false,{"$f":"VALUE(Table2[[#This Row],[Identifier]])","v":135176}]
["107372",true,"9401710000 - Upholstered",24964,24963,false,{"$f":"VALUE(Table2[[#This Row],[Identifier]])","v":107372}]
["107373",true,"9401790000 - Other",24965,24963,false,{"$f":"VALUE(Table2[[#This Row],[Identifier]])","v":107373}]
["135181",true,"9401911090 - Other",24971,24969,false,{"$f":"VALUE(Table2[[#This Row],[Identifier]])","v":135181}]
["135188",true,"9401999010 - Ratchet disk for use in the manufacture of reclining car seats",24978,24977,false,{"$f":"VALUE(Table2[[#This Row],[Identifier]])","v":135188}]
["113041",false,"9403105100 - Not exceeding 80|cm in height",24985,24984,false,{"$f":"VALUE(Table2[[#This Row],[Identifier]])","v":113041}]
["107394",true,"9403208000 - Other",24994,24992,false,{"$f":"VALUE(Table2[[#This Row],[Identifier]])","v":107394}]
["107399",true,"9403309900 - Other",25001,24999,false,{"$f":"VALUE(Table2[[#This Row],[Identifier]])","v":107399}]
["107406",true,"9403409090 - Other",25008,25006,false,{"$f":"VALUE(Table2[[#This Row],[Identifier]])","v":107406}]
["107412",true,"9403700000 - Furniture of plastics",25014,24983,false,{"$f":"VALUE(Table2[[#This Row],[Identifier]])","v":107412}]
["113045",false,"9403820000 - Furniture of other materials, including cane, osier, bamboo or similar materials",25015,24983,false,{"$f":"VALUE(Table2[[#This Row],[Identifier]])","v":113045}]
["107421",true,"9403890090 - Other",25024,25022,false,{"$f":"VALUE(Table2[[#This Row],[Identifier]])","v":107421}]
["135196",true,"9403991010 - Hand-made",25031,25030,false,{"$f":"VALUE(Table2[[#This Row],[Identifier]])","v":135196}]
["135200",true,"9403999090 - Other",25035,25033,false,{"$f":"VALUE(Table2[[#This Row],[Identifier]])","v":135200}]
["107438",true,"9404299000 - Other",25044,25042,false,{"$f":"VALUE(Table2[[#This Row],[Identifier]])","v":107438}]
["107442",true,"9404909000 - Other",25051,25049,false,{"$f":"VALUE(Table2[[#This Row],[Identifier]])","v":107442}]
["135208",true,"9405114090 - Other",25057,25055,false,{"$f":"VALUE(Table2[[#This Row],[Identifier]])","v":135208}]
["135210",true,"9405119000 - Of other materials",25059,25054,false,{"$f":"VALUE(Table2[[#This Row],[Identifier]])","v":135210}]
["135211",true,"9405119010 - Hand-made",25060,25059,false,{"$f":"VALUE(Table2[[#This Row],[Identifier]])","v":135211}]
["135212",true,"9405119020 - Of base metal, for use in civil aircraft",25061,25059,false,{"$f":"VALUE(Table2[[#This Row],[Identifier]])","v":135212}]
["135213",true,"9405119090 - Other",25062,25059,false,{"$f":"VALUE(Table2[[#This Row],[Identifier]])","v":135213}]
["135214",true,"9405190000 - Other",25063,25053,false,{"$f":"VALUE(Table2[[#This Row],[Identifier]])","v":135214}]
["135215",true,"9405194000 - Of plastics or of ceramic materials",25064,25063,false,{"$f":"VALUE(Table2[[#This Row],[Identifier]])","v":135215}]
["135216",true,"9405194010 - For use in civil aircraft",25065,25064,false,{"$f":"VALUE(Table2[[#This Row],[Identifier]])","v":135216}]
["135217",true,"9405194090 - Other",25066,25064,false,{"$f":"VALUE(Table2[[#This Row],[Identifier]])","v":135217}]
["135218",true,"9405195000 - Of glass",25067,25063,false,{"$f":"VALUE(Table2[[#This Row],[Identifier]])","v":135218}]
["135219",true,"9405199000 - Of other materials",25068,25063,false,{"$f":"VALUE(Table2[[#This Row],[Identifier]])","v":135219}]
["135220",true,"9405199010 - Hand-made",25069,25068,false,{"$f":"VALUE(Table2[[#This Row],[Identifier]])","v":135220}]
["135221",true,"9405199020 - Of base metal, for use in civil aircraft",25070,25068,false,{"$f":"VALUE(Table2[[#This Row],[Identifier]])","v":135221}]
["135222",true,"9405199090 - Other",25071,25068,false,{"$f":"VALUE(Table2[[#This Row],[Identifier]])","v":135222}]
["135223",false,"9405210000 - Electric table, desk, bedside or floor-standing luminaires",25072,25052,false,{"$f":"VALUE(Table2[[#This Row],[Identifier]])","v":135223}]
["135224",true,"9405210000 - Designed for use solely with light-emitting diode (LED) light sources",25073,25072,false,{"$f":"VALUE(Table2[[#This Row],[Identifier]])","v":135224}]
["135225",true,"9405214000 - Of plastics or of ceramic materials",25074,25073,false,{"$f":"VALUE(Table2[[#This Row],[Identifier]])","v":135225}]
["135226",true,"9405215000 - Of glass",25075,25073,false,{"$f":"VALUE(Table2[[#This Row],[Identifier]])","v":135226}]
["135227",true,"9405219000 - Of other materials",25076,25073,false,{"$f":"VALUE(Table2[[#This Row],[Identifier]])","v":135227}]
["135228",true,"9405219010 - Hand-made",25077,25076,false,{"$f":"VALUE(Table2[[#This Row],[Identifier]])","v":135228}]
["135229",true,"9405219090 - Other",25078,25076,false,{"$f":"VALUE(Table2[[#This Row],[Identifier]])","v":135229}]
["135230",true,"9405290000 - Other",25079,25072,false,{"$f":"VALUE(Table2[[#This Row],[Identifier]])","v":135230}]
["135231",true,"9405294000 - Of plastics or of ceramic materials",25080,25079,false,{"$f":"VALUE(Table2[[#This Row],[Identifier]])","v":135231}]
["135232",true,"9405295000 - Of glass",25081,25079,false,{"$f":"VALUE(Table2[[#This Row],[Identifier]])","v":135232}]
["135233",true,"9405299000 - Of other materials",25082,25079,false,{"$f":"VALUE(Table2[[#This Row],[Identifier]])","v":135233}]
["135234",true,"9405299010 - Hand-made",25083,25082,false,{"$f":"VALUE(Table2[[#This Row],[Identifier]])","v":135234}]
["135235",true,"9405299090 - Other",25084,25082,false,{"$f":"VALUE(Table2[[#This Row],[Identifier]])","v":135235}]
["135236",false,"9405310000 - Lighting strings of a kind used for Christmas trees",25085,25052,false,{"$f":"VALUE(Table2[[#This Row],[Identifier]])","v":135236}]
["135237",true,"9405310000 - Designed for use solely with light-emitting diode (LED) light sources",25086,25085,false,{"$f":"VALUE(Table2[[#This Row],[Identifier]])","v":135237}]
["135238",true,"9405390000 - Other",25087,25085,false,{"$f":"VALUE(Table2[[#This Row],[Identifier]])","v":135238}]
["135239",false,"9405410000 - Other electric luminaires and lighting fittings",25088,25052,false,{"$f":"VALUE(Table2[[#This Row],[Identifier]])","v":135239}]
["135240",true,"9405410000 - Photovoltaic, designed for use solely with light-emitting diode (LED) light sources",25089,25088,false,{"$f":"VALUE(Table2[[#This Row],[Identifier]])","v":135240}]
["135241",true,"9405411000 - Searchlights and spotlights",25090,25089,false,{"$f":"VALUE(Table2[[#This Row],[Identifier]])","v":135241}]
["135242",false,"9405413100 - Other",25091,25089,false,{"$f":"VALUE(Table2[[#This Row],[Identifier]])","v":135242}]
["135243",true,"9405413100 - Of plastics",25092,25091,false,{"$f":"VALUE(Table2[[#This Row],[Identifier]])","v":135243}]
["135244",true,"9405413900 - Other",25093,25091,false,{"$f":"VALUE(Table2[[#This Row],[Identifier]])","v":135244}]
["135245",true,"9405413910 - Hand-made",25094,25093,false,{"$f":"VALUE(Table2[[#This Row],[Identifier]])","v":135245}]
["135246",true,"9405413990 - Other",25095,25093,false,{"$f":"VALUE(Table2[[#This Row],[Identifier]])","v":135246}]
["135247",true,"9405420000 - Other, designed for use solely with light-emitting diode (LED) light sources",25096,25088,false,{"$f":"VALUE(Table2[[#This Row],[Identifier]])","v":135247}]
["135248",true,"9405421000 - Searchlights and spotlights",25097,25096,false,{"$f":"VALUE(Table2[[#This Row],[Identifier]])","v":135248}]
["135249",false,"9405423100 - Other",25098,25096,false,{"$f":"VALUE(Table2[[#This Row],[Identifier]])","v":135249}]
["135250",true,"9405423100 - Of plastics",25099,25098,false,{"$f":"VALUE(Table2[[#This Row],[Identifier]])","v":135250}]
["135251",true,"9405423170 - Printed circuit board with LED diodes:\n- whether or not equipped with prisms/lens, and\n- whether or not fitted with connector(s)\nfor the manufacture of backlight units for goods of heading 8528",25100,25099,false,{"$f":"VALUE(Table2[[#This Row],[Identifier]])","v":135251}]
["135252",true,"9405423190 - Other",25101,25099,false,{"$f":"VALUE(Table2[[#This Row],[Identifier]])","v":135252}]
["135253",true,"9405423900 - Other",25102,25098,false,{"$f":"VALUE(Table2[[#This Row],[Identifier]])","v":135253}]
["135254",true,"9405423910 - Hand-made",25103,25102,false,{"$f":"VALUE(Table2[[#This Row],[Identifier]])","v":135254}]
["135255",true,"9405423990 - Other",25104,25102,false,{"$f":"VALUE(Table2[[#This Row],[Identifier]])","v":135255}]
["135256",true,"9405490000 - Other",25105,25088,false,{"$f":"VALUE(Table2[[#This Row],[Identifier]])","v":135256}]
["135257",true,"9405491000 - Searchlights and spotlights",25106,25105,false,{"$f":"VALUE(Table2[[#This Row],[Identifier]])","v":135257}]
["135258",false,"9405494000 - Other",25107,25105,false,{"$f":"VALUE(Table2[[#This Row],[Identifier]])","v":135258}]
["135259",true,"9405494000 - Of plastics",25108,25107,false,{"$f":"VALUE(Table2[[#This Row],[Identifier]])","v":135259}]
["135260",true,"9405499000 - Of other materials",25109,25107,false,{"$f":"VALUE(Table2[[#This Row],[Identifier]])","v":135260}]
["135261",true,"9405499010 - Hand-made",25110,25109,false,{"$f":"VALUE(Table2[[#This Row],[Identifier]])","v":135261}]
["135262",true,"9405499090 - Other",25111,25109,false,{"$f":"VALUE(Table2[[#This Row],[Identifier]])","v":135262}]
["107480",true,"9405500000 - Non-electrical luminaires and lighting fittings",25112,25052,false,{"$f":"VALUE(Table2[[#This Row],[Identifier]])","v":107480}]
["107481",true,"9405500010 - Hand-made",25113,25112,false,{"$f":"VALUE(Table2[[#This Row],[Identifier]])","v":107481}]
["107482",true,"9405500090 - Other",25114,25112,false,{"$f":"VALUE(Table2[[#This Row],[Identifier]])","v":107482}]
["135263",false,"9405610000 - Illuminated signs, illuminated nameplates and the like",25115,25052,false,{"$f":"VALUE(Table2[[#This Row],[Identifier]])","v":135263}]
["135264",true,"9405610000 - Designed for use solely with light-emitting diode (LED) light sources",25116,25115,false,{"$f":"VALUE(Table2[[#This Row],[Identifier]])","v":135264}]
["135265",true,"9405612000 - Of plastics",25117,25116,false,{"$f":"VALUE(Table2[[#This Row],[Identifier]])","v":135265}]
["135266",true,"9405612010 - Illuminated signs, illuminated name-plates and the like, for use in civil aircraft",25118,25117,false,{"$f":"VALUE(Table2[[#This Row],[Identifier]])","v":135266}]
["135267",true,"9405612090 - Other",25119,25117,false,{"$f":"VALUE(Table2[[#This Row],[Identifier]])","v":135267}]
["135268",true,"9405618000 - Of other materials",25120,25116,false,{"$f":"VALUE(Table2[[#This Row],[Identifier]])","v":135268}]
["135269",true,"9405618010 - Illuminated signs, illuminated name-plates and the like, of base metal, for use in civil aircraft",25121,25120,false,{"$f":"VALUE(Table2[[#This Row],[Identifier]])","v":135269}]
["135270",true,"9405618020 - Hand-made",25122,25120,false,{"$f":"VALUE(Table2[[#This Row],[Identifier]])","v":135270}]
["135271",true,"9405618090 - Other",25123,25120,false,{"$f":"VALUE(Table2[[#This Row],[Identifier]])","v":135271}]
["135272",true,"9405690000 - Other",25124,25115,false,{"$f":"VALUE(Table2[[#This Row],[Identifier]])","v":135272}]
["135273",true,"9405692000 - Of plastics",25125,25124,false,{"$f":"VALUE(Table2[[#This Row],[Identifier]])","v":135273}]
["135274",true,"9405692010 - Illuminated signs, illuminated name-plates and the like, for use in civil aircraft",25126,25125,false,{"$f":"VALUE(Table2[[#This Row],[Identifier]])","v":135274}]
["135275",true,"9405692090 - Other",25127,25125,false,{"$f":"VALUE(Table2[[#This Row],[Identifier]])","v":135275}]
["135276",true,"9405698000 - Of other materials",25128,25124,false,{"$f":"VALUE(Table2[[#This Row],[Identifier]])","v":135276}]
["135277",true,"9405698010 - Illuminated signs, illuminated name-plates and the like, of base metal, for use in civil aircraft",25129,25128,false,{"$f":"VALUE(Table2[[#This Row],[Identifier]])","v":135277}]
["135278",true,"9405698020 - Hand-made",25130,25128,false,{"$f":"VALUE(Table2[[#This Row],[Identifier]])","v":135278}]
["135279",true,"9405698090 - Other",25131,25128,false,{"$f":"VALUE(Table2[[#This Row],[Identifier]])","v":135279}]
["113056",false,"9405910000 - Parts",25132,25052,false,{"$f":"VALUE(Table2[[#This Row],[Identifier]])","v":113056}]
["107491",true,"9405910000 - Of glass",25133,25132,false,{"$f":"VALUE(Table2[[#This Row],[Identifier]])","v":107491}]
["107492",true,"9405911000 - Articles for electrical lighting fittings (excluding searchlights and spotlights)",25134,25133,false,{"$f":"VALUE(Table2[[#This Row],[Identifier]])","v":107492}]
["107493",true,"9405919000 - Other",25135,25133,false,{"$f":"VALUE(Table2[[#This Row],[Identifier]])","v":107493}]
["107494",true,"9405920000 - Of plastics",25136,25132,false,{"$f":"VALUE(Table2[[#This Row],[Identifier]])","v":107494}]
["107495",true,"9405920010 - Parts of the articles of subheading 9405|11, 9405|19, 9405|61|or 9405|69, for use in civil aircraft",25137,25136,false,{"$f":"VALUE(Table2[[#This Row],[Identifier]])","v":107495}]
["107496",true,"9405920090 - Other",25138,25136,false,{"$f":"VALUE(Table2[[#This Row],[Identifier]])","v":107496}]
["107497",true,"9405990000 - Other",25139,25132,false,{"$f":"VALUE(Table2[[#This Row],[Identifier]])","v":107497}]
["107498",true,"9405990010 - Parts of the articles of subheading 9405|11, 9405|19, 9405|61|or 9405|69, of base metal, for use in civil aircraft",25140,25139,false,{"$f":"VALUE(Table2[[#This Row],[Identifier]])","v":107498}]
["107499",true,"9405990020 - Hand-made",25141,25139,false,{"$f":"VALUE(Table2[[#This Row],[Identifier]])","v":107499}]
["107500",true,"9405990090 - Other",25142,25139,false,{"$f":"VALUE(Table2[[#This Row],[Identifier]])","v":107500}]
["113057",false,"9406000000 - Prefabricated buildings",25143,24946,false,{"$f":"VALUE(Table2[[#This Row],[Identifier]])","v":113057}]
["107501",true,"9406100000 - Of wood",25144,25143,false,{"$f":"VALUE(Table2[[#This Row],[Identifier]])","v":107501}]
["135280",true,"9406200000 - Modular building units, of steel",25145,25143,false,{"$f":"VALUE(Table2[[#This Row],[Identifier]])","v":135280}]
["107502",true,"9406900000 - Other",25146,25143,false,{"$f":"VALUE(Table2[[#This Row],[Identifier]])","v":107502}]
["107503",true,"9406901000 - Mobile homes",25147,25146,false,{"$f":"VALUE(Table2[[#This Row],[Identifier]])","v":107503}]
["113058",false,"9406903100 - Other",25148,25146,false,{"$f":"VALUE(Table2[[#This Row],[Identifier]])","v":113058}]
["113059",false,"9406903100 - Of iron or steel",25149,25148,false,{"$f":"VALUE(Table2[[#This Row],[Identifier]])","v":113059}]
["107504",true,"9406903100 - Greenhouses",25150,25149,false,{"$f":"VALUE(Table2[[#This Row],[Identifier]])","v":107504}]
["107505",true,"9406903800 - Other",25151,25149,false,{"$f":"VALUE(Table2[[#This Row],[Identifier]])","v":107505}]
["107506",true,"9406909000 - Of other materials",25152,25148,false,{"$f":"VALUE(Table2[[#This Row],[Identifier]])","v":107506}]
["113060",false,"9500000000 - Toys, games and sports requisites; parts and accessories thereof",25153,24945,false,{"$f":"VALUE(Table2[[#This Row],[Identifier]])","v":113060}]
["113061",false,"9503000000 - Tricycles, scooters, pedal cars and similar wheeled toys; dolls' carriages; dolls; other toys; reduced-size ('scale') models and similar recreational models, working or not; puzzles of all kinds",25154,25153,false,{"$f":"VALUE(Table2[[#This Row],[Identifier]])","v":113061}]
["107507",true,"9503001000 - Tricycles, scooters, pedal cars and similar wheeled toys; dolls' carriages",25155,25154,false,{"$f":"VALUE(Table2[[#This Row],[Identifier]])","v":107507}]
["113062",false,"9503002100 - Dolls representing only human beings and parts and accessories thereof",25156,25154,false,{"$f":"VALUE(Table2[[#This Row],[Identifier]])","v":113062}]
["107508",true,"9503002100 - Dolls",25157,25156,false,{"$f":"VALUE(Table2[[#This Row],[Identifier]])","v":107508}]
["107509",true,"9503002110 - Ornamental dolls dressed so as to reflect the folklore characteristic of the country of origin, hand-made",25158,25157,false,{"$f":"VALUE(Table2[[#This Row],[Identifier]])","v":107509}]
["107510",true,"9503002190 - Other",25159,25157,false,{"$f":"VALUE(Table2[[#This Row],[Identifier]])","v":107510}]
["107511",true,"9503002900 - Parts and accessories",25160,25156,false,{"$f":"VALUE(Table2[[#This Row],[Identifier]])","v":107511}]
["107512",true,"9503003000 - Electric trains, including tracks, signals and other accessories therefor; reduced-size (scale) model assembly kits",25161,25154,false,{"$f":"VALUE(Table2[[#This Row],[Identifier]])","v":107512}]
["113063",false,"9503003500 - Other construction sets and constructional toys",25162,25154,false,{"$f":"VALUE(Table2[[#This Row],[Identifier]])","v":113063}]
["107513",true,"9503003500 - Of plastics",25163,25162,false,{"$f":"VALUE(Table2[[#This Row],[Identifier]])","v":107513}]
["107514",true,"9503003900 - Of other materials",25164,25162,false,{"$f":"VALUE(Table2[[#This Row],[Identifier]])","v":107514}]
["107515",true,"9503003910 - Hand-made, of wood",25165,25164,false,{"$f":"VALUE(Table2[[#This Row],[Identifier]])","v":107515}]
["107516",true,"9503003990 - Other",25166,25164,false,{"$f":"VALUE(Table2[[#This Row],[Identifier]])","v":107516}]
["113064",false,"9503004100 - Toys representing animals or non-human creatures",25167,25154,false,{"$f":"VALUE(Table2[[#This Row],[Identifier]])","v":113064}]
["107517",true,"9503004100 - Stuffed",25168,25167,false,{"$f":"VALUE(Table2[[#This Row],[Identifier]])","v":107517}]
["107518",true,"9503004900 - Other",25169,25167,false,{"$f":"VALUE(Table2[[#This Row],[Identifier]])","v":107518}]
["107519",true,"9503004910 - Hand-made, of wood",25170,25169,false,{"$f":"VALUE(Table2[[#This Row],[Identifier]])","v":107519}]
["107520",true,"9503004990 - Other",25171,25169,false,{"$f":"VALUE(Table2[[#This Row],[Identifier]])","v":107520}]
["107521",true,"9503005500 - Toy musical instruments and apparatus",25172,25154,false,{"$f":"VALUE(Table2[[#This Row],[Identifier]])","v":107521}]
["107522",true,"9503005510 - Hand-made, of wood",25173,25172,false,{"$f":"VALUE(Table2[[#This Row],[Identifier]])","v":107522}]
["107523",true,"9503005590 - Other",25174,25172,false,{"$f":"VALUE(Table2[[#This Row],[Identifier]])","v":107523}]
["113065",false,"9503006100 - Puzzles",25175,25154,false,{"$f":"VALUE(Table2[[#This Row],[Identifier]])","v":113065}]
["107524",true,"9503006100 - Of wood",25176,25175,false,{"$f":"VALUE(Table2[[#This Row],[Identifier]])","v":107524}]
["107525",true,"9503006110 - Hand-made",25177,25176,false,{"$f":"VALUE(Table2[[#This Row],[Identifier]])","v":107525}]
["107526",true,"9503006190 - Other",25178,25176,false,{"$f":"VALUE(Table2[[#This Row],[Identifier]])","v":107526}]
["107527",true,"9503006900 - Other",25179,25175,false,{"$f":"VALUE(Table2[[#This Row],[Identifier]])","v":107527}]
["107528",true,"9503007000 - Other toys, put up in sets or outfits",25180,25154,false,{"$f":"VALUE(Table2[[#This Row],[Identifier]])","v":107528}]
["113066",false,"9503007500 - Other toys and models, incorporating a motor",25181,25154,false,{"$f":"VALUE(Table2[[#This Row],[Identifier]])","v":113066}]
["107529",true,"9503007500 - Of plastics",25182,25181,false,{"$f":"VALUE(Table2[[#This Row],[Identifier]])","v":107529}]
["107530",true,"9503007510 - Cable car scale models for printing",25183,25182,false,{"$f":"VALUE(Table2[[#This Row],[Identifier]])","v":107530}]
["107531",true,"9503007590 - Other",25184,25182,false,{"$f":"VALUE(Table2[[#This Row],[Identifier]])","v":107531}]
["107532",true,"9503007900 - Of other materials",25185,25181,false,{"$f":"VALUE(Table2[[#This Row],[Identifier]])","v":107532}]
["113067",false,"9503008100 - Other",25186,25154,false,{"$f":"VALUE(Table2[[#This Row],[Identifier]])","v":113067}]
["107533",true,"9503008100 - Toy weapons",25187,25186,false,{"$f":"VALUE(Table2[[#This Row],[Identifier]])","v":107533}]
["107534",true,"9503008110 - Hand-made, of wood",25188,25187,false,{"$f":"VALUE(Table2[[#This Row],[Identifier]])","v":107534}]
["107535",true,"9503008190 - Other",25189,25187,false,{"$f":"VALUE(Table2[[#This Row],[Identifier]])","v":107535}]
["107536",true,"9503008500 - Die-cast miniature models of metal",25190,25186,false,{"$f":"VALUE(Table2[[#This Row],[Identifier]])","v":107536}]
["107537",true,"9503008700 - Portable interactive electronic education devices primarily designed for children",25191,25186,false,{"$f":"VALUE(Table2[[#This Row],[Identifier]])","v":107537}]
["113068",false,"9503009500 - Other",25192,25186,false,{"$f":"VALUE(Table2[[#This Row],[Identifier]])","v":113068}]
["107538",true,"9503009500 - Of plastics",25193,25192,false,{"$f":"VALUE(Table2[[#This Row],[Identifier]])","v":107538}]
["107539",true,"9503009510 - Cable car scale models  for printing",25194,25193,false,{"$f":"VALUE(Table2[[#This Row],[Identifier]])","v":107539}]
["107540",true,"9503009590 - Other",25195,25193,false,{"$f":"VALUE(Table2[[#This Row],[Identifier]])","v":107540}]
["107541",true,"9503009900 - Other",25196,25192,false,{"$f":"VALUE(Table2[[#This Row],[Identifier]])","v":107541}]
["107542",true,"9503009910 - Hand-made, of wood",25197,25196,false,{"$f":"VALUE(Table2[[#This Row],[Identifier]])","v":107542}]
["107543",true,"9503009990 - Other",25198,25196,false,{"$f":"VALUE(Table2[[#This Row],[Identifier]])","v":107543}]
["113069",false,"9504000000 - Video game consoles and machines, table or parlour games, including pintables, billiards, special tables for casino games and automatic bowling equipment, amusement machines operated by coins, banknotes, bank cards, tokens or by any other means of payment",25199,25153,false,{"$f":"VALUE(Table2[[#This Row],[Identifier]])","v":113069}]
["107544",true,"9504200000 - Articles and accessories for billiards of all kinds",25200,25199,false,{"$f":"VALUE(Table2[[#This Row],[Identifier]])","v":107544}]
["107545",true,"9504300000 - Other games, operated by coins, banknotes, bank cards, tokens or by any other means of payment, other than automatic bowling alley equipment",25201,25199,false,{"$f":"VALUE(Table2[[#This Row],[Identifier]])","v":107545}]
["107546",true,"9504301000 - Games with screen",25202,25201,false,{"$f":"VALUE(Table2[[#This Row],[Identifier]])","v":107546}]
["107547",true,"9504302000 - Other games",25203,25201,false,{"$f":"VALUE(Table2[[#This Row],[Identifier]])","v":107547}]
["107548",true,"9504309000 - Parts",25204,25201,false,{"$f":"VALUE(Table2[[#This Row],[Identifier]])","v":107548}]
["107549",true,"9504400000 - Playing cards",25205,25199,false,{"$f":"VALUE(Table2[[#This Row],[Identifier]])","v":107549}]
["107550",true,"9504500000 - Video game consoles and machines, other than those of subheading|9504|30",25206,25199,false,{"$f":"VALUE(Table2[[#This Row],[Identifier]])","v":107550}]
["107551",true,"9504900000 - Other",25207,25199,false,{"$f":"VALUE(Table2[[#This Row],[Identifier]])","v":107551}]
["107552",true,"9504901000 - Electric car racing sets, having the character of competitive games",25208,25207,false,{"$f":"VALUE(Table2[[#This Row],[Identifier]])","v":107552}]
["107553",true,"9504908000 - Other",25209,25207,false,{"$f":"VALUE(Table2[[#This Row],[Identifier]])","v":107553}]
["113070",false,"9505000000 - Festive, carnival or other entertainment articles, including conjuring tricks and novelty jokes",25210,25153,false,{"$f":"VALUE(Table2[[#This Row],[Identifier]])","v":113070}]
["107554",true,"9505100000 - Articles for Christmas festivities",25211,25210,false,{"$f":"VALUE(Table2[[#This Row],[Identifier]])","v":107554}]
["107555",true,"9505101000 - Of glass",25212,25211,false,{"$f":"VALUE(Table2[[#This Row],[Identifier]])","v":107555}]
["107556",true,"9505109000 - Of other materials",25213,25211,false,{"$f":"VALUE(Table2[[#This Row],[Identifier]])","v":107556}]
["107557",true,"9505900000 - Other",25214,25210,false,{"$f":"VALUE(Table2[[#This Row],[Identifier]])","v":107557}]
["113071",false,"9506000000 - Articles and equipment for general physical exercise, gymnastics, athletics, other sports (including table tennis) or outdoor games, not specified or included elsewhere in this chapter; swimming pools and paddling pools",25215,25153,false,{"$f":"VALUE(Table2[[#This Row],[Identifier]])","v":113071}]
["113072",false,"9506110000 - Snow-skis and other snow-ski equipment",25216,25215,false,{"$f":"VALUE(Table2[[#This Row],[Identifier]])","v":113072}]
["107558",true,"9506110000 - Skis",25217,25216,false,{"$f":"VALUE(Table2[[#This Row],[Identifier]])","v":107558}]
["107559",true,"9506111000 - Cross-country skis",25218,25217,false,{"$f":"VALUE(Table2[[#This Row],[Identifier]])","v":107559}]
["113073",false,"9506112100 - Downhill skis",25219,25217,false,{"$f":"VALUE(Table2[[#This Row],[Identifier]])","v":113073}]
["107560",true,"9506112100 - Monoskis and snowboards",25220,25219,false,{"$f":"VALUE(Table2[[#This Row],[Identifier]])","v":107560}]
["107561",true,"9506112900 - Other",25221,25219,false,{"$f":"VALUE(Table2[[#This Row],[Identifier]])","v":107561}]
["107562",true,"9506118000 - Other skis",25222,25217,false,{"$f":"VALUE(Table2[[#This Row],[Identifier]])","v":107562}]
["107563",true,"9506120000 - Ski-fastenings (ski-bindings)",25223,25216,false,{"$f":"VALUE(Table2[[#This Row],[Identifier]])","v":107563}]
["107564",true,"9506190000 - Other",25224,25216,false,{"$f":"VALUE(Table2[[#This Row],[Identifier]])","v":107564}]
["113074",false,"9506210000 - Water-skis, surf-bοards, sailboards and other water-sport equipment",25225,25215,false,{"$f":"VALUE(Table2[[#This Row],[Identifier]])","v":113074}]
["107565",true,"9506210000 - Sailboards",25226,25225,false,{"$f":"VALUE(Table2[[#This Row],[Identifier]])","v":107565}]
["107566",true,"9506290000 - Other",25227,25225,false,{"$f":"VALUE(Table2[[#This Row],[Identifier]])","v":107566}]
["113075",false,"9506310000 - Golf clubs and other golf equipment",25228,25215,false,{"$f":"VALUE(Table2[[#This Row],[Identifier]])","v":113075}]
["107567",true,"9506310000 - Clubs, complete",25229,25228,false,{"$f":"VALUE(Table2[[#This Row],[Identifier]])","v":107567}]
["107568",true,"9506320000 - Balls",25230,25228,false,{"$f":"VALUE(Table2[[#This Row],[Identifier]])","v":107568}]
["107569",true,"9506390000 - Other",25231,25228,false,{"$f":"VALUE(Table2[[#This Row],[Identifier]])","v":107569}]
["107570",true,"9506391000 - Parts of golf clubs",25232,25231,false,{"$f":"VALUE(Table2[[#This Row],[Identifier]])","v":107570}]
["107571",true,"9506399000 - Other",25233,25231,false,{"$f":"VALUE(Table2[[#This Row],[Identifier]])","v":107571}]
["107572",true,"9506400000 - Articles and equipment for table tennis",25234,25215,false,{"$f":"VALUE(Table2[[#This Row],[Identifier]])","v":107572}]
["113076",false,"9506510000 - Tennis, badminton or similar rackets, whether or not strung",25235,25215,false,{"$f":"VALUE(Table2[[#This Row],[Identifier]])","v":113076}]
["107573",true,"9506510000 - Lawn-tennis rackets, whether or not strung",25236,25235,false,{"$f":"VALUE(Table2[[#This Row],[Identifier]])","v":107573}]
["107574",true,"9506590000 - Other",25237,25235,false,{"$f":"VALUE(Table2[[#This Row],[Identifier]])","v":107574}]
["113077",false,"9506610000 - Balls, other than golf balls and table-tennis balls",25238,25215,false,{"$f":"VALUE(Table2[[#This Row],[Identifier]])","v":113077}]
["107575",true,"9506610000 - Lawn-tennis balls",25239,25238,false,{"$f":"VALUE(Table2[[#This Row],[Identifier]])","v":107575}]
["107576",true,"9506620000 - Inflatable",25240,25238,false,{"$f":"VALUE(Table2[[#This Row],[Identifier]])","v":107576}]
["107577",true,"9506690000 - Other",25241,25238,false,{"$f":"VALUE(Table2[[#This Row],[Identifier]])","v":107577}]
["107578",true,"9506691000 - Cricket and polo balls",25242,25241,false,{"$f":"VALUE(Table2[[#This Row],[Identifier]])","v":107578}]
["107579",true,"9506699000 - Other",25243,25241,false,{"$f":"VALUE(Table2[[#This Row],[Identifier]])","v":107579}]
["107580",true,"9506700000 - Ice skates and roller skates, including skating boots with skates attached",25244,25215,false,{"$f":"VALUE(Table2[[#This Row],[Identifier]])","v":107580}]
["107581",true,"9506701000 - Ice skates",25245,25244,false,{"$f":"VALUE(Table2[[#This Row],[Identifier]])","v":107581}]
["107582",true,"9506703000 - Roller skates",25246,25244,false,{"$f":"VALUE(Table2[[#This Row],[Identifier]])","v":107582}]
["107583",true,"9506709000 - Parts and accessories",25247,25244,false,{"$f":"VALUE(Table2[[#This Row],[Identifier]])","v":107583}]
["113078",false,"9506910000 - Other",25248,25215,false,{"$f":"VALUE(Table2[[#This Row],[Identifier]])","v":113078}]
["107584",true,"9506910000 - Articles and equipment for general physical exercise, gymnastics or athletics",25249,25248,false,{"$f":"VALUE(Table2[[#This Row],[Identifier]])","v":107584}]
["107585",true,"9506911000 - Exercising apparatus with adjustable resistance mechanisms",25250,25249,false,{"$f":"VALUE(Table2[[#This Row],[Identifier]])","v":107585}]
["107586",true,"9506919000 - Other",25251,25249,false,{"$f":"VALUE(Table2[[#This Row],[Identifier]])","v":107586}]
["107587",true,"9506990000 - Other",25252,25248,false,{"$f":"VALUE(Table2[[#This Row],[Identifier]])","v":107587}]
["107588",true,"9506991000 - Cricket and polo equipment, other than balls",25253,25252,false,{"$f":"VALUE(Table2[[#This Row],[Identifier]])","v":107588}]
["107589",true,"9506999000 - Other",25254,25252,false,{"$f":"VALUE(Table2[[#This Row],[Identifier]])","v":107589}]
["113079",false,"9507000000 - Fishing rods, fish-hooks and other line fishing tackle; fish landing nets, butterfly nets and similar nets; decoy 'birds' (other than those of heading|9208|or 9705) and similar hunting or shooting requisites",25255,25153,false,{"$f":"VALUE(Table2[[#This Row],[Identifier]])","v":113079}]
["107590",true,"9507100000 - Fishing rods",25256,25255,false,{"$f":"VALUE(Table2[[#This Row],[Identifier]])","v":107590}]
["107591",true,"9507200000 - Fish-hooks, whether or not snelled",25257,25255,false,{"$f":"VALUE(Table2[[#This Row],[Identifier]])","v":107591}]
["107592",true,"9507201000 - Fish-hooks, not snelled",25258,25257,false,{"$f":"VALUE(Table2[[#This Row],[Identifier]])","v":107592}]
["107593",true,"9507209000 - Other",25259,25257,false,{"$f":"VALUE(Table2[[#This Row],[Identifier]])","v":107593}]
["107594",true,"9507300000 - Fishing reels",25260,25255,false,{"$f":"VALUE(Table2[[#This Row],[Identifier]])","v":107594}]
["107595",true,"9507900000 - Other",25261,25255,false,{"$f":"VALUE(Table2[[#This Row],[Identifier]])","v":107595}]
["113080",false,"9508000000 - Travelling circuses and travelling menageries; amusement park rides and water park amusements; fairground amusements, including shooting galleries; travelling theatres",25262,25153,false,{"$f":"VALUE(Table2[[#This Row],[Identifier]])","v":113080}]
["107596",true,"9508100000 - Travelling circuses and travelling menageries",25263,25262,false,{"$f":"VALUE(Table2[[#This Row],[Identifier]])","v":107596}]
["107597",true,"9508100010 - With live animals",25264,25263,false,{"$f":"VALUE(Table2[[#This Row],[Identifier]])","v":107597}]
["107598",true,"9508100090 - Other",25265,25263,false,{"$f":"VALUE(Table2[[#This Row],[Identifier]])","v":107598}]
["135281",false,"9508210000 - Amusement park rides and water park amusements",25266,25262,false,{"$f":"VALUE(Table2[[#This Row],[Identifier]])","v":135281}]
["135282",true,"9508210000 - Roller coasters",25267,25266,false,{"$f":"VALUE(Table2[[#This Row],[Identifier]])","v":135282}]
["135283",true,"9508220000 - Carousels, swings and roundabouts",25268,25266,false,{"$f":"VALUE(Table2[[#This Row],[Identifier]])","v":135283}]
["135284",true,"9508230000 - Dodge'em cars",25269,25266,false,{"$f":"VALUE(Table2[[#This Row],[Identifier]])","v":135284}]
["135285",true,"9508240000 - Motion simulators and moving theatres",25270,25266,false,{"$f":"VALUE(Table2[[#This Row],[Identifier]])","v":135285}]
["135286",true,"9508250000 - Water rides",25271,25266,false,{"$f":"VALUE(Table2[[#This Row],[Identifier]])","v":135286}]
["135287",true,"9508260000 - Water park amusements",25272,25266,false,{"$f":"VALUE(Table2[[#This Row],[Identifier]])","v":135287}]
["135288",true,"9508290000 - Other",25273,25266,false,{"$f":"VALUE(Table2[[#This Row],[Identifier]])","v":135288}]
["135289",true,"9508300000 - Fairground amusements",25274,25262,false,{"$f":"VALUE(Table2[[#This Row],[Identifier]])","v":135289}]
["135290",true,"9508400000 - Travelling theatres",25275,25262,false,{"$f":"VALUE(Table2[[#This Row],[Identifier]])","v":135290}]
["113081",false,"9600000000 - Miscellaneous manufactured articles",25276,24945,false,{"$f":"VALUE(Table2[[#This Row],[Identifier]])","v":113081}]
["113082",false,"9601000000 - Worked ivory, bone, tortoiseshell, horn, antlers, coral, mother-of-pearl and other animal carving material, and articles of these materials (including articles obtained by moulding)",25277,25276,false,{"$f":"VALUE(Table2[[#This Row],[Identifier]])","v":113082}]
["107602",true,"9601100000 - Worked ivory and articles of ivory",25278,25277,false,{"$f":"VALUE(Table2[[#This Row],[Identifier]])","v":107602}]
["107603",true,"9601100010 - Hand-made",25279,25278,false,{"$f":"VALUE(Table2[[#This Row],[Identifier]])","v":107603}]
["107604",true,"9601100090 - Other",25280,25278,false,{"$f":"VALUE(Table2[[#This Row],[Identifier]])","v":107604}]
["107605",true,"9601900000 - Other",25281,25277,false,{"$f":"VALUE(Table2[[#This Row],[Identifier]])","v":107605}]
["107606",true,"9602000000 - Worked vegetable or mineral carving material and articles of these materials; moulded or carved articles of wax, of stearin, of natural gums or natural resins or of modelling pastes, and other moulded or carved articles, not elsewhere specified or included; worked, unhardened gelatin (except gelatin of heading|3503) and articles of unhardened gelatin",25282,25276,false,{"$f":"VALUE(Table2[[#This Row],[Identifier]])","v":107606}]
["107607",true,"9602000010 - Hand-made",25283,25282,false,{"$f":"VALUE(Table2[[#This Row],[Identifier]])","v":107607}]
["107608",true,"9602000090 - Other",25284,25282,false,{"$f":"VALUE(Table2[[#This Row],[Identifier]])","v":107608}]
["113083",false,"9603000000 - Brooms, brushes (including brushes constituting parts of machines, appliances or vehicles), hand-operated mechanical floor sweepers, not motorised, mops and feather dusters; prepared knots and tufts for broom or brush making; paint pads and rollers; squeegees (other than roller squeegees)",25285,25276,false,{"$f":"VALUE(Table2[[#This Row],[Identifier]])","v":113083}]
["107609",true,"9603100000 - Brooms and brushes, consisting of twigs or other vegetable materials bound together, with or without handles",25286,25285,false,{"$f":"VALUE(Table2[[#This Row],[Identifier]])","v":107609}]
["113084",false,"9603210000 - Toothbrushes, shaving brushes, hairbrushes, nail brushes, eyelash brushes and other toilet brushes for use on the person, including such brushes constituting parts of appliances",25287,25285,false,{"$f":"VALUE(Table2[[#This Row],[Identifier]])","v":113084}]
["107610",true,"9603210000 - Toothbrushes, including dental-plate brushes",25288,25287,false,{"$f":"VALUE(Table2[[#This Row],[Identifier]])","v":107610}]
["107611",true,"9603290000 - Other",25289,25287,false,{"$f":"VALUE(Table2[[#This Row],[Identifier]])","v":107611}]
["107612",true,"9603293000 - Hair brushes",25290,25289,false,{"$f":"VALUE(Table2[[#This Row],[Identifier]])","v":107612}]
["107613",true,"9603298000 - Other",25291,25289,false,{"$f":"VALUE(Table2[[#This Row],[Identifier]])","v":107613}]
["107614",true,"9603300000 - Artists' brushes, writing brushes and similar brushes for the application of cosmetics",25292,25285,false,{"$f":"VALUE(Table2[[#This Row],[Identifier]])","v":107614}]
["107615",true,"9603301000 - Artists' and writing brushes",25293,25292,false,{"$f":"VALUE(Table2[[#This Row],[Identifier]])","v":107615}]
["107616",true,"9603309000 - Brushes for the application of cosmetics",25294,25292,false,{"$f":"VALUE(Table2[[#This Row],[Identifier]])","v":107616}]
["107617",true,"9603400000 - Paint, distemper, varnish or similar brushes (other than brushes of subheading|9603|30); paint pads and rollers",25295,25285,false,{"$f":"VALUE(Table2[[#This Row],[Identifier]])","v":107617}]
["107618",true,"9603401000 - Paint, distemper, varnish or similar brushes",25296,25295,false,{"$f":"VALUE(Table2[[#This Row],[Identifier]])","v":107618}]
["107619",true,"9603409000 - Paint pads and rollers",25297,25295,false,{"$f":"VALUE(Table2[[#This Row],[Identifier]])","v":107619}]
["107620",true,"9603500000 - Other brushes constituting parts of machines, appliances or vehicles",25298,25285,false,{"$f":"VALUE(Table2[[#This Row],[Identifier]])","v":107620}]
["107621",true,"9603900000 - Other",25299,25285,false,{"$f":"VALUE(Table2[[#This Row],[Identifier]])","v":107621}]
["107622",true,"9603901000 - Hand-operated mechanical floor sweepers, not motorised",25300,25299,false,{"$f":"VALUE(Table2[[#This Row],[Identifier]])","v":107622}]
["113085",false,"9603909100 - Other",25301,25299,false,{"$f":"VALUE(Table2[[#This Row],[Identifier]])","v":113085}]
["107623",true,"9603909100 - Road-sweeping brushes; household type brooms and brushes, including shoe brushes and clothes brushes; brushes for grooming animals",25302,25301,false,{"$f":"VALUE(Table2[[#This Row],[Identifier]])","v":107623}]
["107624",true,"9603909900 - Other",25303,25301,false,{"$f":"VALUE(Table2[[#This Row],[Identifier]])","v":107624}]
["107625",true,"9604000000 - Hand sieves and hand riddles",25304,25276,false,{"$f":"VALUE(Table2[[#This Row],[Identifier]])","v":107625}]
["107626",true,"9605000000 - Travel sets for personal toilet, sewing or shoe or clothes cleaning",25305,25276,false,{"$f":"VALUE(Table2[[#This Row],[Identifier]])","v":107626}]
["113086",false,"9606000000 - Buttons, press-fasteners, snap-fasteners and press studs, button moulds and other parts of these articles; button blanks",25306,25276,false,{"$f":"VALUE(Table2[[#This Row],[Identifier]])","v":113086}]
["107627",true,"9606100000 - Press-fasteners, snap-fasteners and press studs and parts therefor",25307,25306,false,{"$f":"VALUE(Table2[[#This Row],[Identifier]])","v":107627}]
["113087",false,"9606210000 - Buttons",25308,25306,false,{"$f":"VALUE(Table2[[#This Row],[Identifier]])","v":113087}]
["107628",true,"9606210000 - Of plastics, not covered with textile material",25309,25308,false,{"$f":"VALUE(Table2[[#This Row],[Identifier]])","v":107628}]
["107629",true,"9606220000 - Of base metal, not covered with textile material",25310,25308,false,{"$f":"VALUE(Table2[[#This Row],[Identifier]])","v":107629}]
["107630",true,"9606290000 - Other",25311,25308,false,{"$f":"VALUE(Table2[[#This Row],[Identifier]])","v":107630}]
["107631",true,"9606300000 - Button moulds and other parts of buttons; button blanks",25312,25306,false,{"$f":"VALUE(Table2[[#This Row],[Identifier]])","v":107631}]
["113088",false,"9607000000 - Slide fasteners and parts thereof",25313,25276,false,{"$f":"VALUE(Table2[[#This Row],[Identifier]])","v":113088}]
["113089",false,"9607110000 - Slide fasteners",25314,25313,false,{"$f":"VALUE(Table2[[#This Row],[Identifier]])","v":113089}]
["107632",true,"9607110000 - Fitted with chain scoops of base metal",25315,25314,false,{"$f":"VALUE(Table2[[#This Row],[Identifier]])","v":107632}]
["107633",true,"9607190000 - Other",25316,25314,false,{"$f":"VALUE(Table2[[#This Row],[Identifier]])","v":107633}]
["107634",true,"9607200000 - Parts",25317,25313,false,{"$f":"VALUE(Table2[[#This Row],[Identifier]])","v":107634}]
["107635",true,"9607201000 - Of base metal, including narrow strips mounted with chain scoops of base metal",25318,25317,false,{"$f":"VALUE(Table2[[#This Row],[Identifier]])","v":107635}]
["107636",true,"9607201010 - Sliders, narrow tape with mounted zipper teeth, pin/boxes and other parts of slide fasteners, of base metal for use in the manufacture of zippers",25319,25318,false,{"$f":"VALUE(Table2[[#This Row],[Identifier]])","v":107636}]
["107637",true,"9607201090 - Other",25320,25318,false,{"$f":"VALUE(Table2[[#This Row],[Identifier]])","v":107637}]
["107638",true,"9607209000 - Other",25321,25317,false,{"$f":"VALUE(Table2[[#This Row],[Identifier]])","v":107638}]
["107639",true,"9607209010 - Narrow strips mounted with plastic chain scoops for use in the manufacture of zippers",25322,25321,false,{"$f":"VALUE(Table2[[#This Row],[Identifier]])","v":107639}]
["107640",true,"9607209090 - Other",25323,25321,false,{"$f":"VALUE(Table2[[#This Row],[Identifier]])","v":107640}]
["113090",false,"9608000000 - Ballpoint pens; felt-tipped and other porous-tipped pens and markers; fountain pens, stylograph pens and other pens; duplicating stylos; propelling or sliding pencils; pen-holders, pencil-holders and similar holders; parts (including caps and clips) of the foregoing articles, other than those of heading|9609",25324,25276,false,{"$f":"VALUE(Table2[[#This Row],[Identifier]])","v":113090}]
["107641",true,"9608100000 - Ballpoint pens",25325,25324,false,{"$f":"VALUE(Table2[[#This Row],[Identifier]])","v":107641}]
["107642",true,"9608101000 - With liquid ink (rolling ball pens)",25326,25325,false,{"$f":"VALUE(Table2[[#This Row],[Identifier]])","v":107642}]
["113091",false,"9608109200 - Other",25327,25325,false,{"$f":"VALUE(Table2[[#This Row],[Identifier]])","v":113091}]
["107643",true,"9608109200 - With replaceable refill",25328,25327,false,{"$f":"VALUE(Table2[[#This Row],[Identifier]])","v":107643}]
["107644",true,"9608109900 - Other",25329,25327,false,{"$f":"VALUE(Table2[[#This Row],[Identifier]])","v":107644}]
["107645",true,"9608200000 - Felt-tipped and other porous-tipped pens and markers",25330,25324,false,{"$f":"VALUE(Table2[[#This Row],[Identifier]])","v":107645}]
["107646",true,"9608300000 - Fountain pens, stylograph pens and other pens",25331,25324,false,{"$f":"VALUE(Table2[[#This Row],[Identifier]])","v":107646}]
["107647",true,"9608400000 - Propelling or sliding pencils",25332,25324,false,{"$f":"VALUE(Table2[[#This Row],[Identifier]])","v":107647}]
["107648",true,"9608500000 - Sets of articles from two or more of the foregoing subheadings",25333,25324,false,{"$f":"VALUE(Table2[[#This Row],[Identifier]])","v":107648}]
["107649",true,"9608600000 - Refills for ballpoint pens, comprising the ball point and ink-reservoir",25334,25324,false,{"$f":"VALUE(Table2[[#This Row],[Identifier]])","v":107649}]
["113092",false,"9608910000 - Other",25335,25324,false,{"$f":"VALUE(Table2[[#This Row],[Identifier]])","v":113092}]
["107650",true,"9608910000 - Pen nibs and nib points",25336,25335,false,{"$f":"VALUE(Table2[[#This Row],[Identifier]])","v":107650}]
["107651",true,"9608910010 - Non-fibrous plastic pen-tips with an internal canal",25337,25336,false,{"$f":"VALUE(Table2[[#This Row],[Identifier]])","v":107651}]
["107652",true,"9608910020 - Felt tips and other porous-tips for markers, without internal canal",25338,25336,false,{"$f":"VALUE(Table2[[#This Row],[Identifier]])","v":107652}]
["107653",true,"9608910090 - Other",25339,25336,false,{"$f":"VALUE(Table2[[#This Row],[Identifier]])","v":107653}]
["107654",true,"9608990000 - Other",25340,25335,false,{"$f":"VALUE(Table2[[#This Row],[Identifier]])","v":107654}]
["113093",false,"9609000000 - Pencils (other than pencils of heading|9608), crayons, pencil leads, pastels, drawing charcoals, writing or drawing chalks and tailors' chalks",25341,25276,false,{"$f":"VALUE(Table2[[#This Row],[Identifier]])","v":113093}]
["107655",true,"9609100000 - Pencils and crayons, with leads encased in a sheath",25342,25341,false,{"$f":"VALUE(Table2[[#This Row],[Identifier]])","v":107655}]
["107656",true,"9609101000 - With 'leads' of graphite",25343,25342,false,{"$f":"VALUE(Table2[[#This Row],[Identifier]])","v":107656}]
["107657",true,"9609109000 - Other",25344,25342,false,{"$f":"VALUE(Table2[[#This Row],[Identifier]])","v":107657}]
["107658",true,"9609200000 - Pencil leads, black or coloured",25345,25341,false,{"$f":"VALUE(Table2[[#This Row],[Identifier]])","v":107658}]
["107659",true,"9609900000 - Other",25346,25341,false,{"$f":"VALUE(Table2[[#This Row],[Identifier]])","v":107659}]
["107660",true,"9609901000 - Pastels and drawing charcoals",25347,25346,false,{"$f":"VALUE(Table2[[#This Row],[Identifier]])","v":107660}]
["107661",true,"9609909000 - Other",25348,25346,false,{"$f":"VALUE(Table2[[#This Row],[Identifier]])","v":107661}]
["107662",true,"9610000000 - Slates and boards, with writing or drawing surfaces, whether or not framed",25349,25276,false,{"$f":"VALUE(Table2[[#This Row],[Identifier]])","v":107662}]
["107663",true,"9611000000 - Date, sealing or numbering stamps, and the like (including devices for printing or embossing labels), designed for operating in the hand; hand-operated composing sticks and hand printing sets incorporating such composing sticks",25350,25276,false,{"$f":"VALUE(Table2[[#This Row],[Identifier]])","v":107663}]
["113094",false,"9612000000 - Typewriter or similar ribbons, inked or otherwise prepared for giving impressions, whether or not on spools or in cartridges; ink-pads, whether or not inked, with or without boxes",25351,25276,false,{"$f":"VALUE(Table2[[#This Row],[Identifier]])","v":113094}]
["107664",true,"9612100000 - Ribbons",25352,25351,false,{"$f":"VALUE(Table2[[#This Row],[Identifier]])","v":107664}]
["107665",true,"9612101000 - Of plastics",25353,25352,false,{"$f":"VALUE(Table2[[#This Row],[Identifier]])","v":107665}]
["107666",true,"9612101010 - Ribbons of plastic with segments of different colours, providing the penetration of dyes by heat into a support (so called dye-sublimation)",25354,25353,false,{"$f":"VALUE(Table2[[#This Row],[Identifier]])","v":107666}]
["107667",true,"9612101090 - Other",25355,25353,false,{"$f":"VALUE(Table2[[#This Row],[Identifier]])","v":107667}]
["107668",true,"9612102000 - Of man-made fibres, measuring less than 30|mm in width, permanently put in plastic or metal cartridges of a kind used in automatic typewriters, automatic data-processing equipment and other machines",25356,25352,false,{"$f":"VALUE(Table2[[#This Row],[Identifier]])","v":107668}]
["107669",true,"9612108000 - Other",25357,25352,false,{"$f":"VALUE(Table2[[#This Row],[Identifier]])","v":107669}]
["107670",true,"9612200000 - Ink-pads",25358,25351,false,{"$f":"VALUE(Table2[[#This Row],[Identifier]])","v":107670}]
["113095",false,"9613000000 - Cigarette lighters and other lighters, whether or not mechanical or electrical, and parts thereof other than flints and wicks",25359,25276,false,{"$f":"VALUE(Table2[[#This Row],[Identifier]])","v":113095}]
["107671",true,"9613100000 - Pocket lighters, gas fuelled, non-refillable",25360,25359,false,{"$f":"VALUE(Table2[[#This Row],[Identifier]])","v":107671}]
["107672",true,"9613200000 - Pocket lighters, gas fuelled, refillable",25361,25359,false,{"$f":"VALUE(Table2[[#This Row],[Identifier]])","v":107672}]
["107673",true,"9613800000 - Other lighters",25362,25359,false,{"$f":"VALUE(Table2[[#This Row],[Identifier]])","v":107673}]
["107674",true,"9613900000 - Parts",25363,25359,false,{"$f":"VALUE(Table2[[#This Row],[Identifier]])","v":107674}]
["113096",false,"9614000000 - Smoking pipes (including pipe bowls) and cigar or cigarette holders, and parts thereof",25364,25276,false,{"$f":"VALUE(Table2[[#This Row],[Identifier]])","v":113096}]
["107675",true,"9614001000 - Roughly shaped blocks of wood or root, for the manufacture of pipes",25365,25364,false,{"$f":"VALUE(Table2[[#This Row],[Identifier]])","v":107675}]
["107676",true,"9614009000 - Other",25366,25364,false,{"$f":"VALUE(Table2[[#This Row],[Identifier]])","v":107676}]
["113097",false,"9615000000 - Combs, hair-slides and the like; hairpins, curling pins, curling grips, hair-curlers and the like, other than those of heading|8516, and parts thereof",25367,25276,false,{"$f":"VALUE(Table2[[#This Row],[Identifier]])","v":113097}]
["113098",false,"9615110000 - Combs, hair-slides and the like",25368,25367,false,{"$f":"VALUE(Table2[[#This Row],[Identifier]])","v":113098}]
["107677",true,"9615110000 - Of hard rubber or plastics",25369,25368,false,{"$f":"VALUE(Table2[[#This Row],[Identifier]])","v":107677}]
["107678",true,"9615190000 - Other",25370,25368,false,{"$f":"VALUE(Table2[[#This Row],[Identifier]])","v":107678}]
["107679",true,"9615900000 - Other",25371,25367,false,{"$f":"VALUE(Table2[[#This Row],[Identifier]])","v":107679}]
["113099",false,"9616000000 - Scent sprays and similar toilet sprays, and mounts and heads therefor; powder-puffs and pads for the application of cosmetics or toilet preparations",25372,25276,false,{"$f":"VALUE(Table2[[#This Row],[Identifier]])","v":113099}]
["107680",true,"9616100000 - Scent sprays and similar toilet sprays, and mounts and heads therefor",25373,25372,false,{"$f":"VALUE(Table2[[#This Row],[Identifier]])","v":107680}]
["107681",true,"9616101000 - Toilet sprays",25374,25373,false,{"$f":"VALUE(Table2[[#This Row],[Identifier]])","v":107681}]
["107682",true,"9616109000 - Mounts and heads",25375,25373,false,{"$f":"VALUE(Table2[[#This Row],[Identifier]])","v":107682}]
["107683",true,"9616200000 - Powder-puffs and pads for the application of cosmetics or toilet preparations",25376,25372,false,{"$f":"VALUE(Table2[[#This Row],[Identifier]])","v":107683}]
["107684",true,"9617000000 - Vacuum flasks and other vacuum vessels, complete; parts thereof other than glass inners",25377,25276,false,{"$f":"VALUE(Table2[[#This Row],[Identifier]])","v":107684}]
["107685",true,"9618000000 - Tailors' dummies and other lay figures; automata and other animated displays used for shop window dressing",25378,25276,false,{"$f":"VALUE(Table2[[#This Row],[Identifier]])","v":107685}]
["113100",false,"9619000000 - Sanitary towels (pads) and tampons, napkins (diapers), napkin liners and similar articles, of any material",25379,25276,false,{"$f":"VALUE(Table2[[#This Row],[Identifier]])","v":113100}]
["107686",true,"9619003000 - Of wadding of textile materials",25380,25379,false,{"$f":"VALUE(Table2[[#This Row],[Identifier]])","v":107686}]
["113101",false,"9619004000 - Of other textile materials",25381,25379,false,{"$f":"VALUE(Table2[[#This Row],[Identifier]])","v":113101}]
["107687",true,"9619004000 - Sanitary towels (pads), tampons and similar articles",25382,25381,false,{"$f":"VALUE(Table2[[#This Row],[Identifier]])","v":107687}]
["107688",true,"9619004010 - Knitted or crocheted",25383,25382,false,{"$f":"VALUE(Table2[[#This Row],[Identifier]])","v":107688}]
["107689",true,"9619004090 - Other",25384,25382,false,{"$f":"VALUE(Table2[[#This Row],[Identifier]])","v":107689}]
["107690",true,"9619005000 - Napkins and napkin liners and similar articles",25385,25381,false,{"$f":"VALUE(Table2[[#This Row],[Identifier]])","v":107690}]
["107691",true,"9619005010 - Knitted or crocheted",25386,25385,false,{"$f":"VALUE(Table2[[#This Row],[Identifier]])","v":107691}]
["107692",true,"9619005090 - Other",25387,25385,false,{"$f":"VALUE(Table2[[#This Row],[Identifier]])","v":107692}]
["113102",false,"9619007100 - Of other materials",25388,25379,false,{"$f":"VALUE(Table2[[#This Row],[Identifier]])","v":113102}]
["113103",false,"9619007100 - Sanitary towels (pads), tampons and similar articles",25389,25388,false,{"$f":"VALUE(Table2[[#This Row],[Identifier]])","v":113103}]
["107693",true,"9619007100 - Sanitary towels (pads)",25390,25389,false,{"$f":"VALUE(Table2[[#This Row],[Identifier]])","v":107693}]
["107694",true,"9619007500 - Tampons",25391,25389,false,{"$f":"VALUE(Table2[[#This Row],[Identifier]])","v":107694}]
["107695",true,"9619007900 - Other",25392,25389,false,{"$f":"VALUE(Table2[[#This Row],[Identifier]])","v":107695}]
["113104",false,"9619008100 - Napkins and napkin liners and similar articles",25393,25388,false,{"$f":"VALUE(Table2[[#This Row],[Identifier]])","v":113104}]
["107696",true,"9619008100 - Napkins and napkin liners for babies",25394,25393,false,{"$f":"VALUE(Table2[[#This Row],[Identifier]])","v":107696}]
["107697",true,"9619008900 - Other (for example, incontinence care articles)",25395,25393,false,{"$f":"VALUE(Table2[[#This Row],[Identifier]])","v":107697}]
["113105",false,"9620000000 - Monopods, bipods, tripods and similar articles",25396,25276,false,{"$f":"VALUE(Table2[[#This Row],[Identifier]])","v":113105}]
["107698",true,"9620001000 - Of a kind used for digital, photographic or video cameras, cinematographic cameras and projectors; of a kind used for other apparatus of Chapter 90",25397,25396,false,{"$f":"VALUE(Table2[[#This Row],[Identifier]])","v":107698}]
["113106",false,"9620009100 - Other",25398,25396,false,{"$f":"VALUE(Table2[[#This Row],[Identifier]])","v":113106}]
["107699",true,"9620009100 - Of plastics or of aluminium",25399,25398,false,{"$f":"VALUE(Table2[[#This Row],[Identifier]])","v":107699}]
["107700",true,"9620009110 - Of plastics",25400,25399,false,{"$f":"VALUE(Table2[[#This Row],[Identifier]])","v":107700}]
["107701",true,"9620009190 - Other",25401,25399,false,{"$f":"VALUE(Table2[[#This Row],[Identifier]])","v":107701}]
["107702",true,"9620009900 - Other",25402,25398,false,{"$f":"VALUE(Table2[[#This Row],[Identifier]])","v":107702}]
["113107",false,"SECTION XXI (97 - 99) Works of art, collectors' pieces and antiques",25403,"",false,{"$f":"VALUE(Table2[[#This Row],[Identifier]])","v":113107}]
["113108",false,"9700000000 - Works of art, collectors' pieces and antiques",25404,25403,false,{"$f":"VALUE(Table2[[#This Row],[Identifier]])","v":113108}]
["113109",false,"9701000000 - Paintings, drawings and pastels, executed entirely by hand, other than drawings of heading|4906|and other than hand-painted or hand-decorated manufactured articles; collages, mosaics and similar decorative plaques",25405,25404,false,{"$f":"VALUE(Table2[[#This Row],[Identifier]])","v":113109}]
["135291",false,"9701210000 - Of an age exceeding 100|years",25406,25405,false,{"$f":"VALUE(Table2[[#This Row],[Identifier]])","v":135291}]
["135292",true,"9701210000 - Paintings, drawings and pastels",25407,25406,false,{"$f":"VALUE(Table2[[#This Row],[Identifier]])","v":135292}]
["135293",true,"9701220000 - Mosaics",25408,25406,false,{"$f":"VALUE(Table2[[#This Row],[Identifier]])","v":135293}]
["135294",true,"9701290000 - Other",25409,25406,false,{"$f":"VALUE(Table2[[#This Row],[Identifier]])","v":135294}]
["135295",false,"9701910000 - Other",25410,25405,false,{"$f":"VALUE(Table2[[#This Row],[Identifier]])","v":135295}]
["135296",true,"9701910000 - Paintings, drawing and pastels",25411,25410,false,{"$f":"VALUE(Table2[[#This Row],[Identifier]])","v":135296}]
["135297",true,"9701920000 - Mosaics",25412,25410,false,{"$f":"VALUE(Table2[[#This Row],[Identifier]])","v":135297}]
["135298",true,"9701990000 - Other",25413,25410,false,{"$f":"VALUE(Table2[[#This Row],[Identifier]])","v":135298}]
["107705",true,"9702000000 - Original engravings, prints and lithographs",25414,25404,false,{"$f":"VALUE(Table2[[#This Row],[Identifier]])","v":107705}]
["135299",true,"9702100000 - Of an age exceeding 100|years",25415,25414,false,{"$f":"VALUE(Table2[[#This Row],[Identifier]])","v":135299}]
["135300",true,"9702900000 - Other",25416,25414,false,{"$f":"VALUE(Table2[[#This Row],[Identifier]])","v":135300}]
["135301",true,"9702900010 - Wood in the form of logs or squared logs with simple process in the surface, carved or finely threaded or painted, does not have significant added-value and no significant change in shape",25417,25416,false,{"$f":"VALUE(Table2[[#This Row],[Identifier]])","v":135301}]
["135302",true,"9702900090 - Other",25418,25416,false,{"$f":"VALUE(Table2[[#This Row],[Identifier]])","v":135302}]
["107708",true,"9703000000 - Original sculpture and statuary, in any material",25419,25404,false,{"$f":"VALUE(Table2[[#This Row],[Identifier]])","v":107708}]
["135303",true,"9703100000 - Of an age exceeding 100|years",25420,25419,false,{"$f":"VALUE(Table2[[#This Row],[Identifier]])","v":135303}]
["135304",true,"9703900000 - Other",25421,25419,false,{"$f":"VALUE(Table2[[#This Row],[Identifier]])","v":135304}]
["107709",true,"9704000000 - Postage or revenue stamps, stamp-postmarks, first-day covers, postal stationery (stamped paper), and the like, used or unused, other than those of heading|4907",25422,25404,false,{"$f":"VALUE(Table2[[#This Row],[Identifier]])","v":107709}]
["107710",true,"9705000000 - Collections and collectors' pieces of archaeological, ethnographic, historical, zoological, botanical, mineralogical, anatomical, paleontological or numismatic interest",25423,25404,false,{"$f":"VALUE(Table2[[#This Row],[Identifier]])","v":107710}]
["135305",true,"9705100000 - Collections and collectors' pieces of archaeological, ethnographic or historical interest",25424,25423,false,{"$f":"VALUE(Table2[[#This Row],[Identifier]])","v":135305}]
["135306",true,"9705100010 - Collectors’ pieces of wood",25425,25424,false,{"$f":"VALUE(Table2[[#This Row],[Identifier]])","v":135306}]
["135307",true,"9705100030 - Collections and collectors’ items of animal origin",25426,25424,false,{"$f":"VALUE(Table2[[#This Row],[Identifier]])","v":135307}]
["135308",true,"9705100090 - Other",25427,25424,false,{"$f":"VALUE(Table2[[#This Row],[Identifier]])","v":135308}]
["135309",false,"9705210000 - Collections and collectors' pieces of zoological, botanical, mineralogical, anatomical or paleontological interest",25428,25423,false,{"$f":"VALUE(Table2[[#This Row],[Identifier]])","v":135309}]
["135310",true,"9705210000 - Human specimens and parts thereof",25429,25428,false,{"$f":"VALUE(Table2[[#This Row],[Identifier]])","v":135310}]
["135311",true,"9705220000 - Extinct or endangered species and parts thereof",25430,25428,false,{"$f":"VALUE(Table2[[#This Row],[Identifier]])","v":135311}]
["135312",true,"9705220010 - Collections and collectors’ items of animal origin",25431,25430,false,{"$f":"VALUE(Table2[[#This Row],[Identifier]])","v":135312}]
["135313",true,"9705220090 - Other",25432,25430,false,{"$f":"VALUE(Table2[[#This Row],[Identifier]])","v":135313}]
["135314",true,"9705290000 - Other",25433,25428,false,{"$f":"VALUE(Table2[[#This Row],[Identifier]])","v":135314}]
["135315",true,"9705290010 - Collections and collectors’ items of animal origin",25434,25433,false,{"$f":"VALUE(Table2[[#This Row],[Identifier]])","v":135315}]
["135316",true,"9705290090 - Other",25435,25433,false,{"$f":"VALUE(Table2[[#This Row],[Identifier]])","v":135316}]
["135317",false,"9705310000 - Collections and collectors' pieces of numismatic interest",25436,25423,false,{"$f":"VALUE(Table2[[#This Row],[Identifier]])","v":135317}]
["135318",true,"9705310000 - Of an age exceeding 100|years",25437,25436,false,{"$f":"VALUE(Table2[[#This Row],[Identifier]])","v":135318}]
["135319",true,"9705390000 - Other",25438,25436,false,{"$f":"VALUE(Table2[[#This Row],[Identifier]])","v":135319}]
["107715",true,"9706000000 - Antiques of an age exceeding 100|years",25439,25404,false,{"$f":"VALUE(Table2[[#This Row],[Identifier]])","v":107715}]
["135320",true,"9706100000 - Of an age exceeding 250|years",25440,25439,false,{"$f":"VALUE(Table2[[#This Row],[Identifier]])","v":135320}]
["135321",true,"9706900000 - Other",25441,25439,false,{"$f":"VALUE(Table2[[#This Row],[Identifier]])","v":135321}]
["113110",false,"9800000000 - Complete industrial plant",25442,25403,false,{"$f":"VALUE(Table2[[#This Row],[Identifier]])","v":113110}]
["113111",false,"9880000000 - Component parts of complete industrial plant in the framework of external trade (Commission Implementing Regulation (EU) 2020/1197 of 30 July 2020)",25443,25442,false,{"$f":"VALUE(Table2[[#This Row],[Identifier]])","v":113111}]
["107716",true,"9880010000 - Classified in Chapter 01",25444,25443,false,{"$f":"VALUE(Table2[[#This Row],[Identifier]])","v":107716}]
["107717",true,"9880020000 - Classified in Chapter 02",25445,25443,false,{"$f":"VALUE(Table2[[#This Row],[Identifier]])","v":107717}]
["107718",true,"9880030000 - Classified in Chapter 03",25446,25443,false,{"$f":"VALUE(Table2[[#This Row],[Identifier]])","v":107718}]
["107719",true,"9880040000 - Classified in Chapter 04",25447,25443,false,{"$f":"VALUE(Table2[[#This Row],[Identifier]])","v":107719}]
["107720",true,"9880050000 - Classified in Chapter 05",25448,25443,false,{"$f":"VALUE(Table2[[#This Row],[Identifier]])","v":107720}]
["107721",true,"9880060000 - Classified in Chapter 06",25449,25443,false,{"$f":"VALUE(Table2[[#This Row],[Identifier]])","v":107721}]
["107722",true,"9880070000 - Classified in Chapter 07",25450,25443,false,{"$f":"VALUE(Table2[[#This Row],[Identifier]])","v":107722}]
["107723",true,"9880080000 - Classified in Chapter 08",25451,25443,false,{"$f":"VALUE(Table2[[#This Row],[Identifier]])","v":107723}]
["107724",true,"9880090000 - Classified in Chapter 09",25452,25443,false,{"$f":"VALUE(Table2[[#This Row],[Identifier]])","v":107724}]
["107725",true,"9880100000 - Classified in Chapter 10",25453,25443,false,{"$f":"VALUE(Table2[[#This Row],[Identifier]])","v":107725}]
["107726",true,"9880110000 - Classified in Chapter 11",25454,25443,false,{"$f":"VALUE(Table2[[#This Row],[Identifier]])","v":107726}]
["107727",true,"9880120000 - Classified in Chapter 12",25455,25443,false,{"$f":"VALUE(Table2[[#This Row],[Identifier]])","v":107727}]
["107728",true,"9880130000 - Classified in Chapter 13",25456,25443,false,{"$f":"VALUE(Table2[[#This Row],[Identifier]])","v":107728}]
["107729",true,"9880140000 - Classified in Chapter 14",25457,25443,false,{"$f":"VALUE(Table2[[#This Row],[Identifier]])","v":107729}]
["107730",true,"9880150000 - Classified in Chapter 15",25458,25443,false,{"$f":"VALUE(Table2[[#This Row],[Identifier]])","v":107730}]
["107731",true,"9880160000 - Classified in Chapter 16",25459,25443,false,{"$f":"VALUE(Table2[[#This Row],[Identifier]])","v":107731}]
["107732",true,"9880170000 - Classified in Chapter 17",25460,25443,false,{"$f":"VALUE(Table2[[#This Row],[Identifier]])","v":107732}]
["107733",true,"9880180000 - Classified in Chapter 18",25461,25443,false,{"$f":"VALUE(Table2[[#This Row],[Identifier]])","v":107733}]
["107734",true,"9880190000 - Classified in Chapter 19",25462,25443,false,{"$f":"VALUE(Table2[[#This Row],[Identifier]])","v":107734}]
["107735",true,"9880200000 - Classified in Chapter 20",25463,25443,false,{"$f":"VALUE(Table2[[#This Row],[Identifier]])","v":107735}]
["107736",true,"9880210000 - Classified in Chapter 21",25464,25443,false,{"$f":"VALUE(Table2[[#This Row],[Identifier]])","v":107736}]
["107737",true,"9880220000 - Classified in Chapter 22",25465,25443,false,{"$f":"VALUE(Table2[[#This Row],[Identifier]])","v":107737}]
["107738",true,"9880230000 - Classified in Chapter 23",25466,25443,false,{"$f":"VALUE(Table2[[#This Row],[Identifier]])","v":107738}]
["107739",true,"9880240000 - Classified in Chapter 24",25467,25443,false,{"$f":"VALUE(Table2[[#This Row],[Identifier]])","v":107739}]
["107740",true,"9880250000 - Classified in Chapter 25",25468,25443,false,{"$f":"VALUE(Table2[[#This Row],[Identifier]])","v":107740}]
["107741",true,"9880260000 - Classified in Chapter 26",25469,25443,false,{"$f":"VALUE(Table2[[#This Row],[Identifier]])","v":107741}]
["107742",true,"9880270000 - Classified in Chapter 27",25470,25443,false,{"$f":"VALUE(Table2[[#This Row],[Identifier]])","v":107742}]
["107743",true,"9880280000 - Classified in Chapter 28",25471,25443,false,{"$f":"VALUE(Table2[[#This Row],[Identifier]])","v":107743}]
["107744",true,"9880290000 - Classified in Chapter 29",25472,25443,false,{"$f":"VALUE(Table2[[#This Row],[Identifier]])","v":107744}]
["107745",true,"9880300000 - Classified in Chapter 30",25473,25443,false,{"$f":"VALUE(Table2[[#This Row],[Identifier]])","v":107745}]
["107746",true,"9880310000 - Classified in Chapter 31",25474,25443,false,{"$f":"VALUE(Table2[[#This Row],[Identifier]])","v":107746}]
["107747",true,"9880320000 - Classified in Chapter 32",25475,25443,false,{"$f":"VALUE(Table2[[#This Row],[Identifier]])","v":107747}]
["107748",true,"9880330000 - Classified in Chapter 33",25476,25443,false,{"$f":"VALUE(Table2[[#This Row],[Identifier]])","v":107748}]
["107749",true,"9880340000 - Classified in Chapter 34",25477,25443,false,{"$f":"VALUE(Table2[[#This Row],[Identifier]])","v":107749}]
["107750",true,"9880350000 - Classified in Chapter 35",25478,25443,false,{"$f":"VALUE(Table2[[#This Row],[Identifier]])","v":107750}]
["107751",true,"9880360000 - Classified in Chapter 36",25479,25443,false,{"$f":"VALUE(Table2[[#This Row],[Identifier]])","v":107751}]
["107752",true,"9880370000 - Classified in Chapter 37",25480,25443,false,{"$f":"VALUE(Table2[[#This Row],[Identifier]])","v":107752}]
["107753",true,"9880380000 - Classified in Chapter 38",25481,25443,false,{"$f":"VALUE(Table2[[#This Row],[Identifier]])","v":107753}]
["107754",true,"9880390000 - Classified in Chapter 39",25482,25443,false,{"$f":"VALUE(Table2[[#This Row],[Identifier]])","v":107754}]
["107755",true,"9880400000 - Classified in Chapter 40",25483,25443,false,{"$f":"VALUE(Table2[[#This Row],[Identifier]])","v":107755}]
["107756",true,"9880410000 - Classified in Chapter 41",25484,25443,false,{"$f":"VALUE(Table2[[#This Row],[Identifier]])","v":107756}]
["107757",true,"9880420000 - Classified in Chapter 42",25485,25443,false,{"$f":"VALUE(Table2[[#This Row],[Identifier]])","v":107757}]
["107758",true,"9880430000 - Classified in Chapter 43",25486,25443,false,{"$f":"VALUE(Table2[[#This Row],[Identifier]])","v":107758}]
["107759",true,"9880440000 - Classified in Chapter 44",25487,25443,false,{"$f":"VALUE(Table2[[#This Row],[Identifier]])","v":107759}]
["107760",true,"9880450000 - Classified in Chapter 45",25488,25443,false,{"$f":"VALUE(Table2[[#This Row],[Identifier]])","v":107760}]
["107761",true,"9880460000 - Classified in Chapter 46",25489,25443,false,{"$f":"VALUE(Table2[[#This Row],[Identifier]])","v":107761}]
["107762",true,"9880470000 - Classified in Chapter 47",25490,25443,false,{"$f":"VALUE(Table2[[#This Row],[Identifier]])","v":107762}]
["107763",true,"9880480000 - Classified in Chapter 48",25491,25443,false,{"$f":"VALUE(Table2[[#This Row],[Identifier]])","v":107763}]
["107764",true,"9880490000 - Classified in Chapter 49",25492,25443,false,{"$f":"VALUE(Table2[[#This Row],[Identifier]])","v":107764}]
["107765",true,"9880500000 - Classified in Chapter 50",25493,25443,false,{"$f":"VALUE(Table2[[#This Row],[Identifier]])","v":107765}]
["107766",true,"9880510000 - Classified in Chapter 51",25494,25443,false,{"$f":"VALUE(Table2[[#This Row],[Identifier]])","v":107766}]
["107767",true,"9880520000 - Classified in Chapter 52",25495,25443,false,{"$f":"VALUE(Table2[[#This Row],[Identifier]])","v":107767}]
["107768",true,"9880530000 - Classified in Chapter 53",25496,25443,false,{"$f":"VALUE(Table2[[#This Row],[Identifier]])","v":107768}]
["107769",true,"9880540000 - Classified in Chapter 54",25497,25443,false,{"$f":"VALUE(Table2[[#This Row],[Identifier]])","v":107769}]
["107770",true,"9880550000 - Classified in Chapter 55",25498,25443,false,{"$f":"VALUE(Table2[[#This Row],[Identifier]])","v":107770}]
["107771",true,"9880560000 - Classified in Chapter 56",25499,25443,false,{"$f":"VALUE(Table2[[#This Row],[Identifier]])","v":107771}]
["107772",true,"9880570000 - Classified in Chapter 57",25500,25443,false,{"$f":"VALUE(Table2[[#This Row],[Identifier]])","v":107772}]
["107773",true,"9880580000 - Classified in Chapter 58",25501,25443,false,{"$f":"VALUE(Table2[[#This Row],[Identifier]])","v":107773}]
["107774",true,"9880590000 - Classified in Chapter 59",25502,25443,false,{"$f":"VALUE(Table2[[#This Row],[Identifier]])","v":107774}]
["107775",true,"9880600000 - Classified in Chapter 60",25503,25443,false,{"$f":"VALUE(Table2[[#This Row],[Identifier]])","v":107775}]
["107776",true,"9880610000 - Classified in Chapter 61",25504,25443,false,{"$f":"VALUE(Table2[[#This Row],[Identifier]])","v":107776}]
["107777",true,"9880620000 - Classified in Chapter 62",25505,25443,false,{"$f":"VALUE(Table2[[#This Row],[Identifier]])","v":107777}]
["107778",true,"9880630000 - Classified in Chapter 63",25506,25443,false,{"$f":"VALUE(Table2[[#This Row],[Identifier]])","v":107778}]
["107779",true,"9880640000 - Classified in Chapter 64",25507,25443,false,{"$f":"VALUE(Table2[[#This Row],[Identifier]])","v":107779}]
["107780",true,"9880650000 - Classified in Chapter 65",25508,25443,false,{"$f":"VALUE(Table2[[#This Row],[Identifier]])","v":107780}]
["107781",true,"9880660000 - Classified in Chapter 66",25509,25443,false,{"$f":"VALUE(Table2[[#This Row],[Identifier]])","v":107781}]
["107782",true,"9880670000 - Classified in Chapter 67",25510,25443,false,{"$f":"VALUE(Table2[[#This Row],[Identifier]])","v":107782}]
["107783",true,"9880680000 - Classified in Chapter 68",25511,25443,false,{"$f":"VALUE(Table2[[#This Row],[Identifier]])","v":107783}]
["107784",true,"9880690000 - Classified in Chapter 69",25512,25443,false,{"$f":"VALUE(Table2[[#This Row],[Identifier]])","v":107784}]
["107785",true,"9880700000 - Classified in Chapter 70",25513,25443,false,{"$f":"VALUE(Table2[[#This Row],[Identifier]])","v":107785}]
["107786",true,"9880710000 - Classified in Chapter 71",25514,25443,false,{"$f":"VALUE(Table2[[#This Row],[Identifier]])","v":107786}]
["107787",true,"9880720000 - Classified in Chapter 72",25515,25443,false,{"$f":"VALUE(Table2[[#This Row],[Identifier]])","v":107787}]
["107788",true,"9880730000 - Classified in Chapter 73",25516,25443,false,{"$f":"VALUE(Table2[[#This Row],[Identifier]])","v":107788}]
["107789",true,"9880740000 - Classified in Chapter 74",25517,25443,false,{"$f":"VALUE(Table2[[#This Row],[Identifier]])","v":107789}]
["107790",true,"9880750000 - Classified in Chapter 75",25518,25443,false,{"$f":"VALUE(Table2[[#This Row],[Identifier]])","v":107790}]
["107791",true,"9880760000 - Classified in Chapter 76",25519,25443,false,{"$f":"VALUE(Table2[[#This Row],[Identifier]])","v":107791}]
["107792",true,"9880780000 - Classified in Chapter 78",25520,25443,false,{"$f":"VALUE(Table2[[#This Row],[Identifier]])","v":107792}]
["107793",true,"9880790000 - Classified in Chapter 79",25521,25443,false,{"$f":"VALUE(Table2[[#This Row],[Identifier]])","v":107793}]
["107794",true,"9880800000 - Classified in Chapter 80",25522,25443,false,{"$f":"VALUE(Table2[[#This Row],[Identifier]])","v":107794}]
["107795",true,"9880810000 - Classified in Chapter 81",25523,25443,false,{"$f":"VALUE(Table2[[#This Row],[Identifier]])","v":107795}]
["107796",true,"9880820000 - Classified in Chapter 82",25524,25443,false,{"$f":"VALUE(Table2[[#This Row],[Identifier]])","v":107796}]
["107797",true,"9880830000 - Classified in Chapter 83",25525,25443,false,{"$f":"VALUE(Table2[[#This Row],[Identifier]])","v":107797}]
["107798",true,"9880840000 - Classified in Chapter 84",25526,25443,false,{"$f":"VALUE(Table2[[#This Row],[Identifier]])","v":107798}]
["107799",true,"9880850000 - Classified in Chapter 85",25527,25443,false,{"$f":"VALUE(Table2[[#This Row],[Identifier]])","v":107799}]
["107800",true,"9880860000 - Classified in Chapter 86",25528,25443,false,{"$f":"VALUE(Table2[[#This Row],[Identifier]])","v":107800}]
["107801",true,"9880870000 - Classified in Chapter 87",25529,25443,false,{"$f":"VALUE(Table2[[#This Row],[Identifier]])","v":107801}]
["107802",true,"9880880000 - Classified in Chapter 88",25530,25443,false,{"$f":"VALUE(Table2[[#This Row],[Identifier]])","v":107802}]
["107803",true,"9880890000 - Classified in Chapter 89",25531,25443,false,{"$f":"VALUE(Table2[[#This Row],[Identifier]])","v":107803}]
["107804",true,"9880900000 - Classified in Chapter 90",25532,25443,false,{"$f":"VALUE(Table2[[#This Row],[Identifier]])","v":107804}]
["107805",true,"9880910000 - Classified in Chapter 91",25533,25443,false,{"$f":"VALUE(Table2[[#This Row],[Identifier]])","v":107805}]
["107806",true,"9880920000 - Classified in Chapter 92",25534,25443,false,{"$f":"VALUE(Table2[[#This Row],[Identifier]])","v":107806}]
["107807",true,"9880930000 - Classified in Chapter 93",25535,25443,false,{"$f":"VALUE(Table2[[#This Row],[Identifier]])","v":107807}]
["107808",true,"9880940000 - Classified in Chapter 94",25536,25443,false,{"$f":"VALUE(Table2[[#This Row],[Identifier]])","v":107808}]
["107809",true,"9880950000 - Classified in Chapter 95",25537,25443,false,{"$f":"VALUE(Table2[[#This Row],[Identifier]])","v":107809}]
["107810",true,"9880960000 - Classified in Chapter 96",25538,25443,false,{"$f":"VALUE(Table2[[#This Row],[Identifier]])","v":107810}]
["107811",true,"9880970000 - Classified in Chapter 97",25539,25443,false,{"$f":"VALUE(Table2[[#This Row],[Identifier]])","v":107811}]
["113112",false,"9900000000 - Special combined nomenclature codes",25540,25403,false,{"$f":"VALUE(Table2[[#This Row],[Identifier]])","v":113112}]
["113113",false,"9905000000 - Certain goods, as provided for in Council Regulation (EC) No 1186/2009 (Import and Export)",25541,25540,false,{"$f":"VALUE(Table2[[#This Row],[Identifier]])","v":113113}]
["107812",true,"9905000000 - Personal property belonging to natural persons transferring their normal place of residence",25542,25541,false,{"$f":"VALUE(Table2[[#This Row],[Identifier]])","v":107812}]
["107813",true,"9919000000 - The following goods, other than those mentioned above:\n–- Trousseaux and household effects belonging to a person transferring his or her normal place of residence on the occasion of his or her marriage; personal property acquired by inheritance;\n–- School outfits, educational materials and related household effects;\n–- Coffins containing bodies, funerary urns containing the ashes of deceased persons and ornamental funerary articles;\n–- Goods for charitable or philanthropic organisations and goods for the benefit of disaster victims.",25543,25541,false,{"$f":"VALUE(Table2[[#This Row],[Identifier]])","v":107813}]
["119203",true,"9919000010 - Trousseaux and household effects belonging to a person transferring his or her normal place of residence on the occasion of his or her marriage",25544,25543,false,{"$f":"VALUE(Table2[[#This Row],[Identifier]])","v":119203}]
["119204",true,"9919000020 - Personal property acquired by inheritance",25545,25543,false,{"$f":"VALUE(Table2[[#This Row],[Identifier]])","v":119204}]
["119205",true,"9919000030 - School outfits, educational materials and related household effects",25546,25543,false,{"$f":"VALUE(Table2[[#This Row],[Identifier]])","v":119205}]
["119206",true,"9919000040 - Coffins containing bodies, funerary urns containing the ashes of deceased persons and ornamental funerary articles",25547,25543,false,{"$f":"VALUE(Table2[[#This Row],[Identifier]])","v":119206}]
["119207",true,"9919000050 - Goods for charitable or philanthropic organisations",25548,25543,false,{"$f":"VALUE(Table2[[#This Row],[Identifier]])","v":119207}]
["119208",true,"9919000060 - Goods for the benefit of disaster victims",25549,25543,false,{"$f":"VALUE(Table2[[#This Row],[Identifier]])","v":119208}]
["113114",false,"9930000000 - Goods delivered to vessels and aircraft",25550,25540,false,{"$f":"VALUE(Table2[[#This Row],[Identifier]])","v":113114}]
["107814",true,"9930240000 - Goods of CN Chapters 1 to 24",25551,25550,false,{"$f":"VALUE(Table2[[#This Row],[Identifier]])","v":107814}]
["107815",true,"9930270000 - Goods of CN Chapter 27",25552,25550,false,{"$f":"VALUE(Table2[[#This Row],[Identifier]])","v":107815}]
["107816",true,"9930990000 - Goods classified elsewhere",25553,25550,false,{"$f":"VALUE(Table2[[#This Row],[Identifier]])","v":107816}]
["113115",false,"9931000000 - Goods delivered for the crew of the offshore installation or for the operation of the engines, machines and other equipment of the offshore installation",25554,25540,false,{"$f":"VALUE(Table2[[#This Row],[Identifier]])","v":113115}]
["107817",true,"9931240000 - Goods of CN Chapters 1 to 24",25555,25554,false,{"$f":"VALUE(Table2[[#This Row],[Identifier]])","v":107817}]
["107818",true,"9931270000 - Goods of CN Chapter 27",25556,25554,false,{"$f":"VALUE(Table2[[#This Row],[Identifier]])","v":107818}]
["107819",true,"9931990000 - Goods classified elsewhere",25557,25554,false,{"$f":"VALUE(Table2[[#This Row],[Identifier]])","v":107819}]
["107820",true,"9950000000 - Code used only in intra-Union trade, for all transactions during the reference month which are subject of the same invoice whose value is less than € 1 000, or by small and medium-sized traders",25558,25540,false,{"$f":"VALUE(Table2[[#This Row],[Identifier]])","v":107820}]

{"sheet":"Material Search","index":15,"n_rows":272,"n_cols":14,"rows_kept":272,"cut":false,"hidden":false,"merged":[]}
[]
[]
[]
[]
[]
["ParentPhrase","(blank)",null,"ParentPhrase","(All)",null,null,"ParentPhrase","(All)",null,null,"ParentPhrase","(All)"]
[]
["Row Labels","Next ParentPhrase",null,"Row Labels","Next ParentPhrase","ID",null,"Row Labels","Next ParentPhrase","ID",null,"Row Labels","Next ParentPhrase","ID"]
["ceramic",1,null,"acetate (cellulose acetate fibre)",264,66577,null,"acetate (cellulose acetate fibre)",264,66577,null,"acetate (cellulose acetate fibre)",264,66577]
["glass",30,null,"acrylic",271,66584,null,"acrylic",271,66584,null,"acrylic",271,66584]
["leather and raw hides",43,null,"acrylonitrile-butadiene rubber (nbr)",234,66549,null,"acrylonitrile-butadiene rubber (nbr)",234,66549,null,"acrylonitrile-butadiene rubber (nbr)",234,66549]
["metal",50,null,"alginate",265,66578,null,"alginate",265,66578,null,"alginate",265,66578]
["other:",309,null,"alkyd resins",206,66522,null,"alkyd resins",206,66522,null,"alkyd resins",206,66522]
["paper and board",101,null,"alloy steel (except stainless steel)",59,66377,null,"alloy steel (except stainless steel)",59,66377,null,"alloy steel (except stainless steel)",59,66377]
["plastic (and polymers)",168,null,"aluminium (and alloys of)",62,66380,null,"aluminium (and alloys of)",62,66380,null,"aluminium (and alloys of)",62,66380]
["rubber and elastomers",225,null,"aluminium alloy containing lithium",64,66382,null,"aluminium alloy containing lithium",64,66382,null,"aluminium alloy containing lithium",64,66382]
["stone, plaster, and cement",245,null,"aluminium nitride ceramic",20,66341,null,"aluminium nitride ceramic",20,66341,null,"aluminium nitride ceramic",20,66341]
["textile fibre and other fibres",261,null,"aluminium oxide ceramic",9,66330,null,"aluminium oxide ceramic",9,66330,null,"aluminium oxide ceramic",9,66330]
["wood and cork",296,null,"aluminium titanate (ati) ceramic",10,66331,null,"aluminium titanate (ati) ceramic",10,66331,null,"aluminium titanate (ati) ceramic",10,66331]
["(blank)",null,null,"aluminium, not alloyed",63,66381,null,"aluminium, not alloyed",63,66381,null,"aluminium, not alloyed",63,66381]
[null,null,null,"antimony (and alloys of)",66,66384,null,"antimony (and alloys of)",66,66384,null,"antimony (and alloys of)",66,66384]
[null,null,null,"aramid",276,66589,null,"aramid",276,66589,null,"aramid",276,66589]
[null,null,null,"artificial stone",253,66567,null,"artificial stone",253,66567,null,"artificial stone",253,66567]
[null,null,null,"beryllium oxide ceramic",11,66332,null,"beryllium oxide ceramic",11,66332,null,"beryllium oxide ceramic",11,66332]
[null,null,null,"bismuth (and alloys of)",67,66385,null,"bismuth (and alloys of)",67,66385,null,"bismuth (and alloys of)",67,66385]
[null,null,null,"boron carbide ceramic",21,66342,null,"boron carbide ceramic",21,66342,null,"boron carbide ceramic",21,66342]
[null,null,null,"boron nitride ceramic",22,66343,null,"boron nitride ceramic",22,66343,null,"boron nitride ceramic",22,66343]
[null,null,null,"borosilicate glass",37,66357,null,"borosilicate glass",37,66357,null,"borosilicate glass",37,66357]
[null,null,null,"brass",68,66386,null,"brass",68,66386,null,"brass",68,66386]
[null,null,null,"brominated polystyrene",188,66504,null,"brominated polystyrene",188,66504,null,"brominated polystyrene",188,66504]
[null,null,null,"bronze",70,66388,null,"bronze",70,66388,null,"bronze",70,66388]
[null,null,null,"butadiene rubber (br)",230,66545,null,"butadiene rubber (br)",230,66545,null,"butadiene rubber (br)",230,66545]
[null,null,null,"cadmium (and alloys of)",72,66390,null,"cadmium (and alloys of)",72,66390,null,"cadmium (and alloys of)",72,66390]
[null,null,null,"cane",307,66619,null,"cane",307,66619,null,"cane",307,66619]
[null,null,null,"carbon fibres",259,66573,null,"carbon fibres",259,66573,null,"carbon fibres",259,66573]
[null,null,null,"carbon paper",138,66455,null,"carbon paper",138,66455,null,"carbon paper",138,66455]
[null,null,null,"carbon steel (non-alloy steel)",57,66375,null,"carbon steel (non-alloy steel)",57,66375,null,"carbon steel (non-alloy steel)",57,66375]
[null,null,null,"carbonless paper",135,66452,null,"carbonless paper",135,66452,null,"carbonless paper",135,66452]
[null,null,null,"carboxylated styrene-butadiene rubber (xsbr)",229,66544,null,"carboxylated styrene-butadiene rubber (xsbr)",229,66544,null,"carboxylated styrene-butadiene rubber (xsbr)",229,66544]
[null,null,null,"category no. 1 (annex i to directive 69/493/eec)",33,66353,null,"category no. 1 (annex i to directive 69/493/eec)",33,66353,null,"category no. 1 (annex i to directive 69/493/eec)",33,66353]
[null,null,null,"category no. 2 (annex i to directive 69/493/eec)",34,66354,null,"category no. 2 (annex i to directive 69/493/eec)",34,66354,null,"category no. 2 (annex i to directive 69/493/eec)",34,66354]
[null,null,null,"category no. 3 (annex i to directive 69/493/eec)",35,66355,null,"category no. 3 (annex i to directive 69/493/eec)",35,66355,null,"category no. 3 (annex i to directive 69/493/eec)",35,66355]
[null,null,null,"category no. 4 (annex i to directive 69/493/eec)",36,66356,null,"category no. 4 (annex i to directive 69/493/eec)",36,66356,null,"category no. 4 (annex i to directive 69/493/eec)",36,66356]
[null,null,null,"cellulose and its chemical derivatives (not elsewhere specified)",222,66538,null,"cellulose and its chemical derivatives (not elsewhere specified)",222,66538,null,"cellulose and its chemical derivatives (not elsewhere specified)",222,66538]
[null,null,null,"cement",250,66564,null,"cement",250,66564,null,"cement",250,66564]
[null,null,null,"ceramic",1,null,null,"ceramic",1,null,null,"ceramic",1]
[null,null,null,"chamois leather",45,66364,null,"chamois leather",45,66364,null,"chamois leather",45,66364]
[null,null,null,"chipwood",300,66612,null,"chipwood",300,66612,null,"chipwood",300,66612]
[null,null,null,"chlorofibre",272,66585,null,"chlorofibre",272,66585,null,"chlorofibre",272,66585]
[null,null,null,"chloroprene (chlorobutadiene) rubber (cr)",233,66548,null,"chloroprene (chlorobutadiene) rubber (cr)",233,66548,null,"chloroprene (chlorobutadiene) rubber (cr)",233,66548]
[null,null,null,"chlorosuphonated polyethylene rubber (csm)",237,66552,null,"chlorosuphonated polyethylene rubber (csm)",237,66552,null,"chlorosuphonated polyethylene rubber (csm)",237,66552]
[null,null,null,"clays",3,66324,null,"clays",3,66324,null,"clays",3,66324]
[null,null,null,"clays / silicate ceramic",2,66323,null,"clays / silicate ceramic",2,66323,null,"clays / silicate ceramic",2,66323]
[null,null,null,"cobalt (and alloys of)",73,66391,null,"cobalt (and alloys of)",73,66391,null,"cobalt (and alloys of)",73,66391]
[null,null,null,"concrete",251,66565,null,"concrete",251,66565,null,"concrete",251,66565]
[null,null,null,"containing bismuth",140,132776,null,"containing bismuth",140,132776,null,"containing bismuth",140,132776]
[null,null,null,"containing copper",60,66378,null,"containing copper",60,66378,null,"containing copper",60,66378]
[null,null,null,"containing tin",61,66379,null,"containing tin",61,66379,null,"containing tin",61,66379]
[null,null,null,"copolymers of acrylonitrile-butadiene-styrene (abs)",187,66503,null,"copolymers of acrylonitrile-butadiene-styrene (abs)",187,66503,null,"copolymers of acrylonitrile-butadiene-styrene (abs)",187,66503]
[null,null,null,"copolymers of ethylene-vinyl acetate",173,66489,null,"copolymers of ethylene-vinyl acetate",173,66489,null,"copolymers of ethylene-vinyl acetate",173,66489]
[null,null,null,"copolymers of propylene",175,66491,null,"copolymers of propylene",175,66491,null,"copolymers of propylene",175,66491]
[null,null,null,"copolymers of styrene-acrylonitrile (san)",186,66502,null,"copolymers of styrene-acrylonitrile (san)",186,66502,null,"copolymers of styrene-acrylonitrile (san)",186,66502]
[null,null,null,"copolymers of vinyl acetate",191,66507,null,"copolymers of vinyl acetate",191,66507,null,"copolymers of vinyl acetate",191,66507]
[null,null,null,"copolymers of vinyl chloride-vinyl acetate",179,66495,null,"copolymers of vinyl chloride-vinyl acetate",179,66495,null,"copolymers of vinyl chloride-vinyl acetate",179,66495]
[null,null,null,"copper (and alloys of, except bronze and brass)",74,66392,null,"copper (and alloys of, except bronze and brass)",74,66392,null,"copper (and alloys of, except bronze and brass)",74,66392]
[null,null,null,"copper, not alloyed",75,66393,null,"copper, not alloyed",75,66393,null,"copper, not alloyed",75,66393]
[null,null,null,"copper-alloy containing bismuth, except bronze and brass",76,66394,null,"copper-alloy containing bismuth, except bronze and brass",76,66394,null,"copper-alloy containing bismuth, except bronze and brass",76,66394]
[null,null,null,"cork",303,66615,null,"cork",303,66615,null,"cork",303,66615]
[null,null,null,"corrugated fibreboard",159,66476,null,"corrugated fibreboard",159,66476,null,"corrugated fibreboard",159,66476]
[null,null,null,"coumarone, indene or coumarone-indene resins",219,66535,null,"coumarone, indene or coumarone-indene resins",219,66535,null,"coumarone, indene or coumarone-indene resins",219,66535]
[null,null,null,"cupro (regenerated cellulose fibre)",266,66579,null,"cupro (regenerated cellulose fibre)",266,66579,null,"cupro (regenerated cellulose fibre)",266,66579]
[null,null,null,"earthenware",4,66325,null,"earthenware",4,66325,null,"earthenware",4,66325]
[null,null,null,"elastane",288,66601,null,"elastane",288,66601,null,"elastane",288,66601]
[null,null,null,"elastodiene",287,66600,null,"elastodiene",287,66600,null,"elastodiene",287,66600]
[null,null,null,"elastolefin",291,66604,null,"elastolefin",291,66604,null,"elastolefin",291,66604]
[null,null,null,"elastomultiester",290,66603,null,"elastomultiester",290,66603,null,"elastomultiester",290,66603]
[null,null,null,"epoxide resins",205,66521,null,"epoxide resins",205,66521,null,"epoxide resins",205,66521]
[null,null,null,"esparto",305,66617,null,"esparto",305,66617,null,"esparto",305,66617]
[null,null,null,"ethylene propylene rubber (epr)",236,66551,null,"ethylene propylene rubber (epr)",236,66551,null,"ethylene propylene rubber (epr)",236,66551]
[null,null,null,"ethylene-propylene-non-conjugated diene rubber (epdm)",239,66554,null,"ethylene-propylene-non-conjugated diene rubber (epdm)",239,66554,null,"ethylene-propylene-non-conjugated diene rubber (epdm)",239,66554]
[null,null,null,"expanded minerals",252,66566,null,"expanded minerals",252,66566,null,"expanded minerals",252,66566]
[null,null,null,"feathers",48,66367,null,"feathers",48,66367,null,"feathers",48,66367]
[null,null,null,"ferro-alloy containing copper, except steel",53,66371,null,"ferro-alloy containing copper, except steel",53,66371,null,"ferro-alloy containing copper, except steel",53,66371]
[null,null,null,"ferro-alloy containing tin, except steel",54,66372,null,"ferro-alloy containing tin, except steel",54,66372,null,"ferro-alloy containing tin, except steel",54,66372]
[null,null,null,"ferroelectric perovskites based ceramic",12,66333,null,"ferroelectric perovskites based ceramic",12,66333,null,"ferroelectric perovskites based ceramic",12,66333]
[null,null,null,"fibres obtained from miscellaneous or new materials not listed above (textile fibre), e.g. metal (metallic, metallised), paper",293,66606,null,"fibres obtained from miscellaneous or new materials not listed above (textile fibre), e.g. metal (metallic, metallised), paper",293,66606,null,"fibres obtained from miscellaneous or new materials not listed above (textile fibre), e.g. metal (metallic, metallised), paper",293,66606]
[null,null,null,"filter paper",147,66464,null,"filter paper",147,66464,null,"filter paper",147,66464]
[null,null,null,"fine paper",144,66461,null,"fine paper",144,66461,null,"fine paper",144,66461]
[null,null,null,"fluorofibre",273,66586,null,"fluorofibre",273,66586,null,"fluorofibre",273,66586]
[null,null,null,"fluoropolymer rubber",238,66553,null,"fluoropolymer rubber",238,66553,null,"fluoropolymer rubber",238,66553]
[null,null,null,"fluoropolymers",182,66498,null,"fluoropolymers",182,66498,null,"fluoropolymers",182,66498]
[null,null,null,"forest residues",302,66614,null,"forest residues",302,66614,null,"forest residues",302,66614]
[null,null,null,"frit",28,66349,null,"frit",28,66349,null,"frit",28,66349]
[null,null,null,"furskins",47,66366,null,"furskins",47,66366,null,"furskins",47,66366]
[null,null,null,"fused quartz and fused silica glass",38,66358,null,"fused quartz and fused silica glass",38,66358,null,"fused quartz and fused silica glass",38,66358]
[null,null,null,"glass",30,null,null,"glass",30,null,null,"glass",30]
[null,null,null,"glass ceramic",41,66361,null,"glass ceramic",41,66361,null,"glass ceramic",41,66361]
[null,null,null,"glass fibre (textile fibre)",289,66602,null,"glass fibre (textile fibre)",289,66602,null,"glass fibre (textile fibre)",289,66602]
[null,null,null,"glassine/greaseproof paper",141,66458,null,"glassine/greaseproof paper",141,66458,null,"glassine/greaseproof paper",141,66458]
[null,null,null,"gypsum",249,66563,null,"gypsum",249,66563,null,"gypsum",249,66563]
[null,null,null,"halo-isobutene-isoprene rubber (ciir or biir)",232,66547,null,"halo-isobutene-isoprene rubber (ciir or biir)",232,66547,null,"halo-isobutene-isoprene rubber (ciir or biir)",232,66547]
[null,null,null,"hard rubber (e.g. ebonite)",244,66559,null,"hard rubber (e.g. ebonite)",244,66559,null,"hard rubber (e.g. ebonite)",244,66559]
[null,null,null,"high weight paper",120,66437,null,"high weight paper",120,66437,null,"high weight paper",120,66437]
[null,null,null,"iron (and alloys of, except steel)",51,66369,null,"iron (and alloys of, except steel)",51,66369,null,"iron (and alloys of, except steel)",51,66369]
[null,null,null,"iron, not alloyed",52,66370,null,"iron, not alloyed",52,66370,null,"iron, not alloyed",52,66370]
[null,null,null,"isobutene-isoprene (butyl) rubber (iir)",231,66546,null,"isobutene-isoprene (butyl) rubber (iir)",231,66546,null,"isobutene-isoprene (butyl) rubber (iir)",231,66546]
[null,null,null,"isoprene rubber (ir)",235,66550,null,"isoprene rubber (ir)",235,66550,null,"isoprene rubber (ir)",235,66550]
[null,null,null,"kraft paper and kraft wrapping",126,66443,null,"kraft paper and kraft wrapping",126,66443,null,"kraft paper and kraft wrapping",126,66443]
[null,null,null,"lead (and alloys of)",78,66396,null,"lead (and alloys of)",78,66396,null,"lead (and alloys of)",78,66396]
[null,null,null,"lead alloy",80,66398,null,"lead alloy",80,66398,null,"lead alloy",80,66398]
[null,null,null,"lead crystal and crystal glass",32,66352,null,"lead crystal and crystal glass",32,66352,null,"lead crystal and crystal glass",32,66352]
[null,null,null,"lead zirconium titanate (pzt) ceramic",13,66334,null,"lead zirconium titanate (pzt) ceramic",13,66334,null,"lead zirconium titanate (pzt) ceramic",13,66334]
[null,null,null,"lead, not alloyed",79,66397,null,"lead, not alloyed",79,66397,null,"lead, not alloyed",79,66397]
[null,null,null,"leather",44,66363,null,"leather",44,66363,null,"leather",44,66363]
[null,null,null,"leather and raw hides",43,null,null,"leather and raw hides",43,null,null,"leather and raw hides",43]
[null,null,null,"light weight paper",114,66431,null,"light weight paper",114,66431,null,"light weight paper",114,66431]
[null,null,null,"lyocell (regenerated cellulose fibre)",278,66591,null,"lyocell (regenerated cellulose fibre)",278,66591,null,"lyocell (regenerated cellulose fibre)",278,66591]
[null,null,null,"magnesium (and alloys of)",81,66399,null,"magnesium (and alloys of)",81,66399,null,"magnesium (and alloys of)",81,66399]
[null,null,null,"magnesium oxide ceramic",14,66335,null,"magnesium oxide ceramic",14,66335,null,"magnesium oxide ceramic",14,66335]
[null,null,null,"magnesium titanate ceramic",15,66336,null,"magnesium titanate ceramic",15,66336,null,"magnesium titanate ceramic",15,66336]
[null,null,null,"manganese (and alloys of)",82,66400,null,"manganese (and alloys of)",82,66400,null,"manganese (and alloys of)",82,66400]
[null,null,null,"medium weight paper",117,66434,null,"medium weight paper",117,66434,null,"medium weight paper",117,66434]
[null,null,null,"melamine",292,66605,null,"melamine",292,66605,null,"melamine",292,66605]
[null,null,null,"melamine resins",212,66528,null,"melamine resins",212,66528,null,"melamine resins",212,66528]
[null,null,null,"metal",50,null,null,"metal",50,null,null,"metal",50]
[null,null,null,"mica",254,66568,null,"mica",254,66568,null,"mica",254,66568]
[null,null,null,"mineral agglomerates, grains, and particles",255,66569,null,"mineral agglomerates, grains, and particles",255,66569,null,"mineral agglomerates, grains, and particles",255,66569]
[null,null,null,"modacrylic",274,66587,null,"modacrylic",274,66587,null,"modacrylic",274,66587]
[null,null,null,"modal (regenerated cellulose fibre)",267,66580,null,"modal (regenerated cellulose fibre)",267,66580,null,"modal (regenerated cellulose fibre)",267,66580]
[null,null,null,"modified natural polymers, not elsewhere specified",217,66533,null,"modified natural polymers, not elsewhere specified",217,66533,null,"modified natural polymers, not elsewhere specified",217,66533]
[null,null,null,"molybdenum (and alloys of)",83,66401,null,"molybdenum (and alloys of)",83,66401,null,"molybdenum (and alloys of)",83,66401]
[null,null,null,"natural fibre of animal origin",262,66575,null,"natural fibre of animal origin",262,66575,null,"natural fibre of animal origin",262,66575]
[null,null,null,"natural fibre of vegetable origin",263,66576,null,"natural fibre of vegetable origin",263,66576,null,"natural fibre of vegetable origin",263,66576]
[null,null,null,"natural gums",227,66542,null,"natural gums",227,66542,null,"natural gums",227,66542]
[null,null,null,"natural polymers, not elsewhere specified",216,66532,null,"natural polymers, not elsewhere specified",216,66532,null,"natural polymers, not elsewhere specified",216,66532]
[null,null,null,"natural rubber",226,66541,null,"natural rubber",226,66541,null,"natural rubber",226,66541]
[null,null,null,"newsprint paper",105,66422,null,"newsprint paper",105,66422,null,"newsprint paper",105,66422]
[null,null,null,"nickel (and alloys of)",84,66402,null,"nickel (and alloys of)",84,66402,null,"nickel (and alloys of)",84,66402]
[null,null,null,"nickel (and alloys of) > nickel alloy",86,66404,null,"nickel (and alloys of) > nickel alloy",86,66404,null,"nickel (and alloys of) > nickel alloy",86,66404]
[null,null,null,"nickel (and alloys of) > nickel, not alloyed",85,66403,null,"nickel (and alloys of) > nickel, not alloyed",85,66403,null,"nickel (and alloys of) > nickel, not alloyed",85,66403]
[null,null,null,"non-corrugated fibreboard",156,66473,null,"non-corrugated fibreboard",156,66473,null,"non-corrugated fibreboard",156,66473]
[null,null,null,"non-oxide ceramic",19,66340,null,"non-oxide ceramic",19,66340,null,"non-oxide ceramic",19,66340]
[null,null,null,"optical glass",39,66359,null,"optical glass",39,66359,null,"optical glass",39,66359]
[null,null,null,"other",152,265433,null,"other",152,265433,null,"other",152,265433]
[null,null,null,"other acrylic polymers and copolymers, not elsewhere specified",196,66512,null,"other acrylic polymers and copolymers, not elsewhere specified",196,66512,null,"other acrylic polymers and copolymers, not elsewhere specified",196,66512]
[null,null,null,"other aluminium alloy",65,66383,null,"other aluminium alloy",65,66383,null,"other aluminium alloy",65,66383]
[null,null,null,"other amino-resins",213,66529,null,"other amino-resins",213,66529,null,"other amino-resins",213,66529]
[null,null,null,"other board (not elsewhere specified)",165,66482,null,"other board (not elsewhere specified)",165,66482,null,"other board (not elsewhere specified)",165,66482]
[null,null,null,"other copolymers of ethylene",174,66490,null,"other copolymers of ethylene",174,66490,null,"other copolymers of ethylene",174,66490]
[null,null,null,"other copolymers of vinyl chloride",180,66496,null,"other copolymers of vinyl chloride",180,66496,null,"other copolymers of vinyl chloride",180,66496]
[null,null,null,"other copper-alloy, except bronze and brass",77,66395,null,"other copper-alloy, except bronze and brass",77,66395,null,"other copper-alloy, except bronze and brass",77,66395]
[null,null,null,"other ferro-alloy, except steel",55,66373,null,"other ferro-alloy, except steel",55,66373,null,"other ferro-alloy, except steel",55,66373]
[null,null,null,"other halogenated (co)polymers",224,66540,null,"other halogenated (co)polymers",224,66540,null,"other halogenated (co)polymers",224,66540]
[null,null,null,"other halogenated rubber",242,66557,null,"other halogenated rubber",242,66557,null,"other halogenated rubber",242,66557]
[null,null,null,"other material of animal origin, not specified elsewhere",49,66368,null,"other material of animal origin, not specified elsewhere",49,66368,null,"other material of animal origin, not specified elsewhere",49,66368]
[null,null,null,"other materials of vegetal origin, not specified elsewhere",308,66620,null,"other materials of vegetal origin, not specified elsewhere",308,66620,null,"other materials of vegetal origin, not specified elsewhere",308,66620]
[null,null,null,"other mineral wools",258,66572,null,"other mineral wools",258,66572,null,"other mineral wools",258,66572]
[null,null,null,"other minerals",260,66574,null,"other minerals",260,66574,null,"other minerals",260,66574]
[null,null,null,"other non-ferrous metal (and alloys of)",97,66415,null,"other non-ferrous metal (and alloys of)",97,66415,null,"other non-ferrous metal (and alloys of)",97,66415]
[null,null,null,"other non-halogenated (co)polymers",223,66539,null,"other non-halogenated (co)polymers",223,66539,null,"other non-halogenated (co)polymers",223,66539]
[null,null,null,"other paper (not elsewhere specified)",162,66479,null,"other paper (not elsewhere specified)",162,66479,null,"other paper (not elsewhere specified)",162,66479]
[null,null,null,"other plaiting materials",306,66618,null,"other plaiting materials",306,66618,null,"other plaiting materials",306,66618]
[null,null,null,"other polyallyl esters",207,66523,null,"other polyallyl esters",207,66523,null,"other polyallyl esters",207,66523]
[null,null,null,"other polyesters",208,66524,null,"other polyesters",208,66524,null,"other polyesters",208,66524]
[null,null,null,"other polyesters, not elsewhere specified",203,66519,null,"other polyesters, not elsewhere specified",203,66519,null,"other polyesters, not elsewhere specified",203,66519]
[null,null,null,"other polyethers, including copolymers",199,66515,null,"other polyethers, including copolymers",199,66515,null,"other polyethers, including copolymers",199,66515]
[null,null,null,"other polyvinyl esters and vinyl (co)polymers",193,66509,null,"other polyvinyl esters and vinyl (co)polymers",193,66509,null,"other polyvinyl esters and vinyl (co)polymers",193,66509]
[null,null,null,"other rubber",243,66558,null,"other rubber",243,66558,null,"other rubber",243,66558]
[null,null,null,"other special glass",42,66362,null,"other special glass",42,66362,null,"other special glass",42,66362]
[null,null,null,"other speciality paper",153,66470,null,"other speciality paper",153,66470,null,"other speciality paper",153,66470]
[null,null,null,"other synthetic fibres",295,66608,null,"other synthetic fibres",295,66608,null,"other synthetic fibres",295,66608]
[null,null,null,"other:",309,1342,null,"other:",309,1342,null,"other:",309,1342]
[null,null,null,"oxide ceramic",8,66329,null,"oxide ceramic",8,66329,null,"oxide ceramic",8,66329]
[null,null,null,"paper and board",101,null,null,"paper and board",101,null,null,"paper and board",101]
[null,null,null,"petroleum resins",218,66534,null,"petroleum resins",218,66534,null,"petroleum resins",218,66534]
[null,null,null,"phenolic resins",214,66530,null,"phenolic resins",214,66530,null,"phenolic resins",214,66530]
[null,null,null,"plaster",248,66562,null,"plaster",248,66562,null,"plaster",248,66562]
[null,null,null,"plastic (and polymers)",168,null,null,"plastic (and polymers)",168,null,null,"plastic (and polymers)",168]
[null,null,null,"poly(ethylene terephthalate) (pet), including copolymers",201,66517,null,"poly(ethylene terephthalate) (pet), including copolymers",201,66517,null,"poly(ethylene terephthalate) (pet), including copolymers",201,66517]
[null,null,null,"poly(lactic acid)",202,66518,null,"poly(lactic acid)",202,66518,null,"poly(lactic acid)",202,66518]
[null,null,null,"poly(methyl methacrylate) (pmma)",194,66510,null,"poly(methyl methacrylate) (pmma)",194,66510,null,"poly(methyl methacrylate) (pmma)",194,66510]
[null,null,null,"poly(vinyl alcohol)",192,66508,null,"poly(vinyl alcohol)",192,66508,null,"poly(vinyl alcohol)",192,66508]
[null,null,null,"polyacetals, including copolymers",197,66513,null,"polyacetals, including copolymers",197,66513,null,"polyacetals, including copolymers",197,66513]
[null,null,null,"polyacrylamides, including copolymers",195,66511,null,"polyacrylamides, including copolymers",195,66511,null,"polyacrylamides, including copolymers",195,66511]
[null,null,null,"polyamide or nylon",275,66588,null,"polyamide or nylon",275,66588,null,"polyamide or nylon",275,66588]
[null,null,null,"polyamides, including copolymers",209,66525,null,"polyamides, including copolymers",209,66525,null,"polyamides, including copolymers",209,66525]
[null,null,null,"polycarbamide",283,66596,null,"polycarbamide",283,66596,null,"polycarbamide",283,66596]
[null,null,null,"polycarbonates (pcs), including copolymers",200,66516,null,"polycarbonates (pcs), including copolymers",200,66516,null,"polycarbonates (pcs), including copolymers",200,66516]
[null,null,null,"polyester",280,66593,null,"polyester",280,66593,null,"polyester",280,66593]
[null,null,null,"polyether alcohols, including copolymers",198,66514,null,"polyether alcohols, including copolymers",198,66514,null,"polyether alcohols, including copolymers",198,66514]
[null,null,null,"polyethylene",281,66594,null,"polyethylene",281,66594,null,"polyethylene",281,66594]
[null,null,null,"polyethylene, high density (hdpe)",170,66486,null,"polyethylene, high density (hdpe)",170,66486,null,"polyethylene, high density (hdpe)",170,66486]
[null,null,null,"polyethylene, low density (ldpe)",169,66485,null,"polyethylene, low density (ldpe)",169,66485,null,"polyethylene, low density (ldpe)",169,66485]
[null,null,null,"polyimide",277,66590,null,"polyimide",277,66590,null,"polyimide",277,66590]
[null,null,null,"polyimides",204,66520,null,"polyimides",204,66520,null,"polyimides",204,66520]
[null,null,null,"polyisobutylene",172,66488,null,"polyisobutylene",172,66488,null,"polyisobutylene",172,66488]
[null,null,null,"polylactide",279,66592,null,"polylactide",279,66592,null,"polylactide",279,66592]
[null,null,null,"polymers and copolymers of halogenated olefins, not elsewhere specified",183,66499,null,"polymers and copolymers of halogenated olefins, not elsewhere specified",183,66499,null,"polymers and copolymers of halogenated olefins, not elsewhere specified",183,66499]
[null,null,null,"polymers and copolymers of olefins, not elsewhere specified",176,66492,null,"polymers and copolymers of olefins, not elsewhere specified",176,66492,null,"polymers and copolymers of olefins, not elsewhere specified",176,66492]
[null,null,null,"polymers and copolymers of styrene and its derivatives, not elsewhere specified",189,66505,null,"polymers and copolymers of styrene and its derivatives, not elsewhere specified",189,66505,null,"polymers and copolymers of styrene and its derivatives, not elsewhere specified",189,66505]
[null,null,null,"polymers and copolymers of vinylidene chloride",181,66497,null,"polymers and copolymers of vinylidene chloride",181,66497,null,"polymers and copolymers of vinylidene chloride",181,66497]
[null,null,null,"polypropylene",282,66595,null,"polypropylene",282,66595,null,"polypropylene",282,66595]
[null,null,null,"polypropylene (pp)",171,66487,null,"polypropylene (pp)",171,66487,null,"polypropylene (pp)",171,66487]
[null,null,null,"polypropylene/polyamide bicomponent",294,66607,null,"polypropylene/polyamide bicomponent",294,66607,null,"polypropylene/polyamide bicomponent",294,66607]
[null,null,null,"polystyrene",185,66501,null,"polystyrene",185,66501,null,"polystyrene",185,66501]
[null,null,null,"polystyrene, expansible (eps)",184,66500,null,"polystyrene, expansible (eps)",184,66500,null,"polystyrene, expansible (eps)",184,66500]
[null,null,null,"polysulphides and polysulphones",221,66537,null,"polysulphides and polysulphones",221,66537,null,"polysulphides and polysulphones",221,66537]
[null,null,null,"polyterpenes",220,66536,null,"polyterpenes",220,66536,null,"polyterpenes",220,66536]
[null,null,null,"polyurethane",284,66597,null,"polyurethane",284,66597,null,"polyurethane",284,66597]
[null,null,null,"polyurethanes",215,66531,null,"polyurethanes",215,66531,null,"polyurethanes",215,66531]
[null,null,null,"polyvinyl acetate (pva)",190,66506,null,"polyvinyl acetate (pva)",190,66506,null,"polyvinyl acetate (pva)",190,66506]
[null,null,null,"polyvinylchloride (pvc), hard",177,66493,null,"polyvinylchloride (pvc), hard",177,66493,null,"polyvinylchloride (pvc), hard",177,66493]
[null,null,null,"polyvinylchloride (pvc), soft",178,66494,null,"polyvinylchloride (pvc), soft",178,66494,null,"polyvinylchloride (pvc), soft",178,66494]
[null,null,null,"porcelain or china",5,66326,null,"porcelain or china",5,66326,null,"porcelain or china",5,66326]
[null,null,null,"precious and semi-precious stone and pearls",247,66561,null,"precious and semi-precious stone and pearls",247,66561,null,"precious and semi-precious stone and pearls",247,66561]
[null,null,null,"precious-metal (and alloys of)",99,66417,null,"precious-metal (and alloys of)",99,66417,null,"precious-metal (and alloys of)",99,66417]
[null,null,null,"printing and writing paper",102,66419,null,"printing and writing paper",102,66419,null,"printing and writing paper",102,66419]
[null,null,null,"protein (fibre obtained from)",268,66581,null,"protein (fibre obtained from)",268,66581,null,"protein (fibre obtained from)",268,66581]
[null,null,null,"rare-earth (and alloys of)",98,66416,null,"rare-earth (and alloys of)",98,66416,null,"rare-earth (and alloys of)",98,66416]
[null,null,null,"raw hides and skins",46,66365,null,"raw hides and skins",46,66365,null,"raw hides and skins",46,66365]
[null,null,null,"recovered pulp",2981,1461955,null,"recovered pulp",2981,1461955,null,"recovered pulp",2981,1461955]
[null,null,null,"refractory",29,66350,null,"refractory",29,66350,null,"refractory",29,66350]
[null,null,null,"rubber and elastomers",225,null,null,"rubber and elastomers",225,null,null,"rubber and elastomers",225]
[null,null,null,"silicon aluminium oxynitride (sialon)",23,66344,null,"silicon aluminium oxynitride (sialon)",23,66344,null,"silicon aluminium oxynitride (sialon)",23,66344]
[null,null,null,"silicon carbide ceramic",24,66345,null,"silicon carbide ceramic",24,66345,null,"silicon carbide ceramic",24,66345]
[null,null,null,"silicon nitride ceramic",25,66346,null,"silicon nitride ceramic",25,66346,null,"silicon nitride ceramic",25,66346]
[null,null,null,"silicone rubber",240,66555,null,"silicone rubber",240,66555,null,"silicone rubber",240,66555]
[null,null,null,"silicones (or polysiloxanes), including copolymers",210,66526,null,"silicones (or polysiloxanes), including copolymers",210,66526,null,"silicones (or polysiloxanes), including copolymers",210,66526]
[null,null,null,"sintered glass",40,66360,null,"sintered glass",40,66360,null,"sintered glass",40,66360]
[null,null,null,"slag-wool",257,66571,null,"slag-wool",257,66571,null,"slag-wool",257,66571]
[null,null,null,"soda-lime glass",31,66351,null,"soda-lime glass",31,66351,null,"soda-lime glass",31,66351]
[null,null,null,"stainless steel",58,66376,null,"stainless steel",58,66376,null,"stainless steel",58,66376]
[null,null,null,"steel",56,66374,null,"steel",56,66374,null,"steel",56,66374]
[null,null,null,"stone (massive)",246,66560,null,"stone (massive)",246,66560,null,"stone (massive)",246,66560]
[null,null,null,"stone or rock-wool",256,66570,null,"stone or rock-wool",256,66570,null,"stone or rock-wool",256,66570]
[null,null,null,"stone, plaster, and cement",245,null,null,"stone, plaster, and cement",245,null,null,"stone, plaster, and cement",245]
[null,null,null,"stoneware",6,66327,null,"stoneware",6,66327,null,"stoneware",6,66327]
[null,null,null,"straw",304,66616,null,"straw",304,66616,null,"straw",304,66616]
[null,null,null,"styrene-butadiene rubber (sbr)",228,66543,null,"styrene-butadiene rubber (sbr)",228,66543,null,"styrene-butadiene rubber (sbr)",228,66543]
[null,null,null,"supercalendered (sc) paper",108,66425,null,"supercalendered (sc) paper",108,66425,null,"supercalendered (sc) paper",108,66425]
[null,null,null,"tantalum (and alloys of)",87,66405,null,"tantalum (and alloys of)",87,66405,null,"tantalum (and alloys of)",87,66405]
[null,null,null,"textile fibre and other fibres",261,null,null,"textile fibre and other fibres",261,null,null,"textile fibre and other fibres",261]
[null,null,null,"thermal paper",150,66467,null,"thermal paper",150,66467,null,"thermal paper",150,66467]
[null,null,null,"tin (and alloys of), except bronze",88,66406,null,"tin (and alloys of), except bronze",88,66406,null,"tin (and alloys of), except bronze",88,66406]
[null,null,null,"tin alloy, except bronze",90,66408,null,"tin alloy, except bronze",90,66408,null,"tin alloy, except bronze",90,66408]
[null,null,null,"tin, not alloyed",89,66407,null,"tin, not alloyed",89,66407,null,"tin, not alloyed",89,66407]
[null,null,null,"tissue paper",129,66446,null,"tissue paper",129,66446,null,"tissue paper",129,66446]
[null,null,null,"titanium (and alloys of)",91,66409,null,"titanium (and alloys of)",91,66409,null,"titanium (and alloys of)",91,66409]
[null,null,null,"titanium dioxide ceramic",16,66337,null,"titanium dioxide ceramic",16,66337,null,"titanium dioxide ceramic",16,66337]
[null,null,null,"titanium nitride ceramic",26,66347,null,"titanium nitride ceramic",26,66347,null,"titanium nitride ceramic",26,66347]
[null,null,null,"tracing paper",132,66449,null,"tracing paper",132,66449,null,"tracing paper",132,66449]
[null,null,null,"triacetate (cellulose acetate fibre)",269,66582,null,"triacetate (cellulose acetate fibre)",269,66582,null,"triacetate (cellulose acetate fibre)",269,66582]
[null,null,null,"trivinyl",286,66599,null,"trivinyl",286,66599,null,"trivinyl",286,66599]
[null,null,null,"tungsten (and alloys of)",92,66410,null,"tungsten (and alloys of)",92,66410,null,"tungsten (and alloys of)",92,66410]
[null,null,null,"ultra-light weight paper",111,66428,null,"ultra-light weight paper",111,66428,null,"ultra-light weight paper",111,66428]
[null,null,null,"urea and thiourea resins",211,66527,null,"urea and thiourea resins",211,66527,null,"urea and thiourea resins",211,66527]
[null,null,null,"urethane rubber (pur)",241,66556,null,"urethane rubber (pur)",241,66556,null,"urethane rubber (pur)",241,66556]
[null,null,null,"vinylal",285,66598,null,"vinylal",285,66598,null,"vinylal",285,66598]
[null,null,null,"virgin pulp",2959,1461933,null,"virgin pulp",2959,1461933,null,"virgin pulp",2959,1461933]
[null,null,null,"viscose (regenerated cellulose fibre)",270,66583,null,"viscose (regenerated cellulose fibre)",270,66583,null,"viscose (regenerated cellulose fibre)",270,66583]
[null,null,null,"wood (massive)",297,66609,null,"wood (massive)",297,66609,null,"wood (massive)",297,66609]
[null,null,null,"wood and cork",296,null,null,"wood and cork",296,null,null,"wood and cork",296]
[null,null,null,"wood fibres",301,66613,null,"wood fibres",301,66613,null,"wood fibres",301,66613]
[null,null,null,"wood fluor, sawdust",299,66611,null,"wood fluor, sawdust",299,66611,null,"wood fluor, sawdust",299,66611]
[null,null,null,"wood wool",298,66610,null,"wood wool",298,66610,null,"wood wool",298,66610]
[null,null,null,"wood-free",123,66440,null,"wood-free",123,66440,null,"wood-free",123,66440]
[null,null,null,"zinc (and alloys of, except brass)",93,66411,null,"zinc (and alloys of, except brass)",93,66411,null,"zinc (and alloys of, except brass)",93,66411]
[null,null,null,"zinc alloy, except brass",95,66413,null,"zinc alloy, except brass",95,66413,null,"zinc alloy, except brass",95,66413]
[null,null,null,"zinc, not alloyed",94,66412,null,"zinc, not alloyed",94,66412,null,"zinc, not alloyed",94,66412]
[null,null,null,"zirconium (and alloys of)",96,66414,null,"zirconium (and alloys of)",96,66414,null,"zirconium (and alloys of)",96,66414]
[null,null,null,"zirconium oxide ceramic",17,66338,null,"zirconium oxide ceramic",17,66338,null,"zirconium oxide ceramic",17,66338]
[null,null,null,"(blank)",null,null,null,"(blank)",null,null,null,"(blank)"]

{"sheet":"MatC","index":16,"n_rows":310,"n_cols":6,"rows_kept":310,"cut":false,"hidden":true,"merged":[]}
["Identifier","SelectableFlag","PhraseText","AdditionalPhraseText","PhraseIndex","ParentPhrase"]
[null,false,"ceramic","",1]
[66323,true,"clays / silicate ceramic","ceramic > clays / silicate ceramic",2,1]
[66324,true,"clays","ceramic > clays / silicate ceramic > clays",3,2]
[66325,true,"earthenware","ceramic > clays / silicate ceramic > earthenware",4,2]
[66326,true,"porcelain or china","ceramic > clays / silicate ceramic > porcelain or china",5,2]
[66327,true,"stoneware","ceramic > clays / silicate ceramic > stoneware",6,2]
[66328,true,"other","ceramic > clays / silicate ceramic > other",7,2]
[66329,true,"oxide ceramic","ceramic > oxide ceramic",8,1]
[66330,true,"aluminium oxide ceramic","ceramic > oxide ceramic > aluminium oxide ceramic",9,8]
[66331,true,"aluminium titanate (ati) ceramic","ceramic > oxide ceramic > aluminium titanate (ati) ceramic",10,8]
[66332,true,"beryllium oxide ceramic","ceramic > oxide ceramic > beryllium oxide ceramic",11,8]
[66333,true,"ferroelectric perovskites based ceramic","ceramic > oxide ceramic > ferroelectric perovskites based ceramic",12,8]
[66334,true,"lead zirconium titanate (pzt) ceramic","ceramic > oxide ceramic > lead zirconium titanate (pzt) ceramic",13,8]
[66335,true,"magnesium oxide ceramic","ceramic > oxide ceramic > magnesium oxide ceramic",14,8]
[66336,true,"magnesium titanate ceramic","ceramic > oxide ceramic > magnesium titanate ceramic",15,8]
[66337,true,"titanium dioxide ceramic","ceramic > oxide ceramic > titanium dioxide ceramic",16,8]
[66338,true,"zirconium oxide ceramic","ceramic > oxide ceramic > zirconium oxide ceramic",17,8]
[66339,true,"other","ceramic > oxide ceramic > other",18,8]
[66340,true,"non-oxide ceramic","ceramic > non-oxide ceramic",19,1]
[66341,true,"aluminium nitride ceramic","ceramic > non-oxide ceramic > aluminium nitride ceramic",20,19]
[66342,true,"boron carbide ceramic","ceramic > non-oxide ceramic > boron carbide ceramic",21,19]
[66343,true,"boron nitride ceramic","ceramic > non-oxide ceramic > boron nitride ceramic",22,19]
[66344,true,"silicon aluminium oxynitride (sialon)","ceramic > non-oxide ceramic > silicon aluminium oxynitride (sialon)",23,19]
[66345,true,"silicon carbide ceramic","ceramic > non-oxide ceramic > silicon carbide ceramic",24,19]
[66346,true,"silicon nitride ceramic","ceramic > non-oxide ceramic > silicon nitride ceramic",25,19]
[66347,true,"titanium nitride ceramic","ceramic > non-oxide ceramic > titanium nitride ceramic",26,19]
[66348,true,"other","ceramic > non-oxide ceramic > other",27,19]
[66349,true,"frit","ceramic > frit",28,1]
[66350,true,"refractory","ceramic > refractory",29,1]
[null,false,"glass","",30]
[66351,true,"soda-lime glass","glass > soda-lime glass",31,30]
[66352,true,"lead crystal and crystal glass","glass > lead crystal and crystal glass",32,30]
[66353,true,"category no. 1 (annex i to directive 69/493/eec)","glass > lead crystal and crystal glass > category no. 1 (annex i to directive 69/493/eec)",33,32]
[66354,true,"category no. 2 (annex i to directive 69/493/eec)","glass > lead crystal and crystal glass > category no. 2 (annex i to directive 69/493/eec)",34,32]
[66355,true,"category no. 3 (annex i to directive 69/493/eec)","glass > lead crystal and crystal glass > category no. 3 (annex i to directive 69/493/eec)",35,32]
[66356,true,"category no. 4 (annex i to directive 69/493/eec)","glass > lead crystal and crystal glass > category no. 4 (annex i to directive 69/493/eec)",36,32]
[66357,true,"borosilicate glass","glass > borosilicate glass",37,30]
[66358,true,"fused quartz and fused silica glass","glass > fused quartz and fused silica glass",38,30]
[66359,true,"optical glass","glass > optical glass",39,30]
[66360,true,"sintered glass","glass > sintered glass",40,30]
[66361,true,"glass ceramic","glass > glass ceramic",41,30]
[66362,true,"other special glass","glass > other special glass",42,30]
[null,false,"leather and raw hides","",43]
[66363,true,"leather","leather and raw hides > leather",44,43]
[66364,true,"chamois leather","leather and raw hides > chamois leather",45,43]
[66365,true,"raw hides and skins","leather and raw hides > raw hides and skins",46,43]
[66366,true,"furskins","leather and raw hides > furskins",47,43]
[66367,true,"feathers","leather and raw hides > feathers",48,43]
[66368,true,"other material of animal origin, not specified elsewhere","leather and raw hides > other material of animal origin, not specified elsewhere",49,43]
[null,false,"metal","",50]
[66369,true,"iron (and alloys of, except steel)","metal > iron (and alloys of, except steel)",51,50]
[66370,true,"iron, not alloyed","metal > iron (and alloys of, except steel) > iron, not alloyed",52,50]
[66371,true,"ferro-alloy containing copper, except steel","metal > iron (and alloys of, except steel) > ferro-alloy containing copper, except steel",53,50]
[66372,true,"ferro-alloy containing tin, except steel","metal > iron (and alloys of, except steel) > ferro-alloy containing tin, except steel",54,50]
[66373,true,"other ferro-alloy, except steel","metal > iron (and alloys of, except steel) > other ferro-alloy, except steel",55,50]
[66374,true,"steel","metal > steel",56,50]
[66375,true,"carbon steel (non-alloy steel)","metal > steel > carbon steel (non-alloy steel)",57,50]
[66376,true,"stainless steel","metal > steel > stainless steel",58,57]
[66377,true,"alloy steel (except stainless steel)","metal > steel > alloy steel (except stainless steel)",59,57]
[66378,true,"containing copper","metal > steel > containing copper",60,57]
[66379,true,"containing tin","metal > steel > containing tin",61,57]
[66380,true,"aluminium (and alloys of)","metal > aluminium (and alloys of)",62,50]
[66381,true,"aluminium, not alloyed","metal > aluminium (and alloys of) > aluminium, not alloyed",63,62]
[66382,true,"aluminium alloy containing lithium","metal > aluminium (and alloys of) > aluminium alloy containing lithium",64,62]
[66383,true,"other aluminium alloy","metal > aluminium (and alloys of) > other aluminium alloy",65,62]
[66384,true,"antimony (and alloys of)","metal > antimony (and alloys of)",66,50]
[66385,true,"bismuth (and alloys of)","metal > bismuth (and alloys of)",67,50]
[66386,true,"brass","metal > brass",68,50]
[66387,true,"containing bismuth","metal > brass > containing bismuth",69,68]
[66388,true,"bronze","metal > bronze",70,50]
[66389,true,"containing bismuth","metal > bronze > containing bismuth",71,70]
[66390,true,"cadmium (and alloys of)","metal > cadmium (and alloys of)",72,50]
[66391,true,"cobalt (and alloys of)","metal > cobalt (and alloys of)",73,50]
[66392,true,"copper (and alloys of, except bronze and brass)","metal > copper (and alloys of, except bronze and brass)",74,50]
[66393,true,"copper, not alloyed","metal > copper (and alloys of, except bronze and brass) > copper, not alloyed",75,74]
[66394,true,"copper-alloy containing bismuth, except bronze and brass","metal > copper (and alloys of, except bronze and brass) > copper-alloy containing bismuth, except bronze and brass",76,74]
[66395,true,"other copper-alloy, except bronze and brass","metal > copper (and alloys of, except bronze and brass) > other copper-alloy, except bronze and brass",77,74]
[66396,true,"lead (and alloys of)","metal > lead (and alloys of)",78,50]
[66397,true,"lead, not alloyed","metal > lead (and alloys of) > lead, not alloyed",79,78]
[66398,true,"lead alloy","metal > lead (and alloys of) > lead alloy",80,78]
[66399,true,"magnesium (and alloys of)","metal > magnesium (and alloys of)",81,50]
[66400,true,"manganese (and alloys of)","metal > manganese (and alloys of)",82,50]
[66401,true,"molybdenum (and alloys of)","metal > molybdenum (and alloys of)",83,50]
[66402,true,"nickel (and alloys of)","metal > nickel (and alloys of)",84,50]
[66403,true,"nickel (and alloys of) > nickel, not alloyed","metal > nickel (and alloys of) > nickel, not alloyed",85,84]
[66404,true,"nickel (and alloys of) > nickel alloy","metal > nickel (and alloys of) > nickel alloy",86,84]
[66405,true,"tantalum (and alloys of)","metal > tantalum (and alloys of)",87,50]
[66406,true,"tin (and alloys of), except bronze","metal > tin (and alloys of), except bronze",88,50]
[66407,true,"tin, not alloyed","metal > tin (and alloys of), except bronze > tin, not alloyed",89,88]
[66408,true,"tin alloy, except bronze","metal > tin (and alloys of), except bronze > tin alloy, except bronze",90,88]
[66409,true,"titanium (and alloys of)","metal > titanium (and alloys of)",91,50]
[66410,true,"tungsten (and alloys of)","metal > tungsten (and alloys of)",92,50]
[66411,true,"zinc (and alloys of, except brass)","metal > zinc (and alloys of, except brass)",93,50]
[66412,true,"zinc, not alloyed","metal > zinc (and alloys of, except brass) > zinc, not alloyed",94,93]
[66413,true,"zinc alloy, except brass","metal > zinc (and alloys of, except brass) > zinc alloy, except brass",95,93]
[66414,true,"zirconium (and alloys of)","metal > zirconium (and alloys of)",96,50]
[66415,true,"other non-ferrous metal (and alloys of)","metal > other non-ferrous metal (and alloys of)",97,50]
[66416,true,"rare-earth (and alloys of)","metal > other non-ferrous metal (and alloys of) > rare-earth (and alloys of)",98,97]
[66417,true,"precious-metal (and alloys of)","metal > other non-ferrous metal (and alloys of) > precious-metal (and alloys of)",99,97]
[66418,true,"other","metal > other non-ferrous metal (and alloys of) > other",100,97]
[null,false,"paper and board","",101]
[66419,true,"printing and writing paper","paper and board > printing and writing paper",102,101]
[66420,true,"virgin pulp","paper and board > printing and writing paper > virgin pulp",103,102]
[66421,true,"recovered pulp","paper and board > printing and writing paper > recovered pulp",104,102]
[66422,true,"newsprint paper","paper and board > newsprint paper",105,101]
[66423,true,"virgin pulp","paper and board > newsprint paper  > virgin pulp",106,105]
[66424,true,"recovered pulp","paper and board > newsprint paper  > recovered pulp",107,105]
[66425,true,"supercalendered (sc) paper","paper and board > ‎supercalendered (sc) paper",108,101]
[66426,true,"virgin pulp","paper and board > ‎supercalendered (sc) paper > virgin pulp",109,108]
[66427,true,"recovered pulp","paper and board > ‎supercalendered (sc) paper > recovered pulp",110,108]
[66428,true,"ultra-light weight paper","paper and board > ultra-light weight paper",111,101]
[66429,true,"virgin pulp","paper and board > ultra-light weight paper > virgin pulp",112,111]
[66430,true,"recovered pulp","paper and board > ultra-light weight paper > recovered pulp",113,111]
[66431,true,"light weight paper","paper and board > light weight paper",114,101]
[66432,true,"virgin pulp","paper and board > light weight paper > virgin pulp",115,114]
[66433,true,"recovered pulp","paper and board > light weight paper > recovered pulp",116,114]
[66434,true,"medium weight paper","paper and board > medium weight paper",117,101]
[66435,true,"virgin pulp","paper and board > medium weight paper > virgin pulp",118,117]
[66436,true,"recovered pulp","paper and board > medium weight paper > recovered pulp",119,117]
[66437,true,"high weight paper","paper and board > high weight paper",120,101]
[66438,true,"virgin pulp","paper and board > high weight paper > virgin pulp",121,120]
[66439,true,"recovered pulp","paper and board > high weight paper > recovered pulp",122,120]
[66440,true,"wood-free","paper and board > wood-free",123,101]
[66441,true,"virgin pulp","paper and board > wood-free > virgin pulp",124,123]
[66442,true,"recovered pulp","paper and board > wood-free > recovered pulp",125,123]
[66443,true,"kraft paper and kraft wrapping","paper and board > kraft paper and kraft wrapping",126,101]
[66444,true,"virgin pulp","paper and board > kraft paper and kraft wrapping > virgin pulp",127,126]
[66445,true,"recovered pulp","paper and board > kraft paper and kraft wrapping > recovered pulp",128,126]
[66446,true,"tissue paper","paper and board > tissue paper",129,101]
[66447,true,"virgin pulp","paper and board > tissue paper > virgin pulp",130,129]
[66448,true,"recovered pulp","paper and board > tissue paper > recovered pulp",131,129]
[66449,true,"tracing paper","paper and board > tracing paper",132,101]
[66450,true,"virgin pulp","paper and board > tracing paper > virgin pulp",133,132]
[66451,true,"recovered pulp","paper and board > tracing paper > recovered pulp",134,132]
[66452,true,"carbonless paper","paper and board > carbonless paper",135,101]
[66453,true,"virgin pulp","paper and board > carbonless paper > virgin pulp",136,135]
[66454,true,"recovered pulp","paper and board > carbonless paper > recovered pulp",137,135]
[66455,true,"carbon paper","paper and board > carbon paper",138,101]
[66456,true,"virgin pulp","paper and board > carbon paper > virgin pulp",139,138]
[66457,true,"recovered pulp","paper and board > carbon paper > recovered pulp",140,138]
[66458,true,"glassine/greaseproof paper","paper and board > glassine/greaseproof paper",141,101]
[66459,true,"virgin pulp","paper and board > glassine/greaseproof paper > virgin pulp",142,141]
[66460,true,"recovered pulp","paper and board > glassine/greaseproof paper > recovered pulp",143,141]
[66461,true,"fine paper","paper and board > fine paper",144,101]
[66462,true,"virgin pulp","paper and board > fine paper  > virgin pulp",145,144]
[66463,true,"recovered pulp","paper and board > fine paper  > recovered pulp",146,144]
[66464,true,"filter paper","paper and board > filter paper",147,101]
[66465,true,"virgin pulp","paper and board > filter paper > virgin pulp",148,147]
[66466,true,"recovered pulp","paper and board > filter paper > recovered pulp",149,147]
[66467,true,"thermal paper","paper and board > thermal paper",150,101]
[66468,true,"virgin pulp","paper and board > thermal paper > virgin pulp",151,150]
[66469,true,"recovered pulp","paper and board > thermal paper > recovered pulp",152,150]
[66470,true,"other speciality paper","paper and board > other speciality paper",153,101]
[66471,true,"virgin pulp","paper and board > other speciality paper > virgin pulp",154,153]
[66472,true,"recovered pulp","paper and board > other speciality paper > recovered pulp",155,153]
[66473,true,"non-corrugated fibreboard","paper and board > non-corrugated fibreboard",156,101]
[66474,true,"virgin pulp","paper and board > non-corrugated fibreboard > virgin pulp",157,156]
[66475,true,"recovered pulp","paper and board > non-corrugated fibreboard > recovered pulp",158,156]
[66476,true,"corrugated fibreboard","paper and board > corrugated fibreboard",159,101]
[66477,true,"virgin pulp","paper and board > corrugated fibreboard > virgin pulp",160,159]
[66478,true,"recovered pulp","paper and board > corrugated fibreboard > recovered pulp",161,159]
[66479,true,"other paper (not elsewhere specified)","paper and board > other paper (not elsewhere specified)",162,101]
[66480,true,"virgin pulp","paper and board > other paper (not elsewhere specified) > virgin pulp",163,162]
[66481,true,"recovered pulp","paper and board > other paper (not elsewhere specified) > recovered pulp",164,162]
[66482,true,"other board (not elsewhere specified)","paper and board > other board (not elsewhere specified)",165,101]
[66483,true,"virgin pulp","paper and board > other board (not elsewhere specified) > virgin pulp",166,165]
[66484,true,"recovered pulp","paper and board > other board (not elsewhere specified) > recovered pulp",167,165]
[null,false,"plastic (and polymers)","",168]
[66485,true,"polyethylene, low density (ldpe)","plastic (and polymers) > polyethylene, low density (ldpe)",169,168]
[66486,true,"polyethylene, high density (hdpe)","plastic (and polymers) > polyethylene, high density (hdpe)",170,168]
[66487,true,"polypropylene (pp)","plastic (and polymers) > polypropylene (pp)",171,168]
[66488,true,"polyisobutylene","plastic (and polymers) > polyisobutylene",172,168]
[66489,true,"copolymers of ethylene-vinyl acetate","plastic (and polymers) > copolymers of ethylene-vinyl acetate",173,168]
[66490,true,"other copolymers of ethylene","plastic (and polymers) > other copolymers of ethylene",174,168]
[66491,true,"copolymers of propylene","plastic (and polymers) > copolymers of propylene",175,168]
[66492,true,"polymers and copolymers of olefins, not elsewhere specified","plastic (and polymers) > polymers and copolymers of olefins, not elsewhere specified",176,168]
[66493,true,"polyvinylchloride (pvc), hard","plastic (and polymers) > polyvinylchloride (pvc), hard",177,168]
[66494,true,"polyvinylchloride (pvc), soft","plastic (and polymers) > polyvinylchloride (pvc), soft",178,168]
[66495,true,"copolymers of vinyl chloride-vinyl acetate","plastic (and polymers) > copolymers of vinyl chloride-vinyl acetate",179,168]
[66496,true,"other copolymers of vinyl chloride","plastic (and polymers) > other copolymers of vinyl chloride",180,168]
[66497,true,"polymers and copolymers of vinylidene chloride","plastic (and polymers) > polymers and copolymers of vinylidene chloride",181,168]
[66498,true,"fluoropolymers","plastic (and polymers) > fluoropolymers",182,168]
[66499,true,"polymers and copolymers of halogenated olefins, not elsewhere specified","plastic (and polymers) > polymers and copolymers of halogenated olefins, not elsewhere specified",183,168]
[66500,true,"polystyrene, expansible (eps)","plastic (and polymers) > polystyrene, expansible (eps)",184,168]
[66501,true,"polystyrene","plastic (and polymers) > polystyrene",185,168]
[66502,true,"copolymers of styrene-acrylonitrile (san)","plastic (and polymers) > copolymers of styrene-acrylonitrile (san)",186,168]
[66503,true,"copolymers of acrylonitrile-butadiene-styrene (abs)","plastic (and polymers) > copolymers of acrylonitrile-butadiene-styrene (abs)",187,168]
[66504,true,"brominated polystyrene","plastic (and polymers) > brominated polystyrene",188,168]
[66505,true,"polymers and copolymers of styrene and its derivatives, not elsewhere specified","plastic (and polymers) > polymers and copolymers of styrene and its derivatives, not elsewhere specified",189,168]
[66506,true,"polyvinyl acetate (pva)","plastic (and polymers) > polyvinyl acetate (pva)",190,168]
[66507,true,"copolymers of vinyl acetate","plastic (and polymers) > copolymers of vinyl acetate",191,168]
[66508,true,"poly(vinyl alcohol)","plastic (and polymers) > poly(vinyl alcohol)",192,168]
[66509,true,"other polyvinyl esters and vinyl (co)polymers","plastic (and polymers) > other polyvinyl esters and vinyl (co)polymers",193,168]
[66510,true,"poly(methyl methacrylate) (pmma)","plastic (and polymers) > poly(methyl methacrylate) (pmma)",194,168]
[66511,true,"polyacrylamides, including copolymers","plastic (and polymers) > polyacrylamides, including copolymers",195,168]
[66512,true,"other acrylic polymers and copolymers, not elsewhere specified","plastic (and polymers) > other acrylic polymers and copolymers, not elsewhere specified",196,168]
[66513,true,"polyacetals, including copolymers","plastic (and polymers) > polyacetals, including copolymers",197,168]
[66514,true,"polyether alcohols, including copolymers","plastic (and polymers) > polyether alcohols, including copolymers",198,168]
[66515,true,"other polyethers, including copolymers","plastic (and polymers) > other polyethers, including copolymers",199,168]
[66516,true,"polycarbonates (pcs), including copolymers","plastic (and polymers) > polycarbonates (pcs), including copolymers",200,168]
[66517,true,"poly(ethylene terephthalate) (pet), including copolymers","plastic (and polymers) > poly(ethylene terephthalate) (pet), including copolymers",201,168]
[66518,true,"poly(lactic acid)","plastic (and polymers) > poly(lactic acid)",202,168]
[66519,true,"other polyesters, not elsewhere specified","plastic (and polymers) > other polyesters, not elsewhere specified",203,168]
[66520,true,"polyimides","plastic (and polymers) > polyimides",204,168]
[66521,true,"epoxide resins","plastic (and polymers) > epoxide resins",205,168]
[66522,true,"alkyd resins","plastic (and polymers) > alkyd resins",206,168]
[66523,true,"other polyallyl esters","plastic (and polymers) > other polyallyl esters",207,168]
[66524,true,"other polyesters","plastic (and polymers) > other polyesters",208,168]
[66525,true,"polyamides, including copolymers","plastic (and polymers) > polyamides, including copolymers",209,168]
[66526,true,"silicones (or polysiloxanes), including copolymers","plastic (and polymers) > silicones (or polysiloxanes), including copolymers",210,168]
[66527,true,"urea and thiourea resins","plastic (and polymers) > urea and thiourea resins",211,168]
[66528,true,"melamine resins","plastic (and polymers) > melamine resins",212,168]
[66529,true,"other amino-resins","plastic (and polymers) > other amino-resins",213,168]
[66530,true,"phenolic resins","plastic (and polymers) > phenolic resins",214,168]
[66531,true,"polyurethanes","plastic (and polymers) > polyurethanes",215,168]
[66532,true,"natural polymers, not elsewhere specified","plastic (and polymers) > natural polymers, not elsewhere specified",216,168]
[66533,true,"modified natural polymers, not elsewhere specified","plastic (and polymers) > modified natural polymers, not elsewhere specified",217,168]
[66534,true,"petroleum resins","plastic (and polymers) > petroleum resins",218,168]
[66535,true,"coumarone, indene or coumarone-indene resins","plastic (and polymers) > coumarone, indene or coumarone-indene resins",219,168]
[66536,true,"polyterpenes","plastic (and polymers) > polyterpenes",220,168]
[66537,true,"polysulphides and polysulphones","plastic (and polymers) > polysulphides and polysulphones",221,168]
[66538,true,"cellulose and its chemical derivatives (not elsewhere specified)","plastic (and polymers) > cellulose and its chemical derivatives (not elsewhere specified)",222,168]
[66539,true,"other non-halogenated (co)polymers","plastic (and polymers) > other non-halogenated (co)polymers",223,168]
[66540,true,"other halogenated (co)polymers","plastic (and polymers) > other halogenated (co)polymers",224,168]
[null,false,"rubber and elastomers","",225]
[66541,true,"natural rubber","rubber and elastomers > natural rubber",226,225]
[66542,true,"natural gums","rubber and elastomers > natural gums",227,225]
[66543,true,"styrene-butadiene rubber (sbr)","rubber and elastomers > styrene-butadiene rubber (sbr)",228,225]
[66544,true,"carboxylated styrene-butadiene rubber (xsbr)","rubber and elastomers > carboxylated styrene-butadiene rubber (xsbr)",229,225]
[66545,true,"butadiene rubber (br)","rubber and elastomers > butadiene rubber (br)",230,225]
[66546,true,"isobutene-isoprene (butyl) rubber (iir)","rubber and elastomers > isobutene-isoprene (butyl) rubber (iir)",231,225]
[66547,true,"halo-isobutene-isoprene rubber (ciir or biir)","rubber and elastomers > halo-isobutene-isoprene rubber (ciir or biir)",232,225]
[66548,true,"chloroprene (chlorobutadiene) rubber (cr)","rubber and elastomers > chloroprene (chlorobutadiene) rubber (cr)",233,225]
[66549,true,"acrylonitrile-butadiene rubber (nbr)","rubber and elastomers > acrylonitrile-butadiene rubber (nbr)",234,225]
[66550,true,"isoprene rubber (ir)","rubber and elastomers > isoprene rubber (ir)",235,225]
[66551,true,"ethylene propylene rubber (epr)","rubber and elastomers > ethylene propylene rubber (epr)",236,225]
[66552,true,"chlorosuphonated polyethylene rubber (csm)","rubber and elastomers > chlorosuphonated polyethylene rubber (csm)",237,225]
[66553,true,"fluoropolymer rubber","rubber and elastomers > fluoropolymer rubber",238,225]
[66554,true,"ethylene-propylene-non-conjugated diene rubber (epdm)","rubber and elastomers > ethylene-propylene-non-conjugated diene rubber (epdm)",239,225]
[66555,true,"silicone rubber","rubber and elastomers > silicone rubber",240,225]
[66556,true,"urethane rubber (pur)","rubber and elastomers > urethane rubber (pur)",241,225]
[66557,true,"other halogenated rubber","rubber and elastomers > other halogenated rubber",242,225]
[66558,true,"other rubber","rubber and elastomers > other rubber",243,225]
[66559,true,"hard rubber (e.g. ebonite)","rubber and elastomers > hard rubber (e.g. ebonite)",244,225]
[null,false,"stone, plaster, and cement","",245]
[66560,true,"stone (massive)","stone, plaster, and cement > stone (massive)",246,245]
[66561,true,"precious and semi-precious stone and pearls","stone, plaster, and cement > precious and semi-precious stone and pearls",247,245]
[66562,true,"plaster","stone, plaster, and cement > plaster",248,245]
[66563,true,"gypsum","stone, plaster, and cement > gypsum",249,245]
[66564,true,"cement","stone, plaster, and cement > cement",250,245]
[66565,true,"concrete","stone, plaster, and cement > concrete",251,245]
[66566,true,"expanded minerals","stone, plaster, and cement > expanded minerals",252,245]
[66567,true,"artificial stone","stone, plaster, and cement > artificial stone",253,245]
[66568,true,"mica","stone, plaster, and cement > mica",254,245]
[66569,true,"mineral agglomerates, grains, and particles","stone, plaster, and cement > mineral agglomerates, grains, and particles",255,245]
[66570,true,"stone or rock-wool","stone, plaster, and cement > stone or rock-wool",256,245]
[66571,true,"slag-wool","stone, plaster, and cement > slag-wool",257,245]
[66572,true,"other mineral wools","stone, plaster, and cement > other mineral wools",258,245]
[66573,true,"carbon fibres","stone, plaster, and cement > carbon fibres",259,245]
[66574,true,"other minerals","stone, plaster, and cement > other minerals",260,245]
[null,false,"textile fibre and other fibres","",261]
[66575,true,"natural fibre of animal origin","textile fibre and other fibres > natural fibre of animal origin",262,261]
[66576,true,"natural fibre of vegetable origin","textile fibre and other fibres > natural fibre of vegetable origin",263,261]
[66577,true,"acetate (cellulose acetate fibre)","textile fibre and other fibres > acetate (cellulose acetate fibre)",264,261]
[66578,true,"alginate","textile fibre and other fibres > alginate",265,261]
[66579,true,"cupro (regenerated cellulose fibre)","textile fibre and other fibres > cupro (regenerated cellulose fibre)",266,261]
[66580,true,"modal (regenerated cellulose fibre)","textile fibre and other fibres > modal (regenerated cellulose fibre)",267,261]
[66581,true,"protein (fibre obtained from)","textile fibre and other fibres > protein (fibre obtained from)",268,261]
[66582,true,"triacetate (cellulose acetate fibre)","textile fibre and other fibres > triacetate (cellulose acetate fibre)",269,261]
[66583,true,"viscose (regenerated cellulose fibre)","textile fibre and other fibres > viscose (regenerated cellulose fibre)",270,261]
[66584,true,"acrylic","textile fibre and other fibres > acrylic",271,261]
[66585,true,"chlorofibre","textile fibre and other fibres > chlorofibre",272,261]
[66586,true,"fluorofibre","textile fibre and other fibres > fluorofibre",273,261]
[66587,true,"modacrylic","textile fibre and other fibres > modacrylic",274,261]
[66588,true,"polyamide or nylon","textile fibre and other fibres > polyamide or nylon",275,261]
[66589,true,"aramid","textile fibre and other fibres > aramid",276,261]
[66590,true,"polyimide","textile fibre and other fibres > polyimide",277,261]
[66591,true,"lyocell (regenerated cellulose fibre)","textile fibre and other fibres > lyocell (regenerated cellulose fibre)",278,261]
[66592,true,"polylactide","textile fibre and other fibres > polylactide",279,261]
[66593,true,"polyester","textile fibre and other fibres > polyester",280,261]
[66594,true,"polyethylene","textile fibre and other fibres > polyethylene",281,261]
[66595,true,"polypropylene","textile fibre and other fibres > polypropylene",282,261]
[66596,true,"polycarbamide","textile fibre and other fibres > polycarbamide",283,261]
[66597,true,"polyurethane","textile fibre and other fibres > polyurethane",284,261]
[66598,true,"vinylal","textile fibre and other fibres > vinylal",285,261]
[66599,true,"trivinyl","textile fibre and other fibres > trivinyl",286,261]
[66600,true,"elastodiene","textile fibre and other fibres > elastodiene",287,261]
[66601,true,"elastane","textile fibre and other fibres > elastane",288,261]
[66602,true,"glass fibre (textile fibre)","textile fibre and other fibres > glass fibre (textile fibre)",289,261]
[66603,true,"elastomultiester","textile fibre and other fibres > elastomultiester",290,261]
[66604,true,"elastolefin","textile fibre and other fibres > elastolefin",291,261]
[66605,true,"melamine","textile fibre and other fibres > melamine",292,261]
[66606,true,"fibres obtained from miscellaneous or new materials not listed above (textile fibre), e.g. metal (metallic, metallised), paper","textile fibre and other fibres > fibres obtained from miscellaneous or new materials not listed above (textile fibre), e.g. metal (metallic, metallised), paper",293,261]
[66607,true,"polypropylene/polyamide bicomponent","textile fibre and other fibres > polypropylene/polyamide bicomponent",294,261]
[66608,true,"other synthetic fibres","textile fibre and other fibres > other synthetic fibres",295,261]
[null,false,"wood and cork","",296]
[66609,true,"wood (massive)","wood and cork > wood (massive)",297,296]
[66610,true,"wood wool","wood and cork > wood wool",298,296]
[66611,true,"wood fluor, sawdust","wood and cork > wood fluor, sawdust",299,296]
[66612,true,"chipwood","wood and cork > chipwood",300,296]
[66613,true,"wood fibres","wood and cork > wood fibres",301,296]
[66614,true,"forest residues","wood and cork > forest residues",302,296]
[66615,true,"cork","wood and cork > cork",303,296]
[66616,true,"straw","wood and cork > straw",304,296]
[66617,true,"esparto","wood and cork > esparto",305,296]
[66618,true,"other plaiting materials","wood and cork > other plaiting materials",306,296]
[66619,true,"cane","wood and cork > cane",307,296]
[66620,true,"other materials of vegetal origin, not specified elsewhere","wood and cork > other materials of vegetal origin, not specified elsewhere",308,296]
[1342,true,"other:","",309]

{"sheet":"Material Category","index":17,"n_rows":310,"n_cols":9,"rows_kept":310,"cut":false,"hidden":false,"merged":[]}
["Identifier","SelectableFlag","PhraseText","AdditionalPhraseText","PhraseIndex","ParentPhrase",null,"Identity","MATCAT"]
["4800",false,"ceramic","",1,"",null,"Authority","ECHA"]
["66323",true,"clays / silicate ceramic","ceramic > clays / silicate ceramic",2,1,null,"Revision","3.0"]
["66324",true,"clays","ceramic > clays / silicate ceramic > clays",3,2,null,"Date","2023-07-14"]
["66325",true,"earthenware","ceramic > clays / silicate ceramic > earthenware",4,2,null,"Phrase Group","PG6-60753 v3.0"]
["66326",true,"porcelain or china","ceramic > clays / silicate ceramic > porcelain or china",5,2,null,"Source","https://echa.europa.edu/scip-format"]
["66327",true,"stoneware","ceramic > clays / silicate ceramic > stoneware",6,2]
["66328",true,"other","ceramic > clays / silicate ceramic > other",7,2]
["66329",true,"oxide ceramic","ceramic > oxide ceramic",8,1]
["66330",true,"aluminium oxide ceramic","ceramic > oxide ceramic > aluminium oxide ceramic",9,8]
["66331",true,"aluminium titanate (ati) ceramic","ceramic > oxide ceramic > aluminium titanate (ati) ceramic",10,8]
["66332",true,"beryllium oxide ceramic","ceramic > oxide ceramic > beryllium oxide ceramic",11,8]
["66333",true,"ferroelectric perovskites based ceramic","ceramic > oxide ceramic > ferroelectric perovskites based ceramic",12,8]
["66334",true,"lead zirconium titanate (pzt) ceramic","ceramic > oxide ceramic > lead zirconium titanate (pzt) ceramic",13,8]
["66335",true,"magnesium oxide ceramic","ceramic > oxide ceramic > magnesium oxide ceramic",14,8]
["66336",true,"magnesium titanate ceramic","ceramic > oxide ceramic > magnesium titanate ceramic",15,8]
["66337",true,"titanium dioxide ceramic","ceramic > oxide ceramic > titanium dioxide ceramic",16,8]
["66338",true,"zirconium oxide ceramic","ceramic > oxide ceramic > zirconium oxide ceramic",17,8]
["66339",true,"other","ceramic > oxide ceramic > other",18,8]
["66340",true,"non-oxide ceramic","ceramic > non-oxide ceramic",19,1]
["66341",true,"aluminium nitride ceramic","ceramic > non-oxide ceramic > aluminium nitride ceramic",20,19]
["66342",true,"boron carbide ceramic","ceramic > non-oxide ceramic > boron carbide ceramic",21,19]
["66343",true,"boron nitride ceramic","ceramic > non-oxide ceramic > boron nitride ceramic",22,19]
["66344",true,"silicon aluminium oxynitride (sialon)","ceramic > non-oxide ceramic > silicon aluminium oxynitride (sialon)",23,19]
["66345",true,"silicon carbide ceramic","ceramic > non-oxide ceramic > silicon carbide ceramic",24,19]
["66346",true,"silicon nitride ceramic","ceramic > non-oxide ceramic > silicon nitride ceramic",25,19]
["66347",true,"titanium nitride ceramic","ceramic > non-oxide ceramic > titanium nitride ceramic",26,19]
["66348",true,"other","ceramic > non-oxide ceramic > other",27,19]
["66349",true,"frit","ceramic > frit",28,1]
["66350",true,"refractory","ceramic > refractory",29,1]
["4804",false,"glass","",30,""]
["66351",true,"soda-lime glass","glass > soda-lime glass",31,30]
["66352",true,"lead crystal and crystal glass","glass > lead crystal and crystal glass",32,30]
["66353",true,"category no. 1 (annex i to directive 69/493/eec)","glass > lead crystal and crystal glass > category no. 1 (annex i to directive 69/493/eec)",33,32]
["66354",true,"category no. 2 (annex i to directive 69/493/eec)","glass > lead crystal and crystal glass > category no. 2 (annex i to directive 69/493/eec)",34,32]
["66355",true,"category no. 3 (annex i to directive 69/493/eec)","glass > lead crystal and crystal glass > category no. 3 (annex i to directive 69/493/eec)",35,32]
["66356",true,"category no. 4 (annex i to directive 69/493/eec)","glass > lead crystal and crystal glass > category no. 4 (annex i to directive 69/493/eec)",36,32]
["66357",true,"borosilicate glass","glass > borosilicate glass",37,30]
["66358",true,"fused quartz and fused silica glass","glass > fused quartz and fused silica glass",38,30]
["66359",true,"optical glass","glass > optical glass",39,30]
["66360",true,"sintered glass","glass > sintered glass",40,30]
["66361",true,"glass ceramic","glass > glass ceramic",41,30]
["66362",true,"other special glass","glass > other special glass",42,30]
["116543",false,"leather and raw hides","",43,""]
["66363",true,"leather","leather and raw hides > leather",44,43]
["66364",true,"chamois leather","leather and raw hides > chamois leather",45,43]
["66365",true,"raw hides and skins","leather and raw hides > raw hides and skins",46,43]
["66366",true,"furskins","leather and raw hides > furskins",47,43]
["66367",true,"feathers","leather and raw hides > feathers",48,43]
["66368",true,"other material of animal origin, not specified elsewhere","leather and raw hides > other material of animal origin, not specified elsewhere",49,43]
["4812",false,"metal","",50,""]
["66369",true,"iron (and alloys of, except steel)","metal > iron (and alloys of, except steel)",51,50]
["66370",true,"iron, not alloyed","metal > iron (and alloys of, except steel) > iron, not alloyed",52,51]
["66371",true,"ferro-alloy containing copper, except steel","metal > iron (and alloys of, except steel) > ferro-alloy containing copper, except steel",53,51]
["66372",true,"ferro-alloy containing tin, except steel","metal > iron (and alloys of, except steel) > ferro-alloy containing tin, except steel",54,51]
["66373",true,"other ferro-alloy, except steel","metal > iron (and alloys of, except steel) > other ferro-alloy, except steel",55,51]
["66374",true,"steel","metal > steel",56,50]
["66375",true,"carbon steel (non-alloy steel)","metal > steel > carbon steel (non-alloy steel)",57,56]
["66376",true,"stainless steel","metal > steel > stainless steel",58,56]
["66377",true,"alloy steel (except stainless steel)","metal > steel > alloy steel (except stainless steel)",59,56]
["66378",true,"containing copper","metal > steel > containing copper",60,56]
["66379",true,"containing tin","metal > steel > containing tin",61,56]
["66380",true,"aluminium (and alloys of)","metal > aluminium (and alloys of)",62,50]
["66381",true,"aluminium, not alloyed","metal > aluminium (and alloys of) > aluminium, not alloyed",63,62]
["66382",true,"aluminium alloy containing lithium","metal > aluminium (and alloys of) > aluminium alloy containing lithium",64,62]
["66383",true,"other aluminium alloy","metal > aluminium (and alloys of) > other aluminium alloy",65,62]
["66384",true,"antimony (and alloys of)","metal > antimony (and alloys of)",66,50]
["66385",true,"bismuth (and alloys of)","metal > bismuth (and alloys of)",67,50]
["66386",true,"brass","metal > brass",68,50]
["66387",true,"containing bismuth","metal > brass > containing bismuth",69,68]
["66388",true,"bronze","metal > bronze",70,50]
["66389",true,"containing bismuth","metal > bronze > containing bismuth",71,70]
["66390",true,"cadmium (and alloys of)","metal > cadmium (and alloys of)",72,50]
["66391",true,"cobalt (and alloys of)","metal > cobalt (and alloys of)",73,50]
["66392",true,"copper (and alloys of, except bronze and brass)","metal > copper (and alloys of, except bronze and brass)",74,50]
["66393",true,"copper, not alloyed","metal > copper (and alloys of, except bronze and brass) > copper, not alloyed",75,74]
["66394",true,"copper-alloy containing bismuth, except bronze and brass","metal > copper (and alloys of, except bronze and brass) > copper-alloy containing bismuth, except bronze and brass",76,74]
["66395",true,"other copper-alloy, except bronze and brass","metal > copper (and alloys of, except bronze and brass) > other copper-alloy, except bronze and brass",77,74]
["66396",true,"lead (and alloys of)","metal > lead (and alloys of)",78,50]
["66397",true,"lead, not alloyed","metal > lead (and alloys of) > lead, not alloyed",79,78]
["66398",true,"lead alloy","metal > lead (and alloys of) > lead alloy",80,78]
["66399",true,"magnesium (and alloys of)","metal > magnesium (and alloys of)",81,50]
["66400",true,"manganese (and alloys of)","metal > manganese (and alloys of)",82,50]
["66401",true,"molybdenum (and alloys of)","metal > molybdenum (and alloys of)",83,50]
["66402",true,"nickel (and alloys of)","metal > nickel (and alloys of)",84,50]
["66403",true,"nickel, not alloyed","metal > nickel (and alloys of) > nickel, not alloyed",85,84]
["66404",true,"nickel alloy","metal > nickel (and alloys of) > nickel alloy",86,84]
["66405",true,"tantalum (and alloys of)","metal > tantalum (and alloys of)",87,50]
["66406",true,"tin (and alloys of), except bronze","metal > tin (and alloys of), except bronze",88,50]
["66407",true,"tin, not alloyed","metal > tin (and alloys of), except bronze > tin, not alloyed",89,88]
["66408",true,"tin alloy, except bronze","metal > tin (and alloys of), except bronze > tin alloy, except bronze",90,88]
["66409",true,"titanium (and alloys of)","metal > titanium (and alloys of)",91,50]
["66410",true,"tungsten (and alloys of)","metal > tungsten (and alloys of)",92,50]
["66411",true,"zinc (and alloys of, except brass)","metal > zinc (and alloys of, except brass)",93,50]
["66412",true,"zinc, not alloyed","metal > zinc (and alloys of, except brass) > zinc, not alloyed",94,93]
["66413",true,"zinc alloy, except brass","metal > zinc (and alloys of, except brass) > zinc alloy, except brass",95,93]
["66414",true,"zirconium (and alloys of)","metal > zirconium (and alloys of)",96,50]
["66415",true,"other non-ferrous metal (and alloys of)","metal > other non-ferrous metal (and alloys of)",97,50]
["66416",true,"rare-earth (and alloys of)","metal > other non-ferrous metal (and alloys of) > rare-earth (and alloys of)",98,97]
["66417",true,"precious-metal (and alloys of)","metal > other non-ferrous metal (and alloys of) > precious-metal (and alloys of)",99,97]
["66418",true,"other","metal > other non-ferrous metal (and alloys of) > other",100,97]
["116545",false,"paper and board","",101,""]
["66419",true,"printing and writing paper","paper and board > printing and writing paper",102,101]
["66420",true,"virgin pulp","paper and board > printing and writing paper > virgin pulp",103,102]
["66421",true,"recovered pulp","paper and board > printing and writing paper > recovered pulp",104,102]
["66422",true,"newsprint paper","paper and board > newsprint paper",105,101]
["66423",true,"virgin pulp","paper and board > newsprint paper  > virgin pulp",106,105]
["66424",true,"recovered pulp","paper and board > newsprint paper  > recovered pulp",107,105]
["66425",true,"supercalendered (sc) paper","paper and board > supercalendered (sc) paper",108,101]
["66426",true,"virgin pulp","paper and board > supercalendered (sc) paper > virgin pulp",109,108]
["66427",true,"recovered pulp","paper and board > supercalendered (sc) paper > recovered pulp",110,108]
["66428",true,"ultra-light weight paper","paper and board > ultra-light weight paper",111,101]
["66429",true,"virgin pulp","paper and board > ultra-light weight paper > virgin pulp",112,111]
["66430",true,"recovered pulp","paper and board > ultra-light weight paper > recovered pulp",113,111]
["66431",true,"light weight paper","paper and board > light weight paper",114,101]
["66432",true,"virgin pulp","paper and board > light weight paper > virgin pulp",115,114]
["66433",true,"recovered pulp","paper and board > light weight paper > recovered pulp",116,114]
["66434",true,"medium weight paper","paper and board > medium weight paper",117,101]
["66435",true,"virgin pulp","paper and board > medium weight paper > virgin pulp",118,117]
["66436",true,"recovered pulp","paper and board > medium weight paper > recovered pulp",119,117]
["66437",true,"high weight paper","paper and board > high weight paper",120,101]
["66438",true,"virgin pulp","paper and board > high weight paper > virgin pulp",121,120]
["66439",true,"recovered pulp","paper and board > high weight paper > recovered pulp",122,120]
["66440",true,"wood-free","paper and board > wood-free",123,101]
["66441",true,"virgin pulp","paper and board > wood-free > virgin pulp",124,123]
["66442",true,"recovered pulp","paper and board > wood-free > recovered pulp",125,123]
["66443",true,"kraft paper and kraft wrapping","paper and board > kraft paper and kraft wrapping",126,101]
["66444",true,"virgin pulp","paper and board > kraft paper and kraft wrapping > virgin pulp",127,126]
["66445",true,"recovered pulp","paper and board > kraft paper and kraft wrapping > recovered pulp",128,126]
["66446",true,"tissue paper","paper and board > tissue paper",129,101]
["66447",true,"virgin pulp","paper and board > tissue paper > virgin pulp",130,129]
["66448",true,"recovered pulp","paper and board > tissue paper > recovered pulp",131,129]
["66449",true,"tracing paper","paper and board > tracing paper",132,101]
["66450",true,"virgin pulp","paper and board > tracing paper > virgin pulp",133,132]
["66451",true,"recovered pulp","paper and board > tracing paper > recovered pulp",134,132]
["66452",true,"carbonless paper","paper and board > carbonless paper",135,101]
["66453",true,"virgin pulp","paper and board > carbonless paper > virgin pulp",136,135]
["66454",true,"recovered pulp","paper and board > carbonless paper > recovered pulp",137,135]
["66455",true,"carbon paper","paper and board > carbon paper",138,101]
["66456",true,"virgin pulp","paper and board > carbon paper > virgin pulp",139,138]
["66457",true,"recovered pulp","paper and board > carbon paper > recovered pulp",140,138]
["66458",true,"glassine/greaseproof paper","paper and board > glassine/greaseproof paper",141,101]
["66459",true,"virgin pulp","paper and board > glassine/greaseproof paper > virgin pulp",142,141]
["66460",true,"recovered pulp","paper and board > glassine/greaseproof paper > recovered pulp",143,141]
["66461",true,"fine paper","paper and board > fine paper",144,101]
["66462",true,"virgin pulp","paper and board > fine paper  > virgin pulp",145,144]
["66463",true,"recovered pulp","paper and board > fine paper  > recovered pulp",146,144]
["66464",true,"filter paper","paper and board > filter paper",147,101]
["66465",true,"virgin pulp","paper and board > filter paper > virgin pulp",148,147]
["66466",true,"recovered pulp","paper and board > filter paper > recovered pulp",149,147]
["66467",true,"thermal paper","paper and board > thermal paper",150,101]
["66468",true,"virgin pulp","paper and board > thermal paper > virgin pulp",151,150]
["66469",true,"recovered pulp","paper and board > thermal paper > recovered pulp",152,150]
["66470",true,"other speciality paper","paper and board > other speciality paper",153,101]
["66471",true,"virgin pulp","paper and board > other speciality paper > virgin pulp",154,153]
["66472",true,"recovered pulp","paper and board > other speciality paper > recovered pulp",155,153]
["66473",true,"non-corrugated fibreboard","paper and board > non-corrugated fibreboard",156,101]
["66474",true,"virgin pulp","paper and board > non-corrugated fibreboard > virgin pulp",157,156]
["66475",true,"recovered pulp","paper and board > non-corrugated fibreboard > recovered pulp",158,156]
["66476",true,"corrugated fibreboard","paper and board > corrugated fibreboard",159,101]
["66477",true,"virgin pulp","paper and board > corrugated fibreboard > virgin pulp",160,159]
["66478",true,"recovered pulp","paper and board > corrugated fibreboard > recovered pulp",161,159]
["66479",true,"other paper (not elsewhere specified)","paper and board > other paper (not elsewhere specified)",162,101]
["66480",true,"virgin pulp","paper and board > other paper (not elsewhere specified) > virgin pulp",163,162]
["66481",true,"recovered pulp","paper and board > other paper (not elsewhere specified) > recovered pulp",164,162]
["66482",true,"other board (not elsewhere specified)","paper and board > other board (not elsewhere specified)",165,101]
["66483",true,"virgin pulp","paper and board > other board (not elsewhere specified) > virgin pulp",166,165]
["66484",true,"recovered pulp","paper and board > other board (not elsewhere specified) > recovered pulp",167,165]
["116546",false,"plastic (and polymers)","",168,""]
["66485",true,"polyethylene, low density (ldpe)","plastic (and polymers) > polyethylene, low density (ldpe)",169,168]
["66486",true,"polyethylene, high density (hdpe)","plastic (and polymers) > polyethylene, high density (hdpe)",170,168]
["66487",true,"polypropylene (pp)","plastic (and polymers) > polypropylene (pp)",171,168]
["66488",true,"polyisobutylene","plastic (and polymers) > polyisobutylene",172,168]
["66489",true,"copolymers of ethylene-vinyl acetate","plastic (and polymers) > copolymers of ethylene-vinyl acetate",173,168]
["66490",true,"other copolymers of ethylene","plastic (and polymers) > other copolymers of ethylene",174,168]
["66491",true,"copolymers of propylene","plastic (and polymers) > copolymers of propylene",175,168]
["66492",true,"polymers and copolymers of olefins, not elsewhere specified","plastic (and polymers) > polymers and copolymers of olefins, not elsewhere specified",176,168]
["66493",true,"polyvinylchloride (pvc), hard","plastic (and polymers) > polyvinylchloride (pvc), hard",177,168]
["66494",true,"polyvinylchloride (pvc), soft","plastic (and polymers) > polyvinylchloride (pvc), soft",178,168]
["66495",true,"copolymers of vinyl chloride-vinyl acetate","plastic (and polymers) > copolymers of vinyl chloride-vinyl acetate",179,168]
["66496",true,"other copolymers of vinyl chloride","plastic (and polymers) > other copolymers of vinyl chloride",180,168]
["66497",true,"polymers and copolymers of vinylidene chloride","plastic (and polymers) > polymers and copolymers of vinylidene chloride",181,168]
["66498",true,"fluoropolymers","plastic (and polymers) > fluoropolymers",182,168]
["66499",true,"polymers and copolymers of halogenated olefins, not elsewhere specified","plastic (and polymers) > polymers and copolymers of halogenated olefins, not elsewhere specified",183,168]
["66500",true,"polystyrene, expansible (eps)","plastic (and polymers) > polystyrene, expansible (eps)",184,168]
["66501",true,"polystyrene","plastic (and polymers) > polystyrene",185,168]
["66502",true,"copolymers of styrene-acrylonitrile (san)","plastic (and polymers) > copolymers of styrene-acrylonitrile (san)",186,168]
["66503",true,"copolymers of acrylonitrile-butadiene-styrene (abs)","plastic (and polymers) > copolymers of acrylonitrile-butadiene-styrene (abs)",187,168]
["66504",true,"brominated polystyrene","plastic (and polymers) > brominated polystyrene",188,168]
["66505",true,"polymers and copolymers of styrene and its derivatives, not elsewhere specified","plastic (and polymers) > polymers and copolymers of styrene and its derivatives, not elsewhere specified",189,168]
["66506",true,"polyvinyl acetate (pva)","plastic (and polymers) > polyvinyl acetate (pva)",190,168]
["66507",true,"copolymers of vinyl acetate","plastic (and polymers) > copolymers of vinyl acetate",191,168]
["66508",true,"poly(vinyl alcohol)","plastic (and polymers) > poly(vinyl alcohol)",192,168]
["66509",true,"other polyvinyl esters and vinyl (co)polymers","plastic (and polymers) > other polyvinyl esters and vinyl (co)polymers",193,168]
["66510",true,"poly(methyl methacrylate) (pmma)","plastic (and polymers) > poly(methyl methacrylate) (pmma)",194,168]
["66511",true,"polyacrylamides, including copolymers","plastic (and polymers) > polyacrylamides, including copolymers",195,168]
["66512",true,"other acrylic polymers and copolymers, not elsewhere specified","plastic (and polymers) > other acrylic polymers and copolymers, not elsewhere specified",196,168]
["66513",true,"polyacetals, including copolymers","plastic (and polymers) > polyacetals, including copolymers",197,168]
["66514",true,"polyether alcohols, including copolymers","plastic (and polymers) > polyether alcohols, including copolymers",198,168]
["66515",true,"other polyethers, including copolymers","plastic (and polymers) > other polyethers, including copolymers",199,168]
["66516",true,"polycarbonates (pcs), including copolymers","plastic (and polymers) > polycarbonates (pcs), including copolymers",200,168]
["66517",true,"poly(ethylene terephthalate) (pet), including copolymers","plastic (and polymers) > poly(ethylene terephthalate) (pet), including copolymers",201,168]
["66518",true,"poly(lactic acid)","plastic (and polymers) > poly(lactic acid)",202,168]
["66519",true,"other polyesters, not elsewhere specified","plastic (and polymers) > other polyesters, not elsewhere specified",203,168]
["66520",true,"polyimides","plastic (and polymers) > polyimides",204,168]
["66521",true,"epoxide resins","plastic (and polymers) > epoxide resins",205,168]
["66522",true,"alkyd resins","plastic (and polymers) > alkyd resins",206,168]
["66523",true,"other polyallyl esters","plastic (and polymers) > other polyallyl esters",207,168]
["66524",true,"other polyesters","plastic (and polymers) > other polyesters",208,168]
["66525",true,"polyamides, including copolymers","plastic (and polymers) > polyamides, including copolymers",209,168]
["66526",true,"silicones (or polysiloxanes), including copolymers","plastic (and polymers) > silicones (or polysiloxanes), including copolymers",210,168]
["66527",true,"urea and thiourea resins","plastic (and polymers) > urea and thiourea resins",211,168]
["66528",true,"melamine resins","plastic (and polymers) > melamine resins",212,168]
["66529",true,"other amino-resins","plastic (and polymers) > other amino-resins",213,168]
["66530",true,"phenolic resins","plastic (and polymers) > phenolic resins",214,168]
["66531",true,"polyurethanes","plastic (and polymers) > polyurethanes",215,168]
["66532",true,"natural polymers, not elsewhere specified","plastic (and polymers) > natural polymers, not elsewhere specified",216,168]
["66533",true,"modified natural polymers, not elsewhere specified","plastic (and polymers) > modified natural polymers, not elsewhere specified",217,168]
["66534",true,"petroleum resins","plastic (and polymers) > petroleum resins",218,168]
["66535",true,"coumarone, indene or coumarone-indene resins","plastic (and polymers) > coumarone, indene or coumarone-indene resins",219,168]
["66536",true,"polyterpenes","plastic (and polymers) > polyterpenes",220,168]
["66537",true,"polysulphides and polysulphones","plastic (and polymers) > polysulphides and polysulphones",221,168]
["66538",true,"cellulose and its chemical derivatives (not elsewhere specified)","plastic (and polymers) > cellulose and its chemical derivatives (not elsewhere specified)",222,168]
["66539",true,"other non-halogenated (co)polymers","plastic (and polymers) > other non-halogenated (co)polymers",223,168]
["66540",true,"other halogenated (co)polymers","plastic (and polymers) > other halogenated (co)polymers",224,168]
["116547",false,"rubber and elastomers","",225,""]
["66541",true,"natural rubber","rubber and elastomers > natural rubber",226,225]
["66542",true,"natural gums","rubber and elastomers > natural gums",227,225]
["66543",true,"styrene-butadiene rubber (sbr)","rubber and elastomers > styrene-butadiene rubber (sbr)",228,225]
["66544",true,"carboxylated styrene-butadiene rubber (xsbr)","rubber and elastomers > carboxylated styrene-butadiene rubber (xsbr)",229,225]
["66545",true,"butadiene rubber (br)","rubber and elastomers > butadiene rubber (br)",230,225]
["66546",true,"isobutene-isoprene (butyl) rubber (iir)","rubber and elastomers > isobutene-isoprene (butyl) rubber (iir)",231,225]
["66547",true,"halo-isobutene-isoprene rubber (ciir or biir)","rubber and elastomers > halo-isobutene-isoprene rubber (ciir or biir)",232,225]
["66548",true,"chloroprene (chlorobutadiene) rubber (cr)","rubber and elastomers > chloroprene (chlorobutadiene) rubber (cr)",233,225]
["66549",true,"acrylonitrile-butadiene rubber (nbr)","rubber and elastomers > acrylonitrile-butadiene rubber (nbr)",234,225]
["66550",true,"isoprene rubber (ir)","rubber and elastomers > isoprene rubber (ir)",235,225]
["66551",true,"ethylene propylene rubber (epr)","rubber and elastomers > ethylene propylene rubber (epr)",236,225]
["66552",true,"chlorosuphonated polyethylene rubber (csm)","rubber and elastomers > chlorosuphonated polyethylene rubber (csm)",237,225]
["66553",true,"fluoropolymer rubber","rubber and elastomers > fluoropolymer rubber",238,225]
["66554",true,"ethylene-propylene-non-conjugated diene rubber (epdm)","rubber and elastomers > ethylene-propylene-non-conjugated diene rubber (epdm)",239,225]
["66555",true,"silicone rubber","rubber and elastomers > silicone rubber",240,225]
["66556",true,"urethane rubber (pur)","rubber and elastomers > urethane rubber (pur)",241,225]
["66557",true,"other halogenated rubber","rubber and elastomers > other halogenated rubber",242,225]
["66558",true,"other rubber","rubber and elastomers > other rubber",243,225]
["66559",true,"hard rubber (e.g. ebonite)","rubber and elastomers > hard rubber (e.g. ebonite)",244,225]
["116548",false,"stone, plaster, and cement","",245,""]
["66560",true,"stone (massive)","stone, plaster, and cement > stone (massive)",246,245]
["66561",true,"precious and semi-precious stone and pearls","stone, plaster, and cement > precious and semi-precious stone and pearls",247,245]
["66562",true,"plaster","stone, plaster, and cement > plaster",248,245]
["66563",true,"gypsum","stone, plaster, and cement > gypsum",249,245]
["66564",true,"cement","stone, plaster, and cement > cement",250,245]
["66565",true,"concrete","stone, plaster, and cement > concrete",251,245]
["66566",true,"expanded minerals","stone, plaster, and cement > expanded minerals",252,245]
["66567",true,"artificial stone","stone, plaster, and cement > artificial stone",253,245]
["66568",true,"mica","stone, plaster, and cement > mica",254,245]
["66569",true,"mineral agglomerates, grains, and particles","stone, plaster, and cement > mineral agglomerates, grains, and particles",255,245]
["66570",true,"stone or rock-wool","stone, plaster, and cement > stone or rock-wool",256,245]
["66571",true,"slag-wool","stone, plaster, and cement > slag-wool",257,245]
["66572",true,"other mineral wools","stone, plaster, and cement > other mineral wools",258,245]
["66573",true,"carbon fibres","stone, plaster, and cement > carbon fibres",259,245]
["66574",true,"other minerals","stone, plaster, and cement > other minerals",260,245]
["116549",false,"textile fibre and other fibres","",261,""]
["66575",true,"natural fibre of animal origin","textile fibre and other fibres > natural fibre of animal origin",262,261]
["66576",true,"natural fibre of vegetable origin","textile fibre and other fibres > natural fibre of vegetable origin",263,261]
["66577",true,"acetate (cellulose acetate fibre)","textile fibre and other fibres > acetate (cellulose acetate fibre)",264,261]
["66578",true,"alginate","textile fibre and other fibres > alginate",265,261]
["66579",true,"cupro (regenerated cellulose fibre)","textile fibre and other fibres > cupro (regenerated cellulose fibre)",266,261]
["66580",true,"modal (regenerated cellulose fibre)","textile fibre and other fibres > modal (regenerated cellulose fibre)",267,261]
["66581",true,"protein (fibre obtained from)","textile fibre and other fibres > protein (fibre obtained from)",268,261]
["66582",true,"triacetate (cellulose acetate fibre)","textile fibre and other fibres > triacetate (cellulose acetate fibre)",269,261]
["66583",true,"viscose (regenerated cellulose fibre)","textile fibre and other fibres > viscose (regenerated cellulose fibre)",270,261]
["66584",true,"acrylic","textile fibre and other fibres > acrylic",271,261]
["66585",true,"chlorofibre","textile fibre and other fibres > chlorofibre",272,261]
["66586",true,"fluorofibre","textile fibre and other fibres > fluorofibre",273,261]
["66587",true,"modacrylic","textile fibre and other fibres > modacrylic",274,261]
["66588",true,"polyamide or nylon","textile fibre and other fibres > polyamide or nylon",275,261]
["66589",true,"aramid","textile fibre and other fibres > aramid",276,261]
["66590",true,"polyimide","textile fibre and other fibres > polyimide",277,261]
["66591",true,"lyocell (regenerated cellulose fibre)","textile fibre and other fibres > lyocell (regenerated cellulose fibre)",278,261]
["66592",true,"polylactide","textile fibre and other fibres > polylactide",279,261]
["66593",true,"polyester","textile fibre and other fibres > polyester",280,261]
["66594",true,"polyethylene","textile fibre and other fibres > polyethylene",281,261]
["66595",true,"polypropylene","textile fibre and other fibres > polypropylene",282,261]
["66596",true,"polycarbamide","textile fibre and other fibres > polycarbamide",283,261]
["66597",true,"polyurethane","textile fibre and other fibres > polyurethane",284,261]
["66598",true,"vinylal","textile fibre and other fibres > vinylal",285,261]
["66599",true,"trivinyl","textile fibre and other fibres > trivinyl",286,261]
["66600",true,"elastodiene","textile fibre and other fibres > elastodiene",287,261]
["66601",true,"elastane","textile fibre and other fibres > elastane",288,261]
["66602",true,"glass fibre (textile fibre)","textile fibre and other fibres > glass fibre (textile fibre)",289,261]
["66603",true,"elastomultiester","textile fibre and other fibres > elastomultiester",290,261]
["66604",true,"elastolefin","textile fibre and other fibres > elastolefin",291,261]
["66605",true,"melamine","textile fibre and other fibres > melamine",292,261]
["66606",true,"fibres obtained from miscellaneous or new materials not listed above (textile fibre), e.g. metal (metallic, metallised), paper","textile fibre and other fibres > fibres obtained from miscellaneous or new materials not listed above (textile fibre), e.g. metal (metallic, metallised), paper",293,261]
["66607",true,"polypropylene/polyamide bicomponent","textile fibre and other fibres > polypropylene/polyamide bicomponent",294,261]
["66608",true,"other synthetic fibres","textile fibre and other fibres > other synthetic fibres",295,261]
["116550",false,"wood and cork","",296,""]
["66609",true,"wood (massive)","wood and cork > wood (massive)",297,296]
["66610",true,"wood wool","wood and cork > wood wool",298,296]
["66611",true,"wood fluor, sawdust","wood and cork > wood fluor, sawdust",299,296]
["66612",true,"chipwood","wood and cork > chipwood",300,296]
["66613",true,"wood fibres","wood and cork > wood fibres",301,296]
["66614",true,"forest residues","wood and cork > forest residues",302,296]
["66615",true,"cork","wood and cork > cork",303,296]
["66616",true,"straw","wood and cork > straw",304,296]
["66617",true,"esparto","wood and cork > esparto",305,296]
["66618",true,"other plaiting materials","wood and cork > other plaiting materials",306,296]
["66619",true,"cane","wood and cork > cane",307,296]
["66620",true,"other materials of vegetal origin, not specified elsewhere","wood and cork > other materials of vegetal origin, not specified elsewhere",308,296]
["1342",true,"other:","",309,""]

{"sheet":"Mixture Search","index":18,"n_rows":492,"n_cols":18,"rows_kept":492,"cut":false,"hidden":false,"merged":[]}
[]
[]
[]
[]
[]
["ParentPhrase","(blank)",null,"ParentPhrase","(All)",null,null,"ParentPhrase","(All)",null,null,"ParentPhrase","(All)",null,null,"ParentPhrase","(All)"]
[]
["Row Labels","Next ParentPhrase",null,"Row Labels","Next ParentPhrase","ID",null,"Row Labels","Next ParentPhrase","ID",null,"Row Labels","Next ParentPhrase","ID",null,"Row Labels","Next ParentPhrase","ID"]
["F Mixtures for further formulation",1,null,"F Mixtures for further formulation",1,64945,null,"F Mixtures for further formulation",1,64945,null,"F Mixtures for further formulation",1,64945,null,"F Mixtures for further formulation",1,64945]
["Includes mixtures ('original mixtures') intended to be formulated into other mixtures by formulators in industrial settings i.e. mixtures which have no intended end-use. For ‘final mixtures’ which have an intended end-use (i.e. not for further formulation) are categorised under ‘P – Products’.",1,null,"Includes mixtures ('original mixtures') intended to be formulated into other mixtures by formulators in industrial settings i.e. mixtures which have no intended end-use. For ‘final mixtures’ which have an intended end-use (i.e. not for further formulation) are categorised under ‘P – Products’.",1,64945,null,"Includes mixtures ('original mixtures') intended to be formulated into other mixtures by formulators in industrial settings i.e. mixtures which have no intended end-use. For ‘final mixtures’ which have an intended end-use (i.e. not for further formulation) are categorised under ‘P – Products’.",1,64945,null,"Includes mixtures ('original mixtures') intended to be formulated into other mixtures by formulators in industrial settings i.e. mixtures which have no intended end-use. For ‘final mixtures’ which have an intended end-use (i.e. not for further formulation) are categorised under ‘P – Products’.",1,64945,null,"Includes mixtures ('original mixtures') intended to be formulated into other mixtures by formulators in industrial settings i.e. mixtures which have no intended end-use. For ‘final mixtures’ which have an intended end-use (i.e. not for further formulation) are categorised under ‘P – Products’.",1,64945]
["P Products",2,null,"P Products",2,null,null,"P Products",2,null,null,"P Products",2,null,null,"P Products",2]
["Products (‘Final mixtures’) intended to be end-used by consumers, professional users outside of an industrial setting or by industrial users only. ‘End-use’ means the use a mixture, as a last step before the end-of-life of the mixture, namely before the mixture (or each of its components) is emitted to waste streams or the environment, is included into an article or is consumed in a process by reaction during use (including intermediate use).",2,null,"Products (‘Final mixtures’) intended to be end-used by consumers, professional users outside of an industrial setting or by industrial users only. ‘End-use’ means the use a mixture, as a last step before the end-of-life of the mixture, namely before the mixture (or each of its components) is emitted to waste streams or the environment, is included into an article or is consumed in a process by reaction during use (including intermediate use).",2,null,null,"Products (‘Final mixtures’) intended to be end-used by consumers, professional users outside of an industrial setting or by industrial users only. ‘End-use’ means the use a mixture, as a last step before the end-of-life of the mixture, namely before the mixture (or each of its components) is emitted to waste streams or the environment, is included into an article or is consumed in a process by reaction during use (including intermediate use).",2,null,null,"Products (‘Final mixtures’) intended to be end-used by consumers, professional users outside of an industrial setting or by industrial users only. ‘End-use’ means the use a mixture, as a last step before the end-of-life of the mixture, namely before the mixture (or each of its components) is emitted to waste streams or the environment, is included into an article or is consumed in a process by reaction during use (including intermediate use).",2,null,null,"Products (‘Final mixtures’) intended to be end-used by consumers, professional users outside of an industrial setting or by industrial users only. ‘End-use’ means the use a mixture, as a last step before the end-of-life of the mixture, namely before the mixture (or each of its components) is emitted to waste streams or the environment, is included into an article or is consumed in a process by reaction during use (including intermediate use).",2]
["(blank)",null,null,"PC Chemical products (excludes biocidal products)",3,null,null,"PC Chemical products (excludes biocidal products)",3,null,null,"PC Chemical products (excludes biocidal products)",3,null,null,"PC Chemical products (excludes biocidal products)",3]
["(blank)",null,null,"Excludes all biocidal products.",3,null,null,"Excludes all biocidal products.",3,null,null,"Excludes all biocidal products.",3,null,null,"Excludes all biocidal products.",3]
[null,null,null,"PC-ADH Adhesives and sealants",4,null,null,"PC-ADH Adhesives and sealants",4,null,null,"PC-ADH Adhesives and sealants",4,null,null,"PC-ADH Adhesives and sealants",4]
[null,null,null,"An adhesive is a product capable of joining materials by surface bonding (adhesion), where the bond possesses adequate internal strength (cohesion). A sealant is an adhesive product applied to joints in order to fill gaps, mechanically block or protect from, for example, air and water.",4,null,null,"An adhesive is a product capable of joining materials by surface bonding (adhesion), where the bond possesses adequate internal strength (cohesion). A sealant is an adhesive product applied to joints in order to fill gaps, mechanically block or protect from, for example, air and water.",4,null,null,"An adhesive is a product capable of joining materials by surface bonding (adhesion), where the bond possesses adequate internal strength (cohesion). A sealant is an adhesive product applied to joints in order to fill gaps, mechanically block or protect from, for example, air and water.",4,null,null,"An adhesive is a product capable of joining materials by surface bonding (adhesion), where the bond possesses adequate internal strength (cohesion). A sealant is an adhesive product applied to joints in order to fill gaps, mechanically block or protect from, for example, air and water.",4]
[null,null,null,"PC-ADH-1 Adhesives and sealants - household, office or school use",5,64877,null,"PC-ADH-1 Adhesives and sealants - household, office or school use",5,64877,null,"PC-ADH-1 Adhesives and sealants - household, office or school use",5,64877,null,"PC-ADH-1 Adhesives and sealants - household, office or school use",5,64877]
[null,null,null,"Products for general use in the home, school, or office environment. Includes craft glues, multi-purpose glues and glue sticks, instant glues, wood glues, contact adhesives, adhesive sprays…",5,64877,null,"Products for general use in the home, school, or office environment. Includes craft glues, multi-purpose glues and glue sticks, instant glues, wood glues, contact adhesives, adhesive sprays…",5,64877,null,"Products for general use in the home, school, or office environment. Includes craft glues, multi-purpose glues and glue sticks, instant glues, wood glues, contact adhesives, adhesive sprays…",5,64877,null,"Products for general use in the home, school, or office environment. Includes craft glues, multi-purpose glues and glue sticks, instant glues, wood glues, contact adhesives, adhesive sprays…",5,64877]
[null,null,null,"PC-ADH-2 Adhesives and sealants - building and construction works (except cement based adhesives)",6,64878,null,"PC-ADH-2 Adhesives and sealants - building and construction works (except cement based adhesives)",6,64878,null,"PC-ADH-2 Adhesives and sealants - building and construction works (except cement based adhesives)",6,64878,null,"PC-ADH-2 Adhesives and sealants - building and construction works (except cement based adhesives)",6,64878]
[null,null,null,"Adhesives and sealants (gap fillers) for on-site and off-site building works such as new work, maintenance and renovations e.g. adhesives for wall coverings (including wall paper) and flooring (including carpet, PVS and linoleum, parquet) as well as civil engineering works (bridges, highway, railroad). For cement-based adhesives, see 'Mortars' in 'Construction products'.",6,64878,null,"Adhesives and sealants (gap fillers) for on-site and off-site building works such as new work, maintenance and renovations e.g. adhesives for wall coverings (including wall paper) and flooring (including carpet, PVS and linoleum, parquet) as well as civil engineering works (bridges, highway, railroad). For cement-based adhesives, see 'Mortars' in 'Construction products'.",6,64878,null,"Adhesives and sealants (gap fillers) for on-site and off-site building works such as new work, maintenance and renovations e.g. adhesives for wall coverings (including wall paper) and flooring (including carpet, PVS and linoleum, parquet) as well as civil engineering works (bridges, highway, railroad). For cement-based adhesives, see 'Mortars' in 'Construction products'.",6,64878,null,"Adhesives and sealants (gap fillers) for on-site and off-site building works such as new work, maintenance and renovations e.g. adhesives for wall coverings (including wall paper) and flooring (including carpet, PVS and linoleum, parquet) as well as civil engineering works (bridges, highway, railroad). For cement-based adhesives, see 'Mortars' in 'Construction products'.",6,64878]
[null,null,null,"PC-ADH-3 Adhesives and sealants - footwear and leather goods",7,64879,null,"PC-ADH-3 Adhesives and sealants - footwear and leather goods",7,64879,null,"PC-ADH-3 Adhesives and sealants - footwear and leather goods",7,64879,null,"PC-ADH-3 Adhesives and sealants - footwear and leather goods",7,64879]
[null,null,null,"Specialised adhesive and sealant products for leather goods and footwear e.g. for soling/sole attaching, lasting, box toes, counter, repair aftermarket etc.",7,64879,null,"Specialised adhesive and sealant products for leather goods and footwear e.g. for soling/sole attaching, lasting, box toes, counter, repair aftermarket etc.",7,64879,null,"Specialised adhesive and sealant products for leather goods and footwear e.g. for soling/sole attaching, lasting, box toes, counter, repair aftermarket etc.",7,64879,null,"Specialised adhesive and sealant products for leather goods and footwear e.g. for soling/sole attaching, lasting, box toes, counter, repair aftermarket etc.",7,64879]
[null,null,null,"PC-ADH-4 Adhesives and sealants - paper and board related processes",8,64880,null,"PC-ADH-4 Adhesives and sealants - paper and board related processes",8,64880,null,"PC-ADH-4 Adhesives and sealants - paper and board related processes",8,64880,null,"PC-ADH-4 Adhesives and sealants - paper and board related processes",8,64880]
[null,null,null,"Specialised adhesive and sealant products intended for processing paper, board and related products such as packaging, labelling, paper to board lamination, bookbinding etc. Does not include paper adhesives primarily for home use, see 'Adhesives and sealants - household, office or school use'.",8,64880,null,"Specialised adhesive and sealant products intended for processing paper, board and related products such as packaging, labelling, paper to board lamination, bookbinding etc. Does not include paper adhesives primarily for home use, see 'Adhesives and sealants - household, office or school use'.",8,64880,null,"Specialised adhesive and sealant products intended for processing paper, board and related products such as packaging, labelling, paper to board lamination, bookbinding etc. Does not include paper adhesives primarily for home use, see 'Adhesives and sealants - household, office or school use'.",8,64880,null,"Specialised adhesive and sealant products intended for processing paper, board and related products such as packaging, labelling, paper to board lamination, bookbinding etc. Does not include paper adhesives primarily for home use, see 'Adhesives and sealants - household, office or school use'.",8,64880]
[null,null,null,"PC-ADH-5 Adhesives and sealants - transportation industry",9,64881,null,"PC-ADH-5 Adhesives and sealants - transportation industry",9,64881,null,"PC-ADH-5 Adhesives and sealants - transportation industry",9,64881,null,"PC-ADH-5 Adhesives and sealants - transportation industry",9,64881]
[null,null,null,"Products containing high performing structural adhesives and sealants e.g. for motor and railed vehicles, watercraft, aircraft and spacecraft.",9,64881,null,"Products containing high performing structural adhesives and sealants e.g. for motor and railed vehicles, watercraft, aircraft and spacecraft.",9,64881,null,"Products containing high performing structural adhesives and sealants e.g. for motor and railed vehicles, watercraft, aircraft and spacecraft.",9,64881,null,"Products containing high performing structural adhesives and sealants e.g. for motor and railed vehicles, watercraft, aircraft and spacecraft.",9,64881]
[null,null,null,"PC-ADH-6 Adhesives and sealants -  woodworking and joinery (includes putty)",10,64882,null,"PC-ADH-6 Adhesives and sealants -  woodworking and joinery (includes putty)",10,64882,null,"PC-ADH-6 Adhesives and sealants -  woodworking and joinery (includes putty)",10,64882,null,"PC-ADH-6 Adhesives and sealants -  woodworking and joinery (includes putty)",10,64882]
[null,null,null,"Specialised adhesive and sealant products for cabinet making and furniture manufacturing, including putty. Does not include wood glues primarily for home use, see 'Adhesives and sealants - household, office or school use'.",10,64882,null,"Specialised adhesive and sealant products for cabinet making and furniture manufacturing, including putty. Does not include wood glues primarily for home use, see 'Adhesives and sealants - household, office or school use'.",10,64882,null,"Specialised adhesive and sealant products for cabinet making and furniture manufacturing, including putty. Does not include wood glues primarily for home use, see 'Adhesives and sealants - household, office or school use'.",10,64882,null,"Specialised adhesive and sealant products for cabinet making and furniture manufacturing, including putty. Does not include wood glues primarily for home use, see 'Adhesives and sealants - household, office or school use'.",10,64882]
[null,null,null,"PC-ADH-7 Adhesives and sealants - assembly line processes",11,64883,null,"PC-ADH-7 Adhesives and sealants - assembly line processes",11,64883,null,"PC-ADH-7 Adhesives and sealants - assembly line processes",11,64883,null,"PC-ADH-7 Adhesives and sealants - assembly line processes",11,64883]
[null,null,null,"Adhesives and sealants used in assembly line processes for example, in assembling electronic components, medical applications, toys - excluding already covered categories e.g. for paper and board related processes.",11,64883,null,"Adhesives and sealants used in assembly line processes for example, in assembling electronic components, medical applications, toys - excluding already covered categories e.g. for paper and board related processes.",11,64883,null,"Adhesives and sealants used in assembly line processes for example, in assembling electronic components, medical applications, toys - excluding already covered categories e.g. for paper and board related processes.",11,64883,null,"Adhesives and sealants used in assembly line processes for example, in assembling electronic components, medical applications, toys - excluding already covered categories e.g. for paper and board related processes.",11,64883]
[null,null,null,"PC-ADH-8 Multi-component adhesives and sealants",12,64884,null,"PC-ADH-8 Multi-component adhesives and sealants",12,64884,null,"PC-ADH-8 Multi-component adhesives and sealants",12,64884,null,"PC-ADH-8 Multi-component adhesives and sealants",12,64884]
[null,null,null,"Products intended to be mixed for immediate use as an adhesive or sealant.",12,64884,null,"Products intended to be mixed for immediate use as an adhesive or sealant.",12,64884,null,"Products intended to be mixed for immediate use as an adhesive or sealant.",12,64884,null,"Products intended to be mixed for immediate use as an adhesive or sealant.",12,64884]
[null,null,null,"PC-ADH-OTH Other adhesives and sealants",13,64886,null,"PC-ADH-OTH Other adhesives and sealants",13,64886,null,"PC-ADH-OTH Other adhesives and sealants",13,64886,null,"PC-ADH-OTH Other adhesives and sealants",13,64886]
[null,null,null,"Other adhesives and sealants not already covered.",13,64886,null,"Other adhesives and sealants not already covered.",13,64886,null,"Other adhesives and sealants not already covered.",13,64886,null,"Other adhesives and sealants not already covered.",13,64886]
[null,null,null,"PC-AIR Air care products",14,null,null,"PC-AIR Air care products",14,null,null,"PC-AIR Air care products",14,null,null,"PC-AIR Air care products",14]
[null,null,null,"Air care products that serve to odorise or deodorise the indoor rooms (e.g. in homes, offices...) or specific objects or items (e.g. shoes, cars, household appliances...). Includes incense, candles and matches used to light them. Excludes biocidal products.",14,null,null,"Air care products that serve to odorise or deodorise the indoor rooms (e.g. in homes, offices...) or specific objects or items (e.g. shoes, cars, household appliances...). Includes incense, candles and matches used to light them. Excludes biocidal products.",14,null,null,"Air care products that serve to odorise or deodorise the indoor rooms (e.g. in homes, offices...) or specific objects or items (e.g. shoes, cars, household appliances...). Includes incense, candles and matches used to light them. Excludes biocidal products.",14,null,null,"Air care products that serve to odorise or deodorise the indoor rooms (e.g. in homes, offices...) or specific objects or items (e.g. shoes, cars, household appliances...). Includes incense, candles and matches used to light them. Excludes biocidal products.",14]
[null,null,null,"PC-AIR-1 Air care products for indoor rooms (continuous action)",15,64946,null,"PC-AIR-1 Air care products for indoor rooms (continuous action)",15,64946,null,"PC-AIR-1 Air care products for indoor rooms (continuous action)",15,64946,null,"PC-AIR-1 Air care products for indoor rooms (continuous action)",15,64946]
[null,null,null,"Products that serve to continuously odorise or deodorise indoor air, including diffuser products (excludes incense, and scented candles).",15,64946,null,"Products that serve to continuously odorise or deodorise indoor air, including diffuser products (excludes incense, and scented candles).",15,64946,null,"Products that serve to continuously odorise or deodorise indoor air, including diffuser products (excludes incense, and scented candles).",15,64946,null,"Products that serve to continuously odorise or deodorise indoor air, including diffuser products (excludes incense, and scented candles).",15,64946]
[null,null,null,"PC-AIR-2 Air care products for indoor rooms (instant action)",16,64947,null,"PC-AIR-2 Air care products for indoor rooms (instant action)",16,64947,null,"PC-AIR-2 Air care products for indoor rooms (instant action)",16,64947,null,"PC-AIR-2 Air care products for indoor rooms (instant action)",16,64947]
[null,null,null,"Products that serve to instantly odorise or deodorise the indoor air environment.",16,64947,null,"Products that serve to instantly odorise or deodorise the indoor air environment.",16,64947,null,"Products that serve to instantly odorise or deodorise the indoor air environment.",16,64947,null,"Products that serve to instantly odorise or deodorise the indoor air environment.",16,64947]
[null,null,null,"PC-AIR-3 Air care products for shoes",17,64948,null,"PC-AIR-3 Air care products for shoes",17,64948,null,"PC-AIR-3 Air care products for shoes",17,64948,null,"PC-AIR-3 Air care products for shoes",17,64948]
[null,null,null,null,17,64948,null,null,17,64948,null,null,17,64948,null,null,17,64948]
[null,null,null,"PC-AIR-4 Air care products for vehicles",18,64949,null,"PC-AIR-4 Air care products for vehicles",18,64949,null,"PC-AIR-4 Air care products for vehicles",18,64949,null,"PC-AIR-4 Air care products for vehicles",18,64949]
[null,null,null,null,18,64949,null,null,18,64949,null,null,18,64949,null,null,18,64949]
[null,null,null,"PC-AIR-5 Ambient deodorisers (excludes room deodorisers)",19,64950,null,"PC-AIR-5 Ambient deodorisers (excludes room deodorisers)",19,64950,null,"PC-AIR-5 Ambient deodorisers (excludes room deodorisers)",19,64950,null,"PC-AIR-5 Ambient deodorisers (excludes room deodorisers)",19,64950]
[null,null,null,"Applies to certain products where the only intended use is to deodorise enclosed spaces (e.g. wardrobes, cupboards…), household appliances (e.g. refrigerator, vacuum cleaner…) or objects (e.g. rubbish bins…). Excludes deodorising products in PC-AIR  e.g. for rooms, shoes or vehicles.  Does not apply to products used to deodorise textiles or carpet, see 'Textile fresheners/deodorisers' or carpets and upholstery, see 'Deodorisers or fresheners for carpet/upholstery'.",19,64950,null,"Applies to certain products where the only intended use is to deodorise enclosed spaces (e.g. wardrobes, cupboards…), household appliances (e.g. refrigerator, vacuum cleaner…) or objects (e.g. rubbish bins…). Excludes deodorising products in PC-AIR  e.g. for rooms, shoes or vehicles.  Does not apply to products used to deodorise textiles or carpet, see 'Textile fresheners/deodorisers' or carpets and upholstery, see 'Deodorisers or fresheners for carpet/upholstery'.",19,64950,null,"Applies to certain products where the only intended use is to deodorise enclosed spaces (e.g. wardrobes, cupboards…), household appliances (e.g. refrigerator, vacuum cleaner…) or objects (e.g. rubbish bins…). Excludes deodorising products in PC-AIR  e.g. for rooms, shoes or vehicles.  Does not apply to products used to deodorise textiles or carpet, see 'Textile fresheners/deodorisers' or carpets and upholstery, see 'Deodorisers or fresheners for carpet/upholstery'.",19,64950,null,"Applies to certain products where the only intended use is to deodorise enclosed spaces (e.g. wardrobes, cupboards…), household appliances (e.g. refrigerator, vacuum cleaner…) or objects (e.g. rubbish bins…). Excludes deodorising products in PC-AIR  e.g. for rooms, shoes or vehicles.  Does not apply to products used to deodorise textiles or carpet, see 'Textile fresheners/deodorisers' or carpets and upholstery, see 'Deodorisers or fresheners for carpet/upholstery'.",19,64950]
[null,null,null,"PC-AIR-6 Incense",20,64951,null,"PC-AIR-6 Incense",20,64951,null,"PC-AIR-6 Incense",20,64951,null,"PC-AIR-6 Incense",20,64951]
[null,null,null,null,20,64951,null,null,20,64951,null,null,20,64951,null,null,20,64951]
[null,null,null,"PC-AIR-7 Candles - scented and unscented",21,64952,null,"PC-AIR-7 Candles - scented and unscented",21,64952,null,"PC-AIR-7 Candles - scented and unscented",21,64952,null,"PC-AIR-7 Candles - scented and unscented",21,64952]
[null,null,null,null,21,64952,null,null,21,64952,null,null,21,64952,null,null,21,64952]
[null,null,null,"PC-AIR-8 Matches",22,64953,null,"PC-AIR-8 Matches",22,64953,null,"PC-AIR-8 Matches",22,64953,null,"PC-AIR-8 Matches",22,64953]
[null,null,null,null,22,64953,null,null,22,64953,null,null,22,64953,null,null,22,64953]
[null,null,null,"PC-AIR-OTH Other air care products",23,64954,null,"PC-AIR-OTH Other air care products",23,64954,null,"PC-AIR-OTH Other air care products",23,64954,null,"PC-AIR-OTH Other air care products",23,64954]
[null,null,null,"Other air care products and ambient deodorisers not already covered.",23,64954,null,"Other air care products and ambient deodorisers not already covered.",23,64954,null,"Other air care products and ambient deodorisers not already covered.",23,64954,null,"Other air care products and ambient deodorisers not already covered.",23,64954]
[null,null,null,"PC-ANI Products for animals",24,null,null,"PC-ANI Products for animals",24,null,null,"PC-ANI Products for animals",24,null,null,"PC-ANI Products for animals",24]
[null,null,null,"Products for animal care including animal feed additives (excluding biocidal products, veterinary medicines, feed materials, compound feed, pet food, and medicated feed).",24,null,null,"Products for animal care including animal feed additives (excluding biocidal products, veterinary medicines, feed materials, compound feed, pet food, and medicated feed).",24,null,null,"Products for animal care including animal feed additives (excluding biocidal products, veterinary medicines, feed materials, compound feed, pet food, and medicated feed).",24,null,null,"Products for animal care including animal feed additives (excluding biocidal products, veterinary medicines, feed materials, compound feed, pet food, and medicated feed).",24]
[null,null,null,"PC-ANI-1 Additives and premixtures for animal feed",25,64955,null,"PC-ANI-1 Additives and premixtures for animal feed",25,64955,null,"PC-ANI-1 Additives and premixtures for animal feed",25,64955,null,"PC-ANI-1 Additives and premixtures for animal feed",25,64955]
[null,null,null,"Products which are intentionally added to feed or water in order to perform a particular function. Excludes food and feeding products.",25,64955,null,"Products which are intentionally added to feed or water in order to perform a particular function. Excludes food and feeding products.",25,64955,null,"Products which are intentionally added to feed or water in order to perform a particular function. Excludes food and feeding products.",25,64955,null,"Products which are intentionally added to feed or water in order to perform a particular function. Excludes food and feeding products.",25,64955]
[null,null,null,"PC-ANI-2 Animal shampoos and conditioners",26,64956,null,"PC-ANI-2 Animal shampoos and conditioners",26,64956,null,"PC-ANI-2 Animal shampoos and conditioners",26,64956,null,"PC-ANI-2 Animal shampoos and conditioners",26,64956]
[null,null,null,"Excludes biocidal products.",26,64956,null,"Excludes biocidal products.",26,64956,null,"Excludes biocidal products.",26,64956,null,"Excludes biocidal products.",26,64956]
[null,null,null,"PC-ANI-OTH Other products for animals (excluding biocidal products)",27,64957,null,"PC-ANI-OTH Other products for animals (excluding biocidal products)",27,64957,null,"PC-ANI-OTH Other products for animals (excluding biocidal products)",27,64957,null,"PC-ANI-OTH Other products for animals (excluding biocidal products)",27,64957]
[null,null,null,null,27,64957,null,null,27,64957,null,null,27,64957,null,null,27,64957]
[null,null,null,"PC-ART Art materials (including chemical products used for decorative purposes)",28,null,null,"PC-ART Art materials (including chemical products used for decorative purposes)",28,null,null,"PC-ART Art materials (including chemical products used for decorative purposes)",28,null,null,"PC-ART Art materials (including chemical products used for decorative purposes)",28]
[null,null,null,"Includes paints and other art and craft materials for artistic expression or decorative purposes, including auxiliary materials. For art and craft adhesives, see 'Adhesives and sealants - household, office or school use'.",28,null,null,"Includes paints and other art and craft materials for artistic expression or decorative purposes, including auxiliary materials. For art and craft adhesives, see 'Adhesives and sealants - household, office or school use'.",28,null,null,"Includes paints and other art and craft materials for artistic expression or decorative purposes, including auxiliary materials. For art and craft adhesives, see 'Adhesives and sealants - household, office or school use'.",28,null,null,"Includes paints and other art and craft materials for artistic expression or decorative purposes, including auxiliary materials. For art and craft adhesives, see 'Adhesives and sealants - household, office or school use'.",28]
[null,null,null,"PC-ART-1 Artists’, craft and hobby paints",29,64958,null,"PC-ART-1 Artists’, craft and hobby paints",29,64958,null,"PC-ART-1 Artists’, craft and hobby paints",29,64958,null,"PC-ART-1 Artists’, craft and hobby paints",29,64958]
[null,null,null,"Paints for artistic and creative expression and for colouring/decoration of articles (excludes 'Finger paints' and graffiti/street art spray paints - see 'Aerosol paints and coatings').",29,64958,null,"Paints for artistic and creative expression and for colouring/decoration of articles (excludes 'Finger paints' and graffiti/street art spray paints - see 'Aerosol paints and coatings').",29,64958,null,"Paints for artistic and creative expression and for colouring/decoration of articles (excludes 'Finger paints' and graffiti/street art spray paints - see 'Aerosol paints and coatings').",29,64958,null,"Paints for artistic and creative expression and for colouring/decoration of articles (excludes 'Finger paints' and graffiti/street art spray paints - see 'Aerosol paints and coatings').",29,64958]
[null,null,null,"PC-ART-2 Finger paints",30,64959,null,"PC-ART-2 Finger paints",30,64959,null,"PC-ART-2 Finger paints",30,64959,null,"PC-ART-2 Finger paints",30,64959]
[null,null,null,"Paints for use in play by children, applied using the fingers directly.",30,64959,null,"Paints for use in play by children, applied using the fingers directly.",30,64959,null,"Paints for use in play by children, applied using the fingers directly.",30,64959,null,"Paints for use in play by children, applied using the fingers directly.",30,64959]
[null,null,null,"PC-ART-3 Crayons, chalks and pastels",31,64960,null,"PC-ART-3 Crayons, chalks and pastels",31,64960,null,"PC-ART-3 Crayons, chalks and pastels",31,64960,null,"PC-ART-3 Crayons, chalks and pastels",31,64960]
[null,null,null,"Mixtures in solid/compressed form for colouring/drawing in creative expression or play.",31,64960,null,"Mixtures in solid/compressed form for colouring/drawing in creative expression or play.",31,64960,null,"Mixtures in solid/compressed form for colouring/drawing in creative expression or play.",31,64960,null,"Mixtures in solid/compressed form for colouring/drawing in creative expression or play.",31,64960]
[null,null,null,"PC-ART-4 Auxiliary materials for artists",32,64961,null,"PC-ART-4 Auxiliary materials for artists",32,64961,null,"PC-ART-4 Auxiliary materials for artists",32,64961,null,"PC-ART-4 Auxiliary materials for artists",32,64961]
[null,null,null,"Auxiliary artists’ materials including carriers/vehicles (such as oils), solvents/thinners, special effect agents, tinting mediums, fast and slow drying gels, fixatives and varnishes.",32,64961,null,"Auxiliary artists’ materials including carriers/vehicles (such as oils), solvents/thinners, special effect agents, tinting mediums, fast and slow drying gels, fixatives and varnishes.",32,64961,null,"Auxiliary artists’ materials including carriers/vehicles (such as oils), solvents/thinners, special effect agents, tinting mediums, fast and slow drying gels, fixatives and varnishes.",32,64961,null,"Auxiliary artists’ materials including carriers/vehicles (such as oils), solvents/thinners, special effect agents, tinting mediums, fast and slow drying gels, fixatives and varnishes.",32,64961]
[null,null,null,"PC-ART-5 Modelling compounds",33,64962,null,"PC-ART-5 Modelling compounds",33,64962,null,"PC-ART-5 Modelling compounds",33,64962,null,"PC-ART-5 Modelling compounds",33,64962]
[null,null,null,"Creative modelling/sculpting material for adults or children, such as clays (ceramic, polymeric etc.).",33,64962,null,"Creative modelling/sculpting material for adults or children, such as clays (ceramic, polymeric etc.).",33,64962,null,"Creative modelling/sculpting material for adults or children, such as clays (ceramic, polymeric etc.).",33,64962,null,"Creative modelling/sculpting material for adults or children, such as clays (ceramic, polymeric etc.).",33,64962]
[null,null,null,"PC-ART-6 Chemical products used for decorative purposes",34,64963,null,"PC-ART-6 Chemical products used for decorative purposes",34,64963,null,"PC-ART-6 Chemical products used for decorative purposes",34,64963,null,"PC-ART-6 Chemical products used for decorative purposes",34,64963]
[null,null,null,"Includes chemical products such as artificial snow/snow flakes/frost, artificial cobwebs, ….",34,64963,null,"Includes chemical products such as artificial snow/snow flakes/frost, artificial cobwebs, ….",34,64963,null,"Includes chemical products such as artificial snow/snow flakes/frost, artificial cobwebs, ….",34,64963,null,"Includes chemical products such as artificial snow/snow flakes/frost, artificial cobwebs, ….",34,64963]
[null,null,null,"PC-ART-OTH Other art  materials (including chemical products used for decorative purposes)",35,64964,null,"PC-ART-OTH Other art  materials (including chemical products used for decorative purposes)",35,64964,null,"PC-ART-OTH Other art  materials (including chemical products used for decorative purposes)",35,64964,null,"PC-ART-OTH Other art  materials (including chemical products used for decorative purposes)",35,64964]
[null,null,null,"Other art  materials and chemical products used for decorative purposes not already covered",35,64964,null,"Other art  materials and chemical products used for decorative purposes not already covered",35,64964,null,"Other art  materials and chemical products used for decorative purposes not already covered",35,64964,null,"Other art  materials and chemical products used for decorative purposes not already covered",35,64964]
[null,null,null,"PC-CLN Cleaning, care and maintenance products (excludes biocidal products)",36,null,null,"PC-CLN Cleaning, care and maintenance products (excludes biocidal products)",36,null,null,"PC-CLN Cleaning, care and maintenance products (excludes biocidal products)",36,null,null,"PC-CLN Cleaning, care and maintenance products (excludes biocidal products)",36]
[null,null,null,"For detergents, see 'Detergents and auxiliaries for laundry and dishwashing (excludes biocidal products)'.",36,null,null,"For detergents, see 'Detergents and auxiliaries for laundry and dishwashing (excludes biocidal products)'.",36,null,null,"For detergents, see 'Detergents and auxiliaries for laundry and dishwashing (excludes biocidal products)'.",36,null,null,"For detergents, see 'Detergents and auxiliaries for laundry and dishwashing (excludes biocidal products)'.",36]
[null,null,null,"PC-CLN-1 Abrasive cleaning products",37,64965,null,"PC-CLN-1 Abrasive cleaning products",37,64965,null,"PC-CLN-1 Abrasive cleaning products",37,64965,null,"PC-CLN-1 Abrasive cleaning products",37,64965]
[null,null,null,"Products intended to clean surfaces through mechanical action including e.g. all- or multipurpose cleaners, cleaners for kitchen, toilet or bathroom areas.",37,64965,null,"Products intended to clean surfaces through mechanical action including e.g. all- or multipurpose cleaners, cleaners for kitchen, toilet or bathroom areas.",37,64965,null,"Products intended to clean surfaces through mechanical action including e.g. all- or multipurpose cleaners, cleaners for kitchen, toilet or bathroom areas.",37,64965,null,"Products intended to clean surfaces through mechanical action including e.g. all- or multipurpose cleaners, cleaners for kitchen, toilet or bathroom areas.",37,64965]
[null,null,null,"PC-CLN-10 Kitchen and related cleaning products (excludes biocidal products)",46,null,null,"PC-CLN-10 Kitchen and related cleaning products (excludes biocidal products)",46,null,null,"PC-CLN-10 Kitchen and related cleaning products (excludes biocidal products)",46,null,null,"PC-CLN-10 Kitchen and related cleaning products (excludes biocidal products)",46]
[null,null,null,"Excludes 'Biocidal products',  descalers (see 'Descaling products') and abrasive cleaners (see 'Abrasive cleaning products').",46,null,null,"Excludes 'Biocidal products',  descalers (see 'Descaling products') and abrasive cleaners (see 'Abrasive cleaning products').",46,null,null,"Excludes 'Biocidal products',  descalers (see 'Descaling products') and abrasive cleaners (see 'Abrasive cleaning products').",46,null,null,"Excludes 'Biocidal products',  descalers (see 'Descaling products') and abrasive cleaners (see 'Abrasive cleaning products').",46]
[null,null,null,"PC-CLN-10.1 Cleaners for kitchen areas",47,64974,null,"PC-CLN-10.1 Cleaners for kitchen areas",47,64974,null,"PC-CLN-10.1 Cleaners for kitchen areas",47,64974,null,"PC-CLN-10.1 Cleaners for kitchen areas",47,64974]
[null,null,null,"Products including multi-surface, degreasers, and kitchen tile cleaners.",47,64974,null,"Products including multi-surface, degreasers, and kitchen tile cleaners.",47,64974,null,"Products including multi-surface, degreasers, and kitchen tile cleaners.",47,64974,null,"Products including multi-surface, degreasers, and kitchen tile cleaners.",47,64974]
[null,null,null,"PC-CLN-10.2 Cleaners for kitchen machinery and equipment",48,64975,null,"PC-CLN-10.2 Cleaners for kitchen machinery and equipment",48,64975,null,"PC-CLN-10.2 Cleaners for kitchen machinery and equipment",48,64975,null,"PC-CLN-10.2 Cleaners for kitchen machinery and equipment",48,64975]
[null,null,null,"Excludes descalers, see 'Descaling products'.",48,64975,null,"Excludes descalers, see 'Descaling products'.",48,64975,null,"Excludes descalers, see 'Descaling products'.",48,64975,null,"Excludes descalers, see 'Descaling products'.",48,64975]
[null,null,null,"PC-CLN-10.3 Cooking hob cleaning/care products",49,64976,null,"PC-CLN-10.3 Cooking hob cleaning/care products",49,64976,null,"PC-CLN-10.3 Cooking hob cleaning/care products",49,64976,null,"PC-CLN-10.3 Cooking hob cleaning/care products",49,64976]
[null,null,null,null,49,64976,null,null,49,64976,null,null,49,64976,null,null,49,64976]
[null,null,null,"PC-CLN-10.4 Oven, grill or barbecue cleaners",50,64977,null,"PC-CLN-10.4 Oven, grill or barbecue cleaners",50,64977,null,"PC-CLN-10.4 Oven, grill or barbecue cleaners",50,64977,null,"PC-CLN-10.4 Oven, grill or barbecue cleaners",50,64977]
[null,null,null,null,50,64977,null,null,50,64977,null,null,50,64977,null,null,50,64977]
[null,null,null,"PC-CLN-10.OTH Other kitchen and related cleaning products",51,64978,null,"PC-CLN-10.OTH Other kitchen and related cleaning products",51,64978,null,"PC-CLN-10.OTH Other kitchen and related cleaning products",51,64978,null,"PC-CLN-10.OTH Other kitchen and related cleaning products",51,64978]
[null,null,null,null,51,64978,null,null,51,64978,null,null,51,64978,null,null,51,64978]
[null,null,null,"PC-CLN-11 Bathroom and toilet cleaning/care products (excludes biocidal products)",52,null,null,"PC-CLN-11 Bathroom and toilet cleaning/care products (excludes biocidal products)",52,null,null,"PC-CLN-11 Bathroom and toilet cleaning/care products (excludes biocidal products)",52,null,null,"PC-CLN-11 Bathroom and toilet cleaning/care products (excludes biocidal products)",52]
[null,null,null,"Excludes 'Biocidal products', descalers (see 'Descaling products') and abrasive cleaners (see 'Abrasive cleaning products').",52,null,null,"Excludes 'Biocidal products', descalers (see 'Descaling products') and abrasive cleaners (see 'Abrasive cleaning products').",52,null,null,"Excludes 'Biocidal products', descalers (see 'Descaling products') and abrasive cleaners (see 'Abrasive cleaning products').",52,null,null,"Excludes 'Biocidal products', descalers (see 'Descaling products') and abrasive cleaners (see 'Abrasive cleaning products').",52]
[null,null,null,"PC-CLN-11.1 Bathroom cleaners",53,64979,null,"PC-CLN-11.1 Bathroom cleaners",53,64979,null,"PC-CLN-11.1 Bathroom cleaners",53,64979,null,"PC-CLN-11.1 Bathroom cleaners",53,64979]
[null,null,null,"Includes multi-surface and bathroom tile cleaners.",53,64979,null,"Includes multi-surface and bathroom tile cleaners.",53,64979,null,"Includes multi-surface and bathroom tile cleaners.",53,64979,null,"Includes multi-surface and bathroom tile cleaners.",53,64979]
[null,null,null,"PC-CLN-11.2 Toilet cleaners",54,64980,null,"PC-CLN-11.2 Toilet cleaners",54,64980,null,"PC-CLN-11.2 Toilet cleaners",54,64980,null,"PC-CLN-11.2 Toilet cleaners",54,64980]
[null,null,null,"Excludes multi-flush agents.",54,64980,null,"Excludes multi-flush agents.",54,64980,null,"Excludes multi-flush agents.",54,64980,null,"Excludes multi-flush agents.",54,64980]
[null,null,null,"PC-CLN-11.3 Multi-flush products for toilets",55,64981,null,"PC-CLN-11.3 Multi-flush products for toilets",55,64981,null,"PC-CLN-11.3 Multi-flush products for toilets",55,64981,null,"PC-CLN-11.3 Multi-flush products for toilets",55,64981]
[null,null,null,"Multi flush agents for cistern or rim use.",55,64981,null,"Multi flush agents for cistern or rim use.",55,64981,null,"Multi flush agents for cistern or rim use.",55,64981,null,"Multi flush agents for cistern or rim use.",55,64981]
[null,null,null,"PC-CLN-11.OTH Other bathroom and toilet cleaning/care products (excludes biocidal products)",56,64982,null,"PC-CLN-11.OTH Other bathroom and toilet cleaning/care products (excludes biocidal products)",56,64982,null,"PC-CLN-11.OTH Other bathroom and toilet cleaning/care products (excludes biocidal products)",56,64982,null,"PC-CLN-11.OTH Other bathroom and toilet cleaning/care products (excludes biocidal products)",56,64982]
[null,null,null,null,56,64982,null,null,56,64982,null,null,56,64982,null,null,56,64982]
[null,null,null,"PC-CLN-12 Stone, tile and grout cleaning/care products",57,null,null,"PC-CLN-12 Stone, tile and grout cleaning/care products",57,null,null,"PC-CLN-12 Stone, tile and grout cleaning/care products",57,null,null,"PC-CLN-12 Stone, tile and grout cleaning/care products",57]
[null,null,null,"Excludes biocidal products as well as for use in kitchen and bathroom areas.",57,null,null,"Excludes biocidal products as well as for use in kitchen and bathroom areas.",57,null,null,"Excludes biocidal products as well as for use in kitchen and bathroom areas.",57,null,null,"Excludes biocidal products as well as for use in kitchen and bathroom areas.",57]
[null,null,null,"PC-CLN-12.1 Cleaning/care products for stone and tiles - regular use",58,64983,null,"PC-CLN-12.1 Cleaning/care products for stone and tiles - regular use",58,64983,null,"PC-CLN-12.1 Cleaning/care products for stone and tiles - regular use",58,64983,null,"PC-CLN-12.1 Cleaning/care products for stone and tiles - regular use",58,64983]
[null,null,null,"Cleaning products intended to be used on a regular basis for the maintenance of stone and tile surfaces including floors. Excludes products specifically for kitchen, toilet and bathroom areas.",58,64983,null,"Cleaning products intended to be used on a regular basis for the maintenance of stone and tile surfaces including floors. Excludes products specifically for kitchen, toilet and bathroom areas.",58,64983,null,"Cleaning products intended to be used on a regular basis for the maintenance of stone and tile surfaces including floors. Excludes products specifically for kitchen, toilet and bathroom areas.",58,64983,null,"Cleaning products intended to be used on a regular basis for the maintenance of stone and tile surfaces including floors. Excludes products specifically for kitchen, toilet and bathroom areas.",58,64983]
[null,null,null,"PC-CLN-12.2 Heavy duty cleaning products for stone and similar surfaces",59,64984,null,"PC-CLN-12.2 Heavy duty cleaning products for stone and similar surfaces",59,64984,null,"PC-CLN-12.2 Heavy duty cleaning products for stone and similar surfaces",59,64984,null,"PC-CLN-12.2 Heavy duty cleaning products for stone and similar surfaces",59,64984]
[null,null,null,"Products for heavy duty cleaning of stone and similar surface including outdoor pavements, pathways, headstones, …",59,64984,null,"Products for heavy duty cleaning of stone and similar surface including outdoor pavements, pathways, headstones, …",59,64984,null,"Products for heavy duty cleaning of stone and similar surface including outdoor pavements, pathways, headstones, …",59,64984,null,"Products for heavy duty cleaning of stone and similar surface including outdoor pavements, pathways, headstones, …",59,64984]
[null,null,null,"PC-CLN-12.3 Grout cleaners",60,64985,null,"PC-CLN-12.3 Grout cleaners",60,64985,null,"PC-CLN-12.3 Grout cleaners",60,64985,null,"PC-CLN-12.3 Grout cleaners",60,64985]
[null,null,null,"Product specifically intended to clean grout.",60,64985,null,"Product specifically intended to clean grout.",60,64985,null,"Product specifically intended to clean grout.",60,64985,null,"Product specifically intended to clean grout.",60,64985]
[null,null,null,"PC-CLN-12.OTH Other stone, tile and grout cleaning/care products",61,64986,null,"PC-CLN-12.OTH Other stone, tile and grout cleaning/care products",61,64986,null,"PC-CLN-12.OTH Other stone, tile and grout cleaning/care products",61,64986,null,"PC-CLN-12.OTH Other stone, tile and grout cleaning/care products",61,64986]
[null,null,null,"Excludes biocidal products as well as for use in kitchen and bathroom areas.",61,64986,null,"Excludes biocidal products as well as for use in kitchen and bathroom areas.",61,64986,null,"Excludes biocidal products as well as for use in kitchen and bathroom areas.",61,64986,null,"Excludes biocidal products as well as for use in kitchen and bathroom areas.",61,64986]
[null,null,null,"PC-CLN-13 Floor cleaning, care and maintenance products (excludes stone and tile)",62,null,null,"PC-CLN-13 Floor cleaning, care and maintenance products (excludes stone and tile)",62,null,null,"PC-CLN-13 Floor cleaning, care and maintenance products (excludes stone and tile)",62,null,null,"PC-CLN-13 Floor cleaning, care and maintenance products (excludes stone and tile)",62]
[null,null,null,"Excludes products for stone and tile floors - see 'Stone, tile and grout cleaning/care products'.",62,null,null,"Excludes products for stone and tile floors - see 'Stone, tile and grout cleaning/care products'.",62,null,null,"Excludes products for stone and tile floors - see 'Stone, tile and grout cleaning/care products'.",62,null,null,"Excludes products for stone and tile floors - see 'Stone, tile and grout cleaning/care products'.",62]
[null,null,null,"PC-CLN-13.1 Floor cleaning products",63,64987,null,"PC-CLN-13.1 Floor cleaning products",63,64987,null,"PC-CLN-13.1 Floor cleaning products",63,64987,null,"PC-CLN-13.1 Floor cleaning products",63,64987]
[null,null,null,"Cleaning products intended to be used on a regular basis for the maintenance of floors, including unit-dose capsules. Excludes stone and tile floors, see 'Stone, tile and grout cleaning/care products'.",63,64987,null,"Cleaning products intended to be used on a regular basis for the maintenance of floors, including unit-dose capsules. Excludes stone and tile floors, see 'Stone, tile and grout cleaning/care products'.",63,64987,null,"Cleaning products intended to be used on a regular basis for the maintenance of floors, including unit-dose capsules. Excludes stone and tile floors, see 'Stone, tile and grout cleaning/care products'.",63,64987,null,"Cleaning products intended to be used on a regular basis for the maintenance of floors, including unit-dose capsules. Excludes stone and tile floors, see 'Stone, tile and grout cleaning/care products'.",63,64987]
[null,null,null,"PC-CLN-13.2 Floor care products e.g. waxes, emulsions",64,65145,null,"PC-CLN-13.2 Floor care products e.g. waxes, emulsions",64,65145,null,"PC-CLN-13.2 Floor care products e.g. waxes, emulsions",64,65145,null,"PC-CLN-13.2 Floor care products e.g. waxes, emulsions",64,65145]
[null,null,null,null,64,65145,null,null,64,65145,null,null,64,65145,null,null,64,65145]
[null,null,null,"PC-CLN-13.3 Floor strippers",65,64988,null,"PC-CLN-13.3 Floor strippers",65,64988,null,"PC-CLN-13.3 Floor strippers",65,64988,null,"PC-CLN-13.3 Floor strippers",65,64988]
[null,null,null,"Excludes paint strippers - see 'Paint removers, thinners and related auxiliaries'.",65,64988,null,"Excludes paint strippers - see 'Paint removers, thinners and related auxiliaries'.",65,64988,null,"Excludes paint strippers - see 'Paint removers, thinners and related auxiliaries'.",65,64988,null,"Excludes paint strippers - see 'Paint removers, thinners and related auxiliaries'.",65,64988]
[null,null,null,"PC-CLN-13.OTH Other floor cleaning, care and maintenance products (excludes stone and tile)",66,64990,null,"PC-CLN-13.OTH Other floor cleaning, care and maintenance products (excludes stone and tile)",66,64990,null,"PC-CLN-13.OTH Other floor cleaning, care and maintenance products (excludes stone and tile)",66,64990,null,"PC-CLN-13.OTH Other floor cleaning, care and maintenance products (excludes stone and tile)",66,64990]
[null,null,null,null,66,64990,null,null,66,64990,null,null,66,64990,null,null,66,64990]
[null,null,null,"PC-CLN-14 Carpet and upholstery products",67,null,null,"PC-CLN-14 Carpet and upholstery products",67,null,null,"PC-CLN-14 Carpet and upholstery products",67,null,null,"PC-CLN-14 Carpet and upholstery products",67]
[null,null,null,"Includes cleaning products for carpet and upholstery.",67,null,null,"Includes cleaning products for carpet and upholstery.",67,null,null,"Includes cleaning products for carpet and upholstery.",67,null,null,"Includes cleaning products for carpet and upholstery.",67]
[null,null,null,"PC-CLN-14.1 Cleaning products for carpet/upholstery",68,64991,null,"PC-CLN-14.1 Cleaning products for carpet/upholstery",68,64991,null,"PC-CLN-14.1 Cleaning products for carpet/upholstery",68,64991,null,"PC-CLN-14.1 Cleaning products for carpet/upholstery",68,64991]
[null,null,null,null,68,64991,null,null,68,64991,null,null,68,64991,null,null,68,64991]
[null,null,null,"PC-CLN-14.2 Deodorisers or fresheners for carpet/upholstery",69,64992,null,"PC-CLN-14.2 Deodorisers or fresheners for carpet/upholstery",69,64992,null,"PC-CLN-14.2 Deodorisers or fresheners for carpet/upholstery",69,64992,null,"PC-CLN-14.2 Deodorisers or fresheners for carpet/upholstery",69,64992]
[null,null,null,"Excludes textile fresheners - see 'Textile fresheners/deodorisers'.",69,64992,null,"Excludes textile fresheners - see 'Textile fresheners/deodorisers'.",69,64992,null,"Excludes textile fresheners - see 'Textile fresheners/deodorisers'.",69,64992,null,"Excludes textile fresheners - see 'Textile fresheners/deodorisers'.",69,64992]
[null,null,null,"PC-CLN-14.OTH Other carpet and upholstery products",70,64993,null,"PC-CLN-14.OTH Other carpet and upholstery products",70,64993,null,"PC-CLN-14.OTH Other carpet and upholstery products",70,64993,null,"PC-CLN-14.OTH Other carpet and upholstery products",70,64993]
[null,null,null,null,70,64993,null,null,70,64993,null,null,70,64993,null,null,70,64993]
[null,null,null,"PC-CLN-15 Cleaners for specific personal items",71,null,null,"PC-CLN-15 Cleaners for specific personal items",71,null,null,"PC-CLN-15 Cleaners for specific personal items",71,null,null,"PC-CLN-15 Cleaners for specific personal items",71]
[null,null,null,null,71,null,null,null,71,null,null,null,71,null,null,null,71]
[null,null,null,"PC-CLN-15.1 Cleaners for eyewear",72,64994,null,"PC-CLN-15.1 Cleaners for eyewear",72,64994,null,"PC-CLN-15.1 Cleaners for eyewear",72,64994,null,"PC-CLN-15.1 Cleaners for eyewear",72,64994]
[null,null,null,"Excludes contact lens cleaning solutions.",72,64994,null,"Excludes contact lens cleaning solutions.",72,64994,null,"Excludes contact lens cleaning solutions.",72,64994,null,"Excludes contact lens cleaning solutions.",72,64994]
[null,null,null,"PC-CLN-15.2 Cleaners for home electronic screens",73,64995,null,"PC-CLN-15.2 Cleaners for home electronic screens",73,64995,null,"PC-CLN-15.2 Cleaners for home electronic screens",73,64995,null,"PC-CLN-15.2 Cleaners for home electronic screens",73,64995]
[null,null,null,null,73,64995,null,null,73,64995,null,null,73,64995,null,null,73,64995]
[null,null,null,"PC-CLN-15.3 Cleaners for musical instruments",74,64996,null,"PC-CLN-15.3 Cleaners for musical instruments",74,64996,null,"PC-CLN-15.3 Cleaners for musical instruments",74,64996,null,"PC-CLN-15.3 Cleaners for musical instruments",74,64996]
[null,null,null,null,74,64996,null,null,74,64996,null,null,74,64996,null,null,74,64996]
[null,null,null,"PC-CLN-15.4 Metal polish/tarnish remover",75,64997,null,"PC-CLN-15.4 Metal polish/tarnish remover",75,64997,null,"PC-CLN-15.4 Metal polish/tarnish remover",75,64997,null,"PC-CLN-15.4 Metal polish/tarnish remover",75,64997]
[null,null,null,"Includes cleaners for jewellery, silverware and other metals such as brass, copper…",75,64997,null,"Includes cleaners for jewellery, silverware and other metals such as brass, copper…",75,64997,null,"Includes cleaners for jewellery, silverware and other metals such as brass, copper…",75,64997,null,"Includes cleaners for jewellery, silverware and other metals such as brass, copper…",75,64997]
[null,null,null,"PC-CLN-15.OTH Other cleaners for specific personal items",76,64998,null,"PC-CLN-15.OTH Other cleaners for specific personal items",76,64998,null,"PC-CLN-15.OTH Other cleaners for specific personal items",76,64998,null,"PC-CLN-15.OTH Other cleaners for specific personal items",76,64998]
[null,null,null,null,76,64998,null,null,76,64998,null,null,76,64998,null,null,76,64998]
[null,null,null,"PC-CLN-16 Textile and leather cleaning and care products (including footwear)",77,null,null,"PC-CLN-16 Textile and leather cleaning and care products (including footwear)",77,null,null,"PC-CLN-16 Textile and leather cleaning and care products (including footwear)",77,null,null,"PC-CLN-16 Textile and leather cleaning and care products (including footwear)",77]
[null,null,null,"Products for the cleaning and care of textile and leather goods including footwear. Excludes upholstery, see 'Carpet and upholstery products'; excludes colourants, see 'Dyes' or 'Pigments'.",77,null,null,"Products for the cleaning and care of textile and leather goods including footwear. Excludes upholstery, see 'Carpet and upholstery products'; excludes colourants, see 'Dyes' or 'Pigments'.",77,null,null,"Products for the cleaning and care of textile and leather goods including footwear. Excludes upholstery, see 'Carpet and upholstery products'; excludes colourants, see 'Dyes' or 'Pigments'.",77,null,null,"Products for the cleaning and care of textile and leather goods including footwear. Excludes upholstery, see 'Carpet and upholstery products'; excludes colourants, see 'Dyes' or 'Pigments'.",77]
[null,null,null,"PC-CLN-16.1 Leather - cleaning and care products",78,64999,null,"PC-CLN-16.1 Leather - cleaning and care products",78,64999,null,"PC-CLN-16.1 Leather - cleaning and care products",78,64999,null,"PC-CLN-16.1 Leather - cleaning and care products",78,64999]
[null,null,null,"Products intended to clean or condition leather articles such footwear, furniture and other leather goods in order to preserve or restore strength, appearance and flexibility (excludes 'Impregnation products').",78,64999,null,"Products intended to clean or condition leather articles such footwear, furniture and other leather goods in order to preserve or restore strength, appearance and flexibility (excludes 'Impregnation products').",78,64999,null,"Products intended to clean or condition leather articles such footwear, furniture and other leather goods in order to preserve or restore strength, appearance and flexibility (excludes 'Impregnation products').",78,64999,null,"Products intended to clean or condition leather articles such footwear, furniture and other leather goods in order to preserve or restore strength, appearance and flexibility (excludes 'Impregnation products').",78,64999]
[null,null,null,"PC-CLN-16.2 Textile footwear - cleaning products",79,65000,null,"PC-CLN-16.2 Textile footwear - cleaning products",79,65000,null,"PC-CLN-16.2 Textile footwear - cleaning products",79,65000,null,"PC-CLN-16.2 Textile footwear - cleaning products",79,65000]
[null,null,null,"Cleaning products for textile footwear (excluding leather footwear).",79,65000,null,"Cleaning products for textile footwear (excluding leather footwear).",79,65000,null,"Cleaning products for textile footwear (excluding leather footwear).",79,65000,null,"Cleaning products for textile footwear (excluding leather footwear).",79,65000]
[null,null,null,"PC-CLN-16.3 Textile fresheners/deodorisers",80,65001,null,"PC-CLN-16.3 Textile fresheners/deodorisers",80,65001,null,"PC-CLN-16.3 Textile fresheners/deodorisers",80,65001,null,"PC-CLN-16.3 Textile fresheners/deodorisers",80,65001]
[null,null,null,"Excludes air care products for footwear, see 'Air care products for shoes'.",80,65001,null,"Excludes air care products for footwear, see 'Air care products for shoes'.",80,65001,null,"Excludes air care products for footwear, see 'Air care products for shoes'.",80,65001,null,"Excludes air care products for footwear, see 'Air care products for shoes'.",80,65001]
[null,null,null,"PC-CLN-16.4 Dry cleaning and associated products",81,65002,null,"PC-CLN-16.4 Dry cleaning and associated products",81,65002,null,"PC-CLN-16.4 Dry cleaning and associated products",81,65002,null,"PC-CLN-16.4 Dry cleaning and associated products",81,65002]
[null,null,null,"Products intended to clean textiles in non-aqueous cleaning processes.",81,65002,null,"Products intended to clean textiles in non-aqueous cleaning processes.",81,65002,null,"Products intended to clean textiles in non-aqueous cleaning processes.",81,65002,null,"Products intended to clean textiles in non-aqueous cleaning processes.",81,65002]
[null,null,null,"PC-CLN-16.5 Impregnation products for finished textiles and leather goods",82,65003,null,"PC-CLN-16.5 Impregnation products for finished textiles and leather goods",82,65003,null,"PC-CLN-16.5 Impregnation products for finished textiles and leather goods",82,65003,null,"PC-CLN-16.5 Impregnation products for finished textiles and leather goods",82,65003]
[null,null,null,"Products intended for waterproofing or as a dirt repellent for finished textiles and leather goods. Does not include impregnation products used in the industrial processing of textiles or leather - see ‘Textile treatment products’ or ‘Leather treatment products’.",82,65003,null,"Products intended for waterproofing or as a dirt repellent for finished textiles and leather goods. Does not include impregnation products used in the industrial processing of textiles or leather - see ‘Textile treatment products’ or ‘Leather treatment products’.",82,65003,null,"Products intended for waterproofing or as a dirt repellent for finished textiles and leather goods. Does not include impregnation products used in the industrial processing of textiles or leather - see ‘Textile treatment products’ or ‘Leather treatment products’.",82,65003,null,"Products intended for waterproofing or as a dirt repellent for finished textiles and leather goods. Does not include impregnation products used in the industrial processing of textiles or leather - see ‘Textile treatment products’ or ‘Leather treatment products’.",82,65003]
[null,null,null,"PC-CLN-16.6 Outdoor textiles - cleaning products",83,65004,null,"PC-CLN-16.6 Outdoor textiles - cleaning products",83,65004,null,"PC-CLN-16.6 Outdoor textiles - cleaning products",83,65004,null,"PC-CLN-16.6 Outdoor textiles - cleaning products",83,65004]
[null,null,null,"Products intended to clean awnings, tents, tarpaulins, sails…",83,65004,null,"Products intended to clean awnings, tents, tarpaulins, sails…",83,65004,null,"Products intended to clean awnings, tents, tarpaulins, sails…",83,65004,null,"Products intended to clean awnings, tents, tarpaulins, sails…",83,65004]
[null,null,null,"PC-CLN-16.OTH Other textile and leather cleaning and care products (including footwear)",84,65005,null,"PC-CLN-16.OTH Other textile and leather cleaning and care products (including footwear)",84,65005,null,"PC-CLN-16.OTH Other textile and leather cleaning and care products (including footwear)",84,65005,null,"PC-CLN-16.OTH Other textile and leather cleaning and care products (including footwear)",84,65005]
[null,null,null,"Excludes colourants, see 'Dyes'.",84,65005,null,"Excludes colourants, see 'Dyes'.",84,65005,null,"Excludes colourants, see 'Dyes'.",84,65005,null,"Excludes colourants, see 'Dyes'.",84,65005]
[null,null,null,"PC-CLN-17 Vehicle (all types) cleaning and care products",85,null,null,"PC-CLN-17 Vehicle (all types) cleaning and care products",85,null,null,"PC-CLN-17 Vehicle (all types) cleaning and care products",85,null,null,"PC-CLN-17 Vehicle (all types) cleaning and care products",85]
[null,null,null,null,85,null,null,null,85,null,null,null,85,null,null,null,85]
[null,null,null,"PC-CLN-17.1 Exterior cleaning products - all vehicle types",86,65006,null,"PC-CLN-17.1 Exterior cleaning products - all vehicle types",86,65006,null,"PC-CLN-17.1 Exterior cleaning products - all vehicle types",86,65006,null,"PC-CLN-17.1 Exterior cleaning products - all vehicle types",86,65006]
[null,null,null,"Includes automotive shampoos and other products intended to remove dirt, grease and grime from car exteriors.",86,65006,null,"Includes automotive shampoos and other products intended to remove dirt, grease and grime from car exteriors.",86,65006,null,"Includes automotive shampoos and other products intended to remove dirt, grease and grime from car exteriors.",86,65006,null,"Includes automotive shampoos and other products intended to remove dirt, grease and grime from car exteriors.",86,65006]
[null,null,null,"PC-CLN-17.2 Exterior care products -  all vehicle types",87,65007,null,"PC-CLN-17.2 Exterior care products -  all vehicle types",87,65007,null,"PC-CLN-17.2 Exterior care products -  all vehicle types",87,65007,null,"PC-CLN-17.2 Exterior care products -  all vehicle types",87,65007]
[null,null,null,"Includes lacquers, polishes, waxes…",87,65007,null,"Includes lacquers, polishes, waxes…",87,65007,null,"Includes lacquers, polishes, waxes…",87,65007,null,"Includes lacquers, polishes, waxes…",87,65007]
[null,null,null,"PC-CLN-17.3 Interior cleaning and care products (excludes air care products, and products for upholstery or leather)",88,65008,null,"PC-CLN-17.3 Interior cleaning and care products (excludes air care products, and products for upholstery or leather)",88,65008,null,"PC-CLN-17.3 Interior cleaning and care products (excludes air care products, and products for upholstery or leather)",88,65008,null,"PC-CLN-17.3 Interior cleaning and care products (excludes air care products, and products for upholstery or leather)",88,65008]
[null,null,null,"Cleaning and care products used to clean interior surfaces of vehicles e.g. rubber, vinyl, plastic. For leather upholstery see 'Leather - cleaning and care products'. For fabric and textile upholstery cleaners, see 'Cleaning products for carpet/upholstery'.",88,65008,null,"Cleaning and care products used to clean interior surfaces of vehicles e.g. rubber, vinyl, plastic. For leather upholstery see 'Leather - cleaning and care products'. For fabric and textile upholstery cleaners, see 'Cleaning products for carpet/upholstery'.",88,65008,null,"Cleaning and care products used to clean interior surfaces of vehicles e.g. rubber, vinyl, plastic. For leather upholstery see 'Leather - cleaning and care products'. For fabric and textile upholstery cleaners, see 'Cleaning products for carpet/upholstery'.",88,65008,null,"Cleaning and care products used to clean interior surfaces of vehicles e.g. rubber, vinyl, plastic. For leather upholstery see 'Leather - cleaning and care products'. For fabric and textile upholstery cleaners, see 'Cleaning products for carpet/upholstery'.",88,65008]
[null,null,null,"PC-CLN-17.4 Engine cleaners",89,65009,null,"PC-CLN-17.4 Engine cleaners",89,65009,null,"PC-CLN-17.4 Engine cleaners",89,65009,null,"PC-CLN-17.4 Engine cleaners",89,65009]
[null,null,null,null,89,65009,null,null,89,65009,null,null,89,65009,null,null,89,65009]
[null,null,null,"PC-CLN-17.5 Brake cleaners",90,65010,null,"PC-CLN-17.5 Brake cleaners",90,65010,null,"PC-CLN-17.5 Brake cleaners",90,65010,null,"PC-CLN-17.5 Brake cleaners",90,65010]
[null,null,null,null,90,65010,null,null,90,65010,null,null,90,65010,null,null,90,65010]
[null,null,null,"PC-CLN-17.6 Chromium, rim and other metal cleaners -  all vehicle types",91,65011,null,"PC-CLN-17.6 Chromium, rim and other metal cleaners -  all vehicle types",91,65011,null,"PC-CLN-17.6 Chromium, rim and other metal cleaners -  all vehicle types",91,65011,null,"PC-CLN-17.6 Chromium, rim and other metal cleaners -  all vehicle types",91,65011]
[null,null,null,null,91,65011,null,null,91,65011,null,null,91,65011,null,null,91,65011]
[null,null,null,"PC-CLN-17.7 Windscreen/windshield cleaners",92,65012,null,"PC-CLN-17.7 Windscreen/windshield cleaners",92,65012,null,"PC-CLN-17.7 Windscreen/windshield cleaners",92,65012,null,"PC-CLN-17.7 Windscreen/windshield cleaners",92,65012]
[null,null,null,"Products intended to wash vehicular windscreens/windshields by direct application.",92,65012,null,"Products intended to wash vehicular windscreens/windshields by direct application.",92,65012,null,"Products intended to wash vehicular windscreens/windshields by direct application.",92,65012,null,"Products intended to wash vehicular windscreens/windshields by direct application.",92,65012]
[null,null,null,"PC-CLN-17.8 Windscreen/windshield wash fluid",93,65013,null,"PC-CLN-17.8 Windscreen/windshield wash fluid",93,65013,null,"PC-CLN-17.8 Windscreen/windshield wash fluid",93,65013,null,"PC-CLN-17.8 Windscreen/windshield wash fluid",93,65013]
[null,null,null,"Product added to vehicles for the cleaning of the windscreen by the windscreen wipers.",93,65013,null,"Product added to vehicles for the cleaning of the windscreen by the windscreen wipers.",93,65013,null,"Product added to vehicles for the cleaning of the windscreen by the windscreen wipers.",93,65013,null,"Product added to vehicles for the cleaning of the windscreen by the windscreen wipers.",93,65013]
[null,null,null,"PC-CLN-17.OTH Other vehicle (all types) cleaning and care products",94,65014,null,"PC-CLN-17.OTH Other vehicle (all types) cleaning and care products",94,65014,null,"PC-CLN-17.OTH Other vehicle (all types) cleaning and care products",94,65014,null,"PC-CLN-17.OTH Other vehicle (all types) cleaning and care products",94,65014]
[null,null,null,null,94,65014,null,null,94,65014,null,null,94,65014,null,null,94,65014]
[null,null,null,"PC-CLN-2 All-purpose (or multi-purpose) non-abrasive cleaners",38,64966,null,"PC-CLN-2 All-purpose (or multi-purpose) non-abrasive cleaners",38,64966,null,"PC-CLN-2 All-purpose (or multi-purpose) non-abrasive cleaners",38,64966,null,"PC-CLN-2 All-purpose (or multi-purpose) non-abrasive cleaners",38,64966]
[null,null,null,null,38,64966,null,null,38,64966,null,null,38,64966,null,null,38,64966]
[null,null,null,"PC-CLN-3 Bleaching products for cleaning or laundry use (excludes biocidal products)",39,64967,null,"PC-CLN-3 Bleaching products for cleaning or laundry use (excludes biocidal products)",39,64967,null,"PC-CLN-3 Bleaching products for cleaning or laundry use (excludes biocidal products)",39,64967,null,"PC-CLN-3 Bleaching products for cleaning or laundry use (excludes biocidal products)",39,64967]
[null,null,null,null,39,64967,null,null,39,64967,null,null,39,64967,null,null,39,64967]
[null,null,null,"PC-CLN-4 Descaling products",40,64968,null,"PC-CLN-4 Descaling products",40,64968,null,"PC-CLN-4 Descaling products",40,64968,null,"PC-CLN-4 Descaling products",40,64968]
[null,null,null,null,40,64968,null,null,40,64968,null,null,40,64968,null,null,40,64968]
[null,null,null,"PC-CLN-5 Drain cleaning products",41,64969,null,"PC-CLN-5 Drain cleaning products",41,64969,null,"PC-CLN-5 Drain cleaning products",41,64969,null,"PC-CLN-5 Drain cleaning products",41,64969]
[null,null,null,null,41,64969,null,null,41,64969,null,null,41,64969,null,null,41,64969]
[null,null,null,"PC-CLN-6 Fireplace and smoke resin cleaners",42,64970,null,"PC-CLN-6 Fireplace and smoke resin cleaners",42,64970,null,"PC-CLN-6 Fireplace and smoke resin cleaners",42,64970,null,"PC-CLN-6 Fireplace and smoke resin cleaners",42,64970]
[null,null,null,"Includes products for smokehouses and chimneys.",42,64970,null,"Includes products for smokehouses and chimneys.",42,64970,null,"Includes products for smokehouses and chimneys.",42,64970,null,"Includes products for smokehouses and chimneys.",42,64970]
[null,null,null,"PC-CLN-7 Glass/window/mirror cleaning products (excludes windscreens)",43,64971,null,"PC-CLN-7 Glass/window/mirror cleaning products (excludes windscreens)",43,64971,null,"PC-CLN-7 Glass/window/mirror cleaning products (excludes windscreens)",43,64971,null,"PC-CLN-7 Glass/window/mirror cleaning products (excludes windscreens)",43,64971]
[null,null,null,"For windscreen cleaners, see 'Windscreen/windshield cleaners'.",43,64971,null,"For windscreen cleaners, see 'Windscreen/windshield cleaners'.",43,64971,null,"For windscreen cleaners, see 'Windscreen/windshield cleaners'.",43,64971,null,"For windscreen cleaners, see 'Windscreen/windshield cleaners'.",43,64971]
[null,null,null,"PC-CLN-8 Indoor furniture cleaning/care products (excludes leather and upholstery)",44,64972,null,"PC-CLN-8 Indoor furniture cleaning/care products (excludes leather and upholstery)",44,64972,null,"PC-CLN-8 Indoor furniture cleaning/care products (excludes leather and upholstery)",44,64972,null,"PC-CLN-8 Indoor furniture cleaning/care products (excludes leather and upholstery)",44,64972]
[null,null,null,"Products for the cleaning and care of indoor wooden and other hard surface furniture. Includes general cleaning products, dust sprays, polishes, conditioners…",44,64972,null,"Products for the cleaning and care of indoor wooden and other hard surface furniture. Includes general cleaning products, dust sprays, polishes, conditioners…",44,64972,null,"Products for the cleaning and care of indoor wooden and other hard surface furniture. Includes general cleaning products, dust sprays, polishes, conditioners…",44,64972,null,"Products for the cleaning and care of indoor wooden and other hard surface furniture. Includes general cleaning products, dust sprays, polishes, conditioners…",44,64972]
[null,null,null,"PC-CLN-9 Outdoor cleaners (excludes stone, concrete and similar surfaces)",45,64973,null,"PC-CLN-9 Outdoor cleaners (excludes stone, concrete and similar surfaces)",45,64973,null,"PC-CLN-9 Outdoor cleaners (excludes stone, concrete and similar surfaces)",45,64973,null,"PC-CLN-9 Outdoor cleaners (excludes stone, concrete and similar surfaces)",45,64973]
[null,null,null,"Products for the cleaning and care for example, for garden furniture, wooden terraces and decks, fences…  (excludes biocidal products). For cleaning of outdoor pavements, pathways... see 'Heavy duty cleaning products for stone and similar surfaces'.",45,64973,null,"Products for the cleaning and care for example, for garden furniture, wooden terraces and decks, fences…  (excludes biocidal products). For cleaning of outdoor pavements, pathways... see 'Heavy duty cleaning products for stone and similar surfaces'.",45,64973,null,"Products for the cleaning and care for example, for garden furniture, wooden terraces and decks, fences…  (excludes biocidal products). For cleaning of outdoor pavements, pathways... see 'Heavy duty cleaning products for stone and similar surfaces'.",45,64973,null,"Products for the cleaning and care for example, for garden furniture, wooden terraces and decks, fences…  (excludes biocidal products). For cleaning of outdoor pavements, pathways... see 'Heavy duty cleaning products for stone and similar surfaces'.",45,64973]
[null,null,null,"PC-CLN-OTH Other cleaning, care and maintenance products (excludes biocidal products)",95,65015,null,"PC-CLN-OTH Other cleaning, care and maintenance products (excludes biocidal products)",95,65015,null,"PC-CLN-OTH Other cleaning, care and maintenance products (excludes biocidal products)",95,65015,null,"PC-CLN-OTH Other cleaning, care and maintenance products (excludes biocidal products)",95,65015]
[null,null,null,null,95,65015,null,null,95,65015,null,null,95,65015,null,null,95,65015]
[null,null,null,"PC-COL Colourants",96,null,null,"PC-COL Colourants",96,null,null,"PC-COL Colourants",96,null,null,"PC-COL Colourants",96]
[null,null,null,"Includes end-use products intended to impart colour e.g. to textiles, leather. For colourants with no end-use e.g. raw materials, see 'F - Mixtures for further formulation'.",96,null,null,"Includes end-use products intended to impart colour e.g. to textiles, leather. For colourants with no end-use e.g. raw materials, see 'F - Mixtures for further formulation'.",96,null,null,"Includes end-use products intended to impart colour e.g. to textiles, leather. For colourants with no end-use e.g. raw materials, see 'F - Mixtures for further formulation'.",96,null,null,"Includes end-use products intended to impart colour e.g. to textiles, leather. For colourants with no end-use e.g. raw materials, see 'F - Mixtures for further formulation'.",96]
[null,null,null,"PC-COL-1 Dyes",97,65016,null,"PC-COL-1 Dyes",97,65016,null,"PC-COL-1 Dyes",97,65016,null,"PC-COL-1 Dyes",97,65016]
[null,null,null,"Soluble colourants.",97,65016,null,"Soluble colourants.",97,65016,null,"Soluble colourants.",97,65016,null,"Soluble colourants.",97,65016]
[null,null,null,"PC-COL-2 Pigments",98,65017,null,"PC-COL-2 Pigments",98,65017,null,"PC-COL-2 Pigments",98,65017,null,"PC-COL-2 Pigments",98,65017]
[null,null,null,"Insoluble colourants.",98,65017,null,"Insoluble colourants.",98,65017,null,"Insoluble colourants.",98,65017,null,"Insoluble colourants.",98,65017]
[null,null,null,"PC-CON Construction products",99,null,null,"PC-CON Construction products",99,null,null,"PC-CON Construction products",99,null,null,"PC-CON Construction products",99]
[null,null,null,"Construction products include products for incorporation in construction works (building or engineering works) or parts of them (except biocidal products).",99,null,null,"Construction products include products for incorporation in construction works (building or engineering works) or parts of them (except biocidal products).",99,null,null,"Construction products include products for incorporation in construction works (building or engineering works) or parts of them (except biocidal products).",99,null,null,"Construction products include products for incorporation in construction works (building or engineering works) or parts of them (except biocidal products).",99]
[null,null,null,"PC-CON-1 Cement",100,65018,null,"PC-CON-1 Cement",100,65018,null,"PC-CON-1 Cement",100,65018,null,"PC-CON-1 Cement",100,65018]
[null,null,null,"Cement is a hydraulic binder, i.e. a finely ground inorganic material which, when mixed with water, forms a paste that sets and hardens by means of hydration reactions and processes after which, it retains its strength and stability even under water.",100,65018,null,"Cement is a hydraulic binder, i.e. a finely ground inorganic material which, when mixed with water, forms a paste that sets and hardens by means of hydration reactions and processes after which, it retains its strength and stability even under water.",100,65018,null,"Cement is a hydraulic binder, i.e. a finely ground inorganic material which, when mixed with water, forms a paste that sets and hardens by means of hydration reactions and processes after which, it retains its strength and stability even under water.",100,65018,null,"Cement is a hydraulic binder, i.e. a finely ground inorganic material which, when mixed with water, forms a paste that sets and hardens by means of hydration reactions and processes after which, it retains its strength and stability even under water.",100,65018]
[null,null,null,"PC-CON-2 Concrete",101,65019,null,"PC-CON-2 Concrete",101,65019,null,"PC-CON-2 Concrete",101,65019,null,"PC-CON-2 Concrete",101,65019]
[null,null,null,"Concrete is a product formed by mixing cement, coarse/fine aggregate and water (with or without the incorporation of admixtures and additions) which develops it's properties by hydration of the cement.",101,65019,null,"Concrete is a product formed by mixing cement, coarse/fine aggregate and water (with or without the incorporation of admixtures and additions) which develops it's properties by hydration of the cement.",101,65019,null,"Concrete is a product formed by mixing cement, coarse/fine aggregate and water (with or without the incorporation of admixtures and additions) which develops it's properties by hydration of the cement.",101,65019,null,"Concrete is a product formed by mixing cement, coarse/fine aggregate and water (with or without the incorporation of admixtures and additions) which develops it's properties by hydration of the cement.",101,65019]
[null,null,null,"PC-CON-3 Gypsum",102,65020,null,"PC-CON-3 Gypsum",102,65020,null,"PC-CON-3 Gypsum",102,65020,null,"PC-CON-3 Gypsum",102,65020]
[null,null,null,"Gypsum products are primarily based on calcium sulphate and include gypsum plasters, floor screeds and fillers.",102,65020,null,"Gypsum products are primarily based on calcium sulphate and include gypsum plasters, floor screeds and fillers.",102,65020,null,"Gypsum products are primarily based on calcium sulphate and include gypsum plasters, floor screeds and fillers.",102,65020,null,"Gypsum products are primarily based on calcium sulphate and include gypsum plasters, floor screeds and fillers.",102,65020]
[null,null,null,"PC-CON-4 Mortars",103,65021,null,"PC-CON-4 Mortars",103,65021,null,"PC-CON-4 Mortars",103,65021,null,"PC-CON-4 Mortars",103,65021]
[null,null,null,"Mortar is a generic term comprising masonry and repair mortars, plaster and renders, screeds and cement-based adhesives (for other non-cementitious adhesives see 'Adhesives and sealants - building and construction works').",103,65021,null,"Mortar is a generic term comprising masonry and repair mortars, plaster and renders, screeds and cement-based adhesives (for other non-cementitious adhesives see 'Adhesives and sealants - building and construction works').",103,65021,null,"Mortar is a generic term comprising masonry and repair mortars, plaster and renders, screeds and cement-based adhesives (for other non-cementitious adhesives see 'Adhesives and sealants - building and construction works').",103,65021,null,"Mortar is a generic term comprising masonry and repair mortars, plaster and renders, screeds and cement-based adhesives (for other non-cementitious adhesives see 'Adhesives and sealants - building and construction works').",103,65021]
[null,null,null,"PC-CON-5 Construction chemicals",104,65022,null,"PC-CON-5 Construction chemicals",104,65022,null,"PC-CON-5 Construction chemicals",104,65022,null,"PC-CON-5 Construction chemicals",104,65022]
[null,null,null,"Construction chemicals include products that are added to or on construction materials on the construction site: to improve workability or enhance performance e.g. admixtures and additives (polycarboxylates, polycondensate resins, cellulose ethers, siloxanes, biopolymers...) for concrete and mortar; for special functionality e.g. modified mineral mortar systems (repair mortars, renders, sealing and bonding products, e.g. polymer dispersions, epoxy resins, polyurethanes... ); for protecting the construction materials or the finished structure made out of them e.g. concrete release agents, hydrophobing agents, reactive resins, liquid applied membranes for waterproofing, modified bitumen- based emulsions for waterproofing….",104,65022,null,"Construction chemicals include products that are added to or on construction materials on the construction site: to improve workability or enhance performance e.g. admixtures and additives (polycarboxylates, polycondensate resins, cellulose ethers, siloxanes, biopolymers...) for concrete and mortar; for special functionality e.g. modified mineral mortar systems (repair mortars, renders, sealing and bonding products, e.g. polymer dispersions, epoxy resins, polyurethanes... ); for protecting the construction materials or the finished structure made out of them e.g. concrete release agents, hydrophobing agents, reactive resins, liquid applied membranes for waterproofing, modified bitumen- based emulsions for waterproofing….",104,65022,null,"Construction chemicals include products that are added to or on construction materials on the construction site: to improve workability or enhance performance e.g. admixtures and additives (polycarboxylates, polycondensate resins, cellulose ethers, siloxanes, biopolymers...) for concrete and mortar; for special functionality e.g. modified mineral mortar systems (repair mortars, renders, sealing and bonding products, e.g. polymer dispersions, epoxy resins, polyurethanes... ); for protecting the construction materials or the finished structure made out of them e.g. concrete release agents, hydrophobing agents, reactive resins, liquid applied membranes for waterproofing, modified bitumen- based emulsions for waterproofing….",104,65022,null,"Construction chemicals include products that are added to or on construction materials on the construction site: to improve workability or enhance performance e.g. admixtures and additives (polycarboxylates, polycondensate resins, cellulose ethers, siloxanes, biopolymers...) for concrete and mortar; for special functionality e.g. modified mineral mortar systems (repair mortars, renders, sealing and bonding products, e.g. polymer dispersions, epoxy resins, polyurethanes... ); for protecting the construction materials or the finished structure made out of them e.g. concrete release agents, hydrophobing agents, reactive resins, liquid applied membranes for waterproofing, modified bitumen- based emulsions for waterproofing….",104,65022]
[null,null,null,"PC-CON-OTH Other construction products",105,65023,null,"PC-CON-OTH Other construction products",105,65023,null,"PC-CON-OTH Other construction products",105,65023,null,"PC-CON-OTH Other construction products",105,65023]
[null,null,null,null,105,65023,null,null,105,65023,null,null,105,65023,null,null,105,65023]
[null,null,null,"PC-DET Detergents and auxiliaries for laundry and dishwashing (excludes biocidal products)",106,null,null,"PC-DET Detergents and auxiliaries for laundry and dishwashing (excludes biocidal products)",106,null,null,"PC-DET Detergents and auxiliaries for laundry and dishwashing (excludes biocidal products)",106,null,null,"PC-DET Detergents and auxiliaries for laundry and dishwashing (excludes biocidal products)",106]
[null,null,null,"Products containing soaps and/or other surfactants intended for washing and cleaning processes. Detergents may be in any form (liquid, powder, paste, bar, cake, moulded piece, shape, etc.) and marketed for or used in household, or professional or industrial purposes.",106,null,null,"Products containing soaps and/or other surfactants intended for washing and cleaning processes. Detergents may be in any form (liquid, powder, paste, bar, cake, moulded piece, shape, etc.) and marketed for or used in household, or professional or industrial purposes.",106,null,null,"Products containing soaps and/or other surfactants intended for washing and cleaning processes. Detergents may be in any form (liquid, powder, paste, bar, cake, moulded piece, shape, etc.) and marketed for or used in household, or professional or industrial purposes.",106,null,null,"Products containing soaps and/or other surfactants intended for washing and cleaning processes. Detergents may be in any form (liquid, powder, paste, bar, cake, moulded piece, shape, etc.) and marketed for or used in household, or professional or industrial purposes.",106]
[null,null,null,"PC-DET-1 Laundry detergents",107,null,null,"PC-DET-1 Laundry detergents",107,null,null,"PC-DET-1 Laundry detergents",107,null,null,"PC-DET-1 Laundry detergents",107]
[null,null,null,"This category covers products for the washing and conditioning of laundry in household (including in launderettes and common laundries) and industrial washing machines.",107,null,null,"This category covers products for the washing and conditioning of laundry in household (including in launderettes and common laundries) and industrial washing machines.",107,null,null,"This category covers products for the washing and conditioning of laundry in household (including in launderettes and common laundries) and industrial washing machines.",107,null,null,"This category covers products for the washing and conditioning of laundry in household (including in launderettes and common laundries) and industrial washing machines.",107]
[null,null,null,"PC-DET-1.1 Laundry detergent for hand washing",108,65024,null,"PC-DET-1.1 Laundry detergent for hand washing",108,65024,null,"PC-DET-1.1 Laundry detergent for hand washing",108,65024,null,"PC-DET-1.1 Laundry detergent for hand washing",108,65024]
[null,null,null,"A detergent product to be used specifically for the hand washing of laundry.",108,65024,null,"A detergent product to be used specifically for the hand washing of laundry.",108,65024,null,"A detergent product to be used specifically for the hand washing of laundry.",108,65024,null,"A detergent product to be used specifically for the hand washing of laundry.",108,65024]
[null,null,null,"PC-DET-1.2 Laundry detergents - household use",109,65025,null,"PC-DET-1.2 Laundry detergents - household use",109,65025,null,"PC-DET-1.2 Laundry detergents - household use",109,65025,null,"PC-DET-1.2 Laundry detergents - household use",109,65025]
[null,null,null,"Includes unit-dose capsules.",109,65025,null,"Includes unit-dose capsules.",109,65025,null,"Includes unit-dose capsules.",109,65025,null,"Includes unit-dose capsules.",109,65025]
[null,null,null,"PC-DET-1.3 Laundry detergents - professional or industrial use",110,65026,null,"PC-DET-1.3 Laundry detergents - professional or industrial use",110,65026,null,"PC-DET-1.3 Laundry detergents - professional or industrial use",110,65026,null,"PC-DET-1.3 Laundry detergents - professional or industrial use",110,65026]
[null,null,null,"Includes unit-dose capsules.",110,65026,null,"Includes unit-dose capsules.",110,65026,null,"Includes unit-dose capsules.",110,65026,null,"Includes unit-dose capsules.",110,65026]
[null,null,null,"PC-DET-1.OTH Other laundry detergents",111,65027,null,"PC-DET-1.OTH Other laundry detergents",111,65027,null,"PC-DET-1.OTH Other laundry detergents",111,65027,null,"PC-DET-1.OTH Other laundry detergents",111,65027]
[null,null,null,null,111,65027,null,null,111,65027,null,null,111,65027,null,null,111,65027]
[null,null,null,"PC-DET-2 Auxiliary laundry and care products (excludes biocidal products)",112,null,null,"PC-DET-2 Auxiliary laundry and care products (excludes biocidal products)",112,null,null,"PC-DET-2 Auxiliary laundry and care products (excludes biocidal products)",112,null,null,"PC-DET-2 Auxiliary laundry and care products (excludes biocidal products)",112]
[null,null,null,"Excludes laundry bleaches, see 'Bleaching products for cleaning or laundry use (excludes biocidal products)'; excludes textile fresheners, see 'Textile fresheners/deodorisers'.",112,null,null,"Excludes laundry bleaches, see 'Bleaching products for cleaning or laundry use (excludes biocidal products)'; excludes textile fresheners, see 'Textile fresheners/deodorisers'.",112,null,null,"Excludes laundry bleaches, see 'Bleaching products for cleaning or laundry use (excludes biocidal products)'; excludes textile fresheners, see 'Textile fresheners/deodorisers'.",112,null,null,"Excludes laundry bleaches, see 'Bleaching products for cleaning or laundry use (excludes biocidal products)'; excludes textile fresheners, see 'Textile fresheners/deodorisers'.",112]
[null,null,null,"PC-DET-2.1 Detergency boosters and in-wash stain removers",113,65028,null,"PC-DET-2.1 Detergency boosters and in-wash stain removers",113,65028,null,"PC-DET-2.1 Detergency boosters and in-wash stain removers",113,65028,null,"PC-DET-2.1 Detergency boosters and in-wash stain removers",113,65028]
[null,null,null,"In-wash products intended to enhance the cleaning performance of the washing process or remove stains from textiles.",113,65028,null,"In-wash products intended to enhance the cleaning performance of the washing process or remove stains from textiles.",113,65028,null,"In-wash products intended to enhance the cleaning performance of the washing process or remove stains from textiles.",113,65028,null,"In-wash products intended to enhance the cleaning performance of the washing process or remove stains from textiles.",113,65028]
[null,null,null,"PC-DET-2.2 Fabric softeners",114,65029,null,"PC-DET-2.2 Fabric softeners",114,65029,null,"PC-DET-2.2 Fabric softeners",114,65029,null,"PC-DET-2.2 Fabric softeners",114,65029]
[null,null,null,"Products intended to modify the feel of fabrics in processes which are to complement the washing of fabrics.",114,65029,null,"Products intended to modify the feel of fabrics in processes which are to complement the washing of fabrics.",114,65029,null,"Products intended to modify the feel of fabrics in processes which are to complement the washing of fabrics.",114,65029,null,"Products intended to modify the feel of fabrics in processes which are to complement the washing of fabrics.",114,65029]
[null,null,null,"PC-DET-2.3 Ironing aid products",115,65030,null,"PC-DET-2.3 Ironing aid products",115,65030,null,"PC-DET-2.3 Ironing aid products",115,65030,null,"PC-DET-2.3 Ironing aid products",115,65030]
[null,null,null,null,115,65030,null,null,115,65030,null,null,115,65030,null,null,115,65030]
[null,null,null,"PC-DET-2.4 Laundry starch",116,65031,null,"PC-DET-2.4 Laundry starch",116,65031,null,"PC-DET-2.4 Laundry starch",116,65031,null,"PC-DET-2.4 Laundry starch",116,65031]
[null,null,null,null,116,65031,null,null,116,65031,null,null,116,65031,null,null,116,65031]
[null,null,null,"PC-DET-2.5 Pre-treatment stain removers",117,65032,null,"PC-DET-2.5 Pre-treatment stain removers",117,65032,null,"PC-DET-2.5 Pre-treatment stain removers",117,65032,null,"PC-DET-2.5 Pre-treatment stain removers",117,65032]
[null,null,null,"Products intended to treat stains before the washing process.",117,65032,null,"Products intended to treat stains before the washing process.",117,65032,null,"Products intended to treat stains before the washing process.",117,65032,null,"Products intended to treat stains before the washing process.",117,65032]
[null,null,null,"PC-DET-2.6 Rinse agents for laundry (excludes biocidal products)",118,65033,null,"PC-DET-2.6 Rinse agents for laundry (excludes biocidal products)",118,65033,null,"PC-DET-2.6 Rinse agents for laundry (excludes biocidal products)",118,65033,null,"PC-DET-2.6 Rinse agents for laundry (excludes biocidal products)",118,65033]
[null,null,null,null,118,65033,null,null,118,65033,null,null,118,65033,null,null,118,65033]
[null,null,null,"PC-DET-2.7 Washing machine care agents",119,65034,null,"PC-DET-2.7 Washing machine care agents",119,65034,null,"PC-DET-2.7 Washing machine care agents",119,65034,null,"PC-DET-2.7 Washing machine care agents",119,65034]
[null,null,null,"Does not apply to products that are only used to deodorise, see 'Ambient deodorisers '.",119,65034,null,"Does not apply to products that are only used to deodorise, see 'Ambient deodorisers '.",119,65034,null,"Does not apply to products that are only used to deodorise, see 'Ambient deodorisers '.",119,65034,null,"Does not apply to products that are only used to deodorise, see 'Ambient deodorisers '.",119,65034]
[null,null,null,"PC-DET-2.8 Whitening agents or optical brighteners",120,65035,null,"PC-DET-2.8 Whitening agents or optical brighteners",120,65035,null,"PC-DET-2.8 Whitening agents or optical brighteners",120,65035,null,"PC-DET-2.8 Whitening agents or optical brighteners",120,65035]
[null,null,null,"Whitening agents or optical brighteners are fluorescent whitening agents that reflect the ultra-violet rays of the sun as white, visible light, giving the clothing an impression of whiteness.",120,65035,null,"Whitening agents or optical brighteners are fluorescent whitening agents that reflect the ultra-violet rays of the sun as white, visible light, giving the clothing an impression of whiteness.",120,65035,null,"Whitening agents or optical brighteners are fluorescent whitening agents that reflect the ultra-violet rays of the sun as white, visible light, giving the clothing an impression of whiteness.",120,65035,null,"Whitening agents or optical brighteners are fluorescent whitening agents that reflect the ultra-violet rays of the sun as white, visible light, giving the clothing an impression of whiteness.",120,65035]
[null,null,null,"PC-DET-2.OTH Other auxiliary laundry and care products (excludes biocidal products)",121,65036,null,"PC-DET-2.OTH Other auxiliary laundry and care products (excludes biocidal products)",121,65036,null,"PC-DET-2.OTH Other auxiliary laundry and care products (excludes biocidal products)",121,65036,null,"PC-DET-2.OTH Other auxiliary laundry and care products (excludes biocidal products)",121,65036]
[null,null,null,null,121,65036,null,null,121,65036,null,null,121,65036,null,null,121,65036]
[null,null,null,"PC-DET-3 Dishwashing detergents",122,null,null,"PC-DET-3 Dishwashing detergents",122,null,null,"PC-DET-3 Dishwashing detergents",122,null,null,"PC-DET-3 Dishwashing detergents",122]
[null,null,null,"Includes unit dose.",122,null,null,"Includes unit dose.",122,null,null,"Includes unit dose.",122,null,null,"Includes unit dose.",122]
[null,null,null,"PC-DET-3.1 Automatic dishwashing detergents - household use",123,65037,null,"PC-DET-3.1 Automatic dishwashing detergents - household use",123,65037,null,"PC-DET-3.1 Automatic dishwashing detergents - household use",123,65037,null,"PC-DET-3.1 Automatic dishwashing detergents - household use",123,65037]
[null,null,null,null,123,65037,null,null,123,65037,null,null,123,65037,null,null,123,65037]
[null,null,null,"PC-DET-3.2 Automatic dishwashing detergents - professional or industrial use",124,65038,null,"PC-DET-3.2 Automatic dishwashing detergents - professional or industrial use",124,65038,null,"PC-DET-3.2 Automatic dishwashing detergents - professional or industrial use",124,65038,null,"PC-DET-3.2 Automatic dishwashing detergents - professional or industrial use",124,65038]
[null,null,null,"Products primarily for use e.g. in professional restaurants, institutional settings...",124,65038,null,"Products primarily for use e.g. in professional restaurants, institutional settings...",124,65038,null,"Products primarily for use e.g. in professional restaurants, institutional settings...",124,65038,null,"Products primarily for use e.g. in professional restaurants, institutional settings...",124,65038]
[null,null,null,"PC-DET-3.3 Hand dishwashing detergents",125,65039,null,"PC-DET-3.3 Hand dishwashing detergents",125,65039,null,"PC-DET-3.3 Hand dishwashing detergents",125,65039,null,"PC-DET-3.3 Hand dishwashing detergents",125,65039]
[null,null,null,"Detergents intended to be used to wash dishes by hand.",125,65039,null,"Detergents intended to be used to wash dishes by hand.",125,65039,null,"Detergents intended to be used to wash dishes by hand.",125,65039,null,"Detergents intended to be used to wash dishes by hand.",125,65039]
[null,null,null,"PC-DET-3.OTH Other dishwashing detergents",126,65040,null,"PC-DET-3.OTH Other dishwashing detergents",126,65040,null,"PC-DET-3.OTH Other dishwashing detergents",126,65040,null,"PC-DET-3.OTH Other dishwashing detergents",126,65040]
[null,null,null,null,126,65040,null,null,126,65040,null,null,126,65040,null,null,126,65040]
[null,null,null,"PC-DET-4 Auxiliary dishwashing and care products",127,null,null,"PC-DET-4 Auxiliary dishwashing and care products",127,null,null,"PC-DET-4 Auxiliary dishwashing and care products",127,null,null,"PC-DET-4 Auxiliary dishwashing and care products",127]
[null,null,null,null,127,null,null,null,127,null,null,null,127,null,null,null,127]
[null,null,null,"PC-DET-4.1 Dishwasher salt",128,65041,null,"PC-DET-4.1 Dishwasher salt",128,65041,null,"PC-DET-4.1 Dishwasher salt",128,65041,null,"PC-DET-4.1 Dishwasher salt",128,65041]
[null,null,null,null,128,65041,null,null,128,65041,null,null,128,65041,null,null,128,65041]
[null,null,null,"PC-DET-4.2 Dishwashing machine care agents",129,65042,null,"PC-DET-4.2 Dishwashing machine care agents",129,65042,null,"PC-DET-4.2 Dishwashing machine care agents",129,65042,null,"PC-DET-4.2 Dishwashing machine care agents",129,65042]
[null,null,null,"Includes anti corrosion products. Does not apply to products that are only intended to deodorise, see 'Ambient deodorisers '.",129,65042,null,"Includes anti corrosion products. Does not apply to products that are only intended to deodorise, see 'Ambient deodorisers '.",129,65042,null,"Includes anti corrosion products. Does not apply to products that are only intended to deodorise, see 'Ambient deodorisers '.",129,65042,null,"Includes anti corrosion products. Does not apply to products that are only intended to deodorise, see 'Ambient deodorisers '.",129,65042]
[null,null,null,"PC-DET-4.3 Glass protection products",130,65043,null,"PC-DET-4.3 Glass protection products",130,65043,null,"PC-DET-4.3 Glass protection products",130,65043,null,"PC-DET-4.3 Glass protection products",130,65043]
[null,null,null,null,130,65043,null,null,130,65043,null,null,130,65043,null,null,130,65043]
[null,null,null,"PC-DET-4.4 Rinse agents for dishes",131,65044,null,"PC-DET-4.4 Rinse agents for dishes",131,65044,null,"PC-DET-4.4 Rinse agents for dishes",131,65044,null,"PC-DET-4.4 Rinse agents for dishes",131,65044]
[null,null,null,"Products intended to improve rinsing and prevent filming on dishes.",131,65044,null,"Products intended to improve rinsing and prevent filming on dishes.",131,65044,null,"Products intended to improve rinsing and prevent filming on dishes.",131,65044,null,"Products intended to improve rinsing and prevent filming on dishes.",131,65044]
[null,null,null,"PC-DET-4.OTH Other auxiliary dishwashing and care products",132,65045,null,"PC-DET-4.OTH Other auxiliary dishwashing and care products",132,65045,null,"PC-DET-4.OTH Other auxiliary dishwashing and care products",132,65045,null,"PC-DET-4.OTH Other auxiliary dishwashing and care products",132,65045]
[null,null,null,null,132,65045,null,null,132,65045,null,null,132,65045,null,null,132,65045]
[null,null,null,"PC-ELQ E-liquids and mixtures for electronic cigarettes",133,null,null,"PC-ELQ E-liquids and mixtures for electronic cigarettes",133,null,null,"PC-ELQ E-liquids and mixtures for electronic cigarettes",133,null,null,"PC-ELQ E-liquids and mixtures for electronic cigarettes",133]
[null,null,null,null,133,null,null,null,133,null,null,null,133,null,null,null,133]
[null,null,null,"PC-ELQ-1 E-liquids for electronic cigarettes",134,107824,null,"PC-ELQ-1 E-liquids for electronic cigarettes",134,107824,null,"PC-ELQ-1 E-liquids for electronic cigarettes",134,107824,null,"PC-ELQ-1 E-liquids for electronic cigarettes",134,107824]
[null,null,null,"E-liquids for electronic cigarettes are mixtures, which are supplied to the end-user as ready-for-use products for vaping.",134,107824,null,"E-liquids for electronic cigarettes are mixtures, which are supplied to the end-user as ready-for-use products for vaping.",134,107824,null,"E-liquids for electronic cigarettes are mixtures, which are supplied to the end-user as ready-for-use products for vaping.",134,107824,null,"E-liquids for electronic cigarettes are mixtures, which are supplied to the end-user as ready-for-use products for vaping.",134,107824]
[null,null,null,"PC-ELQ-2 Mixtures for e-liquids",135,107825,null,"PC-ELQ-2 Mixtures for e-liquids",135,107825,null,"PC-ELQ-2 Mixtures for e-liquids",135,107825,null,"PC-ELQ-2 Mixtures for e-liquids",135,107825]
[null,null,null,"Mixtures for e-liquids are supplied as part of the so-called self-mixing kits, where the user is responsible for preparing the final e-liquid based on the specific instructions of the supplier. These mixtures are not intended for use in electronic cigarettes as such.",135,107825,null,"Mixtures for e-liquids are supplied as part of the so-called self-mixing kits, where the user is responsible for preparing the final e-liquid based on the specific instructions of the supplier. These mixtures are not intended for use in electronic cigarettes as such.",135,107825,null,"Mixtures for e-liquids are supplied as part of the so-called self-mixing kits, where the user is responsible for preparing the final e-liquid based on the specific instructions of the supplier. These mixtures are not intended for use in electronic cigarettes as such.",135,107825,null,"Mixtures for e-liquids are supplied as part of the so-called self-mixing kits, where the user is responsible for preparing the final e-liquid based on the specific instructions of the supplier. These mixtures are not intended for use in electronic cigarettes as such.",135,107825]
[null,null,null,"PC-FER Fertilisers and fertilising products",136,null,null,"PC-FER Fertilisers and fertilising products",136,null,null,"PC-FER Fertilisers and fertilising products",136,null,null,"PC-FER Fertilisers and fertilising products",136]
[null,null,null,"Products applied or intended to be applied, either on its own or mixed with another material, on plants or their rhizosphere for the purpose of providing plants with nutrient or improving their nutrition efficiency. Excludes 'Soil remediation products' used for contaminated areas.",136,null,null,"Products applied or intended to be applied, either on its own or mixed with another material, on plants or their rhizosphere for the purpose of providing plants with nutrient or improving their nutrition efficiency. Excludes 'Soil remediation products' used for contaminated areas.",136,null,null,"Products applied or intended to be applied, either on its own or mixed with another material, on plants or their rhizosphere for the purpose of providing plants with nutrient or improving their nutrition efficiency. Excludes 'Soil remediation products' used for contaminated areas.",136,null,null,"Products applied or intended to be applied, either on its own or mixed with another material, on plants or their rhizosphere for the purpose of providing plants with nutrient or improving their nutrition efficiency. Excludes 'Soil remediation products' used for contaminated areas.",136]
[null,null,null,"PC-FER-1 Fertilisers",137,65047,null,"PC-FER-1 Fertilisers",137,65047,null,"PC-FER-1 Fertilisers",137,65047,null,"PC-FER-1 Fertilisers",137,65047]
[null,null,null,"Products primarily aimed at providing nutrients to plants. Includes fertilisers mixed, for example, with inhibitors or chelating agents.",137,65047,null,"Products primarily aimed at providing nutrients to plants. Includes fertilisers mixed, for example, with inhibitors or chelating agents.",137,65047,null,"Products primarily aimed at providing nutrients to plants. Includes fertilisers mixed, for example, with inhibitors or chelating agents.",137,65047,null,"Products primarily aimed at providing nutrients to plants. Includes fertilisers mixed, for example, with inhibitors or chelating agents.",137,65047]
[null,null,null,"PC-FER-2 Liming material",138,65048,null,"PC-FER-2 Liming material",138,65048,null,"PC-FER-2 Liming material",138,65048,null,"PC-FER-2 Liming material",138,65048]
[null,null,null,"Products aimed at correcting soil acidity, and containing oxides, hydroxides, carbonates or silicates of the nutrients calcium (Ca) or magnesium (Mg).",138,65048,null,"Products aimed at correcting soil acidity, and containing oxides, hydroxides, carbonates or silicates of the nutrients calcium (Ca) or magnesium (Mg).",138,65048,null,"Products aimed at correcting soil acidity, and containing oxides, hydroxides, carbonates or silicates of the nutrients calcium (Ca) or magnesium (Mg).",138,65048,null,"Products aimed at correcting soil acidity, and containing oxides, hydroxides, carbonates or silicates of the nutrients calcium (Ca) or magnesium (Mg).",138,65048]
[null,null,null,"PC-FER-3 Soil improvers",139,65049,null,"PC-FER-3 Soil improvers",139,65049,null,"PC-FER-3 Soil improvers",139,65049,null,"PC-FER-3 Soil improvers",139,65049]
[null,null,null,"Products aimed at being added to the soil for the purpose of maintaining, improving or protecting the physical or chemical properties, the structure or the biological activity of soil.",139,65049,null,"Products aimed at being added to the soil for the purpose of maintaining, improving or protecting the physical or chemical properties, the structure or the biological activity of soil.",139,65049,null,"Products aimed at being added to the soil for the purpose of maintaining, improving or protecting the physical or chemical properties, the structure or the biological activity of soil.",139,65049,null,"Products aimed at being added to the soil for the purpose of maintaining, improving or protecting the physical or chemical properties, the structure or the biological activity of soil.",139,65049]
[null,null,null,"PC-FER-4 Growing media",140,65050,null,"PC-FER-4 Growing media",140,65050,null,"PC-FER-4 Growing media",140,65050,null,"PC-FER-4 Growing media",140,65050]
[null,null,null,"A growing material shall be a material other than soil intended for use as a substrate for root development.",140,65050,null,"A growing material shall be a material other than soil intended for use as a substrate for root development.",140,65050,null,"A growing material shall be a material other than soil intended for use as a substrate for root development.",140,65050,null,"A growing material shall be a material other than soil intended for use as a substrate for root development.",140,65050]
[null,null,null,"PC-FER-5 Agronomic additives",141,65051,null,"PC-FER-5 Agronomic additives",141,65051,null,"PC-FER-5 Agronomic additives",141,65051,null,"PC-FER-5 Agronomic additives",141,65051]
[null,null,null,"Products intended to be added to a product providing plants with nutrient, with the intention to improve that products’ nutrient release patterns.",141,65051,null,"Products intended to be added to a product providing plants with nutrient, with the intention to improve that products’ nutrient release patterns.",141,65051,null,"Products intended to be added to a product providing plants with nutrient, with the intention to improve that products’ nutrient release patterns.",141,65051,null,"Products intended to be added to a product providing plants with nutrient, with the intention to improve that products’ nutrient release patterns.",141,65051]
[null,null,null,"PC-FER-6 Plant biostimulants",142,65052,null,"PC-FER-6 Plant biostimulants",142,65052,null,"PC-FER-6 Plant biostimulants",142,65052,null,"PC-FER-6 Plant biostimulants",142,65052]
[null,null,null,"Products stimulating plant nutrition processes independently of the product’s nutrient content with the sole aim of improving one or more of the following characteristics of the plant: (a) nutrient use efficiency; (b) tolerance to abiotic stress or (c) crop quality traits.",142,65052,null,"Products stimulating plant nutrition processes independently of the product’s nutrient content with the sole aim of improving one or more of the following characteristics of the plant: (a) nutrient use efficiency; (b) tolerance to abiotic stress or (c) crop quality traits.",142,65052,null,"Products stimulating plant nutrition processes independently of the product’s nutrient content with the sole aim of improving one or more of the following characteristics of the plant: (a) nutrient use efficiency; (b) tolerance to abiotic stress or (c) crop quality traits.",142,65052,null,"Products stimulating plant nutrition processes independently of the product’s nutrient content with the sole aim of improving one or more of the following characteristics of the plant: (a) nutrient use efficiency; (b) tolerance to abiotic stress or (c) crop quality traits.",142,65052]
[null,null,null,"PC-FER-7 Combination of fertilisers and fertilising products",143,65053,null,"PC-FER-7 Combination of fertilisers and fertilising products",143,65053,null,"PC-FER-7 Combination of fertilisers and fertilising products",143,65053,null,"PC-FER-7 Combination of fertilisers and fertilising products",143,65053]
[null,null,null,"Includes products containing a combination of fertiliser and fertilising product categories. Does not apply to products where the primary aim is to provide nutrition, see 'Fertilisers'.",143,65053,null,"Includes products containing a combination of fertiliser and fertilising product categories. Does not apply to products where the primary aim is to provide nutrition, see 'Fertilisers'.",143,65053,null,"Includes products containing a combination of fertiliser and fertilising product categories. Does not apply to products where the primary aim is to provide nutrition, see 'Fertilisers'.",143,65053,null,"Includes products containing a combination of fertiliser and fertilising product categories. Does not apply to products where the primary aim is to provide nutrition, see 'Fertilisers'.",143,65053]
[null,null,null,"PC-FUE Fuels (and fuel additives)",144,null,null,"PC-FUE Fuels (and fuel additives)",144,null,null,"PC-FUE Fuels (and fuel additives)",144,null,null,"PC-FUE Fuels (and fuel additives)",144]
[null,null,null,"Includes fuels for vehicles and machinery, lamp oils (e.g. for decorative lamps), grill lighter fluids and lamp fuels for portable devices (e.g. for outdoor cooking).",144,null,null,"Includes fuels for vehicles and machinery, lamp oils (e.g. for decorative lamps), grill lighter fluids and lamp fuels for portable devices (e.g. for outdoor cooking).",144,null,null,"Includes fuels for vehicles and machinery, lamp oils (e.g. for decorative lamps), grill lighter fluids and lamp fuels for portable devices (e.g. for outdoor cooking).",144,null,null,"Includes fuels for vehicles and machinery, lamp oils (e.g. for decorative lamps), grill lighter fluids and lamp fuels for portable devices (e.g. for outdoor cooking).",144]
[null,null,null,"PC-FUE-1 Fuels for vehicles and machinery",145,65054,null,"PC-FUE-1 Fuels for vehicles and machinery",145,65054,null,"PC-FUE-1 Fuels for vehicles and machinery",145,65054,null,"PC-FUE-1 Fuels for vehicles and machinery",145,65054]
[null,null,null,null,145,65054,null,null,145,65054,null,null,145,65054,null,null,145,65054]
[null,null,null,"PC-FUE-2 Lamp oils",146,65055,null,"PC-FUE-2 Lamp oils",146,65055,null,"PC-FUE-2 Lamp oils",146,65055,null,"PC-FUE-2 Lamp oils",146,65055]
[null,null,null,"Includes scented and unscented lamp oils.",146,65055,null,"Includes scented and unscented lamp oils.",146,65055,null,"Includes scented and unscented lamp oils.",146,65055,null,"Includes scented and unscented lamp oils.",146,65055]
[null,null,null,"PC-FUE-3 Grill lighter fluids",147,65056,null,"PC-FUE-3 Grill lighter fluids",147,65056,null,"PC-FUE-3 Grill lighter fluids",147,65056,null,"PC-FUE-3 Grill lighter fluids",147,65056]
[null,null,null,"Lighter fluids e.g. for charcoal grills.",147,65056,null,"Lighter fluids e.g. for charcoal grills.",147,65056,null,"Lighter fluids e.g. for charcoal grills.",147,65056,null,"Lighter fluids e.g. for charcoal grills.",147,65056]
[null,null,null,"PC-FUE-4 Camp fuels",148,65057,null,"PC-FUE-4 Camp fuels",148,65057,null,"PC-FUE-4 Camp fuels",148,65057,null,"PC-FUE-4 Camp fuels",148,65057]
[null,null,null,"Fuels for portable heating, cooking and lighting devices e.g. camping stoves and lanterns (excludes lamp oils).",148,65057,null,"Fuels for portable heating, cooking and lighting devices e.g. camping stoves and lanterns (excludes lamp oils).",148,65057,null,"Fuels for portable heating, cooking and lighting devices e.g. camping stoves and lanterns (excludes lamp oils).",148,65057,null,"Fuels for portable heating, cooking and lighting devices e.g. camping stoves and lanterns (excludes lamp oils).",148,65057]
[null,null,null,"PC-FUE-5 Fuel additives and fuel components",149,65058,null,"PC-FUE-5 Fuel additives and fuel components",149,65058,null,"PC-FUE-5 Fuel additives and fuel components",149,65058,null,"PC-FUE-5 Fuel additives and fuel components",149,65058]
[null,null,null,"Products added to fuels to impart or enhance desirable properties or to supress undesirable properties. Excludes heat transfer fluids, see 'Heat transfer fluids'.",149,65058,null,"Products added to fuels to impart or enhance desirable properties or to supress undesirable properties. Excludes heat transfer fluids, see 'Heat transfer fluids'.",149,65058,null,"Products added to fuels to impart or enhance desirable properties or to supress undesirable properties. Excludes heat transfer fluids, see 'Heat transfer fluids'.",149,65058,null,"Products added to fuels to impart or enhance desirable properties or to supress undesirable properties. Excludes heat transfer fluids, see 'Heat transfer fluids'.",149,65058]
[null,null,null,"PC-FUE-OTH Other fuels",150,65059,null,"PC-FUE-OTH Other fuels",150,65059,null,"PC-FUE-OTH Other fuels",150,65059,null,"PC-FUE-OTH Other fuels",150,65059]
[null,null,null,null,150,65059,null,null,150,65059,null,null,150,65059,null,null,150,65059]
[null,null,null,"PC-INK Inks, toners and related printing materials",151,null,null,"PC-INK Inks, toners and related printing materials",151,null,null,"PC-INK Inks, toners and related printing materials",151,null,null,"PC-INK Inks, toners and related printing materials",151]
[null,null,null,"Excludes tattoo inks, see ‘Tattoo inks’.",151,null,null,"Excludes tattoo inks, see ‘Tattoo inks’.",151,null,null,"Excludes tattoo inks, see ‘Tattoo inks’.",151,null,null,"Excludes tattoo inks, see ‘Tattoo inks’.",151]
[null,null,null,"PC-INK-1 Writing and drawing inks",152,65060,null,"PC-INK-1 Writing and drawing inks",152,65060,null,"PC-INK-1 Writing and drawing inks",152,65060,null,"PC-INK-1 Writing and drawing inks",152,65060]
[null,null,null,"Inks for use in writing or drawing by hand, e.g. by pen, brush etc. Includes inks for stamp pad use.",152,65060,null,"Inks for use in writing or drawing by hand, e.g. by pen, brush etc. Includes inks for stamp pad use.",152,65060,null,"Inks for use in writing or drawing by hand, e.g. by pen, brush etc. Includes inks for stamp pad use.",152,65060,null,"Inks for use in writing or drawing by hand, e.g. by pen, brush etc. Includes inks for stamp pad use.",152,65060]
[null,null,null,"PC-INK-2 Inks and toners for home and office printers",153,65061,null,"PC-INK-2 Inks and toners for home and office printers",153,65061,null,"PC-INK-2 Inks and toners for home and office printers",153,65061,null,"PC-INK-2 Inks and toners for home and office printers",153,65061]
[null,null,null,"Inks and toners used for printing in the home and office environment.",153,65061,null,"Inks and toners used for printing in the home and office environment.",153,65061,null,"Inks and toners used for printing in the home and office environment.",153,65061,null,"Inks and toners used for printing in the home and office environment.",153,65061]
[null,null,null,"PC-INK-3 Commercial printing inks, toners and related finishing products",154,65062,null,"PC-INK-3 Commercial printing inks, toners and related finishing products",154,65062,null,"PC-INK-3 Commercial printing inks, toners and related finishing products",154,65062,null,"PC-INK-3 Commercial printing inks, toners and related finishing products",154,65062]
[null,null,null,"Products for  industrial or professional printing processes (flexography, lithography, screen printing, etc.).",154,65062,null,"Products for  industrial or professional printing processes (flexography, lithography, screen printing, etc.).",154,65062,null,"Products for  industrial or professional printing processes (flexography, lithography, screen printing, etc.).",154,65062,null,"Products for  industrial or professional printing processes (flexography, lithography, screen printing, etc.).",154,65062]
[null,null,null,"PC-INK-4 Pressroom chemicals",155,65063,null,"PC-INK-4 Pressroom chemicals",155,65063,null,"PC-INK-4 Pressroom chemicals",155,65063,null,"PC-INK-4 Pressroom chemicals",155,65063]
[null,null,null,"Pressroom chemicals other than inks, such as fountain solutions, blanket washes etc.",155,65063,null,"Pressroom chemicals other than inks, such as fountain solutions, blanket washes etc.",155,65063,null,"Pressroom chemicals other than inks, such as fountain solutions, blanket washes etc.",155,65063,null,"Pressroom chemicals other than inks, such as fountain solutions, blanket washes etc.",155,65063]
[null,null,null,"PC-INK-5 Correction fluids",156,65064,null,"PC-INK-5 Correction fluids",156,65064,null,"PC-INK-5 Correction fluids",156,65064,null,"PC-INK-5 Correction fluids",156,65064]
[null,null,null,"Fluids used to cover up permanent ink so that corrections can be made.",156,65064,null,"Fluids used to cover up permanent ink so that corrections can be made.",156,65064,null,"Fluids used to cover up permanent ink so that corrections can be made.",156,65064,null,"Fluids used to cover up permanent ink so that corrections can be made.",156,65064]
[null,null,null,"PC-INK-OTH Other inks, toners and related printing materials",157,65065,null,"PC-INK-OTH Other inks, toners and related printing materials",157,65065,null,"PC-INK-OTH Other inks, toners and related printing materials",157,65065,null,"PC-INK-OTH Other inks, toners and related printing materials",157,65065]
[null,null,null,"Other inks, toners and related printing materials not already covered.",157,65065,null,"Other inks, toners and related printing materials not already covered.",157,65065,null,"Other inks, toners and related printing materials not already covered.",157,65065,null,"Other inks, toners and related printing materials not already covered.",157,65065]
[null,null,null,"PC-MED Medical devices",158,null,null,"PC-MED Medical devices",158,null,null,"PC-MED Medical devices",158,null,null,"PC-MED Medical devices",158]
[null,null,null,"Medical devices as defined in Regulation (EU) 2017/745 of the European Parliament and of the Council on medical devices.",158,null,null,"Medical devices as defined in Regulation (EU) 2017/745 of the European Parliament and of the Council on medical devices.",158,null,null,"Medical devices as defined in Regulation (EU) 2017/745 of the European Parliament and of the Council on medical devices.",158,null,null,"Medical devices as defined in Regulation (EU) 2017/745 of the European Parliament and of the Council on medical devices.",158]
[null,null,null,"PC-MED-1 Medical devices for cleaning or disinfection",159,107826,null,"PC-MED-1 Medical devices for cleaning or disinfection",159,107826,null,"PC-MED-1 Medical devices for cleaning or disinfection",159,107826,null,"PC-MED-1 Medical devices for cleaning or disinfection",159,107826]
[null,null,null,"Products used for the cleaning, disinfection or sterilisation of medical devices (excluding biocidal or cleaning products).",159,107826,null,"Products used for the cleaning, disinfection or sterilisation of medical devices (excluding biocidal or cleaning products).",159,107826,null,"Products used for the cleaning, disinfection or sterilisation of medical devices (excluding biocidal or cleaning products).",159,107826,null,"Products used for the cleaning, disinfection or sterilisation of medical devices (excluding biocidal or cleaning products).",159,107826]
[null,null,null,"PC-MED-OTH Other medical devices",160,107827,null,"PC-MED-OTH Other medical devices",160,107827,null,"PC-MED-OTH Other medical devices",160,107827,null,"PC-MED-OTH Other medical devices",160,107827]
[null,null,null,"Other medical devices.",160,107827,null,"Other medical devices.",160,107827,null,"Other medical devices.",160,107827,null,"Other medical devices.",160,107827]
[null,null,null,"PC-PNT Paints and coatings (and related auxiliaries)",161,null,null,"PC-PNT Paints and coatings (and related auxiliaries)",161,null,null,"PC-PNT Paints and coatings (and related auxiliaries)",161,null,null,"PC-PNT Paints and coatings (and related auxiliaries)",161]
[null,null,null,"Products in liquid, paste or powder form which, when applied to a substrate, form a (clear or opaque) dried film possessing protective, decorative and or other specific technical properties. Excludes chemical products used for priming or protection of construction materials, see ‘Construction chemicals'.",161,null,null,"Products in liquid, paste or powder form which, when applied to a substrate, form a (clear or opaque) dried film possessing protective, decorative and or other specific technical properties. Excludes chemical products used for priming or protection of construction materials, see ‘Construction chemicals'.",161,null,null,"Products in liquid, paste or powder form which, when applied to a substrate, form a (clear or opaque) dried film possessing protective, decorative and or other specific technical properties. Excludes chemical products used for priming or protection of construction materials, see ‘Construction chemicals'.",161,null,null,"Products in liquid, paste or powder form which, when applied to a substrate, form a (clear or opaque) dried film possessing protective, decorative and or other specific technical properties. Excludes chemical products used for priming or protection of construction materials, see ‘Construction chemicals'.",161]
[null,null,null,"PC-PNT-1 Aerosol paints and coatings",162,65066,null,"PC-PNT-1 Aerosol paints and coatings",162,65066,null,"PC-PNT-1 Aerosol paints and coatings",162,65066,null,"PC-PNT-1 Aerosol paints and coatings",162,65066]
[null,null,null,"Paints and coatings supplied in ready-to-use aerosol canisters for spray application.",162,65066,null,"Paints and coatings supplied in ready-to-use aerosol canisters for spray application.",162,65066,null,"Paints and coatings supplied in ready-to-use aerosol canisters for spray application.",162,65066,null,"Paints and coatings supplied in ready-to-use aerosol canisters for spray application.",162,65066]
[null,null,null,"PC-PNT-2 Paints/coatings - Decorative",163,65067,null,"PC-PNT-2 Paints/coatings - Decorative",163,65067,null,"PC-PNT-2 Paints/coatings - Decorative",163,65067,null,"PC-PNT-2 Paints/coatings - Decorative",163,65067]
[null,null,null,"Paints and coatings  (including tinters for deco mixing systems) for decorative architectural use e.g. of interior and exterior surfaces of buildings and fixtures. Includes varnishes and wood stains.",163,65067,null,"Paints and coatings  (including tinters for deco mixing systems) for decorative architectural use e.g. of interior and exterior surfaces of buildings and fixtures. Includes varnishes and wood stains.",163,65067,null,"Paints and coatings  (including tinters for deco mixing systems) for decorative architectural use e.g. of interior and exterior surfaces of buildings and fixtures. Includes varnishes and wood stains.",163,65067,null,"Paints and coatings  (including tinters for deco mixing systems) for decorative architectural use e.g. of interior and exterior surfaces of buildings and fixtures. Includes varnishes and wood stains.",163,65067]
[null,null,null,"PC-PNT-3 Paints/coatings - Protective and functional",164,65068,null,"PC-PNT-3 Paints/coatings - Protective and functional",164,65068,null,"PC-PNT-3 Paints/coatings - Protective and functional",164,65068,null,"PC-PNT-3 Paints/coatings - Protective and functional",164,65068]
[null,null,null,"Protective coatings that are characterised as 'paint' (e.g. anti-corrosion, fire retardants etc.) and paints for specific functional purposes (e.g. tank/pipe lining, road marking, anti-graffiti etc.). Excludes chemical products used for priming or the protection of construction materials - see 'Construction chemicals'.",164,65068,null,"Protective coatings that are characterised as 'paint' (e.g. anti-corrosion, fire retardants etc.) and paints for specific functional purposes (e.g. tank/pipe lining, road marking, anti-graffiti etc.). Excludes chemical products used for priming or the protection of construction materials - see 'Construction chemicals'.",164,65068,null,"Protective coatings that are characterised as 'paint' (e.g. anti-corrosion, fire retardants etc.) and paints for specific functional purposes (e.g. tank/pipe lining, road marking, anti-graffiti etc.). Excludes chemical products used for priming or the protection of construction materials - see 'Construction chemicals'.",164,65068,null,"Protective coatings that are characterised as 'paint' (e.g. anti-corrosion, fire retardants etc.) and paints for specific functional purposes (e.g. tank/pipe lining, road marking, anti-graffiti etc.). Excludes chemical products used for priming or the protection of construction materials - see 'Construction chemicals'.",164,65068]
[null,null,null,"PC-PNT-4 Marine vessel coatings (excludes anti-fouling products)",165,65069,null,"PC-PNT-4 Marine vessel coatings (excludes anti-fouling products)",165,65069,null,"PC-PNT-4 Marine vessel coatings (excludes anti-fouling products)",165,65069,null,"PC-PNT-4 Marine vessel coatings (excludes anti-fouling products)",165,65069]
[null,null,null,"Coatings for the protection/finishing of all watercraft. Excludes anti-foulants, see 'Anti-fouling products'.",165,65069,null,"Coatings for the protection/finishing of all watercraft. Excludes anti-foulants, see 'Anti-fouling products'.",165,65069,null,"Coatings for the protection/finishing of all watercraft. Excludes anti-foulants, see 'Anti-fouling products'.",165,65069,null,"Coatings for the protection/finishing of all watercraft. Excludes anti-foulants, see 'Anti-fouling products'.",165,65069]
[null,null,null,"PC-PNT-5 Automotive and aerospace coatings",166,65070,null,"PC-PNT-5 Automotive and aerospace coatings",166,65070,null,"PC-PNT-5 Automotive and aerospace coatings",166,65070,null,"PC-PNT-5 Automotive and aerospace coatings",166,65070]
[null,null,null,"Coatings for vehicles and aircraft (or their parts). Includes OEM (original equipment manufacturer) i.e. factory-applied coatings, paints, hardeners and reducers for repair and refinishing etc.",166,65070,null,"Coatings for vehicles and aircraft (or their parts). Includes OEM (original equipment manufacturer) i.e. factory-applied coatings, paints, hardeners and reducers for repair and refinishing etc.",166,65070,null,"Coatings for vehicles and aircraft (or their parts). Includes OEM (original equipment manufacturer) i.e. factory-applied coatings, paints, hardeners and reducers for repair and refinishing etc.",166,65070,null,"Coatings for vehicles and aircraft (or their parts). Includes OEM (original equipment manufacturer) i.e. factory-applied coatings, paints, hardeners and reducers for repair and refinishing etc.",166,65070]
[null,null,null,"PC-PNT-6 Factory-applied coatings (excludes categories already covered)",167,65071,null,"PC-PNT-6 Factory-applied coatings (excludes categories already covered)",167,65071,null,"PC-PNT-6 Factory-applied coatings (excludes categories already covered)",167,65071,null,"PC-PNT-6 Factory-applied coatings (excludes categories already covered)",167,65071]
[null,null,null,"Coatings applied in a production setting e.g. for electrical appliances and other metal goods, furniture, metal packaging etc. Excludes already covered categories for 'Paints and coatings (and related auxiliaries)'.",167,65071,null,"Coatings applied in a production setting e.g. for electrical appliances and other metal goods, furniture, metal packaging etc. Excludes already covered categories for 'Paints and coatings (and related auxiliaries)'.",167,65071,null,"Coatings applied in a production setting e.g. for electrical appliances and other metal goods, furniture, metal packaging etc. Excludes already covered categories for 'Paints and coatings (and related auxiliaries)'.",167,65071,null,"Coatings applied in a production setting e.g. for electrical appliances and other metal goods, furniture, metal packaging etc. Excludes already covered categories for 'Paints and coatings (and related auxiliaries)'.",167,65071]
[null,null,null,"PC-PNT-7 Paint removers, thinners and related auxiliaries",168,65072,null,"PC-PNT-7 Paint removers, thinners and related auxiliaries",168,65072,null,"PC-PNT-7 Paint removers, thinners and related auxiliaries",168,65072,null,"PC-PNT-7 Paint removers, thinners and related auxiliaries",168,65072]
[null,null,null,"Chemicals for removal/dilution of paint, sanding aids, cleaning of brushes etc.",168,65072,null,"Chemicals for removal/dilution of paint, sanding aids, cleaning of brushes etc.",168,65072,null,"Chemicals for removal/dilution of paint, sanding aids, cleaning of brushes etc.",168,65072,null,"Chemicals for removal/dilution of paint, sanding aids, cleaning of brushes etc.",168,65072]
[null,null,null,"PC-PNT-OTH Other paints and coating materials",169,65073,null,"PC-PNT-OTH Other paints and coating materials",169,65073,null,"PC-PNT-OTH Other paints and coating materials",169,65073,null,"PC-PNT-OTH Other paints and coating materials",169,65073]
[null,null,null,"Other paints and coating materials not already covered.",169,65073,null,"Other paints and coating materials not already covered.",169,65073,null,"Other paints and coating materials not already covered.",169,65073,null,"Other paints and coating materials not already covered.",169,65073]
[null,null,null,"PC-PYR Pyrotechnic products",170,113222,null,"PC-PYR Pyrotechnic products",170,113222,null,"PC-PYR Pyrotechnic products",170,113222,null,"PC-PYR Pyrotechnic products",170,113222]
[null,null,null,"Pyrotechnic products as defined in the EU Directive 2013/29/EU on pyrotechnic articles.",170,113222,null,"Pyrotechnic products as defined in the EU Directive 2013/29/EU on pyrotechnic articles.",170,113222,null,"Pyrotechnic products as defined in the EU Directive 2013/29/EU on pyrotechnic articles.",170,113222,null,"Pyrotechnic products as defined in the EU Directive 2013/29/EU on pyrotechnic articles.",170,113222]
[null,null,null,"PC-TAT Tattoo inks",171,65079,null,"PC-TAT Tattoo inks",171,65079,null,"PC-TAT Tattoo inks",171,65079,null,"PC-TAT Tattoo inks",171,65079]
[null,null,null,"Includes permanent tattoo inks for artisitic or other purposes.",171,65079,null,"Includes permanent tattoo inks for artisitic or other purposes.",171,65079,null,"Includes permanent tattoo inks for artisitic or other purposes.",171,65079,null,"Includes permanent tattoo inks for artisitic or other purposes.",171,65079]
[null,null,null,"PC-TEC Products for  chemical or technical processes",172,null,null,"PC-TEC Products for  chemical or technical processes",172,null,null,"PC-TEC Products for  chemical or technical processes",172,null,null,"PC-TEC Products for  chemical or technical processes",172]
[null,null,null,"This category only includes end-use products. It does not apply to products with no end-use e.g. raw materials, see 'F - Mixtures for further formulation'.",172,null,null,"This category only includes end-use products. It does not apply to products with no end-use e.g. raw materials, see 'F - Mixtures for further formulation'.",172,null,null,"This category only includes end-use products. It does not apply to products with no end-use e.g. raw materials, see 'F - Mixtures for further formulation'.",172,null,null,"This category only includes end-use products. It does not apply to products with no end-use e.g. raw materials, see 'F - Mixtures for further formulation'.",172]
[null,null,null,"PC-TEC-1 Adsorbents",173,65080,null,"PC-TEC-1 Adsorbents",173,65080,null,"PC-TEC-1 Adsorbents",173,65080,null,"PC-TEC-1 Adsorbents",173,65080]
[null,null,null,"Adsorbent products used in various industry sectors for a range of applications.",173,65080,null,"Adsorbent products used in various industry sectors for a range of applications.",173,65080,null,"Adsorbent products used in various industry sectors for a range of applications.",173,65080,null,"Adsorbent products used in various industry sectors for a range of applications.",173,65080]
[null,null,null,"PC-TEC-10 Leather treatment products (excludes dyes and pigments)",182,65089,null,"PC-TEC-10 Leather treatment products (excludes dyes and pigments)",182,65089,null,"PC-TEC-10 Leather treatment products (excludes dyes and pigments)",182,65089,null,"PC-TEC-10 Leather treatment products (excludes dyes and pigments)",182,65089]
[null,null,null,"Products used for the upstream industrial processing of leather, including relevant impregnation products. For dyes and pigments, see 'Colourants'. For other impregnation products for finished leather goods, see 'Impregnation products for finished textiles and leather goods'.",182,65089,null,"Products used for the upstream industrial processing of leather, including relevant impregnation products. For dyes and pigments, see 'Colourants'. For other impregnation products for finished leather goods, see 'Impregnation products for finished textiles and leather goods'.",182,65089,null,"Products used for the upstream industrial processing of leather, including relevant impregnation products. For dyes and pigments, see 'Colourants'. For other impregnation products for finished leather goods, see 'Impregnation products for finished textiles and leather goods'.",182,65089,null,"Products used for the upstream industrial processing of leather, including relevant impregnation products. For dyes and pigments, see 'Colourants'. For other impregnation products for finished leather goods, see 'Impregnation products for finished textiles and leather goods'.",182,65089]
[null,null,null,"PC-TEC-11 Lubricants, greases, release agents",183,65090,null,"PC-TEC-11 Lubricants, greases, release agents",183,65090,null,"PC-TEC-11 Lubricants, greases, release agents",183,65090,null,"PC-TEC-11 Lubricants, greases, release agents",183,65090]
[null,null,null,null,183,65090,null,null,183,65090,null,null,183,65090,null,null,183,65090]
[null,null,null,"PC-TEC-12 Metal surface treatment products",184,65091,null,"PC-TEC-12 Metal surface treatment products",184,65091,null,"PC-TEC-12 Metal surface treatment products",184,65091,null,"PC-TEC-12 Metal surface treatment products",184,65091]
[null,null,null,"This covers products containing substances permanently binding with the metal surface. It includes e.g. galvanic and electroplating products.",184,65091,null,"This covers products containing substances permanently binding with the metal surface. It includes e.g. galvanic and electroplating products.",184,65091,null,"This covers products containing substances permanently binding with the metal surface. It includes e.g. galvanic and electroplating products.",184,65091,null,"This covers products containing substances permanently binding with the metal surface. It includes e.g. galvanic and electroplating products.",184,65091]
[null,null,null,"PC-TEC-13 Metal working fluids",185,65092,null,"PC-TEC-13 Metal working fluids",185,65092,null,"PC-TEC-13 Metal working fluids",185,65092,null,"PC-TEC-13 Metal working fluids",185,65092]
[null,null,null,null,185,65092,null,null,185,65092,null,null,185,65092,null,null,185,65092]
[null,null,null,"PC-TEC-14 Paper and board treatment products (excluding dyes)",186,65093,null,"PC-TEC-14 Paper and board treatment products (excluding dyes)",186,65093,null,"PC-TEC-14 Paper and board treatment products (excluding dyes)",186,65093,null,"PC-TEC-14 Paper and board treatment products (excluding dyes)",186,65093]
[null,null,null,"This category includes e.g. bleaches, finishing, impregnation products and other processing aids. For dyes, see 'Dyes'.",186,65093,null,"This category includes e.g. bleaches, finishing, impregnation products and other processing aids. For dyes, see 'Dyes'.",186,65093,null,"This category includes e.g. bleaches, finishing, impregnation products and other processing aids. For dyes, see 'Dyes'.",186,65093,null,"This category includes e.g. bleaches, finishing, impregnation products and other processing aids. For dyes, see 'Dyes'.",186,65093]
[null,null,null,"PC-TEC-15 Photochemicals",187,65094,null,"PC-TEC-15 Photochemicals",187,65094,null,"PC-TEC-15 Photochemicals",187,65094,null,"PC-TEC-15 Photochemicals",187,65094]
[null,null,null,"Products for the chemical processing of photosensitive materials.",187,65094,null,"Products for the chemical processing of photosensitive materials.",187,65094,null,"Products for the chemical processing of photosensitive materials.",187,65094,null,"Products for the chemical processing of photosensitive materials.",187,65094]
[null,null,null,"PC-TEC-16 Polymer preparations and compounds",188,65095,null,"PC-TEC-16 Polymer preparations and compounds",188,65095,null,"PC-TEC-16 Polymer preparations and compounds",188,65095,null,"PC-TEC-16 Polymer preparations and compounds",188,65095]
[null,null,null,null,188,65095,null,null,188,65095,null,null,188,65095,null,null,188,65095]
[null,null,null,"PC-TEC-17 Processing aids",189,65096,null,"PC-TEC-17 Processing aids",189,65096,null,"PC-TEC-17 Processing aids",189,65096,null,"PC-TEC-17 Processing aids",189,65096]
[null,null,null,"This category covers processing aids used in various industry sectors (unless otherwise specified in subcategories of 'PC-TEC', e.g. paper and board treatment products, leather treatment products ...). Products include  pH-regulators, flocculants, precipitants, neutralisation agents, catalysts, emulsifiers, solubilisers, dispersing agents...",189,65096,null,"This category covers processing aids used in various industry sectors (unless otherwise specified in subcategories of 'PC-TEC', e.g. paper and board treatment products, leather treatment products ...). Products include  pH-regulators, flocculants, precipitants, neutralisation agents, catalysts, emulsifiers, solubilisers, dispersing agents...",189,65096,null,"This category covers processing aids used in various industry sectors (unless otherwise specified in subcategories of 'PC-TEC', e.g. paper and board treatment products, leather treatment products ...). Products include  pH-regulators, flocculants, precipitants, neutralisation agents, catalysts, emulsifiers, solubilisers, dispersing agents...",189,65096,null,"This category covers processing aids used in various industry sectors (unless otherwise specified in subcategories of 'PC-TEC', e.g. paper and board treatment products, leather treatment products ...). Products include  pH-regulators, flocculants, precipitants, neutralisation agents, catalysts, emulsifiers, solubilisers, dispersing agents...",189,65096]
[null,null,null,"PC-TEC-18 Products used in mining, oil or gas exploration processes",190,65097,null,"PC-TEC-18 Products used in mining, oil or gas exploration processes",190,65097,null,"PC-TEC-18 Products used in mining, oil or gas exploration processes",190,65097,null,"PC-TEC-18 Products used in mining, oil or gas exploration processes",190,65097]
[null,null,null,"Excludes production products i.e. raw materials.",190,65097,null,"Excludes production products i.e. raw materials.",190,65097,null,"Excludes production products i.e. raw materials.",190,65097,null,"Excludes production products i.e. raw materials.",190,65097]
[null,null,null,"PC-TEC-19 Reagents and laboratory chemicals",191,65098,null,"PC-TEC-19 Reagents and laboratory chemicals",191,65098,null,"PC-TEC-19 Reagents and laboratory chemicals",191,65098,null,"PC-TEC-19 Reagents and laboratory chemicals",191,65098]
[null,null,null,"Reagents and laboratory chemicals include products of sufficient purity for use e.g. in chemical analysis, chemical reactions.",191,65098,null,"Reagents and laboratory chemicals include products of sufficient purity for use e.g. in chemical analysis, chemical reactions.",191,65098,null,"Reagents and laboratory chemicals include products of sufficient purity for use e.g. in chemical analysis, chemical reactions.",191,65098,null,"Reagents and laboratory chemicals include products of sufficient purity for use e.g. in chemical analysis, chemical reactions.",191,65098]
[null,null,null,"PC-TEC-2 Antifreeze and de-icing products",174,65081,null,"PC-TEC-2 Antifreeze and de-icing products",174,65081,null,"PC-TEC-2 Antifreeze and de-icing products",174,65081,null,"PC-TEC-2 Antifreeze and de-icing products",174,65081]
[null,null,null,"Antifreeze products are intended to reduce the freezing point of surfaces. De-icing products reduce the freezing point of surfaces with the intention to remove ice.",174,65081,null,"Antifreeze products are intended to reduce the freezing point of surfaces. De-icing products reduce the freezing point of surfaces with the intention to remove ice.",174,65081,null,"Antifreeze products are intended to reduce the freezing point of surfaces. De-icing products reduce the freezing point of surfaces with the intention to remove ice.",174,65081,null,"Antifreeze products are intended to reduce the freezing point of surfaces. De-icing products reduce the freezing point of surfaces with the intention to remove ice.",174,65081]
[null,null,null,"PC-TEC-20 Soil remediation products",192,65099,null,"PC-TEC-20 Soil remediation products",192,65099,null,"PC-TEC-20 Soil remediation products",192,65099,null,"PC-TEC-20 Soil remediation products",192,65099]
[null,null,null,"Products e.g. for the remediation of contaminated soils. Excludes 'Fertilisers or fertilising products'.",192,65099,null,"Products e.g. for the remediation of contaminated soils. Excludes 'Fertilisers or fertilising products'.",192,65099,null,"Products e.g. for the remediation of contaminated soils. Excludes 'Fertilisers or fertilising products'.",192,65099,null,"Products e.g. for the remediation of contaminated soils. Excludes 'Fertilisers or fertilising products'.",192,65099]
[null,null,null,"PC-TEC-21 Solvents and extraction agents",193,65100,null,"PC-TEC-21 Solvents and extraction agents",193,65100,null,"PC-TEC-21 Solvents and extraction agents",193,65100,null,"PC-TEC-21 Solvents and extraction agents",193,65100]
[null,null,null,null,193,65100,null,null,193,65100,null,null,193,65100,null,null,193,65100]
[null,null,null,"PC-TEC-22 Surfactants mixtures for industrial applications",194,65101,null,"PC-TEC-22 Surfactants mixtures for industrial applications",194,65101,null,"PC-TEC-22 Surfactants mixtures for industrial applications",194,65101,null,"PC-TEC-22 Surfactants mixtures for industrial applications",194,65101]
[null,null,null,null,194,65101,null,null,194,65101,null,null,194,65101,null,null,194,65101]
[null,null,null,"PC-TEC-23 Textile treatment products (excludes dyes and pigments)",195,65102,null,"PC-TEC-23 Textile treatment products (excludes dyes and pigments)",195,65102,null,"PC-TEC-23 Textile treatment products (excludes dyes and pigments)",195,65102,null,"PC-TEC-23 Textile treatment products (excludes dyes and pigments)",195,65102]
[null,null,null,"Products used for the upstream industrial  processing of textiles, including impregnation products. For dyes and pigments, see 'Colourants'. For impregnation products for finished textiles, see 'Impregnation products for finished textiles and leather goods’.",195,65102,null,"Products used for the upstream industrial  processing of textiles, including impregnation products. For dyes and pigments, see 'Colourants'. For impregnation products for finished textiles, see 'Impregnation products for finished textiles and leather goods’.",195,65102,null,"Products used for the upstream industrial  processing of textiles, including impregnation products. For dyes and pigments, see 'Colourants'. For impregnation products for finished textiles, see 'Impregnation products for finished textiles and leather goods’.",195,65102,null,"Products used for the upstream industrial  processing of textiles, including impregnation products. For dyes and pigments, see 'Colourants'. For impregnation products for finished textiles, see 'Impregnation products for finished textiles and leather goods’.",195,65102]
[null,null,null,"PC-TEC-24 Welding, soldering, and flux products",196,65103,null,"PC-TEC-24 Welding, soldering, and flux products",196,65103,null,"PC-TEC-24 Welding, soldering, and flux products",196,65103,null,"PC-TEC-24 Welding, soldering, and flux products",196,65103]
[null,null,null,"Excludes 'Metal surface treatment products' and 'Metal working fluids'.",196,65103,null,"Excludes 'Metal surface treatment products' and 'Metal working fluids'.",196,65103,null,"Excludes 'Metal surface treatment products' and 'Metal working fluids'.",196,65103,null,"Excludes 'Metal surface treatment products' and 'Metal working fluids'.",196,65103]
[null,null,null,"PC-TEC-25 Alloys",197,107829,null,"PC-TEC-25 Alloys",197,107829,null,"PC-TEC-25 Alloys",197,107829,null,"PC-TEC-25 Alloys",197,107829]
[null,null,null,null,197,107829,null,null,197,107829,null,null,197,107829,null,null,197,107829]
[null,null,null,"PC-TEC-3 Desiccants",175,65082,null,"PC-TEC-3 Desiccants",175,65082,null,"PC-TEC-3 Desiccants",175,65082,null,"PC-TEC-3 Desiccants",175,65082]
[null,null,null,"Products used primarily to absorb moisture. Includes silica gel.",175,65082,null,"Products used primarily to absorb moisture. Includes silica gel.",175,65082,null,"Products used primarily to absorb moisture. Includes silica gel.",175,65082,null,"Products used primarily to absorb moisture. Includes silica gel.",175,65082]
[null,null,null,"PC-TEC-4 Electrolytes for batteries",176,65083,null,"PC-TEC-4 Electrolytes for batteries",176,65083,null,"PC-TEC-4 Electrolytes for batteries",176,65083,null,"PC-TEC-4 Electrolytes for batteries",176,65083]
[null,null,null,"Mixtures (liquids or pastes) designed to serve as electrolytes in batteries.",176,65083,null,"Mixtures (liquids or pastes) designed to serve as electrolytes in batteries.",176,65083,null,"Mixtures (liquids or pastes) designed to serve as electrolytes in batteries.",176,65083,null,"Mixtures (liquids or pastes) designed to serve as electrolytes in batteries.",176,65083]
[null,null,null,"PC-TEC-5 Fire extinguishers",177,65084,null,"PC-TEC-5 Fire extinguishers",177,65084,null,"PC-TEC-5 Fire extinguishers",177,65084,null,"PC-TEC-5 Fire extinguishers",177,65084]
[null,null,null,"Products containing fire extinguishing chemicals (e.g. foam) to assist with the control of small fires.",177,65084,null,"Products containing fire extinguishing chemicals (e.g. foam) to assist with the control of small fires.",177,65084,null,"Products containing fire extinguishing chemicals (e.g. foam) to assist with the control of small fires.",177,65084,null,"Products containing fire extinguishing chemicals (e.g. foam) to assist with the control of small fires.",177,65084]
[null,null,null,"PC-TEC-6 Fragrances",178,65085,null,"PC-TEC-6 Fragrances",178,65085,null,"PC-TEC-6 Fragrances",178,65085,null,"PC-TEC-6 Fragrances",178,65085]
[null,null,null,"Includes fragrance mixtures for end-use only.",178,65085,null,"Includes fragrance mixtures for end-use only.",178,65085,null,"Includes fragrance mixtures for end-use only.",178,65085,null,"Includes fragrance mixtures for end-use only.",178,65085]
[null,null,null,"PC-TEC-7 Heat transfer fluids",179,65086,null,"PC-TEC-7 Heat transfer fluids",179,65086,null,"PC-TEC-7 Heat transfer fluids",179,65086,null,"PC-TEC-7 Heat transfer fluids",179,65086]
[null,null,null,null,179,65086,null,null,179,65086,null,null,179,65086,null,null,179,65086]
[null,null,null,"PC-TEC-8 Hydraulic fluids, including brake and transmission fluids",180,65087,null,"PC-TEC-8 Hydraulic fluids, including brake and transmission fluids",180,65087,null,"PC-TEC-8 Hydraulic fluids, including brake and transmission fluids",180,65087,null,"PC-TEC-8 Hydraulic fluids, including brake and transmission fluids",180,65087]
[null,null,null,null,180,65087,null,null,180,65087,null,null,180,65087,null,null,180,65087]
[null,null,null,"PC-TEC-9 Intermediates",181,65088,null,"PC-TEC-9 Intermediates",181,65088,null,"PC-TEC-9 Intermediates",181,65088,null,"PC-TEC-9 Intermediates",181,65088]
[null,null,null,"A substance that is manufactured for and consumed in or used for chemical processing in order to be transformed into another substance (REACH, Article 3(15)).",181,65088,null,"A substance that is manufactured for and consumed in or used for chemical processing in order to be transformed into another substance (REACH, Article 3(15)).",181,65088,null,"A substance that is manufactured for and consumed in or used for chemical processing in order to be transformed into another substance (REACH, Article 3(15)).",181,65088,null,"A substance that is manufactured for and consumed in or used for chemical processing in order to be transformed into another substance (REACH, Article 3(15)).",181,65088]
[null,null,null,"PC-TEC-OTH Other products for  chemical or technical processes",198,65104,null,"PC-TEC-OTH Other products for  chemical or technical processes",198,65104,null,"PC-TEC-OTH Other products for  chemical or technical processes",198,65104,null,"PC-TEC-OTH Other products for  chemical or technical processes",198,65104]
[null,null,null,"Other products for  chemical or technical processes not already covered.",198,65104,null,"Other products for  chemical or technical processes not already covered.",198,65104,null,"Other products for  chemical or technical processes not already covered.",198,65104,null,"Other products for  chemical or technical processes not already covered.",198,65104]
[null,null,null,"PC-UNC Chemical products - uncategorised",199,65105,null,"PC-UNC Chemical products - uncategorised",199,65105,null,"PC-UNC Chemical products - uncategorised",199,65105,null,"PC-UNC Chemical products - uncategorised",199,65105]
[null,null,null,"Chemical products where no suitable intended use category exists in the system at the third level.",199,65105,null,"Chemical products where no suitable intended use category exists in the system at the third level.",199,65105,null,"Chemical products where no suitable intended use category exists in the system at the third level.",199,65105,null,"Chemical products where no suitable intended use category exists in the system at the third level.",199,65105]
[null,null,null,"PP Biocides and plant protection products",200,null,null,"PP Biocides and plant protection products",200,null,null,"PP Biocides and plant protection products",200,null,null,"PP Biocides and plant protection products",200]
[null,null,null,null,200,null,null,null,200,null,null,null,200,null,null,null,200]
[null,null,null,"PP-BIO Biocidal products",201,null,null,"PP-BIO Biocidal products",201,null,null,"PP-BIO Biocidal products",201,null,null,"PP-BIO Biocidal products",201]
[null,null,null,"Biocidal product types as referred to in Article 2(1) of the Biocidal Products Regulation (EU) No 528/2012.",201,null,null,"Biocidal product types as referred to in Article 2(1) of the Biocidal Products Regulation (EU) No 528/2012.",201,null,null,"Biocidal product types as referred to in Article 2(1) of the Biocidal Products Regulation (EU) No 528/2012.",201,null,null,"Biocidal product types as referred to in Article 2(1) of the Biocidal Products Regulation (EU) No 528/2012.",201]
[null,null,null,"PP-BIO-1 Biocidal products for human hygiene",202,65106,null,"PP-BIO-1 Biocidal products for human hygiene",202,65106,null,"PP-BIO-1 Biocidal products for human hygiene",202,65106,null,"PP-BIO-1 Biocidal products for human hygiene",202,65106]
[null,null,null,"PT1 - Biocidal products used for human hygiene purposes applied on or in contact with human skin or scalps for the primary purpose of disinfecting the skin or scalp.",202,65106,null,"PT1 - Biocidal products used for human hygiene purposes applied on or in contact with human skin or scalps for the primary purpose of disinfecting the skin or scalp.",202,65106,null,"PT1 - Biocidal products used for human hygiene purposes applied on or in contact with human skin or scalps for the primary purpose of disinfecting the skin or scalp.",202,65106,null,"PT1 - Biocidal products used for human hygiene purposes applied on or in contact with human skin or scalps for the primary purpose of disinfecting the skin or scalp.",202,65106]
[null,null,null,"PP-BIO-10 Construction material preservatives",211,65115,null,"PP-BIO-10 Construction material preservatives",211,65115,null,"PP-BIO-10 Construction material preservatives",211,65115,null,"PP-BIO-10 Construction material preservatives",211,65115]
[null,null,null,"PT10 - Biocidal products used for the preservation of masonry, composite materials, or other construction materials other than wood by the control of microbiological, and algal attack.",211,65115,null,"PT10 - Biocidal products used for the preservation of masonry, composite materials, or other construction materials other than wood by the control of microbiological, and algal attack.",211,65115,null,"PT10 - Biocidal products used for the preservation of masonry, composite materials, or other construction materials other than wood by the control of microbiological, and algal attack.",211,65115,null,"PT10 - Biocidal products used for the preservation of masonry, composite materials, or other construction materials other than wood by the control of microbiological, and algal attack.",211,65115]
[null,null,null,"PP-BIO-11 Preservatives for liquid-cooling and processing systems",212,65116,null,"PP-BIO-11 Preservatives for liquid-cooling and processing systems",212,65116,null,"PP-BIO-11 Preservatives for liquid-cooling and processing systems",212,65116,null,"PP-BIO-11 Preservatives for liquid-cooling and processing systems",212,65116]
[null,null,null,"PT11 - Biocidal products used for the preservation of water or other liquids used in cooling and processing systems by the control of harmful organisms such as microbes, algae and mussels.",212,65116,null,"PT11 - Biocidal products used for the preservation of water or other liquids used in cooling and processing systems by the control of harmful organisms such as microbes, algae and mussels.",212,65116,null,"PT11 - Biocidal products used for the preservation of water or other liquids used in cooling and processing systems by the control of harmful organisms such as microbes, algae and mussels.",212,65116,null,"PT11 - Biocidal products used for the preservation of water or other liquids used in cooling and processing systems by the control of harmful organisms such as microbes, algae and mussels.",212,65116]
[null,null,null,"PP-BIO-12 Slimicides",213,65117,null,"PP-BIO-12 Slimicides",213,65117,null,"PP-BIO-12 Slimicides",213,65117,null,"PP-BIO-12 Slimicides",213,65117]
[null,null,null,"PT12 - Biocidal products used for the prevention or control of slime growth on materials, equipment and structures, used in industrial processes, e.g. on wood and paper pulp, porous sand strata in oil extraction.",213,65117,null,"PT12 - Biocidal products used for the prevention or control of slime growth on materials, equipment and structures, used in industrial processes, e.g. on wood and paper pulp, porous sand strata in oil extraction.",213,65117,null,"PT12 - Biocidal products used for the prevention or control of slime growth on materials, equipment and structures, used in industrial processes, e.g. on wood and paper pulp, porous sand strata in oil extraction.",213,65117,null,"PT12 - Biocidal products used for the prevention or control of slime growth on materials, equipment and structures, used in industrial processes, e.g. on wood and paper pulp, porous sand strata in oil extraction.",213,65117]
[null,null,null,"PP-BIO-13 Working or cutting fluid preservatives",214,65118,null,"PP-BIO-13 Working or cutting fluid preservatives",214,65118,null,"PP-BIO-13 Working or cutting fluid preservatives",214,65118,null,"PP-BIO-13 Working or cutting fluid preservatives",214,65118]
[null,null,null,"PT13 - Biocidal products to control microbial deterioration in fluids used for working or cutting metal, glass or other materials.",214,65118,null,"PT13 - Biocidal products to control microbial deterioration in fluids used for working or cutting metal, glass or other materials.",214,65118,null,"PT13 - Biocidal products to control microbial deterioration in fluids used for working or cutting metal, glass or other materials.",214,65118,null,"PT13 - Biocidal products to control microbial deterioration in fluids used for working or cutting metal, glass or other materials.",214,65118]
[null,null,null,"PP-BIO-14 Rodenticides (excluding for plant protection)",215,65119,null,"PP-BIO-14 Rodenticides (excluding for plant protection)",215,65119,null,"PP-BIO-14 Rodenticides (excluding for plant protection)",215,65119,null,"PP-BIO-14 Rodenticides (excluding for plant protection)",215,65119]
[null,null,null,"PT14 - Biocidal products used for the control of mice, rats or other rodents, by means other than repulsion or attraction.",215,65119,null,"PT14 - Biocidal products used for the control of mice, rats or other rodents, by means other than repulsion or attraction.",215,65119,null,"PT14 - Biocidal products used for the control of mice, rats or other rodents, by means other than repulsion or attraction.",215,65119,null,"PT14 - Biocidal products used for the control of mice, rats or other rodents, by means other than repulsion or attraction.",215,65119]
[null,null,null,"PP-BIO-15 Avicides",216,65120,null,"PP-BIO-15 Avicides",216,65120,null,"PP-BIO-15 Avicides",216,65120,null,"PP-BIO-15 Avicides",216,65120]
[null,null,null,"PT15 - Biocidal products used for the control of birds, by means other than repulsion or attraction.",216,65120,null,"PT15 - Biocidal products used for the control of birds, by means other than repulsion or attraction.",216,65120,null,"PT15 - Biocidal products used for the control of birds, by means other than repulsion or attraction.",216,65120,null,"PT15 - Biocidal products used for the control of birds, by means other than repulsion or attraction.",216,65120]
[null,null,null,"PP-BIO-16 Molluscicides, vermicides and products to control other invertebrates (excluding plant protection products)",217,65121,null,"PP-BIO-16 Molluscicides, vermicides and products to control other invertebrates (excluding plant protection products)",217,65121,null,"PP-BIO-16 Molluscicides, vermicides and products to control other invertebrates (excluding plant protection products)",217,65121,null,"PP-BIO-16 Molluscicides, vermicides and products to control other invertebrates (excluding plant protection products)",217,65121]
[null,null,null,"PT16 - Biocidal products used for the control of molluscs, worms and invertebrates not covered by other product-types, by means other than repulsion or attraction.",217,65121,null,"PT16 - Biocidal products used for the control of molluscs, worms and invertebrates not covered by other product-types, by means other than repulsion or attraction.",217,65121,null,"PT16 - Biocidal products used for the control of molluscs, worms and invertebrates not covered by other product-types, by means other than repulsion or attraction.",217,65121,null,"PT16 - Biocidal products used for the control of molluscs, worms and invertebrates not covered by other product-types, by means other than repulsion or attraction.",217,65121]
[null,null,null,"PP-BIO-17 Piscicides",218,65122,null,"PP-BIO-17 Piscicides",218,65122,null,"PP-BIO-17 Piscicides",218,65122,null,"PP-BIO-17 Piscicides",218,65122]
[null,null,null,"PT17 - Biocidal products used for the control of fish, by means other than repulsion or attraction.",218,65122,null,"PT17 - Biocidal products used for the control of fish, by means other than repulsion or attraction.",218,65122,null,"PT17 - Biocidal products used for the control of fish, by means other than repulsion or attraction.",218,65122,null,"PT17 - Biocidal products used for the control of fish, by means other than repulsion or attraction.",218,65122]
[null,null,null,"PP-BIO-18 Insecticides, acaricides and products to control other arthropods (excluding equivalent products when used as pesticides)",219,65123,null,"PP-BIO-18 Insecticides, acaricides and products to control other arthropods (excluding equivalent products when used as pesticides)",219,65123,null,"PP-BIO-18 Insecticides, acaricides and products to control other arthropods (excluding equivalent products when used as pesticides)",219,65123,null,"PP-BIO-18 Insecticides, acaricides and products to control other arthropods (excluding equivalent products when used as pesticides)",219,65123]
[null,null,null,"PT18 - Biocidal products used for the control of arthropods (e.g. insects, arachnids and crustaceans) by means other than repulsion or attraction.",219,65123,null,"PT18 - Biocidal products used for the control of arthropods (e.g. insects, arachnids and crustaceans) by means other than repulsion or attraction.",219,65123,null,"PT18 - Biocidal products used for the control of arthropods (e.g. insects, arachnids and crustaceans) by means other than repulsion or attraction.",219,65123,null,"PT18 - Biocidal products used for the control of arthropods (e.g. insects, arachnids and crustaceans) by means other than repulsion or attraction.",219,65123]
[null,null,null,"PP-BIO-19 Repellents and attractants",220,65124,null,"PP-BIO-19 Repellents and attractants",220,65124,null,"PP-BIO-19 Repellents and attractants",220,65124,null,"PP-BIO-19 Repellents and attractants",220,65124]
[null,null,null,"PT19 - Biocidal products used to control harmful organisms (invertebrates such as fleas, vertebrates such as birds, fish, rodents), by repelling or attracting.",220,65124,null,"PT19 - Biocidal products used to control harmful organisms (invertebrates such as fleas, vertebrates such as birds, fish, rodents), by repelling or attracting.",220,65124,null,"PT19 - Biocidal products used to control harmful organisms (invertebrates such as fleas, vertebrates such as birds, fish, rodents), by repelling or attracting.",220,65124,null,"PT19 - Biocidal products used to control harmful organisms (invertebrates such as fleas, vertebrates such as birds, fish, rodents), by repelling or attracting.",220,65124]
[null,null,null,"PP-BIO-2 Disinfectants and algaecides not intended for direct application to humans or animals",203,65107,null,"PP-BIO-2 Disinfectants and algaecides not intended for direct application to humans or animals",203,65107,null,"PP-BIO-2 Disinfectants and algaecides not intended for direct application to humans or animals",203,65107,null,"PP-BIO-2 Disinfectants and algaecides not intended for direct application to humans or animals",203,65107]
[null,null,null,"PT2 - Biocidal products used for the disinfection of surfaces, materials, equipment and furniture which are not used for direct contact with food or feeding stuffs. Usage areas include, inter alia, swimming pools, aquariums, bathing and other waters; air conditioning systems; and walls and floors in private, public and industrial areas and in other areas for professional activities.",203,65107,null,"PT2 - Biocidal products used for the disinfection of surfaces, materials, equipment and furniture which are not used for direct contact with food or feeding stuffs. Usage areas include, inter alia, swimming pools, aquariums, bathing and other waters; air conditioning systems; and walls and floors in private, public and industrial areas and in other areas for professional activities.",203,65107,null,"PT2 - Biocidal products used for the disinfection of surfaces, materials, equipment and furniture which are not used for direct contact with food or feeding stuffs. Usage areas include, inter alia, swimming pools, aquariums, bathing and other waters; air conditioning systems; and walls and floors in private, public and industrial areas and in other areas for professional activities.",203,65107,null,"PT2 - Biocidal products used for the disinfection of surfaces, materials, equipment and furniture which are not used for direct contact with food or feeding stuffs. Usage areas include, inter alia, swimming pools, aquariums, bathing and other waters; air conditioning systems; and walls and floors in private, public and industrial areas and in other areas for professional activities.",203,65107]
[null,null,null,"PP-BIO-20 Control of other vertebrates",221,65125,null,"PP-BIO-20 Control of other vertebrates",221,65125,null,"PP-BIO-20 Control of other vertebrates",221,65125,null,"PP-BIO-20 Control of other vertebrates",221,65125]
[null,null,null,"PT20 - Biocidal products used for the control of vertebrates other than those already covered by the other product-types of this main group by means other than repulsion or attraction.",221,65125,null,"PT20 - Biocidal products used for the control of vertebrates other than those already covered by the other product-types of this main group by means other than repulsion or attraction.",221,65125,null,"PT20 - Biocidal products used for the control of vertebrates other than those already covered by the other product-types of this main group by means other than repulsion or attraction.",221,65125,null,"PT20 - Biocidal products used for the control of vertebrates other than those already covered by the other product-types of this main group by means other than repulsion or attraction.",221,65125]
[null,null,null,"PP-BIO-21 Antifouling products",222,65126,null,"PP-BIO-21 Antifouling products",222,65126,null,"PP-BIO-21 Antifouling products",222,65126,null,"PP-BIO-21 Antifouling products",222,65126]
[null,null,null,"PT21- Biocidal products used to control the growth and settlement of fouling organisms (microbes and higher forms of plant or animal species) on vessels, aquaculture equipment or other structures used in water.",222,65126,null,"PT21- Biocidal products used to control the growth and settlement of fouling organisms (microbes and higher forms of plant or animal species) on vessels, aquaculture equipment or other structures used in water.",222,65126,null,"PT21- Biocidal products used to control the growth and settlement of fouling organisms (microbes and higher forms of plant or animal species) on vessels, aquaculture equipment or other structures used in water.",222,65126,null,"PT21- Biocidal products used to control the growth and settlement of fouling organisms (microbes and higher forms of plant or animal species) on vessels, aquaculture equipment or other structures used in water.",222,65126]
[null,null,null,"PP-BIO-22 Embalming and taxidermist fluids",223,65127,null,"PP-BIO-22 Embalming and taxidermist fluids",223,65127,null,"PP-BIO-22 Embalming and taxidermist fluids",223,65127,null,"PP-BIO-22 Embalming and taxidermist fluids",223,65127]
[null,null,null,"PT22 - Biocidal products used for the disinfection and preservation of human or animal corpses or parts thereof.",223,65127,null,"PT22 - Biocidal products used for the disinfection and preservation of human or animal corpses or parts thereof.",223,65127,null,"PT22 - Biocidal products used for the disinfection and preservation of human or animal corpses or parts thereof.",223,65127,null,"PT22 - Biocidal products used for the disinfection and preservation of human or animal corpses or parts thereof.",223,65127]
[null,null,null,"PP-BIO-3 Biocidal products for veterinary hygiene",204,65108,null,"PP-BIO-3 Biocidal products for veterinary hygiene",204,65108,null,"PP-BIO-3 Biocidal products for veterinary hygiene",204,65108,null,"PP-BIO-3 Biocidal products for veterinary hygiene",204,65108]
[null,null,null,"PT3 - Biocidal products used for veterinary hygiene such as disinfectants, disinfecting soaps, oral or corporal hygiene products or with anti-microbial function.",204,65108,null,"PT3 - Biocidal products used for veterinary hygiene such as disinfectants, disinfecting soaps, oral or corporal hygiene products or with anti-microbial function.",204,65108,null,"PT3 - Biocidal products used for veterinary hygiene such as disinfectants, disinfecting soaps, oral or corporal hygiene products or with anti-microbial function.",204,65108,null,"PT3 - Biocidal products used for veterinary hygiene such as disinfectants, disinfecting soaps, oral or corporal hygiene products or with anti-microbial function.",204,65108]
[null,null,null,"PP-BIO-4 Biocidal products for food and feed area",205,65109,null,"PP-BIO-4 Biocidal products for food and feed area",205,65109,null,"PP-BIO-4 Biocidal products for food and feed area",205,65109,null,"PP-BIO-4 Biocidal products for food and feed area",205,65109]
[null,null,null,"PT4 - Biocidal products used for the disinfection of equipment, containers, consumption utensils, surfaces or pipework associated with the production, transport, storage or consumption of food or feed (including drinking water) for humans and animals.",205,65109,null,"PT4 - Biocidal products used for the disinfection of equipment, containers, consumption utensils, surfaces or pipework associated with the production, transport, storage or consumption of food or feed (including drinking water) for humans and animals.",205,65109,null,"PT4 - Biocidal products used for the disinfection of equipment, containers, consumption utensils, surfaces or pipework associated with the production, transport, storage or consumption of food or feed (including drinking water) for humans and animals.",205,65109,null,"PT4 - Biocidal products used for the disinfection of equipment, containers, consumption utensils, surfaces or pipework associated with the production, transport, storage or consumption of food or feed (including drinking water) for humans and animals.",205,65109]
[null,null,null,"PP-BIO-5 Biocidal products for drinking water",206,65110,null,"PP-BIO-5 Biocidal products for drinking water",206,65110,null,"PP-BIO-5 Biocidal products for drinking water",206,65110,null,"PP-BIO-5 Biocidal products for drinking water",206,65110]
[null,null,null,"PT5 - Biocidal products used for the disinfection of drinking water for both humans and animals.",206,65110,null,"PT5 - Biocidal products used for the disinfection of drinking water for both humans and animals.",206,65110,null,"PT5 - Biocidal products used for the disinfection of drinking water for both humans and animals.",206,65110,null,"PT5 - Biocidal products used for the disinfection of drinking water for both humans and animals.",206,65110]
[null,null,null,"PP-BIO-6 Biocidal products used as preservatives for products during storage",207,65111,null,"PP-BIO-6 Biocidal products used as preservatives for products during storage",207,65111,null,"PP-BIO-6 Biocidal products used as preservatives for products during storage",207,65111,null,"PP-BIO-6 Biocidal products used as preservatives for products during storage",207,65111]
[null,null,null,"PT6 - Biocidal products used for the preservation of manufactured products, other than foodstuffs, feeding stuffs, cosmetics or medicinal products or medical devices by the control of microbial deterioration to ensure their shelf life.",207,65111,null,"PT6 - Biocidal products used for the preservation of manufactured products, other than foodstuffs, feeding stuffs, cosmetics or medicinal products or medical devices by the control of microbial deterioration to ensure their shelf life.",207,65111,null,"PT6 - Biocidal products used for the preservation of manufactured products, other than foodstuffs, feeding stuffs, cosmetics or medicinal products or medical devices by the control of microbial deterioration to ensure their shelf life.",207,65111,null,"PT6 - Biocidal products used for the preservation of manufactured products, other than foodstuffs, feeding stuffs, cosmetics or medicinal products or medical devices by the control of microbial deterioration to ensure their shelf life.",207,65111]
[null,null,null,"PP-BIO-7 Film preservatives",208,65112,null,"PP-BIO-7 Film preservatives",208,65112,null,"PP-BIO-7 Film preservatives",208,65112,null,"PP-BIO-7 Film preservatives",208,65112]
[null,null,null,"PT7 - Biocidal products used for the preservation of films or coatings by the control of microbial deterioration or algal growth in order to protect the initial properties of the surface of materials or objects such as paints, plastics, sealants, wall adhesives, binders, papers, art works.",208,65112,null,"PT7 - Biocidal products used for the preservation of films or coatings by the control of microbial deterioration or algal growth in order to protect the initial properties of the surface of materials or objects such as paints, plastics, sealants, wall adhesives, binders, papers, art works.",208,65112,null,"PT7 - Biocidal products used for the preservation of films or coatings by the control of microbial deterioration or algal growth in order to protect the initial properties of the surface of materials or objects such as paints, plastics, sealants, wall adhesives, binders, papers, art works.",208,65112,null,"PT7 - Biocidal products used for the preservation of films or coatings by the control of microbial deterioration or algal growth in order to protect the initial properties of the surface of materials or objects such as paints, plastics, sealants, wall adhesives, binders, papers, art works.",208,65112]
[null,null,null,"PP-BIO-8 Wood preservatives",209,65113,null,"PP-BIO-8 Wood preservatives",209,65113,null,"PP-BIO-8 Wood preservatives",209,65113,null,"PP-BIO-8 Wood preservatives",209,65113]
[null,null,null,"PT8 - Biocidal products used for the preservation of wood, from and including the saw-mill stage, or wood products by the control of wood-destroying or wood-disfiguring organisms, including insects.",209,65113,null,"PT8 - Biocidal products used for the preservation of wood, from and including the saw-mill stage, or wood products by the control of wood-destroying or wood-disfiguring organisms, including insects.",209,65113,null,"PT8 - Biocidal products used for the preservation of wood, from and including the saw-mill stage, or wood products by the control of wood-destroying or wood-disfiguring organisms, including insects.",209,65113,null,"PT8 - Biocidal products used for the preservation of wood, from and including the saw-mill stage, or wood products by the control of wood-destroying or wood-disfiguring organisms, including insects.",209,65113]
[null,null,null,"PP-BIO-9 Fibre, leather, rubber and polymerised materials preservatives",210,65114,null,"PP-BIO-9 Fibre, leather, rubber and polymerised materials preservatives",210,65114,null,"PP-BIO-9 Fibre, leather, rubber and polymerised materials preservatives",210,65114,null,"PP-BIO-9 Fibre, leather, rubber and polymerised materials preservatives",210,65114]
[null,null,null,"PT9 - Biocidal products used for the preservation of fibrous or polymerised materials, such as leather, rubber or paper or textile products by the control of microbiological deterioration.",210,65114,null,"PT9 - Biocidal products used for the preservation of fibrous or polymerised materials, such as leather, rubber or paper or textile products by the control of microbiological deterioration.",210,65114,null,"PT9 - Biocidal products used for the preservation of fibrous or polymerised materials, such as leather, rubber or paper or textile products by the control of microbiological deterioration.",210,65114,null,"PT9 - Biocidal products used for the preservation of fibrous or polymerised materials, such as leather, rubber or paper or textile products by the control of microbiological deterioration.",210,65114]
[null,null,null,"PP-PRD Plant protection products (excludes biocidal products)",224,null,null,"PP-PRD Plant protection products (excludes biocidal products)",224,null,null,"PP-PRD Plant protection products (excludes biocidal products)",224,null,null,"PP-PRD Plant protection products (excludes biocidal products)",224]
[null,null,null,"Plant protection products as described in Article 2 of (EC) No 1107/2009 concerning the placing of plant protection products on the market.",224,null,null,"Plant protection products as described in Article 2 of (EC) No 1107/2009 concerning the placing of plant protection products on the market.",224,null,null,"Plant protection products as described in Article 2 of (EC) No 1107/2009 concerning the placing of plant protection products on the market.",224,null,null,"Plant protection products as described in Article 2 of (EC) No 1107/2009 concerning the placing of plant protection products on the market.",224]
[null,null,null,"PP-PRD-1 Acaricides for plant protection",225,65128,null,"PP-PRD-1 Acaricides for plant protection",225,65128,null,"PP-PRD-1 Acaricides for plant protection",225,65128,null,"PP-PRD-1 Acaricides for plant protection",225,65128]
[null,null,null,"Products used to control mites.",225,65128,null,"Products used to control mites.",225,65128,null,"Products used to control mites.",225,65128,null,"Products used to control mites.",225,65128]
[null,null,null,"PP-PRD-10 Plant growth regulators",234,65137,null,"PP-PRD-10 Plant growth regulators",234,65137,null,"PP-PRD-10 Plant growth regulators",234,65137,null,"PP-PRD-10 Plant growth regulators",234,65137]
[null,null,null,"A plant growth regulator is an organic compound, either natural or synthetic, that modifies or controls one or more specific physiological processes within a plant. If the compound is produced within the plant it is called a plant hormone.",234,65137,null,"A plant growth regulator is an organic compound, either natural or synthetic, that modifies or controls one or more specific physiological processes within a plant. If the compound is produced within the plant it is called a plant hormone.",234,65137,null,"A plant growth regulator is an organic compound, either natural or synthetic, that modifies or controls one or more specific physiological processes within a plant. If the compound is produced within the plant it is called a plant hormone.",234,65137,null,"A plant growth regulator is an organic compound, either natural or synthetic, that modifies or controls one or more specific physiological processes within a plant. If the compound is produced within the plant it is called a plant hormone.",234,65137]
[null,null,null,"PP-PRD-11 Repellents for plant protection",235,65138,null,"PP-PRD-11 Repellents for plant protection",235,65138,null,"PP-PRD-11 Repellents for plant protection",235,65138,null,"PP-PRD-11 Repellents for plant protection",235,65138]
[null,null,null,"Products used to repel insects or other pests from settling on or near the plant surface.",235,65138,null,"Products used to repel insects or other pests from settling on or near the plant surface.",235,65138,null,"Products used to repel insects or other pests from settling on or near the plant surface.",235,65138,null,"Products used to repel insects or other pests from settling on or near the plant surface.",235,65138]
[null,null,null,"PP-PRD-12 Rodenticides for plant protection",236,65139,null,"PP-PRD-12 Rodenticides for plant protection",236,65139,null,"PP-PRD-12 Rodenticides for plant protection",236,65139,null,"PP-PRD-12 Rodenticides for plant protection",236,65139]
[null,null,null,"Products that controls rodents including rats, mice, squirrels, woodchucks, chipmunks, porcupines, nutria, and beavers.",236,65139,null,"Products that controls rodents including rats, mice, squirrels, woodchucks, chipmunks, porcupines, nutria, and beavers.",236,65139,null,"Products that controls rodents including rats, mice, squirrels, woodchucks, chipmunks, porcupines, nutria, and beavers.",236,65139,null,"Products that controls rodents including rats, mice, squirrels, woodchucks, chipmunks, porcupines, nutria, and beavers.",236,65139]
[null,null,null,"PP-PRD-13 Semio-chemicals",237,65140,null,"PP-PRD-13 Semio-chemicals",237,65140,null,"PP-PRD-13 Semio-chemicals",237,65140,null,"PP-PRD-13 Semio-chemicals",237,65140]
[null,null,null,"Natural or synthetic pheromones used to either attract insects for monitoring and an indication as to when to spray or to disrupt their behaviour.",237,65140,null,"Natural or synthetic pheromones used to either attract insects for monitoring and an indication as to when to spray or to disrupt their behaviour.",237,65140,null,"Natural or synthetic pheromones used to either attract insects for monitoring and an indication as to when to spray or to disrupt their behaviour.",237,65140,null,"Natural or synthetic pheromones used to either attract insects for monitoring and an indication as to when to spray or to disrupt their behaviour.",237,65140]
[null,null,null,"PP-PRD-14 Soil sterilants",238,65141,null,"PP-PRD-14 Soil sterilants",238,65141,null,"PP-PRD-14 Soil sterilants",238,65141,null,"PP-PRD-14 Soil sterilants",238,65141]
[null,null,null,"Products that temporarily or permanently prevents the growth of all plants and animals.",238,65141,null,"Products that temporarily or permanently prevents the growth of all plants and animals.",238,65141,null,"Products that temporarily or permanently prevents the growth of all plants and animals.",238,65141,null,"Products that temporarily or permanently prevents the growth of all plants and animals.",238,65141]
[null,null,null,"PP-PRD-15 Talpicides for plant protection",239,65142,null,"PP-PRD-15 Talpicides for plant protection",239,65142,null,"PP-PRD-15 Talpicides for plant protection",239,65142,null,"PP-PRD-15 Talpicides for plant protection",239,65142]
[null,null,null,"Products used to control moles.",239,65142,null,"Products used to control moles.",239,65142,null,"Products used to control moles.",239,65142,null,"Products used to control moles.",239,65142]
[null,null,null,"PP-PRD-16 Viricides for plant protection",240,65143,null,"PP-PRD-16 Viricides for plant protection",240,65143,null,"PP-PRD-16 Viricides for plant protection",240,65143,null,"PP-PRD-16 Viricides for plant protection",240,65143]
[null,null,null,"Products specifically used to control plant viruses such as leaf curl and leaf mosaic virus.",240,65143,null,"Products specifically used to control plant viruses such as leaf curl and leaf mosaic virus.",240,65143,null,"Products specifically used to control plant viruses such as leaf curl and leaf mosaic virus.",240,65143,null,"Products specifically used to control plant viruses such as leaf curl and leaf mosaic virus.",240,65143]
[null,null,null,"PP-PRD-2 Attractants (excluding semio-chemicals)",226,65129,null,"PP-PRD-2 Attractants (excluding semio-chemicals)",226,65129,null,"PP-PRD-2 Attractants (excluding semio-chemicals)",226,65129,null,"PP-PRD-2 Attractants (excluding semio-chemicals)",226,65129]
[null,null,null,"Products generally used in conjunction with traps to provide a monitoring function in crops.",226,65129,null,"Products generally used in conjunction with traps to provide a monitoring function in crops.",226,65129,null,"Products generally used in conjunction with traps to provide a monitoring function in crops.",226,65129,null,"Products generally used in conjunction with traps to provide a monitoring function in crops.",226,65129]
[null,null,null,"PP-PRD-3 Bactericides for plant protection",227,65130,null,"PP-PRD-3 Bactericides for plant protection",227,65130,null,"PP-PRD-3 Bactericides for plant protection",227,65130,null,"PP-PRD-3 Bactericides for plant protection",227,65130]
[null,null,null,"Products used to control bacteria on plants.",227,65130,null,"Products used to control bacteria on plants.",227,65130,null,"Products used to control bacteria on plants.",227,65130,null,"Products used to control bacteria on plants.",227,65130]
[null,null,null,"PP-PRD-4 Biopesticides for plant protection",228,65131,null,"PP-PRD-4 Biopesticides for plant protection",228,65131,null,"PP-PRD-4 Biopesticides for plant protection",228,65131,null,"PP-PRD-4 Biopesticides for plant protection",228,65131]
[null,null,null,"Biopesticides include derivatives of natural materials such as animals, plants and certain minerals; they also include bacteria, fungi or moulds and viruses and \"basic substances\".",228,65131,null,"Biopesticides include derivatives of natural materials such as animals, plants and certain minerals; they also include bacteria, fungi or moulds and viruses and \"basic substances\".",228,65131,null,"Biopesticides include derivatives of natural materials such as animals, plants and certain minerals; they also include bacteria, fungi or moulds and viruses and \"basic substances\".",228,65131,null,"Biopesticides include derivatives of natural materials such as animals, plants and certain minerals; they also include bacteria, fungi or moulds and viruses and \"basic substances\".",228,65131]
[null,null,null,"PP-PRD-5 Fungicides for plant protection",229,65132,null,"PP-PRD-5 Fungicides for plant protection",229,65132,null,"PP-PRD-5 Fungicides for plant protection",229,65132,null,"PP-PRD-5 Fungicides for plant protection",229,65132]
[null,null,null,"Products used to control plant fungi.",229,65132,null,"Products used to control plant fungi.",229,65132,null,"Products used to control plant fungi.",229,65132,null,"Products used to control plant fungi.",229,65132]
[null,null,null,"PP-PRD-6 Herbicides for plant protection, including haulm destructors and moss killers",230,65133,null,"PP-PRD-6 Herbicides for plant protection, including haulm destructors and moss killers",230,65133,null,"PP-PRD-6 Herbicides for plant protection, including haulm destructors and moss killers",230,65133,null,"PP-PRD-6 Herbicides for plant protection, including haulm destructors and moss killers",230,65133]
[null,null,null,"Products used to control unwanted plants.",230,65133,null,"Products used to control unwanted plants.",230,65133,null,"Products used to control unwanted plants.",230,65133,null,"Products used to control unwanted plants.",230,65133]
[null,null,null,"PP-PRD-7 Insecticides for plant protection",231,65134,null,"PP-PRD-7 Insecticides for plant protection",231,65134,null,"PP-PRD-7 Insecticides for plant protection",231,65134,null,"PP-PRD-7 Insecticides for plant protection",231,65134]
[null,null,null,"Products used to control insects.",231,65134,null,"Products used to control insects.",231,65134,null,"Products used to control insects.",231,65134,null,"Products used to control insects.",231,65134]
[null,null,null,"PP-PRD-8 Molluscicides for plant protection",232,65135,null,"PP-PRD-8 Molluscicides for plant protection",232,65135,null,"PP-PRD-8 Molluscicides for plant protection",232,65135,null,"PP-PRD-8 Molluscicides for plant protection",232,65135]
[null,null,null,"Products used to control snails and slugs.",232,65135,null,"Products used to control snails and slugs.",232,65135,null,"Products used to control snails and slugs.",232,65135,null,"Products used to control snails and slugs.",232,65135]
[null,null,null,"PP-PRD-9 Nematicides for plant protection",233,65136,null,"PP-PRD-9 Nematicides for plant protection",233,65136,null,"PP-PRD-9 Nematicides for plant protection",233,65136,null,"PP-PRD-9 Nematicides for plant protection",233,65136]
[null,null,null,"Products used to control nematodes.",233,65136,null,"Products used to control nematodes.",233,65136,null,"Products used to control nematodes.",233,65136,null,"Products used to control nematodes.",233,65136]
[null,null,null,"PP-PRD-OTH Other plant protection products",241,65144,null,"PP-PRD-OTH Other plant protection products",241,65144,null,"PP-PRD-OTH Other plant protection products",241,65144,null,"PP-PRD-OTH Other plant protection products",241,65144]
[null,null,null,"Other plant protection products not already covered.",241,65144,null,"Other plant protection products not already covered.",241,65144,null,"Other plant protection products not already covered.",241,65144,null,"Other plant protection products not already covered.",241,65144]
[null,null,null,"(blank)",null,null,null,"(blank)",null,null,null,"(blank)",null,null,null,"(blank)"]
[null,null,null,"(blank)",null,null,null,"(blank)",null,null,null,"(blank)",null,null,null,"(blank)"]

{"sheet":"Additional Category","index":19,"n_rows":39,"n_cols":5,"rows_kept":39,"cut":false,"hidden":false,"merged":[]}
["Identifier","Text",null,"Identity","ADDCAT"]
[66635,"bleached",null,"Authority","ECHA"]
["4799","brown glass",null,"Revision","2.0"]
["66625","coated",null,"Date","2023-07-14"]
["66623","coloured",null,"Phrase Group","PG6-60766 v2.0"]
["66628","composite material",null,"Source","https://echa.europa.edu/scip-format"]
["66649","compounded (other)"]
["66648","compounded with carbon black or silica"]
["66640","crust"]
["66629","enamelled"]
["66621","fibres"]
["66654","flat glass (rolled and float glass)"]
["5994","foam"]
["66637","glass wool"]
["66630","glazed"]
["66638","green glass"]
["66627","impregnated or treated (other additive chemical treatment)"]
["66632","laminated"]
["66650","latex"]
["66643","metallic glass"]
["66641","metallised leather"]
["66622","microspheres and particles"]
["66631","non-glazed"]
["66639","other coloured glass"]
["66642","patent leather"]
["66633","plated"]
["66647","polyelectrolyte"]
["129858","recovered"]
["66651","siliconated vulcanised"]
["66644","thermoplastic"]
["66645","thermoset"]
["66636","unbleached"]
["66626","uncoated"]
["66624","uncoloured"]
["66653","unvulcanised"]
["66634","vitrified"]
["66652","vulcanised (other)"]
["66646","water-soluble polymer"]
["1342","other:"]

{"sheet":"MixC","index":20,"n_rows":242,"n_cols":6,"rows_kept":242,"cut":false,"hidden":true,"merged":[]}
["Identifier","SelectableFlag","Text","AdditionalPhraseText","PhraseIndex","ParentPhrase"]
[64945,true,"F Mixtures for further formulation","Includes mixtures ('original mixtures') intended to be formulated into other mixtures by formulators in industrial settings i.e. mixtures which have no intended end-use. For ‘final mixtures’ which have an intended end-use (i.e. not for further formulation) are categorised under ‘P – Products’.",1]
[null,false,"P Products","Products (‘Final mixtures’) intended to be end-used by consumers, professional users outside of an industrial setting or by industrial users only. ‘End-use’ means the use a mixture, as a last step before the end-of-life of the mixture, namely before the mixture (or each of its components) is emitted to waste streams or the environment, is included into an article or is consumed in a process by reaction during use (including intermediate use).",2]
[null,false,"PC Chemical products (excludes biocidal products)","Excludes all biocidal products.",3,2]
[null,false,"PC-ADH Adhesives and sealants","An adhesive is a product capable of joining materials by surface bonding (adhesion), where the bond possesses adequate internal strength (cohesion). A sealant is an adhesive product applied to joints in order to fill gaps, mechanically block or protect from, for example, air and water.",4,3]
[64877,true,"PC-ADH-1 Adhesives and sealants - household, office or school use","Products for general use in the home, school, or office environment. Includes craft glues, multi-purpose glues and glue sticks, instant glues, wood glues, contact adhesives, adhesive sprays…",5,4]
[64878,true,"PC-ADH-2 Adhesives and sealants - building and construction works (except cement based adhesives)","Adhesives and sealants (gap fillers) for on-site and off-site building works such as new work, maintenance and renovations e.g. adhesives for wall coverings (including wall paper) and flooring (including carpet, PVS and linoleum, parquet) as well as civil engineering works (bridges, highway, railroad). For cement-based adhesives, see 'Mortars' in 'Construction products'.",6,4]
[64879,true,"PC-ADH-3 Adhesives and sealants - footwear and leather goods","Specialised adhesive and sealant products for leather goods and footwear e.g. for soling/sole attaching, lasting, box toes, counter, repair aftermarket etc.",7,4]
[64880,true,"PC-ADH-4 Adhesives and sealants - paper and board related processes","Specialised adhesive and sealant products intended for processing paper, board and related products such as packaging, labelling, paper to board lamination, bookbinding etc. Does not include paper adhesives primarily for home use, see 'Adhesives and sealants - household, office or school use'.",8,4]
[64881,true,"PC-ADH-5 Adhesives and sealants - transportation industry","Products containing high performing structural adhesives and sealants e.g. for motor and railed vehicles, watercraft, aircraft and spacecraft.",9,4]
[64882,true,"PC-ADH-6 Adhesives and sealants -  woodworking and joinery (includes putty)","Specialised adhesive and sealant products for cabinet making and furniture manufacturing, including putty. Does not include wood glues primarily for home use, see 'Adhesives and sealants - household, office or school use'.",10,4]
[64883,true,"PC-ADH-7 Adhesives and sealants - assembly line processes","Adhesives and sealants used in assembly line processes for example, in assembling electronic components, medical applications, toys - excluding already covered categories e.g. for paper and board related processes.",11,4]
[64884,true,"PC-ADH-8 Multi-component adhesives and sealants","Products intended to be mixed for immediate use as an adhesive or sealant.",12,4]
[64886,true,"PC-ADH-OTH Other adhesives and sealants","Other adhesives and sealants not already covered.",13,4]
[null,false,"PC-AIR Air care products","Air care products that serve to odorise or deodorise the indoor rooms (e.g. in homes, offices...) or specific objects or items (e.g. shoes, cars, household appliances...). Includes incense, candles and matches used to light them. Excludes biocidal products.",14,3]
[64946,true,"PC-AIR-1 Air care products for indoor rooms (continuous action)","Products that serve to continuously odorise or deodorise indoor air, including diffuser products (excludes incense, and scented candles).",15,14]
[64947,true,"PC-AIR-2 Air care products for indoor rooms (instant action)","Products that serve to instantly odorise or deodorise the indoor air environment.",16,14]
[64948,true,"PC-AIR-3 Air care products for shoes","",17,14]
[64949,true,"PC-AIR-4 Air care products for vehicles","",18,14]
[64950,true,"PC-AIR-5 Ambient deodorisers (excludes room deodorisers)","Applies to certain products where the only intended use is to deodorise enclosed spaces (e.g. wardrobes, cupboards…), household appliances (e.g. refrigerator, vacuum cleaner…) or objects (e.g. rubbish bins…). Excludes deodorising products in PC-AIR  e.g. for rooms, shoes or vehicles.  Does not apply to products used to deodorise textiles or carpet, see 'Textile fresheners/deodorisers' or carpets and upholstery, see 'Deodorisers or fresheners for carpet/upholstery'.",19,14]
[64951,true,"PC-AIR-6 Incense","",20,14]
[64952,true,"PC-AIR-7 Candles - scented and unscented","",21,14]
[64953,true,"PC-AIR-8 Matches","",22,14]
[64954,true,"PC-AIR-OTH Other air care products","Other air care products and ambient deodorisers not already covered.",23,14]
[null,false,"PC-ANI Products for animals","Products for animal care including animal feed additives (excluding biocidal products, veterinary medicines, feed materials, compound feed, pet food, and medicated feed).",24,3]
[64955,true,"PC-ANI-1 Additives and premixtures for animal feed","Products which are intentionally added to feed or water in order to perform a particular function. Excludes food and feeding products.",25,24]
[64956,true,"PC-ANI-2 Animal shampoos and conditioners","Excludes biocidal products.",26,24]
[64957,true,"PC-ANI-OTH Other products for animals (excluding biocidal products)","",27,24]
[null,false,"PC-ART Art materials (including chemical products used for decorative purposes)","Includes paints and other art and craft materials for artistic expression or decorative purposes, including auxiliary materials. For art and craft adhesives, see 'Adhesives and sealants - household, office or school use'.",28,3]
[64958,true,"PC-ART-1 Artists’, craft and hobby paints","Paints for artistic and creative expression and for colouring/decoration of articles (excludes 'Finger paints' and graffiti/street art spray paints - see 'Aerosol paints and coatings').",29,28]
[64959,true,"PC-ART-2 Finger paints","Paints for use in play by children, applied using the fingers directly.",30,28]
[64960,true,"PC-ART-3 Crayons, chalks and pastels","Mixtures in solid/compressed form for colouring/drawing in creative expression or play.",31,28]
[64961,true,"PC-ART-4 Auxiliary materials for artists","Auxiliary artists’ materials including carriers/vehicles (such as oils), solvents/thinners, special effect agents, tinting mediums, fast and slow drying gels, fixatives and varnishes.",32,28]
[64962,true,"PC-ART-5 Modelling compounds","Creative modelling/sculpting material for adults or children, such as clays (ceramic, polymeric etc.).",33,28]
[64963,true,"PC-ART-6 Chemical products used for decorative purposes","Includes chemical products such as artificial snow/snow flakes/frost, artificial cobwebs, ….",34,28]
[64964,true,"PC-ART-OTH Other art  materials (including chemical products used for decorative purposes)","Other art  materials and chemical products used for decorative purposes not already covered",35,28]
[null,false,"PC-CLN Cleaning, care and maintenance products (excludes biocidal products)","For detergents, see 'Detergents and auxiliaries for laundry and dishwashing (excludes biocidal products)'.",36,3]
[64965,true,"PC-CLN-1 Abrasive cleaning products","Products intended to clean surfaces through mechanical action including e.g. all- or multipurpose cleaners, cleaners for kitchen, toilet or bathroom areas.",37,36]
[64966,true,"PC-CLN-2 All-purpose (or multi-purpose) non-abrasive cleaners","",38,36]
[64967,true,"PC-CLN-3 Bleaching products for cleaning or laundry use (excludes biocidal products)","",39,36]
[64968,true,"PC-CLN-4 Descaling products","",40,36]
[64969,true,"PC-CLN-5 Drain cleaning products","",41,36]
[64970,true,"PC-CLN-6 Fireplace and smoke resin cleaners","Includes products for smokehouses and chimneys.",42,36]
[64971,true,"PC-CLN-7 Glass/window/mirror cleaning products (excludes windscreens)","For windscreen cleaners, see 'Windscreen/windshield cleaners'.",43,36]
[64972,true,"PC-CLN-8 Indoor furniture cleaning/care products (excludes leather and upholstery)","Products for the cleaning and care of indoor wooden and other hard surface furniture. Includes general cleaning products, dust sprays, polishes, conditioners…",44,36]
[64973,true,"PC-CLN-9 Outdoor cleaners (excludes stone, concrete and similar surfaces)","Products for the cleaning and care for example, for garden furniture, wooden terraces and decks, fences…  (excludes biocidal products). For cleaning of outdoor pavements, pathways... see 'Heavy duty cleaning products for stone and similar surfaces'.",45,36]
[null,false,"PC-CLN-10 Kitchen and related cleaning products (excludes biocidal products)","Excludes 'Biocidal products',  descalers (see 'Descaling products') and abrasive cleaners (see 'Abrasive cleaning products').",46,36]
[64974,true,"PC-CLN-10.1 Cleaners for kitchen areas","Products including multi-surface, degreasers, and kitchen tile cleaners.",47,46]
[64975,true,"PC-CLN-10.2 Cleaners for kitchen machinery and equipment","Excludes descalers, see 'Descaling products'.",48,46]
[64976,true,"PC-CLN-10.3 Cooking hob cleaning/care products","",49,46]
[64977,true,"PC-CLN-10.4 Oven, grill or barbecue cleaners","",50,46]
[64978,true,"PC-CLN-10.OTH Other kitchen and related cleaning products","",51,46]
[null,false,"PC-CLN-11 Bathroom and toilet cleaning/care products (excludes biocidal products)","Excludes 'Biocidal products', descalers (see 'Descaling products') and abrasive cleaners (see 'Abrasive cleaning products').",52,36]
[64979,true,"PC-CLN-11.1 Bathroom cleaners","Includes multi-surface and bathroom tile cleaners.",53,52]
[64980,true,"PC-CLN-11.2 Toilet cleaners","Excludes multi-flush agents.",54,52]
[64981,true,"PC-CLN-11.3 Multi-flush products for toilets","Multi flush agents for cistern or rim use.",55,52]
[64982,true,"PC-CLN-11.OTH Other bathroom and toilet cleaning/care products (excludes biocidal products)","",56,52]
[null,false,"PC-CLN-12 Stone, tile and grout cleaning/care products","Excludes biocidal products as well as for use in kitchen and bathroom areas.",57,36]
[64983,true,"PC-CLN-12.1 Cleaning/care products for stone and tiles - regular use","Cleaning products intended to be used on a regular basis for the maintenance of stone and tile surfaces including floors. Excludes products specifically for kitchen, toilet and bathroom areas.",58,57]
[64984,true,"PC-CLN-12.2 Heavy duty cleaning products for stone and similar surfaces","Products for heavy duty cleaning of stone and similar surface including outdoor pavements, pathways, headstones, …",59,57]
[64985,true,"PC-CLN-12.3 Grout cleaners","Product specifically intended to clean grout.",60,57]
[64986,true,"PC-CLN-12.OTH Other stone, tile and grout cleaning/care products","Excludes biocidal products as well as for use in kitchen and bathroom areas.",61,57]
[null,false,"PC-CLN-13 Floor cleaning, care and maintenance products (excludes stone and tile)","Excludes products for stone and tile floors - see 'Stone, tile and grout cleaning/care products'.",62,36]
[64987,true,"PC-CLN-13.1 Floor cleaning products","Cleaning products intended to be used on a regular basis for the maintenance of floors, including unit-dose capsules. Excludes stone and tile floors, see 'Stone, tile and grout cleaning/care products'.",63,62]
[65145,true,"PC-CLN-13.2 Floor care products e.g. waxes, emulsions","",64,62]
[64988,true,"PC-CLN-13.3 Floor strippers","Excludes paint strippers - see 'Paint removers, thinners and related auxiliaries'.",65,62]
[64990,true,"PC-CLN-13.OTH Other floor cleaning, care and maintenance products (excludes stone and tile)","",66,62]
[null,false,"PC-CLN-14 Carpet and upholstery products","Includes cleaning products for carpet and upholstery.",67,36]
[64991,true,"PC-CLN-14.1 Cleaning products for carpet/upholstery","",68,67]
[64992,true,"PC-CLN-14.2 Deodorisers or fresheners for carpet/upholstery","Excludes textile fresheners - see 'Textile fresheners/deodorisers'.",69,67]
[64993,true,"PC-CLN-14.OTH Other carpet and upholstery products","",70,67]
[null,false,"PC-CLN-15 Cleaners for specific personal items","",71,36]
[64994,true,"PC-CLN-15.1 Cleaners for eyewear","Excludes contact lens cleaning solutions.",72,71]
[64995,true,"PC-CLN-15.2 Cleaners for home electronic screens","",73,71]
[64996,true,"PC-CLN-15.3 Cleaners for musical instruments","",74,71]
[64997,true,"PC-CLN-15.4 Metal polish/tarnish remover","Includes cleaners for jewellery, silverware and other metals such as brass, copper…",75,71]
[64998,true,"PC-CLN-15.OTH Other cleaners for specific personal items","",76,71]
[null,false,"PC-CLN-16 Textile and leather cleaning and care products (including footwear)","Products for the cleaning and care of textile and leather goods including footwear. Excludes upholstery, see 'Carpet and upholstery products'; excludes colourants, see 'Dyes' or 'Pigments'.",77,36]
[64999,true,"PC-CLN-16.1 Leather - cleaning and care products","Products intended to clean or condition leather articles such footwear, furniture and other leather goods in order to preserve or restore strength, appearance and flexibility (excludes 'Impregnation products').",78,77]
[65000,true,"PC-CLN-16.2 Textile footwear - cleaning products","Cleaning products for textile footwear (excluding leather footwear).",79,77]
[65001,true,"PC-CLN-16.3 Textile fresheners/deodorisers","Excludes air care products for footwear, see 'Air care products for shoes'.",80,77]
[65002,true,"PC-CLN-16.4 Dry cleaning and associated products","Products intended to clean textiles in non-aqueous cleaning processes.",81,77]
[65003,true,"PC-CLN-16.5 Impregnation products for finished textiles and leather goods","Products intended for waterproofing or as a dirt repellent for finished textiles and leather goods. Does not include impregnation products used in the industrial processing of textiles or leather - see ‘Textile treatment products’ or ‘Leather treatment products’.",82,77]
[65004,true,"PC-CLN-16.6 Outdoor textiles - cleaning products","Products intended to clean awnings, tents, tarpaulins, sails…",83,77]
[65005,true,"PC-CLN-16.OTH Other textile and leather cleaning and care products (including footwear)","Excludes colourants, see 'Dyes'.",84,77]
[null,false,"PC-CLN-17 Vehicle (all types) cleaning and care products","",85,36]
[65006,true,"PC-CLN-17.1 Exterior cleaning products - all vehicle types","Includes automotive shampoos and other products intended to remove dirt, grease and grime from car exteriors.",86,85]
[65007,true,"PC-CLN-17.2 Exterior care products -  all vehicle types","Includes lacquers, polishes, waxes…",87,85]
[65008,true,"PC-CLN-17.3 Interior cleaning and care products (excludes air care products, and products for upholstery or leather)","Cleaning and care products used to clean interior surfaces of vehicles e.g. rubber, vinyl, plastic. For leather upholstery see 'Leather - cleaning and care products'. For fabric and textile upholstery cleaners, see 'Cleaning products for carpet/upholstery'.",88,85]
[65009,true,"PC-CLN-17.4 Engine cleaners","",89,85]
[65010,true,"PC-CLN-17.5 Brake cleaners","",90,85]
[65011,true,"PC-CLN-17.6 Chromium, rim and other metal cleaners -  all vehicle types","",91,85]
[65012,true,"PC-CLN-17.7 Windscreen/windshield cleaners","Products intended to wash vehicular windscreens/windshields by direct application.",92,85]
[65013,true,"PC-CLN-17.8 Windscreen/windshield wash fluid","Product added to vehicles for the cleaning of the windscreen by the windscreen wipers.",93,85]
[65014,true,"PC-CLN-17.OTH Other vehicle (all types) cleaning and care products","",94,85]
[65015,true,"PC-CLN-OTH Other cleaning, care and maintenance products (excludes biocidal products)","",95,36]
[null,false,"PC-COL Colourants","Includes end-use products intended to impart colour e.g. to textiles, leather. For colourants with no end-use e.g. raw materials, see 'F - Mixtures for further formulation'.",96,3]
[65016,true,"PC-COL-1 Dyes","Soluble colourants.",97,96]
[65017,true,"PC-COL-2 Pigments","Insoluble colourants.",98,96]
[null,false,"PC-CON Construction products","Construction products include products for incorporation in construction works (building or engineering works) or parts of them (except biocidal products).",99,3]
[65018,true,"PC-CON-1 Cement","Cement is a hydraulic binder, i.e. a finely ground inorganic material which, when mixed with water, forms a paste that sets and hardens by means of hydration reactions and processes after which, it retains its strength and stability even under water.",100,99]
[65019,true,"PC-CON-2 Concrete","Concrete is a product formed by mixing cement, coarse/fine aggregate and water (with or without the incorporation of admixtures and additions) which develops it's properties by hydration of the cement.",101,99]
[65020,true,"PC-CON-3 Gypsum","Gypsum products are primarily based on calcium sulphate and include gypsum plasters, floor screeds and fillers.",102,99]
[65021,true,"PC-CON-4 Mortars","Mortar is a generic term comprising masonry and repair mortars, plaster and renders, screeds and cement-based adhesives (for other non-cementitious adhesives see 'Adhesives and sealants - building and construction works').",103,99]
[65022,true,"PC-CON-5 Construction chemicals","Construction chemicals include products that are added to or on construction materials on the construction site: to improve workability or enhance performance e.g. admixtures and additives (polycarboxylates, polycondensate resins, cellulose ethers, siloxanes, biopolymers...) for concrete and mortar; for special functionality e.g. modified mineral mortar systems (repair mortars, renders, sealing and bonding products, e.g. polymer dispersions, epoxy resins, polyurethanes... ); for protecting the construction materials or the finished structure made out of them e.g. concrete release agents, hydrophobing agents, reactive resins, liquid applied membranes for waterproofing, modified bitumen- based emulsions for waterproofing….",104,99]
[65023,true,"PC-CON-OTH Other construction products","",105,99]
[null,false,"PC-DET Detergents and auxiliaries for laundry and dishwashing (excludes biocidal products)","Products containing soaps and/or other surfactants intended for washing and cleaning processes. Detergents may be in any form (liquid, powder, paste, bar, cake, moulded piece, shape, etc.) and marketed for or used in household, or professional or industrial purposes.",106,3]
[null,false,"PC-DET-1 Laundry detergents","This category covers products for the washing and conditioning of laundry in household (including in launderettes and common laundries) and industrial washing machines.",107,106]
[65024,true,"PC-DET-1.1 Laundry detergent for hand washing","A detergent product to be used specifically for the hand washing of laundry.",108,107]
[65025,true,"PC-DET-1.2 Laundry detergents - household use","Includes unit-dose capsules.",109,107]
[65026,true,"PC-DET-1.3 Laundry detergents - professional or industrial use","Includes unit-dose capsules.",110,107]
[65027,true,"PC-DET-1.OTH Other laundry detergents","",111,107]
[null,false,"PC-DET-2 Auxiliary laundry and care products (excludes biocidal products)","Excludes laundry bleaches, see 'Bleaching products for cleaning or laundry use (excludes biocidal products)'; excludes textile fresheners, see 'Textile fresheners/deodorisers'.",112,106]
[65028,true,"PC-DET-2.1 Detergency boosters and in-wash stain removers","In-wash products intended to enhance the cleaning performance of the washing process or remove stains from textiles.",113,112]
[65029,true,"PC-DET-2.2 Fabric softeners","Products intended to modify the feel of fabrics in processes which are to complement the washing of fabrics.",114,112]
[65030,true,"PC-DET-2.3 Ironing aid products","",115,112]
[65031,true,"PC-DET-2.4 Laundry starch","",116,112]
[65032,true,"PC-DET-2.5 Pre-treatment stain removers","Products intended to treat stains before the washing process.",117,112]
[65033,true,"PC-DET-2.6 Rinse agents for laundry (excludes biocidal products)","",118,112]
[65034,true,"PC-DET-2.7 Washing machine care agents","Does not apply to products that are only used to deodorise, see 'Ambient deodorisers '.",119,112]
[65035,true,"PC-DET-2.8 Whitening agents or optical brighteners","Whitening agents or optical brighteners are fluorescent whitening agents that reflect the ultra-violet rays of the sun as white, visible light, giving the clothing an impression of whiteness.",120,112]
[65036,true,"PC-DET-2.OTH Other auxiliary laundry and care products (excludes biocidal products)","",121,112]
[null,false,"PC-DET-3 Dishwashing detergents","Includes unit dose.",122,106]
[65037,true,"PC-DET-3.1 Automatic dishwashing detergents - household use","",123,122]
[65038,true,"PC-DET-3.2 Automatic dishwashing detergents - professional or industrial use","Products primarily for use e.g. in professional restaurants, institutional settings...",124,122]
[65039,true,"PC-DET-3.3 Hand dishwashing detergents","Detergents intended to be used to wash dishes by hand.",125,122]
[65040,true,"PC-DET-3.OTH Other dishwashing detergents","",126,122]
[null,false,"PC-DET-4 Auxiliary dishwashing and care products","",127,106]
[65041,true,"PC-DET-4.1 Dishwasher salt","",128,127]
[65042,true,"PC-DET-4.2 Dishwashing machine care agents","Includes anti corrosion products. Does not apply to products that are only intended to deodorise, see 'Ambient deodorisers '.",129,127]
[65043,true,"PC-DET-4.3 Glass protection products","",130,127]
[65044,true,"PC-DET-4.4 Rinse agents for dishes","Products intended to improve rinsing and prevent filming on dishes.",131,127]
[65045,true,"PC-DET-4.OTH Other auxiliary dishwashing and care products","",132,127]
[null,false,"PC-ELQ E-liquids and mixtures for electronic cigarettes","",133,3]
[107824,true,"PC-ELQ-1 E-liquids for electronic cigarettes","E-liquids for electronic cigarettes are mixtures, which are supplied to the end-user as ready-for-use products for vaping.",134,133]
[107825,true,"PC-ELQ-2 Mixtures for e-liquids","Mixtures for e-liquids are supplied as part of the so-called self-mixing kits, where the user is responsible for preparing the final e-liquid based on the specific instructions of the supplier. These mixtures are not intended for use in electronic cigarettes as such.",135,133]
[null,false,"PC-FER Fertilisers and fertilising products","Products applied or intended to be applied, either on its own or mixed with another material, on plants or their rhizosphere for the purpose of providing plants with nutrient or improving their nutrition efficiency. Excludes 'Soil remediation products' used for contaminated areas.",136,3]
[65047,true,"PC-FER-1 Fertilisers","Products primarily aimed at providing nutrients to plants. Includes fertilisers mixed, for example, with inhibitors or chelating agents.",137,136]
[65048,true,"PC-FER-2 Liming material","Products aimed at correcting soil acidity, and containing oxides, hydroxides, carbonates or silicates of the nutrients calcium (Ca) or magnesium (Mg).",138,136]
[65049,true,"PC-FER-3 Soil improvers","Products aimed at being added to the soil for the purpose of maintaining, improving or protecting the physical or chemical properties, the structure or the biological activity of soil.",139,136]
[65050,true,"PC-FER-4 Growing media","A growing material shall be a material other than soil intended for use as a substrate for root development.",140,136]
[65051,true,"PC-FER-5 Agronomic additives","Products intended to be added to a product providing plants with nutrient, with the intention to improve that products’ nutrient release patterns.",141,136]
[65052,true,"PC-FER-6 Plant biostimulants","Products stimulating plant nutrition processes independently of the product’s nutrient content with the sole aim of improving one or more of the following characteristics of the plant: (a) nutrient use efficiency; (b) tolerance to abiotic stress or (c) crop quality traits.",142,136]
[65053,true,"PC-FER-7 Combination of fertilisers and fertilising products","Includes products containing a combination of fertiliser and fertilising product categories. Does not apply to products where the primary aim is to provide nutrition, see 'Fertilisers'.",143,136]
[null,false,"PC-FUE Fuels (and fuel additives)","Includes fuels for vehicles and machinery, lamp oils (e.g. for decorative lamps), grill lighter fluids and lamp fuels for portable devices (e.g. for outdoor cooking).",144,3]
[65054,true,"PC-FUE-1 Fuels for vehicles and machinery","",145,144]
[65055,true,"PC-FUE-2 Lamp oils","Includes scented and unscented lamp oils.",146,144]
[65056,true,"PC-FUE-3 Grill lighter fluids","Lighter fluids e.g. for charcoal grills.",147,144]
[65057,true,"PC-FUE-4 Camp fuels","Fuels for portable heating, cooking and lighting devices e.g. camping stoves and lanterns (excludes lamp oils).",148,144]
[65058,true,"PC-FUE-5 Fuel additives and fuel components","Products added to fuels to impart or enhance desirable properties or to supress undesirable properties. Excludes heat transfer fluids, see 'Heat transfer fluids'.",149,144]
[65059,true,"PC-FUE-OTH Other fuels","",150,144]
[null,false,"PC-INK Inks, toners and related printing materials","Excludes tattoo inks, see ‘Tattoo inks’.",151,3]
[65060,true,"PC-INK-1 Writing and drawing inks","Inks for use in writing or drawing by hand, e.g. by pen, brush etc. Includes inks for stamp pad use.",152,151]
[65061,true,"PC-INK-2 Inks and toners for home and office printers","Inks and toners used for printing in the home and office environment.",153,151]
[65062,true,"PC-INK-3 Commercial printing inks, toners and related finishing products","Products for  industrial or professional printing processes (flexography, lithography, screen printing, etc.).",154,151]
[65063,true,"PC-INK-4 Pressroom chemicals","Pressroom chemicals other than inks, such as fountain solutions, blanket washes etc.",155,151]
[65064,true,"PC-INK-5 Correction fluids","Fluids used to cover up permanent ink so that corrections can be made.",156,151]
[65065,true,"PC-INK-OTH Other inks, toners and related printing materials","Other inks, toners and related printing materials not already covered.",157,151]
[null,false,"PC-MED Medical devices","Medical devices as defined in Regulation (EU) 2017/745 of the European Parliament and of the Council on medical devices.",158,3]
[107826,true,"PC-MED-1 Medical devices for cleaning or disinfection","Products used for the cleaning, disinfection or sterilisation of medical devices (excluding biocidal or cleaning products).",159,158]
[107827,true,"PC-MED-OTH Other medical devices","Other medical devices.",160,158]
[null,false,"PC-PNT Paints and coatings (and related auxiliaries)","Products in liquid, paste or powder form which, when applied to a substrate, form a (clear or opaque) dried film possessing protective, decorative and or other specific technical properties. Excludes chemical products used for priming or protection of construction materials, see ‘Construction chemicals'.",161,3]
[65066,true,"PC-PNT-1 Aerosol paints and coatings","Paints and coatings supplied in ready-to-use aerosol canisters for spray application.",162,161]
[65067,true,"PC-PNT-2 Paints/coatings - Decorative","Paints and coatings  (including tinters for deco mixing systems) for decorative architectural use e.g. of interior and exterior surfaces of buildings and fixtures. Includes varnishes and wood stains.",163,161]
[65068,true,"PC-PNT-3 Paints/coatings - Protective and functional","Protective coatings that are characterised as 'paint' (e.g. anti-corrosion, fire retardants etc.) and paints for specific functional purposes (e.g. tank/pipe lining, road marking, anti-graffiti etc.). Excludes chemical products used for priming or the protection of construction materials - see 'Construction chemicals'.",164,161]
[65069,true,"PC-PNT-4 Marine vessel coatings (excludes anti-fouling products)","Coatings for the protection/finishing of all watercraft. Excludes anti-foulants, see 'Anti-fouling products'.",165,161]
[65070,true,"PC-PNT-5 Automotive and aerospace coatings","Coatings for vehicles and aircraft (or their parts). Includes OEM (original equipment manufacturer) i.e. factory-applied coatings, paints, hardeners and reducers for repair and refinishing etc.",166,161]
[65071,true,"PC-PNT-6 Factory-applied coatings (excludes categories already covered)","Coatings applied in a production setting e.g. for electrical appliances and other metal goods, furniture, metal packaging etc. Excludes already covered categories for 'Paints and coatings (and related auxiliaries)'.",167,161]
[65072,true,"PC-PNT-7 Paint removers, thinners and related auxiliaries","Chemicals for removal/dilution of paint, sanding aids, cleaning of brushes etc.",168,161]
[65073,true,"PC-PNT-OTH Other paints and coating materials","Other paints and coating materials not already covered.",169,161]
[113222,true,"PC-PYR Pyrotechnic products","Pyrotechnic products as defined in the EU Directive 2013/29/EU on pyrotechnic articles.",170,3]
[65079,true,"PC-TAT Tattoo inks","Includes permanent tattoo inks for artisitic or other purposes.",171,3]
[null,false,"PC-TEC Products for  chemical or technical processes","This category only includes end-use products. It does not apply to products with no end-use e.g. raw materials, see 'F - Mixtures for further formulation'.",172,3]
[65080,true,"PC-TEC-1 Adsorbents","Adsorbent products used in various industry sectors for a range of applications.",173,172]
[65081,true,"PC-TEC-2 Antifreeze and de-icing products","Antifreeze products are intended to reduce the freezing point of surfaces. De-icing products reduce the freezing point of surfaces with the intention to remove ice.",174,172]
[65082,true,"PC-TEC-3 Desiccants","Products used primarily to absorb moisture. Includes silica gel.",175,172]
[65083,true,"PC-TEC-4 Electrolytes for batteries","Mixtures (liquids or pastes) designed to serve as electrolytes in batteries.",176,172]
[65084,true,"PC-TEC-5 Fire extinguishers","Products containing fire extinguishing chemicals (e.g. foam) to assist with the control of small fires.",177,172]
[65085,true,"PC-TEC-6 Fragrances","Includes fragrance mixtures for end-use only.",178,172]
[65086,true,"PC-TEC-7 Heat transfer fluids","",179,172]
[65087,true,"PC-TEC-8 Hydraulic fluids, including brake and transmission fluids","",180,172]
[65088,true,"PC-TEC-9 Intermediates","A substance that is manufactured for and consumed in or used for chemical processing in order to be transformed into another substance (REACH, Article 3(15)).",181,172]
[65089,true,"PC-TEC-10 Leather treatment products (excludes dyes and pigments)","Products used for the upstream industrial processing of leather, including relevant impregnation products. For dyes and pigments, see 'Colourants'. For other impregnation products for finished leather goods, see 'Impregnation products for finished textiles and leather goods'.",182,172]
[65090,true,"PC-TEC-11 Lubricants, greases, release agents","",183,172]
[65091,true,"PC-TEC-12 Metal surface treatment products","This covers products containing substances permanently binding with the metal surface. It includes e.g. galvanic and electroplating products.",184,172]
[65092,true,"PC-TEC-13 Metal working fluids","",185,172]
[65093,true,"PC-TEC-14 Paper and board treatment products (excluding dyes)","This category includes e.g. bleaches, finishing, impregnation products and other processing aids. For dyes, see 'Dyes'.",186,172]
[65094,true,"PC-TEC-15 Photochemicals","Products for the chemical processing of photosensitive materials.",187,172]
[65095,true,"PC-TEC-16 Polymer preparations and compounds","",188,172]
[65096,true,"PC-TEC-17 Processing aids","This category covers processing aids used in various industry sectors (unless otherwise specified in subcategories of 'PC-TEC', e.g. paper and board treatment products, leather treatment products ...). Products include  pH-regulators, flocculants, precipitants, neutralisation agents, catalysts, emulsifiers, solubilisers, dispersing agents...",189,172]
[65097,true,"PC-TEC-18 Products used in mining, oil or gas exploration processes","Excludes production products i.e. raw materials.",190,172]
[65098,true,"PC-TEC-19 Reagents and laboratory chemicals","Reagents and laboratory chemicals include products of sufficient purity for use e.g. in chemical analysis, chemical reactions.",191,172]
[65099,true,"PC-TEC-20 Soil remediation products","Products e.g. for the remediation of contaminated soils. Excludes 'Fertilisers or fertilising products'.",192,172]
[65100,true,"PC-TEC-21 Solvents and extraction agents","",193,172]
[65101,true,"PC-TEC-22 Surfactants mixtures for industrial applications","",194,172]
[65102,true,"PC-TEC-23 Textile treatment products (excludes dyes and pigments)","Products used for the upstream industrial  processing of textiles, including impregnation products. For dyes and pigments, see 'Colourants'. For impregnation products for finished textiles, see 'Impregnation products for finished textiles and leather goods’.",195,172]
[65103,true,"PC-TEC-24 Welding, soldering, and flux products","Excludes 'Metal surface treatment products' and 'Metal working fluids'.",196,172]
[107829,true,"PC-TEC-25 Alloys","",197,172]
[65104,true,"PC-TEC-OTH Other products for  chemical or technical processes","Other products for  chemical or technical processes not already covered.",198,172]
[65105,true,"PC-UNC Chemical products - uncategorised","Chemical products where no suitable intended use category exists in the system at the third level.",199,3]
[null,false,"PP Biocides and plant protection products","",200,2]
[null,false,"PP-BIO Biocidal products","Biocidal product types as referred to in Article 2(1) of the Biocidal Products Regulation (EU) No 528/2012.",201,200]
[65106,true,"PP-BIO-1 Biocidal products for human hygiene","PT1 - Biocidal products used for human hygiene purposes applied on or in contact with human skin or scalps for the primary purpose of disinfecting the skin or scalp.",202,201]
[65107,true,"PP-BIO-2 Disinfectants and algaecides not intended for direct application to humans or animals","PT2 - Biocidal products used for the disinfection of surfaces, materials, equipment and furniture which are not used for direct contact with food or feeding stuffs. Usage areas include, inter alia, swimming pools, aquariums, bathing and other waters; air conditioning systems; and walls and floors in private, public and industrial areas and in other areas for professional activities.",203,201]
[65108,true,"PP-BIO-3 Biocidal products for veterinary hygiene","PT3 - Biocidal products used for veterinary hygiene such as disinfectants, disinfecting soaps, oral or corporal hygiene products or with anti-microbial function.",204,201]
[65109,true,"PP-BIO-4 Biocidal products for food and feed area","PT4 - Biocidal products used for the disinfection of equipment, containers, consumption utensils, surfaces or pipework associated with the production, transport, storage or consumption of food or feed (including drinking water) for humans and animals.",205,201]
[65110,true,"PP-BIO-5 Biocidal products for drinking water","PT5 - Biocidal products used for the disinfection of drinking water for both humans and animals.",206,201]
[65111,true,"PP-BIO-6 Biocidal products used as preservatives for products during storage","PT6 - Biocidal products used for the preservation of manufactured products, other than foodstuffs, feeding stuffs, cosmetics or medicinal products or medical devices by the control of microbial deterioration to ensure their shelf life.",207,201]
[65112,true,"PP-BIO-7 Film preservatives","PT7 - Biocidal products used for the preservation of films or coatings by the control of microbial deterioration or algal growth in order to protect the initial properties of the surface of materials or objects such as paints, plastics, sealants, wall adhesives, binders, papers, art works.",208,201]
[65113,true,"PP-BIO-8 Wood preservatives","PT8 - Biocidal products used for the preservation of wood, from and including the saw-mill stage, or wood products by the control of wood-destroying or wood-disfiguring organisms, including insects.",209,201]
[65114,true,"PP-BIO-9 Fibre, leather, rubber and polymerised materials preservatives","PT9 - Biocidal products used for the preservation of fibrous or polymerised materials, such as leather, rubber or paper or textile products by the control of microbiological deterioration.",210,201]
[65115,true,"PP-BIO-10 Construction material preservatives","PT10 - Biocidal products used for the preservation of masonry, composite materials, or other construction materials other than wood by the control of microbiological, and algal attack.",211,201]
[65116,true,"PP-BIO-11 Preservatives for liquid-cooling and processing systems","PT11 - Biocidal products used for the preservation of water or other liquids used in cooling and processing systems by the control of harmful organisms such as microbes, algae and mussels.",212,201]
[65117,true,"PP-BIO-12 Slimicides","PT12 - Biocidal products used for the prevention or control of slime growth on materials, equipment and structures, used in industrial processes, e.g. on wood and paper pulp, porous sand strata in oil extraction.",213,201]
[65118,true,"PP-BIO-13 Working or cutting fluid preservatives","PT13 - Biocidal products to control microbial deterioration in fluids used for working or cutting metal, glass or other materials.",214,201]
[65119,true,"PP-BIO-14 Rodenticides (excluding for plant protection)","PT14 - Biocidal products used for the control of mice, rats or other rodents, by means other than repulsion or attraction.",215,201]
[65120,true,"PP-BIO-15 Avicides","PT15 - Biocidal products used for the control of birds, by means other than repulsion or attraction.",216,201]
[65121,true,"PP-BIO-16 Molluscicides, vermicides and products to control other invertebrates (excluding plant protection products)","PT16 - Biocidal products used for the control of molluscs, worms and invertebrates not covered by other product-types, by means other than repulsion or attraction.",217,201]
[65122,true,"PP-BIO-17 Piscicides","PT17 - Biocidal products used for the control of fish, by means other than repulsion or attraction.",218,201]
[65123,true,"PP-BIO-18 Insecticides, acaricides and products to control other arthropods (excluding equivalent products when used as pesticides)","PT18 - Biocidal products used for the control of arthropods (e.g. insects, arachnids and crustaceans) by means other than repulsion or attraction.",219,201]
[65124,true,"PP-BIO-19 Repellents and attractants","PT19 - Biocidal products used to control harmful organisms (invertebrates such as fleas, vertebrates such as birds, fish, rodents), by repelling or attracting.",220,201]
[65125,true,"PP-BIO-20 Control of other vertebrates","PT20 - Biocidal products used for the control of vertebrates other than those already covered by the other product-types of this main group by means other than repulsion or attraction.",221,201]
[65126,true,"PP-BIO-21 Antifouling products","PT21- Biocidal products used to control the growth and settlement of fouling organisms (microbes and higher forms of plant or animal species) on vessels, aquaculture equipment or other structures used in water.",222,201]
[65127,true,"PP-BIO-22 Embalming and taxidermist fluids","PT22 - Biocidal products used for the disinfection and preservation of human or animal corpses or parts thereof.",223,201]
[null,false,"PP-PRD Plant protection products (excludes biocidal products)","Plant protection products as described in Article 2 of (EC) No 1107/2009 concerning the placing of plant protection products on the market.",224,200]
[65128,true,"PP-PRD-1 Acaricides for plant protection","Products used to control mites.",225,224]
[65129,true,"PP-PRD-2 Attractants (excluding semio-chemicals)","Products generally used in conjunction with traps to provide a monitoring function in crops.",226,224]
[65130,true,"PP-PRD-3 Bactericides for plant protection","Products used to control bacteria on plants.",227,224]
[65131,true,"PP-PRD-4 Biopesticides for plant protection","Biopesticides include derivatives of natural materials such as animals, plants and certain minerals; they also include bacteria, fungi or moulds and viruses and \"basic substances\".",228,224]
[65132,true,"PP-PRD-5 Fungicides for plant protection","Products used to control plant fungi.",229,224]
[65133,true,"PP-PRD-6 Herbicides for plant protection, including haulm destructors and moss killers","Products used to control unwanted plants.",230,224]
[65134,true,"PP-PRD-7 Insecticides for plant protection","Products used to control insects.",231,224]
[65135,true,"PP-PRD-8 Molluscicides for plant protection","Products used to control snails and slugs.",232,224]
[65136,true,"PP-PRD-9 Nematicides for plant protection","Products used to control nematodes.",233,224]
[65137,true,"PP-PRD-10 Plant growth regulators","A plant growth regulator is an organic compound, either natural or synthetic, that modifies or controls one or more specific physiological processes within a plant. If the compound is produced within the plant it is called a plant hormone.",234,224]
[65138,true,"PP-PRD-11 Repellents for plant protection","Products used to repel insects or other pests from settling on or near the plant surface.",235,224]
[65139,true,"PP-PRD-12 Rodenticides for plant protection","Products that controls rodents including rats, mice, squirrels, woodchucks, chipmunks, porcupines, nutria, and beavers.",236,224]
[65140,true,"PP-PRD-13 Semio-chemicals","Natural or synthetic pheromones used to either attract insects for monitoring and an indication as to when to spray or to disrupt their behaviour.",237,224]
[65141,true,"PP-PRD-14 Soil sterilants","Products that temporarily or permanently prevents the growth of all plants and animals.",238,224]
[65142,true,"PP-PRD-15 Talpicides for plant protection","Products used to control moles.",239,224]
[65143,true,"PP-PRD-16 Viricides for plant protection","Products specifically used to control plant viruses such as leaf curl and leaf mosaic virus.",240,224]
[65144,true,"PP-PRD-OTH Other plant protection products","Other plant protection products not already covered.",241,224]

{"sheet":"Mixture Category","index":21,"n_rows":251,"n_cols":9,"rows_kept":251,"cut":false,"hidden":false,"merged":[]}
["Identifier","SelectableFlag","Text","AdditionalPhraseText","PhraseIndex","ParentPhrase",null,"Identity","MIXCAT"]
["64945",true,"F Mixtures for further formulation","Includes mixtures ('original mixtures') intended to be formulated into other mixtures by formulators in industrial settings i.e. mixtures which have no intended end-use. For ‘final mixtures’ which have an intended end-use (i.e. not for further formulation) are categorised under ‘P – Products’.",1,"",null,"Authority","ECHA"]
["113196",false,"P Products","Products (‘Final mixtures’) intended to be end-used by consumers, professional users outside of an industrial setting or by industrial users only. ‘End-use’ means the use a mixture, as a last step before the end-of-life of the mixture, namely before the mixture (or each of its components) is emitted to waste streams or the environment, is included into an article or is consumed in a process by reaction during use (including intermediate use).",2,"",null,"Revision","4.1"]
["113197",false,"PC Chemical products (excludes biocidal products)","Excludes all biocidal products.",3,2,null,"Date","2023-07-14"]
["113198",false,"PC-ADH Adhesives and sealants","An adhesive is a product capable of joining materials by surface bonding (adhesion), where the bond possesses adequate internal strength (cohesion). A sealant is an adhesive product applied to joints in order to fill gaps, mechanically block or protect from, for example, air and water.",4,3,null,"Phrase Group","PG6-60567 v4.1"]
["64877",true,"PC-ADH-1 Adhesives and sealants - household, office or school use","Products for general use in the home, school, or office environment. Includes craft glues, multi-purpose glues and glue sticks, instant glues, wood glues, contact adhesives, adhesive sprays…",5,4,null,"Source","https://echa.europa.edu/scip-format"]
["64878",true,"PC-ADH-2 Adhesives and sealants - building and construction works (except cement based adhesives)","Adhesives and sealants (gap fillers) for on-site and off-site building works such as new work, maintenance and renovations e.g. adhesives for wall coverings (including wall paper) and flooring (including carpet, PVS and linoleum, parquet) as well as civil engineering works (bridges, highway, railroad). For cement-based adhesives, see 'Mortars' in 'Construction products'.",6,4]
["64879",true,"PC-ADH-3 Adhesives and sealants - footwear and leather goods","Specialised adhesive and sealant products for leather goods and footwear e.g. for soling/sole attaching, lasting, box toes, counter, repair aftermarket etc.",7,4]
["64880",true,"PC-ADH-4 Adhesives and sealants - paper and board related processes","Specialised adhesive and sealant products intended for processing paper, board and related products such as packaging, labelling, paper to board lamination, bookbinding etc. Does not include paper adhesives primarily for home use, see 'Adhesives and sealants - household, office or school use'.",8,4]
["64881",true,"PC-ADH-5 Adhesives and sealants - transportation industry","Products containing high performing structural adhesives and sealants e.g. for motor and railed vehicles, watercraft, aircraft and spacecraft.",9,4]
["64882",true,"PC-ADH-6 Adhesives and sealants -  woodworking and joinery (includes putty)","Specialised adhesive and sealant products for cabinet making and furniture manufacturing, including putty. Does not include wood glues primarily for home use, see 'Adhesives and sealants - household, office or school use'.",10,4]
["64883",true,"PC-ADH-7 Adhesives and sealants - assembly line processes","Adhesives and sealants used in assembly line processes for example, in assembling electronic components, medical applications, toys - excluding already covered categories e.g. for paper and board related processes.",11,4]
["64884",true,"PC-ADH-8 Multi-component adhesives and sealants","Products intended to be mixed for immediate use as an adhesive or sealant.",12,4]
["64886",true,"PC-ADH-OTH Other adhesives and sealants","Other adhesives and sealants not already covered.",13,4]
["113199",false,"PC-AIR Air care products","Air care products that serve to odorise or deodorise the indoor rooms (e.g. in homes, offices...) or specific objects or items (e.g. shoes, cars, household appliances...). Includes incense, candles and matches used to light them. Excludes biocidal products.",14,3]
["64946",true,"PC-AIR-1 Air care products for indoor rooms (continuous action)","Products that serve to continuously odorise or deodorise indoor air, including diffuser products (excludes incense, and scented candles).",15,14]
["64947",true,"PC-AIR-2 Air care products for indoor rooms (instant action)","Products that serve to instantly odorise or deodorise the indoor air environment.",16,14]
["64948",true,"PC-AIR-3 Air care products for shoes","",17,14]
["64949",true,"PC-AIR-4 Air care products for vehicles","",18,14]
["64950",true,"PC-AIR-5 Ambient deodorisers (excludes room deodorisers)","Applies to certain products where the only intended use is to deodorise enclosed spaces (e.g. wardrobes, cupboards…), household appliances (e.g. refrigerator, vacuum cleaner…) or objects (e.g. rubbish bins…). Excludes deodorising products in PC-AIR  e.g. for rooms, shoes or vehicles.  Does not apply to products used to deodorise textiles or carpet, see 'Textile fresheners/deodorisers' or carpets and upholstery, see 'Deodorisers or fresheners for carpet/upholstery'.",19,14]
["64951",true,"PC-AIR-6 Incense","",20,14]
["64952",true,"PC-AIR-7 Candles - scented and unscented","",21,14]
["64953",true,"PC-AIR-8 Matches","",22,14]
["64954",true,"PC-AIR-OTH Other air care products","Other air care products and ambient deodorisers not already covered.",23,14]
["113200",false,"PC-ANI Products for animals","Products for animal care including animal feed additives (excluding biocidal products, veterinary medicines, feed materials, compound feed, pet food, and medicated feed).",24,3]
["64955",true,"PC-ANI-1 Additives and premixtures for animal feed","Products which are intentionally added to feed or water in order to perform a particular function. Excludes food and feeding products.",25,24]
["64956",true,"PC-ANI-2 Animal shampoos and conditioners","Excludes biocidal products.",26,24]
["64957",true,"PC-ANI-OTH Other products for animals (excluding biocidal products)","",27,24]
["113201",false,"PC-ART Art materials (including chemical products used for decorative purposes)","Includes paints and other art and craft materials for artistic expression or decorative purposes, including auxiliary materials. For art and craft adhesives, see 'Adhesives and sealants - household, office or school use'.",28,3]
["64958",true,"PC-ART-1 Artists’, craft and hobby paints","Paints for artistic and creative expression and for colouring/decoration of articles (excludes 'Finger paints' and graffiti/street art spray paints - see 'Aerosol paints and coatings').",29,28]
["64959",true,"PC-ART-2 Finger paints","Paints for use in play by children, applied using the fingers directly.",30,28]
["64960",true,"PC-ART-3 Crayons, chalks and pastels","Mixtures in solid/compressed form for colouring/drawing in creative expression or play.",31,28]
["64961",true,"PC-ART-4 Auxiliary materials for artists","Auxiliary artists’ materials including carriers/vehicles (such as oils), solvents/thinners, special effect agents, tinting mediums, fast and slow drying gels, fixatives and varnishes.",32,28]
["64962",true,"PC-ART-5 Modelling compounds","Creative modelling/sculpting material for adults or children, such as clays (ceramic, polymeric etc.).",33,28]
["64963",true,"PC-ART-6 Chemical products used for decorative purposes","Includes chemical products such as artificial snow/snow flakes/frost, artificial cobwebs, ….",34,28]
["64964",true,"PC-ART-OTH Other art  materials (including chemical products used for decorative purposes)","Other art  materials and chemical products used for decorative purposes not already covered",35,28]
["113202",false,"PC-CLN Cleaning, care and maintenance products (excludes biocidal products)","For detergents, see 'Detergents and auxiliaries for laundry and dishwashing (excludes biocidal products)'.",36,3]
["64965",true,"PC-CLN-1 Abrasive cleaning products (mechanical action)","Products intended to clean surfaces through mechanical action including e.g. all- or multipurpose cleaners, cleaners for kitchen, toilet or bathroom areas.",37,36]
["64966",true,"PC-CLN-2 All-purpose (or multi-purpose) non-abrasive cleaners including degreasing agents (unless otherwise specified in other subcategories of cleaning products)","All-purpose non-abrasive cleaners including degreasing agents. Excludes degreasers for kitchen areas, floor cleaning products, engine cleaners.",38,36]
["64967",true,"PC-CLN-3 Bleaching products for cleaning or laundry use (excludes biocidal products)","",39,36]
["64968",true,"PC-CLN-4 Descaling products","",40,36]
["64969",true,"PC-CLN-5 Drain cleaning products","",41,36]
["64970",true,"PC-CLN-6 Fireplace and smoke resin cleaners","Includes products for smokehouses and chimneys.",42,36]
["64971",true,"PC-CLN-7 Glass/window/mirror cleaning products (excludes windscreens)","For windscreen cleaners, see 'Windscreen/windshield cleaners'.",43,36]
["64972",true,"PC-CLN-8 Indoor furniture cleaning/care products (excludes leather and upholstery)","Products for the cleaning and care of indoor wooden and other hard surface furniture. Includes general cleaning products, dust sprays, polishes, conditioners…",44,36]
["64973",true,"PC-CLN-9 Outdoor cleaners (excludes stone, concrete and similar surfaces)","Products for the cleaning and care for example, for garden furniture, wooden terraces and decks, fences…  (excludes biocidal products). For cleaning of outdoor pavements, pathways... see 'Heavy duty cleaning products for stone and similar surfaces'.",45,36]
["113203",false,"PC-CLN-10 Kitchen and related cleaning products (excludes biocidal products)","Excludes 'Biocidal products',  descalers (see 'Descaling products') and abrasive cleaners (see 'Abrasive cleaning products').",46,36]
["64974",true,"PC-CLN-10.1 Cleaners for kitchen areas","Products including multi-surface, degreasers, and kitchen tile cleaners.",47,46]
["64975",true,"PC-CLN-10.2 Cleaners for kitchen machinery and equipment","Excludes descalers, see 'Descaling products'.",48,46]
["64976",true,"PC-CLN-10.3 Cooking hob cleaning/care products","",49,46]
["64977",true,"PC-CLN-10.4 Oven, grill or barbecue cleaners","",50,46]
["64978",true,"PC-CLN-10.OTH Other kitchen and related cleaning products","",51,46]
["113204",false,"PC-CLN-11 Bathroom and toilet cleaning/care products (excludes biocidal products)","Excludes 'Biocidal products', descalers (see 'Descaling products') and abrasive cleaners (see 'Abrasive cleaning products').",52,36]
["64979",true,"PC-CLN-11.1 Bathroom cleaners","Includes multi-surface and bathroom tile cleaners.",53,52]
["64980",true,"PC-CLN-11.2 Toilet cleaners","Excludes multi-flush agents.",54,52]
["64981",true,"PC-CLN-11.3 Multi-flush products for toilets","Multi flush agents for cistern or rim use.",55,52]
["64982",true,"PC-CLN-11.OTH Other bathroom and toilet cleaning/care products (excludes biocidal products)","",56,52]
["113205",false,"PC-CLN-12 Stone, tile and grout cleaning/care products","Excludes biocidal products as well as for use in kitchen and bathroom areas.",57,36]
["64983",true,"PC-CLN-12.1 Cleaning/care products for stone and tiles - regular use","Cleaning products intended to be used on a regular basis for the maintenance of stone and tile surfaces including floors. Excludes products specifically for kitchen, toilet and bathroom areas.",58,57]
["64984",true,"PC-CLN-12.2 Heavy duty cleaning products for stone and similar surfaces","Products for heavy duty cleaning of stone and similar surface including outdoor pavements, pathways, headstones, …",59,57]
["64985",true,"PC-CLN-12.3 Grout cleaners","Product specifically intended to clean grout.",60,57]
["64986",true,"PC-CLN-12.OTH Other stone, tile and grout cleaning/care products","Excludes biocidal products as well as for use in kitchen and bathroom areas.",61,57]
["113206",false,"PC-CLN-13 Floor cleaning, care and maintenance products (excludes stone and tile)","Excludes products for stone and tile floors - see 'Stone, tile and grout cleaning/care products'.",62,36]
["64987",true,"PC-CLN-13.1 Floor cleaning products","Cleaning products intended to be used on a regular basis for the maintenance of floors, including unit-dose capsules. Excludes stone and tile floors, see 'Stone, tile and grout cleaning/care products'.",63,62]
["65145",true,"PC-CLN-13.2 Floor care products e.g. waxes, emulsions","",64,62]
["64988",true,"PC-CLN-13.3 Floor strippers","Excludes paint strippers - see 'Paint removers, thinners and related auxiliaries'.",65,62]
["64990",true,"PC-CLN-13.OTH Other floor cleaning, care and maintenance products (excludes stone and tile)","",66,62]
["113207",false,"PC-CLN-14 Carpet and upholstery products","Includes cleaning products for carpet and upholstery.",67,36]
["64991",true,"PC-CLN-14.1 Cleaning products for carpet/upholstery","",68,67]
["64992",true,"PC-CLN-14.2 Deodorisers or fresheners for carpet/upholstery","Excludes textile fresheners - see 'Textile fresheners/deodorisers'.",69,67]
["64993",true,"PC-CLN-14.OTH Other carpet and upholstery products","",70,67]
["113208",false,"PC-CLN-15 Cleaners for specific personal items","",71,36]
["64994",true,"PC-CLN-15.1 Cleaners for eyewear","Excludes contact lens cleaning solutions.",72,71]
["64995",true,"PC-CLN-15.2 Cleaners for home electronic screens","",73,71]
["64996",true,"PC-CLN-15.3 Cleaners for musical instruments","",74,71]
["64997",true,"PC-CLN-15.4 Metal polish/tarnish remover","Includes cleaners for jewellery, silverware and other metals such as brass, copper…",75,71]
["131624",true,"PC-CLN-15.5 Adhesive remover","",76,71]
["64998",true,"PC-CLN-15.OTH Other cleaners for specific personal items","",77,71]
["113209",false,"PC-CLN-16 Textile and leather cleaning and care products (including footwear)","Products for the cleaning and care of textile and leather goods including footwear. Excludes upholstery, see 'Carpet and upholstery products'; excludes colourants, see 'Dyes' or 'Pigments'.",78,36]
["64999",true,"PC-CLN-16.1 Leather - cleaning and care products","Products intended to clean or condition leather articles such footwear, furniture and other leather goods in order to preserve or restore strength, appearance and flexibility (excludes 'Impregnation products').",79,78]
["65000",true,"PC-CLN-16.2 Textile footwear - cleaning products","Cleaning products for textile footwear (excluding leather footwear).",80,78]
["65001",true,"PC-CLN-16.3 Textile fresheners/deodorisers","Excludes air care products for footwear, see 'Air care products for shoes'.",81,78]
["65002",true,"PC-CLN-16.4 Dry cleaning and associated products","Products intended to clean textiles in non-aqueous cleaning processes.",82,78]
["65003",true,"PC-CLN-16.5 Impregnation products for finished textiles and leather goods","Products intended for waterproofing or as a dirt repellent for finished textiles and leather goods. Does not include impregnation products used in the industrial processing of textiles or leather - see ‘Textile treatment products’ or ‘Leather treatment products’.",83,78]
["65004",true,"PC-CLN-16.6 Outdoor textiles - cleaning products","Products intended to clean awnings, tents, tarpaulins, sails…",84,78]
["65005",true,"PC-CLN-16.OTH Other textile and leather cleaning and care products (including footwear)","Excludes colourants, see 'Dyes'.",85,78]
["113210",false,"PC-CLN-17 Vehicle (all types) cleaning and care products","",86,36]
["65006",true,"PC-CLN-17.1 Exterior cleaning products - all vehicle types","Includes automotive shampoos and other products intended to remove dirt, grease, grime, insects and tar from car exteriors.",87,86]
["65007",true,"PC-CLN-17.2 Exterior care products -  all vehicle types","Includes lacquers, polishes, waxes…",88,86]
["65008",true,"PC-CLN-17.3 Interior cleaning and care products (excludes air care products, and products for upholstery or leather)","Cleaning and care products used to clean interior surfaces of vehicles e.g. rubber, vinyl, plastic. For leather upholstery see 'Leather - cleaning and care products'. For fabric and textile upholstery cleaners, see 'Cleaning products for carpet/upholstery'.",89,86]
["65009",true,"PC-CLN-17.4 Engine cleaners","",90,86]
["65010",true,"PC-CLN-17.5 Brake cleaners","",91,86]
["65011",true,"PC-CLN-17.6 Chromium, rim and other metal cleaners -  all vehicle types","",92,86]
["65012",true,"PC-CLN-17.7 Windscreen/windshield cleaners","Products intended to wash vehicular windscreens/windshields by direct application.",93,86]
["65013",true,"PC-CLN-17.8 Windscreen/windshield wash fluid","Product added to vehicles for the cleaning of the windscreen by the windscreen wipers.",94,86]
["131625",true,"PC-CLN-17.9 Tyre care products (excludes vehicular shampoos and cleaning agents)","Includes tyre dressing, gloss, restorers.",95,86]
["65014",true,"PC-CLN-17.OTH Other vehicle (all types) cleaning and care products","",96,86]
["65015",true,"PC-CLN-OTH Other cleaning, care and maintenance products (excludes biocidal products)","",97,36]
["113211",false,"PC-COL Colourants","Includes end-use products intended to impart colour e.g. to textiles, leather. For colourants with no end-use e.g. raw materials, see 'F - Mixtures for further formulation'.",98,3]
["65016",true,"PC-COL-1 Dyes","Soluble colourants.",99,98]
["65017",true,"PC-COL-2 Pigments","Insoluble colourants.",100,98]
["113212",false,"PC-CON Construction products","Construction products include products for incorporation in construction works (building or engineering works) or parts of them (except biocidal products).",101,3]
["65018",true,"PC-CON-1 Cement","Cement is a hydraulic binder, i.e. a finely ground inorganic material which, when mixed with water, forms a paste that sets and hardens by means of hydration reactions and processes after which, it retains its strength and stability even under water.",102,101]
["65019",true,"PC-CON-2 Concrete","Concrete is a product formed by mixing cement, coarse/fine aggregate and water (with or without the incorporation of admixtures and additions) which develops it's properties by hydration of the cement.",103,101]
["65020",true,"PC-CON-3 Gypsum","Gypsum products are primarily based on calcium sulphate and include gypsum plasters, floor screeds and fillers.",104,101]
["65021",true,"PC-CON-4 Mortars","Mortar is a generic term comprising masonry and repair mortars, plaster and renders, screeds and cement-based adhesives (for other non-cementitious adhesives see 'Adhesives and sealants - building and construction works').",105,101]
["65022",true,"PC-CON-5 Construction chemicals","Construction chemicals include products that are added to or on construction materials on the construction site: to improve workability or enhance performance e.g. admixtures and additives (polycarboxylates, polycondensate resins, cellulose ethers, siloxanes, biopolymers...) for concrete and mortar; for special functionality e.g. modified mineral mortar systems (repair mortars, renders, sealing and bonding products, e.g. polymer dispersions, epoxy resins, polyurethanes... ); for protecting the construction materials or the finished structure made out of them e.g. concrete release agents, hydrophobing agents, reactive resins, liquid applied membranes for waterproofing, modified bitumen- based emulsions for waterproofing….",106,101]
["65023",true,"PC-CON-OTH Other construction products","",107,101]
["113213",false,"PC-DET Detergents and auxiliaries for laundry and dishwashing (excludes biocidal products)","Products containing soaps and/or other surfactants intended for washing and cleaning processes. Detergents may be in any form (liquid, powder, paste, bar, cake, moulded piece, shape, etc.) and marketed for or used in household, or professional or industrial purposes.",108,3]
["113214",false,"PC-DET-1 Laundry detergents","This category covers products for the washing and conditioning of laundry in household (including in launderettes and common laundries) and industrial washing machines.",109,108]
["65024",true,"PC-DET-1.1 Laundry detergent for hand washing","A detergent product to be used specifically for the hand washing of laundry.",110,109]
["65025",true,"PC-DET-1.2 Laundry detergents - household use","Includes unit-dose capsules.",111,109]
["65026",true,"PC-DET-1.3 Laundry detergents - professional or industrial use","Includes unit-dose capsules.",112,109]
["65027",true,"PC-DET-1.OTH Other laundry detergents","",113,109]
["113215",false,"PC-DET-2 Auxiliary laundry and care products (excludes biocidal products)","Excludes laundry bleaches, see 'Bleaching products for cleaning or laundry use (excludes biocidal products)'; excludes textile fresheners, see 'Textile fresheners/deodorisers'.",114,108]
["65028",true,"PC-DET-2.1 Detergency boosters and in-wash stain removers","In-wash products intended to enhance the cleaning performance of the washing process or remove stains from textiles.",115,114]
["65029",true,"PC-DET-2.2 Fabric softeners","Products intended to modify the feel of fabrics in processes which are to complement the washing of fabrics.",116,114]
["65030",true,"PC-DET-2.3 Ironing aid products","",117,114]
["65031",true,"PC-DET-2.4 Laundry starch","",118,114]
["65032",true,"PC-DET-2.5 Pre-treatment stain removers","Products intended to treat stains before the washing process.",119,114]
["65033",true,"PC-DET-2.6 Rinse agents for laundry (excludes biocidal products)","",120,114]
["65034",true,"PC-DET-2.7 Washing machine care agents","Does not apply to products that are only used to deodorise, see 'Ambient deodorisers '.",121,114]
["65035",true,"PC-DET-2.8 Whitening agents or optical brighteners","Whitening agents or optical brighteners are fluorescent whitening agents that reflect the ultra-violet rays of the sun as white, visible light, giving the clothing an impression of whiteness.",122,114]
["65036",true,"PC-DET-2.OTH Other auxiliary laundry and care products (excludes biocidal products)","",123,114]
["113216",false,"PC-DET-3 Dishwashing detergents","Includes unit dose.",124,108]
["65037",true,"PC-DET-3.1 Automatic dishwashing detergents - household use","",125,124]
["65038",true,"PC-DET-3.2 Automatic dishwashing detergents - professional or industrial use","Products primarily for use e.g. in professional restaurants, institutional settings...",126,124]
["65039",true,"PC-DET-3.3 Hand dishwashing detergents","Detergents intended to be used to wash dishes by hand.",127,124]
["65040",true,"PC-DET-3.OTH Other dishwashing detergents","",128,124]
["113217",false,"PC-DET-4 Auxiliary dishwashing and care products","",129,108]
["65041",true,"PC-DET-4.1 Dishwasher salt","",130,129]
["65042",true,"PC-DET-4.2 Dishwashing machine care agents","Includes anti corrosion products. Does not apply to products that are only intended to deodorise, see 'Ambient deodorisers '.",131,129]
["65043",true,"PC-DET-4.3 Glass protection products","",132,129]
["65044",true,"PC-DET-4.4 Rinse agents for dishes","Products intended to improve rinsing and prevent filming on dishes.",133,129]
["65045",true,"PC-DET-4.OTH Other auxiliary dishwashing and care products","",134,129]
["65046",false,"PC-ELQ E-liquids and mixtures for electronic cigarettes","",135,3]
["107824",true,"PC-ELQ-1 E-liquids for electronic cigarettes","E-liquids for electronic cigarettes are mixtures, which are supplied to the end-user as ready-for-use products for vaping.",136,135]
["107825",true,"PC-ELQ-2 Mixtures for e-liquids","Mixtures for e-liquids are supplied as part of the so-called self-mixing kits, where the user is responsible for preparing the final e-liquid based on the specific instructions of the supplier. These mixtures are not intended for use in electronic cigarettes as such.",137,135]
["113218",false,"PC-FER Fertilisers and fertilising products","Products applied or intended to be applied, either on its own or mixed with another material, on plants or their rhizosphere for the purpose of providing plants with nutrient or improving their nutrition efficiency. Excludes 'Soil remediation products' used for contaminated areas.",138,3]
["65047",true,"PC-FER-1 Fertilisers","Products primarily aimed at providing nutrients to plants. Includes fertilisers mixed, for example, with inhibitors or chelating agents.",139,138]
["65048",true,"PC-FER-2 Liming material","Products aimed at correcting soil acidity, and containing oxides, hydroxides, carbonates or silicates of the nutrients calcium (Ca) or magnesium (Mg).",140,138]
["65049",true,"PC-FER-3 Soil improvers","Products aimed at being added to the soil for the purpose of maintaining, improving or protecting the physical or chemical properties, the structure or the biological activity of soil.",141,138]
["65050",true,"PC-FER-4 Growing media","A growing material shall be a material other than soil intended for use as a substrate for root development.",142,138]
["65051",true,"PC-FER-5 Agronomic additives","Products intended to be added to a product providing plants with nutrient, with the intention to improve that products’ nutrient release patterns.",143,138]
["65052",true,"PC-FER-6 Plant biostimulants","Products stimulating plant nutrition processes independently of the product’s nutrient content with the sole aim of improving one or more of the following characteristics of the plant: (a) nutrient use efficiency; (b) tolerance to abiotic stress or (c) crop quality traits.",144,138]
["65053",true,"PC-FER-7 Combination of fertilisers and fertilising products","Includes products containing a combination of fertiliser and fertilising product categories. Does not apply to products where the primary aim is to provide nutrition, see 'Fertilisers'.",145,138]
["113219",false,"PC-FUE Fuels (and fuel additives)","Includes fuels for vehicles and machinery, lamp oils (e.g. for decorative lamps), grill lighter fluids and lamp fuels for portable devices (e.g. for outdoor cooking).",146,3]
["65054",true,"PC-FUE-1 Fuels for vehicles and machinery","",147,146]
["65055",true,"PC-FUE-2 Lamp oils","Includes scented and unscented lamp oils.",148,146]
["65056",true,"PC-FUE-3 Grill lighter fluids","Lighter fluids e.g. for charcoal grills.",149,146]
["65057",true,"PC-FUE-4 Camp fuels","Fuels for portable heating, cooking and lighting devices e.g. camping stoves and lanterns (excludes lamp oils).",150,146]
["65058",true,"PC-FUE-5 Fuel additives and fuel components","Products added to fuels to impart or enhance desirable properties or to supress undesirable properties. Excludes heat transfer fluids, see 'Heat transfer fluids'.",151,146]
["65059",true,"PC-FUE-OTH Other fuels","",152,146]
["113220",false,"PC-INK Inks, toners and related printing materials","Excludes tattoo inks, see ‘Tattoo inks’.",153,3]
["65060",true,"PC-INK-1 Writing and drawing inks","Inks for use in writing or drawing by hand, e.g. by pen, brush etc. Includes inks for stamp pad use.",154,153]
["65061",true,"PC-INK-2 Inks and toners for home and office printers","Inks and toners used for printing in the home and office environment.",155,153]
["65062",true,"PC-INK-3 Commercial printing inks, toners and related finishing products","Products for  industrial or professional printing processes (flexography, lithography, screen printing, etc.).",156,153]
["65063",true,"PC-INK-4 Pressroom chemicals","Pressroom chemicals other than inks, such as fountain solutions, blanket washes etc.",157,153]
["65064",true,"PC-INK-5 Correction fluids","Fluids used to cover up permanent ink so that corrections can be made.",158,153]
["65065",true,"PC-INK-OTH Other inks, toners and related printing materials","Other inks, toners and related printing materials not already covered.",159,153]
["116087",false,"PC-MED Medical devices","Medical devices as defined in Regulation (EU) 2017/745 of the European Parliament and of the Council on medical devices.",160,3]
["107826",true,"PC-MED-1 Medical devices for cleaning or disinfection","Products used for the cleaning, disinfection or sterilisation of medical devices (excluding biocidal or cleaning products).",161,160]
["107827",true,"PC-MED-OTH Other medical devices","Other medical devices.",162,160]
["113221",false,"PC-PNT Paints and coatings (and related auxiliaries)","Products in liquid, paste or powder form which, when applied to a substrate, form a (clear or opaque) dried film possessing protective, decorative and or other specific technical properties. Excludes chemical products used for priming or protection of construction materials, see ‘Construction chemicals'.",163,3]
["65066",true,"PC-PNT-1 Aerosol paints and coatings","Paints and coatings supplied in ready-to-use aerosol canisters for spray application.",164,163]
["65067",true,"PC-PNT-2 Paints/coatings - Decorative","Paints and coatings  (including tinters for deco mixing systems) for decorative architectural use e.g. of interior and exterior surfaces of buildings and fixtures. Includes varnishes and wood stains.",165,163]
["65068",true,"PC-PNT-3 Paints/coatings - Protective and functional","Protective coatings that are characterised as 'paint' (e.g. anti-corrosion, fire retardants etc.) and paints for specific functional purposes (e.g. tank/pipe lining, road marking, anti-graffiti etc.). Excludes chemical products used for priming or the protection of construction materials - see 'Construction chemicals'.",166,163]
["65069",true,"PC-PNT-4 Marine vessel coatings (excludes anti-fouling products)","Coatings for the protection/finishing of all watercraft. Excludes anti-foulants, see 'Anti-fouling products'.",167,163]
["65070",true,"PC-PNT-5 Automotive and aerospace coatings","Coatings for vehicles and aircraft (or their parts). Includes OEM (original equipment manufacturer) i.e. factory-applied coatings, paints, hardeners and reducers for repair and refinishing etc.",168,163]
["65071",true,"PC-PNT-6 Factory-applied coatings (excludes categories already covered)","Coatings applied in a production setting e.g. for electrical appliances and other metal goods, furniture, metal packaging etc. Excludes already covered categories for 'Paints and coatings (and related auxiliaries)'.",169,163]
["65072",true,"PC-PNT-7 Paint removers, thinners and related auxiliaries","Chemicals for removal/dilution of paint, sanding aids, cleaning of brushes etc.",170,163]
["131626",true,"PC-PNT-8 Field marking paint","Includes marker ‘paint’ products for lawns or other surfaces e.g. for sports fields.",171,163]
["65073",true,"PC-PNT-OTH Other paints and coating materials","Other paints and coating materials not already covered.",172,163]
["113222",true,"PC-PYR Pyrotechnic products","Pyrotechnic products as defined in the EU Directive 2013/29/EU on pyrotechnic articles.",173,3]
["65079",true,"PC-TAT Tattoo inks","Includes permanent tattoo inks for artisitic or other purposes.",174,3]
["113223",false,"PC-TEC Products for  chemical or technical processes","This category only includes end-use products. It does not apply to products with no end-use e.g. raw materials, see 'F - Mixtures for further formulation'.",175,3]
["65080",true,"PC-TEC-1 Adsorbents","Adsorbent products used in various industry sectors for a range of applications.",176,175]
["65081",true,"PC-TEC-2 Antifreeze and de-icing products","Antifreeze products are intended to reduce the freezing point of surfaces. De-icing products reduce the freezing point of surfaces with the intention to remove ice, e.g. on windows, glass, locks.",177,175]
["65082",true,"PC-TEC-3 Desiccants","Products used primarily to absorb moisture. Includes silica gel.",178,175]
["65083",true,"PC-TEC-4 Electrolytes for batteries","Mixtures (liquids or pastes) designed to serve as electrolytes in batteries.",179,175]
["65084",true,"PC-TEC-5 Fire extinguishers","Products containing fire extinguishing chemicals (e.g. foam) to assist with the control of small fires.",180,175]
["65085",true,"PC-TEC-6 Fragrances","Includes fragrance mixtures for end-use only.",181,175]
["65086",true,"PC-TEC-7 Heat transfer fluids","",182,175]
["65087",true,"PC-TEC-8 Hydraulic fluids, including brake and transmission fluids","",183,175]
["65088",true,"PC-TEC-9 Intermediates","A substance that is manufactured for and consumed in or used for chemical processing in order to be transformed into another substance (REACH, Article 3(15)).",184,175]
["65089",true,"PC-TEC-10 Leather treatment products (excludes dyes and pigments)","Products used for the upstream industrial processing of leather, including relevant impregnation products. For dyes and pigments, see 'Colourants'. For other impregnation products for finished leather goods, see 'Impregnation products for finished textiles and leather goods'.",185,175]
["65090",true,"PC-TEC-11 Lubricants, greases, release agents","",186,175]
["65091",true,"PC-TEC-12 Metal surface treatment products","This covers products containing substances permanently binding with the metal surface. It includes e.g. galvanic and electroplating products.",187,175]
["65092",true,"PC-TEC-13 Metal working fluids","",188,175]
["65093",true,"PC-TEC-14 Paper and board treatment products (excluding dyes)","This category includes e.g. bleaches, finishing, impregnation products and other processing aids. For dyes, see 'Dyes'.",189,175]
["65094",true,"PC-TEC-15 Photochemicals","Products for the chemical processing of photosensitive materials.",190,175]
["65095",true,"PC-TEC-16 Polymer preparations and compounds","",191,175]
["65096",true,"PC-TEC-17 Processing aids","This category covers processing aids used in various industry sectors (unless otherwise specified in subcategories of 'PC-TEC', e.g. paper and board treatment products, leather treatment products ...). Products include  pH-regulators, flocculants, precipitants, neutralisation agents, catalysts, emulsifiers, solubilisers, dispersing agents...",192,175]
["65097",true,"PC-TEC-18 Products used in mining, oil or gas exploration processes","Excludes production products i.e. raw materials.",193,175]
["65098",true,"PC-TEC-19 Reagents and laboratory chemicals","Reagents and laboratory chemicals include products of sufficient purity for use e.g. in chemical analysis, chemical reactions.",194,175]
["65099",true,"PC-TEC-20 Soil remediation products","Products e.g. for the remediation of contaminated soils. Excludes 'Fertilisers or fertilising products'.",195,175]
["65100",true,"PC-TEC-21 Solvents and extraction agents","",196,175]
["65101",true,"PC-TEC-22 Surfactants mixtures for industrial applications","",197,175]
["65102",true,"PC-TEC-23 Textile and leather treatment products including auxiliaries (excludes dyes and pigments)","Products used for the upstream industrial processing of textiles and leather, including impregnation and other auxiliary products. For dyes and pigments, see 'Colourants'. For impregnation products for finished textiles, see 'Impregnation products for finished textiles and leather goods’.",198,175]
["65103",true,"PC-TEC-24 Welding, soldering, and flux products","Excludes 'Metal surface treatment products' and 'Metal working fluids'.",199,175]
["107829",true,"PC-TEC-25 Alloys","",200,175]
["129296",true,"PC-TEC-26 Products for molding, casting, rigid and flexible foams, including resin mixtures (excludes adhesives, construction products, paints and coatings)","",201,175]
["129297",true,"PC-TEC-27 Products for the polymerisation of resins and foams","Includes curing agents, hardeners, cross-linkers.",202,175]
["131627",true,"PC-TEC-28 Gas products for multiple intended uses","Gas products for end-use only. Includes compressed air products used for removing dust e.g. from electronic equipment, cameras, keyboards…",203,175]
["131628",true,"PC-TEC-29 Glass/window treatment products (excludes cleaning products)","Includes e.g. defoggers, water repellents. Excludes products used for cleaning.",204,175]
["131629",true,"PC-TEC-30 Products for care and maintenance of plants (excluding plant protection products, fertiliser products)","Includes e.g. wound sealants, leaf shine (Excludes plant protection or fertiliser products).",205,175]
["131630",true,"PC-TEC-31 Metal surface treatment products (Excludes primers for construction materials, functional paints or coatings, and products that permanently bind with the metal surface).","",206,175]
["65104",true,"PC-TEC-OTH Other products for  chemical or technical processes","Other products for  chemical or technical processes not already covered.",207,175]
["65105",true,"PC-UNC Chemical products - uncategorised","Chemical products where no suitable intended use category exists in the system at the third level.",208,3]
["113224",false,"PP Biocides and plant protection products","",209,2]
["113225",false,"PP-BIO Biocidal products","Biocidal product types as referred to in Article 2(1) of the Biocidal Products Regulation (EU) No 528/2012.",210,209]
["65106",true,"PP-BIO-1 Biocidal products for human hygiene","PT1 - Biocidal products used for human hygiene purposes applied on or in contact with human skin or scalps for the primary purpose of disinfecting the skin or scalp.",211,210]
["65107",true,"PP-BIO-2 Disinfectants and algaecides not intended for direct application to humans or animals","PT2 - Biocidal products used for the disinfection of surfaces, materials, equipment and furniture which are not used for direct contact with food or feeding stuffs. Usage areas include, inter alia, swimming pools, aquariums, bathing and other waters; air conditioning systems; and walls and floors in private, public and industrial areas and in other areas for professional activities.",212,210]
["65108",true,"PP-BIO-3 Biocidal products for veterinary hygiene","PT3 - Biocidal products used for veterinary hygiene such as disinfectants, disinfecting soaps, oral or corporal hygiene products or with anti-microbial function.",213,210]
["65109",true,"PP-BIO-4 Biocidal products for food and feed area","PT4 - Biocidal products used for the disinfection of equipment, containers, consumption utensils, surfaces or pipework associated with the production, transport, storage or consumption of food or feed (including drinking water) for humans and animals.",214,210]
["65110",true,"PP-BIO-5 Biocidal products for drinking water","PT5 - Biocidal products used for the disinfection of drinking water for both humans and animals.",215,210]
["65111",true,"PP-BIO-6 Biocidal products used as preservatives for products during storage","PT6 - Biocidal products used for the preservation of manufactured products, other than foodstuffs, feeding stuffs, cosmetics or medicinal products or medical devices by the control of microbial deterioration to ensure their shelf life.",216,210]
["65112",true,"PP-BIO-7 Film preservatives","PT7 - Biocidal products used for the preservation of films or coatings by the control of microbial deterioration or algal growth in order to protect the initial properties of the surface of materials or objects such as paints, plastics, sealants, wall adhesives, binders, papers, art works.",217,210]
["65113",true,"PP-BIO-8 Wood preservatives","PT8 - Biocidal products used for the preservation of wood, from and including the saw-mill stage, or wood products by the control of wood-destroying or wood-disfiguring organisms, including insects.",218,210]
["65114",true,"PP-BIO-9 Fibre, leather, rubber and polymerised materials preservatives","PT9 - Biocidal products used for the preservation of fibrous or polymerised materials, such as leather, rubber or paper or textile products by the control of microbiological deterioration.",219,210]
["65115",true,"PP-BIO-10 Construction material preservatives","PT10 - Biocidal products used for the preservation of masonry, composite materials, or other construction materials other than wood by the control of microbiological, and algal attack.",220,210]
["65116",true,"PP-BIO-11 Preservatives for liquid-cooling and processing systems","PT11 - Biocidal products used for the preservation of water or other liquids used in cooling and processing systems by the control of harmful organisms such as microbes, algae and mussels.",221,210]
["65117",true,"PP-BIO-12 Slimicides","PT12 - Biocidal products used for the prevention or control of slime growth on materials, equipment and structures, used in industrial processes, e.g. on wood and paper pulp, porous sand strata in oil extraction.",222,210]
["65118",true,"PP-BIO-13 Working or cutting fluid preservatives","PT13 - Biocidal products to control microbial deterioration in fluids used for working or cutting metal, glass or other materials.",223,210]
["65119",true,"PP-BIO-14 Rodenticides (excluding for plant protection)","PT14 - Biocidal products used for the control of mice, rats or other rodents, by means other than repulsion or attraction.",224,210]
["65120",true,"PP-BIO-15 Avicides","PT15 - Biocidal products used for the control of birds, by means other than repulsion or attraction.",225,210]
["65121",true,"PP-BIO-16 Molluscicides, vermicides and products to control other invertebrates (excluding plant protection products)","PT16 - Biocidal products used for the control of molluscs, worms and invertebrates not covered by other product-types, by means other than repulsion or attraction.",226,210]
["65122",true,"PP-BIO-17 Piscicides","PT17 - Biocidal products used for the control of fish, by means other than repulsion or attraction.",227,210]
["65123",true,"PP-BIO-18 Insecticides, acaricides and products to control other arthropods (excluding equivalent products when used as pesticides)","PT18 - Biocidal products used for the control of arthropods (e.g. insects, arachnids and crustaceans) by means other than repulsion or attraction.",228,210]
["65124",true,"PP-BIO-19 Repellents and attractants","PT19 - Biocidal products used to control harmful organisms (invertebrates such as fleas, vertebrates such as birds, fish, rodents), by repelling or attracting.",229,210]
["65125",true,"PP-BIO-20 Control of other vertebrates","PT20 - Biocidal products used for the control of vertebrates other than those already covered by the other product-types of this main group by means other than repulsion or attraction.",230,210]
["65126",true,"PP-BIO-21 Antifouling products","PT21- Biocidal products used to control the growth and settlement of fouling organisms (microbes and higher forms of plant or animal species) on vessels, aquaculture equipment or other structures used in water.",231,210]
["65127",true,"PP-BIO-22 Embalming and taxidermist fluids","PT22 - Biocidal products used for the disinfection and preservation of human or animal corpses or parts thereof.",232,210]
["113226",false,"PP-PRD Plant protection products (excludes biocidal products)","Plant protection products as described in Article 2 of (EC) No 1107/2009 concerning the placing of plant protection products on the market.",233,209]
["65128",true,"PP-PRD-1 Acaricides for plant protection","Products used to control mites.",234,233]
["65129",true,"PP-PRD-2 Attractants (excluding semio-chemicals)","Products generally used in conjunction with traps to provide a monitoring function in crops.",235,233]
["65130",true,"PP-PRD-3 Bactericides for plant protection","Products used to control bacteria on plants.",236,233]
["65131",true,"PP-PRD-4 Biopesticides for plant protection","Biopesticides include derivatives of natural materials such as animals, plants and certain minerals; they also include bacteria, fungi or moulds and viruses and \"basic substances\".",237,233]
["65132",true,"PP-PRD-5 Fungicides for plant protection","Products used to control plant fungi.",238,233]
["65133",true,"PP-PRD-6 Herbicides for plant protection, including haulm destructors and moss killers","Products used to control unwanted plants.",239,233]
["65134",true,"PP-PRD-7 Insecticides for plant protection","Products used to control insects.",240,233]
["65135",true,"PP-PRD-8 Molluscicides for plant protection","Products used to control snails and slugs.",241,233]
["65136",true,"PP-PRD-9 Nematicides for plant protection","Products used to control nematodes.",242,233]
["65137",true,"PP-PRD-10 Plant growth regulators","A plant growth regulator is an organic compound, either natural or synthetic, that modifies or controls one or more specific physiological processes within a plant. If the compound is produced within the plant it is called a plant hormone.",243,233]
["65138",true,"PP-PRD-11 Repellents for plant protection","Products used to repel insects or other pests from settling on or near the plant surface.",244,233]
["65139",true,"PP-PRD-12 Rodenticides for plant protection","Products that controls rodents including rats, mice, squirrels, woodchucks, chipmunks, porcupines, nutria, and beavers.",245,233]
["65140",true,"PP-PRD-13 Semio-chemicals","Natural or synthetic pheromones used to either attract insects for monitoring and an indication as to when to spray or to disrupt their behaviour.",246,233]
["65141",true,"PP-PRD-14 Soil sterilants","Products that temporarily or permanently prevents the growth of all plants and animals.",247,233]
["65142",true,"PP-PRD-15 Talpicides for plant protection","Products used to control moles.",248,233]
["65143",true,"PP-PRD-16 Viricides for plant protection","Products specifically used to control plant viruses such as leaf curl and leaf mosaic virus.",249,233]
["65144",true,"PP-PRD-OTH Other plant protection products and related mixtures","Other plant protection products not already covered, and mixtures used in plant protection products including adjuvants.",250,233]

{"sheet":"ECHA Substance List","index":22,"n_rows":483,"n_cols":13,"rows_kept":483,"cut":false,"hidden":false,"merged":[]}
["ECHA Substance ID","Cand List","Substance Name","Description","EC","CAS","Substance CAS Name","Parent Substance ID","Parent Substance Name","Parent Description",null,"Identity","SUBSLIST"]
["100.000.026","Substance Direct Entry","Benzo[def]chrysene (Benzo[a]pyrene)",null,"200-028-5","50-32-8",null,null,null,null,null,"Authority","ECHA"]
["100.000.244","Substance Direct Entry","Bis(tributyltin) oxide (TBTO)",null,"200-268-0","56-35-9",null,null,null,null,null,"Revision","2.0"]
["100.000.255","Substance Direct Entry","Benz[a]anthracene",null,"200-280-6","56-55-3",null,null,null,null,null,"Date","2023-07-18"]
["100.000.412","Substance Direct Entry","4-aminoazobenzene",null,"200-453-6","60-09-3",null,null,null,null,null,"Source","https://echa.europa.eu/candidate-list-package"]
["100.000.536","Substance Direct Entry","Diethyl sulphate",null,"200-589-6","64-67-5"]
["100.000.617","Substance Direct Entry","N,N-dimethylformamide",null,"200-679-5","68-12-2"]
["100.000.687","Substance Direct Entry","Cobalt(II) diacetate",null,"200-755-8","71-48-7"]
["100.000.766","Substance Direct Entry","Formamide",null,"200-842-0","75-12-7"]
["100.000.800","Substance Direct Entry","Methyloxirane (Propylene oxide)",null,"200-879-2","75-56-9"]
["100.000.914","Substance Direct Entry","Phenolphthalein",null,"201-004-7","77-09-8"]
["100.000.933","Substance Direct Entry","4,4'-(1-methylpropylidene)bisphenol",null,"201-025-1","77-40-7"]
["100.000.963","Substance Direct Entry","Dimethyl sulphate",null,"201-058-1","77-78-1"]
["100.000.979","Substance Direct Entry","Tetraethyllead",null,"201-075-4","78-00-2"]
["100.001.062","Substance Direct Entry","Trichloroethylene",null,"201-167-4","79-01-6"]
["100.001.067","Substance Direct Entry","Acrylamide",null,"201-173-7","79-06-1"]
["100.001.075","Substance Direct Entry","N-methylacetamide",null,"201-182-6","79-16-3"]
["100.001.125","Substance Direct Entry","2,2',6,6'-tetrabromo-4,4'-isopropylidenediphenol",null,"201-236-9","79-94-7"]
["100.001.133","Substance Direct Entry","4,4'-isopropylidenediphenol","Bisphenol A; BPA","201-245-8","80-05-7"]
["100.001.135","Substance Direct Entry","bis(4-chlorophenyl) sulphone",null,"201-247-9","80-07-9"]
["100.001.137","Substance Direct Entry","4,4'-sulphonyldiphenol",null,"201-250-5","80-09-1"]
["100.001.165","Substance Direct Entry","p-(1,1-dimethylpropyl)phenol",null,"201-280-9","80-46-6"]
["100.001.173","Group member","2-(4-tert-butylbenzyl)propionaldehyde",null,"201-289-8","80-54-6","Benzenepropanal, 4-(1,1-dimethylethyl)-α-methyl-","100.313.493","2-(4-tert-butylbenzyl)propionaldehyde and its individual stereoisomers"]
["100.001.210","Substance Direct Entry","5-tert-butyl-2,4,6-trinitro-m-xylene (Musk xylene)",null,"201-329-4","81-15-2"]
["100.001.405","Substance Direct Entry","Dicyclohexyl phthalate","DCHP","201-545-9","84-61-7"]
["100.001.412","Substance Direct Entry","Diisobutyl phthalate",null,"201-553-2","84-69-5"]
["100.001.416","Substance Direct Entry","Dibutyl phthalate (DBP)",null,"201-557-4","84-74-2"]
["100.001.417","Substance Direct Entry","Dihexyl phthalate",null,"201-559-5","84-75-3"]
["100.001.437","Substance Direct Entry","Phenanthrene",null,"201-581-5","85-01-8"]
["100.001.459","Group member","Cyclohexane-1,2-dicarboxylic anhydride",null,"201-604-9","85-42-7",null,"100.239.156","Cyclohexane-1,2-dicarboxylic anhydride","all possible combinations of the cis- and trans-isomers"]
["100.001.475","Substance Direct Entry","Benzyl butyl phthalate (BBP)",null,"201-622-7","85-68-7"]
["100.001.692","Substance Direct Entry","Dinoseb (6-sec-butyl-2,4-dinitrophenol)",null,"201-861-7","88-85-7"]
["100.001.785","Substance Direct Entry","2-Methoxyaniline, o-Anisidine",null,"201-963-1","90-04-0"]
["100.001.843","Substance Direct Entry","4,4'-bis(dimethylamino)benzophenone (Michler’s ketone)",null,"202-027-5","90-94-8"]
["100.001.980","Substance Direct Entry","Biphenyl-4-ylamine",null,"202-177-1","92-67-1"]
["100.002.108","Substance Direct Entry","Butyl 4-hydroxybenzoate",null,"202-318-7","94-26-8"]
["100.002.209","Substance Direct Entry","o-toluidine",null,"202-429-0","95-53-4"]
["100.002.231","Substance Direct Entry","4-methyl-m-phenylenediamine (toluene-2,4-diamine)",null,"202-453-1","95-80-7"]
["100.002.256","Group member","2,3-dibromo-1-propanol (2,3-DBPA)",null,"202-480-9","96-13-9","1-Propanol, 2,3-dibromo-","100.316.784","2,2-bis(bromomethyl)propane-1,3-diol (BMP); 2,2-dimethylpropan-1-ol, tribromo derivative/3-bromo-2,2-bis(bromomethyl)-1-propanol (TBNPA); 2,3-dibromo-1-propanol (2,3-DBPA)"]
["100.002.261","Substance Direct Entry","1,2,3-trichloropropane",null,"202-486-1","96-18-4"]
["100.002.280","Substance Direct Entry","Imidazolidine-2-thione (2-imidazoline-2-thiol)",null,"202-506-9","96-45-7"]
["100.002.357","Substance Direct Entry","o-aminoazotoluene",null,"202-591-2","97-56-3"]
["100.002.436","Substance Direct Entry","4-tert-butylphenol",null,"202-679-0","98-54-4"]
["100.002.469","Substance Direct Entry","Nitrobenzene",null,"202-716-0","98-95-3"]
["100.002.654","Substance Direct Entry","2,2'-dichloro-4,4'-methylenedianiline",null,"202-918-9","101-14-4"]
["100.002.691","Substance Direct Entry","N,N,N',N'-tetramethyl-4,4'-methylenedianiline (Michler’s base)",null,"202-959-2","101-61-1"]
["100.002.705","Substance Direct Entry","4,4'- Diaminodiphenylmethane (MDA)",null,"202-974-4","101-77-9"]
["100.002.707","Group member","4,4'-oxydianiline",null,"202-977-0","101-80-4",null,"100.239.146","4,4'-oxydianiline and its salts"]
["100.002.909","Group member","p-nonylphenol",null,"203-199-4","104-40-5",null,"100.239.149","4-Nonylphenol, branched and linear","substances with a linear and/or branched alkyl chain with a carbon number of 9 covalently bound in position 4 to phenol, covering also UVCB- and well-defined substances which include any of the individual isomers or a combination thereof"]
["100.003.133","Substance Direct Entry","1-bromopropane (n-propyl bromide)",null,"203-445-0","106-94-5"]
["100.003.145","Substance Direct Entry","1,2-dichloroethane",null,"203-458-1","107-06-2"]
["100.003.154","Substance Direct Entry","Ethylenediamine","EDA","203-468-6","107-15-3"]
["100.003.288","Substance Direct Entry","Melamine",null,"203-615-4","108-78-1"]
["100.003.377","Substance Direct Entry","2-methoxyethanol",null,"203-713-7","109-86-4"]
["100.003.390","Substance Direct Entry","Furan",null,"203-727-3","110-00-9"]
["100.003.431","Substance Direct Entry","2-methoxyethyl acetate",null,"203-772-9","110-49-6"]
["100.003.451","Substance Direct Entry","1, 2-dimethoxyethane; ethylene glycol dimethyl ether (EGDME)",null,"203-794-9","110-71-4"]
["100.003.459","Substance Direct Entry","2-ethoxyethanol",null,"203-804-1","110-80-5"]
["100.003.491","Substance Direct Entry","2-ethoxyethyl acetate",null,"203-839-2","111-15-9"]
["100.003.506","Substance Direct Entry","glutaral",null,"203-856-5","111-30-8","Pentanedial"]
["100.003.568","Substance Direct Entry","Bis(2-methoxyethyl) ether",null,"203-924-4","111-96-6"]
["100.003.616","Substance Direct Entry","1,2-bis(2-methoxyethoxy)ethane (TEGDME; triglyme)",null,"203-977-3","112-49-2"]
["100.003.744","Substance Direct Entry","Tris(2-chloroethyl) phosphate",null,"204-118-5","115-96-8"]
["100.003.829","Substance Direct Entry","Bis (2-ethylhexyl)phthalate (DEHP)",null,"204-211-0","117-81-7"]
["100.003.830","Substance Direct Entry","Bis(2-methoxyethyl) phthalate",null,"204-212-6","117-82-8"]
["100.003.934","Substance Direct Entry","6,6'-di-tert-butyl-2,2'-methylenedi-p-cresol",null,"204-327-1","119-47-1","Phenol, 2,2′-methylenebis[6-(1,1-dimethylethyl)-4-methyl-"]
["100.003.974","Substance Direct Entry","Anthracene",null,"204-371-1","120-12-7"]
["100.004.018","Substance Direct Entry","6-methoxy-m-toluidine (p-cresidine)",null,"204-419-1","120-71-8"]
["100.004.046","Substance Direct Entry","2,4-dinitrotoluene",null,"204-450-0","121-14-2"]
["100.004.229","Substance Direct Entry","Diazene-1,2-dicarboxamide (C,C'-azodi(formamide)) (ADCA)",null,"204-650-8","123-77-3"]
["100.004.239","Substance Direct Entry","1,4-dioxane",null,"204-661-8","123-91-1","1,4-Dioxane"]
["100.004.389","Substance Direct Entry","N,N-dimethylacetamide",null,"204-826-4","127-19-5"]
["100.004.481","Substance Direct Entry","Pyrene",null,"204-927-3","129-00-0"]
["100.004.563","Substance Direct Entry","Dipentyl phthalate (DPP)",null,"205-017-9","131-18-0"]
["100.004.934","Substance Direct Entry","4-(1,1,3,3-tetramethylbutyl)phenol",null,"205-426-2","140-66-9"]
["100.005.086","Substance Direct Entry","Bis(2-(2-methoxyethoxy)ethyl)ether",null,"205-594-7","143-24-8"]
["100.005.350","Substance Direct Entry","Benzo[ghi]perylene",null,"205-883-8","191-24-2"]
["100.005.376","Substance Direct Entry","Fluoranthene",null,"205-912-4","206-44-0"]
["100.005.379","Substance Direct Entry","Benzo[k]fluoranthene",null,"205-916-6","207-08-9"]
["100.005.386","Substance Direct Entry","Chrysene",null,"205-923-4","218-01-9"]
["100.005.551","Substance Direct Entry","Lead di(acetate)",null,"206-104-4","301-04-2"]
["100.005.560","Substance Direct Entry","Hydrazine",null,"206-114-9","302-01-2"]
["100.005.560","Substance Direct Entry","Hydrazine",null,"206-114-9","7803-57-8"]
["100.005.641","Substance Direct Entry","Tricosafluorododecanoic acid",null,"206-203-2","307-55-1"]
["100.005.817","Substance Direct Entry","Pentadecafluorooctanoic acid (PFOA)",null,"206-397-9","335-67-1"]
["100.005.819","Group member","Nonadecafluorodecanoic acid",null,"206-400-3","335-76-2",null,"100.244.606","Nonadecafluorodecanoic acid (PFDA) and its sodium and ammonium salts"]
["100.005.989","Group member","perfluorohexane-1-sulphonic acid",null,"206-587-1","355-46-4",null,"100.244.691","Perfluorohexane-1-sulphonic acid and its salts","PFHxS"]
["100.006.176","Group member","1,1,2,2,3,3,4,4,4-nonafluorobutane-1-sulphonic acid",null,"206-793-1","375-73-5",null,"100.282.094","Perfluorobutane sulfonic acid (PFBS) and its salts"]
["100.006.181","Group member","Perfluoroheptanoic acid",null,"206-798-9","375-85-9",null,"100.356.090","Perfluoroheptanoic acid and its salts"]
["100.006.184","Group member","Perfluorononan-1-oic-acid",null,"206-801-3","375-95-1",null,"100.242.186","Perfluorononan-1-oic-acid and its sodium and ammonium salts"]
["100.006.186","Substance Direct Entry","Heptacosafluorotetradecanoic acid",null,"206-803-4","376-06-7"]
["100.007.427","Substance Direct Entry","Cadmium carbonate",null,"208-168-9","513-78-0"]
["100.007.428","Substance Direct Entry","Cobalt(II) carbonate",null,"208-169-4","513-79-1"]
["100.007.967","Substance Direct Entry","Dodecamethylcyclohexasiloxane","D6","208-762-8","540-97-6"]
["100.007.969","Substance Direct Entry","Decamethylcyclopentasiloxane","D5","208-764-9","541-02-6"]
["100.008.140","Substance Direct Entry","[4-[4,4'-bis(dimethylamino) benzhydrylidene]cyclohexa-2,5-dien-1-ylidene]dimethylammonium chloride (C.I. Basic Violet 3)","with ≥ 0.1% of Michler's ketone (EC No. 202-027-5) or Michler's base (EC No. 202-959-2)","208-953-6","548-62-9"]
["100.008.190","Substance Direct Entry","Benzene-1,2,4-tricarboxylic acid 1,2 anhydride","trimellitic anhydride; TMA","209-008-0","552-30-7"]
["100.008.307","Substance Direct Entry","Octamethylcyclotetrasiloxane","D4","209-136-7","556-67-2"]
["100.008.381","Substance Direct Entry","4,4'-bis(dimethylamino)-4''-(methylamino)trityl alcohol","with ≥ 0.1% of Michler's ketone (EC No. 202-027-5) or Michler's base (EC No. 202-959-2)","209-218-2","561-41-1"]
["100.008.509","Substance Direct Entry","Disodium 3,3'-[[1,1'-biphenyl]-4,4'-diylbis(azo)]bis(4-aminonaphthalene-1-sulphonate) (C.I. Direct Red 28)",null,"209-358-4","573-58-0"]
["100.009.172","Substance Direct Entry","Diisopentyl phthalate",null,"210-088-4","605-50-5"]
["100.009.904","Substance Direct Entry","Methoxyacetic acid",null,"210-894-6","625-45-6"]
["100.010.070","Substance Direct Entry","1,2-diethoxyethane",null,"211-076-1","629-14-1"]
["100.010.610","Substance Direct Entry","Dibutyltin dichloride (DBTC)",null,"211-670-0","683-18-1"]
["100.010.697","Substance Direct Entry","2-methylimidazole",null,"211-765-7","693-98-1"]
["100.011.508","Substance Direct Entry","4,4'-methylenedi-o-toluidine",null,"212-658-8","838-88-0"]
["100.011.662","Substance Direct Entry","1-Methyl-2-pyrrolidone (NMP)",null,"212-828-1","872-50-4"]
["100.011.913","Substance Direct Entry","N-(hydroxymethyl)acrylamide",null,"213-103-2","924-42-5"]
["100.012.668","Substance Direct Entry","tris(2-methoxyethoxy)vinylsilane",null,"213-934-0","1067-53-4","2,5,7,10-Tetraoxa-6-silaundecane, 6-ethenyl-6-(2-methoxyethoxy)-"]
["100.012.739","Substance Direct Entry","1-vinylimidazole",null,"214-012-0","1072-63-5"]
["100.013.017","Substance Direct Entry","1,3-propanesultone",null,"214-317-9","1120-71-4"]
["100.013.277","Substance Direct Entry","Bis(pentabromophenyl) ether (decabromodiphenyl ether) (DecaBDE)",null,"214-604-9","1163-19-5"]
["100.013.743","Substance Direct Entry","Diarsenic pentaoxide",null,"215-116-9","1303-28-2"]
["100.013.751","Substance Direct Entry","Diboron trioxide",null,"215-125-8","1303-86-2"]
["100.013.770","Substance Direct Entry","Cadmium oxide",null,"215-146-2","1306-19-0"]
["100.013.771","Substance Direct Entry","Cadmium sulphide",null,"215-147-8","1306-23-6"]
["100.013.851","Substance Direct Entry","Orange lead (lead tetroxide)",null,"215-235-6","1314-41-6"]
["100.013.880","Substance Direct Entry","Lead monoxide (lead oxide)",null,"215-267-0","1317-36-8"]
["100.013.901","Substance Direct Entry","Trilead bis(carbonate) dihydroxide",null,"215-290-6","1319-46-6"]
["100.014.075","Substance Direct Entry","Diarsenic trioxide",null,"215-481-4","1327-53-3"]
["100.014.129","Substance Direct Entry","Disodium tetraborate, anhydrous",null,"215-540-4","12179-04-3"]
["100.014.129","Substance Direct Entry","Disodium tetraborate, anhydrous",null,"215-540-4","1303-96-4"]
["100.014.129","Substance Direct Entry","Disodium tetraborate, anhydrous",null,"215-540-4","1330-43-4"]
["100.014.186","Group member","Boric acid, sodium salt",null,"215-604-1","1333-73-9",null,"100.331.485","orthoboric acid, sodium salt"]
["100.014.189","Substance Direct Entry","Chromium trioxide",null,"215-607-8","1333-82-0"]
["100.014.267","Substance Direct Entry","Lead sulfochromate yellow (C.I. Pigment Yellow 34)","-","215-693-7","1344-37-2"]
["100.016.101","Substance Direct Entry","Disodium 4-amino-3-[[4'-[(2,4-diaminophenyl)azo][1,1'-biphenyl]-4-yl]azo] -5-hydroxy-6-(phenylazo)naphthalene-2,7-disulphonate (C.I. Direct Black 38)",null,"217-710-3","1937-37-7"]
["100.016.239","Group member","4-heptylphenol",null,"217-862-0","1987-50-4",null,"100.244.604","4-heptylphenol, branched and linear","substances with a linear and/or branched alkyl chain with a carbon number of 7 covalently bound predominantly in position 4 to phenol, covering also UVCB- and well-defined substances which include any of the individual isomers or a combination thereof"]
["100.016.515","Substance Direct Entry","Henicosafluoroundecanoic acid",null,"218-165-4","2058-94-8"]
["100.016.522","Group member","2,3,3,3-tetrafluoro-2-(heptafluoropropoxy)propionyl fluoride",null,"218-173-8","2062-98-8",null,"100.273.068","2,3,3,3-tetrafluoro-2-(heptafluoropropoxy)propionic acid, its salts and its acyl halides","covering any of their individual isomers and combinations thereof"]
["100.017.741","Substance Direct Entry","1,3,5-Tris(oxiran-2-ylmethyl)-1,3,5-triazinane-2,4,6-trione (TGIC)",null,"219-514-3","2451-62-9"]
["100.017.894","Group member","20-[4-(1,1,3,3-tetramethylbutyl)phenoxy]-3,6,9,12,15,18-hexaoxaicosan-1-ol",null,"219-682-8","2497-59-8",null,"100.239.147","4-(1,1,3,3-tetramethylbutyl)phenol, ethoxylated","covering well-defined substances and UVCB substances, polymers and homologues"]
["100.018.131","Substance Direct Entry","[4-[[4-anilino-1-naphthyl][4-(dimethylamino)phenyl]methylene]cyclohexa-2,5-dien-1-ylidene] dimethylammonium chloride (C.I. Basic Blue 26)","with ≥ 0.1% of Michler's ketone (EC No. 202-027-5) or Michler's base (EC No. 202-959-2)","219-943-6","2580-56-5"]
["100.019.518","Group member","Ammonium nonadecafluorodecanoate",null,"221-470-5","3108-42-7",null,"100.244.606","Nonadecafluorodecanoic acid (PFDA) and its sodium and ammonium salts"]
["100.019.724","Group member","1,2,5,6,9,10-hexabromocyclododecane",null,"221-695-9","3194-55-6",null,"100.239.157","Hexabromocyclododecane (HBCDD)","and all major diastereoisomers identified"]
["100.019.971","Group member","2,2-bis(bromomethyl)propane-1,3-diol (BMP)",null,"221-967-7","3296-90-0","1,3-Propanediol, 2,2-bis(bromomethyl)-","100.316.784","2,2-bis(bromomethyl)propane-1,3-diol (BMP); 2,2-dimethylpropan-1-ol, tribromo derivative/3-bromo-2,2-bis(bromomethyl)-1-propanol (TBNPA); 2,3-dibromo-1-propanol (2,3-DBPA)"]
["100.020.804","Group member","Dioctyltin dilaurate",null,"222-883-3","3648-18-8",null,"100.308.020","Dioctyltin dilaurate, stannane, dioctyl-, bis(coco acyloxy) derivs., and any other stannane, dioctyl-, bis(fatty acyloxy) derivs. wherein C12 is the predominant carbon number of the fatty acyloxy moiety"]
["100.020.890","Substance Direct Entry","Trilead diarsenate",null,"222-979-5","3687-31-8"]
["100.021.202","Substance Direct Entry","Ammonium pentadecafluorooctanoate (APFO)",null,"223-320-4","3825-26-1"]
["100.021.225","Substance Direct Entry","2-benzotriazol-2-yl-4,6-di-tert-butylphenol (UV-320)",null,"223-346-6","3846-71-7"]
["100.021.259","Substance Direct Entry","2,4-di-tert-butyl-6-(5-chlorobenzotriazol-2-yl)phenol (UV-327)",null,"223-383-8","3864-99-1"]
["100.021.268","Group member","potassium perfluorohexane-1-sulphonate",null,"223-393-2","3871-99-6",null,"100.244.691","Perfluorohexane-1-sulphonic acid and its salts","PFHxS"]
["100.022.008","Substance Direct Entry","Isobutyl 4-hydroxybenzoate",null,"224-208-8","4247-02-3"]
["100.025.544","Group member","Ammonium perfluoroheptanoate",null,"228-098-2","6130-43-4",null,"100.356.090","Perfluoroheptanoic acid and its salts"]
["100.026.669","Substance Direct Entry","Lead dipicrate",null,"229-335-2","6477-64-1"]
["100.027.138","Substance Direct Entry","α,α-Bis[4-(dimethylamino)phenyl]-4 (phenylamino)naphthalene-1-methanol (C.I. Solvent Blue 4)","with ≥ 0.1% of Michler's ketone (EC No. 202-027-5) or Michler's base (EC No. 202-959-2)","229-851-8","6786-83-0"]
["100.027.972","Group member","2-[2-[2-[2-(4-nonylphenoxy)ethoxy]ethoxy]ethoxy]ethanol",null,"230-770-5","7311-27-5",null,"100.239.148","4-Nonylphenol, branched and linear, ethoxylated","substances with a linear and/or branched alkyl chain with a carbon number of 9 covalently bound in position 4 to phenol, ethoxylated covering UVCB- and well-defined substances, polymers and homologues, which include any of the individual isomers and/or combinations thereof"]
["100.028.273","Substance Direct Entry","Lead",null,"231-100-4","7439-92-1"]
["100.028.320","Substance Direct Entry","Cadmium",null,"231-152-8","7440-43-9"]
["100.028.688","Substance Direct Entry","Sodium peroxometaborate",null,"231-556-4","7632-04-4"]
["100.028.718","Substance Direct Entry","Cobalt dichloride",null,"231-589-4","7646-79-9"]
["100.028.910","Group member","Chromic acid",null,"231-801-5","7738-94-5",null,"100.239.153","Acids generated from chromium trioxide and their oligomers"]
["100.028.951","Substance Direct Entry","Lead chromate",null,"231-846-0","7758-97-6"]
["100.028.990","Substance Direct Entry","Sodium chromate",null,"231-889-5","7775-11-3"]
["100.029.001","Substance Direct Entry","Arsenic acid",null,"231-901-9","7778-39-4"]
["100.029.003","Substance Direct Entry","Calcium arsenate",null,"231-904-5","7778-44-1"]
["100.029.005","Substance Direct Entry","Potassium dichromate",null,"231-906-6","7778-50-9"]
["100.029.149","Substance Direct Entry","Lead hydrogen arsenate",null,"232-064-2","7784-40-9"]
["100.029.218","Substance Direct Entry","Potassium chromate",null,"232-140-5","7789-00-6"]
["100.029.220","Substance Direct Entry","Strontium chromate",null,"232-142-6","7789-06-2"]
["100.029.221","Substance Direct Entry","Ammonium dichromate",null,"232-143-1","7789-09-5"]
["100.029.293","Substance Direct Entry","Cadmium fluoride",null,"232-222-0","7790-79-6"]
["100.029.436","Substance Direct Entry","Pyrochlore, antimony lead yellow","-","232-382-1","8012-00-8"]
["100.030.114","Group member","Boric acid",null,"233-139-2","10043-35-3",null,"100.239.155","Boric acid","EC No. 233-139-2 and EC No. 234-343-4"]
["100.030.210","Substance Direct Entry","Lead dinitrate",null,"233-245-9","10099-74-8"]
["100.030.256","Substance Direct Entry","Cadmium chloride",null,"233-296-7","10108-64-2"]
["100.030.288","Substance Direct Entry","Cadmium sulphate",null,"233-331-6","10124-36-4"]
["100.030.288","Substance Direct Entry","Cadmium sulphate",null,"233-331-6","31119-53-6"]
["100.030.291","Substance Direct Entry","Cobalt(II) sulphate",null,"233-334-2","10124-43-3"]
["100.030.353","Substance Direct Entry","Cobalt(II) dinitrate",null,"233-402-1","10141-05-6"]
["100.030.633","Substance Direct Entry","Cadmium nitrate",null,"233-710-6","10325-94-7"]
["100.031.070","Substance Direct Entry","Sodium dichromate",null,"234-190-3","10588-01-9"]
["100.031.070","Substance Direct Entry","Sodium dichromate",null,"234-190-3","7789-12-0"]
["100.031.156","Group member","Isononylphenol",null,"234-284-4","11066-49-2",null,"100.239.149","4-Nonylphenol, branched and linear","substances with a linear and/or branched alkyl chain with a carbon number of 9 covalently bound in position 4 to phenol, covering also UVCB- and well-defined substances which include any of the individual isomers or a combination thereof"]
["100.031.196","Substance Direct Entry","Potassium hydroxyoctaoxodizincatedichromate",null,"234-329-8","11103-86-9"]
["100.031.209","Group member","Boric acid, crude natural",null,"234-343-4","11113-50-1",null,"100.239.155","Boric acid","EC No. 233-139-2 and EC No. 234-343-4"]
["100.031.227","Substance Direct Entry","Silicic acid, lead salt",null,"234-363-3","11120-22-2"]
["100.031.251","Group member","Perboric acid, sodium salt",null,"234-390-0","11138-47-9",null,"100.239.162","Sodium perborate, perboric acid, sodium salt"]
["100.031.388","Substance Direct Entry","Disodium octaborate",null,"234-541-0","12008-41-2"]
["100.031.672","Substance Direct Entry","Lead oxide sulfate",null,"234-853-7","12036-76-9"]
["100.031.841","Substance Direct Entry","Lead titanium trioxide",null,"235-038-9","12060-00-3"]
["100.031.867","Substance Direct Entry","Pentalead tetraoxide sulphate",null,"235-067-7","12065-90-6"]
["100.032.035","Substance Direct Entry","Trilead dioxide phosphonate",null,"235-252-2","12141-20-7"]
["100.032.152","Substance Direct Entry","Tetralead trioxide sulphate",null,"235-380-9","12202-17-4"]
["100.032.298","Substance Direct Entry","Tetraboron disodium heptaoxide, hydrate",null,"235-541-3","12267-73-1"]
["100.032.444","Substance Direct Entry","Dioxobis(stearato)trilead",null,"235-702-8","12578-12-0"]
["100.032.467","Substance Direct Entry","Lead titanium zirconium oxide",null,"235-727-4","12626-81-2"]
["100.032.496","Substance Direct Entry","Lead chromate molybdate sulphate red (C.I. Pigment Red 104)","-","235-759-9","12656-85-8"]
["100.032.791","Group member","cis-cyclohexane-1,2-dicarboxylic anhydride",null,"236-086-3","13149-00-3",null,"100.239.156","Cyclohexane-1,2-dicarboxylic anhydride","all possible combinations of the cis- and trans-isomers"]
["100.032.928","Group member","2,3,3,3-tetrafluoro-2-(heptafluoropropoxy)propionic acid",null,"236-236-8","13252-13-6",null,"100.273.068","2,3,3,3-tetrafluoro-2-(heptafluoropropoxy)propionic acid, its salts and its acyl halides","covering any of their individual isomers and combinations thereof"]
["100.033.206","Substance Direct Entry","Lead diazide, Lead azide",null,"236-542-1","13424-46-9"]
["100.033.513","Group member","Dichromic acid",null,"236-881-5","13530-68-2",null,"100.239.153","Acids generated from chromium trioxide and their oligomers"]
["100.033.575","Group member","1,6,7,8,9,14,15,16,17,17,18,18-dodecachloropentacyclo[12.2.1.16,9.02,13.05,10]octadeca-7,15-diene",null,"236-948-9","13560-89-9",null,"100.253.516","1,6,7,8,9,14,15,16,17,17,18,18-Dodecachloropentacyclo[12.2.1.16,9.02,13.05,10]octadeca-7,15-diene (“Dechlorane Plus”™)","covering any of its individual anti- and syn-isomers or any combination thereof"]
["100.033.824","Substance Direct Entry","Barium diboron tetraoxide",null,"237-222-4","13701-59-2"]
["100.034.064","Substance Direct Entry","Lead bis(tetrafluoroborate)",null,"237-486-0","13814-96-5"]
["100.034.132","Group member","Orthoboric acid, sodium salt",null,"237-560-2","13840-56-7","Boric acid (H3BO3), sodium salt (1:?)","100.331.485","orthoboric acid, sodium salt"]
["100.034.539","Group member","trans-cyclohexane-1,2-dicarboxylic anhydride",null,"238-009-9","14166-21-3",null,"100.239.156","Cyclohexane-1,2-dicarboxylic anhydride","all possible combinations of the cis- and trans-isomers"]
["100.034.760","Group member","Trisodium orthoborate",null,"238-253-6","14312-40-4",null,"100.331.485","orthoboric acid, sodium salt"]
["100.035.567","Substance Direct Entry","1,7,7-trimethyl-3-(phenylmethylene)bicyclo[2.2.1]heptan-2-one","3-benzylidene camphor; 3-BC","239-139-9","15087-24-8"]
["100.035.597","Group member","Sodium perborate",null,"239-172-9","15120-21-5",null,"100.239.162","Sodium perborate, perboric acid, sodium salt"]
["100.035.703","Substance Direct Entry","Lead styphnate",null,"239-290-0","15245-44-0"]
["100.036.005","Substance Direct Entry","2-ethylhexyl 10-ethyl-4,4-dioctyl-7-oxo-8-oxa-3,5-dithia-4-stannatetradecanoate (DOTE)",null,"239-622-4","15571-58-1"]
["100.037.646","Group member","p-(1-methyloctyl)phenol",null,"241-427-4","17404-66-9",null,"100.239.149","4-Nonylphenol, branched and linear","substances with a linear and/or branched alkyl chain with a carbon number of 9 covalently bound in position 4 to phenol, covering also UVCB- and well-defined substances which include any of the individual isomers or a combination thereof"]
["100.039.141","Group member","Hexahydro-4-methylphthalic anhydride",null,"243-072-0","19438-60-9",null,"100.239.158","Hexahydromethylphthalic anhydride","including cis- and trans- stereo isomeric forms and all possible combinations of the isomers"]
["100.039.548","Group member","Sodium perfluoroheptanoate",null,"243-518-4","20109-59-5",null,"100.356.090","Perfluoroheptanoic acid and its salts"]
["100.039.818","Group member","2-[2-(4-nonylphenoxy)ethoxy]ethanol",null,"243-816-4","20427-84-3",null,"100.239.148","4-Nonylphenol, branched and linear, ethoxylated","substances with a linear and/or branched alkyl chain with a carbon number of 9 covalently bound in position 4 to phenol, ethoxylated covering UVCB- and well-defined substances, polymers and homologues, which include any of the individual isomers and/or combinations thereof"]
["100.040.052","Substance Direct Entry","Lead cyanamidate",null,"244-073-9","20837-86-9"]
["100.040.137","Substance Direct Entry","Cadmium hydroxide",null,"244-168-5","21041-95-2"]
["100.041.032","Substance Direct Entry","Dibutylbis(pentane-2,4-dionato-O,O')tin",null,"245-152-0","22673-19-4"]
["100.042.127","Substance Direct Entry","Dichromium tris(chromate)",null,"246-356-2","24613-89-6"]
["100.042.414","Group member","Nonylphenol",null,"246-672-0","25154-52-3",null,"100.239.149","4-Nonylphenol, branched and linear","substances with a linear and/or branched alkyl chain with a carbon number of 9 covalently bound in position 4 to phenol, covering also UVCB- and well-defined substances which include any of the individual isomers or a combination thereof"]
["100.042.419","Substance Direct Entry","Trixylyl phosphate",null,"246-677-8","25155-23-1"]
["100.042.798","Group member","Hexahydromethylphthalic anhydride",null,"247-094-1","25550-51-0",null,"100.239.158","Hexahydromethylphthalic anhydride","including cis- and trans- stereo isomeric forms and all possible combinations of the isomers"]
["100.042.848","Group member","Hexabromocyclododecane",null,"247-148-4","25637-99-4",null,"100.239.157","Hexabromocyclododecane (HBCDD)","and all major diastereoisomers identified"]
["100.043.062","Substance Direct Entry","2-(2H-benzotriazol-2-yl)-4,6-ditertpentylphenol (UV-328)",null,"247-384-8","25973-55-1"]
["100.043.099","Group member","Bis(2-ethylhexyl) tetrabromophthalate",null,"247-426-5","26040-51-7",null,"100.362.813","bis(2-ethylhexyl) tetrabromophthalate covering any of the individual isomers and/or combinations thereof"]
["100.043.217","Group member","14-(nonylphenoxy)-3,6,9,12-tetraoxatetradecan-1-ol",null,"247-555-7","26264-02-8",null,"100.239.148","4-Nonylphenol, branched and linear, ethoxylated","substances with a linear and/or branched alkyl chain with a carbon number of 9 covalently bound in position 4 to phenol, ethoxylated covering UVCB- and well-defined substances, polymers and homologues, which include any of the individual isomers and/or combinations thereof"]
["100.043.402","Group member","tris(nonylphenyl) phosphite",null,"247-759-6","26523-78-4",null,"100.264.200","Tris(4-nonylphenyl, branched and linear) phosphite (TNPP) with ≥ 0.1% w/w of 4-nonylphenol, branched and linear (4-NP)"]
["100.043.412","Group member","p-isononylphenol",null,"247-770-6","26543-97-5",null,"100.239.149","4-Nonylphenol, branched and linear","substances with a linear and/or branched alkyl chain with a carbon number of 9 covalently bound in position 4 to phenol, covering also UVCB- and well-defined substances which include any of the individual isomers or a combination thereof"]
["100.043.454","Group member","26-(nonylphenoxy)-3,6,9,12,15,18,21,24-octaoxahexacosan-1-ol",null,"247-816-5","26571-11-9",null,"100.239.148","4-Nonylphenol, branched and linear, ethoxylated","substances with a linear and/or branched alkyl chain with a carbon number of 9 covalently bound in position 4 to phenol, ethoxylated covering UVCB- and well-defined substances, polymers and homologues, which include any of the individual isomers and/or combinations thereof"]
["100.043.886","Group member","2-[2-(nonylphenoxy)ethoxy]ethanol",null,"248-291-5","27176-93-8",null,"100.239.148","4-Nonylphenol, branched and linear, ethoxylated","substances with a linear and/or branched alkyl chain with a carbon number of 9 covalently bound in position 4 to phenol, ethoxylated covering UVCB- and well-defined substances, polymers and homologues, which include any of the individual isomers and/or combinations thereof"]
["100.043.887","Group member","20-(nonylphenoxy)-3,6,9,12,15,18-hexaoxaicosan-1-ol",null,"248-292-0","27177-03-3",null,"100.239.148","4-Nonylphenol, branched and linear, ethoxylated","substances with a linear and/or branched alkyl chain with a carbon number of 9 covalently bound in position 4 to phenol, ethoxylated covering UVCB- and well-defined substances, polymers and homologues, which include any of the individual isomers and/or combinations thereof"]
["100.043.888","Group member","23-(nonylphenoxy)-3,6,9,12,15,18,21-heptaoxatricosan-1-ol",null,"248-293-6","27177-05-5",null,"100.239.148","4-Nonylphenol, branched and linear, ethoxylated","substances with a linear and/or branched alkyl chain with a carbon number of 9 covalently bound in position 4 to phenol, ethoxylated covering UVCB- and well-defined substances, polymers and homologues, which include any of the individual isomers and/or combinations thereof"]
["100.043.889","Group member","29-(nonylphenoxy)-3,6,9,12,15,18,21,24,27-nonaoxanonacosanol",null,"248-294-1","27177-08-8",null,"100.239.148","4-Nonylphenol, branched and linear, ethoxylated","substances with a linear and/or branched alkyl chain with a carbon number of 9 covalently bound in position 4 to phenol, ethoxylated covering UVCB- and well-defined substances, polymers and homologues, which include any of the individual isomers and/or combinations thereof"]
["100.044.297","Group member","20-(4-nonylphenoxy)-3,6,9,12,15,18-hexaoxaicosan-1-ol",null,"248-743-1","27942-27-4",null,"100.239.148","4-Nonylphenol, branched and linear, ethoxylated","substances with a linear and/or branched alkyl chain with a carbon number of 9 covalently bound in position 4 to phenol, ethoxylated covering UVCB- and well-defined substances, polymers and homologues, which include any of the individual isomers and/or combinations thereof"]
["100.044.314","Group member","2-(nonylphenoxy)ethanol",null,"248-762-5","27986-36-3",null,"100.239.148","4-Nonylphenol, branched and linear, ethoxylated","substances with a linear and/or branched alkyl chain with a carbon number of 9 covalently bound in position 4 to phenol, ethoxylated covering UVCB- and well-defined substances, polymers and homologues, which include any of the individual isomers and/or combinations thereof"]
["100.045.092","Group member","Potassium 1,1,2,2,3,3,4,4,4-nonafluorobutane-1-sulphonate",null,"249-616-3","29420-49-3",null,"100.282.094","Perfluorobutane sulfonic acid (PFBS) and its salts"]
["100.045.748","Group member","p-(1,1-dimethylheptyl)phenol",null,"250-339-5","30784-30-6",null,"100.239.149","4-Nonylphenol, branched and linear","substances with a linear and/or branched alkyl chain with a carbon number of 9 covalently bound in position 4 to phenol, covering also UVCB- and well-defined substances which include any of the individual isomers or a combination thereof"]
["100.048.200","Substance Direct Entry","2-(2H-benzotriazol-2-yl)-4-(tert-butyl)-6-(sec-butyl)phenol (UV-350)",null,"253-037-1","36437-37-3"]
["100.048.218","Group member","2,2-dimethylpropan-1-ol, tribromo derivative (TBNPA)",null,"253-057-0","36483-57-5","1-Propanol, 2,2-dimethyl-, tribromo deriv.","100.316.784","2,2-bis(bromomethyl)propane-1,3-diol (BMP); 2,2-dimethylpropan-1-ol, tribromo derivative/3-bromo-2,2-bis(bromomethyl)-1-propanol (TBNPA); 2,3-dibromo-1-propanol (2,3-DBPA)"]
["100.048.386","Group member","(±)-1,7,7-trimethyl-3-[(4-methylphenyl)methylene]bicyclo[2.2.1]heptan-2-one",null,"253-242-6","36861-47-9","Bicyclo[2.2.1]heptan-2-one, 1,7,7-trimethyl-3-[(4-methylphenyl)methylene]-","100.325.076","(±)-1,7,7-trimethyl-3-[(4-methylphenyl)methylene]bicyclo[2.2.1]heptan-2-one covering any of the individual isomers and/or combinations thereof (4-MBC)"]
["100.048.794","Substance Direct Entry","1,1'-[ethane-1,2-diylbisoxy]bis[2,4,6-tribromobenzene]",null,"253-692-3","37853-59-1"]
["100.050.614","Group member","26-(nonylphenoxy)-3,6,9,12,15,18,21,24-octaoxahexacosan-1-ol;",null,"255-695-5","42173-90-0",null,"100.239.148","4-Nonylphenol, branched and linear, ethoxylated","substances with a linear and/or branched alkyl chain with a carbon number of 9 covalently bound in position 4 to phenol, ethoxylated covering UVCB- and well-defined substances, polymers and homologues, which include any of the individual isomers and/or combinations thereof"]
["100.051.216","Group member","Hexahydro-1-methylphthalic anhydride",null,"256-356-4","48122-14-1",null,"100.239.158","Hexahydromethylphthalic anhydride","including cis- and trans- stereo isomeric forms and all possible combinations of the isomers"]
["100.051.272","Substance Direct Entry","Pentazinc chromate octahydroxide",null,"256-418-0","49663-84-5"]
["100.051.960","Substance Direct Entry","Acetic acid, lead salt, basic",null,"257-175-3","51404-69-4"]
["100.052.625","Group member","4-(1-ethyl-1-methylhexyl)phenol",null,"257-907-1","52427-13-1",null,"100.239.149","4-Nonylphenol, branched and linear","substances with a linear and/or branched alkyl chain with a carbon number of 9 covalently bound in position 4 to phenol, covering also UVCB- and well-defined substances which include any of the individual isomers or a combination thereof"]
["100.055.043","Group member","Hexahydro-3-methylphthalic anhydride",null,"260-566-1","57110-29-9",null,"100.239.158","Hexahydromethylphthalic anhydride","including cis- and trans- stereo isomeric forms and all possible combinations of the isomers"]
["100.055.145","Group member","44-(nonylphenoxy)-3,6,9,12,15,18,21,24,27,30,33,36,39,42-tetradecaoxatetratetracontanol",null,"260-678-0","57321-10-5",null,"100.239.148","4-Nonylphenol, branched and linear, ethoxylated","substances with a linear and/or branched alkyl chain with a carbon number of 9 covalently bound in position 4 to phenol, ethoxylated covering UVCB- and well-defined substances, polymers and homologues, which include any of the individual isomers and/or combinations thereof"]
["100.057.225","Substance Direct Entry","Terphenyl, hydrogenated",null,"262-967-7","61788-32-7"]
["100.057.680","Substance Direct Entry","Sulfurous acid, lead salt, dibasic",null,"263-467-1","62229-08-7"]
["100.059.787","Group member","20-(isononylphenoxy)-3,6,9,12,15,18-hexaoxaicosan-1-ol",null,"265-785-6","65455-69-8",null,"100.239.148","4-Nonylphenol, branched and linear, ethoxylated","substances with a linear and/or branched alkyl chain with a carbon number of 9 covalently bound in position 4 to phenol, ethoxylated covering UVCB- and well-defined substances, polymers and homologues, which include any of the individual isomers and/or combinations thereof"]
["100.060.007","Substance Direct Entry","Pitch, coal tar, high-temp.","-","266-028-2","65996-93-2"]
["100.060.507","Group member","potassium 2,3,3,3-tetrafluoro-2-(heptafluoropropoxy)propionate",null,"266-578-3","67118-55-2",null,"100.273.068","2,3,3,3-tetrafluoro-2-(heptafluoropropoxy)propionic acid, its salts and its acyl halides","covering any of their individual isomers and combinations thereof"]
["100.063.173","Group member","ammonium perfluorohexane-1-sulphonate",null,"269-511-6","68259-08-5",null,"100.244.691","Perfluorohexane-1-sulphonic acid and its salts","PFHxS"]
["100.063.175","Group member","Ammonium 1,1,2,2,3,3,4,4,4-nonafluorobutane-1-sulphonate",null,"269-513-7","68259-10-9",null,"100.282.094","Perfluorobutane sulfonic acid (PFBS) and its salts"]
["100.064.602","Substance Direct Entry","1,2-Benzenedicarboxylic acid, di-C7-11-branched and linear alkyl esters",null,"271-084-6","68515-42-4"]
["100.064.610","Substance Direct Entry","1,2-Benzenedicarboxylic acid, dihexyl ester, branched and linear",null,"271-093-5","68515-50-4"]
["100.064.611","Group member","1,2-Benzenedicarboxylic acid, di-C6-10-alkyl esters",null,"271-094-0","68515-51-5",null,"100.239.145","1,2-benzenedicarboxylic acid, di-C6-10-alkyl esters or mixed decyl and hexyl and octyl diesters","with ≥ 0.3% of dihexyl phthalate (EC No. 201-559-5)"]
["100.065.447","Group member","1,2-Benzenedicarboxylic acid, mixed decyl and hexyl and octyl diesters",null,"272-013-1","68648-93-1",null,"100.239.145","1,2-benzenedicarboxylic acid, di-C6-10-alkyl esters or mixed decyl and hexyl and octyl diesters","with ≥ 0.3% of dihexyl phthalate (EC No. 201-559-5)"]
["100.065.681","Substance Direct Entry","Silicic acid (H2Si2O5), barium salt (1:1), lead-doped","with lead (Pb) content above the applicable generic concentration limit for ’toxicity for reproduction’ Repr. 1A (CLP) or category 1 (DSD),the substance is a member of the group entry of lead compounds, with index number 082-001-00-6 in Regulation (EC) No 1272/2008","272-271-5","68784-75-8"]
["100.066.970","Substance Direct Entry","[Phthalato(2-)]dioxotrilead",null,"273-688-5","69011-06-9"]
["100.067.672","Group member","tridecafluorohexanesulphonic acid, compound with 2,2'-iminodiethanol (1:1)",null,"274-462-9","70225-16-0",null,"100.244.691","Perfluorohexane-1-sulphonic acid and its salts","PFHxS"]
["100.069.152","Substance Direct Entry","Diisohexyl phthalate",null,"276-090-2","71850-09-4"]
["100.069.214","Substance Direct Entry","1,2-Benzenedicarboxylic acid, di-C6-8-branched alkyl esters, C7-rich",null,"276-158-1","71888-89-6"]
["100.069.745","Group member","Phenol, heptyl derivs.",null,"276-743-1","72624-02-3",null,"100.244.604","4-heptylphenol, branched and linear","substances with a linear and/or branched alkyl chain with a carbon number of 7 covalently bound predominantly in position 4 to phenol, covering also UVCB- and well-defined substances which include any of the individual isomers or a combination thereof"]
["100.069.747","Substance Direct Entry","Pentacosafluorotridecanoic acid",null,"276-745-2","72629-94-8"]
["100.071.211","Substance Direct Entry","diphenyl(2,4,6-trimethylbenzoyl)phosphine oxide",null,"278-355-8","75980-60-8"]
["100.076.365","Substance Direct Entry","1,2-Benzenedicarboxylic acid, dipentyl ester, branched and linear",null,"284-032-2","84777-06-0"]
["100.076.631","Group member","Phenol, 4-nonyl-, branched",null,"284-325-5","84852-15-3",null,"100.239.149","4-Nonylphenol, branched and linear","substances with a linear and/or branched alkyl chain with a carbon number of 9 covalently bound in position 4 to phenol, covering also UVCB- and well-defined substances which include any of the individual isomers or a combination thereof"]
["100.077.233","Group member","2-(isononylphenoxy)ethanol",null,"284-987-5","85005-55-6",null,"100.239.148","4-Nonylphenol, branched and linear, ethoxylated","substances with a linear and/or branched alkyl chain with a carbon number of 9 covalently bound in position 4 to phenol, ethoxylated covering UVCB- and well-defined substances, polymers and homologues, which include any of the individual isomers and/or combinations thereof"]
["100.079.496","Substance Direct Entry","Alkanes, C10-13, chloro (Short Chain Chlorinated Paraffins)",null,"287-476-5","85535-84-8"]
["100.079.497","Group member","Alkanes, C14-17, chloro",null,"287-477-0","85535-85-9","Alkanes, C14-17, chloro","100.323.845","Medium-chain chlorinated paraffins (MCCP)","UVCB substances consisting of more than or equal to 80% linear chloroalkanes with carbon chain lengths within the range from C14 to C17"]
["100.083.463","Group member","Phenol, nonyl-, branched",null,"291-844-0","90481-04-2",null,"100.239.149","4-Nonylphenol, branched and linear","substances with a linear and/or branched alkyl chain with a carbon number of 9 covalently bound in position 4 to phenol, covering also UVCB- and well-defined substances which include any of the individual isomers or a combination thereof"]
["100.084.153","Substance Direct Entry","Anthracene oil","-","292-602-7","90640-80-5"]
["100.084.154","Substance Direct Entry","Anthracene oil, anthracene paste","-","292-603-2","90640-81-6"]
["100.084.155","Substance Direct Entry","Anthracene oil, anthracene-low","-","292-604-8","90640-82-7"]
["100.084.483","Substance Direct Entry","Fatty acids, C16-18, lead salts",null,"292-966-7","91031-62-8"]
["100.085.331","Group member","Stannane, dioctyl-, bis(coco acyloxy) derivs.",null,"293-901-5","91648-39-4",null,"100.308.020","Dioctyltin dilaurate, stannane, dioctyl-, bis(coco acyloxy) derivs., and any other stannane, dioctyl-, bis(fatty acyloxy) derivs. wherein C12 is the predominant carbon number of the fatty acyloxy moiety"]
["100.085.354","Group member","3,6,9,12-Tetraoxatetradecan-1-ol, 14-(4-nonylphenoxy)-, branched",null,"293-926-1","91648-64-5",null,"100.239.148","4-Nonylphenol, branched and linear, ethoxylated","substances with a linear and/or branched alkyl chain with a carbon number of 9 covalently bound in position 4 to phenol, ethoxylated covering UVCB- and well-defined substances, polymers and homologues, which include any of the individual isomers and/or combinations thereof"]
["100.086.576","Substance Direct Entry","Anthracene oil, anthracene paste, anthracene fraction","-","295-275-9","91995-15-2"]
["100.086.578","Substance Direct Entry","Anthracene oil, anthracene paste, distn. lights","-","295-278-5","91995-17-4"]
["100.091.138","Group member","Formaldehyde, reaction products with branched and linear heptylphenol, carbon disulfide and hydrazine",null,"300-298-5","93925-00-9",null,"100.253.517","Reaction products of 1,3,4-thiadiazolidine-2,5-dithione, formaldehyde and 4-heptylphenol, branched and linear (RP-HP)","with ≥0.1% w/w 4-heptylphenol, branched and linear (4-HPbl)"]
["100.100.072","Group member","Phenol, dodecyl-, branched",null,"310-154-3","121158-58-5","Phenol, dodecyl-, branched","100.311.974","Phenol, alkylation products (mainly in para position) with C12-rich branched alkyl chains from oligomerisation, covering any individual isomers and/ or combinations thereof (PDDP)"]
["100.100.260","Substance Direct Entry","2-methyl-1-(4-methylthiophenyl)-2-morpholinopropan-1-one",null,"400-600-6","71868-10-5"]
["100.100.362","Substance Direct Entry","2,2-bis(4'-hydroxyphenyl)-4-methylpentane",null,"401-720-1","6807-17-6"]
["100.100.365","Substance Direct Entry","Lead(II) bis(methanesulfonate)","-","401-750-5","17570-76-2"]
["100.100.373","Substance Direct Entry","S-(tricyclo(5.2.1.0'2,6)deca-3-en-8(or 9)-yl O-(isopropyl or isobutyl or 2-ethylhexyl) O-(isopropyl or isobutyl or 2-ethylhexyl) phosphorodithioate",null,"401-850-9","255881-94-8","Phosphorodithioic acid, mixed O,O-bis(2-ethylhexyl and iso-Bu and iso-Pr) S-[3a,4,5,6,7,7a-hexahydro-4,7-methano-1H-inden-5(or 6)-yl] esters"]
["100.100.600","Substance Direct Entry","2-benzyl-2-dimethylamino-4'-morpholinobutyrophenone",null,"404-360-3","119313-12-1"]
["100.101.291","Group member","Reaction mass of 5-sec-butyl-2-(2,4-dimethylcyclohex-3-en-1-yl)-5-methyl-1,3-dioxane and 5-sec-butyl-2-(4,6-dimethylcyclohex-3-en-1-yl)-5-methyl-1,3-dioxane",null,"413-720-9","-",null,"100.239.151","5-sec-butyl-2-(2,4-dimethylcyclohex-3-en-1-yl)-5-methyl-1,3-dioxane [1], 5-sec-butyl-2-(4,6-dimethylcyclohex-3-en-1-yl)-5-methyl-1,3-dioxane [2]","covering any of the individual stereoisomers of [1] and [2] or any combination thereof"]
["100.101.975","Substance Direct Entry","3-ethyl-2-methyl-2-(3-methylbutyl)-1,3-oxazolidine",null,"421-150-7","143860-04-2"]
["100.102.195","Substance Direct Entry","1,3,5-tris[(2S and 2R)-2,3-epoxypropyl]-1,3,5-triazine-2,4,6-(1H,3H,5H)-trione (β-TGIC)","-","423-400-0","59653-74-6"]
["100.102.611","Substance Direct Entry","Triethyl arsenate","-","427-700-2","15606-95-8"]
["100.103.091","Group member","bis(4-t-butylphenyl)iodonium perfluorobutanesulfonate",null,"432-660-4","194999-85-4",null,"100.282.094","Perfluorobutane sulfonic acid (PFBS) and its salts"]
["100.103.965","Group member","tetrabutyl-phosphonium nonafluoro-butane-1-sulfonate",null,"444-440-5","220689-12-3",null,"100.282.094","Perfluorobutane sulfonic acid (PFBS) and its salts"]
["100.104.333","Group member","dimethyl(phenyl)sulfanium perfluorobutanesulfonate",null,"452-310-4","220133-51-7",null,"100.282.094","Perfluorobutane sulfonic acid (PFBS) and its salts"]
["100.104.884","Group member","1-(4-butoxy-1-naphthalenyl)tetrahydrothiophenium 1,1,2,2,3,3,4,4,4-nonafluoro-1-butanesulfonate",null,"468-770-4","-",null,"100.282.094","Perfluorobutane sulfonic acid (PFBS) and its salts"]
["100.105.055","Substance Direct Entry","reaction mass of 2,2,3,3,5,5,6,6-octafluoro-4-(1,1,1,2,3,3,3-heptafluoropropan-2-yl)morpholine and 2,2,3,3,5,5,6,6-octafluoro-4-(heptafluoropropyl)morpholine",null,"473-390-7","-"]
["100.105.187","Group member","Triphenylsulfanium perfluorobutane sulfonate",null,"478-340-8","144317-44-2",null,"100.282.094","Perfluorobutane sulfonic acid (PFBS) and its salts"]
["100.105.533","Group member","Nonylphenol, ethoxylated",null,"500-024-6","9016-45-9",null,"100.239.148","4-Nonylphenol, branched and linear, ethoxylated","substances with a linear and/or branched alkyl chain with a carbon number of 9 covalently bound in position 4 to phenol, ethoxylated covering UVCB- and well-defined substances, polymers and homologues, which include any of the individual isomers and/or combinations thereof"]
["100.105.544","Substance Direct Entry","Formaldehyde, oligomeric reaction products with aniline",null,"500-036-1","25214-70-4"]
["100.105.552","Group member","4-Nonylphenol, ethoxylated","1 - 2.5 moles ethoxylated","500-045-0","26027-38-3",null,"100.239.148","4-Nonylphenol, branched and linear, ethoxylated","substances with a linear and/or branched alkyl chain with a carbon number of 9 covalently bound in position 4 to phenol, ethoxylated covering UVCB- and well-defined substances, polymers and homologues, which include any of the individual isomers and/or combinations thereof"]
["100.105.700","Group member","Nonylphenol, branched, ethoxylated","1 - 2.5 moles ethoxylated","500-209-1","68412-54-4",null,"100.239.148","4-Nonylphenol, branched and linear, ethoxylated","substances with a linear and/or branched alkyl chain with a carbon number of 9 covalently bound in position 4 to phenol, ethoxylated covering UVCB- and well-defined substances, polymers and homologues, which include any of the individual isomers and/or combinations thereof"]
["100.105.797","Group member","4-Nonylphenol, branched, ethoxylated","1 - 2.5 moles ethoxylated","500-315-8","127087-87-0",null,"100.239.148","4-Nonylphenol, branched and linear, ethoxylated","substances with a linear and/or branched alkyl chain with a carbon number of 9 covalently bound in position 4 to phenol, ethoxylated covering UVCB- and well-defined substances, polymers and homologues, which include any of the individual isomers and/or combinations thereof"]
["100.106.542","Group member","Phenol, 4-nonyl-, phosphite (3:1)",null,"-","3050-88-2",null,"100.264.200","Tris(4-nonylphenyl, branched and linear) phosphite (TNPP) with ≥ 0.1% w/w of 4-nonylphenol, branched and linear (4-NP)"]
["100.106.721","Group member","Perboric acid (H3BO2(O2)), monosodium salt, trihydrate",null,"-","13517-20-9",null,"100.239.162","Sodium perborate, perboric acid, sodium salt"]
["100.107.346","Group member","Sodium perborate monohydrate",null,"-","10332-33-9",null,"100.239.162","Sodium perborate, perboric acid, sodium salt"]
["100.109.748","Group member","Phenol, (tetrapropenyl) derivatives",null,"-","74499-35-7","Phenol, (tetrapropenyl) derivs.","100.311.974","Phenol, alkylation products (mainly in para position) with C12-rich branched alkyl chains from oligomerisation, covering any individual isomers and/ or combinations thereof (PDDP)"]
["100.110.408","Group member","26-(4-Nonylphenoxy)-3,6,9,12,15,18,21,24- octaoxahexacosan -1-ol",null,"-","14409-72-4",null,"100.239.148","4-Nonylphenol, branched and linear, ethoxylated","substances with a linear and/or branched alkyl chain with a carbon number of 9 covalently bound in position 4 to phenol, ethoxylated covering UVCB- and well-defined substances, polymers and homologues, which include any of the individual isomers and/or combinations thereof"]
["100.115.659","Group member","Perboric acid (HBO(O2)), sodium salt, tetrahydrate",null,"-","10486-00-7",null,"100.239.162","Sodium perborate, perboric acid, sodium salt"]
["100.120.617","Group member","1,3-Dioxane, 2-(2,4-dimethyl-3-cyclohexen-1-yl)-5-methyl-5-(1-methylpropyl)-",null,"-","117933-89-8",null,"100.239.151","5-sec-butyl-2-(2,4-dimethylcyclohex-3-en-1-yl)-5-methyl-1,3-dioxane [1], 5-sec-butyl-2-(4,6-dimethylcyclohex-3-en-1-yl)-5-methyl-1,3-dioxane [2]","covering any of the individual stereoisomers of [1] and [2] or any combination thereof"]
["100.120.858","Group member","Poly(oxy-1,2-ethanediyl), α-[(1,1,3,3-tetramethylbutyl)phenyl]-ω-hydroxy-",null,"-","9036-19-5",null,"100.239.147","4-(1,1,3,3-tetramethylbutyl)phenol, ethoxylated","covering well-defined substances and UVCB substances, polymers and homologues"]
["100.123.919","Group member","Polyethylene glycol p-(1,1,3,3-tetramethylbutyl)phenyl ether",null,"-","9002-93-1",null,"100.239.147","4-(1,1,3,3-tetramethylbutyl)phenol, ethoxylated","covering well-defined substances and UVCB substances, polymers and homologues"]
["100.124.803","Group member","ammonium 2,3,3,3-tetrafluoro-2-(heptafluoropropoxy)propanoate",null,"-","62037-80-3",null,"100.273.068","2,3,3,3-tetrafluoro-2-(heptafluoropropoxy)propionic acid, its salts and its acyl halides","covering any of their individual isomers and combinations thereof"]
["100.124.888","Group member","Phenol, 4-isododecyl-",null,"-","27147-75-7",null,"100.311.974","Phenol, alkylation products (mainly in para position) with C12-rich branched alkyl chains from oligomerisation, covering any individual isomers and/ or combinations thereof (PDDP)"]
["100.125.263","Group member","17-(4-nonylphenoxy)-3,6,9,12,15-pentaoxaheptadecan-1-ol",null,"-","34166-38-6",null,"100.239.148","4-Nonylphenol, branched and linear, ethoxylated","substances with a linear and/or branched alkyl chain with a carbon number of 9 covalently bound in position 4 to phenol, ethoxylated covering UVCB- and well-defined substances, polymers and homologues, which include any of the individual isomers and/or combinations thereof"]
["100.130.672","Group member","Isononylphenol, ethoxylated",null,"-","37205-87-1",null,"100.239.148","4-Nonylphenol, branched and linear, ethoxylated","substances with a linear and/or branched alkyl chain with a carbon number of 9 covalently bound in position 4 to phenol, ethoxylated covering UVCB- and well-defined substances, polymers and homologues, which include any of the individual isomers and/or combinations thereof"]
["100.130.841","Group member","gamma-hexabromocyclododecane",null,"-","134237-52-8",null,"100.239.157","Hexabromocyclododecane (HBCDD)","and all major diastereoisomers identified"]
["100.131.015","Group member","beta-hexabromocyclododecane",null,"-","134237-51-7",null,"100.239.157","Hexabromocyclododecane (HBCDD)","and all major diastereoisomers identified"]
["100.131.125","Group member","alpha-hexabromocyclododecane",null,"-","134237-50-6",null,"100.239.157","Hexabromocyclododecane (HBCDD)","and all major diastereoisomers identified"]
["100.133.434","Group member","Refractories, fibers, aluminosilicate",null,"-","142844-00-6",null,"100.239.154","Aluminosilicate Refractory Ceramic Fibres","are fibres covered by index number 650-017-00-8 in Annex VI, part 3, table 3.1 of Regulation (EC) No 1272/2008 of the European Parliament and of the Council of 16 December 2008 on classification, labelling and packaging of substances and mixtures, and fulfil the three following conditions: a) oxides of aluminium and silicon are the main components present (in the fibres) within variable concentration ranges b) fibres have a length weighted geometric mean diameter less two standard geometric errors of 6 or less micrometres (µm) c) alkaline oxide and alkali earth oxide (Na2O+K2O+CaO+MgO+BaO) content less or equal to 18% by weight"]
["100.133.434","Group member","Refractories, fibers, aluminosilicate",null,"-","142844-00-6",null,"100.239.163","Zirconia Aluminosilicate Refractory Ceramic Fibres","are fibres covered by index number 650-017-00-8 in Annex VI, part 3, table 3.1 of Regulation (EC) No 1272/2008 of the European Parliament and of the Council of 16 December 2008 on classification, labelling and packaging of substances and mixtures, and fulfil the three following conditions: a) oxides of aluminium, silicon and zirconium are the main components present (in the fibres) within variable concentration ranges b) fibres have a length weighted geometric mean diameter less two standard geometric errors of 6 or less micrometres (µm). c) alkaline oxide and alkali earth oxide (Na2O+K2O+CaO+MgO+BaO) content less or equal to 18% by weight"]
["100.149.209","Substance Direct Entry","n-pentyl-isopentyl phthalate",null,"-","776297-69-9"]
["100.149.398","Group member","N,N,N-triethylethanaminium 1,1,2,2,3,3,4,4,4-nonafluorobutane-1-sulfonate",null,"-","25628-08-4",null,"100.282.094","Perfluorobutane sulfonic acid (PFBS) and its salts"]
["100.150.202","Group member","2-[2-[4-(1,1,3,3-tetramethylbutyl)phenoxy]ethoxy]ethanol",null,"-","2315-61-9",null,"100.239.147","4-(1,1,3,3-tetramethylbutyl)phenol, ethoxylated","covering well-defined substances and UVCB substances, polymers and homologues"]
["100.150.206","Group member","2-[4-(1,1,3,3-tetramethylbutyl)phenoxy]ethanol",null,"-","2315-67-5",null,"100.239.147","4-(1,1,3,3-tetramethylbutyl)phenol, ethoxylated","covering well-defined substances and UVCB substances, polymers and homologues"]
["100.151.139","Group member","3-bromo-2,2-bis(bromomethyl)-1-propanol (TBNPA)",null,"-","1522-92-5",null,"100.316.784","2,2-bis(bromomethyl)propane-1,3-diol (BMP); 2,2-dimethylpropan-1-ol, tribromo derivative/3-bromo-2,2-bis(bromomethyl)-1-propanol (TBNPA); 2,3-dibromo-1-propanol (2,3-DBPA)"]
["100.163.282","Group member","4-(1,1,5-Trimethylhexyl)phenol",null,"-","521947-27-3",null,"100.239.149","4-Nonylphenol, branched and linear","substances with a linear and/or branched alkyl chain with a carbon number of 9 covalently bound in position 4 to phenol, covering also UVCB- and well-defined substances which include any of the individual isomers or a combination thereof"]
["100.163.283","Group member","4-(1-Ethyl-1,3-dimethylpentyl)phenol",null,"-","186825-36-5",null,"100.239.149","4-Nonylphenol, branched and linear","substances with a linear and/or branched alkyl chain with a carbon number of 9 covalently bound in position 4 to phenol, covering also UVCB- and well-defined substances which include any of the individual isomers or a combination thereof"]
["100.163.285","Group member","4-(1-Ethyl-1,4-dimethylpentyl)phenol",null,"-","142731-63-3",null,"100.239.149","4-Nonylphenol, branched and linear","substances with a linear and/or branched alkyl chain with a carbon number of 9 covalently bound in position 4 to phenol, covering also UVCB- and well-defined substances which include any of the individual isomers or a combination thereof"]
["100.163.560","Group member","4-(3-ethylheptan-2-yl)phenol",null,"-","186825-39-8",null,"100.239.149","4-Nonylphenol, branched and linear","substances with a linear and/or branched alkyl chain with a carbon number of 9 covalently bound in position 4 to phenol, covering also UVCB- and well-defined substances which include any of the individual isomers or a combination thereof"]
["100.166.325","Group member","Poly(oxy-1,2-ethanediyl), α-(nonylphenyl)-ω-hydroxy-",null,"-","9016-45-9",null,"100.239.148","4-Nonylphenol, branched and linear, ethoxylated","substances with a linear and/or branched alkyl chain with a carbon number of 9 covalently bound in position 4 to phenol, ethoxylated covering UVCB- and well-defined substances, polymers and homologues, which include any of the individual isomers and/or combinations thereof"]
["100.167.712","Group member","Nonylphenol, ethoxylated (6,5-EO)",null,"-","9016-45-9",null,"100.239.148","4-Nonylphenol, branched and linear, ethoxylated","substances with a linear and/or branched alkyl chain with a carbon number of 9 covalently bound in position 4 to phenol, ethoxylated covering UVCB- and well-defined substances, polymers and homologues, which include any of the individual isomers and/or combinations thereof"]
["100.167.713","Group member","Nonylphenol, ethoxylated (8-EO)",null,"-","9016-45-9",null,"100.239.148","4-Nonylphenol, branched and linear, ethoxylated","substances with a linear and/or branched alkyl chain with a carbon number of 9 covalently bound in position 4 to phenol, ethoxylated covering UVCB- and well-defined substances, polymers and homologues, which include any of the individual isomers and/or combinations thereof"]
["100.167.714","Group member","Nonylphenol, ethoxylated (10-EO)",null,"-","9016-45-9",null,"100.239.148","4-Nonylphenol, branched and linear, ethoxylated","substances with a linear and/or branched alkyl chain with a carbon number of 9 covalently bound in position 4 to phenol, ethoxylated covering UVCB- and well-defined substances, polymers and homologues, which include any of the individual isomers and/or combinations thereof"]
["100.167.715","Group member","Nonylphenol, ethoxylated (15-EO)",null,"-","9016-45-9",null,"100.239.148","4-Nonylphenol, branched and linear, ethoxylated","substances with a linear and/or branched alkyl chain with a carbon number of 9 covalently bound in position 4 to phenol, ethoxylated covering UVCB- and well-defined substances, polymers and homologues, which include any of the individual isomers and/or combinations thereof"]
["100.167.758","Group member","Phenol, 4-dodecyl, branched",null,"-","210555-94-5","Phenol, 4-dodecyl-, branched","100.311.974","Phenol, alkylation products (mainly in para position) with C12-rich branched alkyl chains from oligomerisation, covering any individual isomers and/ or combinations thereof (PDDP)"]
["100.169.218","Group member","4-Nonylphenol, branched, ethoxylated",null,"-","127087-87-0","Poly(oxy-1,2-ethanediyl), α-(4-nonylphenyl)-ω-hydroxy-, branched","100.239.148","4-Nonylphenol, branched and linear, ethoxylated","substances with a linear and/or branched alkyl chain with a carbon number of 9 covalently bound in position 4 to phenol, ethoxylated covering UVCB- and well-defined substances, polymers and homologues, which include any of the individual isomers and/or combinations thereof"]
["100.170.850","Group member","Poly (oxy-1,2-ethanediyl), alpha -(nonylphenyl)-omega-hydroxy-, branched",null,"-","68412-54-4",null,"100.239.148","4-Nonylphenol, branched and linear, ethoxylated","substances with a linear and/or branched alkyl chain with a carbon number of 9 covalently bound in position 4 to phenol, ethoxylated covering UVCB- and well-defined substances, polymers and homologues, which include any of the individual isomers and/or combinations thereof"]
["100.193.631","Group member","Poly(oxy-1,2-ethanediyl), α-(nonylphenyl)-ω-hydroxy-, branched",null,"-","68412-54-4",null,"100.239.148","4-Nonylphenol, branched and linear, ethoxylated","substances with a linear and/or branched alkyl chain with a carbon number of 9 covalently bound in position 4 to phenol, ethoxylated covering UVCB- and well-defined substances, polymers and homologues, which include any of the individual isomers and/or combinations thereof"]
["100.197.427","Group member","magnesium perfluorobutanesulfonate",null,"-","507453-86-3",null,"100.282.094","Perfluorobutane sulfonic acid (PFBS) and its salts"]
["100.197.428","Group member","lithium perfluorobutanesulfonate",null,"-","131651-65-5",null,"100.282.094","Perfluorobutane sulfonic acid (PFBS) and its salts"]
["100.197.431","Group member","morpholinium perfluorobutanesulfonate",null,"-","503155-89-3",null,"100.282.094","Perfluorobutane sulfonic acid (PFBS) and its salts"]
["100.205.448","Group member","Nonylphenolpolyglycolether",null,"-","-",null,"100.239.148","4-Nonylphenol, branched and linear, ethoxylated","substances with a linear and/or branched alkyl chain with a carbon number of 9 covalently bound in position 4 to phenol, ethoxylated covering UVCB- and well-defined substances, polymers and homologues, which include any of the individual isomers and/or combinations thereof"]
["100.214.096","Group member","2-[4-(3,6-dimethylheptan-3-yl)phenoxy]ethanol",null,"-","1119449-37-4",null,"100.239.148","4-Nonylphenol, branched and linear, ethoxylated","substances with a linear and/or branched alkyl chain with a carbon number of 9 covalently bound in position 4 to phenol, ethoxylated covering UVCB- and well-defined substances, polymers and homologues, which include any of the individual isomers and/or combinations thereof"]
["100.214.097","Group member","2-{2-[4-(3,6-dimethylheptan-3-yl)phenoxy]ethoxy}ethanol",null,"-","1119449-38-5",null,"100.239.148","4-Nonylphenol, branched and linear, ethoxylated","substances with a linear and/or branched alkyl chain with a carbon number of 9 covalently bound in position 4 to phenol, ethoxylated covering UVCB- and well-defined substances, polymers and homologues, which include any of the individual isomers and/or combinations thereof"]
["100.224.899","Group member","Nonylphenol, ethoxylated (polymer)",null,"-","-",null,"100.239.148","4-Nonylphenol, branched and linear, ethoxylated","substances with a linear and/or branched alkyl chain with a carbon number of 9 covalently bound in position 4 to phenol, ethoxylated covering UVCB- and well-defined substances, polymers and homologues, which include any of the individual isomers and/or combinations thereof"]
["100.225.073","Group member","Reaction mass of 5-[(2R)-butan-2-yl]-2-[(1R,2R)-2,4-dimethylcyclohex-3-en-1-yl]-5-methyl-1,3-dioxane and 5-[(2R)-butan-2-yl]-2-[(1R,6R)-4,6-dimethylcyclohex-3-en-1-yl]-5-methyl-1,3-dioxane and 5-[(2S)-butan-2-yl]-2-[(1R,2R)-2,4-dimethylcyclohex-3-en-1-yl]-5-methyl-1,3-dioxane and 5-[(2S)-butan-2-yl]-2-[(1S,2R)-2,4-dimethylcyclohex-3-en-1-yl]-5-methyl-1,3-dioxane and 5-[(2S)-butan-2-yl]-2-[(1S,6R)-4,6-dimethylcyclohex-3-en-1-yl]-5-methyl-1,3-dioxane",null,"-","-",null,"100.239.151","5-sec-butyl-2-(2,4-dimethylcyclohex-3-en-1-yl)-5-methyl-1,3-dioxane [1], 5-sec-butyl-2-(4,6-dimethylcyclohex-3-en-1-yl)-5-methyl-1,3-dioxane [2]","covering any of the individual stereoisomers of [1] and [2] or any combination thereof"]
["100.226.747","Group member","Reaction product of 1,3,4-thiadiazolidine-2,5-dithione, formaldehyde and phenol, heptyl derivs.",null,"-","1471311-26-8",null,"100.253.517","Reaction products of 1,3,4-thiadiazolidine-2,5-dithione, formaldehyde and 4-heptylphenol, branched and linear (RP-HP)","with ≥0.1% w/w 4-heptylphenol, branched and linear (4-HPbl)"]
["100.228.429","Group member","Nonylphenol, ethoxylated (EO = 4)",null,"-","-",null,"100.239.148","4-Nonylphenol, branched and linear, ethoxylated","substances with a linear and/or branched alkyl chain with a carbon number of 9 covalently bound in position 4 to phenol, ethoxylated covering UVCB- and well-defined substances, polymers and homologues, which include any of the individual isomers and/or combinations thereof"]
["100.228.488","Group member","Nonylphenol, ethoxylated (EO = 10)",null,"-","-",null,"100.239.148","4-Nonylphenol, branched and linear, ethoxylated","substances with a linear and/or branched alkyl chain with a carbon number of 9 covalently bound in position 4 to phenol, ethoxylated covering UVCB- and well-defined substances, polymers and homologues, which include any of the individual isomers and/or combinations thereof"]
["100.239.145","Group Direct Entry","1,2-benzenedicarboxylic acid, di-C6-10-alkyl esters or mixed decyl and hexyl and octyl diesters","with ≥ 0.3% of dihexyl phthalate (EC No. 201-559-5)","-","-"]
["100.239.146","Group Direct Entry","4,4'-oxydianiline and its salts",null,"-","-"]
["100.239.147","Group Direct Entry","4-(1,1,3,3-tetramethylbutyl)phenol, ethoxylated","covering well-defined substances and UVCB substances, polymers and homologues","-","-"]
["100.239.148","Group Direct Entry","4-Nonylphenol, branched and linear, ethoxylated","substances with a linear and/or branched alkyl chain with a carbon number of 9 covalently bound in position 4 to phenol, ethoxylated covering UVCB- and well-defined substances, polymers and homologues, which include any of the individual isomers and/or combinations thereof","-","-"]
["100.239.149","Group Direct Entry","4-Nonylphenol, branched and linear","substances with a linear and/or branched alkyl chain with a carbon number of 9 covalently bound in position 4 to phenol, covering also UVCB- and well-defined substances which include any of the individual isomers or a combination thereof","-","-"]
["100.239.150","Group member","5-sec-butyl-2-(2,4-dimethylcyclohex-3-en-1-yl)-5-methyl-1,3-dioxane",null,"-","-",null,"100.239.151","5-sec-butyl-2-(2,4-dimethylcyclohex-3-en-1-yl)-5-methyl-1,3-dioxane [1], 5-sec-butyl-2-(4,6-dimethylcyclohex-3-en-1-yl)-5-methyl-1,3-dioxane [2]","covering any of the individual stereoisomers of [1] and [2] or any combination thereof"]
["100.239.151","Group Direct Entry","5-sec-butyl-2-(2,4-dimethylcyclohex-3-en-1-yl)-5-methyl-1,3-dioxane [1], 5-sec-butyl-2-(4,6-dimethylcyclohex-3-en-1-yl)-5-methyl-1,3-dioxane [2]","covering any of the individual stereoisomers of [1] and [2] or any combination thereof","-","-"]
["100.239.152","Group member","5-sec-butyl-2-(4,6-dimethylcyclohex-3-en-1-yl)-5-methyl-1,3-dioxane",null,"-","-",null,"100.239.151","5-sec-butyl-2-(2,4-dimethylcyclohex-3-en-1-yl)-5-methyl-1,3-dioxane [1], 5-sec-butyl-2-(4,6-dimethylcyclohex-3-en-1-yl)-5-methyl-1,3-dioxane [2]","covering any of the individual stereoisomers of [1] and [2] or any combination thereof"]
["100.239.153","Group Direct Entry","Acids generated from chromium trioxide and their oligomers",null,"-","-"]
["100.239.154","Group Direct Entry","Aluminosilicate Refractory Ceramic Fibres","are fibres covered by index number 650-017-00-8 in Annex VI, part 3, table 3.1 of Regulation (EC) No 1272/2008 of the European Parliament and of the Council of 16 December 2008 on classification, labelling and packaging of substances and mixtures, and fulfil the three following conditions: a) oxides of aluminium and silicon are the main components present (in the fibres) within variable concentration ranges b) fibres have a length weighted geometric mean diameter less two standard geometric errors of 6 or less micrometres (µm) c) alkaline oxide and alkali earth oxide (Na2O+K2O+CaO+MgO+BaO) content less or equal to 18% by weight","-","-"]
["100.239.155","Group Direct Entry","Boric acid","EC No. 233-139-2 and EC No. 234-343-4","-","-"]
["100.239.156","Group Direct Entry","Cyclohexane-1,2-dicarboxylic anhydride","all possible combinations of the cis- and trans-isomers","-","-"]
["100.239.157","Group Direct Entry","Hexabromocyclododecane (HBCDD)","and all major diastereoisomers identified","-","-"]
["100.239.158","Group Direct Entry","Hexahydromethylphthalic anhydride","including cis- and trans- stereo isomeric forms and all possible combinations of the isomers","-","-"]
["100.239.160","Group member","Oligomers of chromic acid and dichromic acid",null,"-","-",null,"100.239.153","Acids generated from chromium trioxide and their oligomers"]
["100.239.161","Substance Direct Entry","Reaction mass of 2-ethylhexyl 10-ethyl-4,4-dioctyl-7-oxo-8-oxa-3,5-dithia-4-stannatetradecanoate and 2-ethylhexyl 10-ethyl-4-[[2-[(2-ethylhexyl)oxy]-2-oxoethyl]thio]-4-octyl-7-oxo-8-oxa-3,5-dithia-4-stannatetradecanoate (reaction mass of DOTE and MOTE)",null,"-","-"]
["100.239.162","Group Direct Entry","Sodium perborate, perboric acid, sodium salt",null,"-","-"]
["100.239.163","Group Direct Entry","Zirconia Aluminosilicate Refractory Ceramic Fibres","are fibres covered by index number 650-017-00-8 in Annex VI, part 3, table 3.1 of Regulation (EC) No 1272/2008 of the European Parliament and of the Council of 16 December 2008 on classification, labelling and packaging of substances and mixtures, and fulfil the three following conditions: a) oxides of aluminium, silicon and zirconium are the main components present (in the fibres) within variable concentration ranges b) fibres have a length weighted geometric mean diameter less two standard geometric errors of 6 or less micrometres (µm). c) alkaline oxide and alkali earth oxide (Na2O+K2O+CaO+MgO+BaO) content less or equal to 18% by weight","-","-"]
["100.242.185","Group member","Ammonium salts of perfluorononan-1-oic-acid",null,"-","4149-60-4",null,"100.242.186","Perfluorononan-1-oic-acid and its sodium and ammonium salts"]
["100.242.186","Group Direct Entry","Perfluorononan-1-oic-acid and its sodium and ammonium salts",null,"-","-"]
["100.242.187","Group member","Sodium salts of perfluorononan-1-oic-acid",null,"-","21049-39-8",null,"100.242.186","Perfluorononan-1-oic-acid and its sodium and ammonium salts"]
["100.242.308","Group member","tris(4-nonylphenyl, branched) phosphite",null,"-","-",null,"100.264.200","Tris(4-nonylphenyl, branched and linear) phosphite (TNPP) with ≥ 0.1% w/w of 4-nonylphenol, branched and linear (4-NP)"]
["100.244.604","Group Direct Entry","4-heptylphenol, branched and linear","substances with a linear and/or branched alkyl chain with a carbon number of 7 covalently bound predominantly in position 4 to phenol, covering also UVCB- and well-defined substances which include any of the individual isomers or a combination thereof","-","-"]
["100.244.606","Group Direct Entry","Nonadecafluorodecanoic acid (PFDA) and its sodium and ammonium salts",null,"-","-"]
["100.244.691","Group Direct Entry","Perfluorohexane-1-sulphonic acid and its salts","PFHxS","-","-"]
["100.249.275","Group member","sodium nonadecafluorodecanoate",null,"-","3830-45-3",null,"100.244.606","Nonadecafluorodecanoic acid (PFDA) and its sodium and ammonium salts"]
["100.253.516","Group Direct Entry","1,6,7,8,9,14,15,16,17,17,18,18-Dodecachloropentacyclo[12.2.1.16,9.02,13.05,10]octadeca-7,15-diene (“Dechlorane Plus”™)","covering any of its individual anti- and syn-isomers or any combination thereof","-","-"]
["100.253.517","Group Direct Entry","Reaction products of 1,3,4-thiadiazolidine-2,5-dithione, formaldehyde and 4-heptylphenol, branched and linear (RP-HP)","with ≥0.1% w/w 4-heptylphenol, branched and linear (4-HPbl)","-","-"]
["100.253.518","Group member","rel-(1R,4S,4aS,6aR,7R,10S,10aS,12aR)-1,2,3,4,7,8,9,10,13,13,14,14-dodecachloro-1,4,4a,5,6,6a,7,10,10a,11,12,12a-dodecahydro-1,4:7,10-dimethanodibenzo[a,e]cyclooctene",null,"-","-",null,"100.253.516","1,6,7,8,9,14,15,16,17,17,18,18-Dodecachloropentacyclo[12.2.1.16,9.02,13.05,10]octadeca-7,15-diene (“Dechlorane Plus”™)","covering any of its individual anti- and syn-isomers or any combination thereof"]
["100.253.519","Group member","rel-(1R,4S,4aS,6aS,7S,10R,10aR,12aR)-1,2,3,4,7,8,9,10,13,13,14,14-dodecachloro-1,4,4a,5,6,6a,7,10,10a,11,12,12a-dodecahydro-1,4:7,10-dimethanodibenzo[a,e]cyclooctene",null,"-","-",null,"100.253.516","1,6,7,8,9,14,15,16,17,17,18,18-Dodecachloropentacyclo[12.2.1.16,9.02,13.05,10]octadeca-7,15-diene (“Dechlorane Plus”™)","covering any of its individual anti- and syn-isomers or any combination thereof"]
["100.264.200","Group Direct Entry","Tris(4-nonylphenyl, branched and linear) phosphite (TNPP) with ≥ 0.1% w/w of 4-nonylphenol, branched and linear (4-NP)",null,"-","-"]
["100.273.068","Group Direct Entry","2,3,3,3-tetrafluoro-2-(heptafluoropropoxy)propionic acid, its salts and its acyl halides","covering any of their individual isomers and combinations thereof","-","-"]
["100.275.290","Group member","di-, tri- and tetrachlorotetradecane",null,"-","-",null,"100.323.845","Medium-chain chlorinated paraffins (MCCP)","UVCB substances consisting of more than or equal to 80% linear chloroalkanes with carbon chain lengths within the range from C14 to C17"]
["100.278.034","Group member","4-isododecylphenol",null,"-","27459-10-5","Phenol, 4-isododecyl-","100.311.974","Phenol, alkylation products (mainly in para position) with C12-rich branched alkyl chains from oligomerisation, covering any individual isomers and/ or combinations thereof (PDDP)"]
["100.278.036","Group member","Phenol, tetrapropylene-",null,"-","57427-55-1",null,"100.311.974","Phenol, alkylation products (mainly in para position) with C12-rich branched alkyl chains from oligomerisation, covering any individual isomers and/ or combinations thereof (PDDP)"]
["100.282.094","Group Direct Entry","Perfluorobutane sulfonic acid (PFBS) and its salts",null,"-","-"]
["100.287.881","Group member","1,3-Dioxane, 2-(2,4-dimethyl-3-cyclohexen-1-yl)-5-methyl-5-(1-methylpropyl)-",null,"-","186309-28-4",null,"100.239.151","5-sec-butyl-2-(2,4-dimethylcyclohex-3-en-1-yl)-5-methyl-1,3-dioxane [1], 5-sec-butyl-2-(4,6-dimethylcyclohex-3-en-1-yl)-5-methyl-1,3-dioxane [2]","covering any of the individual stereoisomers of [1] and [2] or any combination thereof"]
["100.287.882","Group member","1,3-Dioxane, 2-[(1R,2R)-2,4-dimethyl-3-cyclohexen-1-yl]-5-methyl-5-(1-methylpropyl)-, cis-",null,"-","676367-05-8",null,"100.239.151","5-sec-butyl-2-(2,4-dimethylcyclohex-3-en-1-yl)-5-methyl-1,3-dioxane [1], 5-sec-butyl-2-(4,6-dimethylcyclohex-3-en-1-yl)-5-methyl-1,3-dioxane [2]","covering any of the individual stereoisomers of [1] and [2] or any combination thereof"]
["100.287.883","Group member","1,3-Dioxane, 2-[(1R,2R)-2,4-dimethyl-3-cyclohexen-1-yl]-5-methyl-5-(1-methylpropyl)-, cis-rel-",null,"-","343934-04-3",null,"100.239.151","5-sec-butyl-2-(2,4-dimethylcyclohex-3-en-1-yl)-5-methyl-1,3-dioxane [1], 5-sec-butyl-2-(4,6-dimethylcyclohex-3-en-1-yl)-5-methyl-1,3-dioxane [2]","covering any of the individual stereoisomers of [1] and [2] or any combination thereof"]
["100.287.884","Group member","1,3-Dioxane, 2-[(1R,2R)-2,4-dimethyl-3-cyclohexen-1-yl]-5-methyl-5-(1-methylpropyl)-, trans-",null,"-","676367-09-2",null,"100.239.151","5-sec-butyl-2-(2,4-dimethylcyclohex-3-en-1-yl)-5-methyl-1,3-dioxane [1], 5-sec-butyl-2-(4,6-dimethylcyclohex-3-en-1-yl)-5-methyl-1,3-dioxane [2]","covering any of the individual stereoisomers of [1] and [2] or any combination thereof"]
["100.287.885","Group member","1,3-Dioxane, 2-[(1R,2R)-2,4-dimethyl-3-cyclohexen-1-yl]-5-methyl-5-(1-methylpropyl)-, trans-rel-",null,"-","343934-05-4",null,"100.239.151","5-sec-butyl-2-(2,4-dimethylcyclohex-3-en-1-yl)-5-methyl-1,3-dioxane [1], 5-sec-butyl-2-(4,6-dimethylcyclohex-3-en-1-yl)-5-methyl-1,3-dioxane [2]","covering any of the individual stereoisomers of [1] and [2] or any combination thereof"]
["100.287.886","Group member","1,3-Dioxane, 2-[(1R,2S)-2,4-dimethyl-3-cyclohexen-1-yl]-5-methyl-5-(1-methylpropyl)-, cis-",null,"-","676367-04-7",null,"100.239.151","5-sec-butyl-2-(2,4-dimethylcyclohex-3-en-1-yl)-5-methyl-1,3-dioxane [1], 5-sec-butyl-2-(4,6-dimethylcyclohex-3-en-1-yl)-5-methyl-1,3-dioxane [2]","covering any of the individual stereoisomers of [1] and [2] or any combination thereof"]
["100.287.887","Group member","1,3-Dioxane, 2-[(1R,2S)-2,4-dimethyl-3-cyclohexen-1-yl]-5-methyl-5-(1-methylpropyl)-, trans-",null,"-","676367-08-1",null,"100.239.151","5-sec-butyl-2-(2,4-dimethylcyclohex-3-en-1-yl)-5-methyl-1,3-dioxane [1], 5-sec-butyl-2-(4,6-dimethylcyclohex-3-en-1-yl)-5-methyl-1,3-dioxane [2]","covering any of the individual stereoisomers of [1] and [2] or any combination thereof"]
["100.287.888","Group member","1,3-Dioxane, 2-[(1S,2R)-2,4-dimethyl-3-cyclohexen-1-yl]-5-methyl-5-(1-methylpropyl)-, cis-",null,"-","676367-03-6",null,"100.239.151","5-sec-butyl-2-(2,4-dimethylcyclohex-3-en-1-yl)-5-methyl-1,3-dioxane [1], 5-sec-butyl-2-(4,6-dimethylcyclohex-3-en-1-yl)-5-methyl-1,3-dioxane [2]","covering any of the individual stereoisomers of [1] and [2] or any combination thereof"]
["100.287.889","Group member","1,3-Dioxane, 2-[(1S,2R)-2,4-dimethyl-3-cyclohexen-1-yl]-5-methyl-5-(1-methylpropyl)-, trans-",null,"-","676367-07-0",null,"100.239.151","5-sec-butyl-2-(2,4-dimethylcyclohex-3-en-1-yl)-5-methyl-1,3-dioxane [1], 5-sec-butyl-2-(4,6-dimethylcyclohex-3-en-1-yl)-5-methyl-1,3-dioxane [2]","covering any of the individual stereoisomers of [1] and [2] or any combination thereof"]
["100.287.890","Group member","1,3-Dioxane, 2-[(1S,2S)-2,4-dimethyl-3-cyclohexen-1-yl]-5-methyl-5-(1-methylpropyl)-, cis-",null,"-","676367-02-5",null,"100.239.151","5-sec-butyl-2-(2,4-dimethylcyclohex-3-en-1-yl)-5-methyl-1,3-dioxane [1], 5-sec-butyl-2-(4,6-dimethylcyclohex-3-en-1-yl)-5-methyl-1,3-dioxane [2]","covering any of the individual stereoisomers of [1] and [2] or any combination thereof"]
["100.287.891","Group member","1,3-Dioxane, 2-[(1S,2S)-2,4-dimethyl-3-cyclohexen-1-yl]-5-methyl-5-(1-methylpropyl)-, trans-",null,"-","676367-06-9",null,"100.239.151","5-sec-butyl-2-(2,4-dimethylcyclohex-3-en-1-yl)-5-methyl-1,3-dioxane [1], 5-sec-butyl-2-(4,6-dimethylcyclohex-3-en-1-yl)-5-methyl-1,3-dioxane [2]","covering any of the individual stereoisomers of [1] and [2] or any combination thereof"]
["100.287.892","Group member","(1S,2S,5R,6R,9S,10S,13R,14R)-1,6,7,8,9,14,15,16,17,17,18,18-Dodecachloropentacyclo[12.2.1.1⁶,⁹.0²,¹³.0⁵,¹⁰]octadeca-7,15-diene",null,"-","135821-03-3",null,"100.253.516","1,6,7,8,9,14,15,16,17,17,18,18-Dodecachloropentacyclo[12.2.1.16,9.02,13.05,10]octadeca-7,15-diene (“Dechlorane Plus”™)","covering any of its individual anti- and syn-isomers or any combination thereof"]
["100.287.893","Group member","(1S,2S,5S,6S,9R,10R,13R,14R)-1,6,7,8,9,14,15,16,17,17,18,18-Dodecachloropentacyclo[12.2.1.1⁶,⁹.0²,¹³.0⁵,¹⁰]octadeca-7,15-diene",null,"-","135821-74-8",null,"100.253.516","1,6,7,8,9,14,15,16,17,17,18,18-Dodecachloropentacyclo[12.2.1.16,9.02,13.05,10]octadeca-7,15-diene (“Dechlorane Plus”™)","covering any of its individual anti- and syn-isomers or any combination thereof"]
["100.287.898","Group member","Phenol, p-sec-nonyl-, phosphite",null,"-","106599-06-8",null,"100.264.200","Tris(4-nonylphenyl, branched and linear) phosphite (TNPP) with ≥ 0.1% w/w of 4-nonylphenol, branched and linear (4-NP)"]
["100.287.899","Group member","4-(2,3,3-trimethylbutan-2-yl)phenol",null,"-","72861-06-4",null,"100.244.604","4-heptylphenol, branched and linear","substances with a linear and/or branched alkyl chain with a carbon number of 7 covalently bound predominantly in position 4 to phenol, covering also UVCB- and well-defined substances which include any of the individual isomers or a combination thereof"]
["100.287.901","Group member","4-(2,4-dimethylpentan-2-yl)phenol",null,"-","33104-11-9",null,"100.244.604","4-heptylphenol, branched and linear","substances with a linear and/or branched alkyl chain with a carbon number of 7 covalently bound predominantly in position 4 to phenol, covering also UVCB- and well-defined substances which include any of the individual isomers or a combination thereof"]
["100.287.902","Group member","4-(3-ethylpentan-3-yl)phenol",null,"-","37872-24-5",null,"100.244.604","4-heptylphenol, branched and linear","substances with a linear and/or branched alkyl chain with a carbon number of 7 covalently bound predominantly in position 4 to phenol, covering also UVCB- and well-defined substances which include any of the individual isomers or a combination thereof"]
["100.287.903","Group member","4-(2-methylhexan-2-yl)phenol",null,"-","30784-31-7",null,"100.244.604","4-heptylphenol, branched and linear","substances with a linear and/or branched alkyl chain with a carbon number of 7 covalently bound predominantly in position 4 to phenol, covering also UVCB- and well-defined substances which include any of the individual isomers or a combination thereof"]
["100.287.904","Group member","4-(3,3-dimethylpentan-2-yl)phenol",null,"-","911371-06-7",null,"100.244.604","4-heptylphenol, branched and linear","substances with a linear and/or branched alkyl chain with a carbon number of 7 covalently bound predominantly in position 4 to phenol, covering also UVCB- and well-defined substances which include any of the individual isomers or a combination thereof"]
["100.287.905","Group member","4-(3-methylhexan-2-yl)phenol",null,"-","854904-93-1",null,"100.244.604","4-heptylphenol, branched and linear","substances with a linear and/or branched alkyl chain with a carbon number of 7 covalently bound predominantly in position 4 to phenol, covering also UVCB- and well-defined substances which include any of the individual isomers or a combination thereof"]
["100.287.906","Group member","4-(4,4-dimethylpentan-2-yl)phenol",null,"-","911371-07-8",null,"100.244.604","4-heptylphenol, branched and linear","substances with a linear and/or branched alkyl chain with a carbon number of 7 covalently bound predominantly in position 4 to phenol, covering also UVCB- and well-defined substances which include any of the individual isomers or a combination thereof"]
["100.287.907","Group member","4-(4-methylhexan-2-yl)phenol",null,"-","71945-81-8",null,"100.244.604","4-heptylphenol, branched and linear","substances with a linear and/or branched alkyl chain with a carbon number of 7 covalently bound predominantly in position 4 to phenol, covering also UVCB- and well-defined substances which include any of the individual isomers or a combination thereof"]
["100.287.908","Group member","4-(5-methylhexan-2-yl)phenol",null,"-","857629-71-1",null,"100.244.604","4-heptylphenol, branched and linear","substances with a linear and/or branched alkyl chain with a carbon number of 7 covalently bound predominantly in position 4 to phenol, covering also UVCB- and well-defined substances which include any of the individual isomers or a combination thereof"]
["100.287.910","Group member","4-(2,2-dimethylpentan-3-yl)phenol",null,"-","861010-65-3",null,"100.244.604","4-heptylphenol, branched and linear","substances with a linear and/or branched alkyl chain with a carbon number of 7 covalently bound predominantly in position 4 to phenol, covering also UVCB- and well-defined substances which include any of the individual isomers or a combination thereof"]
["100.287.911","Group member","4-(5-methylhexan-3-yl)phenol",null,"-","854904-92-0",null,"100.244.604","4-heptylphenol, branched and linear","substances with a linear and/or branched alkyl chain with a carbon number of 7 covalently bound predominantly in position 4 to phenol, covering also UVCB- and well-defined substances which include any of the individual isomers or a combination thereof"]
["100.287.912","Group member","4-(heptan-3-yl)phenol",null,"-","6465-74-3",null,"100.244.604","4-heptylphenol, branched and linear","substances with a linear and/or branched alkyl chain with a carbon number of 7 covalently bound predominantly in position 4 to phenol, covering also UVCB- and well-defined substances which include any of the individual isomers or a combination thereof"]
["100.287.913","Group member","4-(heptan-2-yl)phenol",null,"-","6863-24-7",null,"100.244.604","4-heptylphenol, branched and linear","substances with a linear and/or branched alkyl chain with a carbon number of 7 covalently bound predominantly in position 4 to phenol, covering also UVCB- and well-defined substances which include any of the individual isomers or a combination thereof"]
["100.287.914","Group member","4-(heptan-4-yl)phenol",null,"-","6465-71-0",null,"100.244.604","4-heptylphenol, branched and linear","substances with a linear and/or branched alkyl chain with a carbon number of 7 covalently bound predominantly in position 4 to phenol, covering also UVCB- and well-defined substances which include any of the individual isomers or a combination thereof"]
["100.287.915","Group member","4-(3-ethylpentyl)phenol",null,"-","911370-98-4",null,"100.244.604","4-heptylphenol, branched and linear","substances with a linear and/or branched alkyl chain with a carbon number of 7 covalently bound predominantly in position 4 to phenol, covering also UVCB- and well-defined substances which include any of the individual isomers or a combination thereof"]
["100.287.916","Group member","4-(3-methylhexyl)phenol",null,"-","102570-52-5",null,"100.244.604","4-heptylphenol, branched and linear","substances with a linear and/or branched alkyl chain with a carbon number of 7 covalently bound predominantly in position 4 to phenol, covering also UVCB- and well-defined substances which include any of the individual isomers or a combination thereof"]
["100.287.917","Group member","4-(4-methylhexyl)phenol",null,"-","1139800-98-8",null,"100.244.604","4-heptylphenol, branched and linear","substances with a linear and/or branched alkyl chain with a carbon number of 7 covalently bound predominantly in position 4 to phenol, covering also UVCB- and well-defined substances which include any of the individual isomers or a combination thereof"]
["100.287.918","Group member","4-(5-methylhexyl)phenol",null,"-","100532-36-3",null,"100.244.604","4-heptylphenol, branched and linear","substances with a linear and/or branched alkyl chain with a carbon number of 7 covalently bound predominantly in position 4 to phenol, covering also UVCB- and well-defined substances which include any of the individual isomers or a combination thereof"]
["100.287.919","Group member","4-(2,4-dimethylpentan-3-yl)phenol",null,"-","1824346-00-0",null,"100.244.604","4-heptylphenol, branched and linear","substances with a linear and/or branched alkyl chain with a carbon number of 7 covalently bound predominantly in position 4 to phenol, covering also UVCB- and well-defined substances which include any of the individual isomers or a combination thereof"]
["100.287.920","Group member","Phenol, p-isononyl-, phosphite (3:1)",null,"-","31631-13-7",null,"100.264.200","Tris(4-nonylphenyl, branched and linear) phosphite (TNPP) with ≥ 0.1% w/w of 4-nonylphenol, branched and linear (4-NP)"]
["100.287.923","Group member","dioctyltin dilaurate; stannane, dioctyl-, bis(coco acyloxy) derivs.",null,"-","-",null,"100.308.020","Dioctyltin dilaurate, stannane, dioctyl-, bis(coco acyloxy) derivs., and any other stannane, dioctyl-, bis(fatty acyloxy) derivs. wherein C12 is the predominant carbon number of the fatty acyloxy moiety"]
["100.288.877","Group member","Phosphonium, triphenyl(phenylmethyl)-, 1,1,2,2,3,3,4,4,5,5,6,6,6-tridecafluoro-1-hexanesulfonate (1:1)",null,"-","1000597-52-3",null,"100.244.691","Perfluorohexane-1-sulphonic acid and its salts","PFHxS"]
["100.289.057","Group member","2-(4-nonylphenoxy)ethanol",null,"-","104-35-8",null,"100.239.148","4-Nonylphenol, branched and linear, ethoxylated","substances with a linear and/or branched alkyl chain with a carbon number of 9 covalently bound in position 4 to phenol, ethoxylated covering UVCB- and well-defined substances, polymers and homologues, which include any of the individual isomers and/or combinations thereof"]
["100.289.350","Group member","N,N,N-tributylbutan-1-aminium tridecafluorohexane-1-sulfonate",null,"-","108427-54-9",null,"100.244.691","Perfluorohexane-1-sulphonic acid and its salts","PFHxS"]
["100.289.351","Group member","N,N,N-triethylethanaminium tridecafluorohexane-1-sulfonate",null,"-","108427-55-0",null,"100.244.691","Perfluorohexane-1-sulphonic acid and its salts","PFHxS"]
["100.289.538","Group member","1-Hexanesulfonic acid, 1,1,2,2,3,3,4,4,5,5,6,6,6-tridecafluoro-, compd. With pyrrolidine (1:1)",null,"-","1187817-57-7",null,"100.244.691","Perfluorohexane-1-sulphonic acid and its salts","PFHxS"]
["100.289.998","Group member","Ethanaminium, N-[4-[[4-(diethylamino)phenyl][4-(ethylamino)-1-naphthalenyl]methylene]-2,5-cyclohexadien-1-ylidene]-N-ethyl-, 1,1,2,2,3,3,4,4,5,5,6,6,6-tridecafluoro-1-hexanesulfonate (1:1)",null,"-","1310480-24-0",null,"100.244.691","Perfluorohexane-1-sulphonic acid and its salts","PFHxS"]
["100.289.999","Group member","Methanaminium, N-[4-[[4-(dimethylamino)phenyl][4-(ethylamino)-1-naphthalenyl]methylene]-2,5-cyclohexadien-1-ylidene]-N-methyl-, 1,1,2,2,3,3,4,4,5,5,6,6,6-tridecafluoro-1-hexanesulfonate (1:1)",null,"-","1310480-27-3",null,"100.244.691","Perfluorohexane-1-sulphonic acid and its salts","PFHxS"]
["100.290.000","Group member","Methanaminium, N-[4-[[4-(dimethylamino)phenyl][4-(phenylamino)-1-naphthalenyl]methylene]-2,5-cyclohexadien-1-ylidene]-N-methyl-, 1,1,2,2,3,3,4,4,5,5,6,6,6-tridecafluoro-1-hexanesulfonate (1:1)",null,"-","1310480-28-4",null,"100.244.691","Perfluorohexane-1-sulphonic acid and its salts","PFHxS"]
["100.290.065","Group member","Beta-Cyclodextrin, compd. with 1,1,2,2,3,3,4,4,5,5,6,6,6-tridecafluoro-1-hexanesulfonic acid ion(1-)(1:1)",null,"-","1329995-45-0",null,"100.244.691","Perfluorohexane-1-sulphonic acid and its salts","PFHxS"]
["100.290.066","Group member","Gamma-Cyclodextrin, compd. with 1,1,2,2,3,3,4,4,5,5,6,6,6-tridecafluoro-1-hexanesulfonic acid ion(1-)(1:1)",null,"-","1329995-69-8",null,"100.244.691","Perfluorohexane-1-sulphonic acid and its salts","PFHxS"]
["100.290.388","Group member","Sulfonium, triphenyl-, 1,1,2,2,3,3,4,4,5,5,6,6,6-tridecafluoro-1-hexanesulfonate (1:1)",null,"-","144116-10-9",null,"100.244.691","Perfluorohexane-1-sulphonic acid and its salts","PFHxS"]
["100.290.419","Group member","Quinolinium, 1-(carboxymethyl)-4-[2-[4-[4-(2,2-diphenylethenyl)phenyl]-1,2,3,3a,4,8b-hexahydrocyclopent[b]indol-7-yl]ethenyl]-, 1,1,2,2,3,3,4,4,5,5,6,6,6-tridecafluoro-1-hexanesulfonate (1:1)",null,"-","1462414-59-0",null,"100.244.691","Perfluorohexane-1-sulphonic acid and its salts","PFHxS"]
["100.290.470","Group member","boric acid (H3BO3), sodium salt (1:1)",null,"-","14890-53-0",null,"100.331.485","orthoboric acid, sodium salt"]
["100.290.553","Group member","Iodonium, diphenyl-, 1,1,2,2,3,3,4,4,5,5,6,6,6-tridecafluoro-1-hexanesulfonate (1:1)",null,"-","153443-35-7",null,"100.244.691","Perfluorohexane-1-sulphonic acid and its salts","PFHxS"]
["100.290.599","Group member","4-t-Nonylphenol-diethoxylate",null,"-","156609-10-8",null,"100.239.148","4-Nonylphenol, branched and linear, ethoxylated","substances with a linear and/or branched alkyl chain with a carbon number of 9 covalently bound in position 4 to phenol, ethoxylated covering UVCB- and well-defined substances, polymers and homologues, which include any of the individual isomers and/or combinations thereof"]
["100.291.027","Group member","Methanaminium, N,N,N-trimethyl-, salt with 1,1,2,2,3,3,4,4,5,5,6,6,6-tridecafluoro-1-hexanesulfonic acid (1:1)",null,"-","189274-31-5",null,"100.244.691","Perfluorohexane-1-sulphonic acid and its salts","PFHxS"]
["100.291.150","Group member","1-Hexanesulfonic acid, 1,1,2,2,3,3,4,4,5,5,6,6,6-tridecafluoro-, compd.with 2-methyl-2-propanamine (1:1)",null,"-","202189-84-2",null,"100.244.691","Perfluorohexane-1-sulphonic acid and its salts","PFHxS"]
["100.291.191","Group member","3,6,9,12-Tetraoxatetradecan-1-ol, 14-(4-nonylphenoxy)-",null,"-","20636-48-0",null,"100.239.148","4-Nonylphenol, branched and linear, ethoxylated","substances with a linear and/or branched alkyl chain with a carbon number of 9 covalently bound in position 4 to phenol, ethoxylated covering UVCB- and well-defined substances, polymers and homologues, which include any of the individual isomers and/or combinations thereof"]
["100.291.238","Group member","Iodonium, bis[4-(1,1-dimethylethyl)phenyl]-, 1,1,2,2,3,3,4,4,5,5,6,6,6-tridecafluoro-1-hexanesulfonate (1:1)",null,"-","213740-81-9",null,"100.244.691","Perfluorohexane-1-sulphonic acid and its salts","PFHxS"]
["100.291.297","Group member","Boric acid (H3BO3), disodium salt",null,"-","22454-04-2",null,"100.331.485","orthoboric acid, sodium salt"]
["100.291.803","Group member","Phenol, 4-tert-heptyl-",null,"-","288864-02-8",null,"100.244.604","4-heptylphenol, branched and linear","substances with a linear and/or branched alkyl chain with a carbon number of 7 covalently bound predominantly in position 4 to phenol, covering also UVCB- and well-defined substances which include any of the individual isomers or a combination thereof"]
["100.291.922","Group member","Phenol, 4-(1-ethyl-1,2-dimethylpropyl)-",null,"-","30784-27-1",null,"100.244.604","4-heptylphenol, branched and linear","substances with a linear and/or branched alkyl chain with a carbon number of 7 covalently bound predominantly in position 4 to phenol, covering also UVCB- and well-defined substances which include any of the individual isomers or a combination thereof"]
["100.292.121","Group member","1-Hexanesulfonic acid, 1,1,2,2,3,3,4,4,5,5,6,6,6-tridecafluoro-, gallium salt (9CI)",null,"-","341035-71-0",null,"100.244.691","Perfluorohexane-1-sulphonic acid and its salts","PFHxS"]
["100.292.124","Group member","Sulfonium, bis(4-methylphenyl)phenyl-, 1,1,2,2,3,3,4,4,5,5,6,6,6-tridecafluoro-1-hexanesulfonate (1:1)",null,"-","341548-85-4",null,"100.244.691","Perfluorohexane-1-sulphonic acid and its salts","PFHxS"]
["100.292.165","Group member","1-Hexanesulfonic acid, 1,1,2,2,3,3,4,4,5,5,6,6,6-tridecafluoro-, scandium(3+) salt (3:1)",null,"-","350836-93-0",null,"100.244.691","Perfluorohexane-1-sulphonic acid and its salts","PFHxS"]
["100.292.448","Group member","1-Hexanesulfonic acid, 1,1,2,2,3,3,4,4,5,5,6,6,6-tridecafluoro-, neodymium(3+) salt (3:1)",null,"-","41184-65-0",null,"100.244.691","Perfluorohexane-1-sulphonic acid and its salts","PFHxS"]
["100.292.451","Group member","1-Hexanesulfonic acid, 1,1,2,2,3,3,4,4,5,5,6,6,6-tridecafluoro-, yttrium(3+) salt (3:1)",null,"-","41242-12-0",null,"100.244.691","Perfluorohexane-1-sulphonic acid and its salts","PFHxS"]
["100.292.489","Group member","Sulfonium, (thiodi-4,1-phenylene)bis[diphenyl-, salt with 1,1,2,2,3,3,4,4,5,5,6,6,6-tridecafluoro-1-hexanesulfonic acid (1:2)",null,"-","421555-73-9",null,"100.244.691","Perfluorohexane-1-sulphonic acid and its salts","PFHxS"]
["100.292.490","Group member","Iodonium, bis[4-(1,1-dimethylpropyl)phenyl]-, salt with 1,1,2,2,3,3,4,4,5,5,6,6,6-tridecafluoro-1-hexanesulfonic",null,"-","421555-74-0",null,"100.244.691","Perfluorohexane-1-sulphonic acid and its salts","PFHxS"]
["100.292.521","Group member","Sulfonium, tris[4-(1,1-dimethylethyl)phenyl]-, 1,1,2,2,3,3,4,4,5,5,6,6,6-tridecafluoro-1-hexanesulfonate (1:1)",null,"-","425670-70-8",null,"100.244.691","Perfluorohexane-1-sulphonic acid and its salts","PFHxS"]
["100.293.154","Group member","1-Hexanesulfonic acid, 1,1,2,2,3,3,4,4,5,5,6,6,6-tridecafluoro-, lithium salt (1:1)",null,"-","55120-77-9",null,"100.244.691","Perfluorohexane-1-sulphonic acid and its salts","PFHxS"]
["100.295.149","Group member","1-Hexanesulfonic acid, 1,1,2,2,3,3,4,4,5,5,6,6,6-tridecafluoro-, zinc salt",null,"-","70136-72-0",null,"100.244.691","Perfluorohexane-1-sulphonic acid and its salts","PFHxS"]
["100.295.489","Group member","1-Hexanesulfonic acid, 1,1,2,2,3,3,4,4,5,5,6,6,6-tridecafluoro-, compd. with N,N-diethylethanamine (1:1)",null,"-","72033-41-1",null,"100.244.691","Perfluorohexane-1-sulphonic acid and its salts","PFHxS"]
["100.296.541","Group member","1-Hexanesulfonic acid, 1,1,2,2,3,3,4,4,5,5,6,6,6-tridecafluoro-, sodium salt",null,"-","82382-12-5",null,"100.244.691","Perfluorohexane-1-sulphonic acid and its salts","PFHxS"]
["100.296.787","Group member","Iodonium, bis[(1,1-dimethylethyl)phenyl]-, salt with 1,1,2,2,3,3,4,4,5,5,6,6,6-tridecafluoro-1-hexanesulfonic acid (1:1) (9CI)",null,"-","866621-50-3",null,"100.244.691","Perfluorohexane-1-sulphonic acid and its salts","PFHxS"]
["100.297.036","Group member","Sulfonium, (4-methylphenyl)diphenyl-, 1,1,2,2,3,3,4,4,5,5,6,6,6-tridecafluoro-1-hexanesulfonate (1:1)",null,"-","910606-39-2",null,"100.244.691","Perfluorohexane-1-sulphonic acid and its salts","PFHxS"]
["100.297.038","Group member","Sulfonium, [4-[(2-methyl-1-oxo-2-propen-1-yl)oxy]phenyl]diphenyl-, 1,1,2,2,3,3,4,4,5,5,6,6,6-tridecafluoro-1-hexanesulfonate (1:1)",null,"-","911027-68-4",null,"100.244.691","Perfluorohexane-1-sulphonic acid and its salts","PFHxS"]
["100.297.039","Group member","Sulfonium, [4-[(2-methyl-1-oxo-2-propenyl)oxy]phenyl]diphenyl-, salt with 1,1,2,2,3,3,4,4,5,5,6,6,6-tridecafluoro-1-hexanesulfonic acid (1:1), polymer with 2-ethyltricyclo[3.3.1.13,7]dec-2-yl 2-methyl-2-propenoate, 3-hydroxytricyclo[3.3.1.13,7]dec-1-yl 2-methyl-2-propenoate and tetrahydro-2-oxo-3-furanyl 2-methyl-2-propenoate",null,"-","911027-69-5",null,"100.244.691","Perfluorohexane-1-sulphonic acid and its salts","PFHxS"]
["100.297.059","Group member","1-Hexanesulfonic acid, 1,1,2,2,3,3,4,4,5,5,6,6,6-tridecafluoro-, cesium salt (1:1)",null,"-","92011-17-1",null,"100.244.691","Perfluorohexane-1-sulphonic acid and its salts","PFHxS"]
["100.297.105","Group member","Dibenzo[k,n][1,4,7,10,13]tetraoxathiacyclopentadecinium, 19-[4-(1,1-dimethylethyl)phenyl]-6,7,9,10,12,13-hexahydro-, 1,1,2,2,3,3,4,4,5,5,6,6,6-tridecafluoro-1-hexanesulfonate (1:1)",null,"-","928049-42-7",null,"100.244.691","Perfluorohexane-1-sulphonic acid and its salts","PFHxS"]
["100.297.786","Group member","Borate(2-), tetrahydroxybis[μ-(peroxy-κO1:κO2)]di-, sodium (1:2)",null,"-","90568-23-3",null,"100.239.162","Sodium perborate, perboric acid, sodium salt"]
["100.297.787","Group member","Borate(2-), tetrahydroxybis[μ-(peroxy-κO1:κO2)]di-, sodium, hydrate (1:2:6)",null,"-","125022-34-6",null,"100.239.162","Sodium perborate, perboric acid, sodium salt"]
["100.300.930","Group member","Propanoic acid, 2,3,3,3-tetrafluoro-2-(heptafluoropropoxy)-, (+)-",null,"-","75579-39-4",null,"100.273.068","2,3,3,3-tetrafluoro-2-(heptafluoropropoxy)propionic acid, its salts and its acyl halides","covering any of their individual isomers and combinations thereof"]
["100.300.931","Group member","Propanoic acid, 2,3,3,3-tetrafluoro-2-(heptafluoropropoxy)-, (-)-",null,"-","75579-40-7",null,"100.273.068","2,3,3,3-tetrafluoro-2-(heptafluoropropoxy)propionic acid, its salts and its acyl halides","covering any of their individual isomers and combinations thereof"]
["100.304.406","Group member","4-(2,3-dimethylpentan-2-yl)phenol",null,"-","861011-60-1",null,"100.244.604","4-heptylphenol, branched and linear","substances with a linear and/or branched alkyl chain with a carbon number of 7 covalently bound predominantly in position 4 to phenol, covering also UVCB- and well-defined substances which include any of the individual isomers or a combination thereof"]
["100.305.164","Group member","3,6,9,12,15-Pentaoxaheptadecan-1-ol, 17-(nonylphenoxy)-",null,"-","27177-01-1",null,"100.239.148","4-Nonylphenol, branched and linear, ethoxylated","substances with a linear and/or branched alkyl chain with a carbon number of 9 covalently bound in position 4 to phenol, ethoxylated covering UVCB- and well-defined substances, polymers and homologues, which include any of the individual isomers and/or combinations thereof"]
["100.305.167","Group member","3,6,9,12,15,18,21,24,27-Nonaoxanonacosan-1-ol, 29-(isononylphenoxy)-",null,"-","65455-72-3",null,"100.239.148","4-Nonylphenol, branched and linear, ethoxylated","substances with a linear and/or branched alkyl chain with a carbon number of 9 covalently bound in position 4 to phenol, ethoxylated covering UVCB- and well-defined substances, polymers and homologues, which include any of the individual isomers and/or combinations thereof"]
["100.305.943","Group member","4-(3-methylhexan-3-yl)phenol",null,"-","30784-32-8",null,"100.244.604","4-heptylphenol, branched and linear","substances with a linear and/or branched alkyl chain with a carbon number of 7 covalently bound predominantly in position 4 to phenol, covering also UVCB- and well-defined substances which include any of the individual isomers or a combination thereof"]
["100.308.020","Group Direct Entry","Dioctyltin dilaurate, stannane, dioctyl-, bis(coco acyloxy) derivs., and any other stannane, dioctyl-, bis(fatty acyloxy) derivs. wherein C12 is the predominant carbon number of the fatty acyloxy moiety",null,"-","-"]
["100.311.974","Group Direct Entry","Phenol, alkylation products (mainly in para position) with C12-rich branched alkyl chains from oligomerisation, covering any individual isomers and/ or combinations thereof (PDDP)",null,"-","-"]
["100.313.491","Group member","(2R)-3-(4-tert-butylphenyl)-2-methylpropanal",null,"-","75166-31-3","Benzenepropanal, 4-(1,1-dimethylethyl)-α-methyl-, (αR)-","100.313.493","2-(4-tert-butylbenzyl)propionaldehyde and its individual stereoisomers"]
["100.313.492","Group member","(2S)-3-(4-tert-butylphenyl)-2-methylpropanal",null,"-","75166-30-2","Benzenepropanal, 4-(1,1-dimethylethyl)-α-methyl-, (αS)-","100.313.493","2-(4-tert-butylbenzyl)propionaldehyde and its individual stereoisomers"]
["100.313.493","Group Direct Entry","2-(4-tert-butylbenzyl)propionaldehyde and its individual stereoisomers",null,"-","-"]
["100.316.784","Group Direct Entry","2,2-bis(bromomethyl)propane-1,3-diol (BMP); 2,2-dimethylpropan-1-ol, tribromo derivative/3-bromo-2,2-bis(bromomethyl)-1-propanol (TBNPA); 2,3-dibromo-1-propanol (2,3-DBPA)",null,"-","-"]
["100.319.589","Group member","Alkanes, C14-16, chloro",null,"-","1372804-76-6",null,"100.323.845","Medium-chain chlorinated paraffins (MCCP)","UVCB substances consisting of more than or equal to 80% linear chloroalkanes with carbon chain lengths within the range from C14 to C17"]
["100.319.590","Group member","Tetradecane, chloro derivs.",null,"-","198840-65-2",null,"100.323.845","Medium-chain chlorinated paraffins (MCCP)","UVCB substances consisting of more than or equal to 80% linear chloroalkanes with carbon chain lengths within the range from C14 to C17"]
["100.323.845","Group Direct Entry","Medium-chain chlorinated paraffins (MCCP)","UVCB substances consisting of more than or equal to 80% linear chloroalkanes with carbon chain lengths within the range from C14 to C17","-","-"]
["100.325.076","Group Direct Entry","(±)-1,7,7-trimethyl-3-[(4-methylphenyl)methylene]bicyclo[2.2.1]heptan-2-one covering any of the individual isomers and/or combinations thereof (4-MBC)",null,"-","-"]
["100.331.485","Group Direct Entry","orthoboric acid, sodium salt",null,"-","-"]
["100.331.486","Group member","boric acid (H3BO3), sodium salt, hydrate",null,"-","25747-83-5",null,"100.331.485","orthoboric acid, sodium salt"]
["100.332.682","Group member","(3E)-1,7,7-trimethyl-3-(4-methylbenzylidene)bicyclo[2.2.1]heptan-2-one",null,"-","1782069-81-1","Bicyclo[2.2.1]heptan-2-one, 1,7,7-trimethyl-3-[(4-methylphenyl)methylene]-, (3E)-","100.325.076","(±)-1,7,7-trimethyl-3-[(4-methylphenyl)methylene]bicyclo[2.2.1]heptan-2-one covering any of the individual isomers and/or combinations thereof (4-MBC)"]
["100.347.637","Group member","(1R,3E,4S)-1,7,7-trimethyl-3-(4-methylbenzylidene)bicyclo[2.2.1]heptan-2-one",null,"-","95342-41-9","Bicyclo[2.2.1]heptan-2-one, 1,7,7-trimethyl-3-[(4-methylphenyl)methylene]-, (1R,3E,4S)-","100.325.076","(±)-1,7,7-trimethyl-3-[(4-methylphenyl)methylene]bicyclo[2.2.1]heptan-2-one covering any of the individual isomers and/or combinations thereof (4-MBC)"]
["100.347.638","Group member","(1S,3Z,4R)-1,7,7-trimethyl-3-(4-methylbenzylidene)bicyclo[2.2.1]heptan-2-one",null,"-","852541-25-4","Bicyclo[2.2.1]heptan-2-one, 1,7,7-trimethyl-3-[(4-methylphenyl)methylene]-, (1S,3Z,4R)-","100.325.076","(±)-1,7,7-trimethyl-3-[(4-methylphenyl)methylene]bicyclo[2.2.1]heptan-2-one covering any of the individual isomers and/or combinations thereof (4-MBC)"]
["100.347.640","Group member","(1R,3Z,4S)-1,7,7-trimethyl-3-(4-methylbenzylidene)bicyclo[2.2.1]heptan-2-one",null,"-","852541-21-0","Bicyclo[2.2.1]heptan-2-one, 1,7,7-trimethyl-3-[(4-methylphenyl)methylene]-, (1R,3Z,4S)-","100.325.076","(±)-1,7,7-trimethyl-3-[(4-methylphenyl)methylene]bicyclo[2.2.1]heptan-2-one covering any of the individual isomers and/or combinations thereof (4-MBC)"]
["100.347.643","Group member","(1R,4S)-1,7,7-trimethyl-3-(4-methylbenzylidene)bicyclo[2.2.1]heptan-2-one",null,"-","741687-98-9","Bicyclo[2.2.1]heptan-2-one, 1,7,7-trimethyl-3-[(4-methylphenyl)methylene]-, (1R,4S)-","100.325.076","(±)-1,7,7-trimethyl-3-[(4-methylphenyl)methylene]bicyclo[2.2.1]heptan-2-one covering any of the individual isomers and/or combinations thereof (4-MBC)"]
["100.347.647","Group member","(1S,3E,4R)-1,7,7-trimethyl-3-(4-methylbenzylidene)bicyclo[2.2.1]heptan-2-one",null,"-","852541-30-1","Bicyclo[2.2.1]heptan-2-one, 1,7,7-trimethyl-3-[(4-methylphenyl)methylene]-, (1S,3E,4R)-","100.325.076","(±)-1,7,7-trimethyl-3-[(4-methylphenyl)methylene]bicyclo[2.2.1]heptan-2-one covering any of the individual isomers and/or combinations thereof (4-MBC)"]
["100.356.090","Group Direct Entry","Perfluoroheptanoic acid and its salts",null,"-","-"]
["100.361.353","Group member","potassium perfluoroheptanoate",null,"-","21049-36-5",null,"100.356.090","Perfluoroheptanoic acid and its salts"]
["200.123.456",null,"Beryllium (Be)",null,null,"1234-56-7",null,"200.123.456"]
["100.362.813","Group Direct Entry","bis(2-ethylhexyl) tetrabromophthalate covering any of the individual isomers and/or combinations thereof",null,"-","-"]
["100.368.533","Group member","Perboric acid, sodium salt, tetrahydrate ()",null,"-","37244-98-7",null,"100.239.162","Sodium perborate, perboric acid, sodium salt"]

{"sheet":"TermsOfUse","index":23,"n_rows":8,"n_cols":13,"rows_kept":8,"cut":false,"hidden":false,"merged":[[7,1,7,12]]}
[]
[null,null,null,null,null,null,null,null,null,null,null,null,"Return to Overview"]
[]
[]
[]
[]
[]
[null,"IAEG Terms of Use Statement"]

{"sheet":"-History-","index":24,"n_rows":440,"n_cols":9,"rows_kept":440,"cut":false,"hidden":false,"merged":[]}
["Date","Version","Author","Location / Tabs","Modifications","Change Request","Impact on IPC-1754 Converter","Impact on AD-SRT Macros","Comment"]
["2015-07-16",0.1,"Raj Takhar (Rolls-Royce)",null,"Initial version at Cedar Rapids ST4 workshop"]
["2015-07-17","0.2","Raj Takhar (Rolls-Royce)",null,"New version after review by ST4 at Cedar Rapids"]
["2015-07-18","0.3","Raj Takhar (Rolls-Royce)\nJean-Pierre Théret (Dassault Systèmes)",null,"Add \"- History-\" tab to track modifications\nChange tool revision major=0 (1.3 to 0.3)\nMove \"AD-DSL List Import\" button close to List Revision\nBreakdown AD-DSL List Revsiion in: Version + Date + ID (authority + Identity)\nSimplify Product / Sub-Product columns in 1 set with BOM Level\nChange Columns distribution for the Declaration to be one value / one column (no merged cells)\nAlign cell title on the right, close to the cell (to adapt easily to column width change)\nMove cell border to light line, bold characters for cell content"]
["2015-07-19","0.4","Jean-Pierre Théret (Dassault Systèmes)",null,"Updates"]
["2015-07-20","0.5","Raj Takhar (Rolls-Royce)",null,"Additional updates (scroll-box)"]
["2015-07-24","0.6","Raj Takhar (Rolls-Royce)",null,"Added import function - user downloads latest ad-dsl file from IAEG.com strips out and just leaves the AD-DSL tab then clicks on import to bring latest substances list across - dirty method to be cleaned up. Also split out into 3 tabs for product/process and maintenance substances"]
["2015-07-27","0.7","Raj Takhar (Rolls-Royce)",null,"More updates - added in IAEG EULA as message box, added delete/add row functionality and cleaned up code to import from .xlsx AD-DSL by stripping out un-used worksheet tabs - created model A and B for storyboarding and review as part of ST2 activities"]
["2015-07-28","0.8","Raj Takhar (Rolls-Royce)",null,"Updated following peer review comments"]
["2015-08-10","0.9","Raj Takhar (Rolls-Royce)",null,"Updated following peer review comments"]
["2015-08-11","0.10","Raj Takhar (Rolls-Royce)",null,"Added crude attachment code and IAEG WG2 Replacement Technology data"]
["2015-08-19","0.11","Raj Takhar (Rolls-Royce)",null,"Re-added IEC 62474 usage lists to give users an option of defining against IAEG or IEC options. Also added auto-populate of CAS_NO and EC_NO based on selection of substance name"]
["2015-09-09","0.12","Raj Takhar (Rolls-Royce)",null,"Added requestor part number to main declaration sections - to enable BOM roll-ups to take place easier."]
["2015-10-07","0.13","Raj Takhar (Rolls-Royce)",null,"Updated following IPC 2-18K committee review in chicago \nAdded in Homogenous Material section as well as modifications to in-part/in-process/maintenance chemicals"]
["2015-10-09","0.14","Raj Takhar (Rolls-Royce)",null,"Added country code data"]
["2015-10-14","0.15","Raj Takhar (Rolls-Royce)",null,"updates from IAEG FALL meeting from toulouse October 2015"]
["2015-10-19","0.16","Raj Takhar (Rolls-Royce)",null,"updated to allow hide optional fields"]
["2015-10-20","0.17","Raj Takhar (Rolls-Royce)",null,"Added ability to import txt file in to the spreadsheet, added in the use description list functionality from John Klijn, as well as combining the Requestor and Supplier data sections."]
["2015-11-23","0.18","Raj Takhar (Rolls-Royce)",null,"Updated following review comments from Margaret Proul"]
["2015-12-02","0.19","Raj Takhar (Rolls-Royce)",null,"Updated as part of IPC 2-18K committee review, at Boeing, Seattle"]
["2015-12-16","0.20","Raj Takhar (Rolls-Royce)",null,"Updated as requested by John Pierre at IPC-1754 team meeting"]
["2016-02-17","0.21","Raj Takhar (Rolls-Royce)",null,"Un-merged cells in a few sheets to make data copying eaisier"]
["2016-02-18","0.22","Raj Takhar (Rolls-Royce)",null,"Fixed issue with hiding sheets"]
["2016-03-14","0.23","Raj Takhar (Rolls-Royce)",null,"Corrected declaration classes"]
["2016-04-05","0.24","Jean-Pierre Théret (Dassault Systèmes)","All tabs","Hide not directly used tabs: * Use Descrption*, * Parameters*"]
[null,null,null,"Term of Use ...","Hide \"Term of Use ...\" tabs because not a consensus on them, and not usefull for pilot inside IAEG"]
[null,null,null,"All tabs","Cut \"Section\" out of tab name (no added value and shorter names)"]
[null,null,null,"All tabs","Harmonize Tool Name, Version on each tab; cancel IAEG logo"]
[null,null,null,"Authorization","Delete \"Authorization\" tab, copy Authorizer data in first tab with \"Requester\" and \"Supplier\" contact data"]
[null,null,null,"Requester-Supplier","Rename \"Supplier Data\" and \"Requester Data\" to \"... Information\" (IPC 2-18K decision on 2016-03-18)"]
[null,null,null,"Part-and-Statements","Add both Requester &nd Supplier Part Number, Description and Version; Supplier info required for \"Distribute/Push\" mode when no Requester"]
[null,null,null,"Part-and-Statements","Rename \"Is affected by ...\" by \"Requires the use of substance(s) on the AD-DSL” (IPC 2-18K decision on 2016-3-18)"]
[null,null,null,"Substance-in-Part","Add Data Grouping per column to hide optional data and get less columns to fill in"]
[null,null,null,"Substance-in-Process","Add Data Grouping per column to hide optional data and get less columns to fill in"]
[null,null,null,"Substance-in-Maintenance","Add Data Grouping per column to hide optional data and get less columns to fill in"]
[null,null,null,"Substances-List","Alphabetic order, same columns order that in AD-DSL"]
[null,null,null,"List-of-Parts","Add new tab for List of Parts with single declaration"]
[null,null,null,"- Help -","Update help"]
["2016-04-06","0.25","Jean-Pierre Théret (Dassault Systèmes)","Part-and-Statements","Add \"in Product and by Process\" to \"Requires use of substance(s) on AD-DSL in product or by production process or maintenance\" statement."]
[null,null,null,"Substance-in-Maintenance","Merge \"Substance-Process\" and \"Substance-in-Process\" to \"Substance-in-Process\"; add \"Process Stage\" = Production, Maintenance, Production and Maintenance values."]
[null,null,null,"-Overview-","Update flowchart; add hotlink on Activities to the tabs"]
[null,null,null,"Substance-in-Process","Delete Statements at Substance Level; add calcuation of AD-DSL Substance Group (column R)"]
[null,null,null,"Substance-in-Part","Add calcuation of AD-DSL Substance Group (column AE)"]
[null,null,null,"All tabs","Make format of cell: Text, for any value to be key-in without any format conversion"]
[null,null,null,"-TermsOfUse-","Rename tab and make no longer hidden"]
[null,null,null,"-Overview-","Add \"Terms of Use\" new statement (implicitely) and add hotlink to corresponding tab; add back links to Overview"]
[null,null,null,"List-of-Parts","Add Part Description, Version and Manufacturing Location; no longer multiple lists (only one list)"]
["2016-04-15","0.26","Jean-Pierre Théret (Dassault Systèmes)","Part-and-Statements, List-of-Parts, Substance-in-Part, Substance-in-Process","Add markup \"End of ...\" at the end of file"]
[null,null,null,"Substance-in-Part, Substance-in-Process","Rename CAS # and EC # to CAS Number and EC Number"]
[null,null,null,"Substance-in-Part","Add more examples"]
["2016-07-05","0.27","Jean-Pierre Théret",null,"Changes after IPC 2-18K meeting on 2016-June-20&21 (Washington)",null,"Impact on IPC-1754 Converter","IPC comment #"]
[null,null," (Dassault Systèmes)","-Overview-","- New class names and descriptions",null,"no","11, 12"]
[null,null,null,"3 Tabs & contents","- Rename \"Part\" to \"Product\" to align to Standard draft v1.5: \"Part-And-Statement\" becomes \"Product-Statement\", \"Substance-in-Part\" becomes \"Substance-in-Product\", \"List-of-Parts\" becomes \"List-of-Products\"",null,"yes","110"]
[null,null,null,"Substance-in-Product","- Implement the 4 columns option as reviewed by WG1-ST2 on May 11th, 2016 (to be voted by WG1)",null,"yes","139"]
[null,null,null,null,"- Deletion of \"Requester Part Number\" (column B) because column added in Product-Statement",null,"yes"]
[null,null,null,"Product-Statement","- Rename \"Contains Minerals from Conflict Regions\" to \"Contains Conflict Minerals\"; then remove \"and their Compounds\" from the help comment on that cell; after SEC clarification: Conflicts Minerals (3TG) is substance, not compound!",null,"no","32"]
[null,null,null,"Product-Statement","Add both Requester and Supplier Part Number, Description and Version; Supplier info required for \"Distribute/Push\" mode when no Requester",null,"don't know ?","112"]
[]
["2016-07-08","0.27b","Jean-Pierre Théret",null,"Minor changes on titles and help comments"]
[null,null,null,"All tabs","Rename \"Part\" to \"Product\" in all column titles",null,"don't know ?","110"]
[null,null,null,"Product-Statement","Change classes definitions: \"E and F\" becomes \"F\", \"E and G\" becomes \"G\"",null,"no","11, 12"]
[null,null,null,"Product-Statement, Substance-in-Product, SUbstance-in-Process","Delete row #5 (empty row)",null,"yes"]
[null,null,null,"Substance-in-Product, SUbstance-in-Process","Delete row #3 (empty row)",null,"yes"]
[null,null,null,"Substance-in-Process","Delete column A with Requester Product Number, because already provided in Product-Statement",null,"yes"]
["2016-09-05","0.28","Renato Favarin",null,"Changes after IAEG Task Force testing of the tool versions 0.25 and 0.27b"]
[null,"a(lpha)","(Embraer)","Substances-List","Change tab title color to white (much more data than a tab included in class F or G)",null,"no"]
[null,null,"Jean-Pierre Théret","Product-Statement","Add Query List Identity for the IAEG AD query List",null,"yes"]
[null,null,"(Dassault Systèmes)","Substance-in-Process","Add column \"Product Version\" to be able to separate two versions of the same product",null,"yes"]
[null,null,null,"List-of-Products","Tab \"List-of-Products\" renamed to \"Group-of-Products\" to separate \"list\" and \"group\" cases when multiple products",null,"yes"]
[null,null,null,"Group-of-Products","Add \"Product Group Description\" fielfs in A3 (title) and A4 (value)",null,"yes"]
[null,null,null,"Group-of-Products","Add Unit Type, Mass and UOM for all Products in the group ti support case where Masses are differents",null,"yes"]
[null,null,null,"Product-Statement\nGroup-of-Product","Replace \"Product Version\" by \"Product Revision\"",null,"yes"]
[null,null,null,"Requester-Supplier","Unmerge some of the columns to ease copy / paste",null,"no"]
[null,null,null,"Requester-Supplier","Delete empty row #42",null,"yes"]
[null,null,null,"Requester-Supplier","Add hidden rows for all data groups",null,"no"]
[null,null,null,"Substances-List","Revers order of subtances column  to align with AD-DSL: CAS, EC, IAEG, Name... and select Substance base on CAS, not Name",null,"no"]
[null,null,null,"Product-Statement","Make hidden columns E and F if not used",null,"no"]
[null,null,null,null,"Requester Fax deleted (not in standard); "]
[null,null,null,"Requester-Supplier","Deleted, no fax exist in the Standard; cells \"Requester Document ID\", \"Request Date\", \"Respond by Date\", \"Supplier Response Date\" and \"Supplier Response Date\" have changed their position.",null,"yes"]
[null,null,null,"Requester-Supplier","\"Supplier Authorizer Acceptance\" is mandatory (with *) in Standard WD 1.6; all fields updated with * when mandatory in thi stab",null,"no"]
[null,null,null,"Overview","Some hotlinks not working in Overview; help comments (grey) to be deleted; \"Yes / No\" answers not well displayed (2 rows)",null,"no"]
[null,null,null,"Product-Statement\nSubstances-in-Product\nSubstances-in-Process","Replace \"Requester  Product Version\" by \"Requester  Product Revision\"; same for Supplier \"Version\" to \"Revision\"",null,"Yes"]
[null,null,null,"Substances-in-Product","Provide a list of possible values (combobox) for \"Unit Type\"; check list of UoM.",null,"no"]
[null,null,null,"All tabs","Group all instructions in one single tab (like CMRT)",null,"no"]
[null,null,null,"Requester-Supplier","Let on Yes for DSL in color; make the other values in black.",null,"no"]
["2016-09-07","0.28","Renato Favarin","All tabs","Lock all cells that should not be deleted or changed by Suppliers; protect all tabs (no password) except \"Attachments\" (if not, macro not working).",null,"no"]
[null,"b(eta)","(Embraer)","Substance-in-Product, Substance-in-Process","Implement macros to check CAS, search for Substance Name based on CAS (thanks a lot to Renato / Embraer)",null,"no"]
[null,null,"Jean-Pierre Théret","Instructions","Add new instructions (not finished...)",null,"no"]
[null,null,"(Dassault Systèmes)","Substance-in-Product, Substance-in-Process","Fix formula in column AB to calculate group of AD-DSL substance",null,"no"]
[null,null,null,"Overview","Fix hotlink on pink box (not working)",null,"no"]
["2016-09-08","0.28","Renato Favarin","All tabs","Fix the outlining of groups of rows or columns, not available if sheet protected.",null,"no"]
[null,null,"Jean-Pierre Théret","Attachements","Fix bug when attaching files if sheet protected.",null,"no"]
["2016-09-12","0.29","Jean-Pierre Théret","Requester-Reviewer","Make all data the same column width (C and G) and larger",null,"no"]
[null,null,null,"Requester-Reviewer","Country Code list fixed (some non country codes in it - RoHS Exemptions)",null,"no"]
[null,null,null,"Instructions","Complemented about the \"Supplier Authorizer\" and acceptance",null,"no"]
[null,null,null,"Substance-in-Product\nSubstance-in-Process","Freeze first columns for Product BOM and Product Number to be always visible",null,"no"]
[null,null,null,"Overview","Remove table in columns Q, R and S",null,"no"]
[null,null,null,"Requester-Reviewer","Add \"Supplier Authorizer ID Type\" in addition of \"ID Number\"; move \"Company Name\" and \"Company Number\"; change position of cells ",null,"yes"]
[null,null,null,"Overview\nTerms of Use","New logo with IAEG (R) instead of IAEG (TM)",null,"no"]
[null,null,null,"Parameters\nUse Descriptions","Protect hidden tabs / sheets",null,"no"]
[null,null,null,"Terms of Use","Add Version and Data",null,"no"]
[null,null,null,"Requester-Supplier","Change statement \"I can confirm that this questionnaire has been completed to the best of our knowledge acting in due diligence\" to  \"I can confirm that this declaration has been completed to the best of our knowledge and associated due diligence activities\".",null,"no"]
["2016-09-13","0.29.1","Jean-Pierre Théret","Requester-Reviewer","Delete row#21 (because empty)",null,"yes"]
[null,null,null,"Substances in Product","Replace BOM Level 0 to 1",null,"yes"]
[null,null,null,"Substances in Product","Update comment on cell titles",null,"no"]
["2016-09-24","0.30a","Jean-Pierre Théret","Overview","Change color of table titles to grey for no confusion with colors of classes",null,"no"]
[null,null,null,"Substances-in-Product\nSubstances-in-Process","Format \"Text\" columns for Product Name, Description and Revision (instead of \"general\")",null,"no"]
[null,null,null,"Substances-in-Product","Rename \"Homogeneous Material\" to \"Material\".",null,"yes"]
[null,null,null,"Substances-in-Product","Format column J \"Mass Variation\" as Pourcentage (%) and no longer \"General\"; value is now \"0.05\" for 5% and not \"5\"",null,"yes"]
[null,null,null,"Instructions","Move this tab just after Overview (for better access)",null,"no"]
["2016-09-27","0.30b","Renato Favarin","Substances-in-Product\nSubstances-in-Process","Update macro for CAS check\n- Allow to insert and delete rows \n- Allow to change the columns' width \n- If the user type a different, but also valid CAS number, the related cells are erased",null,"no"]
[null,null,"Jean-Pierre Théret","Substance-in-Product","Make \"Substance Synonym\" out of the Substance Identification* (mandatory)",null,"no"]
[null,null,null,"Substance-in-Process","Add \"Substance Idnetification*\" title to group CAS, EC, DSL ID & Name\" like in Substance-in-Product",null,"no"]
["2016-10-17","0.30c","Renato da Nova Favarain","Substance-in-Product\nSubstance-in-Process","Fix bug with copy and paste in cells for CAS due to sheet is locked (known Excel bug)",null,"no"]
[null,null,"Jean-Pierre Théret","Group-of-Products","Set the list of Unit of Measure in column H.",null,"no"]
[null,null,"Jean-Pierre Théret","Overview\nProduct-Statement","Change class G name according IPC 2-18K decision at Chicage, 2016-Sept-29/30: \"Extended Substance Declaration\"",null,"no"]
["2016-10-18","0.30d","Renato da Nova Favarin","Substance-in-Product\nSubstance-in-Process","New macro for CAS automatically filled when Substance Name is provided (and no infinite loop)",null,"no"]
["2016-10-19","0.30e","Jean-Pierre Théret","All tabs with a number","Delete the first 3 rows with IAEG logo, tool name and revision; no need on each page",null,"yes"]
[null,null,null,"All tabs","Add number for all tabs where data should be key-in",null,"yes"]
[null,null,null,"7.Authorization","Add new tab; move some data from 1.Requester-Supplier to this new tab",null,"yes"]
[null,null,null,"Overview","Simplify \"Overview\" with only flow chart with steps #1 to #7",null,"no"]
[null,null,null,"Instructions","Move text from Overview to Instructions",null,"no"]
[null,null,null,"Substance-List","Tab renamed \"AD-DSL\"",null,"no"]
["2016-10-20","0.30f","Jean-Pierre Théret","7.SupplierApproval","Rename Authorization to SupplierApproval, not to confuse with \"EU REACH Authorization\"; Authorizer to Approver; but no Impact on the standard IPC-1754, just a matter of mapping.",null,"yes"]
[null,null,null,"7.SupplierApproval","Add boolean yes/no for SupplierApprover data identical to SupplierContact to avoid to duplicate data.",null,"yes"]
[null,null,"Renato da Nova Favarin","Substances-List","Fix bug in macro with \"Substances-List\"; rename back to \"Substances-List\" the \"AD-DSL\" tab because template may be used with other loists than AD-DSL.",null,"no"]
[null,null,null,"Overview","Minor changes in the flow chart after reviwe with ST2/ST4 team, plus Boeing/Yvonne comments.",null,"no","Note Bene:"]
["2016-11-03","0.30g","Jean-Pierre Théret","1.Requester-Supplier","Propose new data for IPC-1751A alignment (REquester & Supplier Job  Title, Supplier Document ID, Comments)",null,"yes","These data fields are proposed and awaiting for WG1 approval for confirmation."]
[null,null,null,"6.Attachments","Propose new file data for IPC-1751A alignment (File Name, File Type, File or URL)",null,"yes","Change of position of cells of other fileds would be kept for the Converter update in both cases: adding approved or not."]
[null,null,null,"7.SupplierApproval","Propose new selection to separate \"Standard\" and \"Custom\" Statements",null,"yes","If proposed addings are denied; just remove the fields, don't change the position of other ones."]
["2016-11-09","0.30h","Jean-Pierre Théret","4.Substance-in-Product\n5.Substance-in-Process","Add column K \"add Material info\" plus a comment to display Material data; this allows to fully hide or unhide the \"Material data\" as it is an optional data.",null,"yes"]
[null,null,null,"7.SupplierApproval","Add formula in cell G19 (equal to standard statement if \"Standard\" or empty if \"Custom\" (should be a macro because formula is supposed to be overwritten",null,"no"]
["2016-12-02","0.30","Renato da Nova Favarin","4.Substance-in-Product\n5.Substance-in-Process","Fix bus on macros for checking CAS.",null,"no"]
[null,null,"Jean-Pierre Théret","1.Requester-Supplier\n6.Attachments\n7.SupplierApproval","Integrate new fields proposed in 0.30g (move red color to black color for field titles)",null,"no"]
[null,null,"Jean-Pierre Théret","Tabs 2, 3, 4, 5","Remove all accent letters in Product Description (not yet supported, to be discussed at Cincinnati...)",null,"no"]
[null,null,"Jean-Pierre Théret","All tabs","Add revision in each tab (to ease support)",null,"no"]
["2017-01-05","0.31","Renato da Nova Favarin","All tabs","Implement data check macros",null,"no"]
[null,null,"Jean-Pierre Théret","1.Requester-Supplier","Make Requester \"Response by date\" optional (decision  at Cincinnati, 2016-Dec)",null,"no"]
[null,null,"Jean-Pierre Théret","1.Requester-Supplier","Hide in columns K& L buttons not yet implemented",null,"no"]
["2017-04-16","0.32a","Jean-Pierre Théret","4.Substance-in-Product","Ungroup columns T-AB because all mandatory fields",null,"no"]
[]
[null,null,null,"4.Substance-in-Product","Update comment for cell S2, not up-to-date regarding names of classes (still A, B, C)",null,"no"]
[null,null,null,"2.Group-of-Products","Remove \"End of Page\" statement; prohibit empty rows...",null,"YES"]
[null,null,null,null,"Authorize multiple Product Groups",null,"YES"]
[null,null,null,"4.Substance-in-Product","Add column A to be able to hive \"BOM Level\" (optional)",null,"YES"]
[null,null,null,null,"Add columns G, H for new flags: isArticle, is FMD",null,"YES"]
[null,null,null,null,"Add column U and V for isArticle and isHomogeneous flags for Material",null,"YES"]
[null,null,null,"All tabs","Align mandatory vs Optional fields on IPC-1754 Final Draft for Industry Review (FDIR), 2017 Dec 13",null,"Data Quality check  is impacted"]
[null,null,null,"3. Product-Statement","Add column G for isFMD flag",null,"YES"]
[null,null,null,"5.Substance-in-Process","Add column D to fully hide all optional Process columns (Name, Classification, Stage)",null,"YES"]
[null,null,null,"Overview","Draft \"new\" flowchart (keep \"old\" one temporarily)",null,"no"]
["2017-04-19","0.32b","Renato da Nova Favarin","4.Substance-in-Product\n5.Substance-in-Process","Fix macro & copy/paste bug",null,"no"]
[null,null,null,"4.Substance-in-Product\n5.Substance-in-Process","Add Excel comment on \"add ...\" header cells to provide help",null,"no"]
["2017-04-20","0.32c","Jean-Pierre Théret","1.Requester-Supplier","Add \"Query-List\" info and \"Use Descriptor List\" info in this tab (for the IPC-1754 XML converter)",null,"YES"]
[null,null,null,"3.Product-STatement","Add column L to hide/unhide comment",null,"YES"]
[null,null,null,"7.SupplierApproval","Hide \"Export to IPC-1754\" button because not yet implemented; add a comment on \"how to export to IPC-1754\"",null,"no"]
[null,null,null,"-DataLists-","New tab that provides QueryList (QL)and Substance Use Descriptor List (UDL) IDs for converters to/",null,"YES"]
[null,null,null,"2.Group-of-Products","Move \"Unit Type\" from product data (column ) to product group data (colum C)",null,"YES"]
[null,null,null,null,"Hide optional fields (columns B,C, E-I); can be displayed clicking on \"+\"",null,"no"]
["2017-04-26","0.32d","Jean-Pierre Théret","Tabs 2-6","Unprotect all cells for data entry",null,"no"]
["2017-05-26","0.32e","Jean-Pierre Théret","- Use Descrptions -","Add column A containing TFxxx for Substance Use Descriptor (for IPC-1754 export)\nUpdate list of Use Descriptions & update \"UseDescriptions\" variable",null,"YES"]
[null,null,null,"3.Product-STatement","Add column H for \"isFSD\" (same than \"listAllMaterials\")",null,"YES"]
["2017-06-02","0.32f","Renato da Nova Favarin","4.Substance-in-Product\n5.Substance-in-Process","Debug macro for controling CAS and auto-fill other Subtsance fields",null,"No"]
["2017-06-xx","0.32g","Jean-Pierre Théret","1.Requester-Supplier","Make \"wrap text\" on cells G7 and G19 to  force text to be located in the cell",null,"No"]
[null,null,null,null,"Delete all values in cells in tab #7.Attachments",null,"No"]
[null,null,null,"Substances-List","Protect sheet",null,"No"]
[null,null,null,"- Use Descriptions -","Hide sheet",null,"No"]
[null,null,null,"2.Group-of-Products","CLean sheet (delete all values)",null,"No"]
[null,null,null,"4.Substance-in-Product","Add \"Synonym\" in AA2 cell",null,"No"]
["2017-06-14","0.32h","Jean-Pierre Théret","3.Product-STatement","Group column H (\"is FSD\") and hide it - because not yet approved by IPC 1754 committee",null,"No"]
["2017-07-12","0.33a","Jean-Pierre Théret","2.Product-Groups","Rename tab from \"2.Group-of-Products\" to \"2.Product-Groups\"; update tab name in macro",null,"YES"]
[null,null,null,"7.SupplierAuthorization","Rename tab from \"7.SupplierApproval\" to \"7.SupplierAuthorization\"; update tab name in macro",null,"YES"]
[null,null,null,"3.Product-Statement","Column G title renamed from \"is FMD\" to \"all Materials Reported\"",null,"YES ?"]
[null,null,null,"7.SupplierAuthorization","Format Authorizer Date with format \"YYYY-MM-DD\" (as decided by IPC-1754)",null,"YES ?"]
[null,null,null,"4.Substance-in-Product","Add column G for \"Manufacturing Site\" (new data field for Product Data by IPC-1754)",null,"YES"]
[null,null,null,"7.SupplierAuthorization","Rename all data field titles accordingly the IPC-1754 standard (Authorizer instead or Approver)",null,"no"]
[null,null,null,null,"Rename \"Standard\" to \"Default\" Statement; update Default Statement (in line with IPC-1754 standard)",null,"no"]
[null,null,null,"4.Substance-in-Product\n5.Substance-in-Process","Add list of \"Use Description\" to \"Material Use Description\" on both tabs (aligned with IPC-1754)",null,"YES","Substance technical Function (TFxxx) code has to be reported in XML; available in \"- Use Descriptions -\" tab"]
[null,null,null,"Tab titles","Remove all space in tab titles",null,"Yes"]
[null,null,null,"Use-Descriptor","Unhide \"Use-Descriptor\" for user to have access to full description of all substance use descriptions",null,"no"]
[null,null,null,null,"Update TFxxx code to 3 digits (xxx)",null,"no"]
[null,null,null,"Overview","Update along the final proposal",null,"no"]
[null,null,null,"All tabs","Update tab colors to sync with Overview",null,"no"]
[null,null,null,"6.Attachment","Rename tab with no \"s\" at the end (all tabs without any \"s\" for plural",null,"YES"]
[]
["2017-07-18","0.33b","Jean-Pierre Théret","Overview","Update with proposal Rev5",null,"no"]
[null,null,null,"1.Requester-Supplier","Harmonize data field titles with \"Supplier\" and \"Request\" / \"Requester\" prefix",null,"no"]
[null,null,null,null,"Harmonize policy for AD-DSL data fields",null,"no"]
[null,null,null,"Use-Descriptor-List","Add \"-List\" to the tab name",null,"YES","Converter need that tab to access the Use Descreiptor code: TFxxx"]
["2017-07-19","0.33c","Jean-Pierre Théret","3.Product-Statement\n4.Substance-in-Product","Move flags \"allMaterialsReported\" and \"isFSD\" from tab #3 to tab #4: add combo list \"Yes / No\"",null,"YES","Should be converted to true/false in the standard"]
[null,null,null,"4.Substance-in-Product","Add \"Yes/No\" combo list for flag \"is Article\" for Product",null,"YES","Should be converted to true/false in the standard"]
[null,null,null,"4.Substance-in-Product","Replace for \"is Article\" flag for Material: true/false to Yes/No",null,"YES","Should be converted to true/false in the standard"]
[null,null,null,"4.Substance-in-Product","Replace for \"is Homogeneous Material\" flag  for Material: true/false to Yes/No",null,"YES","Should be converted to true/false in the standard"]
[null,null,null,"4.Substance-in-Product","Add \"Country Code\" combo list for selecting \"Country of manufacture\"",null,"no"]
["2016-07-25","0.33d","Jean-Pierre Théret","1.Requester-Supplier","Remove \"Supplier Manufacturing Location\"",null,"YES"]
[null,null,null,"4.Substance-in-Product","Rename \"All Materials Reported\" to \"all Materials Declared\"",null,"YES"]
[null,null,null,"4.Substance-in-Product","Unhide column AD containing \"Synonym\"",null,"no"]
[null,null,null,"Overview","Change the green line style to the \"multiple lines\" one for being different from blue one when printing",null,"no"]
[null,null,null,"5.Substance-in-Process","Make visible \"Process Stage\" as mandatory data field",null,"no"]
["2017-08-02","0.33e","Renato","4.Substance-in-Product","Macros on Substance CAS and Name fixed",null,"no"]
[null,null,null,"5.Substance-in-Process","Macros on Substance CAS and Name fixed",null,"no"]
[null,null,null,"1.Requester-Supplier","Enhanced Data Check and fixed some bugs: tabs 1 and 2 only. Other tabs for the next revision.",null,"no"]
[null,null,null,"2.Product-Groups","Enhanced Data Check and fixed some bugs: tabs 1 and 2 only. Other tabs for the next revision.",null,"no"]
["2017-08-14","0.33f","Renato","tabs 3 to 7","Enhanced Data Check and fixed some bugs.",null,"no"]
[null,null,"Mussie","Instructions","Update instructions",null,"no"]
["2017-08-22","0.33g","Jean-Pierre","Substances-List",null,null,"no"]
[null,null,null,"1.Requester-Supplier","Update AD-DSL ",null,"no"]
[null,null,null,"Instructions","Delete old tab, rename new tab",null,"no"]
[null,null,null,null,"Modify date with AD-SRT issue data",null,"no"]
[null,null,null,"3.Product-Statement","Hide columns G and H (formely used for flags \"isFSD\" and \"isFMD\") - not deleted for converters reason",null,"no"]
[null,null,"Renato","Multiple tabs","Adjust some minor format issues (from Mussie's comments)",null,"no"]
[null,null,"Renato","7. Supplier-Authorization","Implemented script for \"Yes/No\" answer for \"Identifical to Supplier Contact\" question",null,"no"]
[null,null,null,"7. Supplier-Authorization","Add \"-\" in the tab name",null,"YES"]
[null,null,"Renato","Substances-List","Columns change to comply with the entire script and its optimized routine search",null,"no"]
["2017-08-24","0.33h","Jean-Pierre","Substances-List (old) ","Delete this tab",null,"no"]
[null,null,null,"6.Attachment","Add \"File ZIP Location\" for compatibility with IPC-1751A",null,"YES"]
[null,null,null,"3.Product-Statement","Color in grey full column M (not supposed to be filled-in; column N should be)",null,"no"]
[null,null,null,"Use-Descriptor-List","Add PC table from ECHA document, and make it available for \"Material Use Description\" in Product and in Process",null,"YES"]
[null,null,null,"4.Substance-in-Product","Make \"PC code list\" available for \"Material Use Description\"",null,"no"]
[null,null,null,"-Parameters-","Add ProcessStage variale and list of values",null,"no"]
[null,null,null,"5.Substance-in-Process","Update Process Stage with “Production”, \"Product Operation\", “Maintenance”, \"Repair\",  \"Overhaul/Refurbishment\"",null,"no"]
[null,null,null,null,"Make \"PC code list\" available for \"Material Use Description\"",null,"no"]
[null,null,null,"7.Supplier-Authorization","Change \"Authorizer Title\" from mandatory to optional (to align IPC-1754 & IPC-1751A)",null,"no"]
["2017-08-29","0.33i","Jean-Pierre","4.Substance-in-Product","Add columns AK and AL for comments (not included in IPC-1754, no considered by converter to XML IPC-1754)",null,"no"]
[null,null,null,"6.Attachment","Add column G for comment",null,"no"]
[null,null,null,"6.Attachment","Add Product Number / Group ID in column B",null,"YES"]
["2017-09-04","0.33j","Jean-Pierre","5.Substance-in-process","Check Substance Name may be entered even if not in the AD-DSL List",null,"no"]
[null,null,"Renato",null,"Check free text may be entered in Process Classification, Material Use Description and Substance Use Description",null,"YES","which ID to assign to \"free text\" use description?"]
[null,null,null,null,"increase width of columns with calculated AD-DSL group: T in Substance-in-Process",null,"no"]
[null,null,null,"4.Substance-in-Product","Check Substance Name may be entered even if not in the AD-DSL List",null,"no"]
[null,null,null,null,"Check free text may be entered in Process Classification, Material Use Description and Substance Use Description",null,"YES","which ID to assign to \"free text\" use description?"]
[null,null,null,null,"increase width of columns with calculated AD-DSL group: AJ in 4.Substance-in-Product",null,"no"]
[null,null,null,"1.Requester-Supplier","Provide Query List ID (the converter to IPC-1754 XML need that information)"]
[null,null,null,null,"Add mode combo-box in cells F13/G13: mode* = either \"Request/Reply\" or \"Distribute\"",null,"no / yes","converter already handles that"]
[null,null,null,"Use-Descriptor-List","Provide Use Descriptor List IDs for TF and PC",null,"no"]
["2017-09-11","0.33k","Renato","3.Product-Statement","data checks is wrong on Product Statement: conditional mandatory for Requester/Supplier Part Number",null,"no"]
[null,null,"Jean-Pierre","TermsOfUse","unhide this tab & update back hotlink to \"Overview\"",null,"no"]
[null,null,null,"All tabs","review protection of cells in Overview, Instructions, TermsOfUse, Substances-List, Use-Descriptor-List and History",null,"no"]
[null,null,null,"7.Supplier-Authorization","data check \"Authorizer Title\" is now optional",null,"no"]
[null,null,null,null,"data check: if mode=Distribute in tab 1., then Requester Contact data are not supposed to be present",null,"no / yes","converter already handles that"]
["2017-09-13","0.33l2","Jean-Pierre","2.Product-Groups","Add column E for Requester Product Number",null,"Yes"]
[null,null,null,"Substance-List","Add AD-DSL identity on top of the page (version, date, authority, ID)",null,"Yes"]
[null,null,null,"4.Substance-in-Product","Add list \"=Substance_name\" for selection of \"Substance Name\" from AD-DSL (like for Process); authorize free text",null,"no"]
["2017-09-19","0.33m","Renato","4.Substance-in-Product","Fixed minor bug -> empty cell is not suppose to be a Non-numeric data and it was fixed.",null,"no"]
[null,null,null,"4.Substance-in-Product","According to Yvonne's comment, double * in \"Substance Identification\" label"]
[null,null,null,"5.Substance-in-process","According to Yvonne's comment, double * in \"Substance Identification\" label"]
["2017-09-21","0.33n","Jean-Pierre","Instructions","Update with draft 6",null,"no"]
[null,null,null,"Substance-List","Sort Subsance-List by Name for easy selection of Substance Name in the combo list",null,"no"]
[null,null,null,"7.Authorization","Set \"Statement Type=Default\" per default",null,"no"]
[null,null,null,null,"Set \"Identical to Supplier Contact\" No per default",null,"no"]
[null,null,null,"Overview","Delete former hidden \"Overview (old)\" and \"Overview1\" tabs",null,"no"]
[null,null,null,"TermsOfUse","Delete former and hiden \"Terms of Use Agreement\" tab",null,"no"]
[null,null,null,"Data Lists","Delete formet and hidden \"-Data Lists-\" and \"DataList\" tabs",null,"no"]
[null,null,null,"4.Substance-in-Product","Add \"unknown\" in ComboList for \"Substance Mass > UOM\"",null,"no"]
[null,null,null,"3.Product-Statement","Align Q1 Text with IPC-1754",null,"no"]
["2017-09-22","0.34","Jean-Pierre","5.Substance-in-Process","Align Product-Stage combolist with IPC-1754",null,"no"]
["2017-09-25","0.34.1","Jean-Pierre","Overview","Delete former \"-Overview1-\" tab","MR101","no"]
["2017-10-04","0.34.2","Jean-Pierre","1.Requester-Supplier","Format cell G21 text (not \"date\")","MR102","no"]
[null,null,null,"3.Product-Statement","Format rows for wrap text and autofit row height",null,"no"]
[null,null,null,null,"Hidden columns “G & H” can't be unhide (remove \"format column\" when protected)",null,"no"]
[null,null,null,"4.Substance-in-Product","Format comment with wrap text and autofit row height","MR105","no"]
[null,null,null,null,"Add title \"Synonyms\" to column \"AD\"","MR106","no"]
[null,null,null,"Instructions","Protection (can't edit object)",null,"no"]
[null,null,null,"TermsOfUse","Protection (can't edit object)",null,"no"]
[null,null,null,"History","Protection of full sheet",null,"no"]
[null,null,null,"Menu \"Add-Ins\"","Commands Q1, Q2, Q3 renamed to SR1, SR2, SR3",null,"no"]
["2018-02-26","0.35.1",null,"Overview","First tab and default tab when opening the tool","MR100","no"]
[null,null,null,"3.Product-Statement","Duplicate Q1 to Q1/Q2, rename Q2/Q3/Q4 to Q3/Q4/Q5","MR103","Yes"]
[null,null,null,"Substance-List","Update Version (2.0), ID (ADDSL-0817) and date format YYYY-MM-DD","MR112","no"]
[null,null,null,"6.Attachment","Harmonize alignment and borders in column B and others; also ","MR115","no"]
[null,null,null,"Overview","Add email for support: subtancereporting.support@iaeg.com","MR117","no"]
[null,null,null,"-Parameters-","Remove accented characters \"Réunion\", BL \"...\" and \"Côte d'Ivoire\" from the country list","MR120","no"]
[null,null,null,"4.Substance-in-Product","Extended formating and formula for Group calculation to row #999","FR062","no"]
[null,null,null,"5.Substance-in-Process","Extended formating and formula for Group calculation to row #999","FR063","no"]
[null,null,null,"4.Substance-in-Product","Format cell for CAS with \"Text\" (no longer \"General\" because CAS may be date)","FR107","no"]
[null,null,null,"5.Substance-in-Process","Format cell for CAS with \"Text\" (no longer \"General\" because CAS may be date)","FR107","no"]
["2018-02-27","0.35.2",null,"7.Supplier-Authorization","Move G9-F9 upper to G8-F8 for same data group that in tab 1","MR111","Yes"]
["2018-03-07","0.35.3",null,"5.Substance-in-Process","SR108 Solved: Process Stage is mandatory for every \"Supplier Product Number or Product Group ID\" that has been declared.","MR108","No"]
[null,null,null,"Instructions","SR109 Solved: +/i buttons working properly.","MR109","No"]
[null,null,null,"7.Supplier-Authorization","SR110 Solved: Data check now examine if \"Statement Type\" was chosen. Also, the Statement is filled automatically if the choose was \"Dafault\" and it is cleared if the option was \"Custom\"","MR110","No"]
[null,null,null,"All tabs","SR113 solved: a password was set for all tabs, except for the 6.Attachment, which is not protect anymore to permit access and exclusion the attached files.","MR113","No"]
[null,null,null,"6.Attachment","SR116 solved: the better solution found up to this moment was to remove the protection in this tab, as commented at the cell above.","MR116","No"]
[null,null,null,"3.Product-Statement","Data check now examine the existence of the answer for the extra question.","-","No"]
[null,null,null,"3.Product-Statement","If a \"Requester Product Number\" and/or \"Supplier Product Number or Products Group ID\" was declared, data check examine if all the questions were answered","-","No"]
[null,null,null,"4.Substance-in-Product","If the answer for Q1 was \"Yes\", it is expected to have at least one product declared.","-","No"]
[null,null,null,"5.Substance-in-Process","If the answer for Q2 was \"Yes\", it is expected to have at least one product declared.","-","No"]
["2018-03-13","0.36.1","Jean-Pierre","7.Supplier-Authorization","Rename tab to \"7.Supplier-Acceptance\" and rename data field \"Supplier Authorization\" to \"Supplier Authorizer Acceptance\"","FR113","Yes","Yes"]
[null,null,null,"1.Requester-Supplier","Change \"Supplier Response Date\" to \"Supplier Declaration Date\"","FR060","Yes","Yes"]
[null,null,null,"Substance-List","Renamed to \"DSL\" and moved in between tabs 4 and 5","FR071\nFR166","Yes","Yes"]
[null,null,null,"2.Product-Groups","Add \"Requester Product Description\" and \"Requester Product Revision\" in addition of \"Number\" to be homogeneous with tabs 4 and 5","FR100","Yes","Yes"]
[null,null,null,"7.Supplier-Authorization","Rename \"Identical to Supplier Contact\" to \"Supplier Authorizer identical to Supplier Contact\"","FR072","No","No"]
[null,null,null,"7.Supplier-Authorization","Remove the export IPC-1754 button in Tab 7 (not implemented and refering add-ins)","FR066","No","No"]
[null,null,null,"3.Product-Group","Move column \"Requester Product Number\" from E to G; add columns \"Requester Product Description\" in H and \"Requester Product Revision\" in I (for consistency with other Product Identification in tabs 4 and 5","FR100","Yes","Yes"]
["2018-03-23","0.36.2","Renato","All tabs","Adjust macro to comply with '7.Supplier-Acceptance' tab name","F2F Fort W","No","Yes"]
["2018-03-26","0.36.3","Jean-Pierre","4.Substance-in-Product","Protect column AJ with formula to calculate group in DSL; unhidde column AJ for formula to be visible",null,"No","No"]
[null,null,null,null,"Format cell Z4 with \"Text\" instead of \"General\" to avoid CAS as a date",null,"No","No"]
[null,null,null,"5.Substance-in-Process","Protect column T with formula to calculate group in DSL; unhidde column T for formula to be visible",null,"No","No"]
[null,null,null,"Overview","Protect sheet against modification",null,"No","No"]
[null,null,null,null,"Remove from Protect options \"Edit objects\" and \"Edit scenarios\" for end-users not able to delete graphical objects",null,"No","No"]
[null,null,null,"Instructions","Remove comment on \"Developmental Draft\" (no longer valid)",null,"No","No"]
[null,null,null,"7.Supplier-Authorization","Change title on row #25 to \"Data Checks\"",null,"No","No"]
["2018-04-03","0.36.4","Renato","All tabs","Update macros with tab \"Substance-List\" renamed to \"DSL\"","FR071\nFR166","No","No"]
[null,null,null,"2.Product-Group","Copy and paste now keep a frozen format. Need tests validation.","-","No","No","Need Validation"]
[null,null,null,"4.Substance-in-Product","Copy and paste now keep a frozen format. Need tests validation.","-","No","No","Need Validation"]
[null,null,null,"5.Substance-in-Process","Copy and paste now keep a frozen format. Need tests validation.","-","No","No","Need Validation"]
["2018-04-05","0.36.5a","Jean-Pierre","2.Product-Group","Remove rows from 100 to 65536 (size is no less than 2 MB instead of 6MB before)",null,"No"]
["2018-04-06","0.36.5","Renato","Overview","Protect sheet against modification; delete some useless links in legend (mandatory blue box and optional red box)",null,"No","No"]
[null,null,null,"DSL","Protect sheet against modification",null,"No","No"]
[null,null,null,"6.Attachment","Protect sheet against modification",null,"No","No"]
["2018-04-18","0.36.6","Jean-Pierre","7.Supplier-Acceptance","Regression: Cell “Identical to Supplier Contact” should offer a dropdown list with “Yes/No” (existing in 0.35.3, but no longer in 0.36.5)","MR122","No","No"]
[null,null,null,"5.Substance-in-Process","Align IPC-1754.ProcessStage with the AD-SRT.ProcessStage...","MR118","No","No"]
[null,null,null,"1.Requester-Supplier","Update AD-DSL & AD-QL ID and dates","MR124","No","No"]
[null,null,null,"4.Substance-in-Product","column Y, “is Homogenous Material (Yes:No)”, change (Yes:No) to (Yes/No) to be consistent","MR125","No","No"]
[null,null,null,"1.Requester-Supplier","changing “Supplier Response Date” to “Supplier Declaration Date” to capture the fact that this is the date the supplier either distributes or replies","FR060","No","No"]
[null,null,null,"Use-Descriptor-List","Harmonize UDL list ID (similar to other list) for Authority + Identity to be unique","MR126","No","No"]
[null,null,null,"tabs 5 and 6","Standardize with “Comments (for information)”","MR121","No","No"]
["2018-04-20","0.36.7","Renato","1 and 7","Phone check implemented: only allows numeric, (, ), + and - chars.","-","No","No"]
[null,null,null,"7.Supplier-Acceptance","Data check now present a warning message instead of error if Q2 = True but no substance is declared.",null,"No","No"]
["2018-04-23","0.36.8","Renato","3.Product-Statement","Update Q1 and Q2 comments","MR133","No","No"]
[null,null,null,"4 and 5","Links for the AD-DSL and AD-UDL","MR134","No","No"]
[null,null,null,"tabs 4 and 5","Protect cell formats and authorize copy/paste","MR127","No","No"]
[null,null,null,"tabs 5 and 6","Standardize with “Comments” (reverse implementation done in previous version)","MR121","No","No"]
[null,null,null,"7.Supplier-Acceptance","Data check messages updated","MR130","No","No"]
[null,null,null,"1, 4 and 7","Country list now forces the user to select/write a valid one","FR92","No","No"]
["2018-05-03","1.0.a","Jean-Pierre","7.Supplier-Acceptance","Replace buble info \"Yes / No\" by \"Default / Custom\" on \"Statement Type\"","MR131","No","No"]
[null,null,null,"Instructions","Rename \"7.Supplier-Authorization\" to \"7.Supplier-Acceptance\"\nAlso rename \"6.Attachments\" to \"6.Attachment\" (without \"s\")\nAlso add \"-\" to \"2.Product Group\"","MR132","No","No"]
[null,null,null,"3.Product-Statement","Update Q1 and Q2 comments: rename \"Substances-List\" to \"DSL\"","MR133","No","No"]
[null,null,null,"UDL, DSL","Add back links in UDL and DSL to tabs 4 and 5","MR134","No","No"]
["2018-05-09","1.0.b","Renato","7.Supplier-Acceptance","After DataCheck encounter any error/warning, it gives the message AND highlight the problematic cell","-","No","No"]
["2018-05-10","1.0.c","Renato","tabs 4 and 5","Internal Script optmized - After Press Enter, the cell changes faster","-","No","No"]
[null,null,null,"7.Supplier-Acceptance","Updated the \"Run Data Check\" statement button","-","No","No"]
[null,null,null,"7.Supplier-Acceptance","The field \"Supplier Authorizer identical to Supplier Contact\" now forces Yes/No answer","-","No","No"]
["2018-05-29","1.0.d","Renato","7.Supplier-Acceptance","Yes/No on cell C3 now is present","MR136","No","No"]
[null,null,null,"4.Substance-in-Product","Cells without drop-down list were removed","MR137","No","No"]
[null,null,null,"All tabs","Comments on cell were removed","MR141\nMR139","No","No"]
[null,null,null,"Overview","Updated box 7 to \"Supplier Acceptance\"","MR140","No","No"]
[null,null,null,"Overview","Fixed the link box 7 to Supplir Acceptance tab","MR142","No","No"]
["2018-06-04","1.0.e","Renato","7.Supplier-Acceptance","Fixed some data check bugs - phone check and when the data was OK it was happening na error.","MR144\nMR145","No","No"]
["2018-06-07","1.0.f","Jean-Pierre","UDL","Replace ECHA UDL (PC, TF) by IAEG UDL MF and SF - implementation with variables UDL_SubstanceFunction and UDL_MaterialFunction","MR146","Yes","No"]
[null,null,null,"2.Produc-Group","s) to delete in call D1","MR143","No","No"]
[null,null,null,"1.Requester-Supplier","make AD-QL version 1.0 (not 1.1) because first official release - decision on May 15th in ST4 call","MR138","No","No"]
[null,null,null,"7.Supplier-Acceptance","Also add \"Yes / No\" buble message on cell C3","MR136","No","No"]
[null,null,null,"Instructions","Update instructions","MR147","No","No"]
[null,null,null,"7.Supplier-Acceptance","When selecting \"Yes\" for cell C3, then Authorizer Title is copied to cell G9, should be G8","MR148","No","No"]
[null,null,null,"5.Substance-in-process\n6.Attachment","Add column U with \"Add comment\" similarly than in tab 4 and column G in tab 6","MR121","No","No"]
["2018-06-08","1.0.g","Renato","4.Substance-in-Product","Copy and paste format issue solved","MR149","No","No"]
[null,null,null,"5.Substance-in-Process","Copy and paste format issue solved","MR149","No","No"]
[null,null,null,"5.Substance-in-Process","Comment on cell O5 to O10 deleted","MR151","No","No"]
["2018-06-26","1.0.h","Tim Sheehan","TermsOfUse","Update with up-to-date ToU (from Tim's proposal)",null,"No","No"]
[null,null,"Jean-Pierre Théret","TermsOfUse","Protect the tab against modification",null,"No","No"]
[null,null,null,"Overview","Protect the tab against modification",null,"No","No"]
[null,null,null,"DSL","Protect the tab against modification",null,"No","No"]
[null,null,null,"-History-","Protect the tab against modification",null,"No","No"]
["2018-06-29","1.0.i","Renato","7.Supplier-Acceptance","Add a warning message if Supplier Acceptance is No (from WG1 survey)",null,"No","No"]
[null,null,null,"Instructions","Update instructions: word \"legal\" was removed on row 124",null,"No","No"]
["2018-09-18","1.0.j","Jean-Pierre Théret","Overview","Typo: replace \"implicitely\" by \"implicitly\" (from Mussie's email)",null,"No","No"]
[null,"= 1.0 final"]
[null,"1.0.1a","Renato","Worksheet","Update tabs protection against the new specification by JP","MR161","No","No"]
[null,null,null,null,"Update worksheet protection against the new specification by JP","MR172"]
["2018-12-26","1.0.1b","Tetra Tech","Macros","Protection of Excel macros with password","MR166","No","No"]
["2019-01-15","1.0.1.c","Renato","DSL","Added DSL v3. Also, as DSL changed \"IAEG Priority Group\" to \"Regulatory Criteria\", a few adjustments were made in titles of tabs #4 and #5","MR153","No","No"]
["2019-01-16","1.1a","Jean-Pierre Théret","-History-","Update history",null,"No","No"]
[null,null,null,"Overview","Change 1.0.1c to 1.1a due to AD-DSL v3.0 which is not just fixing bug (change version, 3 digits in versioning) but minor version (2 digits)","MR153","No","No"]
[null,null,null,null,"Update AD-DSL Version, Date, Identity for AD-DSL 3.0","MR153","No","No"]
[null,null,null,null,"Protect \"Overview\" tab (seems not included in macro managing protection)",null,"No","No"]
[null,null,null,"DSL","Update AD-DSL Version, Date, Identity for AD-DSL 3.1","MR153","No","No"]
[null,null,null,null,"Protect only cells for DSL (A1:H1360) for MR#","MR157"]
[null,null,null,"Substance-in-Product","Change color of celle \"Comment\" (O3) from grey to yellow, like other Substance Data because this data field exist in IPC-1754","MR162","No","No"]
[null,null,null,null,"Update liste of Substance Names with variable SubstanceName_30","MR153","No","No"]
[null,null,null,"Substance-in-Process","Change color of celle \"Comment\" (V3) from grey to yellow, like other Substance Data because this data field exist in IPC-1755","MR162","No","No"]
[null,null,null,null,"Update liste of Substance Names with variable SubstanceName_30","MR153","No","No"]
["2019-01-21","1.1b","Jean-Pierre Théret","General","Provide one version with macros (.XLSM) and another one without macro (.XLSX).","MR171","No","No"]
["2019-01-22","1.1c","Jean-Pierre Théret","Overview","Unprotect support email (unlock cell H5) for company to replace IAEG one by their support email ; change color with light green the cell (H5-I5-J5)","MR174","No","No"]
[null,null,null,"7.Supplier-Acceptance","Add comment on text for Data Check: \"No data check is available in version without macros\".","MR171","No"]
[null,null,null,"DSL","Prohibit any addition or removal of substances from AD-DSL list in DSL tab (lock all columns A-H, unlock other columns)","MR157","No","No"]
["2019-02-19","1.1d","Jean-Pierre Théret","Instructions","Remove protection for tab with +/- to expand in Edition without macros","MR176","No","No"]
[null,null,null,"2.Product-Group "]
[null,null,null,"3.Product-Statement "]
[null,null,null,"4.Substance-in-Product"]
[null,null,null,"5.Substance-in-Process"]
[null,null,null,"Overview","In edition XLSM \"without macro\", add in version \"without macro\""]
[null,null,null,"1.Requester-Supplier ","Unprotect these tabs, fully expand the columns or rows, then protect these tabs"]
[null,null,null,"6.Attachment "]
[null,null,null,"7.Supplier-Acceptance "]
[null,null,null,"DSL"]
["2019-02-28","1.1e","Jean-Pierre Théret","DSL","Add 3 missing substances from AD-DSL 3.0 dated 2019-January-14 (previous: Jan-07)","MR177","No","No"]
[null,null,null,"DSL","Move column \"IAEG Regulatory Criteria\" before \"First added date\"","MR178","No","No"]
[null,"=1.1"]
["2019-06-24","1.1.1",null,"General","Non-used private subs were removed","MR169","No","No"]
["2019-08-06","1.1.2",null,"3.Product-Statement ","Locked +/- expand columns","MR181","No","No"]
[null,null,null,"4.Substance-in-Product"]
[null,null,null,"5.Substance-in-Process"]
[null,null,null,"6.Attachment "]
["2019-12-03","1.1.3",null,"General","Small bugs corrections","-","No","No"]
[null,null,null,"3.Product-Statement ","Unlocked +/- expand columns: during Prague F2F was agreed that it is necessary to allow any row removal in tabs 3, 4, 5 and 6; so it is not possible to have locked cells.",null,"No","No"]
[null,null,null,"4.Substance-in-Product","Unlocked +/- expand columns: during Prague F2F was agreed that it is necessary to allow any row removal in tabs 3, 4, 5 and 6; so it is not possible to have locked cells.",null,"No","No"]
[null,null,null,"5.Substance-in-Process","Unlocked +/- expand columns: during Prague F2F was agreed that it is necessary to allow any row removal in tabs 3, 4, 5 and 6; so it is not possible to have locked cells.",null,"No","No"]
[null,null,null,"6.Attachment ","Unlocked +/- expand columns: during Prague F2F was agreed that it is necessary to allow any row removal in tabs 3, 4, 5 and 6; so it is not possible to have locked cells.",null,"No","No"]
[null,null,null,"Print Friendly incorporated",null,"MR167","No"]
[null,null,null,"3.Product-Statement ","Allow to ADD rows  in tabs 3,4,5 and 6","MR182","No","No"]
[null,null,null,"4.Substance-in-Product","Allow to ADD rows  in tabs 3,4,5 and 6",null,"No","No"]
[null,null,null,"5.Substance-in-Process","Allow to ADD rows  in tabs 3,4,5 and 6",null,"No","No"]
[null,null,null,"6.Attachment ","Allow to ADD rows  in tabs 3,4,5 and 6",null,"No","No"]
["2020-03-30","1.2",null,"DSL","Added AD-DSL v4",null,"No","No"]
["2020-10-19","1.3",null,"1.Requester-Supplier","Corrected AD-DSL identity in tab 1.","MR184","No","No"]
[null,null,null,"Instructions","Moved list of countries to a new, hidden tab.","MR185","No","No"]
[null,null,null,"1.Requester-Supplier","Removed \"IAEG\" from Requester","MR186","No","No"]
[null,null,null,"Overview","Unlocked support e-mail cell to allow requesters to insert a different address.",null,"No","No"]
["2020-10-20","2.0",null,"2.Product-Group","Added \"Supplier Product Number Type\", \"Additional ID Type(s)\", and \"Additional ID Number(s)\" fields.",null,"Yes","Yes"]
[null,null,null,"4.Substance-in-Product","Added \"Article Category (Taric Code)\", \"Production in European Union\", \"Material Class ID\", \"Material Class Name\", \"Material Class List Version\", \"Mixture Category\", \"Mixture Class Name\", \"Mixture Class List Version\", \"SCIP Substance Group\", \"Safe Use Instructions\", and \"Concentration Range\" fields.",null,"Yes","Yes"]
[null,null,null,"5.Substance-in-Process","Added \"SCIP Substance Group\" field.",null,"Yes","Yes"]
[null,null,null,"4.Substance-in-Product","Edited code to automatically enter the correct value in \"SCIP Substance Group\"",null,"No","Yes"]
[null,null,null,"5.Substance-in-Process","Edited code to automatically enter the correct value in \"SCIP Substance Group\"",null,"No","Yes"]
[null,null,null,"4.Substance-in-Product","Edited code to link \"Material Class ID\", \"Material Class Name\", \"Material Class List Verion\" fields together, and link \"Mixture Category\", \"Mixture Class Name\", \"Mixture Class List Version\" fields together.",null,"No","Yes"]
[null,null,null,"2.Product-Group","Added drop-down menus for new fields.",null,"No","No"]
[null,null,null,"4.Substance-in-Product","Added drop-down menus for new fields.",null,"No","No"]
[null,null,null,"7.Supplier-Acceptance","Edited code to validate correct fields with the new fields included. Added partial validation for Taric Codes.",null,"No","Yes"]
[null,null,null,"Multiple Pick Lists","Added tab from SCIP_Format_Annex_Pick_List.xlsx",null,"No","No"]
[null,null,null,"Material Category","Added tab from SCIP_Format_Annex_Pick_List.xlsx",null,"No","No"]
[null,null,null,"Taric Codes","Added tab from SCIP_Format_Annex_Pick_List.xlsx",null,"No","No"]
[null,null,null,"Taric Codes","Trimmed down list of available taric codes by removing Sections I,II,III,IV,VIII,XII,XXI, removing 'SelectableFlag' = FALSE rows, and removing descriptors for TARIC codes.",null,"No","No"]
[null,null,null,"Mixture Category","Added tab from SCIP_Format_Annex_Pick_List.xlsx",null,"No","No"]
[null,null,null,"ECHA Substance List","Added tab from List_of_reference_substances_V_2020-1.xlsx",null,"No","No"]
[null,null,null,"MatC","Added query on Material Category tab",null,"No","No"]
[null,null,null,"MixC","Added query on Mixture Category tab",null,"No","No"]
[null,null,null,"Instructions","Added links to help users find the right TARIC code.",null,"No","No"]
["2022-03-21","2.0",null,"4.Substance-in-Product","Removed \"SCIP\" reference from \"SCIP Substance Group\" field, removed \"Production in European Union\" and \"Concentration Range\" fields.",null,"Yes","Yes"]
[null,null,null,"5.Substance-in-Process","Removed \"SCIP\" reference from \"SCIP Substance Group\" field.",null,"No","No"]
[null,null,null,"DSL","Updated to v6.0",null,"Yes","Yes","Column order changed from v5.0"]
["2023-08-25","2.0",null,"DSL","Updated to v7.0",null,"No","No"]
[null,null,null,"4.Substance-in-Product","Removed reference to DSL ECHA ID; replaced with ECHA Substances List ID\n-Upon substance Name change, lookups for EC Number and ECHA ID now come from ECHA Substance List tab.\n-If substance Name is blank or not found on both tabs DSL and ECHA Substance List, clearing the Substance Identification section for that row.",null,"Yes","Yes"]
[null,null,null,"5.Substance-in-Process","Removed reference to DSL ECHA ID; replaced with ECHA Substances List ID\n-Upon substance Name change, lookups for EC Number and ECHA ID now come from ECHA Substance List tab.\n-If substance Name is blank or not found on both tabs DSL and ECHA Substance List, clearing the Substance Identification section for that row.",null,"Yes","Yes"]
[null,null,null,"7.Supplier Acceptance","Defaulted \"Authorizer Acceptance\" field to \"Yes\" and continue to allow user to select \"Yes\" or \"No\"",null,"No","No"]
[null,null,null,"6.Attachment ","Item #1 in header, changed \"Products\" to \"Product\""]
[null,null,null,"TARIC Codes","Update picklist data to revision 4.2 and update version control grid to include link to the data source",null,"No","No"]
[null,null,null,"Material Category","Update picklist data to revision 3.0 and update version control grid to include link to the data source",null,"No","No"]
[null,null,null,"Mixture Category","Update picklist data to revision 4.1 and update version control grid to include link to the data source",null,"No","No"]
[null,null,null,"Additional Category","Update picklist data to revision 2.0 and update version control grid to include link to the data source",null,"No","No"]
[null,null,null,"ECHA Substance List","Update picklist data to revision 2.0 and update version control grid to include link to the data source",null,"No","No"]
[null,null,null,"Multiple Pick Lists","Update Colours picklist data to revision 3.0 and update version control grid to include link to the data source",null,"No","No"]