{"text_format":"1","workbook":"xlsx","n_sheets":15,"sheets":["Overview","Instructions","1.Requester-Supplier","2.Product-Group","3.Product-Statement","4.Substance-in-Product","5.Substance-in-Process","6.Attachment","7.Supplier-Acceptance","DSL","UDL","Countries","-Parameters-","TermsOfUse","-History-"],"not_rendered":{"charts":0,"images":4,"macros":1,"external_links":0,"defined_names":73,"comments":0,"pivot_tables":0},"unopened":[],"bounds":{"document_bytes":16777216,"sheet_cells":100000,"rows_first":2000,"rows_last":500,"rows_between":2000,"halvings":0,"cell_chars":16384,"cell_head_chars":4096},"cells_cut":0,"cells_raw":0,"read":"whole","date_system":"1900"}

{"sheet":"Overview","index":0,"n_rows":16,"n_cols":9,"rows_kept":16,"cut":false,"hidden":false,"merged":[[0,10,1,10],[1,8,1,9],[15,8,15,9],[16,8,16,9],[18,7,18,9]]}
[null,null,null,null,"Materials Declaration Standard for Aerospace and Defence"]
[null,null,null,null,"Substance Reporting Tool",null,"By using this tool, you implicitly accept the ",null,"IAEG® Term of Use Statement"]
[null,null,null,null,"Version: 1.2.2","2022-04-29"]
[]
[null,null,null,null,null,null,"For support, send email to:","substancereporting.support@iaeg.com"]
[]
[null,null,null,null,null,null,null,null,"Legend"]
[]
[]
[]
[]
[]
[]
[]
[]
[null,null,null,null,null,null,null,null,"(+): Requester may prepopulate some of the fields."]

{"sheet":"Instructions","index":1,"n_rows":225,"n_cols":2,"rows_kept":225,"cut":false,"hidden":false,"merged":[[67,0,69,0],[0,0,0,1],[6,0,8,0],[9,0,13,0],[14,0,16,0],[21,0,26,0],[36,0,37,0],[70,0,78,0],[87,0,92,0],[93,0,97,0],[112,0,130,0],[131,0,139,0],[140,0,149,0],[199,0,200,0],[150,0,151,0],[162,0,164,0],[165,0,167,0],[168,0,172,0],[173,0,178,0],[188,0,192,0]]}
["Aerospace and Defence - Substances Reporting Tool (AD-SRT)"]
[null,{"$f":"Overview!E3","v":"Version: 1.2.2"}]
[null,"Instructions"]
[null,{"$f":"Overview!F3","v":"2022-04-29"}]
[null,"Introduction"]
[null,"IAEG® supports and promotes the use of IPC-1754 materials and substances declaration in the aerospace and defence (“AD”) industry and its supply chain. IAEG® has developed tools to support obtaining information about the substance content of its products from the industry’s global supply chain.  The tools developed by IAEG® include the following:"]
[null,"The Aerospace and Defence Declarable Substances List (“AD-DSL”):"]
[null,"·         List of industry product & process -related declarable substances reflecting regulatory impacts within the Aerospace & Defence (A&D) industry and its supply chain "]
[null,"·         Reduces the burden on supplier "]
[null,"Aerospace and Defence Substance Reporting Template (“AD-SRT”): "]
[null,"·         Interim Excel-based spreadsheet for solution to support B2B AD-DSL substances declaration to enable AD-DSL data collection from products and processes."]
[null,"·         The AD-SRT is a tool for simple declaration data exchanges"]
[null,"·         IPC-1754 compatible"]
[null,"http://shop.ipc.org/IPC-1754-English-D"]
[null,"IAEG® Declaration Support Training and Communications:"]
[null,"·         Training resources including instructions, guidance, FAQ, and informational videos"]
[null,"·         IAEG supplier website portal"]
[null,"Additional information including training is available at www.iaeg.com/chemicalrpt/."]
[]
[null,"General Instructions"]
[null,"The AD-SRT Excel spreadsheet with consists of few tabs with the primary objective to gather for declarable substance information collection.  The tabs color coded as green, blue, or brown have fields for data entry.  In addition, there are white color tabs containing reference information which have no fields for data entry. One spreadsheet can be used for declarations of multiple single products or product groups."]
[null,"Mandatory tabs must be filled in to generate a complete declaration. Within these mandatory tabs there are mandatory and optional fields. The tab colors indicate:"]
[null," - Green: mandatory tab"]
[null," - Blue: mandatory when AD-DSL substances are contained in the composition make-up of the product"]
[null," - Brown: optional tab"]
[null," - White: reference information (e.g., instructions) or data (e.g., substance list) only"]
[null,"A diagram of the tabs that have fields to be filled in and whether the tabs are optional or mandatory is documented in the “Overview” tab."]
[null,"In the \"Overview\" tab, click on colored box to navigate to the corresponding tab."]
[null,"In any tab, click on \"Return to Overview\" hotlink to navigate to \"Overview\" tab."]
[null,"Any data field identified in bold character and with a single asterisk/star character (*) after the field name is a mandatory field."]
[null,"Any field identified in bold character and with a double asterisk/star character (**) after the field name is a conditional mandatory field. \"Conditional mandatory\" means the field may be mandatory under certain conditions described in the applicable tab and field instructions."]
[null,"Note that many rows/columns default to being hidden; they correspond to optional fields. These optional fields can be made visible by clicking on the \"+\". On the instructions tab, in colum 1 click on the \"-\" to collapse the section and click on the \"+\" to open the section."]
[]
[null,"1. Requester-Supplier tab (mandatory)"]
[null,"If the data transaction is a Business-To-Business (B2B) transaction, then both the Requester Contact and Supplier Contact information is required to be provided. If the Supplier distributes or publishes the AD-SRT data, then only Supplier information is required to be provided."]
[null,"The requester is the company requesting the material declaration. The requester should prepopulate the requester contact information and known supplier contact information on the Requester-Supplier tab prior to providing the AD-SRT to the supplier."]
[]
[null,"The instructions below first describe shared fields for both requester and supplier followed by unique fields per requester and supplier"]
[null,"Requester** and/or Supplier* Company Name: the legal name of the company (mandatory)"]
[null,"Requester and/or Supplier Company ID Type: the authority that defines the company identity (Select DUNS or CAGE in the dropdown menu.) (optional)"]
[null,"Requester and/or Supplier Company ID Number: the company number or assigned identity under the DUNS or CAGE authority (optional)"]
[null,"Requester and/or Supplier Street: the street number, street name, and suite number (optional)"]
[null,"Requester and/or Supplier City: name of the city (optional)"]
[null,"Requester and/or Supplier State: the state, county, parish, or province (optional)"]
[null,"Requester and/or Supplier Country: name of the country (Select the country in the dropdown menu.) (optional)"]
[null,"Requester and/or Supplier Zip Code: the postal zip code (optional)"]
[null,"Requester** and/or Supplier* Contact Name: contact name from the company requesting/supplying the declaration document (mandatory)"]
[null,"Requester** and/or Supplier* Contact Phone: contact’s phone number (mandatory)"]
[null,"Requester** and/or Supplier* Contact Email: contact’s email address (mandatory)"]
[null,"Requester and/or Supplier Contact Title: contact’s job title (optional)"]
[null,"Requester and/or Supplier Contact Comment: used for information specified in the contract or other information required to facilitate the business-to business transaction such as a Uniform Resource Locator (URL) that specifies an internet address. (Should remain blank if no such information is required.)  (optional)"]
[null,"Requester and/or Supplier Document ID: the ID number for the specific material declaration request to help the supplier and requester reference the data transaction. The ID number is created by the requester/supplier. A revision method (e.g., revision letter or date) should be established to identify different level configurations of the same request, i.e.: SDR-2017-10-25-00001-New. (optional)"]
[null,"Requester Request Date**: date the declaration request was made (mandatory)"]
[null,"Requester Respond by Date: date that a declaration request should be submitted to requester (optional)"]
[null,"Mode*: Select request/reply (when the customer/requester has provided the SRT to the supplier and requests that the supplier completes and returns it)  or distribute (when supplier distributes or publishes declaration) (mandatory)"]
[null,"Supplier Declaration Date*: date the declaration was distributed or submitted by supplier to the requester (mandatory)"]
[null,"Version*: these two fields are auto-populated to reference the AD-DSL  and the AD-QL versions used in a given AD-SRT. The stated AD-DSL version is in the DSL tab and the stated AD-QL is embedded in the Product-Statement tab queries. (mandatory)"]
[null,"Date: these two field are auto-populated with the date of the respective AD-DSL  and AD-QL versions used in the AD-SRT (optional)"]
[null,"Authority*: these two field are auto-populated with the authority for the respective AD-DSL  and AD-QL versions used in the AD-SRT (mandatory)"]
[null,"Identity*: these two field are auto-populated with the respective identities (e.g., AD-DSL  or AD-QL) used in the AD-SRT (mandatory)"]
[]
[null,"2. Product-Group tab (optional)"]
[null,"This tab may be used to declare one or more group of products in a single product declaration."]
[null,"Each group is identified by a Product Group ID (column A), that can be used in other tabs instead of the Supplier Product Number."]
[null,"A product group must share the same substances and substances concentration, but may have the same or different masses. For example, a group of fasteners with the same plating and base material and same substances concentration, but different fastener masses may be declared under one Product Group."]
[]
[null,"The instructions below are for fields in the order that they appear on the tab "]
["Product Group","Product Group ID*: the supplier’s number or identification assigned to the product group representing multiple products that share the same substance (mandatory)"]
[null,"Product Group Description: the supplier’s description assigned to the product group representing multiple products that share the same substance and product group ID (optional)"]
[null,"Unit Type: specifies the quantity measurement of the product mass (Select the unit type in the dropdown menu or enter the appropriate unit type. Products may be of different types: either discrete product, semi-finished product or raw material. The product mass may be expressed differently depending on the type. For example, product mass may be reported 1) using a “Mass” value and a “Unit of Measure” (UoM), 2) as “each” for discrete products, or 3) by length, or area, or volume for a given dimension of semi-finished product or raw material product. For example: a meter of wire, a square meter of textile, a liter of paint.) (optional) "]
["Product","Supplier Product Number*: supplier’s product number as bought/ordered (mandatory)"]
[null,"Supplier Product Description: supplier’s product description as bought/ordered (optional)"]
[null,"Supplier Product Revision: supplier’s product number revision as bought/ordered (optional)"]
[null,"Requester Product Number: requester’s product number as bought/ordered (optional)"]
[null,"Requester Product Description: requester’s product description as bought/ordered (optional)"]
[null,"Requester Product Revision: requester’s product number revision as bought/ordered (optional)"]
[null,"Product Manufacturing Location: the country where the product is manufactured (optional)"]
[null,"Mass: mass (weight) of the product (optional)"]
[null,"UoM: is Unit of Measure and identifies unit of measure of the mass of the product (A drop down menu allows selection of percentage (%), ppm (parts per million), milligrams (mg), grams (g), kilograms (kg) or unknown; but other data may be entered.) (optional)"]
[]
[null,"3. Product-Statement tab (mandatory)"]
[null,"Unless otherwise directed by the requester, the Product Statement tab lists only the top BOM level (level 1) product number(s). The requester should prepopulate the known product number information prior to providing the AD-SRT to the supplier."]
[null,"Responses to Q1 through Q5 are either \"Yes\", \"No\", or \"Unknown\"."]
[null,"If the answer to Q1 is \"no\" or \"unknown\", then the \"Substance-in-Product\" and \"Substance-in-Process\" tabs are not required to be completed."]
[null,"If the answer to Q1 is \"yes\", then the supplier shall declare AD-DSL substances contained in the product by completing the \"Substance-in-Product\" tab and optionally may complete the Substance-in-Process tab. At a minimum, provide the substances on the AD-DSL."]
[]
[null,"The instructions below are for fields in the order that they appear on the tab"]
["Product Identification","Requester Product Number**: requester’s product number as bought/ordered (mandatory if the Supplier Product Number or Product Group ID is not provided; otherwise it is optional) "]
[null,"Requester Product Description: requester’s product description as bought/ordered (optional)"]
[null,"Requester Product Revision: requester’s product number revision as bought/ordered (optional)"]
[null,"Supplier Product Number or Products Group ID**: supplier’s product number or assigned product group ID as bought/ordered (mandatory if the Requestor Product Number is not provided; otherwise it is optional)"]
[null,"Supplier Product Description: supplier’s product description as bought/ordered (optional)"]
[null,"Supplier Product Revision: supplier’s product number revision as bought/ordered (optional)"]
["Product Statement* ","Q1. Product contains substance(s) on the AD-DSL *: If substance(s) on the AD-DSL (refer to DSL tab in this spreadsheet) are contained in the product, then the response is “yes”. Otherwise, the response is “no” or “unknown”. (Select \"yes\", \"no\", or \"unknown\" in the dropdown menu.) (mandatory)"]
[null,"Q2. Product process(es) requires the use of substance(s) on the AD-DSL*: If the product production or post production (e.g., product operation, maintenance, repair, overhaul/refurbishment or a combination thereof) processes use substance(s) on the AD-DSL (refer to DSL tab in this spreadsheet), then the response is “yes”. Otherwise, the response is “no” or “unknown”. (Select \"yes\", \"no\", or \"unknown\" in the dropdown menu.) (mandatory)"]
[null,"Q3. Product contains radioactive material(s)*: If the product contains radioactive material (reference EURATOM 96/22), then the response is “yes”. Otherwise, the response is “no” or “unknown”. (Select \"yes\", \"no\", or \"unknown\" in the dropdown menu.) (mandatory)"]
[null,"Q4. Product contains biocide(s)*: If the product contains biocidal active substances or if the product has been treated with a biocidal product (reference EU 528/2012), then the response is “yes”.  Otherwise, the response is “no” or “unknown”. (Select \"yes\", \"no\", or \"unknown\" in the dropdown menu.) (mandatory)"]
[null,"Q5. Product contains conflict mineral(s)*: If the product contains conflict minerals (tin, tantalum, tungsten, gold, or their metal derivatives), then the response is “yes”. Otherwise, the response is “no” or “unknown”. (Select \"yes\", \"no\", or \"unknown\" in the dropdown menu.) (mandatory)"]
[null,"Comment: provide applicable supplier comments for additional information as appropriate (optional)"]
[]
[null,"4. Substance-in-Product tab (mandatory if AD-DSL substance is in product)"]
[null,"In the Substance-in-Product tab, enter the substances that remain on the product as bought/sold. Multiple materials and substances may be present on the product. The product may include a base material (e.g., alloy, glass, plastic, etc), coatings, fillers, or other materials.  Multiple rows are required to declare multiple substances. Use as many rows as necessary to declare the applicable substances. "]
[null,"When the requester requires only substance identification and substance  mass is not required, then \"unknown\" may be placed in the mass UoM column."]
[null,"Each substance on the AD-DSL has an assigned IAEG ID number. The order of preference for substance identification with 1 being most preferred are 1) CAS number, 2) EC number, 3) IAEG ID (for substances on the AD-DSL), and 4) substance name."]
[null,"In the Substance-in-Product tab, AD-DSL substances may be searched by two methods as follows:"]
[null,"  - Enter the CAS number in the desired cell in Column Z, press \"enter\" and the information in the corresponding columns AA (EC Number), AB (IAEG ID), and AC (Name) will auto-populate for those substances on the AD-DSL. If a CAS number is entered that is not on the AD-DSL, then the EC Number, IAEG ID, and Name will not auto-populate. "]
[null,"  - Select the AD-DSL substance name in the Column AC (Name) combobox (dropdown list). Select the substance name and the CAS, EC, and IAEG ID will auto-populate."]
[null,"Note that some AD-DSL substances will not have a CAS (e.g., aluminosilicate refractory ceramic fibres), but these substances have an IAEG number."]
[null,"\"Substance Identification**\"  is conditional mandatory because not all rows and fields under this section may be populated ( e.g., a part is listed because it is part of an assembly, but it contains no AD-DSL substances). "]
[null,"\"Substance Mass**\" is conditional mandatory because the Minimum, Maximum, and Nominal values are not all required. See IPC 1754 for examples of mass data input. "]
[]
[null,"The instructions below are for fields in the order that they appear on the tab "]
["Product","BOM Level: the number associated with the bill of material (BOM) level"]
[null,"(A BOM is a list of material and product numbers, containing descriptions and quantities, which is used to manufacture a given product or assembly. BOM level identifies the level of the product or subproducts in the BOM structure where:"]
[null,"-       BOM level of product is 1;"]
[null,"-       BOM Level of direct subproducts of the product is 2;"]
[null,"-       BOM Level of subproducts of level 2 subproduct is 3; etc. "]
[null,"Refer to IPC 1754 for further explanation of the BOM levels.)(optional)"]
[null,"Supplier Product Number or Product Group ID*: product group ID (from Product Group tab) or supplier’s product number as bought/ordered (mandatory)"]
[null,"Supplier Product Description: supplier’s product description as bought/ordered (optional)"]
[null,"Supplier Product Revision: supplier’s product number revision as bought/ordered (optional)"]
[null,"Country of Manufacture: the country location of the supplier manufacturing plant for the product or subproduct  (Select the country in the dropdown menu.) (optional)"]
[null,"Manufacturing site: the physical location of the  supplier manufacturing plant for the product or subproduct (optional)"]
[null,"is Article (Yes/No): identifies if the product or subproduct is an article. It is a yes/no field with yes indicating that the product or subproduct is an article. (An article is defined as an object which during production is given a special shape, surface or design which determines its function to a greater degree than does its chemical composition. (Source: EU REACH 1907/2006 legislation, Article 3(3).)) (optional) "]
[null,"all Materials Declared (Yes/No): identifies if all materials have been declared for the product or subproduct. It is a yes/no field with yes indicating that all materials in the product or subproduct have been declared. (optional)"]
[null,"is Full Substance Declaration (Yes/No):  identifies if the declaration is a Full Substances Declaration (FSD). (Note that all \"substances\" may be declared without declaring all \"materials\".) This field is yes/no with yes indicating that the declaration is a FSD. (FSD is when 100% of the substances in a product are reported including the respective masses.) (optional)"]
[null,"# of Instances: number of instances (or quantity of) the product or subproduct that appears on the BOM (optional)"]
[null,"Unit Type: identifies the unit type for the product or subproduct for which the mass will be declared (A drop down menu has the values \"each, meter, m^2, m^3, cm, cm^2, cm^3, or liter; but other values may be entered. ) (optional)"]
[null,"Mass: mass (weight) of the product or subproduct (optional)"]
[null,"UoM: identifies unit of measure of the mass of the product or subproduct (A drop down menu allows selection of percentage (%), milligrams (mg), grams (g), or kilograms (kg).) (optional)"]
[null,"Mass Variation (+/-%): identifies the positive or negative variation in the product mass as a percentage of the mass value (optional)"]
["Material","Standard Material Number / Symbol: a designation for a material, generally an alloy or polymer (e.g., 1098 AISI302, UNS A96061, or Fluorocarbon (FKM) rubber, PA66-GF30 for Thermoplastic Glass Filled) (optional)"]
[null,"Material Name /Formulation Trade Name / Description: the supplier material name, formulation trade name or any description of the material (optional)"]
[null,"Manufacturer: manufacturer of the material (optional)"]
[null,"Material Use Description: material usage is described (The drop down menu has various uses, but other uses may be entered. The description for each material use in the dropdown menu is on the Use-Descriptor tab. If there are multiple uses, then multiple values may be provided separated by a semi-colon \";\".)  (optional)"]
[null,"Specification / Standard: the trade association, government, or similar organization standard or custom specification or standard number assigned to material(s) (optional)"]
[null,"Mass: mass (weight) of the material (optional)"]
[null,"UoM: unit of measure for the material mass (A drop down menu allows selection of percentage (%), milligrams (mg), grams (g), or kilograms (kg).) (optional)"]
[null,"is Article (Yes/No): identifies if the material is an article. (It is a yes/no field with yes indicating that the material is an article. (An article is defined as an object which during production is given a special shape, surface or design which determines its function to a greater degree than does its chemical composition. (Source: EU REACH 1907/2006 legislation, Article 3(3).)) (optional)"]
[null,"is Homogeneous Material (Yes/No): identifies if the material is a homogeneous material (This is a yes/no field with yes indicating that the material is homogeneous. A homogeneous material is one material of uniform composition throughout or a material consisting of a combination of materials, that cannot be disjointed or separated into different materials by mechanical actions such as unscrewing, cutting, crushing, grinding and abrasive processes. (Source: Directive 2011/65/EU, known as “RoHS2”)) (optional)"]
["Substance**","CAS**: the substance’s Chemical Abstracts Service (CAS) registry number (conditional mandatory)"]
[null,"EC**: the substance’s European Community (EC) number (conditional mandatory)"]
[null,"IAEG ID**: the IAEG number assigned to the substance on the AD-DSL (Refer to the Substance-List tab for IAEG numbers.) (conditional mandatory) "]
[null,"Name**: the chemical name of the substance (Substances on the AD-DSL are in the dropdown menu.) (conditional mandatory)"]
[null,"Synonym: typical synonym(s) for the chemical substance (optional)"]
[null,"Substance Use Description: the use of the substance is described (The dropdown menu (combo box) has various uses, but other uses may be entered in this cell. The description for each substance use in the dropdown menu is on the Use-Descriptor tab. If there are multiple uses, then multiple values may be provided separated by a semi-colon \";\".) (optional)"]
[null,"Minimum**: the substance mass minimum value (It may be used alone or with a maximum value when a minimum to maximum range is provided.) (conditional mandatory)"]
[null,"Maximum**: the substance mass maximum value (It may be used alone or with a minimum value when a minimum to maximum range is provided.) (conditional mandatory)"]
[null,"Nominal**: the substance mass value when a nominal (designated or theoretical mass that may vary from the actual) value is provided (conditional mandatory)"]
[null,"UoM**: field identifies the unit of measure for the substance mass (A drop down menu allows selection of percentage (%), ppm (parts per million), milligrams (mg), grams (g), kilograms (kg) or unknown; but other data may be entered.) (For calculating ppm, the conversion from mass percentage (%) to ppm is 0.10% = 1000 ppm.) (conditional mandatory)"]
[null,"AD-DSL groups (calculated on CAS): This field is only filled in for substances on the AD-DSL and auto-populates from the AD-DSL.  (optional)"]
[null,"Comment: provide applicable supplier comments for additional information as appropriate (optional)"]
[]
[null,"5. Substance-in-Process tab (optional)"]
[null,"In the Substance-in-Process tab enter substances that are used in product production or post production (e.g., product operation, maintenance, repair, overhaul/refurbishment or a combination thereof) processes. "]
[null,"Each substance on the AD-DSL has an assigned IAEG ID number. The order of preference for substance identification with 1 being most preferred are 1) CAS number, 2) EC number, 3) IAEG ID (for substances on the AD-DSL), and 4) substance name."]
[null,"The AD-DSL substances are on the \"Substance-List\" tab. In the Substance-in-Process tab, AD-DSL substances may be searched by two methods as follows:"]
[null,"  - Enter the CAS number in the desired cell in Column N, press \"enter\" on your keyboard, and the information in the corresponding columns O (EC Number), P (IAEG ID), and Q (Name) will auto-populate for those substances on the AD-DSL. If a CAS number is entered that is not on the AD-DSL, then the EC Number, IAEG ID, and Name will not auto-populate."]
[null,"  - Select the AD-DSL substance name in the Column Q (Name) combobox (dropdown list). Select the substance name and the CAS, EC, and IAEG ID will auto-populate."]
[null,"Note that some AD-DSL substances will not have a CAS (e.g., aluminosilicate refractory ceramic fibres), but these substances have an IAEG number."]
[]
[null,"The instructions below are for fields in the order that they appear on the tab "]
["Product","Supplier Product Number or Product Group ID*: product group ID (from Product Group tab) or supplier’s product number as bought/ordered (mandatory)"]
[null,"Supplier Product Name/Description: supplier’s product description as bought/ordered (optional)"]
[null,"Product Revision: supplier’s product number revision as bought/ordered (optional)"]
["Process","Process Name: the title of the production, operations, maintenance, repair or overhaul/refurbishment that uses the reported substance (optional)"]
[null,"Process Classification: sub-process, task or which kind of activity uses the reported substance (optional)"]
[null,"Process Stage*: select one of the following “Production”, \"Product Operation\"“Maintenance”, “Repair\", \"Overhaul/Refurbishment” or a combination thereof.  (If there are multiple stages, then each stage may be provided separated by a semi-colon \";\".)(mandatory)"]
["Material / Chemical Product","Standard Material Number / Symbol: a designation for a material, generally an alloy or polymer (e.g., 1098 AISI302, UNS A96061, or Fluorocarbon (FKM) rubber) (optional)"]
[null,"Material Name / Formulation / Trade Name / Description: the supplier material name, formulation trade name or any description of the material (optional)"]
[null,"Manufacturer: manufacturer of the material (optional)"]
[null,"Material Use Description: material usage is described (The drop down menu has various uses, but other uses may be entered. The description for each material use in the dropdown menu is on the Use-Descriptor tab.  If there are multiple uses, then multiple values may be provided separated by a semi-colon \";\".)  (optional)"]
[null,"Material Specification / Standard: the trade association, government, or similar organization standard or custom specification or standard number assigned to material(s) (optional)"]
["Substance","CAS**: the substance’s Chemical Abstracts Service (CAS) registry number (mandatory that at least either CAS, EC, IAEG ID or substance name is provided)"]
[null,"EC**: the substance’s European Community (EC) number (mandatory that at least either CAS, EC, IAEG ID or substance name is provided)"]
[null,"IAEG ID**: the IAEG number assigned to the substance on the AD-DSL (Refer to the Substance-List tab for IAEG numbers.) (mandatory that at least either CAS, EC, IAEG ID or substance name is provided)"]
[null,"Name**: the chemical name of the substance (Substances on the AD-DSL are in the dropdown menu.) (mandatory that at least either CAS, EC, IAEG ID or substance name is provided)"]
[null,"Synonym: typical synonym(s) for the chemical substance (optional)"]
[null,"Substance Use Description: the use of the substance is described (The dropdown menu (combo box) has various uses, but other uses may be entered in this cell. The description for each substance use in the dropdown menu is on the Use-Descriptor tab.) (optional)"]
[null,"AD-DSL groups (calculated on CAS): This field is only filled in for substances on the AD-DSL and auto-populates from the AD-DSL.  (optional)"]
[null,"Comment: provide applicable supplier comments for additional information as appropriate (optional)"]
[]
[null,"6. Attachment tab (optional)"]
[null,"One or several attachment(s) or attached files may be provided with the declaration."]
[null,"Click on the \"Attach File to Declaration\" button, then browse and select the file you want to upload.  Upload the file and the uploaded file will be displayed in the table in the Attachment tab."]
[]
[]
[null,"The instructions below are for fields in the order that they appear on the tab "]
[null,"Supplier Product Number or Product Group ID**: product group ID (from Product Group tab) or supplier’s product number as bought/ordered (conditional mandatory)"]
[null,"File Name: the name of the attached file (optional)"]
[null,"File Type: the type (e.g., PDF, Microsoft Word, etc.) of file attached (optional)"]
[null,"File or URL: the actual file or the applicable URL (optional)"]
[null,"File ZIP Location: This field is auto-populated with a zip file when the converter is used. The converter will generate a ZIP file that contains all the different files attached in the SRT. (optional)"]
[null,"Comment: provide applicable supplier comments for additional information as appropriate (optional)"]
[]
[null,"7. Supplier-Acceptance tab (mandatory)"]
[null,"If a method of signing the form has not been coordinated with the requestor, then submit signature as follows: \n-After filling in the fields on this form, print and sign the form. \n-Scan signed form and attach it to the declaration via tab 6."]
[]
[null,"The instructions below are for fields in the relative order that they appear on the tab "]
[null,"Supplier Authorizer Identical to Supplier Contact: if the supplier Authorizer contact information is the same as the supplier contact information, then the answer is yes; otherwise the answer is no (If the answer is yes, then the mandatory Supplier Contact fields will auto-populate from the Requester-Supplier tab.) (optional)"]
[null,"Authorizer Company Name*: the legal name of the Authorizer’s company (mandatory)"]
[null,"Authorizer Company ID Type: the authority that establishes the company identity (Select vendor code, DUNS code, or CAGE code from the drop down menu or enter another ID type) (optional)"]
[null,"Authorizer Company ID Number: the company number or assigned identity under the authority (optional)"]
[null,"Street: the street number, street name, and suite number (optional)"]
[null,"City: name of the city (optional)"]
[null,"State: the state, county, parish, or province (optional)"]
[null,"Country: name of the country (Select the country from the drop down menu.) (optional)"]
[null,"Zip Code: the postal zip code (optional)"]
[null,"Authorizer Name*: name of the person approving the declaration document (mandatory)"]
[null,"Authorizer Phone*: Authorizer’s phone number (mandatory)"]
[null,"Authorizer Email*: Authorizer’s email address (mandatory)"]
[null,"Authorizer Title: Authorizer’s job title (optional)"]
[null,"Authorizer Acceptance* of the Acceptance Statement: select \"yes\" if the Authorizer approves all the data submitted under the declaration and accepts the statement as it applies to all of the data (mandatory)"]
[null,"Authorizer Signature: sign either digitally or by hard copy to indicate acceptance of the legal statement as it applies to all of the data provided in the declaration. An XML file shall be signed with an XML signature conforming to the XML-Signature Syntax and Processing as defined in the W3C Recommendation (February 2002). (optional)"]
[null,"Authorizer Signed Date*: date the Authorizer signed or approved the declaration (mandatory)"]
[null,"Statement Type*: Select \"default\" if the provided approval statement in cell G19 - 22 will be used or select \"custom\" if a unique statement will be entered in approval statement box (cell G19 – 22). (mandatory) "]
[null,"Acceptance Statement*: either use the default statement or the authorizer can provide a meaningful statement (mandatory)"]
[]
[null,"Buttons"]
[null,"Run Data Check: Prior to submitting the declaration to the requestor, click on the \"Run Data Check\" button (approximately cell B28). Correct any errors. Once the button turns green, the data check is completed."]
[]
[null,"Printing"]
[null,"To print the entire workbook, go to File, Print, and change the first option in Print Settings to \"Print Entire Workbook\". If you only wish to print certain sections of the workbook, you can either select the data and choose the option \"Print Selected Area\", or you can adjust the Pages option to cover all relevant data."]
[]
[null,"End of instructions"]

{"sheet":"1.Requester-Supplier","index":2,"n_rows":250,"n_cols":26,"rows_kept":250,"cut":false,"hidden":false,"merged":[[6,6,7,6],[21,4,21,5],[14,4,14,5],[15,4,15,5],[16,4,16,5],[13,0,13,7],[18,6,19,6],[2,4,2,5],[4,4,4,5],[10,4,10,5],[7,4,7,5],[3,4,3,5],[9,4,9,5]]}
["Requester Contact",null,{"$f":"Overview!E3","v":"Version: 1.2.2"},null,null,null,null,"return to Overview",null,null,null,null,null,null,null,null,null,null,null,null,null,null,null,null,null,"CountryCode"]
[null,null,null,null,null,null,null,null,null,null,null,null,null,null,null,null,null,null,null,null,null,null,null,null,null,"AF - Afghanistan"]
[null,"Requester Company Name**",null,null,"Requester Contact Name**",null,null,null,null,null,null,null,null,null,null,null,null,null,null,null,null,null,null,null,null,"AX - Aland Islands"]
[null,"Requester Company ID Type",null,null,"Requester Contact Phone**",null,null,null,null,null,null,null,null,null,null,null,null,null,null,null,null,null,null,null,null,"AL - Albania"]
[null,"Requester Company ID Number","",null,"Requester Contact Email**",null,null,null,null,null,null,null,null,null,null,null,null,null,null,null,null,null,null,null,null,"DZ - Algeria"]
[null,"Requester Contact Address",null,null,null,"Requester Contact Title","",null,null,null,null,null,null,null,null,null,null,null,null,null,null,null,null,null,null,"AS - American Samoa"]
[null,"Street","",null,null,"Requester Contact Comment","",null,null,null,null,null,null,null,null,null,null,null,null,null,null,null,null,null,null,"AD - Andorra"]
[null,"City","",null,null,null,null,null,null,null,null,null,null,null,null,null,null,null,null,null,null,null,null,null,null,"AO - Angola"]
[null,"State","",null,null,"Request Document ID","",null,null,null,null,null,null,null,null,null,null,null,null,null,null,null,null,null,null,"AI - Anguilla"]
[null,"Country","",null,"Request Date**",null,null,null,null,null,null,null,null,null,null,null,null,null,null,null,null,null,null,null,null,"AQ - Antarctica"]
[null,"Zip Code","",null,"Request Respond by Date",null,null,null,null,null,null,null,null,null,null,null,null,null,null,null,null,null,null,null,null,"AG - Antigua and Barbuda"]
[null,null,null,null,null,null,null,null,null,null,null,null,null,null,null,null,null,null,null,null,null,null,null,null,null,"AR - Argentina"]
["Supplier Contact*",null,null,null,null,"Mode*","Request/Reply",null,null,null,null,null,null,null,null,null,null,null,null,null,null,null,null,null,null,"AM - Armenia"]
[null,null,null,null,null,null,null,null,null,null,null,null,null,null,null,null,null,null,null,null,null,null,null,null,null,"AW - Aruba"]
[null,"Supplier Company Name*",null,null,"Supplier Contact Name*",null,null,null,null,null,null,null,null,null,null,null,null,null,null,null,null,null,null,null,null,"AU - Australia"]
[null,"Supplier Company ID Type",null,null,"Supplier Contact Phone*",null,null,null,null,null,null,null,null,null,null,null,null,null,null,null,null,null,null,null,null,"AT - Austria"]
[null,"Supplier Company ID Number",null,null,"Supplier Contact Email*",null,null,null,null,null,null,null,null,null,null,null,null,null,null,null,null,null,null,null,null,"AZ - Azerbaijan"]
[null,"Supplier Company Address",null,null,null,"Supplier Contact Title",null,null,null,null,null,null,null,null,null,null,null,null,null,null,null,null,null,null,null,"BS - Bahamas"]
[null,"Street",null,null,null,"Supplier Comment, URL",null,null,null,null,null,null,null,null,null,null,null,null,null,null,null,null,null,null,null,"BH - Bahrain"]
[null,"City",null,null,null,"for additional information",null,null,null,null,null,null,null,null,null,null,null,null,null,null,null,null,null,null,null,"BD - Bangladesh"]
[null,"State",null,null,null,"Supplier Document ID",null,null,null,null,null,null,null,null,null,null,null,null,null,null,null,null,null,null,null,"BB - Barbados"]
[null,"Country",null,null,"Supplier Declaration Date*",null,null,null,null,null,null,null,null,null,null,null,null,null,null,null,null,null,null,null,null,"BY - Belarus"]
[null,"Zip Code",null,null,null,null,null,null,null,null,null,null,null,null,null,null,null,null,null,null,null,null,null,null,null,"BE - Belgium"]
[null,null,null,null,null,null,null,null,null,null,null,null,null,null,null,null,null,null,null,null,null,null,null,null,null,"BZ - Belize"]
["Aerospace and Defense Declarable Substances List [AD-DSL]",null,null,null,"Aerospace and Defense Query List [AD-QL]",null,null,null,null,null,null,null,null,null,null,null,null,null,null,null,null,null,null,null,null,"BJ - Benin"]
[null,null,null,null,null,null,null,null,null,null,null,null,null,null,null,null,null,null,null,null,null,null,null,null,null,"BM - Bermuda"]
["Version*",{"$f":"DSL!C2","v":6},null,null,"Version*","1.0",null,null,null,null,null,null,null,null,null,null,null,null,null,null,null,null,null,null,null,"BT - Bhutan"]
["Date",{"$f":"DSL!D2","v":"2022-02-17"},null,null,"Date","2018-03-02",null,null,null,null,null,null,null,null,null,null,null,null,null,null,null,null,null,null,null,"BO - Bolivia (Plurinational State of)"]
["Authority*","IAEG",null,null,"Authority*","IAEG",null,null,null,null,null,null,null,null,null,null,null,null,null,null,null,null,null,null,null,"BQ - Bonaire, Sint Eustatius and Saba"]
["Identity*","AD-DSL",null,null,"Identity*","ADQL-0318",null,null,null,null,null,null,null,null,null,null,null,null,null,null,null,null,null,null,null,"BA - Bosnia and Herzegovina"]
[null,null,null,null,null,null,null,null,null,null,null,null,null,null,null,null,null,null,null,null,null,null,null,null,null,"BW - Botswana"]
[null,null,null,null,null,null,null,null,null,null,null,null,null,null,null,null,null,null,null,null,null,null,null,null,null,"BV - Bouvet Island"]
[null,null,null,null,null,null,null,null,null,null,null,null,null,null,null,null,null,null,null,null,null,null,null,null,null,"BR - Brazil"]
[null,null,null,null,null,null,null,null,null,null,null,null,null,null,null,null,null,null,null,null,null,null,null,null,null,"IO - British Indian Ocean Territory"]
[null,null,null,null,null,null,null,null,null,null,null,null,null,null,null,null,null,null,null,null,null,null,null,null,null,"BN - Brunei Darussalam"]
[null,null,null,null,null,null,null,null,null,null,null,null,null,null,null,null,null,null,null,null,null,null,null,null,null,"BG - Bulgaria"]
[null,null,null,null,null,null,null,null,null,null,null,null,null,null,null,null,null,null,null,null,null,null,null,null,null,"BF - Burkina Faso"]
[null,null,null,null,null,null,null,null,null,null,null,null,null,null,null,null,null,null,null,null,null,null,null,null,null,"BI - Burundi"]
[null,null,null,null,null,null,null,null,null,null,null,null,null,null,null,null,null,null,null,null,null,null,null,null,null,"KH - Cambodia"]
[null,null,null,null,null,null,null,null,null,null,null,null,null,null,null,null,null,null,null,null,null,null,null,null,null,"CM - Cameroon"]
[null,null,null,null,null,null,null,null,null,null,null,null,null,null,null,null,null,null,null,null,null,null,null,null,null,"CA - Canada"]
[null,null,null,null,null,null,null,null,null,null,null,null,null,null,null,null,null,null,null,null,null,null,null,null,null,"CV - Cabo Verde"]
[null,null,null,null,null,null,null,null,null,null,null,null,null,null,null,null,null,null,null,null,null,null,null,null,null,"KY - Cayman Islands"]
[null,null,null,null,null,null,null,null,null,null,null,null,null,null,null,null,null,null,null,null,null,null,null,null,null,"CF - Central African Republic"]
[null,null,null,null,null,null,null,null,null,null,null,null,null,null,null,null,null,null,null,null,null,null,null,null,null,"TD - Chad"]
[null,null,null,null,null,null,null,null,null,null,null,null,null,null,null,null,null,null,null,null,null,null,null,null,null,"CL - Chile"]
[null,null,null,null,null,null,null,null,null,null,null,null,null,null,null,null,null,null,null,null,null,null,null,null,null,"CN - China"]
[null,null,null,null,null,null,null,null,null,null,null,null,null,null,null,null,null,null,null,null,null,null,null,null,null,"CX - Christmas Island"]
[null,null,null,null,null,null,null,null,null,null,null,null,null,null,null,null,null,null,null,null,null,null,null,null,null,"CC - Cocos (Keeling) Islands"]
[null,null,null,null,null,null,null,null,null,null,null,null,null,null,null,null,null,null,null,null,null,null,null,null,null,"CO - Colombia"]
[null,null,null,null,null,null,null,null,null,null,null,null,null,null,null,null,null,null,null,null,null,null,null,null,null,"KM - Comoros"]
[null,null,null,null,null,null,null,null,null,null,null,null,null,null,null,null,null,null,null,null,null,null,null,null,null,"CG - Congo"]
[null,null,null,null,null,null,null,null,null,null,null,null,null,null,null,null,null,null,null,null,null,null,null,null,null,"CD - Congo (Democratic Republic of the)"]
[null,null,null,null,null,null,null,null,null,null,null,null,null,null,null,null,null,null,null,null,null,null,null,null,null,"CK - Cook Islands"]
[null,null,null,null,null,null,null,null,null,null,null,null,null,null,null,null,null,null,null,null,null,null,null,null,null,"CR - Costa Rica"]
[null,null,null,null,null,null,null,null,null,null,null,null,null,null,null,null,null,null,null,null,null,null,null,null,null,"CI - Cote d'Ivoire"]
[null,null,null,null,null,null,null,null,null,null,null,null,null,null,null,null,null,null,null,null,null,null,null,null,null,"HR - Croatia"]
[null,null,null,null,null,null,null,null,null,null,null,null,null,null,null,null,null,null,null,null,null,null,null,null,null,"CU - Cuba"]
[null,null,null,null,null,null,null,null,null,null,null,null,null,null,null,null,null,null,null,null,null,null,null,null,null,"CW - Curacao !Curaçao"]
[null,null,null,null,null,null,null,null,null,null,null,null,null,null,null,null,null,null,null,null,null,null,null,null,null,"CY - Cyprus"]
[null,null,null,null,null,null,null,null,null,null,null,null,null,null,null,null,null,null,null,null,null,null,null,null,null,"CZ - Czech Republic"]
[null,null,null,null,null,null,null,null,null,null,null,null,null,null,null,null,null,null,null,null,null,null,null,null,null,"DK - Denmark"]
[null,null,null,null,null,null,null,null,null,null,null,null,null,null,null,null,null,null,null,null,null,null,null,null,null,"DJ - Djibouti"]
[null,null,null,null,null,null,null,null,null,null,null,null,null,null,null,null,null,null,null,null,null,null,null,null,null,"DM - Dominica"]
[null,null,null,null,null,null,null,null,null,null,null,null,null,null,null,null,null,null,null,null,null,null,null,null,null,"DO - Dominican Republic"]
[null,null,null,null,null,null,null,null,null,null,null,null,null,null,null,null,null,null,null,null,null,null,null,null,null,"EC - Ecuador"]
[null,null,null,null,null,null,null,null,null,null,null,null,null,null,null,null,null,null,null,null,null,null,null,null,null,"EG - Egypt"]
[null,null,null,null,null,null,null,null,null,null,null,null,null,null,null,null,null,null,null,null,null,null,null,null,null,"SV - El Salvador"]
[null,null,null,null,null,null,null,null,null,null,null,null,null,null,null,null,null,null,null,null,null,null,null,null,null,"GQ - Equatorial Guinea"]
[null,null,null,null,null,null,null,null,null,null,null,null,null,null,null,null,null,null,null,null,null,null,null,null,null,"ER - Eritrea"]
[null,null,null,null,null,null,null,null,null,null,null,null,null,null,null,null,null,null,null,null,null,null,null,null,null,"EE - Estonia"]
[null,null,null,null,null,null,null,null,null,null,null,null,null,null,null,null,null,null,null,null,null,null,null,null,null,"ET - Ethiopia"]
[null,null,null,null,null,null,null,null,null,null,null,null,null,null,null,null,null,null,null,null,null,null,null,null,null,"FK - Falkland Islands (Malvinas)"]
[null,null,null,null,null,null,null,null,null,null,null,null,null,null,null,null,null,null,null,null,null,null,null,null,null,"FO - Faroe Islands"]
[null,null,null,null,null,null,null,null,null,null,null,null,null,null,null,null,null,null,null,null,null,null,null,null,null,"FJ - Fiji"]
[null,null,null,null,null,null,null,null,null,null,null,null,null,null,null,null,null,null,null,null,null,null,null,null,null,"FI - Finland"]
[null,null,null,null,null,null,null,null,null,null,null,null,null,null,null,null,null,null,null,null,null,null,null,null,null,"FR - France"]
[null,null,null,null,null,null,null,null,null,null,null,null,null,null,null,null,null,null,null,null,null,null,null,null,null,"GF - French Guiana"]
[null,null,null,null,null,null,null,null,null,null,null,null,null,null,null,null,null,null,null,null,null,null,null,null,null,"PF - French Polynesia"]
[null,null,null,null,null,null,null,null,null,null,null,null,null,null,null,null,null,null,null,null,null,null,null,null,null,"TF - French Southern Territories"]
[null,null,null,null,null,null,null,null,null,null,null,null,null,null,null,null,null,null,null,null,null,null,null,null,null,"GA - Gabon"]
[null,null,null,null,null,null,null,null,null,null,null,null,null,null,null,null,null,null,null,null,null,null,null,null,null,"GM - Gambia"]
[null,null,null,null,null,null,null,null,null,null,null,null,null,null,null,null,null,null,null,null,null,null,null,null,null,"GE - Georgia"]
[null,null,null,null,null,null,null,null,null,null,null,null,null,null,null,null,null,null,null,null,null,null,null,null,null,"DE - Germany"]
[null,null,null,null,null,null,null,null,null,null,null,null,null,null,null,null,null,null,null,null,null,null,null,null,null,"GH - Ghana"]
[null,null,null,null,null,null,null,null,null,null,null,null,null,null,null,null,null,null,null,null,null,null,null,null,null,"GI - Gibraltar"]
[null,null,null,null,null,null,null,null,null,null,null,null,null,null,null,null,null,null,null,null,null,null,null,null,null,"GR - Greece"]
[null,null,null,null,null,null,null,null,null,null,null,null,null,null,null,null,null,null,null,null,null,null,null,null,null,"GL - Greenland"]
[null,null,null,null,null,null,null,null,null,null,null,null,null,null,null,null,null,null,null,null,null,null,null,null,null,"GD - Grenada"]
[null,null,null,null,null,null,null,null,null,null,null,null,null,null,null,null,null,null,null,null,null,null,null,null,null,"GP - Guadeloupe"]
[null,null,null,null,null,null,null,null,null,null,null,null,null,null,null,null,null,null,null,null,null,null,null,null,null,"GU - Guam"]
[null,null,null,null,null,null,null,null,null,null,null,null,null,null,null,null,null,null,null,null,null,null,null,null,null,"GT - Guatemala"]
[null,null,null,null,null,null,null,null,null,null,null,null,null,null,null,null,null,null,null,null,null,null,null,null,null,"GG - Guernsey"]
[null,null,null,null,null,null,null,null,null,null,null,null,null,null,null,null,null,null,null,null,null,null,null,null,null,"GN - Guinea"]
[null,null,null,null,null,null,null,null,null,null,null,null,null,null,null,null,null,null,null,null,null,null,null,null,null,"GW - Guinea-Bissau"]
[null,null,null,null,null,null,null,null,null,null,null,null,null,null,null,null,null,null,null,null,null,null,null,null,null,"GY - Guyana"]
[null,null,null,null,null,null,null,null,null,null,null,null,null,null,null,null,null,null,null,null,null,null,null,null,null,"HT - Haiti"]
[null,null,null,null,null,null,null,null,null,null,null,null,null,null,null,null,null,null,null,null,null,null,null,null,null,"HM - Heard Island and McDonald Islands"]
[null,null,null,null,null,null,null,null,null,null,null,null,null,null,null,null,null,null,null,null,null,null,null,null,null,"VA - Holy See"]
[null,null,null,null,null,null,null,null,null,null,null,null,null,null,null,null,null,null,null,null,null,null,null,null,null,"HN - Honduras"]
[null,null,null,null,null,null,null,null,null,null,null,null,null,null,null,null,null,null,null,null,null,null,null,null,null,"HK - Hong Kong"]
[null,null,null,null,null,null,null,null,null,null,null,null,null,null,null,null,null,null,null,null,null,null,null,null,null,"HU - Hungary"]
[null,null,null,null,null,null,null,null,null,null,null,null,null,null,null,null,null,null,null,null,null,null,null,null,null,"IS - Iceland"]
[null,null,null,null,null,null,null,null,null,null,null,null,null,null,null,null,null,null,null,null,null,null,null,null,null,"IN - India"]
[null,null,null,null,null,null,null,null,null,null,null,null,null,null,null,null,null,null,null,null,null,null,null,null,null,"ID - Indonesia"]
[null,null,null,null,null,null,null,null,null,null,null,null,null,null,null,null,null,null,null,null,null,null,null,null,null,"IR - Iran (Islamic Republic of)"]
[null,null,null,null,null,null,null,null,null,null,null,null,null,null,null,null,null,null,null,null,null,null,null,null,null,"IQ - Iraq"]
[null,null,null,null,null,null,null,null,null,null,null,null,null,null,null,null,null,null,null,null,null,null,null,null,null,"IE - Ireland"]
[null,null,null,null,null,null,null,null,null,null,null,null,null,null,null,null,null,null,null,null,null,null,null,null,null,"IM - Isle of Man"]
[null,null,null,null,null,null,null,null,null,null,null,null,null,null,null,null,null,null,null,null,null,null,null,null,null,"IL - Israel"]
[null,null,null,null,null,null,null,null,null,null,null,null,null,null,null,null,null,null,null,null,null,null,null,null,null,"IT - Italy"]
[null,null,null,null,null,null,null,null,null,null,null,null,null,null,null,null,null,null,null,null,null,null,null,null,null,"JM - Jamaica"]
[null,null,null,null,null,null,null,null,null,null,null,null,null,null,null,null,null,null,null,null,null,null,null,null,null,"JP - Japan"]
[null,null,null,null,null,null,null,null,null,null,null,null,null,null,null,null,null,null,null,null,null,null,null,null,null,"JE - Jersey"]
[null,null,null,null,null,null,null,null,null,null,null,null,null,null,null,null,null,null,null,null,null,null,null,null,null,"JO - Jordan"]
[null,null,null,null,null,null,null,null,null,null,null,null,null,null,null,null,null,null,null,null,null,null,null,null,null,"KZ - Kazakhstan"]
[null,null,null,null,null,null,null,null,null,null,null,null,null,null,null,null,null,null,null,null,null,null,null,null,null,"KE - Kenya"]
[null,null,null,null,null,null,null,null,null,null,null,null,null,null,null,null,null,null,null,null,null,null,null,null,null,"KI - Kiribati"]
[null,null,null,null,null,null,null,null,null,null,null,null,null,null,null,null,null,null,null,null,null,null,null,null,null,"KP - Korea (Democratic People's Republic of)"]
[null,null,null,null,null,null,null,null,null,null,null,null,null,null,null,null,null,null,null,null,null,null,null,null,null,"KR - Korea (Republic of)"]
[null,null,null,null,null,null,null,null,null,null,null,null,null,null,null,null,null,null,null,null,null,null,null,null,null,"KW - Kuwait"]
[null,null,null,null,null,null,null,null,null,null,null,null,null,null,null,null,null,null,null,null,null,null,null,null,null,"KG - Kyrgyzstan"]
[null,null,null,null,null,null,null,null,null,null,null,null,null,null,null,null,null,null,null,null,null,null,null,null,null,"LA - Lao People's Democratic Republic"]
[null,null,null,null,null,null,null,null,null,null,null,null,null,null,null,null,null,null,null,null,null,null,null,null,null,"LV - Latvia"]
[null,null,null,null,null,null,null,null,null,null,null,null,null,null,null,null,null,null,null,null,null,null,null,null,null,"LB - Lebanon"]
[null,null,null,null,null,null,null,null,null,null,null,null,null,null,null,null,null,null,null,null,null,null,null,null,null,"LS - Lesotho"]
[null,null,null,null,null,null,null,null,null,null,null,null,null,null,null,null,null,null,null,null,null,null,null,null,null,"LR - Liberia"]
[null,null,null,null,null,null,null,null,null,null,null,null,null,null,null,null,null,null,null,null,null,null,null,null,null,"LY - Libya"]
[null,null,null,null,null,null,null,null,null,null,null,null,null,null,null,null,null,null,null,null,null,null,null,null,null,"LI - Liechtenstein"]
[null,null,null,null,null,null,null,null,null,null,null,null,null,null,null,null,null,null,null,null,null,null,null,null,null,"LT - Lithuania"]
[null,null,null,null,null,null,null,null,null,null,null,null,null,null,null,null,null,null,null,null,null,null,null,null,null,"LU - Luxembourg"]
[null,null,null,null,null,null,null,null,null,null,null,null,null,null,null,null,null,null,null,null,null,null,null,null,null,"MO - Macao"]
[null,null,null,null,null,null,null,null,null,null,null,null,null,null,null,null,null,null,null,null,null,null,null,null,null,"MK - Macedonia (the former Yugoslav Republic of)"]
[null,null,null,null,null,null,null,null,null,null,null,null,null,null,null,null,null,null,null,null,null,null,null,null,null,"MG - Madagascar"]
[null,null,null,null,null,null,null,null,null,null,null,null,null,null,null,null,null,null,null,null,null,null,null,null,null,"MW - Malawi"]
[null,null,null,null,null,null,null,null,null,null,null,null,null,null,null,null,null,null,null,null,null,null,null,null,null,"MY - Malaysia"]
[null,null,null,null,null,null,null,null,null,null,null,null,null,null,null,null,null,null,null,null,null,null,null,null,null,"MV - Maldives"]
[null,null,null,null,null,null,null,null,null,null,null,null,null,null,null,null,null,null,null,null,null,null,null,null,null,"ML - Mali"]
[null,null,null,null,null,null,null,null,null,null,null,null,null,null,null,null,null,null,null,null,null,null,null,null,null,"MT - Malta"]
[null,null,null,null,null,null,null,null,null,null,null,null,null,null,null,null,null,null,null,null,null,null,null,null,null,"MH - Marshall Islands"]
[null,null,null,null,null,null,null,null,null,null,null,null,null,null,null,null,null,null,null,null,null,null,null,null,null,"MQ - Martinique"]
[null,null,null,null,null,null,null,null,null,null,null,null,null,null,null,null,null,null,null,null,null,null,null,null,null,"MR - Mauritania"]
[null,null,null,null,null,null,null,null,null,null,null,null,null,null,null,null,null,null,null,null,null,null,null,null,null,"MU - Mauritius"]
[null,null,null,null,null,null,null,null,null,null,null,null,null,null,null,null,null,null,null,null,null,null,null,null,null,"YT - Mayotte"]
[null,null,null,null,null,null,null,null,null,null,null,null,null,null,null,null,null,null,null,null,null,null,null,null,null,"MX - Mexico"]
[null,null,null,null,null,null,null,null,null,null,null,null,null,null,null,null,null,null,null,null,null,null,null,null,null,"FM - Micronesia (Federated States of)"]
[null,null,null,null,null,null,null,null,null,null,null,null,null,null,null,null,null,null,null,null,null,null,null,null,null,"MD - Moldova (Republic of)"]
[null,null,null,null,null,null,null,null,null,null,null,null,null,null,null,null,null,null,null,null,null,null,null,null,null,"MC - Monaco"]
[null,null,null,null,null,null,null,null,null,null,null,null,null,null,null,null,null,null,null,null,null,null,null,null,null,"MN - Mongolia"]
[null,null,null,null,null,null,null,null,null,null,null,null,null,null,null,null,null,null,null,null,null,null,null,null,null,"ME - Montenegro"]
[null,null,null,null,null,null,null,null,null,null,null,null,null,null,null,null,null,null,null,null,null,null,null,null,null,"MS - Montserrat"]
[null,null,null,null,null,null,null,null,null,null,null,null,null,null,null,null,null,null,null,null,null,null,null,null,null,"MA - Morocco"]
[null,null,null,null,null,null,null,null,null,null,null,null,null,null,null,null,null,null,null,null,null,null,null,null,null,"MZ - Mozambique"]
[null,null,null,null,null,null,null,null,null,null,null,null,null,null,null,null,null,null,null,null,null,null,null,null,null,"MM - Myanmar"]
[null,null,null,null,null,null,null,null,null,null,null,null,null,null,null,null,null,null,null,null,null,null,null,null,null,"NA - Namibia"]
[null,null,null,null,null,null,null,null,null,null,null,null,null,null,null,null,null,null,null,null,null,null,null,null,null,"NR - Nauru"]
[null,null,null,null,null,null,null,null,null,null,null,null,null,null,null,null,null,null,null,null,null,null,null,null,null,"NP - Nepal"]
[null,null,null,null,null,null,null,null,null,null,null,null,null,null,null,null,null,null,null,null,null,null,null,null,null,"NL - Netherlands"]
[null,null,null,null,null,null,null,null,null,null,null,null,null,null,null,null,null,null,null,null,null,null,null,null,null,"NC - New Caledonia"]
[null,null,null,null,null,null,null,null,null,null,null,null,null,null,null,null,null,null,null,null,null,null,null,null,null,"NZ - New Zealand"]
[null,null,null,null,null,null,null,null,null,null,null,null,null,null,null,null,null,null,null,null,null,null,null,null,null,"NI - Nicaragua"]
[null,null,null,null,null,null,null,null,null,null,null,null,null,null,null,null,null,null,null,null,null,null,null,null,null,"NE - Niger"]
[null,null,null,null,null,null,null,null,null,null,null,null,null,null,null,null,null,null,null,null,null,null,null,null,null,"NG - Nigeria"]
[null,null,null,null,null,null,null,null,null,null,null,null,null,null,null,null,null,null,null,null,null,null,null,null,null,"NU - Niue"]
[null,null,null,null,null,null,null,null,null,null,null,null,null,null,null,null,null,null,null,null,null,null,null,null,null,"NF - Norfolk Island"]
[null,null,null,null,null,null,null,null,null,null,null,null,null,null,null,null,null,null,null,null,null,null,null,null,null,"MP - Northern Mariana Islands"]
[null,null,null,null,null,null,null,null,null,null,null,null,null,null,null,null,null,null,null,null,null,null,null,null,null,"NO - Norway"]
[null,null,null,null,null,null,null,null,null,null,null,null,null,null,null,null,null,null,null,null,null,null,null,null,null,"OM - Oman"]
[null,null,null,null,null,null,null,null,null,null,null,null,null,null,null,null,null,null,null,null,null,null,null,null,null,"PK - Pakistan"]
[null,null,null,null,null,null,null,null,null,null,null,null,null,null,null,null,null,null,null,null,null,null,null,null,null,"PW - Palau"]
[null,null,null,null,null,null,null,null,null,null,null,null,null,null,null,null,null,null,null,null,null,null,null,null,null,"PS - Palestine, State of"]
[null,null,null,null,null,null,null,null,null,null,null,null,null,null,null,null,null,null,null,null,null,null,null,null,null,"PA - Panama"]
[null,null,null,null,null,null,null,null,null,null,null,null,null,null,null,null,null,null,null,null,null,null,null,null,null,"PG - Papua New Guinea"]
[null,null,null,null,null,null,null,null,null,null,null,null,null,null,null,null,null,null,null,null,null,null,null,null,null,"PY - Paraguay"]
[null,null,null,null,null,null,null,null,null,null,null,null,null,null,null,null,null,null,null,null,null,null,null,null,null,"PE - Peru"]
[null,null,null,null,null,null,null,null,null,null,null,null,null,null,null,null,null,null,null,null,null,null,null,null,null,"PH - Philippines"]
[null,null,null,null,null,null,null,null,null,null,null,null,null,null,null,null,null,null,null,null,null,null,null,null,null,"PN - Pitcairn"]
[null,null,null,null,null,null,null,null,null,null,null,null,null,null,null,null,null,null,null,null,null,null,null,null,null,"PL - Poland"]
[null,null,null,null,null,null,null,null,null,null,null,null,null,null,null,null,null,null,null,null,null,null,null,null,null,"PT - Portugal"]
[null,null,null,null,null,null,null,null,null,null,null,null,null,null,null,null,null,null,null,null,null,null,null,null,null,"PR - Puerto Rico"]
[null,null,null,null,null,null,null,null,null,null,null,null,null,null,null,null,null,null,null,null,null,null,null,null,null,"QA - Qatar"]
[null,null,null,null,null,null,null,null,null,null,null,null,null,null,null,null,null,null,null,null,null,null,null,null,null,"RE - Reunion"]
[null,null,null,null,null,null,null,null,null,null,null,null,null,null,null,null,null,null,null,null,null,null,null,null,null,"RO - Romania"]
[null,null,null,null,null,null,null,null,null,null,null,null,null,null,null,null,null,null,null,null,null,null,null,null,null,"RU - Russian Federation"]
[null,null,null,null,null,null,null,null,null,null,null,null,null,null,null,null,null,null,null,null,null,null,null,null,null,"RW - Rwanda"]
[null,null,null,null,null,null,null,null,null,null,null,null,null,null,null,null,null,null,null,null,null,null,null,null,null,"BL - Saint Barthelemy"]
[null,null,null,null,null,null,null,null,null,null,null,null,null,null,null,null,null,null,null,null,null,null,null,null,null,"SH - Saint Helena, Ascension and Tristan da Cunha"]
[null,null,null,null,null,null,null,null,null,null,null,null,null,null,null,null,null,null,null,null,null,null,null,null,null,"KN - Saint Kitts and Nevis"]
[null,null,null,null,null,null,null,null,null,null,null,null,null,null,null,null,null,null,null,null,null,null,null,null,null,"LC - Saint Lucia"]
[null,null,null,null,null,null,null,null,null,null,null,null,null,null,null,null,null,null,null,null,null,null,null,null,null,"MF - Saint Martin (French part)"]
[null,null,null,null,null,null,null,null,null,null,null,null,null,null,null,null,null,null,null,null,null,null,null,null,null,"PM - Saint Pierre and Miquelon"]
[null,null,null,null,null,null,null,null,null,null,null,null,null,null,null,null,null,null,null,null,null,null,null,null,null,"VC - Saint Vincent and the Grenadines"]
[null,null,null,null,null,null,null,null,null,null,null,null,null,null,null,null,null,null,null,null,null,null,null,null,null,"WS - Samoa"]
[null,null,null,null,null,null,null,null,null,null,null,null,null,null,null,null,null,null,null,null,null,null,null,null,null,"SM - San Marino"]
[null,null,null,null,null,null,null,null,null,null,null,null,null,null,null,null,null,null,null,null,null,null,null,null,null,"ST - Sao Tome and Principe"]
[null,null,null,null,null,null,null,null,null,null,null,null,null,null,null,null,null,null,null,null,null,null,null,null,null,"SA - Saudi Arabia"]
[null,null,null,null,null,null,null,null,null,null,null,null,null,null,null,null,null,null,null,null,null,null,null,null,null,"SN - Senegal"]
[null,null,null,null,null,null,null,null,null,null,null,null,null,null,null,null,null,null,null,null,null,null,null,null,null,"RS - Serbia"]
[null,null,null,null,null,null,null,null,null,null,null,null,null,null,null,null,null,null,null,null,null,null,null,null,null,"SC - Seychelles"]
[null,null,null,null,null,null,null,null,null,null,null,null,null,null,null,null,null,null,null,null,null,null,null,null,null,"SL - Sierra Leone"]
[null,null,null,null,null,null,null,null,null,null,null,null,null,null,null,null,null,null,null,null,null,null,null,null,null,"SG - Singapore"]
[null,null,null,null,null,null,null,null,null,null,null,null,null,null,null,null,null,null,null,null,null,null,null,null,null,"SX - Sint Maarten (Dutch part)"]
[null,null,null,null,null,null,null,null,null,null,null,null,null,null,null,null,null,null,null,null,null,null,null,null,null,"SK - Slovakia"]
[null,null,null,null,null,null,null,null,null,null,null,null,null,null,null,null,null,null,null,null,null,null,null,null,null,"SI - Slovenia"]
[null,null,null,null,null,null,null,null,null,null,null,null,null,null,null,null,null,null,null,null,null,null,null,null,null,"SB - Solomon Islands"]
[null,null,null,null,null,null,null,null,null,null,null,null,null,null,null,null,null,null,null,null,null,null,null,null,null,"SO - Somalia"]
[null,null,null,null,null,null,null,null,null,null,null,null,null,null,null,null,null,null,null,null,null,null,null,null,null,"ZA - South Africa"]
[null,null,null,null,null,null,null,null,null,null,null,null,null,null,null,null,null,null,null,null,null,null,null,null,null,"GS - South Georgia and the South Sandwich Islands"]
[null,null,null,null,null,null,null,null,null,null,null,null,null,null,null,null,null,null,null,null,null,null,null,null,null,"SS - South Sudan"]
[null,null,null,null,null,null,null,null,null,null,null,null,null,null,null,null,null,null,null,null,null,null,null,null,null,"ES - Spain"]
[null,null,null,null,null,null,null,null,null,null,null,null,null,null,null,null,null,null,null,null,null,null,null,null,null,"LK - Sri Lanka"]
[null,null,null,null,null,null,null,null,null,null,null,null,null,null,null,null,null,null,null,null,null,null,null,null,null,"SD - Sudan"]
[null,null,null,null,null,null,null,null,null,null,null,null,null,null,null,null,null,null,null,null,null,null,null,null,null,"SR - Suriname"]
[null,null,null,null,null,null,null,null,null,null,null,null,null,null,null,null,null,null,null,null,null,null,null,null,null,"SJ - Svalbard and Jan Mayen"]
[null,null,null,null,null,null,null,null,null,null,null,null,null,null,null,null,null,null,null,null,null,null,null,null,null,"SZ - Swaziland"]
[null,null,null,null,null,null,null,null,null,null,null,null,null,null,null,null,null,null,null,null,null,null,null,null,null,"SE - Sweden"]
[null,null,null,null,null,null,null,null,null,null,null,null,null,null,null,null,null,null,null,null,null,null,null,null,null,"CH - Switzerland"]
[null,null,null,null,null,null,null,null,null,null,null,null,null,null,null,null,null,null,null,null,null,null,null,null,null,"SY - Syrian Arab Republic"]
[null,null,null,null,null,null,null,null,null,null,null,null,null,null,null,null,null,null,null,null,null,null,null,null,null,"TW - Taiwan, Province of China"]
[null,null,null,null,null,null,null,null,null,null,null,null,null,null,null,null,null,null,null,null,null,null,null,null,null,"TJ - Tajikistan"]
[null,null,null,null,null,null,null,null,null,null,null,null,null,null,null,null,null,null,null,null,null,null,null,null,null,"TZ - Tanzania, United Republic of"]
[null,null,null,null,null,null,null,null,null,null,null,null,null,null,null,null,null,null,null,null,null,null,null,null,null,"TH - Thailand"]
[null,null,null,null,null,null,null,null,null,null,null,null,null,null,null,null,null,null,null,null,null,null,null,null,null,"TL - Timor-Leste"]
[null,null,null,null,null,null,null,null,null,null,null,null,null,null,null,null,null,null,null,null,null,null,null,null,null,"TG - Togo"]
[null,null,null,null,null,null,null,null,null,null,null,null,null,null,null,null,null,null,null,null,null,null,null,null,null,"TK - Tokelau"]
[null,null,null,null,null,null,null,null,null,null,null,null,null,null,null,null,null,null,null,null,null,null,null,null,null,"TO - Tonga"]
[null,null,null,null,null,null,null,null,null,null,null,null,null,null,null,null,null,null,null,null,null,null,null,null,null,"TT - Trinidad and Tobago"]
[null,null,null,null,null,null,null,null,null,null,null,null,null,null,null,null,null,null,null,null,null,null,null,null,null,"TN - Tunisia"]
[null,null,null,null,null,null,null,null,null,null,null,null,null,null,null,null,null,null,null,null,null,null,null,null,null,"TR - Turkey"]
[null,null,null,null,null,null,null,null,null,null,null,null,null,null,null,null,null,null,null,null,null,null,null,null,null,"TM - Turkmenistan"]
[null,null,null,null,null,null,null,null,null,null,null,null,null,null,null,null,null,null,null,null,null,null,null,null,null,"TC - Turks and Caicos Islands"]
[null,null,null,null,null,null,null,null,null,null,null,null,null,null,null,null,null,null,null,null,null,null,null,null,null,"TV - Tuvalu"]
[null,null,null,null,null,null,null,null,null,null,null,null,null,null,null,null,null,null,null,null,null,null,null,null,null,"UG - Uganda"]
[null,null,null,null,null,null,null,null,null,null,null,null,null,null,null,null,null,null,null,null,null,null,null,null,null,"UA - Ukraine"]
[null,null,null,null,null,null,null,null,null,null,null,null,null,null,null,null,null,null,null,null,null,null,null,null,null,"AE - United Arab Emirates"]
[null,null,null,null,null,null,null,null,null,null,null,null,null,null,null,null,null,null,null,null,null,null,null,null,null,"GB - United Kingdom of Great Britain and Northern Ireland"]
[null,null,null,null,null,null,null,null,null,null,null,null,null,null,null,null,null,null,null,null,null,null,null,null,null,"US - United States of America"]
[null,null,null,null,null,null,null,null,null,null,null,null,null,null,null,null,null,null,null,null,null,null,null,null,null,"UM - United States Minor Outlying Islands"]
[null,null,null,null,null,null,null,null,null,null,null,null,null,null,null,null,null,null,null,null,null,null,null,null,null,"UY - Uruguay"]
[null,null,null,null,null,null,null,null,null,null,null,null,null,null,null,null,null,null,null,null,null,null,null,null,null,"UZ - Uzbekistan"]
[null,null,null,null,null,null,null,null,null,null,null,null,null,null,null,null,null,null,null,null,null,null,null,null,null,"VU - Vanuatu"]
[null,null,null,null,null,null,null,null,null,null,null,null,null,null,null,null,null,null,null,null,null,null,null,null,null,"VE - Venezuela (Bolivarian Republic of)"]
[null,null,null,null,null,null,null,null,null,null,null,null,null,null,null,null,null,null,null,null,null,null,null,null,null,"VN - Viet Nam"]
[null,null,null,null,null,null,null,null,null,null,null,null,null,null,null,null,null,null,null,null,null,null,null,null,null,"VG - Virgin Islands (British)"]
[null,null,null,null,null,null,null,null,null,null,null,null,null,null,null,null,null,null,null,null,null,null,null,null,null,"VI - Virgin Islands (U.S.)"]
[null,null,null,null,null,null,null,null,null,null,null,null,null,null,null,null,null,null,null,null,null,null,null,null,null,"WF - Wallis and Futuna"]
[null,null,null,null,null,null,null,null,null,null,null,null,null,null,null,null,null,null,null,null,null,null,null,null,null,"EH - Western Sahara"]
[null,null,null,null,null,null,null,null,null,null,null,null,null,null,null,null,null,null,null,null,null,null,null,null,null,"YE - Yemen"]
[null,null,null,null,null,null,null,null,null,null,null,null,null,null,null,null,null,null,null,null,null,null,null,null,null,"ZM - Zambia"]
[null,null,null,null,null,null,null,null,null,null,null,null,null,null,null,null,null,null,null,null,null,null,null,null,null,"ZW - Zimbabwe"]

{"sheet":"2.Product-Group","index":3,"n_rows":2,"n_cols":13,"rows_kept":2,"cut":false,"hidden":false,"merged":[]}
["Product Group",null,null,"Product",null,null,null,null,null,null,null,null,"return to Overview"]
["Product Group ID*","Product Group Description","Unit Type","Supplier Product Number*","Supplier Product Description","Supplier Product Revision","Requester Product Number","Requester Product Description","Requester Product Revision","Product Manufacturing Location","Mass","UoM",{"$f":"Overview!E3","v":"Version: 1.2.2"}]

{"sheet":"3.Product-Statement","index":4,"n_rows":3,"n_cols":15,"rows_kept":3,"cut":false,"hidden":false,"merged":[[1,8,1,11],[0,6,2,7]]}
["Product Identification*",null,null,null,null,"return to Overview","Columns not used, to hide",null,"Product Statement*",null,{"$f":"Overview!E3","v":"Version: 1.2.2"},null,"return to Overview"]
["Requester ",null,null,"Supplier",null,null,null,null,"For each Query Statement, provide Answer \"Yes\", \"No\" or \"Unknown\""]
["Requester Product Number**","Requester Product Description","Requester  Product Revision","Supplier Product Number\nor Products Group ID**","Supplier Product Description","Supplier Product Revision",null,null,"Q1. Product contains substance(s) on the AD-DSL","Q2. Product process(es) requires the use of substance(s) on the AD-DSL","Q3. Product contains radioactive material(s)","Q4. Product contains biocide(s)","Q5. Product contains conflict mineral(s)","Add comment","Comment"]

{"sheet":"4.Substance-in-Product","index":5,"n_rows":938,"n_cols":37,"rows_kept":938,"cut":false,"hidden":false,"merged":[[1,0,2,0],[0,16,0,24],[1,24,2,24],[1,23,2,23],[1,7,2,7],[1,1,2,1],[1,2,2,2],[1,5,2,5],[1,11,1,14],[1,3,2,3],[1,4,2,4],[1,10,2,10],[0,15,2,15],[0,12,0,13],[1,8,2,8],[1,9,2,9],[1,16,2,16],[1,29,2,29],[1,30,2,30],[1,21,2,21],[1,22,2,22],[1,20,2,20],[1,17,2,17],[1,19,2,19],[0,35,2,35],[1,31,1,34],[1,18,2,18],[1,25,1,28],[0,33,0,34]]}
["Product",null,null,{"$f":"Overview!E3","v":"Version: 1.2.2"},null,null,null,null,null,null,null,null,null,null,null,"add Material Info","Material",null,null,null,null,null,null,null,null,"Substance",null,{"$f":"Overview!E3","v":"Version: 1.2.2"},null,null,null,"AD-DSL","AD-UDL","return to Overview",null,"IAEG Regulatory Criteria\n(based on CAS Number)"]
["add BOM level","BOM Level","Supplier Product Number or Product Group ID*","Supplier Product Description","Supplier Product Revision","Country of manufacture",null,"is Article\n(Yes/No)","all Materials Declared (Yes/No)","is Full Substance Declaration\n(Yes/No)","# of Instances","Mass",null,null,null,null,"Standard Material Number / Symbol","Material Name /  Formulation Trade Name / Description","Manufacturer","Material Use Description","Specification / Standard","Mass","UoM","is Article\n(Yes/No)","is Homogeneous Material (Yes/No)","Substance Identification**",null,null,null,"Synonym","Substance Use Description","Substance Mass**"]
[null,null,null,null,null,null,"Manufacturing site",null,"all Materials Reported (Yes/No)","is FSD\n(Yes/No)",null,"Unit Type","Mass","UoM","Mass Variation\n(+/- %)",null,null,null,null,null,null,null,null,null,null,"CAS","EC","IAEG ID","Name",null,null,"Minimum","Maximum","Nominal","UoM",null,"Comment"]
[null,null,null,null,null,null,null,null,null,null,null,null,null,null,null,null,null,null,null,null,null,null,null,null,null,null,"","","","",null,null,null,null,null,{"$f":"IFERROR(VLOOKUP('4.Substance-in-Product'!Z4,DSL!A:H,6,FALSE),\"-\")","v":"-"}]
[null,"","","","","","","","","",null,null,null,null,null,null,"","",null,null,null,null,null,null,null,null,"","","","","","","","","",{"$f":"IFERROR(VLOOKUP('4.Substance-in-Product'!Z5,DSL!A:H,6,FALSE),\"-\")","v":"-"}]
[null,"","","","","","","","","",null,null,null,null,null,null,"","",null,null,null,null,null,null,"",null,"","","","","","","","","",{"$f":"IFERROR(VLOOKUP('4.Substance-in-Product'!Z6,DSL!A:H,6,FALSE),\"-\")","v":"-"}]
[null,"","","","","","","","","",null,null,null,null,null,null,"","",null,null,null,null,null,null,null,null,"","","","","","","","","",{"$f":"IFERROR(VLOOKUP('4.Substance-in-Product'!Z7,DSL!A:H,6,FALSE),\"-\")","v":"-"}]
[null,"","","","","","","","","",null,null,null,null,null,null,"","",null,null,null,null,null,null,null,null,"","","","","","","","","",{"$f":"IFERROR(VLOOKUP('4.Substance-in-Product'!Z8,DSL!A:H,6,FALSE),\"-\")","v":"-"}]
[null,"","","","","","","","","",null,null,null,null,null,null,"","",null,null,null,null,null,null,null,"","","","","","","","","","",{"$f":"IFERROR(VLOOKUP('4.Substance-in-Product'!Z9,DSL!A:H,6,FALSE),\"-\")","v":"-"}]
[null,"","","","","","","","","",null,null,null,null,null,null,"","",null,null,null,null,null,null,null,null,"","","","","","","","","",{"$f":"IFERROR(VLOOKUP('4.Substance-in-Product'!Z10,DSL!A:H,6,FALSE),\"-\")","v":"-"}]
[null,null,null,null,null,null,null,null,null,null,null,null,null,null,null,null,null,null,null,null,null,null,null,null,"",null,"","","","",null,null,null,null,null,{"$f":"IFERROR(VLOOKUP('4.Substance-in-Product'!Z11,DSL!A:H,6,FALSE),\"-\")","v":"-"}]
[null,null,null,null,null,null,null,null,null,null,null,null,null,null,null,null,null,null,null,null,null,null,null,null,"","","","","",null,null,null,null,null,null,{"$f":"IFERROR(VLOOKUP('4.Substance-in-Product'!Z12,DSL!A:H,6,FALSE),\"-\")","v":"-"}]
[null,null,null,null,null,null,null,null,null,null,null,null,null,null,null,null,null,null,null,null,null,null,null,null,null,"","",null,null,"",null,null,null,null,null,{"$f":"IFERROR(VLOOKUP('4.Substance-in-Product'!Z13,DSL!A:H,6,FALSE),\"-\")","v":"-"}]
[null,null,null,null,null,null,null,null,null,null,null,null,null,null,null,null,null,null,null,null,null,null,null,null,null,"",null,null,"","",null,null,null,null,null,{"$f":"IFERROR(VLOOKUP('4.Substance-in-Product'!Z14,DSL!A:H,6,FALSE),\"-\")","v":"-"}]
[null,null,null,null,null,null,null,null,null,null,null,null,null,null,null,null,null,null,null,null,null,null,null,null,null,"",null,null,"","",null,null,null,null,null,{"$f":"IFERROR(VLOOKUP('4.Substance-in-Product'!Z15,DSL!A:H,6,FALSE),\"-\")","v":"-"}]
[null,null,null,null,null,null,null,null,null,null,null,null,null,null,null,null,null,null,null,null,null,null,null,null,null,"",null,null,null,"",null,null,null,null,null,{"$f":"IFERROR(VLOOKUP('4.Substance-in-Product'!Z16,DSL!A:H,6,FALSE),\"-\")","v":"-"}]
[null,null,null,null,null,null,null,null,null,null,null,null,null,null,null,null,null,null,null,null,null,null,null,null,null,"",null,null,"",null,null,null,null,null,null,{"$f":"IFERROR(VLOOKUP('4.Substance-in-Product'!Z17,DSL!A:H,6,FALSE),\"-\")","v":"-"}]
[null,null,null,null,null,null,null,null,null,null,null,null,null,null,null,null,null,null,null,null,null,null,null,null,null,"",null,null,"",null,null,null,null,null,null,{"$f":"IFERROR(VLOOKUP('4.Substance-in-Product'!Z18,DSL!A:H,6,FALSE),\"-\")","v":"-"}]
[null,null,null,null,null,null,null,null,null,null,null,null,null,null,null,null,null,null,null,null,null,null,null,null,null,"","","","","",null,null,null,null,null,{"$f":"IFERROR(VLOOKUP('4.Substance-in-Product'!Z19,DSL!A:H,6,FALSE),\"-\")","v":"-"}]
[null,null,null,null,null,null,null,null,null,null,null,null,null,null,null,null,null,null,null,null,null,null,null,null,null,"",null,null,"",null,null,null,null,null,null,{"$f":"IFERROR(VLOOKUP('4.Substance-in-Product'!Z20,DSL!A:H,6,FALSE),\"-\")","v":"-"}]
[null,null,null,null,null,null,null,null,null,null,null,null,null,null,null,null,null,null,null,null,null,null,null,null,null,"",null,null,"",null,null,null,null,null,null,{"$f":"IFERROR(VLOOKUP('4.Substance-in-Product'!Z21,DSL!A:H,6,FALSE),\"-\")","v":"-"}]
[null,null,null,null,null,null,null,null,null,null,null,null,null,null,null,null,null,null,null,null,null,null,null,null,null,"",null,null,"",null,null,null,null,null,null,{"$f":"IFERROR(VLOOKUP('4.Substance-in-Product'!Z22,DSL!A:H,6,FALSE),\"-\")","v":"-"}]
[null,null,null,null,null,null,null,null,null,null,null,null,null,null,null,null,null,null,null,null,null,null,null,null,null,"",null,null,"",null,null,null,null,null,null,{"$f":"IFERROR(VLOOKUP('4.Substance-in-Product'!Z23,DSL!A:H,6,FALSE),\"-\")","v":"-"}]
[null,null,null,null,null,null,null,null,null,null,null,null,null,null,null,null,null,null,null,null,null,null,null,null,null,"",null,null,"",null,null,null,null,null,null,{"$f":"IFERROR(VLOOKUP('4.Substance-in-Product'!Z24,DSL!A:H,6,FALSE),\"-\")","v":"-"}]
[null,null,null,null,null,null,null,null,null,null,null,null,null,null,null,null,null,null,null,null,null,null,null,null,null,"",null,null,"",null,null,null,null,null,null,{"$f":"IFERROR(VLOOKUP('4.Substance-in-Product'!Z25,DSL!A:H,6,FALSE),\"-\")","v":"-"}]
[null,null,null,null,null,null,null,null,null,null,null,null,null,null,null,null,null,null,null,null,null,null,null,null,null,"",null,null,"",null,null,null,null,null,null,{"$f":"IFERROR(VLOOKUP('4.Substance-in-Product'!Z26,DSL!A:H,6,FALSE),\"-\")","v":"-"}]
[null,null,null,null,null,null,null,null,null,null,null,null,null,null,null,null,null,null,null,null,null,null,null,null,null,"",null,null,"",null,null,null,null,null,null,{"$f":"IFERROR(VLOOKUP('4.Substance-in-Product'!Z27,DSL!A:H,6,FALSE),\"-\")","v":"-"}]
[null,null,null,null,null,null,null,null,null,null,null,null,null,null,null,null,null,null,null,null,null,null,null,null,null,"",null,null,"",null,null,null,null,null,null,{"$f":"IFERROR(VLOOKUP('4.Substance-in-Product'!Z28,DSL!A:H,6,FALSE),\"-\")","v":"-"}]
[null,null,null,null,null,null,null,null,null,null,null,null,null,null,null,null,null,null,null,null,null,null,null,null,null,"",null,null,"",null,null,null,null,null,null,{"$f":"IFERROR(VLOOKUP('4.Substance-in-Product'!Z29,DSL!A:H,6,FALSE),\"-\")","v":"-"}]
[null,null,null,null,null,null,null,null,null,null,null,null,null,null,null,null,null,null,null,null,null,null,null,null,null,"",null,null,"",null,null,null,null,null,null,{"$f":"IFERROR(VLOOKUP('4.Substance-in-Product'!Z30,DSL!A:H,6,FALSE),\"-\")","v":"-"}]
[null,null,null,null,null,null,null,null,null,null,null,null,null,null,null,null,null,null,null,null,null,null,null,null,null,"",null,null,"",null,null,null,null,null,null,{"$f":"IFERROR(VLOOKUP('4.Substance-in-Product'!Z31,DSL!A:H,6,FALSE),\"-\")","v":"-"}]
[null,null,null,null,null,null,null,null,null,null,null,null,null,null,null,null,null,null,null,null,null,null,null,null,null,"",null,null,"",null,null,null,null,null,null,{"$f":"IFERROR(VLOOKUP('4.Substance-in-Product'!Z32,DSL!A:H,6,FALSE),\"-\")","v":"-"}]
[null,null,null,null,null,null,null,null,null,null,null,null,null,null,null,null,null,null,null,null,null,null,null,null,null,"",null,null,"",null,null,null,null,null,null,{"$f":"IFERROR(VLOOKUP('4.Substance-in-Product'!Z33,DSL!A:H,6,FALSE),\"-\")","v":"-"}]
[null,null,null,null,null,null,null,null,null,null,null,null,null,null,null,null,null,null,null,null,null,null,null,null,null,"",null,null,"",null,null,null,null,null,null,{"$f":"IFERROR(VLOOKUP('4.Substance-in-Product'!Z34,DSL!A:H,6,FALSE),\"-\")","v":"-"}]
[null,null,null,null,null,null,null,null,null,null,null,null,null,null,null,null,null,null,null,null,null,null,null,null,null,"",null,null,"",null,null,null,null,null,null,{"$f":"IFERROR(VLOOKUP('4.Substance-in-Product'!Z35,DSL!A:H,6,FALSE),\"-\")","v":"-"}]
[null,null,null,null,null,null,null,null,null,null,null,null,null,null,null,null,null,null,null,null,null,null,null,null,null,"",null,null,"",null,null,null,null,null,null,{"$f":"IFERROR(VLOOKUP('4.Substance-in-Product'!Z36,DSL!A:H,6,FALSE),\"-\")","v":"-"}]
[null,null,null,null,null,null,null,null,null,null,null,null,null,null,null,null,null,null,null,null,null,null,null,null,null,"",null,null,"",null,null,null,null,null,null,{"$f":"IFERROR(VLOOKUP('4.Substance-in-Product'!Z37,DSL!A:H,6,FALSE),\"-\")","v":"-"}]
[null,null,null,null,null,null,null,null,null,null,null,null,null,null,null,null,null,null,null,null,null,null,null,null,null,"",null,null,"",null,null,null,null,null,null,{"$f":"IFERROR(VLOOKUP('4.Substance-in-Product'!Z38,DSL!A:H,6,FALSE),\"-\")","v":"-"}]
[null,null,null,null,null,null,null,null,null,null,null,null,null,null,null,null,null,null,null,null,null,null,null,null,null,"",null,null,"",null,null,null,null,null,null,{"$f":"IFERROR(VLOOKUP('4.Substance-in-Product'!Z39,DSL!A:H,6,FALSE),\"-\")","v":"-"}]
[null,null,null,null,null,null,null,null,null,null,null,null,null,null,null,null,null,null,null,null,null,null,null,null,null,"",null,null,"",null,null,null,null,null,null,{"$f":"IFERROR(VLOOKUP('4.Substance-in-Product'!Z40,DSL!A:H,6,FALSE),\"-\")","v":"-"}]
[null,null,null,null,null,null,null,null,null,null,null,null,null,null,null,null,null,null,null,null,null,null,null,null,null,"",null,null,"",null,null,null,null,null,null,{"$f":"IFERROR(VLOOKUP('4.Substance-in-Product'!Z41,DSL!A:H,6,FALSE),\"-\")","v":"-"}]
[null,null,null,null,null,null,null,null,null,null,null,null,null,null,null,null,null,null,null,null,null,null,null,null,null,"",null,null,"",null,null,null,null,null,null,{"$f":"IFERROR(VLOOKUP('4.Substance-in-Product'!Z42,DSL!A:H,6,FALSE),\"-\")","v":"-"}]
[null,null,null,null,null,null,null,null,null,null,null,null,null,null,null,null,null,null,null,null,null,null,null,null,null,"",null,null,"",null,null,null,null,null,null,{"$f":"IFERROR(VLOOKUP('4.Substance-in-Product'!Z43,DSL!A:H,6,FALSE),\"-\")","v":"-"}]
[null,null,null,null,null,null,null,null,null,null,null,null,null,null,null,null,null,null,null,null,null,null,null,null,null,"",null,null,"",null,null,null,null,null,null,{"$f":"IFERROR(VLOOKUP('4.Substance-in-Product'!Z44,DSL!A:H,6,FALSE),\"-\")","v":"-"}]
[null,null,null,null,null,null,null,null,null,null,null,null,null,null,null,null,null,null,null,null,null,null,null,null,null,"",null,null,"",null,null,null,null,null,null,{"$f":"IFERROR(VLOOKUP('4.Substance-in-Product'!Z45,DSL!A:H,6,FALSE),\"-\")","v":"-"}]
[null,null,null,null,null,null,null,null,null,null,null,null,null,null,null,null,null,null,null,null,null,null,null,null,null,"",null,null,"",null,null,null,null,null,null,{"$f":"IFERROR(VLOOKUP('4.Substance-in-Product'!Z46,DSL!A:H,6,FALSE),\"-\")","v":"-"}]
[null,null,null,null,null,null,null,null,null,null,null,null,null,null,null,null,null,null,null,null,null,null,null,null,null,"",null,null,"",null,null,null,null,null,null,{"$f":"IFERROR(VLOOKUP('4.Substance-in-Product'!Z47,DSL!A:H,6,FALSE),\"-\")","v":"-"}]
[null,null,null,null,null,null,null,null,null,null,null,null,null,null,null,null,null,null,null,null,null,null,null,null,null,"",null,null,"",null,null,null,null,null,null,{"$f":"IFERROR(VLOOKUP('4.Substance-in-Product'!Z48,DSL!A:H,6,FALSE),\"-\")","v":"-"}]
[null,null,null,null,null,null,null,null,null,null,null,null,null,null,null,null,null,null,null,null,null,null,null,null,null,"",null,null,"",null,null,null,null,null,null,{"$f":"IFERROR(VLOOKUP('4.Substance-in-Product'!Z49,DSL!A:H,6,FALSE),\"-\")","v":"-"}]
[null,null,null,null,null,null,null,null,null,null,null,null,null,null,null,null,null,null,null,null,null,null,null,null,null,"",null,null,"",null,null,null,null,null,null,{"$f":"IFERROR(VLOOKUP('4.Substance-in-Product'!Z50,DSL!A:H,6,FALSE),\"-\")","v":"-"}]
[null,null,null,null,null,null,null,null,null,null,null,null,null,null,null,null,null,null,null,null,null,null,null,null,null,"",null,null,"",null,null,null,null,null,null,{"$f":"IFERROR(VLOOKUP('4.Substance-in-Product'!Z51,DSL!A:H,6,FALSE),\"-\")","v":"-"}]
[null,null,null,null,null,null,null,null,null,null,null,null,null,null,null,null,null,null,null,null,null,null,null,null,null,"",null,null,"",null,null,null,null,null,null,{"$f":"IFERROR(VLOOKUP('4.Substance-in-Product'!Z52,DSL!A:H,6,FALSE),\"-\")","v":"-"}]
[null,null,null,null,null,null,null,null,null,null,null,null,null,null,null,null,null,null,null,null,null,null,null,null,null,"",null,null,"",null,null,null,null,null,null,{"$f":"IFERROR(VLOOKUP('4.Substance-in-Product'!Z53,DSL!A:H,6,FALSE),\"-\")","v":"-"}]
[null,null,null,null,null,null,null,null,null,null,null,null,null,null,null,null,null,null,null,null,null,null,null,null,null,"",null,null,"",null,null,null,null,null,null,{"$f":"IFERROR(VLOOKUP('4.Substance-in-Product'!Z54,DSL!A:H,6,FALSE),\"-\")","v":"-"}]
[null,null,null,null,null,null,null,null,null,null,null,null,null,null,null,null,null,null,null,null,null,null,null,null,null,"",null,null,"",null,null,null,null,null,null,{"$f":"IFERROR(VLOOKUP('4.Substance-in-Product'!Z55,DSL!A:H,6,FALSE),\"-\")","v":"-"}]
[null,null,null,null,null,null,null,null,null,null,null,null,null,null,null,null,null,null,null,null,null,null,null,null,null,"",null,null,"",null,null,null,null,null,null,{"$f":"IFERROR(VLOOKUP('4.Substance-in-Product'!Z56,DSL!A:H,6,FALSE),\"-\")","v":"-"}]
[null,null,null,null,null,null,null,null,null,null,null,null,null,null,null,null,null,null,null,null,null,null,null,null,null,"",null,null,"",null,null,null,null,null,null,{"$f":"IFERROR(VLOOKUP('4.Substance-in-Product'!Z57,DSL!A:H,6,FALSE),\"-\")","v":"-"}]
[null,null,null,null,null,null,null,null,null,null,null,null,null,null,null,null,null,null,null,null,null,null,null,null,null,"",null,null,"",null,null,null,null,null,null,{"$f":"IFERROR(VLOOKUP('4.Substance-in-Product'!Z58,DSL!A:H,6,FALSE),\"-\")","v":"-"}]
[null,null,null,null,null,null,null,null,null,null,null,null,null,null,null,null,null,null,null,null,null,null,null,null,null,"",null,null,"",null,null,null,null,null,null,{"$f":"IFERROR(VLOOKUP('4.Substance-in-Product'!Z59,DSL!A:H,6,FALSE),\"-\")","v":"-"}]
[null,null,null,null,null,null,null,null,null,null,null,null,null,null,null,null,null,null,null,null,null,null,null,null,null,"",null,null,"",null,null,null,null,null,null,{"$f":"IFERROR(VLOOKUP('4.Substance-in-Product'!Z60,DSL!A:H,6,FALSE),\"-\")","v":"-"}]
[null,null,null,null,null,null,null,null,null,null,null,null,null,null,null,null,null,null,null,null,null,null,null,null,null,"",null,null,"",null,null,null,null,null,null,{"$f":"IFERROR(VLOOKUP('4.Substance-in-Product'!Z61,DSL!A:H,6,FALSE),\"-\")","v":"-"}]
[null,null,null,null,null,null,null,null,null,null,null,null,null,null,null,null,null,null,null,null,null,null,null,null,null,"",null,null,"",null,null,null,null,null,null,{"$f":"IFERROR(VLOOKUP('4.Substance-in-Product'!Z62,DSL!A:H,6,FALSE),\"-\")","v":"-"}]
[null,null,null,null,null,null,null,null,null,null,null,null,null,null,null,null,null,null,null,null,null,null,null,null,null,"",null,null,"",null,null,null,null,null,null,{"$f":"IFERROR(VLOOKUP('4.Substance-in-Product'!Z63,DSL!A:H,6,FALSE),\"-\")","v":"-"}]
[null,null,null,null,null,null,null,null,null,null,null,null,null,null,null,null,null,null,null,null,null,null,null,null,null,"",null,null,"",null,null,null,null,null,null,{"$f":"IFERROR(VLOOKUP('4.Substance-in-Product'!Z64,DSL!A:H,6,FALSE),\"-\")","v":"-"}]
[null,null,null,null,null,null,null,null,null,null,null,null,null,null,null,null,null,null,null,null,null,null,null,null,null,"",null,null,"",null,null,null,null,null,null,{"$f":"IFERROR(VLOOKUP('4.Substance-in-Product'!Z65,DSL!A:H,6,FALSE),\"-\")","v":"-"}]
[null,null,null,null,null,null,null,null,null,null,null,null,null,null,null,null,null,null,null,null,null,null,null,null,null,"",null,null,"",null,null,null,null,null,null,{"$f":"IFERROR(VLOOKUP('4.Substance-in-Product'!Z66,DSL!A:H,6,FALSE),\"-\")","v":"-"}]
[null,null,null,null,null,null,null,null,null,null,null,null,null,null,null,null,null,null,null,null,null,null,null,null,null,"",null,null,"",null,null,null,null,null,null,{"$f":"IFERROR(VLOOKUP('4.Substance-in-Product'!Z67,DSL!A:H,6,FALSE),\"-\")","v":"-"}]
[null,null,null,null,null,null,null,null,null,null,null,null,null,null,null,null,null,null,null,null,null,null,null,null,null,"",null,null,"",null,null,null,null,null,null,{"$f":"IFERROR(VLOOKUP('4.Substance-in-Product'!Z68,DSL!A:H,6,FALSE),\"-\")","v":"-"}]
[null,null,null,null,null,null,null,null,null,null,null,null,null,null,null,null,null,null,null,null,null,null,null,null,null,"",null,null,"",null,null,null,null,null,null,{"$f":"IFERROR(VLOOKUP('4.Substance-in-Product'!Z69,DSL!A:H,6,FALSE),\"-\")","v":"-"}]
[null,null,null,null,null,null,null,null,null,null,null,null,null,null,null,null,null,null,null,null,null,null,null,null,null,"",null,null,"",null,null,null,null,null,null,{"$f":"IFERROR(VLOOKUP('4.Substance-in-Product'!Z70,DSL!A:H,6,FALSE),\"-\")","v":"-"}]
[null,null,null,null,null,null,null,null,null,null,null,null,null,null,null,null,null,null,null,null,null,null,null,null,null,"",null,null,"",null,null,null,null,null,null,{"$f":"IFERROR(VLOOKUP('4.Substance-in-Product'!Z71,DSL!A:H,6,FALSE),\"-\")","v":"-"}]
[null,null,null,null,null,null,null,null,null,null,null,null,null,null,null,null,null,null,null,null,null,null,null,null,null,"",null,null,"",null,null,null,null,null,null,{"$f":"IFERROR(VLOOKUP('4.Substance-in-Product'!Z72,DSL!A:H,6,FALSE),\"-\")","v":"-"}]
[null,null,null,null,null,null,null,null,null,null,null,null,null,null,null,null,null,null,null,null,null,null,null,null,null,"",null,null,"",null,null,null,null,null,null,{"$f":"IFERROR(VLOOKUP('4.Substance-in-Product'!Z73,DSL!A:H,6,FALSE),\"-\")","v":"-"}]
[null,null,null,null,null,null,null,null,null,null,null,null,null,null,null,null,null,null,null,null,null,null,null,null,null,"",null,null,"",null,null,null,null,null,null,{"$f":"IFERROR(VLOOKUP('4.Substance-in-Product'!Z74,DSL!A:H,6,FALSE),\"-\")","v":"-"}]
[null,null,null,null,null,null,null,null,null,null,null,null,null,null,null,null,null,null,null,null,null,null,null,null,null,"",null,null,"",null,null,null,null,null,null,{"$f":"IFERROR(VLOOKUP('4.Substance-in-Product'!Z75,DSL!A:H,6,FALSE),\"-\")","v":"-"}]
[null,null,null,null,null,null,null,null,null,null,null,null,null,null,null,null,null,null,null,null,null,null,null,null,null,"",null,null,"",null,null,null,null,null,null,{"$f":"IFERROR(VLOOKUP('4.Substance-in-Product'!Z76,DSL!A:H,6,FALSE),\"-\")","v":"-"}]
[null,null,null,null,null,null,null,null,null,null,null,null,null,null,null,null,null,null,null,null,null,null,null,null,null,"",null,null,"",null,null,null,null,null,null,{"$f":"IFERROR(VLOOKUP('4.Substance-in-Product'!Z77,DSL!A:H,6,FALSE),\"-\")","v":"-"}]
[null,null,null,null,null,null,null,null,null,null,null,null,null,null,null,null,null,null,null,null,null,null,null,null,null,"",null,null,"",null,null,null,null,null,null,{"$f":"IFERROR(VLOOKUP('4.Substance-in-Product'!Z78,DSL!A:H,6,FALSE),\"-\")","v":"-"}]
[null,null,null,null,null,null,null,null,null,null,null,null,null,null,null,null,null,null,null,null,null,null,null,null,null,"",null,null,"",null,null,null,null,null,null,{"$f":"IFERROR(VLOOKUP('4.Substance-in-Product'!Z79,DSL!A:H,6,FALSE),\"-\")","v":"-"}]
[null,null,null,null,null,null,null,null,null,null,null,null,null,null,null,null,null,null,null,null,null,null,null,null,null,"",null,null,"",null,null,null,null,null,null,{"$f":"IFERROR(VLOOKUP('4.Substance-in-Product'!Z80,DSL!A:H,6,FALSE),\"-\")","v":"-"}]
[null,null,null,null,null,null,null,null,null,null,null,null,null,null,null,null,null,null,null,null,null,null,null,null,null,"",null,null,"",null,null,null,null,null,null,{"$f":"IFERROR(VLOOKUP('4.Substance-in-Product'!Z81,DSL!A:H,6,FALSE),\"-\")","v":"-"}]
[null,null,null,null,null,null,null,null,null,null,null,null,null,null,null,null,null,null,null,null,null,null,null,null,null,"",null,null,"",null,null,null,null,null,null,{"$f":"IFERROR(VLOOKUP('4.Substance-in-Product'!Z82,DSL!A:H,6,FALSE),\"-\")","v":"-"}]
[null,null,null,null,null,null,null,null,null,null,null,null,null,null,null,null,null,null,null,null,null,null,null,null,null,"",null,null,"",null,null,null,null,null,null,{"$f":"IFERROR(VLOOKUP('4.Substance-in-Product'!Z83,DSL!A:H,6,FALSE),\"-\")","v":"-"}]
[null,null,null,null,null,null,null,null,null,null,null,null,null,null,null,null,null,null,null,null,null,null,null,null,null,"",null,null,"",null,null,null,null,null,null,{"$f":"IFERROR(VLOOKUP('4.Substance-in-Product'!Z84,DSL!A:H,6,FALSE),\"-\")","v":"-"}]
[null,null,null,null,null,null,null,null,null,null,null,null,null,null,null,null,null,null,null,null,null,null,null,null,null,"",null,null,"",null,null,null,null,null,null,{"$f":"IFERROR(VLOOKUP('4.Substance-in-Product'!Z85,DSL!A:H,6,FALSE),\"-\")","v":"-"}]
[null,null,null,null,null,null,null,null,null,null,null,null,null,null,null,null,null,null,null,null,null,null,null,null,null,"",null,null,"",null,null,null,null,null,null,{"$f":"IFERROR(VLOOKUP('4.Substance-in-Product'!Z86,DSL!A:H,6,FALSE),\"-\")","v":"-"}]
[null,null,null,null,null,null,null,null,null,null,null,null,null,null,null,null,null,null,null,null,null,null,null,null,null,"",null,null,"",null,null,null,null,null,null,{"$f":"IFERROR(VLOOKUP('4.Substance-in-Product'!Z87,DSL!A:H,6,FALSE),\"-\")","v":"-"}]
[null,null,null,null,null,null,null,null,null,null,null,null,null,null,null,null,null,null,null,null,null,null,null,null,null,"",null,null,"",null,null,null,null,null,null,{"$f":"IFERROR(VLOOKUP('4.Substance-in-Product'!Z88,DSL!A:H,6,FALSE),\"-\")","v":"-"}]
[null,null,null,null,null,null,null,null,null,null,null,null,null,null,null,null,null,null,null,null,null,null,null,null,null,"",null,null,"",null,null,null,null,null,null,{"$f":"IFERROR(VLOOKUP('4.Substance-in-Product'!Z89,DSL!A:H,6,FALSE),\"-\")","v":"-"}]
[null,null,null,null,null,null,null,null,null,null,null,null,null,null,null,null,null,null,null,null,null,null,null,null,null,"",null,null,"",null,null,null,null,null,null,{"$f":"IFERROR(VLOOKUP('4.Substance-in-Product'!Z90,DSL!A:H,6,FALSE),\"-\")","v":"-"}]
[null,null,null,null,null,null,null,null,null,null,null,null,null,null,null,null,null,null,null,null,null,null,null,null,null,"",null,null,"",null,null,null,null,null,null,{"$f":"IFERROR(VLOOKUP('4.Substance-in-Product'!Z91,DSL!A:H,6,FALSE),\"-\")","v":"-"}]
[null,null,null,null,null,null,null,null,null,null,null,null,null,null,null,null,null,null,null,null,null,null,null,null,null,"",null,null,"",null,null,null,null,null,null,{"$f":"IFERROR(VLOOKUP('4.Substance-in-Product'!Z92,DSL!A:H,6,FALSE),\"-\")","v":"-"}]
[null,null,null,null,null,null,null,null,null,null,null,null,null,null,null,null,null,null,null,null,null,null,null,null,null,"",null,null,"",null,null,null,null,null,null,{"$f":"IFERROR(VLOOKUP('4.Substance-in-Product'!Z93,DSL!A:H,6,FALSE),\"-\")","v":"-"}]
[null,null,null,null,null,null,null,null,null,null,null,null,null,null,null,null,null,null,null,null,null,null,null,null,null,"",null,null,"",null,null,null,null,null,null,{"$f":"IFERROR(VLOOKUP('4.Substance-in-Product'!Z94,DSL!A:H,6,FALSE),\"-\")","v":"-"}]
[null,null,null,null,null,null,null,null,null,null,null,null,null,null,null,null,null,null,null,null,null,null,null,null,null,"",null,null,"",null,null,null,null,null,null,{"$f":"IFERROR(VLOOKUP('4.Substance-in-Product'!Z95,DSL!A:H,6,FALSE),\"-\")","v":"-"}]
[null,null,null,null,null,null,null,null,null,null,null,null,null,null,null,null,null,null,null,null,null,null,null,null,null,"",null,null,"",null,null,null,null,null,null,{"$f":"IFERROR(VLOOKUP('4.Substance-in-Product'!Z96,DSL!A:H,6,FALSE),\"-\")","v":"-"}]
[null,null,null,null,null,null,null,null,null,null,null,null,null,null,null,null,null,null,null,null,null,null,null,null,null,"",null,null,"",null,null,null,null,null,null,{"$f":"IFERROR(VLOOKUP('4.Substance-in-Product'!Z97,DSL!A:H,6,FALSE),\"-\")","v":"-"}]
[null,null,null,null,null,null,null,null,null,null,null,null,null,null,null,null,null,null,null,null,null,null,null,null,null,"",null,null,"",null,null,null,null,null,null,{"$f":"IFERROR(VLOOKUP('4.Substance-in-Product'!Z98,DSL!A:H,6,FALSE),\"-\")","v":"-"}]
[null,null,null,null,null,null,null,null,null,null,null,null,null,null,null,null,null,null,null,null,null,null,null,null,null,"",null,null,"",null,null,null,null,null,null,{"$f":"IFERROR(VLOOKUP('4.Substance-in-Product'!Z99,DSL!A:H,6,FALSE),\"-\")","v":"-"}]
[null,null,null,null,null,null,null,null,null,null,null,null,null,null,null,null,null,null,null,null,null,null,null,null,null,"",null,null,"",null,null,null,null,null,null,{"$f":"IFERROR(VLOOKUP('4.Substance-in-Product'!Z100,DSL!A:H,6,FALSE),\"-\")","v":"-"}]
[null,null,null,null,null,null,null,null,null,null,null,null,null,null,null,null,null,null,null,null,null,null,null,null,null,"",null,null,"",null,null,null,null,null,null,{"$f":"IFERROR(VLOOKUP('4.Substance-in-Product'!Z101,DSL!A:H,6,FALSE),\"-\")","v":"-"}]
[null,null,null,null,null,null,null,null,null,null,null,null,null,null,null,null,null,null,null,null,null,null,null,null,null,"",null,null,"",null,null,null,null,null,null,{"$f":"IFERROR(VLOOKUP('4.Substance-in-Product'!Z102,DSL!A:H,6,FALSE),\"-\")","v":"-"}]
[null,null,null,null,null,null,null,null,null,null,null,null,null,null,null,null,null,null,null,null,null,null,null,null,null,"",null,null,"",null,null,null,null,null,null,{"$f":"IFERROR(VLOOKUP('4.Substance-in-Product'!Z103,DSL!A:H,6,FALSE),\"-\")","v":"-"}]
[null,null,null,null,null,null,null,null,null,null,null,null,null,null,null,null,null,null,null,null,null,null,null,null,null,"",null,null,"",null,null,null,null,null,null,{"$f":"IFERROR(VLOOKUP('4.Substance-in-Product'!Z104,DSL!A:H,6,FALSE),\"-\")","v":"-"}]
[null,null,null,null,null,null,null,null,null,null,null,null,null,null,null,null,null,null,null,null,null,null,null,null,null,"",null,null,"",null,null,null,null,null,null,{"$f":"IFERROR(VLOOKUP('4.Substance-in-Product'!Z105,DSL!A:H,6,FALSE),\"-\")","v":"-"}]
[null,null,null,null,null,null,null,null,null,null,null,null,null,null,null,null,null,null,null,null,null,null,null,null,null,"",null,null,"",null,null,null,null,null,null,{"$f":"IFERROR(VLOOKUP('4.Substance-in-Product'!Z106,DSL!A:H,6,FALSE),\"-\")","v":"-"}]
[null,null,null,null,null,null,null,null,null,null,null,null,null,null,null,null,null,null,null,null,null,null,null,null,null,"",null,null,"",null,null,null,null,null,null,{"$f":"IFERROR(VLOOKUP('4.Substance-in-Product'!Z107,DSL!A:H,6,FALSE),\"-\")","v":"-"}]
[null,null,null,null,null,null,null,null,null,null,null,null,null,null,null,null,null,null,null,null,null,null,null,null,null,"",null,null,"",null,null,null,null,null,null,{"$f":"IFERROR(VLOOKUP('4.Substance-in-Product'!Z108,DSL!A:H,6,FALSE),\"-\")","v":"-"}]
[null,null,null,null,null,null,null,null,null,null,null,null,null,null,null,null,null,null,null,null,null,null,null,null,null,"",null,null,"",null,null,null,null,null,null,{"$f":"IFERROR(VLOOKUP('4.Substance-in-Product'!Z109,DSL!A:H,6,FALSE),\"-\")","v":"-"}]
[null,null,null,null,null,null,null,null,null,null,null,null,null,null,null,null,null,null,null,null,null,null,null,null,null,"",null,null,"",null,null,null,null,null,null,{"$f":"IFERROR(VLOOKUP('4.Substance-in-Product'!Z110,DSL!A:H,6,FALSE),\"-\")","v":"-"}]
[null,null,null,null,null,null,null,null,null,null,null,null,null,null,null,null,null,null,null,null,null,null,null,null,null,"",null,null,"",null,null,null,null,null,null,{"$f":"IFERROR(VLOOKUP('4.Substance-in-Product'!Z111,DSL!A:H,6,FALSE),\"-\")","v":"-"}]
[null,null,null,null,null,null,null,null,null,null,null,null,null,null,null,null,null,null,null,null,null,null,null,null,null,"",null,null,"",null,null,null,null,null,null,{"$f":"IFERROR(VLOOKUP('4.Substance-in-Product'!Z112,DSL!A:H,6,FALSE),\"-\")","v":"-"}]
[null,null,null,null,null,null,null,null,null,null,null,null,null,null,null,null,null,null,null,null,null,null,null,null,null,"",null,null,"",null,null,null,null,null,null,{"$f":"IFERROR(VLOOKUP('4.Substance-in-Product'!Z113,DSL!A:H,6,FALSE),\"-\")","v":"-"}]
[null,null,null,null,null,null,null,null,null,null,null,null,null,null,null,null,null,null,null,null,null,null,null,null,null,"",null,null,"",null,null,null,null,null,null,{"$f":"IFERROR(VLOOKUP('4.Substance-in-Product'!Z114,DSL!A:H,6,FALSE),\"-\")","v":"-"}]
[null,null,null,null,null,null,null,null,null,null,null,null,null,null,null,null,null,null,null,null,null,null,null,null,null,"",null,null,"",null,null,null,null,null,null,{"$f":"IFERROR(VLOOKUP('4.Substance-in-Product'!Z115,DSL!A:H,6,FALSE),\"-\")","v":"-"}]
[null,null,null,null,null,null,null,null,null,null,null,null,null,null,null,null,null,null,null,null,null,null,null,null,null,"",null,null,"",null,null,null,null,null,null,{"$f":"IFERROR(VLOOKUP('4.Substance-in-Product'!Z116,DSL!A:H,6,FALSE),\"-\")","v":"-"}]
[null,null,null,null,null,null,null,null,null,null,null,null,null,null,null,null,null,null,null,null,null,null,null,null,null,"",null,null,"",null,null,null,null,null,null,{"$f":"IFERROR(VLOOKUP('4.Substance-in-Product'!Z117,DSL!A:H,6,FALSE),\"-\")","v":"-"}]
[null,null,null,null,null,null,null,null,null,null,null,null,null,null,null,null,null,null,null,null,null,null,null,null,null,"",null,null,"",null,null,null,null,null,null,{"$f":"IFERROR(VLOOKUP('4.Substance-in-Product'!Z118,DSL!A:H,6,FALSE),\"-\")","v":"-"}]
[null,null,null,null,null,null,null,null,null,null,null,null,null,null,null,null,null,null,null,null,null,null,null,null,null,"",null,null,"",null,null,null,null,null,null,{"$f":"IFERROR(VLOOKUP('4.Substance-in-Product'!Z119,DSL!A:H,6,FALSE),\"-\")","v":"-"}]
[null,null,null,null,null,null,null,null,null,null,null,null,null,null,null,null,null,null,null,null,null,null,null,null,null,"",null,null,"",null,null,null,null,null,null,{"$f":"IFERROR(VLOOKUP('4.Substance-in-Product'!Z120,DSL!A:H,6,FALSE),\"-\")","v":"-"}]
[null,null,null,null,null,null,null,null,null,null,null,null,null,null,null,null,null,null,null,null,null,null,null,null,null,"",null,null,"",null,null,null,null,null,null,{"$f":"IFERROR(VLOOKUP('4.Substance-in-Product'!Z121,DSL!A:H,6,FALSE),\"-\")","v":"-"}]
[null,null,null,null,null,null,null,null,null,null,null,null,null,null,null,null,null,null,null,null,null,null,null,null,null,"",null,null,"",null,null,null,null,null,null,{"$f":"IFERROR(VLOOKUP('4.Substance-in-Product'!Z122,DSL!A:H,6,FALSE),\"-\")","v":"-"}]
[null,null,null,null,null,null,null,null,null,null,null,null,null,null,null,null,null,null,null,null,null,null,null,null,null,"",null,null,"",null,null,null,null,null,null,{"$f":"IFERROR(VLOOKUP('4.Substance-in-Product'!Z123,DSL!A:H,6,FALSE),\"-\")","v":"-"}]
[null,null,null,null,null,null,null,null,null,null,null,null,null,null,null,null,null,null,null,null,null,null,null,null,null,"",null,null,"",null,null,null,null,null,null,{"$f":"IFERROR(VLOOKUP('4.Substance-in-Product'!Z124,DSL!A:H,6,FALSE),\"-\")","v":"-"}]
[null,null,null,null,null,null,null,null,null,null,null,null,null,null,null,null,null,null,null,null,null,null,null,null,null,"",null,null,"",null,null,null,null,null,null,{"$f":"IFERROR(VLOOKUP('4.Substance-in-Product'!Z125,DSL!A:H,6,FALSE),\"-\")","v":"-"}]
[null,null,null,null,null,null,null,null,null,null,null,null,null,null,null,null,null,null,null,null,null,null,null,null,null,"",null,null,"",null,null,null,null,null,null,{"$f":"IFERROR(VLOOKUP('4.Substance-in-Product'!Z126,DSL!A:H,6,FALSE),\"-\")","v":"-"}]
[null,null,null,null,null,null,null,null,null,null,null,null,null,null,null,null,null,null,null,null,null,null,null,null,null,"",null,null,"",null,null,null,null,null,null,{"$f":"IFERROR(VLOOKUP('4.Substance-in-Product'!Z127,DSL!A:H,6,FALSE),\"-\")","v":"-"}]
[null,null,null,null,null,null,null,null,null,null,null,null,null,null,null,null,null,null,null,null,null,null,null,null,null,"",null,null,"",null,null,null,null,null,null,{"$f":"IFERROR(VLOOKUP('4.Substance-in-Product'!Z128,DSL!A:H,6,FALSE),\"-\")","v":"-"}]
[null,null,null,null,null,null,null,null,null,null,null,null,null,null,null,null,null,null,null,null,null,null,null,null,null,"",null,null,"",null,null,null,null,null,null,{"$f":"IFERROR(VLOOKUP('4.Substance-in-Product'!Z129,DSL!A:H,6,FALSE),\"-\")","v":"-"}]
[null,null,null,null,null,null,null,null,null,null,null,null,null,null,null,null,null,null,null,null,null,null,null,null,null,"",null,null,"",null,null,null,null,null,null,{"$f":"IFERROR(VLOOKUP('4.Substance-in-Product'!Z130,DSL!A:H,6,FALSE),\"-\")","v":"-"}]
[null,null,null,null,null,null,null,null,null,null,null,null,null,null,null,null,null,null,null,null,null,null,null,null,null,"",null,null,"",null,null,null,null,null,null,{"$f":"IFERROR(VLOOKUP('4.Substance-in-Product'!Z131,DSL!A:H,6,FALSE),\"-\")","v":"-"}]
[null,null,null,null,null,null,null,null,null,null,null,null,null,null,null,null,null,null,null,null,null,null,null,null,null,"",null,null,"",null,null,null,null,null,null,{"$f":"IFERROR(VLOOKUP('4.Substance-in-Product'!Z132,DSL!A:H,6,FALSE),\"-\")","v":"-"}]
[null,null,null,null,null,null,null,null,null,null,null,null,null,null,null,null,null,null,null,null,null,null,null,null,null,"",null,null,"",null,null,null,null,null,null,{"$f":"IFERROR(VLOOKUP('4.Substance-in-Product'!Z133,DSL!A:H,6,FALSE),\"-\")","v":"-"}]
[null,null,null,null,null,null,null,null,null,null,null,null,null,null,null,null,null,null,null,null,null,null,null,null,null,"",null,null,"",null,null,null,null,null,null,{"$f":"IFERROR(VLOOKUP('4.Substance-in-Product'!Z134,DSL!A:H,6,FALSE),\"-\")","v":"-"}]
[null,null,null,null,null,null,null,null,null,null,null,null,null,null,null,null,null,null,null,null,null,null,null,null,null,"",null,null,"",null,null,null,null,null,null,{"$f":"IFERROR(VLOOKUP('4.Substance-in-Product'!Z135,DSL!A:H,6,FALSE),\"-\")","v":"-"}]
[null,null,null,null,null,null,null,null,null,null,null,null,null,null,null,null,null,null,null,null,null,null,null,null,null,"",null,null,"",null,null,null,null,null,null,{"$f":"IFERROR(VLOOKUP('4.Substance-in-Product'!Z136,DSL!A:H,6,FALSE),\"-\")","v":"-"}]
[null,null,null,null,null,null,null,null,null,null,null,null,null,null,null,null,null,null,null,null,null,null,null,null,null,"",null,null,"",null,null,null,null,null,null,{"$f":"IFERROR(VLOOKUP('4.Substance-in-Product'!Z137,DSL!A:H,6,FALSE),\"-\")","v":"-"}]
[null,null,null,null,null,null,null,null,null,null,null,null,null,null,null,null,null,null,null,null,null,null,null,null,null,"",null,null,"",null,null,null,null,null,null,{"$f":"IFERROR(VLOOKUP('4.Substance-in-Product'!Z138,DSL!A:H,6,FALSE),\"-\")","v":"-"}]
[null,null,null,null,null,null,null,null,null,null,null,null,null,null,null,null,null,null,null,null,null,null,null,null,null,"",null,null,"",null,null,null,null,null,null,{"$f":"IFERROR(VLOOKUP('4.Substance-in-Product'!Z139,DSL!A:H,6,FALSE),\"-\")","v":"-"}]
[null,null,null,null,null,null,null,null,null,null,null,null,null,null,null,null,null,null,null,null,null,null,null,null,null,"",null,null,"",null,null,null,null,null,null,{"$f":"IFERROR(VLOOKUP('4.Substance-in-Product'!Z140,DSL!A:H,6,FALSE),\"-\")","v":"-"}]
[null,null,null,null,null,null,null,null,null,null,null,null,null,null,null,null,null,null,null,null,null,null,null,null,null,"",null,null,"",null,null,null,null,null,null,{"$f":"IFERROR(VLOOKUP('4.Substance-in-Product'!Z141,DSL!A:H,6,FALSE),\"-\")","v":"-"}]
[null,null,null,null,null,null,null,null,null,null,null,null,null,null,null,null,null,null,null,null,null,null,null,null,null,"",null,null,"",null,null,null,null,null,null,{"$f":"IFERROR(VLOOKUP('4.Substance-in-Product'!Z142,DSL!A:H,6,FALSE),\"-\")","v":"-"}]
[null,null,null,null,null,null,null,null,null,null,null,null,null,null,null,null,null,null,null,null,null,null,null,null,null,"",null,null,"",null,null,null,null,null,null,{"$f":"IFERROR(VLOOKUP('4.Substance-in-Product'!Z143,DSL!A:H,6,FALSE),\"-\")","v":"-"}]
[null,null,null,null,null,null,null,null,null,null,null,null,null,null,null,null,null,null,null,null,null,null,null,null,null,"",null,null,"",null,null,null,null,null,null,{"$f":"IFERROR(VLOOKUP('4.Substance-in-Product'!Z144,DSL!A:H,6,FALSE),\"-\")","v":"-"}]
[null,null,null,null,null,null,null,null,null,null,null,null,null,null,null,null,null,null,null,null,null,null,null,null,null,"",null,null,"",null,null,null,null,null,null,{"$f":"IFERROR(VLOOKUP('4.Substance-in-Product'!Z145,DSL!A:H,6,FALSE),\"-\")","v":"-"}]
[null,null,null,null,null,null,null,null,null,null,null,null,null,null,null,null,null,null,null,null,null,null,null,null,null,"",null,null,"",null,null,null,null,null,null,{"$f":"IFERROR(VLOOKUP('4.Substance-in-Product'!Z146,DSL!A:H,6,FALSE),\"-\")","v":"-"}]
[null,null,null,null,null,null,null,null,null,null,null,null,null,null,null,null,null,null,null,null,null,null,null,null,null,"",null,null,"",null,null,null,null,null,null,{"$f":"IFERROR(VLOOKUP('4.Substance-in-Product'!Z147,DSL!A:H,6,FALSE),\"-\")","v":"-"}]
[null,null,null,null,null,null,null,null,null,null,null,null,null,null,null,null,null,null,null,null,null,null,null,null,null,"",null,null,"",null,null,null,null,null,null,{"$f":"IFERROR(VLOOKUP('4.Substance-in-Product'!Z148,DSL!A:H,6,FALSE),\"-\")","v":"-"}]
[null,null,null,null,null,null,null,null,null,null,null,null,null,null,null,null,null,null,null,null,null,null,null,null,null,"",null,null,"",null,null,null,null,null,null,{"$f":"IFERROR(VLOOKUP('4.Substance-in-Product'!Z149,DSL!A:H,6,FALSE),\"-\")","v":"-"}]
[null,null,null,null,null,null,null,null,null,null,null,null,null,null,null,null,null,null,null,null,null,null,null,null,null,"",null,null,"",null,null,null,null,null,null,{"$f":"IFERROR(VLOOKUP('4.Substance-in-Product'!Z150,DSL!A:H,6,FALSE),\"-\")","v":"-"}]
[null,null,null,null,null,null,null,null,null,null,null,null,null,null,null,null,null,null,null,null,null,null,null,null,null,"",null,null,"",null,null,null,null,null,null,{"$f":"IFERROR(VLOOKUP('4.Substance-in-Product'!Z151,DSL!A:H,6,FALSE),\"-\")","v":"-"}]
[null,null,null,null,null,null,null,null,null,null,null,null,null,null,null,null,null,null,null,null,null,null,null,null,null,"",null,null,"",null,null,null,null,null,null,{"$f":"IFERROR(VLOOKUP('4.Substance-in-Product'!Z152,DSL!A:H,6,FALSE),\"-\")","v":"-"}]
[null,null,null,null,null,null,null,null,null,null,null,null,null,null,null,null,null,null,null,null,null,null,null,null,null,"",null,null,"",null,null,null,null,null,null,{"$f":"IFERROR(VLOOKUP('4.Substance-in-Product'!Z153,DSL!A:H,6,FALSE),\"-\")","v":"-"}]
[null,null,null,null,null,null,null,null,null,null,null,null,null,null,null,null,null,null,null,null,null,null,null,null,null,"",null,null,"",null,null,null,null,null,null,{"$f":"IFERROR(VLOOKUP('4.Substance-in-Product'!Z154,DSL!A:H,6,FALSE),\"-\")","v":"-"}]
[null,null,null,null,null,null,null,null,null,null,null,null,null,null,null,null,null,null,null,null,null,null,null,null,null,"",null,null,"",null,null,null,null,null,null,{"$f":"IFERROR(VLOOKUP('4.Substance-in-Product'!Z155,DSL!A:H,6,FALSE),\"-\")","v":"-"}]
[null,null,null,null,null,null,null,null,null,null,null,null,null,null,null,null,null,null,null,null,null,null,null,null,null,"",null,null,"",null,null,null,null,null,null,{"$f":"IFERROR(VLOOKUP('4.Substance-in-Product'!Z156,DSL!A:H,6,FALSE),\"-\")","v":"-"}]
[null,null,null,null,null,null,null,null,null,null,null,null,null,null,null,null,null,null,null,null,null,null,null,null,null,"",null,null,"",null,null,null,null,null,null,{"$f":"IFERROR(VLOOKUP('4.Substance-in-Product'!Z157,DSL!A:H,6,FALSE),\"-\")","v":"-"}]
[null,null,null,null,null,null,null,null,null,null,null,null,null,null,null,null,null,null,null,null,null,null,null,null,null,"",null,null,"",null,null,null,null,null,null,{"$f":"IFERROR(VLOOKUP('4.Substance-in-Product'!Z158,DSL!A:H,6,FALSE),\"-\")","v":"-"}]
[null,null,null,null,null,null,null,null,null,null,null,null,null,null,null,null,null,null,null,null,null,null,null,null,null,"",null,null,"",null,null,null,null,null,null,{"$f":"IFERROR(VLOOKUP('4.Substance-in-Product'!Z159,DSL!A:H,6,FALSE),\"-\")","v":"-"}]
[null,null,null,null,null,null,null,null,null,null,null,null,null,null,null,null,null,null,null,null,null,null,null,null,null,"",null,null,"",null,null,null,null,null,null,{"$f":"IFERROR(VLOOKUP('4.Substance-in-Product'!Z160,DSL!A:H,6,FALSE),\"-\")","v":"-"}]
[null,null,null,null,null,null,null,null,null,null,null,null,null,null,null,null,null,null,null,null,null,null,null,null,null,"",null,null,"",null,null,null,null,null,null,{"$f":"IFERROR(VLOOKUP('4.Substance-in-Product'!Z161,DSL!A:H,6,FALSE),\"-\")","v":"-"}]
[null,null,null,null,null,null,null,null,null,null,null,null,null,null,null,null,null,null,null,null,null,null,null,null,null,"",null,null,"",null,null,null,null,null,null,{"$f":"IFERROR(VLOOKUP('4.Substance-in-Product'!Z162,DSL!A:H,6,FALSE),\"-\")","v":"-"}]
[null,null,null,null,null,null,null,null,null,null,null,null,null,null,null,null,null,null,null,null,null,null,null,null,null,"",null,null,"",null,null,null,null,null,null,{"$f":"IFERROR(VLOOKUP('4.Substance-in-Product'!Z163,DSL!A:H,6,FALSE),\"-\")","v":"-"}]
[null,null,null,null,null,null,null,null,null,null,null,null,null,null,null,null,null,null,null,null,null,null,null,null,null,"",null,null,"",null,null,null,null,null,null,{"$f":"IFERROR(VLOOKUP('4.Substance-in-Product'!Z164,DSL!A:H,6,FALSE),\"-\")","v":"-"}]
[null,null,null,null,null,null,null,null,null,null,null,null,null,null,null,null,null,null,null,null,null,null,null,null,null,"",null,null,"",null,null,null,null,null,null,{"$f":"IFERROR(VLOOKUP('4.Substance-in-Product'!Z165,DSL!A:H,6,FALSE),\"-\")","v":"-"}]
[null,null,null,null,null,null,null,null,null,null,null,null,null,null,null,null,null,null,null,null,null,null,null,null,null,"",null,null,"",null,null,null,null,null,null,{"$f":"IFERROR(VLOOKUP('4.Substance-in-Product'!Z166,DSL!A:H,6,FALSE),\"-\")","v":"-"}]
[null,null,null,null,null,null,null,null,null,null,null,null,null,null,null,null,null,null,null,null,null,null,null,null,null,"",null,null,"",null,null,null,null,null,null,{"$f":"IFERROR(VLOOKUP('4.Substance-in-Product'!Z167,DSL!A:H,6,FALSE),\"-\")","v":"-"}]
[null,null,null,null,null,null,null,null,null,null,null,null,null,null,null,null,null,null,null,null,null,null,null,null,null,"",null,null,"",null,null,null,null,null,null,{"$f":"IFERROR(VLOOKUP('4.Substance-in-Product'!Z168,DSL!A:H,6,FALSE),\"-\")","v":"-"}]
[null,null,null,null,null,null,null,null,null,null,null,null,null,null,null,null,null,null,null,null,null,null,null,null,null,"",null,null,"",null,null,null,null,null,null,{"$f":"IFERROR(VLOOKUP('4.Substance-in-Product'!Z169,DSL!A:H,6,FALSE),\"-\")","v":"-"}]
[null,null,null,null,null,null,null,null,null,null,null,null,null,null,null,null,null,null,null,null,null,null,null,null,null,"",null,null,"",null,null,null,null,null,null,{"$f":"IFERROR(VLOOKUP('4.Substance-in-Product'!Z170,DSL!A:H,6,FALSE),\"-\")","v":"-"}]
[null,null,null,null,null,null,null,null,null,null,null,null,null,null,null,null,null,null,null,null,null,null,null,null,null,"",null,null,"",null,null,null,null,null,null,{"$f":"IFERROR(VLOOKUP('4.Substance-in-Product'!Z171,DSL!A:H,6,FALSE),\"-\")","v":"-"}]
[null,null,null,null,null,null,null,null,null,null,null,null,null,null,null,null,null,null,null,null,null,null,null,null,null,"",null,null,"",null,null,null,null,null,null,{"$f":"IFERROR(VLOOKUP('4.Substance-in-Product'!Z172,DSL!A:H,6,FALSE),\"-\")","v":"-"}]
[null,null,null,null,null,null,null,null,null,null,null,null,null,null,null,null,null,null,null,null,null,null,null,null,null,"",null,null,"",null,null,null,null,null,null,{"$f":"IFERROR(VLOOKUP('4.Substance-in-Product'!Z173,DSL!A:H,6,FALSE),\"-\")","v":"-"}]
[null,null,null,null,null,null,null,null,null,null,null,null,null,null,null,null,null,null,null,null,null,null,null,null,null,"",null,null,"",null,null,null,null,null,null,{"$f":"IFERROR(VLOOKUP('4.Substance-in-Product'!Z174,DSL!A:H,6,FALSE),\"-\")","v":"-"}]
[null,null,null,null,null,null,null,null,null,null,null,null,null,null,null,null,null,null,null,null,null,null,null,null,null,"",null,null,"",null,null,null,null,null,null,{"$f":"IFERROR(VLOOKUP('4.Substance-in-Product'!Z175,DSL!A:H,6,FALSE),\"-\")","v":"-"}]
[null,null,null,null,null,null,null,null,null,null,null,null,null,null,null,null,null,null,null,null,null,null,null,null,null,"",null,null,"",null,null,null,null,null,null,{"$f":"IFERROR(VLOOKUP('4.Substance-in-Product'!Z176,DSL!A:H,6,FALSE),\"-\")","v":"-"}]
[null,null,null,null,null,null,null,null,null,null,null,null,null,null,null,null,null,null,null,null,null,null,null,null,null,"",null,null,"",null,null,null,null,null,null,{"$f":"IFERROR(VLOOKUP('4.Substance-in-Product'!Z177,DSL!A:H,6,FALSE),\"-\")","v":"-"}]
[null,null,null,null,null,null,null,null,null,null,null,null,null,null,null,null,null,null,null,null,null,null,null,null,null,"",null,null,"",null,null,null,null,null,null,{"$f":"IFERROR(VLOOKUP('4.Substance-in-Product'!Z178,DSL!A:H,6,FALSE),\"-\")","v":"-"}]
[null,null,null,null,null,null,null,null,null,null,null,null,null,null,null,null,null,null,null,null,null,null,null,null,null,"",null,null,"",null,null,null,null,null,null,{"$f":"IFERROR(VLOOKUP('4.Substance-in-Product'!Z179,DSL!A:H,6,FALSE),\"-\")","v":"-"}]
[null,null,null,null,null,null,null,null,null,null,null,null,null,null,null,null,null,null,null,null,null,null,null,null,null,"",null,null,"",null,null,null,null,null,null,{"$f":"IFERROR(VLOOKUP('4.Substance-in-Product'!Z180,DSL!A:H,6,FALSE),\"-\")","v":"-"}]
[null,null,null,null,null,null,null,null,null,null,null,null,null,null,null,null,null,null,null,null,null,null,null,null,null,"",null,null,"",null,null,null,null,null,null,{"$f":"IFERROR(VLOOKUP('4.Substance-in-Product'!Z181,DSL!A:H,6,FALSE),\"-\")","v":"-"}]
[null,null,null,null,null,null,null,null,null,null,null,null,null,null,null,null,null,null,null,null,null,null,null,null,null,"",null,null,"",null,null,null,null,null,null,{"$f":"IFERROR(VLOOKUP('4.Substance-in-Product'!Z182,DSL!A:H,6,FALSE),\"-\")","v":"-"}]
[null,null,null,null,null,null,null,null,null,null,null,null,null,null,null,null,null,null,null,null,null,null,null,null,null,"",null,null,"",null,null,null,null,null,null,{"$f":"IFERROR(VLOOKUP('4.Substance-in-Product'!Z183,DSL!A:H,6,FALSE),\"-\")","v":"-"}]
[null,null,null,null,null,null,null,null,null,null,null,null,null,null,null,null,null,null,null,null,null,null,null,null,null,"",null,null,"",null,null,null,null,null,null,{"$f":"IFERROR(VLOOKUP('4.Substance-in-Product'!Z184,DSL!A:H,6,FALSE),\"-\")","v":"-"}]
[null,null,null,null,null,null,null,null,null,null,null,null,null,null,null,null,null,null,null,null,null,null,null,null,null,"",null,null,"",null,null,null,null,null,null,{"$f":"IFERROR(VLOOKUP('4.Substance-in-Product'!Z185,DSL!A:H,6,FALSE),\"-\")","v":"-"}]
[null,null,null,null,null,null,null,null,null,null,null,null,null,null,null,null,null,null,null,null,null,null,null,null,null,"",null,null,"",null,null,null,null,null,null,{"$f":"IFERROR(VLOOKUP('4.Substance-in-Product'!Z186,DSL!A:H,6,FALSE),\"-\")","v":"-"}]
[null,null,null,null,null,null,null,null,null,null,null,null,null,null,null,null,null,null,null,null,null,null,null,null,null,"",null,null,"",null,null,null,null,null,null,{"$f":"IFERROR(VLOOKUP('4.Substance-in-Product'!Z187,DSL!A:H,6,FALSE),\"-\")","v":"-"}]
[null,null,null,null,null,null,null,null,null,null,null,null,null,null,null,null,null,null,null,null,null,null,null,null,null,"",null,null,"",null,null,null,null,null,null,{"$f":"IFERROR(VLOOKUP('4.Substance-in-Product'!Z188,DSL!A:H,6,FALSE),\"-\")","v":"-"}]
[null,null,null,null,null,null,null,null,null,null,null,null,null,null,null,null,null,null,null,null,null,null,null,null,null,"",null,null,"",null,null,null,null,null,null,{"$f":"IFERROR(VLOOKUP('4.Substance-in-Product'!Z189,DSL!A:H,6,FALSE),\"-\")","v":"-"}]
[null,null,null,null,null,null,null,null,null,null,null,null,null,null,null,null,null,null,null,null,null,null,null,null,null,"",null,null,"",null,null,null,null,null,null,{"$f":"IFERROR(VLOOKUP('4.Substance-in-Product'!Z190,DSL!A:H,6,FALSE),\"-\")","v":"-"}]
[null,null,null,null,null,null,null,null,null,null,null,null,null,null,null,null,null,null,null,null,null,null,null,null,null,"",null,null,"",null,null,null,null,null,null,{"$f":"IFERROR(VLOOKUP('4.Substance-in-Product'!Z191,DSL!A:H,6,FALSE),\"-\")","v":"-"}]
[null,null,null,null,null,null,null,null,null,null,null,null,null,null,null,null,null,null,null,null,null,null,null,null,null,"",null,null,"",null,null,null,null,null,null,{"$f":"IFERROR(VLOOKUP('4.Substance-in-Product'!Z192,DSL!A:H,6,FALSE),\"-\")","v":"-"}]
[null,null,null,null,null,null,null,null,null,null,null,null,null,null,null,null,null,null,null,null,null,null,null,null,null,"",null,null,"",null,null,null,null,null,null,{"$f":"IFERROR(VLOOKUP('4.Substance-in-Product'!Z193,DSL!A:H,6,FALSE),\"-\")","v":"-"}]
[null,null,null,null,null,null,null,null,null,null,null,null,null,null,null,null,null,null,null,null,null,null,null,null,null,"",null,null,"",null,null,null,null,null,null,{"$f":"IFERROR(VLOOKUP('4.Substance-in-Product'!Z194,DSL!A:H,6,FALSE),\"-\")","v":"-"}]
[null,null,null,null,null,null,null,null,null,null,null,null,null,null,null,null,null,null,null,null,null,null,null,null,null,"",null,null,"",null,null,null,null,null,null,{"$f":"IFERROR(VLOOKUP('4.Substance-in-Product'!Z195,DSL!A:H,6,FALSE),\"-\")","v":"-"}]
[null,null,null,null,null,null,null,null,null,null,null,null,null,null,null,null,null,null,null,null,null,null,null,null,null,"",null,null,"",null,null,null,null,null,null,{"$f":"IFERROR(VLOOKUP('4.Substance-in-Product'!Z196,DSL!A:H,6,FALSE),\"-\")","v":"-"}]
[null,null,null,null,null,null,null,null,null,null,null,null,null,null,null,null,null,null,null,null,null,null,null,null,null,"",null,null,"",null,null,null,null,null,null,{"$f":"IFERROR(VLOOKUP('4.Substance-in-Product'!Z197,DSL!A:H,6,FALSE),\"-\")","v":"-"}]
[null,null,null,null,null,null,null,null,null,null,null,null,null,null,null,null,null,null,null,null,null,null,null,null,null,"",null,null,"",null,null,null,null,null,null,{"$f":"IFERROR(VLOOKUP('4.Substance-in-Product'!Z198,DSL!A:H,6,FALSE),\"-\")","v":"-"}]
[null,null,null,null,null,null,null,null,null,null,null,null,null,null,null,null,null,null,null,null,null,null,null,null,null,"",null,null,"",null,null,null,null,null,null,{"$f":"IFERROR(VLOOKUP('4.Substance-in-Product'!Z199,DSL!A:H,6,FALSE),\"-\")","v":"-"}]
[null,null,null,null,null,null,null,null,null,null,null,null,null,null,null,null,null,null,null,null,null,null,null,null,null,"",null,null,"",null,null,null,null,null,null,{"$f":"IFERROR(VLOOKUP('4.Substance-in-Product'!Z200,DSL!A:H,6,FALSE),\"-\")","v":"-"}]
[null,null,null,null,null,null,null,null,null,null,null,null,null,null,null,null,null,null,null,null,null,null,null,null,null,"",null,null,"",null,null,null,null,null,null,{"$f":"IFERROR(VLOOKUP('4.Substance-in-Product'!Z201,DSL!A:H,6,FALSE),\"-\")","v":"-"}]
[null,null,null,null,null,null,null,null,null,null,null,null,null,null,null,null,null,null,null,null,null,null,null,null,null,"",null,null,"",null,null,null,null,null,null,{"$f":"IFERROR(VLOOKUP('4.Substance-in-Product'!Z202,DSL!A:H,6,FALSE),\"-\")","v":"-"}]
[null,null,null,null,null,null,null,null,null,null,null,null,null,null,null,null,null,null,null,null,null,null,null,null,null,"",null,null,"",null,null,null,null,null,null,{"$f":"IFERROR(VLOOKUP('4.Substance-in-Product'!Z203,DSL!A:H,6,FALSE),\"-\")","v":"-"}]
[null,null,null,null,null,null,null,null,null,null,null,null,null,null,null,null,null,null,null,null,null,null,null,null,null,"",null,null,"",null,null,null,null,null,null,{"$f":"IFERROR(VLOOKUP('4.Substance-in-Product'!Z204,DSL!A:H,6,FALSE),\"-\")","v":"-"}]
[null,null,null,null,null,null,null,null,null,null,null,null,null,null,null,null,null,null,null,null,null,null,null,null,null,"",null,null,"",null,null,null,null,null,null,{"$f":"IFERROR(VLOOKUP('4.Substance-in-Product'!Z205,DSL!A:H,6,FALSE),\"-\")","v":"-"}]
[null,null,null,null,null,null,null,null,null,null,null,null,null,null,null,null,null,null,null,null,null,null,null,null,null,"",null,null,"",null,null,null,null,null,null,{"$f":"IFERROR(VLOOKUP('4.Substance-in-Product'!Z206,DSL!A:H,6,FALSE),\"-\")","v":"-"}]
[null,null,null,null,null,null,null,null,null,null,null,null,null,null,null,null,null,null,null,null,null,null,null,null,null,"",null,null,"",null,null,null,null,null,null,{"$f":"IFERROR(VLOOKUP('4.Substance-in-Product'!Z207,DSL!A:H,6,FALSE),\"-\")","v":"-"}]
[null,null,null,null,null,null,null,null,null,null,null,null,null,null,null,null,null,null,null,null,null,null,null,null,null,"",null,null,"",null,null,null,null,null,null,{"$f":"IFERROR(VLOOKUP('4.Substance-in-Product'!Z208,DSL!A:H,6,FALSE),\"-\")","v":"-"}]
[null,null,null,null,null,null,null,null,null,null,null,null,null,null,null,null,null,null,null,null,null,null,null,null,null,"",null,null,"",null,null,null,null,null,null,{"$f":"IFERROR(VLOOKUP('4.Substance-in-Product'!Z209,DSL!A:H,6,FALSE),\"-\")","v":"-"}]
[null,null,null,null,null,null,null,null,null,null,null,null,null,null,null,null,null,null,null,null,null,null,null,null,null,"",null,null,"",null,null,null,null,null,null,{"$f":"IFERROR(VLOOKUP('4.Substance-in-Product'!Z210,DSL!A:H,6,FALSE),\"-\")","v":"-"}]
[null,null,null,null,null,null,null,null,null,null,null,null,null,null,null,null,null,null,null,null,null,null,null,null,null,"",null,null,"",null,null,null,null,null,null,{"$f":"IFERROR(VLOOKUP('4.Substance-in-Product'!Z211,DSL!A:H,6,FALSE),\"-\")","v":"-"}]
[null,null,null,null,null,null,null,null,null,null,null,null,null,null,null,null,null,null,null,null,null,null,null,null,null,"",null,null,"",null,null,null,null,null,null,{"$f":"IFERROR(VLOOKUP('4.Substance-in-Product'!Z212,DSL!A:H,6,FALSE),\"-\")","v":"-"}]
[null,null,null,null,null,null,null,null,null,null,null,null,null,null,null,null,null,null,null,null,null,null,null,null,null,"",null,null,"",null,null,null,null,null,null,{"$f":"IFERROR(VLOOKUP('4.Substance-in-Product'!Z213,DSL!A:H,6,FALSE),\"-\")","v":"-"}]
[null,null,null,null,null,null,null,null,null,null,null,null,null,null,null,null,null,null,null,null,null,null,null,null,null,"",null,null,"",null,null,null,null,null,null,{"$f":"IFERROR(VLOOKUP('4.Substance-in-Product'!Z214,DSL!A:H,6,FALSE),\"-\")","v":"-"}]
[null,null,null,null,null,null,null,null,null,null,null,null,null,null,null,null,null,null,null,null,null,null,null,null,null,"",null,null,"",null,null,null,null,null,null,{"$f":"IFERROR(VLOOKUP('4.Substance-in-Product'!Z215,DSL!A:H,6,FALSE),\"-\")","v":"-"}]
[null,null,null,null,null,null,null,null,null,null,null,null,null,null,null,null,null,null,null,null,null,null,null,null,null,"",null,null,"",null,null,null,null,null,null,{"$f":"IFERROR(VLOOKUP('4.Substance-in-Product'!Z216,DSL!A:H,6,FALSE),\"-\")","v":"-"}]
[null,null,null,null,null,null,null,null,null,null,null,null,null,null,null,null,null,null,null,null,null,null,null,null,null,"",null,null,"",null,null,null,null,null,null,{"$f":"IFERROR(VLOOKUP('4.Substance-in-Product'!Z217,DSL!A:H,6,FALSE),\"-\")","v":"-"}]
[null,null,null,null,null,null,null,null,null,null,null,null,null,null,null,null,null,null,null,null,null,null,null,null,null,"",null,null,"",null,null,null,null,null,null,{"$f":"IFERROR(VLOOKUP('4.Substance-in-Product'!Z218,DSL!A:H,6,FALSE),\"-\")","v":"-"}]
[null,null,null,null,null,null,null,null,null,null,null,null,null,null,null,null,null,null,null,null,null,null,null,null,null,"",null,null,"",null,null,null,null,null,null,{"$f":"IFERROR(VLOOKUP('4.Substance-in-Product'!Z219,DSL!A:H,6,FALSE),\"-\")","v":"-"}]
[null,null,null,null,null,null,null,null,null,null,null,null,null,null,null,null,null,null,null,null,null,null,null,null,null,"",null,null,"",null,null,null,null,null,null,{"$f":"IFERROR(VLOOKUP('4.Substance-in-Product'!Z220,DSL!A:H,6,FALSE),\"-\")","v":"-"}]
[null,null,null,null,null,null,null,null,null,null,null,null,null,null,null,null,null,null,null,null,null,null,null,null,null,"",null,null,"",null,null,null,null,null,null,{"$f":"IFERROR(VLOOKUP('4.Substance-in-Product'!Z221,DSL!A:H,6,FALSE),\"-\")","v":"-"}]
[null,null,null,null,null,null,null,null,null,null,null,null,null,null,null,null,null,null,null,null,null,null,null,null,null,"",null,null,"",null,null,null,null,null,null,{"$f":"IFERROR(VLOOKUP('4.Substance-in-Product'!Z222,DSL!A:H,6,FALSE),\"-\")","v":"-"}]
[null,null,null,null,null,null,null,null,null,null,null,null,null,null,null,null,null,null,null,null,null,null,null,null,null,"",null,null,"",null,null,null,null,null,null,{"$f":"IFERROR(VLOOKUP('4.Substance-in-Product'!Z223,DSL!A:H,6,FALSE),\"-\")","v":"-"}]
[null,null,null,null,null,null,null,null,null,null,null,null,null,null,null,null,null,null,null,null,null,null,null,null,null,"",null,null,"",null,null,null,null,null,null,{"$f":"IFERROR(VLOOKUP('4.Substance-in-Product'!Z224,DSL!A:H,6,FALSE),\"-\")","v":"-"}]
[null,null,null,null,null,null,null,null,null,null,null,null,null,null,null,null,null,null,null,null,null,null,null,null,null,"",null,null,"",null,null,null,null,null,null,{"$f":"IFERROR(VLOOKUP('4.Substance-in-Product'!Z225,DSL!A:H,6,FALSE),\"-\")","v":"-"}]
[null,null,null,null,null,null,null,null,null,null,null,null,null,null,null,null,null,null,null,null,null,null,null,null,null,"",null,null,"",null,null,null,null,null,null,{"$f":"IFERROR(VLOOKUP('4.Substance-in-Product'!Z226,DSL!A:H,6,FALSE),\"-\")","v":"-"}]
[null,null,null,null,null,null,null,null,null,null,null,null,null,null,null,null,null,null,null,null,null,null,null,null,null,"",null,null,"",null,null,null,null,null,null,{"$f":"IFERROR(VLOOKUP('4.Substance-in-Product'!Z227,DSL!A:H,6,FALSE),\"-\")","v":"-"}]
[null,null,null,null,null,null,null,null,null,null,null,null,null,null,null,null,null,null,null,null,null,null,null,null,null,"",null,null,"",null,null,null,null,null,null,{"$f":"IFERROR(VLOOKUP('4.Substance-in-Product'!Z228,DSL!A:H,6,FALSE),\"-\")","v":"-"}]
[null,null,null,null,null,null,null,null,null,null,null,null,null,null,null,null,null,null,null,null,null,null,null,null,null,"",null,null,"",null,null,null,null,null,null,{"$f":"IFERROR(VLOOKUP('4.Substance-in-Product'!Z229,DSL!A:H,6,FALSE),\"-\")","v":"-"}]
[null,null,null,null,null,null,null,null,null,null,null,null,null,null,null,null,null,null,null,null,null,null,null,null,null,"",null,null,"",null,null,null,null,null,null,{"$f":"IFERROR(VLOOKUP('4.Substance-in-Product'!Z230,DSL!A:H,6,FALSE),\"-\")","v":"-"}]
[null,null,null,null,null,null,null,null,null,null,null,null,null,null,null,null,null,null,null,null,null,null,null,null,null,"",null,null,"",null,null,null,null,null,null,{"$f":"IFERROR(VLOOKUP('4.Substance-in-Product'!Z231,DSL!A:H,6,FALSE),\"-\")","v":"-"}]
[null,null,null,null,null,null,null,null,null,null,null,null,null,null,null,null,null,null,null,null,null,null,null,null,null,"",null,null,"",null,null,null,null,null,null,{"$f":"IFERROR(VLOOKUP('4.Substance-in-Product'!Z232,DSL!A:H,6,FALSE),\"-\")","v":"-"}]
[null,null,null,null,null,null,null,null,null,null,null,null,null,null,null,null,null,null,null,null,null,null,null,null,null,"",null,null,"",null,null,null,null,null,null,{"$f":"IFERROR(VLOOKUP('4.Substance-in-Product'!Z233,DSL!A:H,6,FALSE),\"-\")","v":"-"}]
[null,null,null,null,null,null,null,null,null,null,null,null,null,null,null,null,null,null,null,null,null,null,null,null,null,"",null,null,"",null,null,null,null,null,null,{"$f":"IFERROR(VLOOKUP('4.Substance-in-Product'!Z234,DSL!A:H,6,FALSE),\"-\")","v":"-"}]
[null,null,null,null,null,null,null,null,null,null,null,null,null,null,null,null,null,null,null,null,null,null,null,null,null,"",null,null,"",null,null,null,null,null,null,{"$f":"IFERROR(VLOOKUP('4.Substance-in-Product'!Z235,DSL!A:H,6,FALSE),\"-\")","v":"-"}]
[null,null,null,null,null,null,null,null,null,null,null,null,null,null,null,null,null,null,null,null,null,null,null,null,null,"",null,null,"",null,null,null,null,null,null,{"$f":"IFERROR(VLOOKUP('4.Substance-in-Product'!Z236,DSL!A:H,6,FALSE),\"-\")","v":"-"}]
[null,null,null,null,null,null,null,null,null,null,null,null,null,null,null,null,null,null,null,null,null,null,null,null,null,"",null,null,"",null,null,null,null,null,null,{"$f":"IFERROR(VLOOKUP('4.Substance-in-Product'!Z237,DSL!A:H,6,FALSE),\"-\")","v":"-"}]
[null,null,null,null,null,null,null,null,null,null,null,null,null,null,null,null,null,null,null,null,null,null,null,null,null,"",null,null,"",null,null,null,null,null,null,{"$f":"IFERROR(VLOOKUP('4.Substance-in-Product'!Z238,DSL!A:H,6,FALSE),\"-\")","v":"-"}]
[null,null,null,null,null,null,null,null,null,null,null,null,null,null,null,null,null,null,null,null,null,null,null,null,null,"",null,null,"",null,null,null,null,null,null,{"$f":"IFERROR(VLOOKUP('4.Substance-in-Product'!Z239,DSL!A:H,6,FALSE),\"-\")","v":"-"}]
[null,null,null,null,null,null,null,null,null,null,null,null,null,null,null,null,null,null,null,null,null,null,null,null,null,"",null,null,"",null,null,null,null,null,null,{"$f":"IFERROR(VLOOKUP('4.Substance-in-Product'!Z240,DSL!A:H,6,FALSE),\"-\")","v":"-"}]
[null,null,null,null,null,null,null,null,null,null,null,null,null,null,null,null,null,null,null,null,null,null,null,null,null,"",null,null,"",null,null,null,null,null,null,{"$f":"IFERROR(VLOOKUP('4.Substance-in-Product'!Z241,DSL!A:H,6,FALSE),\"-\")","v":"-"}]
[null,null,null,null,null,null,null,null,null,null,null,null,null,null,null,null,null,null,null,null,null,null,null,null,null,"",null,null,"",null,null,null,null,null,null,{"$f":"IFERROR(VLOOKUP('4.Substance-in-Product'!Z242,DSL!A:H,6,FALSE),\"-\")","v":"-"}]
[null,null,null,null,null,null,null,null,null,null,null,null,null,null,null,null,null,null,null,null,null,null,null,null,null,"",null,null,"",null,null,null,null,null,null,{"$f":"IFERROR(VLOOKUP('4.Substance-in-Product'!Z243,DSL!A:H,6,FALSE),\"-\")","v":"-"}]
[null,null,null,null,null,null,null,null,null,null,null,null,null,null,null,null,null,null,null,null,null,null,null,null,null,"",null,null,"",null,null,null,null,null,null,{"$f":"IFERROR(VLOOKUP('4.Substance-in-Product'!Z244,DSL!A:H,6,FALSE),\"-\")","v":"-"}]
[null,null,null,null,null,null,null,null,null,null,null,null,null,null,null,null,null,null,null,null,null,null,null,null,null,"",null,null,"",null,null,null,null,null,null,{"$f":"IFERROR(VLOOKUP('4.Substance-in-Product'!Z245,DSL!A:H,6,FALSE),\"-\")","v":"-"}]
[null,null,null,null,null,null,null,null,null,null,null,null,null,null,null,null,null,null,null,null,null,null,null,null,null,"",null,null,"",null,null,null,null,null,null,{"$f":"IFERROR(VLOOKUP('4.Substance-in-Product'!Z246,DSL!A:H,6,FALSE),\"-\")","v":"-"}]
[null,null,null,null,null,null,null,null,null,null,null,null,null,null,null,null,null,null,null,null,null,null,null,null,null,"",null,null,"",null,null,null,null,null,null,{"$f":"IFERROR(VLOOKUP('4.Substance-in-Product'!Z247,DSL!A:H,6,FALSE),\"-\")","v":"-"}]
[null,null,null,null,null,null,null,null,null,null,null,null,null,null,null,null,null,null,null,null,null,null,null,null,null,"",null,null,"",null,null,null,null,null,null,{"$f":"IFERROR(VLOOKUP('4.Substance-in-Product'!Z248,DSL!A:H,6,FALSE),\"-\")","v":"-"}]
[null,null,null,null,null,null,null,null,null,null,null,null,null,null,null,null,null,null,null,null,null,null,null,null,null,"",null,null,"",null,null,null,null,null,null,{"$f":"IFERROR(VLOOKUP('4.Substance-in-Product'!Z249,DSL!A:H,6,FALSE),\"-\")","v":"-"}]
[null,null,null,null,null,null,null,null,null,null,null,null,null,null,null,null,null,null,null,null,null,null,null,null,null,"",null,null,"",null,null,null,null,null,null,{"$f":"IFERROR(VLOOKUP('4.Substance-in-Product'!Z250,DSL!A:H,6,FALSE),\"-\")","v":"-"}]
[null,null,null,null,null,null,null,null,null,null,null,null,null,null,null,null,null,null,null,null,null,null,null,null,null,"",null,null,"",null,null,null,null,null,null,{"$f":"IFERROR(VLOOKUP('4.Substance-in-Product'!Z251,DSL!A:H,6,FALSE),\"-\")","v":"-"}]
[null,null,null,null,null,null,null,null,null,null,null,null,null,null,null,null,null,null,null,null,null,null,null,null,null,"",null,null,"",null,null,null,null,null,null,{"$f":"IFERROR(VLOOKUP('4.Substance-in-Product'!Z252,DSL!A:H,6,FALSE),\"-\")","v":"-"}]
[null,null,null,null,null,null,null,null,null,null,null,null,null,null,null,null,null,null,null,null,null,null,null,null,null,"",null,null,"",null,null,null,null,null,null,{"$f":"IFERROR(VLOOKUP('4.Substance-in-Product'!Z253,DSL!A:H,6,FALSE),\"-\")","v":"-"}]
[null,null,null,null,null,null,null,null,null,null,null,null,null,null,null,null,null,null,null,null,null,null,null,null,null,"",null,null,"",null,null,null,null,null,null,{"$f":"IFERROR(VLOOKUP('4.Substance-in-Product'!Z254,DSL!A:H,6,FALSE),\"-\")","v":"-"}]
[null,null,null,null,null,null,null,null,null,null,null,null,null,null,null,null,null,null,null,null,null,null,null,null,null,"",null,null,"",null,null,null,null,null,null,{"$f":"IFERROR(VLOOKUP('4.Substance-in-Product'!Z255,DSL!A:H,6,FALSE),\"-\")","v":"-"}]
[null,null,null,null,null,null,null,null,null,null,null,null,null,null,null,null,null,null,null,null,null,null,null,null,null,"",null,null,"",null,null,null,null,null,null,{"$f":"IFERROR(VLOOKUP('4.Substance-in-Product'!Z256,DSL!A:H,6,FALSE),\"-\")","v":"-"}]
[null,null,null,null,null,null,null,null,null,null,null,null,null,null,null,null,null,null,null,null,null,null,null,null,null,"",null,null,"",null,null,null,null,null,null,{"$f":"IFERROR(VLOOKUP('4.Substance-in-Product'!Z257,DSL!A:H,6,FALSE),\"-\")","v":"-"}]
[null,null,null,null,null,null,null,null,null,null,null,null,null,null,null,null,null,null,null,null,null,null,null,null,null,"",null,null,"",null,null,null,null,null,null,{"$f":"IFERROR(VLOOKUP('4.Substance-in-Product'!Z258,DSL!A:H,6,FALSE),\"-\")","v":"-"}]
[null,null,null,null,null,null,null,null,null,null,null,null,null,null,null,null,null,null,null,null,null,null,null,null,null,"",null,null,"",null,null,null,null,null,null,{"$f":"IFERROR(VLOOKUP('4.Substance-in-Product'!Z259,DSL!A:H,6,FALSE),\"-\")","v":"-"}]
[null,null,null,null,null,null,null,null,null,null,null,null,null,null,null,null,null,null,null,null,null,null,null,null,null,"",null,null,"",null,null,null,null,null,null,{"$f":"IFERROR(VLOOKUP('4.Substance-in-Product'!Z260,DSL!A:H,6,FALSE),\"-\")","v":"-"}]
[null,null,null,null,null,null,null,null,null,null,null,null,null,null,null,null,null,null,null,null,null,null,null,null,null,"",null,null,"",null,null,null,null,null,null,{"$f":"IFERROR(VLOOKUP('4.Substance-in-Product'!Z261,DSL!A:H,6,FALSE),\"-\")","v":"-"}]
[null,null,null,null,null,null,null,null,null,null,null,null,null,null,null,null,null,null,null,null,null,null,null,null,null,"",null,null,"",null,null,null,null,null,null,{"$f":"IFERROR(VLOOKUP('4.Substance-in-Product'!Z262,DSL!A:H,6,FALSE),\"-\")","v":"-"}]
[null,null,null,null,null,null,null,null,null,null,null,null,null,null,null,null,null,null,null,null,null,null,null,null,null,"",null,null,"",null,null,null,null,null,null,{"$f":"IFERROR(VLOOKUP('4.Substance-in-Product'!Z263,DSL!A:H,6,FALSE),\"-\")","v":"-"}]
[null,null,null,null,null,null,null,null,null,null,null,null,null,null,null,null,null,null,null,null,null,null,null,null,null,"",null,null,"",null,null,null,null,null,null,{"$f":"IFERROR(VLOOKUP('4.Substance-in-Product'!Z264,DSL!A:H,6,FALSE),\"-\")","v":"-"}]
[null,null,null,null,null,null,null,null,null,null,null,null,null,null,null,null,null,null,null,null,null,null,null,null,null,"",null,null,"",null,null,null,null,null,null,{"$f":"IFERROR(VLOOKUP('4.Substance-in-Product'!Z265,DSL!A:H,6,FALSE),\"-\")","v":"-"}]
[null,null,null,null,null,null,null,null,null,null,null,null,null,null,null,null,null,null,null,null,null,null,null,null,null,"",null,null,"",null,null,null,null,null,null,{"$f":"IFERROR(VLOOKUP('4.Substance-in-Product'!Z266,DSL!A:H,6,FALSE),\"-\")","v":"-"}]
[null,null,null,null,null,null,null,null,null,null,null,null,null,null,null,null,null,null,null,null,null,null,null,null,null,"",null,null,"",null,null,null,null,null,null,{"$f":"IFERROR(VLOOKUP('4.Substance-in-Product'!Z267,DSL!A:H,6,FALSE),\"-\")","v":"-"}]
[null,null,null,null,null,null,null,null,null,null,null,null,null,null,null,null,null,null,null,null,null,null,null,null,null,"",null,null,"",null,null,null,null,null,null,{"$f":"IFERROR(VLOOKUP('4.Substance-in-Product'!Z268,DSL!A:H,6,FALSE),\"-\")","v":"-"}]
[null,null,null,null,null,null,null,null,null,null,null,null,null,null,null,null,null,null,null,null,null,null,null,null,null,"",null,null,"",null,null,null,null,null,null,{"$f":"IFERROR(VLOOKUP('4.Substance-in-Product'!Z269,DSL!A:H,6,FALSE),\"-\")","v":"-"}]
[null,null,null,null,null,null,null,null,null,null,null,null,null,null,null,null,null,null,null,null,null,null,null,null,null,"",null,null,"",null,null,null,null,null,null,{"$f":"IFERROR(VLOOKUP('4.Substance-in-Product'!Z270,DSL!A:H,6,FALSE),\"-\")","v":"-"}]
[null,null,null,null,null,null,null,null,null,null,null,null,null,null,null,null,null,null,null,null,null,null,null,null,null,"",null,null,"",null,null,null,null,null,null,{"$f":"IFERROR(VLOOKUP('4.Substance-in-Product'!Z271,DSL!A:H,6,FALSE),\"-\")","v":"-"}]
[null,null,null,null,null,null,null,null,null,null,null,null,null,null,null,null,null,null,null,null,null,null,null,null,null,"",null,null,"",null,null,null,null,null,null,{"$f":"IFERROR(VLOOKUP('4.Substance-in-Product'!Z272,DSL!A:H,6,FALSE),\"-\")","v":"-"}]
[null,null,null,null,null,null,null,null,null,null,null,null,null,null,null,null,null,null,null,null,null,null,null,null,null,"",null,null,"",null,null,null,null,null,null,{"$f":"IFERROR(VLOOKUP('4.Substance-in-Product'!Z273,DSL!A:H,6,FALSE),\"-\")","v":"-"}]
[null,null,null,null,null,null,null,null,null,null,null,null,null,null,null,null,null,null,null,null,null,null,null,null,null,"",null,null,"",null,null,null,null,null,null,{"$f":"IFERROR(VLOOKUP('4.Substance-in-Product'!Z274,DSL!A:H,6,FALSE),\"-\")","v":"-"}]
[null,null,null,null,null,null,null,null,null,null,null,null,null,null,null,null,null,null,null,null,null,null,null,null,null,"",null,null,"",null,null,null,null,null,null,{"$f":"IFERROR(VLOOKUP('4.Substance-in-Product'!Z275,DSL!A:H,6,FALSE),\"-\")","v":"-"}]
[null,null,null,null,null,null,null,null,null,null,null,null,null,null,null,null,null,null,null,null,null,null,null,null,null,"",null,null,"",null,null,null,null,null,null,{"$f":"IFERROR(VLOOKUP('4.Substance-in-Product'!Z276,DSL!A:H,6,FALSE),\"-\")","v":"-"}]
[null,null,null,null,null,null,null,null,null,null,null,null,null,null,null,null,null,null,null,null,null,null,null,null,null,"",null,null,"",null,null,null,null,null,null,{"$f":"IFERROR(VLOOKUP('4.Substance-in-Product'!Z277,DSL!A:H,6,FALSE),\"-\")","v":"-"}]
[null,null,null,null,null,null,null,null,null,null,null,null,null,null,null,null,null,null,null,null,null,null,null,null,null,"",null,null,"",null,null,null,null,null,null,{"$f":"IFERROR(VLOOKUP('4.Substance-in-Product'!Z278,DSL!A:H,6,FALSE),\"-\")","v":"-"}]
[null,null,null,null,null,null,null,null,null,null,null,null,null,null,null,null,null,null,null,null,null,null,null,null,null,"",null,null,"",null,null,null,null,null,null,{"$f":"IFERROR(VLOOKUP('4.Substance-in-Product'!Z279,DSL!A:H,6,FALSE),\"-\")","v":"-"}]
[null,null,null,null,null,null,null,null,null,null,null,null,null,null,null,null,null,null,null,null,null,null,null,null,null,"",null,null,"",null,null,null,null,null,null,{"$f":"IFERROR(VLOOKUP('4.Substance-in-Product'!Z280,DSL!A:H,6,FALSE),\"-\")","v":"-"}]
[null,null,null,null,null,null,null,null,null,null,null,null,null,null,null,null,null,null,null,null,null,null,null,null,null,"",null,null,"",null,null,null,null,null,null,{"$f":"IFERROR(VLOOKUP('4.Substance-in-Product'!Z281,DSL!A:H,6,FALSE),\"-\")","v":"-"}]
[null,null,null,null,null,null,null,null,null,null,null,null,null,null,null,null,null,null,null,null,null,null,null,null,null,"",null,null,"",null,null,null,null,null,null,{"$f":"IFERROR(VLOOKUP('4.Substance-in-Product'!Z282,DSL!A:H,6,FALSE),\"-\")","v":"-"}]
[null,null,null,null,null,null,null,null,null,null,null,null,null,null,null,null,null,null,null,null,null,null,null,null,null,"",null,null,"",null,null,null,null,null,null,{"$f":"IFERROR(VLOOKUP('4.Substance-in-Product'!Z283,DSL!A:H,6,FALSE),\"-\")","v":"-"}]
[null,null,null,null,null,null,null,null,null,null,null,null,null,null,null,null,null,null,null,null,null,null,null,null,null,"",null,null,"",null,null,null,null,null,null,{"$f":"IFERROR(VLOOKUP('4.Substance-in-Product'!Z284,DSL!A:H,6,FALSE),\"-\")","v":"-"}]
[null,null,null,null,null,null,null,null,null,null,null,null,null,null,null,null,null,null,null,null,null,null,null,null,null,"",null,null,"",null,null,null,null,null,null,{"$f":"IFERROR(VLOOKUP('4.Substance-in-Product'!Z285,DSL!A:H,6,FALSE),\"-\")","v":"-"}]
[null,null,null,null,null,null,null,null,null,null,null,null,null,null,null,null,null,null,null,null,null,null,null,null,null,"",null,null,"",null,null,null,null,null,null,{"$f":"IFERROR(VLOOKUP('4.Substance-in-Product'!Z286,DSL!A:H,6,FALSE),\"-\")","v":"-"}]
[null,null,null,null,null,null,null,null,null,null,null,null,null,null,null,null,null,null,null,null,null,null,null,null,null,"",null,null,"",null,null,null,null,null,null,{"$f":"IFERROR(VLOOKUP('4.Substance-in-Product'!Z287,DSL!A:H,6,FALSE),\"-\")","v":"-"}]
[null,null,null,null,null,null,null,null,null,null,null,null,null,null,null,null,null,null,null,null,null,null,null,null,null,"",null,null,"",null,null,null,null,null,null,{"$f":"IFERROR(VLOOKUP('4.Substance-in-Product'!Z288,DSL!A:H,6,FALSE),\"-\")","v":"-"}]
[null,null,null,null,null,null,null,null,null,null,null,null,null,null,null,null,null,null,null,null,null,null,null,null,null,"",null,null,"",null,null,null,null,null,null,{"$f":"IFERROR(VLOOKUP('4.Substance-in-Product'!Z289,DSL!A:H,6,FALSE),\"-\")","v":"-"}]
[null,null,null,null,null,null,null,null,null,null,null,null,null,null,null,null,null,null,null,null,null,null,null,null,null,"",null,null,"",null,null,null,null,null,null,{"$f":"IFERROR(VLOOKUP('4.Substance-in-Product'!Z290,DSL!A:H,6,FALSE),\"-\")","v":"-"}]
[null,null,null,null,null,null,null,null,null,null,null,null,null,null,null,null,null,null,null,null,null,null,null,null,null,"",null,null,"",null,null,null,null,null,null,{"$f":"IFERROR(VLOOKUP('4.Substance-in-Product'!Z291,DSL!A:H,6,FALSE),\"-\")","v":"-"}]
[null,null,null,null,null,null,null,null,null,null,null,null,null,null,null,null,null,null,null,null,null,null,null,null,null,"",null,null,"",null,null,null,null,null,null,{"$f":"IFERROR(VLOOKUP('4.Substance-in-Product'!Z292,DSL!A:H,6,FALSE),\"-\")","v":"-"}]
[null,null,null,null,null,null,null,null,null,null,null,null,null,null,null,null,null,null,null,null,null,null,null,null,null,"",null,null,"",null,null,null,null,null,null,{"$f":"IFERROR(VLOOKUP('4.Substance-in-Product'!Z293,DSL!A:H,6,FALSE),\"-\")","v":"-"}]
[null,null,null,null,null,null,null,null,null,null,null,null,null,null,null,null,null,null,null,null,null,null,null,null,null,"",null,null,"",null,null,null,null,null,null,{"$f":"IFERROR(VLOOKUP('4.Substance-in-Product'!Z294,DSL!A:H,6,FALSE),\"-\")","v":"-"}]
[null,null,null,null,null,null,null,null,null,null,null,null,null,null,null,null,null,null,null,null,null,null,null,null,null,"",null,null,"",null,null,null,null,null,null,{"$f":"IFERROR(VLOOKUP('4.Substance-in-Product'!Z295,DSL!A:H,6,FALSE),\"-\")","v":"-"}]
[null,null,null,null,null,null,null,null,null,null,null,null,null,null,null,null,null,null,null,null,null,null,null,null,null,"",null,null,"",null,null,null,null,null,null,{"$f":"IFERROR(VLOOKUP('4.Substance-in-Product'!Z296,DSL!A:H,6,FALSE),\"-\")","v":"-"}]
[null,null,null,null,null,null,null,null,null,null,null,null,null,null,null,null,null,null,null,null,null,null,null,null,null,"",null,null,"",null,null,null,null,null,null,{"$f":"IFERROR(VLOOKUP('4.Substance-in-Product'!Z297,DSL!A:H,6,FALSE),\"-\")","v":"-"}]
[null,null,null,null,null,null,null,null,null,null,null,null,null,null,null,null,null,null,null,null,null,null,null,null,null,"",null,null,"",null,null,null,null,null,null,{"$f":"IFERROR(VLOOKUP('4.Substance-in-Product'!Z298,DSL!A:H,6,FALSE),\"-\")","v":"-"}]
[null,null,null,null,null,null,null,null,null,null,null,null,null,null,null,null,null,null,null,null,null,null,null,null,null,"",null,null,"",null,null,null,null,null,null,{"$f":"IFERROR(VLOOKUP('4.Substance-in-Product'!Z299,DSL!A:H,6,FALSE),\"-\")","v":"-"}]
[null,null,null,null,null,null,null,null,null,null,null,null,null,null,null,null,null,null,null,null,null,null,null,null,null,"",null,null,"",null,null,null,null,null,null,{"$f":"IFERROR(VLOOKUP('4.Substance-in-Product'!Z300,DSL!A:H,6,FALSE),\"-\")","v":"-"}]
[null,null,null,null,null,null,null,null,null,null,null,null,null,null,null,null,null,null,null,null,null,null,null,null,null,"",null,null,"",null,null,null,null,null,null,{"$f":"IFERROR(VLOOKUP('4.Substance-in-Product'!Z301,DSL!A:H,6,FALSE),\"-\")","v":"-"}]
[null,null,null,null,null,null,null,null,null,null,null,null,null,null,null,null,null,null,null,null,null,null,null,null,null,"",null,null,"",null,null,null,null,null,null,{"$f":"IFERROR(VLOOKUP('4.Substance-in-Product'!Z302,DSL!A:H,6,FALSE),\"-\")","v":"-"}]
[null,null,null,null,null,null,null,null,null,null,null,null,null,null,null,null,null,null,null,null,null,null,null,null,null,"",null,null,"",null,null,null,null,null,null,{"$f":"IFERROR(VLOOKUP('4.Substance-in-Product'!Z303,DSL!A:H,6,FALSE),\"-\")","v":"-"}]
[null,null,null,null,null,null,null,null,null,null,null,null,null,null,null,null,null,null,null,null,null,null,null,null,null,"",null,null,"",null,null,null,null,null,null,{"$f":"IFERROR(VLOOKUP('4.Substance-in-Product'!Z304,DSL!A:H,6,FALSE),\"-\")","v":"-"}]
[null,null,null,null,null,null,null,null,null,null,null,null,null,null,null,null,null,null,null,null,null,null,null,null,null,"",null,null,"",null,null,null,null,null,null,{"$f":"IFERROR(VLOOKUP('4.Substance-in-Product'!Z305,DSL!A:H,6,FALSE),\"-\")","v":"-"}]
[null,null,null,null,null,null,null,null,null,null,null,null,null,null,null,null,null,null,null,null,null,null,null,null,null,"",null,null,"",null,null,null,null,null,null,{"$f":"IFERROR(VLOOKUP('4.Substance-in-Product'!Z306,DSL!A:H,6,FALSE),\"-\")","v":"-"}]
[null,null,null,null,null,null,null,null,null,null,null,null,null,null,null,null,null,null,null,null,null,null,null,null,null,"",null,null,"",null,null,null,null,null,null,{"$f":"IFERROR(VLOOKUP('4.Substance-in-Product'!Z307,DSL!A:H,6,FALSE),\"-\")","v":"-"}]
[null,null,null,null,null,null,null,null,null,null,null,null,null,null,null,null,null,null,null,null,null,null,null,null,null,"",null,null,"",null,null,null,null,null,null,{"$f":"IFERROR(VLOOKUP('4.Substance-in-Product'!Z308,DSL!A:H,6,FALSE),\"-\")","v":"-"}]
[null,null,null,null,null,null,null,null,null,null,null,null,null,null,null,null,null,null,null,null,null,null,null,null,null,"",null,null,"",null,null,null,null,null,null,{"$f":"IFERROR(VLOOKUP('4.Substance-in-Product'!Z309,DSL!A:H,6,FALSE),\"-\")","v":"-"}]
[null,null,null,null,null,null,null,null,null,null,null,null,null,null,null,null,null,null,null,null,null,null,null,null,null,"",null,null,"",null,null,null,null,null,null,{"$f":"IFERROR(VLOOKUP('4.Substance-in-Product'!Z310,DSL!A:H,6,FALSE),\"-\")","v":"-"}]
[null,null,null,null,null,null,null,null,null,null,null,null,null,null,null,null,null,null,null,null,null,null,null,null,null,"",null,null,"",null,null,null,null,null,null,{"$f":"IFERROR(VLOOKUP('4.Substance-in-Product'!Z311,DSL!A:H,6,FALSE),\"-\")","v":"-"}]
[null,null,null,null,null,null,null,null,null,null,null,null,null,null,null,null,null,null,null,null,null,null,null,null,null,"",null,null,"",null,null,null,null,null,null,{"$f":"IFERROR(VLOOKUP('4.Substance-in-Product'!Z312,DSL!A:H,6,FALSE),\"-\")","v":"-"}]
[null,null,null,null,null,null,null,null,null,null,null,null,null,null,null,null,null,null,null,null,null,null,null,null,null,"",null,null,"",null,null,null,null,null,null,{"$f":"IFERROR(VLOOKUP('4.Substance-in-Product'!Z313,DSL!A:H,6,FALSE),\"-\")","v":"-"}]
[null,null,null,null,null,null,null,null,null,null,null,null,null,null,null,null,null,null,null,null,null,null,null,null,null,"",null,null,"",null,null,null,null,null,null,{"$f":"IFERROR(VLOOKUP('4.Substance-in-Product'!Z314,DSL!A:H,6,FALSE),\"-\")","v":"-"}]
[null,null,null,null,null,null,null,null,null,null,null,null,null,null,null,null,null,null,null,null,null,null,null,null,null,"",null,null,"",null,null,null,null,null,null,{"$f":"IFERROR(VLOOKUP('4.Substance-in-Product'!Z315,DSL!A:H,6,FALSE),\"-\")","v":"-"}]
[null,null,null,null,null,null,null,null,null,null,null,null,null,null,null,null,null,null,null,null,null,null,null,null,null,"",null,null,"",null,null,null,null,null,null,{"$f":"IFERROR(VLOOKUP('4.Substance-in-Product'!Z316,DSL!A:H,6,FALSE),\"-\")","v":"-"}]
[null,null,null,null,null,null,null,null,null,null,null,null,null,null,null,null,null,null,null,null,null,null,null,null,null,"",null,null,"",null,null,null,null,null,null,{"$f":"IFERROR(VLOOKUP('4.Substance-in-Product'!Z317,DSL!A:H,6,FALSE),\"-\")","v":"-"}]
[null,null,null,null,null,null,null,null,null,null,null,null,null,null,null,null,null,null,null,null,null,null,null,null,null,"",null,null,"",null,null,null,null,null,null,{"$f":"IFERROR(VLOOKUP('4.Substance-in-Product'!Z318,DSL!A:H,6,FALSE),\"-\")","v":"-"}]
[null,null,null,null,null,null,null,null,null,null,null,null,null,null,null,null,null,null,null,null,null,null,null,null,null,"",null,null,"",null,null,null,null,null,null,{"$f":"IFERROR(VLOOKUP('4.Substance-in-Product'!Z319,DSL!A:H,6,FALSE),\"-\")","v":"-"}]
[null,null,null,null,null,null,null,null,null,null,null,null,null,null,null,null,null,null,null,null,null,null,null,null,null,"",null,null,"",null,null,null,null,null,null,{"$f":"IFERROR(VLOOKUP('4.Substance-in-Product'!Z320,DSL!A:H,6,FALSE),\"-\")","v":"-"}]
[null,null,null,null,null,null,null,null,null,null,null,null,null,null,null,null,null,null,null,null,null,null,null,null,null,"",null,null,"",null,null,null,null,null,null,{"$f":"IFERROR(VLOOKUP('4.Substance-in-Product'!Z321,DSL!A:H,6,FALSE),\"-\")","v":"-"}]
[null,null,null,null,null,null,null,null,null,null,null,null,null,null,null,null,null,null,null,null,null,null,null,null,null,"",null,null,"",null,null,null,null,null,null,{"$f":"IFERROR(VLOOKUP('4.Substance-in-Product'!Z322,DSL!A:H,6,FALSE),\"-\")","v":"-"}]
[null,null,null,null,null,null,null,null,null,null,null,null,null,null,null,null,null,null,null,null,null,null,null,null,null,"",null,null,"",null,null,null,null,null,null,{"$f":"IFERROR(VLOOKUP('4.Substance-in-Product'!Z323,DSL!A:H,6,FALSE),\"-\")","v":"-"}]
[null,null,null,null,null,null,null,null,null,null,null,null,null,null,null,null,null,null,null,null,null,null,null,null,null,"",null,null,"",null,null,null,null,null,null,{"$f":"IFERROR(VLOOKUP('4.Substance-in-Product'!Z324,DSL!A:H,6,FALSE),\"-\")","v":"-"}]
[null,null,null,null,null,null,null,null,null,null,null,null,null,null,null,null,null,null,null,null,null,null,null,null,null,"",null,null,"",null,null,null,null,null,null,{"$f":"IFERROR(VLOOKUP('4.Substance-in-Product'!Z325,DSL!A:H,6,FALSE),\"-\")","v":"-"}]
[null,null,null,null,null,null,null,null,null,null,null,null,null,null,null,null,null,null,null,null,null,null,null,null,null,"",null,null,"",null,null,null,null,null,null,{"$f":"IFERROR(VLOOKUP('4.Substance-in-Product'!Z326,DSL!A:H,6,FALSE),\"-\")","v":"-"}]
[null,null,null,null,null,null,null,null,null,null,null,null,null,null,null,null,null,null,null,null,null,null,null,null,null,"",null,null,"",null,null,null,null,null,null,{"$f":"IFERROR(VLOOKUP('4.Substance-in-Product'!Z327,DSL!A:H,6,FALSE),\"-\")","v":"-"}]
[null,null,null,null,null,null,null,null,null,null,null,null,null,null,null,null,null,null,null,null,null,null,null,null,null,"",null,null,"",null,null,null,null,null,null,{"$f":"IFERROR(VLOOKUP('4.Substance-in-Product'!Z328,DSL!A:H,6,FALSE),\"-\")","v":"-"}]
[null,null,null,null,null,null,null,null,null,null,null,null,null,null,null,null,null,null,null,null,null,null,null,null,null,"",null,null,"",null,null,null,null,null,null,{"$f":"IFERROR(VLOOKUP('4.Substance-in-Product'!Z329,DSL!A:H,6,FALSE),\"-\")","v":"-"}]
[null,null,null,null,null,null,null,null,null,null,null,null,null,null,null,null,null,null,null,null,null,null,null,null,null,"",null,null,"",null,null,null,null,null,null,{"$f":"IFERROR(VLOOKUP('4.Substance-in-Product'!Z330,DSL!A:H,6,FALSE),\"-\")","v":"-"}]
[null,null,null,null,null,null,null,null,null,null,null,null,null,null,null,null,null,null,null,null,null,null,null,null,null,"",null,null,"",null,null,null,null,null,null,{"$f":"IFERROR(VLOOKUP('4.Substance-in-Product'!Z331,DSL!A:H,6,FALSE),\"-\")","v":"-"}]
[null,null,null,null,null,null,null,null,null,null,null,null,null,null,null,null,null,null,null,null,null,null,null,null,null,"",null,null,"",null,null,null,null,null,null,{"$f":"IFERROR(VLOOKUP('4.Substance-in-Product'!Z332,DSL!A:H,6,FALSE),\"-\")","v":"-"}]
[null,null,null,null,null,null,null,null,null,null,null,null,null,null,null,null,null,null,null,null,null,null,null,null,null,"",null,null,"",null,null,null,null,null,null,{"$f":"IFERROR(VLOOKUP('4.Substance-in-Product'!Z333,DSL!A:H,6,FALSE),\"-\")","v":"-"}]
[null,null,null,null,null,null,null,null,null,null,null,null,null,null,null,null,null,null,null,null,null,null,null,null,null,"",null,null,"",null,null,null,null,null,null,{"$f":"IFERROR(VLOOKUP('4.Substance-in-Product'!Z334,DSL!A:H,6,FALSE),\"-\")","v":"-"}]
[null,null,null,null,null,null,null,null,null,null,null,null,null,null,null,null,null,null,null,null,null,null,null,null,null,"",null,null,"",null,null,null,null,null,null,{"$f":"IFERROR(VLOOKUP('4.Substance-in-Product'!Z335,DSL!A:H,6,FALSE),\"-\")","v":"-"}]
[null,null,null,null,null,null,null,null,null,null,null,null,null,null,null,null,null,null,null,null,null,null,null,null,null,"",null,null,"",null,null,null,null,null,null,{"$f":"IFERROR(VLOOKUP('4.Substance-in-Product'!Z336,DSL!A:H,6,FALSE),\"-\")","v":"-"}]
[null,null,null,null,null,null,null,null,null,null,null,null,null,null,null,null,null,null,null,null,null,null,null,null,null,"",null,null,"",null,null,null,null,null,null,{"$f":"IFERROR(VLOOKUP('4.Substance-in-Product'!Z337,DSL!A:H,6,FALSE),\"-\")","v":"-"}]
[null,null,null,null,null,null,null,null,null,null,null,null,null,null,null,null,null,null,null,null,null,null,null,null,null,"",null,null,"",null,null,null,null,null,null,{"$f":"IFERROR(VLOOKUP('4.Substance-in-Product'!Z338,DSL!A:H,6,FALSE),\"-\")","v":"-"}]
[null,null,null,null,null,null,null,null,null,null,null,null,null,null,null,null,null,null,null,null,null,null,null,null,null,"",null,null,"",null,null,null,null,null,null,{"$f":"IFERROR(VLOOKUP('4.Substance-in-Product'!Z339,DSL!A:H,6,FALSE),\"-\")","v":"-"}]
[null,null,null,null,null,null,null,null,null,null,null,null,null,null,null,null,null,null,null,null,null,null,null,null,null,"",null,null,"",null,null,null,null,null,null,{"$f":"IFERROR(VLOOKUP('4.Substance-in-Product'!Z340,DSL!A:H,6,FALSE),\"-\")","v":"-"}]
[null,null,null,null,null,null,null,null,null,null,null,null,null,null,null,null,null,null,null,null,null,null,null,null,null,"",null,null,"",null,null,null,null,null,null,{"$f":"IFERROR(VLOOKUP('4.Substance-in-Product'!Z341,DSL!A:H,6,FALSE),\"-\")","v":"-"}]
[null,null,null,null,null,null,null,null,null,null,null,null,null,null,null,null,null,null,null,null,null,null,null,null,null,"",null,null,"",null,null,null,null,null,null,{"$f":"IFERROR(VLOOKUP('4.Substance-in-Product'!Z342,DSL!A:H,6,FALSE),\"-\")","v":"-"}]
[null,null,null,null,null,null,null,null,null,null,null,null,null,null,null,null,null,null,null,null,null,null,null,null,null,"",null,null,"",null,null,null,null,null,null,{"$f":"IFERROR(VLOOKUP('4.Substance-in-Product'!Z343,DSL!A:H,6,FALSE),\"-\")","v":"-"}]
[null,null,null,null,null,null,null,null,null,null,null,null,null,null,null,null,null,null,null,null,null,null,null,null,null,"",null,null,"",null,null,null,null,null,null,{"$f":"IFERROR(VLOOKUP('4.Substance-in-Product'!Z344,DSL!A:H,6,FALSE),\"-\")","v":"-"}]
[null,null,null,null,null,null,null,null,null,null,null,null,null,null,null,null,null,null,null,null,null,null,null,null,null,"",null,null,"",null,null,null,null,null,null,{"$f":"IFERROR(VLOOKUP('4.Substance-in-Product'!Z345,DSL!A:H,6,FALSE),\"-\")","v":"-"}]
[null,null,null,null,null,null,null,null,null,null,null,null,null,null,null,null,null,null,null,null,null,null,null,null,null,"",null,null,"",null,null,null,null,null,null,{"$f":"IFERROR(VLOOKUP('4.Substance-in-Product'!Z346,DSL!A:H,6,FALSE),\"-\")","v":"-"}]
[null,null,null,null,null,null,null,null,null,null,null,null,null,null,null,null,null,null,null,null,null,null,null,null,null,"",null,null,"",null,null,null,null,null,null,{"$f":"IFERROR(VLOOKUP('4.Substance-in-Product'!Z347,DSL!A:H,6,FALSE),\"-\")","v":"-"}]
[null,null,null,null,null,null,null,null,null,null,null,null,null,null,null,null,null,null,null,null,null,null,null,null,null,"",null,null,"",null,null,null,null,null,null,{"$f":"IFERROR(VLOOKUP('4.Substance-in-Product'!Z348,DSL!A:H,6,FALSE),\"-\")","v":"-"}]
[null,null,null,null,null,null,null,null,null,null,null,null,null,null,null,null,null,null,null,null,null,null,null,null,null,"",null,null,"",null,null,null,null,null,null,{"$f":"IFERROR(VLOOKUP('4.Substance-in-Product'!Z349,DSL!A:H,6,FALSE),\"-\")","v":"-"}]
[null,null,null,null,null,null,null,null,null,null,null,null,null,null,null,null,null,null,null,null,null,null,null,null,null,"",null,null,"",null,null,null,null,null,null,{"$f":"IFERROR(VLOOKUP('4.Substance-in-Product'!Z350,DSL!A:H,6,FALSE),\"-\")","v":"-"}]
[null,null,null,null,null,null,null,null,null,null,null,null,null,null,null,null,null,null,null,null,null,null,null,null,null,"",null,null,"",null,null,null,null,null,null,{"$f":"IFERROR(VLOOKUP('4.Substance-in-Product'!Z351,DSL!A:H,6,FALSE),\"-\")","v":"-"}]
[null,null,null,null,null,null,null,null,null,null,null,null,null,null,null,null,null,null,null,null,null,null,null,null,null,"",null,null,"",null,null,null,null,null,null,{"$f":"IFERROR(VLOOKUP('4.Substance-in-Product'!Z352,DSL!A:H,6,FALSE),\"-\")","v":"-"}]
[null,null,null,null,null,null,null,null,null,null,null,null,null,null,null,null,null,null,null,null,null,null,null,null,null,"",null,null,"",null,null,null,null,null,null,{"$f":"IFERROR(VLOOKUP('4.Substance-in-Product'!Z353,DSL!A:H,6,FALSE),\"-\")","v":"-"}]
[null,null,null,null,null,null,null,null,null,null,null,null,null,null,null,null,null,null,null,null,null,null,null,null,null,"",null,null,"",null,null,null,null,null,null,{"$f":"IFERROR(VLOOKUP('4.Substance-in-Product'!Z354,DSL!A:H,6,FALSE),\"-\")","v":"-"}]
[null,null,null,null,null,null,null,null,null,null,null,null,null,null,null,null,null,null,null,null,null,null,null,null,null,"",null,null,"",null,null,null,null,null,null,{"$f":"IFERROR(VLOOKUP('4.Substance-in-Product'!Z355,DSL!A:H,6,FALSE),\"-\")","v":"-"}]
[null,null,null,null,null,null,null,null,null,null,null,null,null,null,null,null,null,null,null,null,null,null,null,null,null,"",null,null,"",null,null,null,null,null,null,{"$f":"IFERROR(VLOOKUP('4.Substance-in-Product'!Z356,DSL!A:H,6,FALSE),\"-\")","v":"-"}]
[null,null,null,null,null,null,null,null,null,null,null,null,null,null,null,null,null,null,null,null,null,null,null,null,null,"",null,null,"",null,null,null,null,null,null,{"$f":"IFERROR(VLOOKUP('4.Substance-in-Product'!Z357,DSL!A:H,6,FALSE),\"-\")","v":"-"}]
[null,null,null,null,null,null,null,null,null,null,null,null,null,null,null,null,null,null,null,null,null,null,null,null,null,"",null,null,"",null,null,null,null,null,null,{"$f":"IFERROR(VLOOKUP('4.Substance-in-Product'!Z358,DSL!A:H,6,FALSE),\"-\")","v":"-"}]
[null,null,null,null,null,null,null,null,null,null,null,null,null,null,null,null,null,null,null,null,null,null,null,null,null,"",null,null,"",null,null,null,null,null,null,{"$f":"IFERROR(VLOOKUP('4.Substance-in-Product'!Z359,DSL!A:H,6,FALSE),\"-\")","v":"-"}]
[null,null,null,null,null,null,null,null,null,null,null,null,null,null,null,null,null,null,null,null,null,null,null,null,null,"",null,null,"",null,null,null,null,null,null,{"$f":"IFERROR(VLOOKUP('4.Substance-in-Product'!Z360,DSL!A:H,6,FALSE),\"-\")","v":"-"}]
[null,null,null,null,null,null,null,null,null,null,null,null,null,null,null,null,null,null,null,null,null,null,null,null,null,"",null,null,"",null,null,null,null,null,null,{"$f":"IFERROR(VLOOKUP('4.Substance-in-Product'!Z361,DSL!A:H,6,FALSE),\"-\")","v":"-"}]
[null,null,null,null,null,null,null,null,null,null,null,null,null,null,null,null,null,null,null,null,null,null,null,null,null,"",null,null,"",null,null,null,null,null,null,{"$f":"IFERROR(VLOOKUP('4.Substance-in-Product'!Z362,DSL!A:H,6,FALSE),\"-\")","v":"-"}]
[null,null,null,null,null,null,null,null,null,null,null,null,null,null,null,null,null,null,null,null,null,null,null,null,null,"",null,null,"",null,null,null,null,null,null,{"$f":"IFERROR(VLOOKUP('4.Substance-in-Product'!Z363,DSL!A:H,6,FALSE),\"-\")","v":"-"}]
[null,null,null,null,null,null,null,null,null,null,null,null,null,null,null,null,null,null,null,null,null,null,null,null,null,"",null,null,"",null,null,null,null,null,null,{"$f":"IFERROR(VLOOKUP('4.Substance-in-Product'!Z364,DSL!A:H,6,FALSE),\"-\")","v":"-"}]
[null,null,null,null,null,null,null,null,null,null,null,null,null,null,null,null,null,null,null,null,null,null,null,null,null,"",null,null,"",null,null,null,null,null,null,{"$f":"IFERROR(VLOOKUP('4.Substance-in-Product'!Z365,DSL!A:H,6,FALSE),\"-\")","v":"-"}]
[null,null,null,null,null,null,null,null,null,null,null,null,null,null,null,null,null,null,null,null,null,null,null,null,null,"",null,null,"",null,null,null,null,null,null,{"$f":"IFERROR(VLOOKUP('4.Substance-in-Product'!Z366,DSL!A:H,6,FALSE),\"-\")","v":"-"}]
[null,null,null,null,null,null,null,null,null,null,null,null,null,null,null,null,null,null,null,null,null,null,null,null,null,"",null,null,"",null,null,null,null,null,null,{"$f":"IFERROR(VLOOKUP('4.Substance-in-Product'!Z367,DSL!A:H,6,FALSE),\"-\")","v":"-"}]
[null,null,null,null,null,null,null,null,null,null,null,null,null,null,null,null,null,null,null,null,null,null,null,null,null,"",null,null,"",null,null,null,null,null,null,{"$f":"IFERROR(VLOOKUP('4.Substance-in-Product'!Z368,DSL!A:H,6,FALSE),\"-\")","v":"-"}]
[null,null,null,null,null,null,null,null,null,null,null,null,null,null,null,null,null,null,null,null,null,null,null,null,null,"",null,null,"",null,null,null,null,null,null,{"$f":"IFERROR(VLOOKUP('4.Substance-in-Product'!Z369,DSL!A:H,6,FALSE),\"-\")","v":"-"}]
[null,null,null,null,null,null,null,null,null,null,null,null,null,null,null,null,null,null,null,null,null,null,null,null,null,"",null,null,"",null,null,null,null,null,null,{"$f":"IFERROR(VLOOKUP('4.Substance-in-Product'!Z370,DSL!A:H,6,FALSE),\"-\")","v":"-"}]
[null,null,null,null,null,null,null,null,null,null,null,null,null,null,null,null,null,null,null,null,null,null,null,null,null,"",null,null,"",null,null,null,null,null,null,{"$f":"IFERROR(VLOOKUP('4.Substance-in-Product'!Z371,DSL!A:H,6,FALSE),\"-\")","v":"-"}]
[null,null,null,null,null,null,null,null,null,null,null,null,null,null,null,null,null,null,null,null,null,null,null,null,null,"",null,null,"",null,null,null,null,null,null,{"$f":"IFERROR(VLOOKUP('4.Substance-in-Product'!Z372,DSL!A:H,6,FALSE),\"-\")","v":"-"}]
[null,null,null,null,null,null,null,null,null,null,null,null,null,null,null,null,null,null,null,null,null,null,null,null,null,"",null,null,"",null,null,null,null,null,null,{"$f":"IFERROR(VLOOKUP('4.Substance-in-Product'!Z373,DSL!A:H,6,FALSE),\"-\")","v":"-"}]
[null,null,null,null,null,null,null,null,null,null,null,null,null,null,null,null,null,null,null,null,null,null,null,null,null,"",null,null,"",null,null,null,null,null,null,{"$f":"IFERROR(VLOOKUP('4.Substance-in-Product'!Z374,DSL!A:H,6,FALSE),\"-\")","v":"-"}]
[null,null,null,null,null,null,null,null,null,null,null,null,null,null,null,null,null,null,null,null,null,null,null,null,null,"",null,null,"",null,null,null,null,null,null,{"$f":"IFERROR(VLOOKUP('4.Substance-in-Product'!Z375,DSL!A:H,6,FALSE),\"-\")","v":"-"}]
[null,null,null,null,null,null,null,null,null,null,null,null,null,null,null,null,null,null,null,null,null,null,null,null,null,"",null,null,"",null,null,null,null,null,null,{"$f":"IFERROR(VLOOKUP('4.Substance-in-Product'!Z376,DSL!A:H,6,FALSE),\"-\")","v":"-"}]
[null,null,null,null,null,null,null,null,null,null,null,null,null,null,null,null,null,null,null,null,null,null,null,null,null,"",null,null,"",null,null,null,null,null,null,{"$f":"IFERROR(VLOOKUP('4.Substance-in-Product'!Z377,DSL!A:H,6,FALSE),\"-\")","v":"-"}]
[null,null,null,null,null,null,null,null,null,null,null,null,null,null,null,null,null,null,null,null,null,null,null,null,null,"",null,null,"",null,null,null,null,null,null,{"$f":"IFERROR(VLOOKUP('4.Substance-in-Product'!Z378,DSL!A:H,6,FALSE),\"-\")","v":"-"}]
[null,null,null,null,null,null,null,null,null,null,null,null,null,null,null,null,null,null,null,null,null,null,null,null,null,"",null,null,"",null,null,null,null,null,null,{"$f":"IFERROR(VLOOKUP('4.Substance-in-Product'!Z379,DSL!A:H,6,FALSE),\"-\")","v":"-"}]
[null,null,null,null,null,null,null,null,null,null,null,null,null,null,null,null,null,null,null,null,null,null,null,null,null,"",null,null,"",null,null,null,null,null,null,{"$f":"IFERROR(VLOOKUP('4.Substance-in-Product'!Z380,DSL!A:H,6,FALSE),\"-\")","v":"-"}]
[null,null,null,null,null,null,null,null,null,null,null,null,null,null,null,null,null,null,null,null,null,null,null,null,null,"",null,null,"",null,null,null,null,null,null,{"$f":"IFERROR(VLOOKUP('4.Substance-in-Product'!Z381,DSL!A:H,6,FALSE),\"-\")","v":"-"}]
[null,null,null,null,null,null,null,null,null,null,null,null,null,null,null,null,null,null,null,null,null,null,null,null,null,"",null,null,"",null,null,null,null,null,null,{"$f":"IFERROR(VLOOKUP('4.Substance-in-Product'!Z382,DSL!A:H,6,FALSE),\"-\")","v":"-"}]
[null,null,null,null,null,null,null,null,null,null,null,null,null,null,null,null,null,null,null,null,null,null,null,null,null,"",null,null,"",null,null,null,null,null,null,{"$f":"IFERROR(VLOOKUP('4.Substance-in-Product'!Z383,DSL!A:H,6,FALSE),\"-\")","v":"-"}]
[null,null,null,null,null,null,null,null,null,null,null,null,null,null,null,null,null,null,null,null,null,null,null,null,null,"",null,null,"",null,null,null,null,null,null,{"$f":"IFERROR(VLOOKUP('4.Substance-in-Product'!Z384,DSL!A:H,6,FALSE),\"-\")","v":"-"}]
[null,null,null,null,null,null,null,null,null,null,null,null,null,null,null,null,null,null,null,null,null,null,null,null,null,"",null,null,"",null,null,null,null,null,null,{"$f":"IFERROR(VLOOKUP('4.Substance-in-Product'!Z385,DSL!A:H,6,FALSE),\"-\")","v":"-"}]
[null,null,null,null,null,null,null,null,null,null,null,null,null,null,null,null,null,null,null,null,null,null,null,null,null,"",null,null,"",null,null,null,null,null,null,{"$f":"IFERROR(VLOOKUP('4.Substance-in-Product'!Z386,DSL!A:H,6,FALSE),\"-\")","v":"-"}]
[null,null,null,null,null,null,null,null,null,null,null,null,null,null,null,null,null,null,null,null,null,null,null,null,null,"",null,null,"",null,null,null,null,null,null,{"$f":"IFERROR(VLOOKUP('4.Substance-in-Product'!Z387,DSL!A:H,6,FALSE),\"-\")","v":"-"}]
[null,null,null,null,null,null,null,null,null,null,null,null,null,null,null,null,null,null,null,null,null,null,null,null,null,"",null,null,"",null,null,null,null,null,null,{"$f":"IFERROR(VLOOKUP('4.Substance-in-Product'!Z388,DSL!A:H,6,FALSE),\"-\")","v":"-"}]
[null,null,null,null,null,null,null,null,null,null,null,null,null,null,null,null,null,null,null,null,null,null,null,null,null,"",null,null,"",null,null,null,null,null,null,{"$f":"IFERROR(VLOOKUP('4.Substance-in-Product'!Z389,DSL!A:H,6,FALSE),\"-\")","v":"-"}]
[null,null,null,null,null,null,null,null,null,null,null,null,null,null,null,null,null,null,null,null,null,null,null,null,null,"",null,null,"",null,null,null,null,null,null,{"$f":"IFERROR(VLOOKUP('4.Substance-in-Product'!Z390,DSL!A:H,6,FALSE),\"-\")","v":"-"}]
[null,null,null,null,null,null,null,null,null,null,null,null,null,null,null,null,null,null,null,null,null,null,null,null,null,"",null,null,"",null,null,null,null,null,null,{"$f":"IFERROR(VLOOKUP('4.Substance-in-Product'!Z391,DSL!A:H,6,FALSE),\"-\")","v":"-"}]
[null,null,null,null,null,null,null,null,null,null,null,null,null,null,null,null,null,null,null,null,null,null,null,null,null,"",null,null,"",null,null,null,null,null,null,{"$f":"IFERROR(VLOOKUP('4.Substance-in-Product'!Z392,DSL!A:H,6,FALSE),\"-\")","v":"-"}]
[null,null,null,null,null,null,null,null,null,null,null,null,null,null,null,null,null,null,null,null,null,null,null,null,null,"",null,null,"",null,null,null,null,null,null,{"$f":"IFERROR(VLOOKUP('4.Substance-in-Product'!Z393,DSL!A:H,6,FALSE),\"-\")","v":"-"}]
[null,null,null,null,null,null,null,null,null,null,null,null,null,null,null,null,null,null,null,null,null,null,null,null,null,"",null,null,"",null,null,null,null,null,null,{"$f":"IFERROR(VLOOKUP('4.Substance-in-Product'!Z394,DSL!A:H,6,FALSE),\"-\")","v":"-"}]
[null,null,null,null,null,null,null,null,null,null,null,null,null,null,null,null,null,null,null,null,null,null,null,null,null,"",null,null,"",null,null,null,null,null,null,{"$f":"IFERROR(VLOOKUP('4.Substance-in-Product'!Z395,DSL!A:H,6,FALSE),\"-\")","v":"-"}]
[null,null,null,null,null,null,null,null,null,null,null,null,null,null,null,null,null,null,null,null,null,null,null,null,null,"",null,null,"",null,null,null,null,null,null,{"$f":"IFERROR(VLOOKUP('4.Substance-in-Product'!Z396,DSL!A:H,6,FALSE),\"-\")","v":"-"}]
[null,null,null,null,null,null,null,null,null,null,null,null,null,null,null,null,null,null,null,null,null,null,null,null,null,"",null,null,"",null,null,null,null,null,null,{"$f":"IFERROR(VLOOKUP('4.Substance-in-Product'!Z397,DSL!A:H,6,FALSE),\"-\")","v":"-"}]
[null,null,null,null,null,null,null,null,null,null,null,null,null,null,null,null,null,null,null,null,null,null,null,null,null,"",null,null,"",null,null,null,null,null,null,{"$f":"IFERROR(VLOOKUP('4.Substance-in-Product'!Z398,DSL!A:H,6,FALSE),\"-\")","v":"-"}]
[null,null,null,null,null,null,null,null,null,null,null,null,null,null,null,null,null,null,null,null,null,null,null,null,null,"",null,null,"",null,null,null,null,null,null,{"$f":"IFERROR(VLOOKUP('4.Substance-in-Product'!Z399,DSL!A:H,6,FALSE),\"-\")","v":"-"}]
[null,null,null,null,null,null,null,null,null,null,null,null,null,null,null,null,null,null,null,null,null,null,null,null,null,"",null,null,"",null,null,null,null,null,null,{"$f":"IFERROR(VLOOKUP('4.Substance-in-Product'!Z400,DSL!A:H,6,FALSE),\"-\")","v":"-"}]
[null,null,null,null,null,null,null,null,null,null,null,null,null,null,null,null,null,null,null,null,null,null,null,null,null,"",null,null,"",null,null,null,null,null,null,{"$f":"IFERROR(VLOOKUP('4.Substance-in-Product'!Z401,DSL!A:H,6,FALSE),\"-\")","v":"-"}]
[null,null,null,null,null,null,null,null,null,null,null,null,null,null,null,null,null,null,null,null,null,null,null,null,null,"",null,null,"",null,null,null,null,null,null,{"$f":"IFERROR(VLOOKUP('4.Substance-in-Product'!Z402,DSL!A:H,6,FALSE),\"-\")","v":"-"}]
[null,null,null,null,null,null,null,null,null,null,null,null,null,null,null,null,null,null,null,null,null,null,null,null,null,"",null,null,"",null,null,null,null,null,null,{"$f":"IFERROR(VLOOKUP('4.Substance-in-Product'!Z403,DSL!A:H,6,FALSE),\"-\")","v":"-"}]
[null,null,null,null,null,null,null,null,null,null,null,null,null,null,null,null,null,null,null,null,null,null,null,null,null,"",null,null,"",null,null,null,null,null,null,{"$f":"IFERROR(VLOOKUP('4.Substance-in-Product'!Z404,DSL!A:H,6,FALSE),\"-\")","v":"-"}]
[null,null,null,null,null,null,null,null,null,null,null,null,null,null,null,null,null,null,null,null,null,null,null,null,null,"",null,null,"",null,null,null,null,null,null,{"$f":"IFERROR(VLOOKUP('4.Substance-in-Product'!Z405,DSL!A:H,6,FALSE),\"-\")","v":"-"}]
[null,null,null,null,null,null,null,null,null,null,null,null,null,null,null,null,null,null,null,null,null,null,null,null,null,"",null,null,"",null,null,null,null,null,null,{"$f":"IFERROR(VLOOKUP('4.Substance-in-Product'!Z406,DSL!A:H,6,FALSE),\"-\")","v":"-"}]
[null,null,null,null,null,null,null,null,null,null,null,null,null,null,null,null,null,null,null,null,null,null,null,null,null,"",null,null,"",null,null,null,null,null,null,{"$f":"IFERROR(VLOOKUP('4.Substance-in-Product'!Z407,DSL!A:H,6,FALSE),\"-\")","v":"-"}]
[null,null,null,null,null,null,null,null,null,null,null,null,null,null,null,null,null,null,null,null,null,null,null,null,null,"",null,null,"",null,null,null,null,null,null,{"$f":"IFERROR(VLOOKUP('4.Substance-in-Product'!Z408,DSL!A:H,6,FALSE),\"-\")","v":"-"}]
[null,null,null,null,null,null,null,null,null,null,null,null,null,null,null,null,null,null,null,null,null,null,null,null,null,"",null,null,"",null,null,null,null,null,null,{"$f":"IFERROR(VLOOKUP('4.Substance-in-Product'!Z409,DSL!A:H,6,FALSE),\"-\")","v":"-"}]
[null,null,null,null,null,null,null,null,null,null,null,null,null,null,null,null,null,null,null,null,null,null,null,null,null,"",null,null,"",null,null,null,null,null,null,{"$f":"IFERROR(VLOOKUP('4.Substance-in-Product'!Z410,DSL!A:H,6,FALSE),\"-\")","v":"-"}]
[null,null,null,null,null,null,null,null,null,null,null,null,null,null,null,null,null,null,null,null,null,null,null,null,null,"",null,null,"",null,null,null,null,null,null,{"$f":"IFERROR(VLOOKUP('4.Substance-in-Product'!Z411,DSL!A:H,6,FALSE),\"-\")","v":"-"}]
[null,null,null,null,null,null,null,null,null,null,null,null,null,null,null,null,null,null,null,null,null,null,null,null,null,"",null,null,"",null,null,null,null,null,null,{"$f":"IFERROR(VLOOKUP('4.Substance-in-Product'!Z412,DSL!A:H,6,FALSE),\"-\")","v":"-"}]
[null,null,null,null,null,null,null,null,null,null,null,null,null,null,null,null,null,null,null,null,null,null,null,null,null,"",null,null,"",null,null,null,null,null,null,{"$f":"IFERROR(VLOOKUP('4.Substance-in-Product'!Z413,DSL!A:H,6,FALSE),\"-\")","v":"-"}]
[null,null,null,null,null,null,null,null,null,null,null,null,null,null,null,null,null,null,null,null,null,null,null,null,null,"",null,null,"",null,null,null,null,null,null,{"$f":"IFERROR(VLOOKUP('4.Substance-in-Product'!Z414,DSL!A:H,6,FALSE),\"-\")","v":"-"}]
[null,null,null,null,null,null,null,null,null,null,null,null,null,null,null,null,null,null,null,null,null,null,null,null,null,"",null,null,"",null,null,null,null,null,null,{"$f":"IFERROR(VLOOKUP('4.Substance-in-Product'!Z415,DSL!A:H,6,FALSE),\"-\")","v":"-"}]
[null,null,null,null,null,null,null,null,null,null,null,null,null,null,null,null,null,null,null,null,null,null,null,null,null,"",null,null,"",null,null,null,null,null,null,{"$f":"IFERROR(VLOOKUP('4.Substance-in-Product'!Z416,DSL!A:H,6,FALSE),\"-\")","v":"-"}]
[null,null,null,null,null,null,null,null,null,null,null,null,null,null,null,null,null,null,null,null,null,null,null,null,null,"",null,null,"",null,null,null,null,null,null,{"$f":"IFERROR(VLOOKUP('4.Substance-in-Product'!Z417,DSL!A:H,6,FALSE),\"-\")","v":"-"}]
[null,null,null,null,null,null,null,null,null,null,null,null,null,null,null,null,null,null,null,null,null,null,null,null,null,"",null,null,"",null,null,null,null,null,null,{"$f":"IFERROR(VLOOKUP('4.Substance-in-Product'!Z418,DSL!A:H,6,FALSE),\"-\")","v":"-"}]
[null,null,null,null,null,null,null,null,null,null,null,null,null,null,null,null,null,null,null,null,null,null,null,null,null,"",null,null,"",null,null,null,null,null,null,{"$f":"IFERROR(VLOOKUP('4.Substance-in-Product'!Z419,DSL!A:H,6,FALSE),\"-\")","v":"-"}]
[null,null,null,null,null,null,null,null,null,null,null,null,null,null,null,null,null,null,null,null,null,null,null,null,null,"",null,null,"",null,null,null,null,null,null,{"$f":"IFERROR(VLOOKUP('4.Substance-in-Product'!Z420,DSL!A:H,6,FALSE),\"-\")","v":"-"}]
[null,null,null,null,null,null,null,null,null,null,null,null,null,null,null,null,null,null,null,null,null,null,null,null,null,"",null,null,"",null,null,null,null,null,null,{"$f":"IFERROR(VLOOKUP('4.Substance-in-Product'!Z421,DSL!A:H,6,FALSE),\"-\")","v":"-"}]
[null,null,null,null,null,null,null,null,null,null,null,null,null,null,null,null,null,null,null,null,null,null,null,null,null,"",null,null,"",null,null,null,null,null,null,{"$f":"IFERROR(VLOOKUP('4.Substance-in-Product'!Z422,DSL!A:H,6,FALSE),\"-\")","v":"-"}]
[null,null,null,null,null,null,null,null,null,null,null,null,null,null,null,null,null,null,null,null,null,null,null,null,null,"",null,null,"",null,null,null,null,null,null,{"$f":"IFERROR(VLOOKUP('4.Substance-in-Product'!Z423,DSL!A:H,6,FALSE),\"-\")","v":"-"}]
[null,null,null,null,null,null,null,null,null,null,null,null,null,null,null,null,null,null,null,null,null,null,null,null,null,"",null,null,"",null,null,null,null,null,null,{"$f":"IFERROR(VLOOKUP('4.Substance-in-Product'!Z424,DSL!A:H,6,FALSE),\"-\")","v":"-"}]
[null,null,null,null,null,null,null,null,null,null,null,null,null,null,null,null,null,null,null,null,null,null,null,null,null,"",null,null,"",null,null,null,null,null,null,{"$f":"IFERROR(VLOOKUP('4.Substance-in-Product'!Z425,DSL!A:H,6,FALSE),\"-\")","v":"-"}]
[null,null,null,null,null,null,null,null,null,null,null,null,null,null,null,null,null,null,null,null,null,null,null,null,null,"",null,null,"",null,null,null,null,null,null,{"$f":"IFERROR(VLOOKUP('4.Substance-in-Product'!Z426,DSL!A:H,6,FALSE),\"-\")","v":"-"}]
[null,null,null,null,null,null,null,null,null,null,null,null,null,null,null,null,null,null,null,null,null,null,null,null,null,"",null,null,"",null,null,null,null,null,null,{"$f":"IFERROR(VLOOKUP('4.Substance-in-Product'!Z427,DSL!A:H,6,FALSE),\"-\")","v":"-"}]
[null,null,null,null,null,null,null,null,null,null,null,null,null,null,null,null,null,null,null,null,null,null,null,null,null,"",null,null,"",null,null,null,null,null,null,{"$f":"IFERROR(VLOOKUP('4.Substance-in-Product'!Z428,DSL!A:H,6,FALSE),\"-\")","v":"-"}]
[null,null,null,null,null,null,null,null,null,null,null,null,null,null,null,null,null,null,null,null,null,null,null,null,null,"",null,null,"",null,null,null,null,null,null,{"$f":"IFERROR(VLOOKUP('4.Substance-in-Product'!Z429,DSL!A:H,6,FALSE),\"-\")","v":"-"}]
[null,null,null,null,null,null,null,null,null,null,null,null,null,null,null,null,null,null,null,null,null,null,null,null,null,"",null,null,"",null,null,null,null,null,null,{"$f":"IFERROR(VLOOKUP('4.Substance-in-Product'!Z430,DSL!A:H,6,FALSE),\"-\")","v":"-"}]
[null,null,null,null,null,null,null,null,null,null,null,null,null,null,null,null,null,null,null,null,null,null,null,null,null,"",null,null,"",null,null,null,null,null,null,{"$f":"IFERROR(VLOOKUP('4.Substance-in-Product'!Z431,DSL!A:H,6,FALSE),\"-\")","v":"-"}]
[null,null,null,null,null,null,null,null,null,null,null,null,null,null,null,null,null,null,null,null,null,null,null,null,null,"",null,null,"",null,null,null,null,null,null,{"$f":"IFERROR(VLOOKUP('4.Substance-in-Product'!Z432,DSL!A:H,6,FALSE),\"-\")","v":"-"}]
[null,null,null,null,null,null,null,null,null,null,null,null,null,null,null,null,null,null,null,null,null,null,null,null,null,"",null,null,"",null,null,null,null,null,null,{"$f":"IFERROR(VLOOKUP('4.Substance-in-Product'!Z433,DSL!A:H,6,FALSE),\"-\")","v":"-"}]
[null,null,null,null,null,null,null,null,null,null,null,null,null,null,null,null,null,null,null,null,null,null,null,null,null,"",null,null,"",null,null,null,null,null,null,{"$f":"IFERROR(VLOOKUP('4.Substance-in-Product'!Z434,DSL!A:H,6,FALSE),\"-\")","v":"-"}]
[null,null,null,null,null,null,null,null,null,null,null,null,null,null,null,null,null,null,null,null,null,null,null,null,null,"",null,null,"",null,null,null,null,null,null,{"$f":"IFERROR(VLOOKUP('4.Substance-in-Product'!Z435,DSL!A:H,6,FALSE),\"-\")","v":"-"}]
[null,null,null,null,null,null,null,null,null,null,null,null,null,null,null,null,null,null,null,null,null,null,null,null,null,"",null,null,"",null,null,null,null,null,null,{"$f":"IFERROR(VLOOKUP('4.Substance-in-Product'!Z436,DSL!A:H,6,FALSE),\"-\")","v":"-"}]
[null,null,null,null,null,null,null,null,null,null,null,null,null,null,null,null,null,null,null,null,null,null,null,null,null,"",null,null,"",null,null,null,null,null,null,{"$f":"IFERROR(VLOOKUP('4.Substance-in-Product'!Z437,DSL!A:H,6,FALSE),\"-\")","v":"-"}]
[null,null,null,null,null,null,null,null,null,null,null,null,null,null,null,null,null,null,null,null,null,null,null,null,null,"",null,null,"",null,null,null,null,null,null,{"$f":"IFERROR(VLOOKUP('4.Substance-in-Product'!Z438,DSL!A:H,6,FALSE),\"-\")","v":"-"}]
[null,null,null,null,null,null,null,null,null,null,null,null,null,null,null,null,null,null,null,null,null,null,null,null,null,"",null,null,"",null,null,null,null,null,null,{"$f":"IFERROR(VLOOKUP('4.Substance-in-Product'!Z439,DSL!A:H,6,FALSE),\"-\")","v":"-"}]
[null,null,null,null,null,null,null,null,null,null,null,null,null,null,null,null,null,null,null,null,null,null,null,null,null,"",null,null,"",null,null,null,null,null,null,{"$f":"IFERROR(VLOOKUP('4.Substance-in-Product'!Z440,DSL!A:H,6,FALSE),\"-\")","v":"-"}]
[null,null,null,null,null,null,null,null,null,null,null,null,null,null,null,null,null,null,null,null,null,null,null,null,null,"",null,null,"",null,null,null,null,null,null,{"$f":"IFERROR(VLOOKUP('4.Substance-in-Product'!Z441,DSL!A:H,6,FALSE),\"-\")","v":"-"}]
[null,null,null,null,null,null,null,null,null,null,null,null,null,null,null,null,null,null,null,null,null,null,null,null,null,"",null,null,"",null,null,null,null,null,null,{"$f":"IFERROR(VLOOKUP('4.Substance-in-Product'!Z442,DSL!A:H,6,FALSE),\"-\")","v":"-"}]
[null,null,null,null,null,null,null,null,null,null,null,null,null,null,null,null,null,null,null,null,null,null,null,null,null,"",null,null,"",null,null,null,null,null,null,{"$f":"IFERROR(VLOOKUP('4.Substance-in-Product'!Z443,DSL!A:H,6,FALSE),\"-\")","v":"-"}]
[null,null,null,null,null,null,null,null,null,null,null,null,null,null,null,null,null,null,null,null,null,null,null,null,null,"",null,null,"",null,null,null,null,null,null,{"$f":"IFERROR(VLOOKUP('4.Substance-in-Product'!Z444,DSL!A:H,6,FALSE),\"-\")","v":"-"}]
[null,null,null,null,null,null,null,null,null,null,null,null,null,null,null,null,null,null,null,null,null,null,null,null,null,"",null,null,"",null,null,null,null,null,null,{"$f":"IFERROR(VLOOKUP('4.Substance-in-Product'!Z445,DSL!A:H,6,FALSE),\"-\")","v":"-"}]
[null,null,null,null,null,null,null,null,null,null,null,null,null,null,null,null,null,null,null,null,null,null,null,null,null,"",null,null,"",null,null,null,null,null,null,{"$f":"IFERROR(VLOOKUP('4.Substance-in-Product'!Z446,DSL!A:H,6,FALSE),\"-\")","v":"-"}]
[null,null,null,null,null,null,null,null,null,null,null,null,null,null,null,null,null,null,null,null,null,null,null,null,null,"",null,null,"",null,null,null,null,null,null,{"$f":"IFERROR(VLOOKUP('4.Substance-in-Product'!Z447,DSL!A:H,6,FALSE),\"-\")","v":"-"}]
[null,null,null,null,null,null,null,null,null,null,null,null,null,null,null,null,null,null,null,null,null,null,null,null,null,"",null,null,"",null,null,null,null,null,null,{"$f":"IFERROR(VLOOKUP('4.Substance-in-Product'!Z448,DSL!A:H,6,FALSE),\"-\")","v":"-"}]
[null,null,null,null,null,null,null,null,null,null,null,null,null,null,null,null,null,null,null,null,null,null,null,null,null,"",null,null,"",null,null,null,null,null,null,{"$f":"IFERROR(VLOOKUP('4.Substance-in-Product'!Z449,DSL!A:H,6,FALSE),\"-\")","v":"-"}]
[null,null,null,null,null,null,null,null,null,null,null,null,null,null,null,null,null,null,null,null,null,null,null,null,null,"",null,null,"",null,null,null,null,null,null,{"$f":"IFERROR(VLOOKUP('4.Substance-in-Product'!Z450,DSL!A:H,6,FALSE),\"-\")","v":"-"}]
[null,null,null,null,null,null,null,null,null,null,null,null,null,null,null,null,null,null,null,null,null,null,null,null,null,"",null,null,"",null,null,null,null,null,null,{"$f":"IFERROR(VLOOKUP('4.Substance-in-Product'!Z451,DSL!A:H,6,FALSE),\"-\")","v":"-"}]
[null,null,null,null,null,null,null,null,null,null,null,null,null,null,null,null,null,null,null,null,null,null,null,null,null,"",null,null,"",null,null,null,null,null,null,{"$f":"IFERROR(VLOOKUP('4.Substance-in-Product'!Z452,DSL!A:H,6,FALSE),\"-\")","v":"-"}]
[null,null,null,null,null,null,null,null,null,null,null,null,null,null,null,null,null,null,null,null,null,null,null,null,null,"",null,null,"",null,null,null,null,null,null,{"$f":"IFERROR(VLOOKUP('4.Substance-in-Product'!Z453,DSL!A:H,6,FALSE),\"-\")","v":"-"}]
[null,null,null,null,null,null,null,null,null,null,null,null,null,null,null,null,null,null,null,null,null,null,null,null,null,"",null,null,"",null,null,null,null,null,null,{"$f":"IFERROR(VLOOKUP('4.Substance-in-Product'!Z454,DSL!A:H,6,FALSE),\"-\")","v":"-"}]
[null,null,null,null,null,null,null,null,null,null,null,null,null,null,null,null,null,null,null,null,null,null,null,null,null,"",null,null,"",null,null,null,null,null,null,{"$f":"IFERROR(VLOOKUP('4.Substance-in-Product'!Z455,DSL!A:H,6,FALSE),\"-\")","v":"-"}]
[null,null,null,null,null,null,null,null,null,null,null,null,null,null,null,null,null,null,null,null,null,null,null,null,null,"",null,null,"",null,null,null,null,null,null,{"$f":"IFERROR(VLOOKUP('4.Substance-in-Product'!Z456,DSL!A:H,6,FALSE),\"-\")","v":"-"}]
[null,null,null,null,null,null,null,null,null,null,null,null,null,null,null,null,null,null,null,null,null,null,null,null,null,"",null,null,"",null,null,null,null,null,null,{"$f":"IFERROR(VLOOKUP('4.Substance-in-Product'!Z457,DSL!A:H,6,FALSE),\"-\")","v":"-"}]
[null,null,null,null,null,null,null,null,null,null,null,null,null,null,null,null,null,null,null,null,null,null,null,null,null,"",null,null,"",null,null,null,null,null,null,{"$f":"IFERROR(VLOOKUP('4.Substance-in-Product'!Z458,DSL!A:H,6,FALSE),\"-\")","v":"-"}]
[null,null,null,null,null,null,null,null,null,null,null,null,null,null,null,null,null,null,null,null,null,null,null,null,null,"",null,null,"",null,null,null,null,null,null,{"$f":"IFERROR(VLOOKUP('4.Substance-in-Product'!Z459,DSL!A:H,6,FALSE),\"-\")","v":"-"}]
[null,null,null,null,null,null,null,null,null,null,null,null,null,null,null,null,null,null,null,null,null,null,null,null,null,"",null,null,"",null,null,null,null,null,null,{"$f":"IFERROR(VLOOKUP('4.Substance-in-Product'!Z460,DSL!A:H,6,FALSE),\"-\")","v":"-"}]
[null,null,null,null,null,null,null,null,null,null,null,null,null,null,null,null,null,null,null,null,null,null,null,null,null,"",null,null,"",null,null,null,null,null,null,{"$f":"IFERROR(VLOOKUP('4.Substance-in-Product'!Z461,DSL!A:H,6,FALSE),\"-\")","v":"-"}]
[null,null,null,null,null,null,null,null,null,null,null,null,null,null,null,null,null,null,null,null,null,null,null,null,null,"",null,null,"",null,null,null,null,null,null,{"$f":"IFERROR(VLOOKUP('4.Substance-in-Product'!Z462,DSL!A:H,6,FALSE),\"-\")","v":"-"}]
[null,null,null,null,null,null,null,null,null,null,null,null,null,null,null,null,null,null,null,null,null,null,null,null,null,"",null,null,"",null,null,null,null,null,null,{"$f":"IFERROR(VLOOKUP('4.Substance-in-Product'!Z463,DSL!A:H,6,FALSE),\"-\")","v":"-"}]
[null,null,null,null,null,null,null,null,null,null,null,null,null,null,null,null,null,null,null,null,null,null,null,null,null,"",null,null,"",null,null,null,null,null,null,{"$f":"IFERROR(VLOOKUP('4.Substance-in-Product'!Z464,DSL!A:H,6,FALSE),\"-\")","v":"-"}]
[null,null,null,null,null,null,null,null,null,null,null,null,null,null,null,null,null,null,null,null,null,null,null,null,null,"",null,null,"",null,null,null,null,null,null,{"$f":"IFERROR(VLOOKUP('4.Substance-in-Product'!Z465,DSL!A:H,6,FALSE),\"-\")","v":"-"}]
[null,null,null,null,null,null,null,null,null,null,null,null,null,null,null,null,null,null,null,null,null,null,null,null,null,"",null,null,"",null,null,null,null,null,null,{"$f":"IFERROR(VLOOKUP('4.Substance-in-Product'!Z466,DSL!A:H,6,FALSE),\"-\")","v":"-"}]
[null,null,null,null,null,null,null,null,null,null,null,null,null,null,null,null,null,null,null,null,null,null,null,null,null,"",null,null,"",null,null,null,null,null,null,{"$f":"IFERROR(VLOOKUP('4.Substance-in-Product'!Z467,DSL!A:H,6,FALSE),\"-\")","v":"-"}]
[null,null,null,null,null,null,null,null,null,null,null,null,null,null,null,null,null,null,null,null,null,null,null,null,null,"",null,null,"",null,null,null,null,null,null,{"$f":"IFERROR(VLOOKUP('4.Substance-in-Product'!Z468,DSL!A:H,6,FALSE),\"-\")","v":"-"}]
[null,null,null,null,null,null,null,null,null,null,null,null,null,null,null,null,null,null,null,null,null,null,null,null,null,"",null,null,"",null,null,null,null,null,null,{"$f":"IFERROR(VLOOKUP('4.Substance-in-Product'!Z469,DSL!A:H,6,FALSE),\"-\")","v":"-"}]
[null,null,null,null,null,null,null,null,null,null,null,null,null,null,null,null,null,null,null,null,null,null,null,null,null,"",null,null,"",null,null,null,null,null,null,{"$f":"IFERROR(VLOOKUP('4.Substance-in-Product'!Z470,DSL!A:H,6,FALSE),\"-\")","v":"-"}]
[null,null,null,null,null,null,null,null,null,null,null,null,null,null,null,null,null,null,null,null,null,null,null,null,null,"",null,null,"",null,null,null,null,null,null,{"$f":"IFERROR(VLOOKUP('4.Substance-in-Product'!Z471,DSL!A:H,6,FALSE),\"-\")","v":"-"}]
[null,null,null,null,null,null,null,null,null,null,null,null,null,null,null,null,null,null,null,null,null,null,null,null,null,"",null,null,"",null,null,null,null,null,null,{"$f":"IFERROR(VLOOKUP('4.Substance-in-Product'!Z472,DSL!A:H,6,FALSE),\"-\")","v":"-"}]
[null,null,null,null,null,null,null,null,null,null,null,null,null,null,null,null,null,null,null,null,null,null,null,null,null,"",null,null,"",null,null,null,null,null,null,{"$f":"IFERROR(VLOOKUP('4.Substance-in-Product'!Z473,DSL!A:H,6,FALSE),\"-\")","v":"-"}]
[null,null,null,null,null,null,null,null,null,null,null,null,null,null,null,null,null,null,null,null,null,null,null,null,null,"",null,null,"",null,null,null,null,null,null,{"$f":"IFERROR(VLOOKUP('4.Substance-in-Product'!Z474,DSL!A:H,6,FALSE),\"-\")","v":"-"}]
[null,null,null,null,null,null,null,null,null,null,null,null,null,null,null,null,null,null,null,null,null,null,null,null,null,"",null,null,"",null,null,null,null,null,null,{"$f":"IFERROR(VLOOKUP('4.Substance-in-Product'!Z475,DSL!A:H,6,FALSE),\"-\")","v":"-"}]
[null,null,null,null,null,null,null,null,null,null,null,null,null,null,null,null,null,null,null,null,null,null,null,null,null,"",null,null,"",null,null,null,null,null,null,{"$f":"IFERROR(VLOOKUP('4.Substance-in-Product'!Z476,DSL!A:H,6,FALSE),\"-\")","v":"-"}]
[null,null,null,null,null,null,null,null,null,null,null,null,null,null,null,null,null,null,null,null,null,null,null,null,null,"",null,null,"",null,null,null,null,null,null,{"$f":"IFERROR(VLOOKUP('4.Substance-in-Product'!Z477,DSL!A:H,6,FALSE),\"-\")","v":"-"}]
[null,null,null,null,null,null,null,null,null,null,null,null,null,null,null,null,null,null,null,null,null,null,null,null,null,"",null,null,"",null,null,null,null,null,null,{"$f":"IFERROR(VLOOKUP('4.Substance-in-Product'!Z478,DSL!A:H,6,FALSE),\"-\")","v":"-"}]
[null,null,null,null,null,null,null,null,null,null,null,null,null,null,null,null,null,null,null,null,null,null,null,null,null,"",null,null,"",null,null,null,null,null,null,{"$f":"IFERROR(VLOOKUP('4.Substance-in-Product'!Z479,DSL!A:H,6,FALSE),\"-\")","v":"-"}]
[null,null,null,null,null,null,null,null,null,null,null,null,null,null,null,null,null,null,null,null,null,null,null,null,null,"",null,null,"",null,null,null,null,null,null,{"$f":"IFERROR(VLOOKUP('4.Substance-in-Product'!Z480,DSL!A:H,6,FALSE),\"-\")","v":"-"}]
[null,null,null,null,null,null,null,null,null,null,null,null,null,null,null,null,null,null,null,null,null,null,null,null,null,"",null,null,"",null,null,null,null,null,null,{"$f":"IFERROR(VLOOKUP('4.Substance-in-Product'!Z481,DSL!A:H,6,FALSE),\"-\")","v":"-"}]
[null,null,null,null,null,null,null,null,null,null,null,null,null,null,null,null,null,null,null,null,null,null,null,null,null,"",null,null,"",null,null,null,null,null,null,{"$f":"IFERROR(VLOOKUP('4.Substance-in-Product'!Z482,DSL!A:H,6,FALSE),\"-\")","v":"-"}]
[null,null,null,null,null,null,null,null,null,null,null,null,null,null,null,null,null,null,null,null,null,null,null,null,null,"",null,null,"",null,null,null,null,null,null,{"$f":"IFERROR(VLOOKUP('4.Substance-in-Product'!Z483,DSL!A:H,6,FALSE),\"-\")","v":"-"}]
[null,null,null,null,null,null,null,null,null,null,null,null,null,null,null,null,null,null,null,null,null,null,null,null,null,"",null,null,"",null,null,null,null,null,null,{"$f":"IFERROR(VLOOKUP('4.Substance-in-Product'!Z484,DSL!A:H,6,FALSE),\"-\")","v":"-"}]
[null,null,null,null,null,null,null,null,null,null,null,null,null,null,null,null,null,null,null,null,null,null,null,null,null,"",null,null,"",null,null,null,null,null,null,{"$f":"IFERROR(VLOOKUP('4.Substance-in-Product'!Z485,DSL!A:H,6,FALSE),\"-\")","v":"-"}]
[null,null,null,null,null,null,null,null,null,null,null,null,null,null,null,null,null,null,null,null,null,null,null,null,null,"",null,null,"",null,null,null,null,null,null,{"$f":"IFERROR(VLOOKUP('4.Substance-in-Product'!Z486,DSL!A:H,6,FALSE),\"-\")","v":"-"}]
[null,null,null,null,null,null,null,null,null,null,null,null,null,null,null,null,null,null,null,null,null,null,null,null,null,"",null,null,"",null,null,null,null,null,null,{"$f":"IFERROR(VLOOKUP('4.Substance-in-Product'!Z487,DSL!A:H,6,FALSE),\"-\")","v":"-"}]
[null,null,null,null,null,null,null,null,null,null,null,null,null,null,null,null,null,null,null,null,null,null,null,null,null,"",null,null,"",null,null,null,null,null,null,{"$f":"IFERROR(VLOOKUP('4.Substance-in-Product'!Z488,DSL!A:H,6,FALSE),\"-\")","v":"-"}]
[null,null,null,null,null,null,null,null,null,null,null,null,null,null,null,null,null,null,null,null,null,null,null,null,null,"",null,null,"",null,null,null,null,null,null,{"$f":"IFERROR(VLOOKUP('4.Substance-in-Product'!Z489,DSL!A:H,6,FALSE),\"-\")","v":"-"}]
[null,null,null,null,null,null,null,null,null,null,null,null,null,null,null,null,null,null,null,null,null,null,null,null,null,"",null,null,"",null,null,null,null,null,null,{"$f":"IFERROR(VLOOKUP('4.Substance-in-Product'!Z490,DSL!A:H,6,FALSE),\"-\")","v":"-"}]
[null,null,null,null,null,null,null,null,null,null,null,null,null,null,null,null,null,null,null,null,null,null,null,null,null,"",null,null,"",null,null,null,null,null,null,{"$f":"IFERROR(VLOOKUP('4.Substance-in-Product'!Z491,DSL!A:H,6,FALSE),\"-\")","v":"-"}]
[null,null,null,null,null,null,null,null,null,null,null,null,null,null,null,null,null,null,null,null,null,null,null,null,null,"",null,null,"",null,null,null,null,null,null,{"$f":"IFERROR(VLOOKUP('4.Substance-in-Product'!Z492,DSL!A:H,6,FALSE),\"-\")","v":"-"}]
[null,null,null,null,null,null,null,null,null,null,null,null,null,null,null,null,null,null,null,null,null,null,null,null,null,"",null,null,"",null,null,null,null,null,null,{"$f":"IFERROR(VLOOKUP('4.Substance-in-Product'!Z493,DSL!A:H,6,FALSE),\"-\")","v":"-"}]
[null,null,null,null,null,null,null,null,null,null,null,null,null,null,null,null,null,null,null,null,null,null,null,null,null,"",null,null,"",null,null,null,null,null,null,{"$f":"IFERROR(VLOOKUP('4.Substance-in-Product'!Z494,DSL!A:H,6,FALSE),\"-\")","v":"-"}]
[null,null,null,null,null,null,null,null,null,null,null,null,null,null,null,null,null,null,null,null,null,null,null,null,null,"",null,null,"",null,null,null,null,null,null,{"$f":"IFERROR(VLOOKUP('4.Substance-in-Product'!Z495,DSL!A:H,6,FALSE),\"-\")","v":"-"}]
[null,null,null,null,null,null,null,null,null,null,null,null,null,null,null,null,null,null,null,null,null,null,null,null,null,"",null,null,"",null,null,null,null,null,null,{"$f":"IFERROR(VLOOKUP('4.Substance-in-Product'!Z496,DSL!A:H,6,FALSE),\"-\")","v":"-"}]
[null,null,null,null,null,null,null,null,null,null,null,null,null,null,null,null,null,null,null,null,null,null,null,null,null,"",null,null,"",null,null,null,null,null,null,{"$f":"IFERROR(VLOOKUP('4.Substance-in-Product'!Z497,DSL!A:H,6,FALSE),\"-\")","v":"-"}]
[null,null,null,null,null,null,null,null,null,null,null,null,null,null,null,null,null,null,null,null,null,null,null,null,null,"",null,null,"",null,null,null,null,null,null,{"$f":"IFERROR(VLOOKUP('4.Substance-in-Product'!Z498,DSL!A:H,6,FALSE),\"-\")","v":"-"}]
[null,null,null,null,null,null,null,null,null,null,null,null,null,null,null,null,null,null,null,null,null,null,null,null,null,"",null,null,"",null,null,null,null,null,null,{"$f":"IFERROR(VLOOKUP('4.Substance-in-Product'!Z499,DSL!A:H,6,FALSE),\"-\")","v":"-"}]
[null,null,null,null,null,null,null,null,null,null,null,null,null,null,null,null,null,null,null,null,null,null,null,null,null,"",null,null,"",null,null,null,null,null,null,{"$f":"IFERROR(VLOOKUP('4.Substance-in-Product'!Z500,DSL!A:H,6,FALSE),\"-\")","v":"-"}]
[null,null,null,null,null,null,null,null,null,null,null,null,null,null,null,null,null,null,null,null,null,null,null,null,null,"",null,null,"",null,null,null,null,null,null,{"$f":"IFERROR(VLOOKUP('4.Substance-in-Product'!Z501,DSL!A:H,6,FALSE),\"-\")","v":"-"}]
[null,null,null,null,null,null,null,null,null,null,null,null,null,null,null,null,null,null,null,null,null,null,null,null,null,"",null,null,"",null,null,null,null,null,null,{"$f":"IFERROR(VLOOKUP('4.Substance-in-Product'!Z502,DSL!A:H,6,FALSE),\"-\")","v":"-"}]
[null,null,null,null,null,null,null,null,null,null,null,null,null,null,null,null,null,null,null,null,null,null,null,null,null,"",null,null,"",null,null,null,null,null,null,{"$f":"IFERROR(VLOOKUP('4.Substance-in-Product'!Z503,DSL!A:H,6,FALSE),\"-\")","v":"-"}]
[null,null,null,null,null,null,null,null,null,null,null,null,null,null,null,null,null,null,null,null,null,null,null,null,null,"",null,null,"",null,null,null,null,null,null,{"$f":"IFERROR(VLOOKUP('4.Substance-in-Product'!Z504,DSL!A:H,6,FALSE),\"-\")","v":"-"}]
[null,null,null,null,null,null,null,null,null,null,null,null,null,null,null,null,null,null,null,null,null,null,null,null,null,"",null,null,"",null,null,null,null,null,null,{"$f":"IFERROR(VLOOKUP('4.Substance-in-Product'!Z505,DSL!A:H,6,FALSE),\"-\")","v":"-"}]
[null,null,null,null,null,null,null,null,null,null,null,null,null,null,null,null,null,null,null,null,null,null,null,null,null,"",null,null,"",null,null,null,null,null,null,{"$f":"IFERROR(VLOOKUP('4.Substance-in-Product'!Z506,DSL!A:H,6,FALSE),\"-\")","v":"-"}]
[null,null,null,null,null,null,null,null,null,null,null,null,null,null,null,null,null,null,null,null,null,null,null,null,null,"",null,null,"",null,null,null,null,null,null,{"$f":"IFERROR(VLOOKUP('4.Substance-in-Product'!Z507,DSL!A:H,6,FALSE),\"-\")","v":"-"}]
[null,null,null,null,null,null,null,null,null,null,null,null,null,null,null,null,null,null,null,null,null,null,null,null,null,"",null,null,"",null,null,null,null,null,null,{"$f":"IFERROR(VLOOKUP('4.Substance-in-Product'!Z508,DSL!A:H,6,FALSE),\"-\")","v":"-"}]
[null,null,null,null,null,null,null,null,null,null,null,null,null,null,null,null,null,null,null,null,null,null,null,null,null,"",null,null,"",null,null,null,null,null,null,{"$f":"IFERROR(VLOOKUP('4.Substance-in-Product'!Z509,DSL!A:H,6,FALSE),\"-\")","v":"-"}]
[null,null,null,null,null,null,null,null,null,null,null,null,null,null,null,null,null,null,null,null,null,null,null,null,null,"",null,null,"",null,null,null,null,null,null,{"$f":"IFERROR(VLOOKUP('4.Substance-in-Product'!Z510,DSL!A:H,6,FALSE),\"-\")","v":"-"}]
[null,null,null,null,null,null,null,null,null,null,null,null,null,null,null,null,null,null,null,null,null,null,null,null,null,"",null,null,"",null,null,null,null,null,null,{"$f":"IFERROR(VLOOKUP('4.Substance-in-Product'!Z511,DSL!A:H,6,FALSE),\"-\")","v":"-"}]
[null,null,null,null,null,null,null,null,null,null,null,null,null,null,null,null,null,null,null,null,null,null,null,null,null,"",null,null,"",null,null,null,null,null,null,{"$f":"IFERROR(VLOOKUP('4.Substance-in-Product'!Z512,DSL!A:H,6,FALSE),\"-\")","v":"-"}]
[null,null,null,null,null,null,null,null,null,null,null,null,null,null,null,null,null,null,null,null,null,null,null,null,null,"",null,null,"",null,null,null,null,null,null,{"$f":"IFERROR(VLOOKUP('4.Substance-in-Product'!Z513,DSL!A:H,6,FALSE),\"-\")","v":"-"}]
[null,null,null,null,null,null,null,null,null,null,null,null,null,null,null,null,null,null,null,null,null,null,null,null,null,"",null,null,"",null,null,null,null,null,null,{"$f":"IFERROR(VLOOKUP('4.Substance-in-Product'!Z514,DSL!A:H,6,FALSE),\"-\")","v":"-"}]
[null,null,null,null,null,null,null,null,null,null,null,null,null,null,null,null,null,null,null,null,null,null,null,null,null,"",null,null,"",null,null,null,null,null,null,{"$f":"IFERROR(VLOOKUP('4.Substance-in-Product'!Z515,DSL!A:H,6,FALSE),\"-\")","v":"-"}]
[null,null,null,null,null,null,null,null,null,null,null,null,null,null,null,null,null,null,null,null,null,null,null,null,null,"",null,null,"",null,null,null,null,null,null,{"$f":"IFERROR(VLOOKUP('4.Substance-in-Product'!Z516,DSL!A:H,6,FALSE),\"-\")","v":"-"}]
[null,null,null,null,null,null,null,null,null,null,null,null,null,null,null,null,null,null,null,null,null,null,null,null,null,"",null,null,"",null,null,null,null,null,null,{"$f":"IFERROR(VLOOKUP('4.Substance-in-Product'!Z517,DSL!A:H,6,FALSE),\"-\")","v":"-"}]
[null,null,null,null,null,null,null,null,null,null,null,null,null,null,null,null,null,null,null,null,null,null,null,null,null,"",null,null,"",null,null,null,null,null,null,{"$f":"IFERROR(VLOOKUP('4.Substance-in-Product'!Z518,DSL!A:H,6,FALSE),\"-\")","v":"-"}]
[null,null,null,null,null,null,null,null,null,null,null,null,null,null,null,null,null,null,null,null,null,null,null,null,null,"",null,null,"",null,null,null,null,null,null,{"$f":"IFERROR(VLOOKUP('4.Substance-in-Product'!Z519,DSL!A:H,6,FALSE),\"-\")","v":"-"}]
[null,null,null,null,null,null,null,null,null,null,null,null,null,null,null,null,null,null,null,null,null,null,null,null,null,"",null,null,"",null,null,null,null,null,null,{"$f":"IFERROR(VLOOKUP('4.Substance-in-Product'!Z520,DSL!A:H,6,FALSE),\"-\")","v":"-"}]
[null,null,null,null,null,null,null,null,null,null,null,null,null,null,null,null,null,null,null,null,null,null,null,null,null,"",null,null,"",null,null,null,null,null,null,{"$f":"IFERROR(VLOOKUP('4.Substance-in-Product'!Z521,DSL!A:H,6,FALSE),\"-\")","v":"-"}]
[null,null,null,null,null,null,null,null,null,null,null,null,null,null,null,null,null,null,null,null,null,null,null,null,null,"",null,null,"",null,null,null,null,null,null,{"$f":"IFERROR(VLOOKUP('4.Substance-in-Product'!Z522,DSL!A:H,6,FALSE),\"-\")","v":"-"}]
[null,null,null,null,null,null,null,null,null,null,null,null,null,null,null,null,null,null,null,null,null,null,null,null,null,"",null,null,"",null,null,null,null,null,null,{"$f":"IFERROR(VLOOKUP('4.Substance-in-Product'!Z523,DSL!A:H,6,FALSE),\"-\")","v":"-"}]
[null,null,null,null,null,null,null,null,null,null,null,null,null,null,null,null,null,null,null,null,null,null,null,null,null,"",null,null,"",null,null,null,null,null,null,{"$f":"IFERROR(VLOOKUP('4.Substance-in-Product'!Z524,DSL!A:H,6,FALSE),\"-\")","v":"-"}]
[null,null,null,null,null,null,null,null,null,null,null,null,null,null,null,null,null,null,null,null,null,null,null,null,null,"",null,null,"",null,null,null,null,null,null,{"$f":"IFERROR(VLOOKUP('4.Substance-in-Product'!Z525,DSL!A:H,6,FALSE),\"-\")","v":"-"}]
[null,null,null,null,null,null,null,null,null,null,null,null,null,null,null,null,null,null,null,null,null,null,null,null,null,"",null,null,"",null,null,null,null,null,null,{"$f":"IFERROR(VLOOKUP('4.Substance-in-Product'!Z526,DSL!A:H,6,FALSE),\"-\")","v":"-"}]
[null,null,null,null,null,null,null,null,null,null,null,null,null,null,null,null,null,null,null,null,null,null,null,null,null,"",null,null,"",null,null,null,null,null,null,{"$f":"IFERROR(VLOOKUP('4.Substance-in-Product'!Z527,DSL!A:H,6,FALSE),\"-\")","v":"-"}]
[null,null,null,null,null,null,null,null,null,null,null,null,null,null,null,null,null,null,null,null,null,null,null,null,null,"",null,null,"",null,null,null,null,null,null,{"$f":"IFERROR(VLOOKUP('4.Substance-in-Product'!Z528,DSL!A:H,6,FALSE),\"-\")","v":"-"}]
[null,null,null,null,null,null,null,null,null,null,null,null,null,null,null,null,null,null,null,null,null,null,null,null,null,"",null,null,"",null,null,null,null,null,null,{"$f":"IFERROR(VLOOKUP('4.Substance-in-Product'!Z529,DSL!A:H,6,FALSE),\"-\")","v":"-"}]
[null,null,null,null,null,null,null,null,null,null,null,null,null,null,null,null,null,null,null,null,null,null,null,null,null,"",null,null,"",null,null,null,null,null,null,{"$f":"IFERROR(VLOOKUP('4.Substance-in-Product'!Z530,DSL!A:H,6,FALSE),\"-\")","v":"-"}]
[null,null,null,null,null,null,null,null,null,null,null,null,null,null,null,null,null,null,null,null,null,null,null,null,null,"",null,null,"",null,null,null,null,null,null,{"$f":"IFERROR(VLOOKUP('4.Substance-in-Product'!Z531,DSL!A:H,6,FALSE),\"-\")","v":"-"}]
[null,null,null,null,null,null,null,null,null,null,null,null,null,null,null,null,null,null,null,null,null,null,null,null,null,"",null,null,"",null,null,null,null,null,null,{"$f":"IFERROR(VLOOKUP('4.Substance-in-Product'!Z532,DSL!A:H,6,FALSE),\"-\")","v":"-"}]
[null,null,null,null,null,null,null,null,null,null,null,null,null,null,null,null,null,null,null,null,null,null,null,null,null,"",null,null,"",null,null,null,null,null,null,{"$f":"IFERROR(VLOOKUP('4.Substance-in-Product'!Z533,DSL!A:H,6,FALSE),\"-\")","v":"-"}]
[null,null,null,null,null,null,null,null,null,null,null,null,null,null,null,null,null,null,null,null,null,null,null,null,null,"",null,null,"",null,null,null,null,null,null,{"$f":"IFERROR(VLOOKUP('4.Substance-in-Product'!Z534,DSL!A:H,6,FALSE),\"-\")","v":"-"}]
[null,null,null,null,null,null,null,null,null,null,null,null,null,null,null,null,null,null,null,null,null,null,null,null,null,"",null,null,"",null,null,null,null,null,null,{"$f":"IFERROR(VLOOKUP('4.Substance-in-Product'!Z535,DSL!A:H,6,FALSE),\"-\")","v":"-"}]
[null,null,null,null,null,null,null,null,null,null,null,null,null,null,null,null,null,null,null,null,null,null,null,null,null,"",null,null,"",null,null,null,null,null,null,{"$f":"IFERROR(VLOOKUP('4.Substance-in-Product'!Z536,DSL!A:H,6,FALSE),\"-\")","v":"-"}]
[null,null,null,null,null,null,null,null,null,null,null,null,null,null,null,null,null,null,null,null,null,null,null,null,null,"",null,null,"",null,null,null,null,null,null,{"$f":"IFERROR(VLOOKUP('4.Substance-in-Product'!Z537,DSL!A:H,6,FALSE),\"-\")","v":"-"}]
[null,null,null,null,null,null,null,null,null,null,null,null,null,null,null,null,null,null,null,null,null,null,null,null,null,"",null,null,"",null,null,null,null,null,null,{"$f":"IFERROR(VLOOKUP('4.Substance-in-Product'!Z538,DSL!A:H,6,FALSE),\"-\")","v":"-"}]
[null,null,null,null,null,null,null,null,null,null,null,null,null,null,null,null,null,null,null,null,null,null,null,null,null,"",null,null,"",null,null,null,null,null,null,{"$f":"IFERROR(VLOOKUP('4.Substance-in-Product'!Z539,DSL!A:H,6,FALSE),\"-\")","v":"-"}]
[null,null,null,null,null,null,null,null,null,null,null,null,null,null,null,null,null,null,null,null,null,null,null,null,null,"",null,null,"",null,null,null,null,null,null,{"$f":"IFERROR(VLOOKUP('4.Substance-in-Product'!Z540,DSL!A:H,6,FALSE),\"-\")","v":"-"}]
[null,null,null,null,null,null,null,null,null,null,null,null,null,null,null,null,null,null,null,null,null,null,null,null,null,"",null,null,"",null,null,null,null,null,null,{"$f":"IFERROR(VLOOKUP('4.Substance-in-Product'!Z541,DSL!A:H,6,FALSE),\"-\")","v":"-"}]
[null,null,null,null,null,null,null,null,null,null,null,null,null,null,null,null,null,null,null,null,null,null,null,null,null,"",null,null,"",null,null,null,null,null,null,{"$f":"IFERROR(VLOOKUP('4.Substance-in-Product'!Z542,DSL!A:H,6,FALSE),\"-\")","v":"-"}]
[null,null,null,null,null,null,null,null,null,null,null,null,null,null,null,null,null,null,null,null,null,null,null,null,null,"",null,null,"",null,null,null,null,null,null,{"$f":"IFERROR(VLOOKUP('4.Substance-in-Product'!Z543,DSL!A:H,6,FALSE),\"-\")","v":"-"}]
[null,null,null,null,null,null,null,null,null,null,null,null,null,null,null,null,null,null,null,null,null,null,null,null,null,"",null,null,"",null,null,null,null,null,null,{"$f":"IFERROR(VLOOKUP('4.Substance-in-Product'!Z544,DSL!A:H,6,FALSE),\"-\")","v":"-"}]
[null,null,null,null,null,null,null,null,null,null,null,null,null,null,null,null,null,null,null,null,null,null,null,null,null,"",null,null,"",null,null,null,null,null,null,{"$f":"IFERROR(VLOOKUP('4.Substance-in-Product'!Z545,DSL!A:H,6,FALSE),\"-\")","v":"-"}]
[null,null,null,null,null,null,null,null,null,null,null,null,null,null,null,null,null,null,null,null,null,null,null,null,null,"",null,null,"",null,null,null,null,null,null,{"$f":"IFERROR(VLOOKUP('4.Substance-in-Product'!Z546,DSL!A:H,6,FALSE),\"-\")","v":"-"}]
[null,null,null,null,null,null,null,null,null,null,null,null,null,null,null,null,null,null,null,null,null,null,null,null,null,"",null,null,"",null,null,null,null,null,null,{"$f":"IFERROR(VLOOKUP('4.Substance-in-Product'!Z547,DSL!A:H,6,FALSE),\"-\")","v":"-"}]
[null,null,null,null,null,null,null,null,null,null,null,null,null,null,null,null,null,null,null,null,null,null,null,null,null,"",null,null,"",null,null,null,null,null,null,{"$f":"IFERROR(VLOOKUP('4.Substance-in-Product'!Z548,DSL!A:H,6,FALSE),\"-\")","v":"-"}]
[null,null,null,null,null,null,null,null,null,null,null,null,null,null,null,null,null,null,null,null,null,null,null,null,null,"",null,null,"",null,null,null,null,null,null,{"$f":"IFERROR(VLOOKUP('4.Substance-in-Product'!Z549,DSL!A:H,6,FALSE),\"-\")","v":"-"}]
[null,null,null,null,null,null,null,null,null,null,null,null,null,null,null,null,null,null,null,null,null,null,null,null,null,"",null,null,"",null,null,null,null,null,null,{"$f":"IFERROR(VLOOKUP('4.Substance-in-Product'!Z550,DSL!A:H,6,FALSE),\"-\")","v":"-"}]
[null,null,null,null,null,null,null,null,null,null,null,null,null,null,null,null,null,null,null,null,null,null,null,null,null,"",null,null,"",null,null,null,null,null,null,{"$f":"IFERROR(VLOOKUP('4.Substance-in-Product'!Z551,DSL!A:H,6,FALSE),\"-\")","v":"-"}]
[null,null,null,null,null,null,null,null,null,null,null,null,null,null,null,null,null,null,null,null,null,null,null,null,null,"",null,null,"",null,null,null,null,null,null,{"$f":"IFERROR(VLOOKUP('4.Substance-in-Product'!Z552,DSL!A:H,6,FALSE),\"-\")","v":"-"}]
[null,null,null,null,null,null,null,null,null,null,null,null,null,null,null,null,null,null,null,null,null,null,null,null,null,"",null,null,"",null,null,null,null,null,null,{"$f":"IFERROR(VLOOKUP('4.Substance-in-Product'!Z553,DSL!A:H,6,FALSE),\"-\")","v":"-"}]
[null,null,null,null,null,null,null,null,null,null,null,null,null,null,null,null,null,null,null,null,null,null,null,null,null,"",null,null,"",null,null,null,null,null,null,{"$f":"IFERROR(VLOOKUP('4.Substance-in-Product'!Z554,DSL!A:H,6,FALSE),\"-\")","v":"-"}]
[null,null,null,null,null,null,null,null,null,null,null,null,null,null,null,null,null,null,null,null,null,null,null,null,null,"",null,null,"",null,null,null,null,null,null,{"$f":"IFERROR(VLOOKUP('4.Substance-in-Product'!Z555,DSL!A:H,6,FALSE),\"-\")","v":"-"}]
[null,null,null,null,null,null,null,null,null,null,null,null,null,null,null,null,null,null,null,null,null,null,null,null,null,"",null,null,"",null,null,null,null,null,null,{"$f":"IFERROR(VLOOKUP('4.Substance-in-Product'!Z556,DSL!A:H,6,FALSE),\"-\")","v":"-"}]
[null,null,null,null,null,null,null,null,null,null,null,null,null,null,null,null,null,null,null,null,null,null,null,null,null,"",null,null,"",null,null,null,null,null,null,{"$f":"IFERROR(VLOOKUP('4.Substance-in-Product'!Z557,DSL!A:H,6,FALSE),\"-\")","v":"-"}]
[null,null,null,null,null,null,null,null,null,null,null,null,null,null,null,null,null,null,null,null,null,null,null,null,null,"",null,null,"",null,null,null,null,null,null,{"$f":"IFERROR(VLOOKUP('4.Substance-in-Product'!Z558,DSL!A:H,6,FALSE),\"-\")","v":"-"}]
[null,null,null,null,null,null,null,null,null,null,null,null,null,null,null,null,null,null,null,null,null,null,null,null,null,"",null,null,"",null,null,null,null,null,null,{"$f":"IFERROR(VLOOKUP('4.Substance-in-Product'!Z559,DSL!A:H,6,FALSE),\"-\")","v":"-"}]
[null,null,null,null,null,null,null,null,null,null,null,null,null,null,null,null,null,null,null,null,null,null,null,null,null,"",null,null,"",null,null,null,null,null,null,{"$f":"IFERROR(VLOOKUP('4.Substance-in-Product'!Z560,DSL!A:H,6,FALSE),\"-\")","v":"-"}]
[null,null,null,null,null,null,null,null,null,null,null,null,null,null,null,null,null,null,null,null,null,null,null,null,null,"",null,null,"",null,null,null,null,null,null,{"$f":"IFERROR(VLOOKUP('4.Substance-in-Product'!Z561,DSL!A:H,6,FALSE),\"-\")","v":"-"}]
[null,null,null,null,null,null,null,null,null,null,null,null,null,null,null,null,null,null,null,null,null,null,null,null,null,"",null,null,"",null,null,null,null,null,null,{"$f":"IFERROR(VLOOKUP('4.Substance-in-Product'!Z562,DSL!A:H,6,FALSE),\"-\")","v":"-"}]
[null,null,null,null,null,null,null,null,null,null,null,null,null,null,null,null,null,null,null,null,null,null,null,null,null,"",null,null,"",null,null,null,null,null,null,{"$f":"IFERROR(VLOOKUP('4.Substance-in-Product'!Z563,DSL!A:H,6,FALSE),\"-\")","v":"-"}]
[null,null,null,null,null,null,null,null,null,null,null,null,null,null,null,null,null,null,null,null,null,null,null,null,null,"",null,null,"",null,null,null,null,null,null,{"$f":"IFERROR(VLOOKUP('4.Substance-in-Product'!Z564,DSL!A:H,6,FALSE),\"-\")","v":"-"}]
[null,null,null,null,null,null,null,null,null,null,null,null,null,null,null,null,null,null,null,null,null,null,null,null,null,"",null,null,"",null,null,null,null,null,null,{"$f":"IFERROR(VLOOKUP('4.Substance-in-Product'!Z565,DSL!A:H,6,FALSE),\"-\")","v":"-"}]
[null,null,null,null,null,null,null,null,null,null,null,null,null,null,null,null,null,null,null,null,null,null,null,null,null,"",null,null,"",null,null,null,null,null,null,{"$f":"IFERROR(VLOOKUP('4.Substance-in-Product'!Z566,DSL!A:H,6,FALSE),\"-\")","v":"-"}]
[null,null,null,null,null,null,null,null,null,null,null,null,null,null,null,null,null,null,null,null,null,null,null,null,null,"",null,null,"",null,null,null,null,null,null,{"$f":"IFERROR(VLOOKUP('4.Substance-in-Product'!Z567,DSL!A:H,6,FALSE),\"-\")","v":"-"}]
[null,null,null,null,null,null,null,null,null,null,null,null,null,null,null,null,null,null,null,null,null,null,null,null,null,"",null,null,"",null,null,null,null,null,null,{"$f":"IFERROR(VLOOKUP('4.Substance-in-Product'!Z568,DSL!A:H,6,FALSE),\"-\")","v":"-"}]
[null,null,null,null,null,null,null,null,null,null,null,null,null,null,null,null,null,null,null,null,null,null,null,null,null,"",null,null,"",null,null,null,null,null,null,{"$f":"IFERROR(VLOOKUP('4.Substance-in-Product'!Z569,DSL!A:H,6,FALSE),\"-\")","v":"-"}]
[null,null,null,null,null,null,null,null,null,null,null,null,null,null,null,null,null,null,null,null,null,null,null,null,null,"",null,null,"",null,null,null,null,null,null,{"$f":"IFERROR(VLOOKUP('4.Substance-in-Product'!Z570,DSL!A:H,6,FALSE),\"-\")","v":"-"}]
[null,null,null,null,null,null,null,null,null,null,null,null,null,null,null,null,null,null,null,null,null,null,null,null,null,"",null,null,"",null,null,null,null,null,null,{"$f":"IFERROR(VLOOKUP('4.Substance-in-Product'!Z571,DSL!A:H,6,FALSE),\"-\")","v":"-"}]
[null,null,null,null,null,null,null,null,null,null,null,null,null,null,null,null,null,null,null,null,null,null,null,null,null,"",null,null,"",null,null,null,null,null,null,{"$f":"IFERROR(VLOOKUP('4.Substance-in-Product'!Z572,DSL!A:H,6,FALSE),\"-\")","v":"-"}]
[null,null,null,null,null,null,null,null,null,null,null,null,null,null,null,null,null,null,null,null,null,null,null,null,null,"",null,null,"",null,null,null,null,null,null,{"$f":"IFERROR(VLOOKUP('4.Substance-in-Product'!Z573,DSL!A:H,6,FALSE),\"-\")","v":"-"}]
[null,null,null,null,null,null,null,null,null,null,null,null,null,null,null,null,null,null,null,null,null,null,null,null,null,"",null,null,"",null,null,null,null,null,null,{"$f":"IFERROR(VLOOKUP('4.Substance-in-Product'!Z574,DSL!A:H,6,FALSE),\"-\")","v":"-"}]
[null,null,null,null,null,null,null,null,null,null,null,null,null,null,null,null,null,null,null,null,null,null,null,null,null,"",null,null,"",null,null,null,null,null,null,{"$f":"IFERROR(VLOOKUP('4.Substance-in-Product'!Z575,DSL!A:H,6,FALSE),\"-\")","v":"-"}]
[null,null,null,null,null,null,null,null,null,null,null,null,null,null,null,null,null,null,null,null,null,null,null,null,null,"",null,null,"",null,null,null,null,null,null,{"$f":"IFERROR(VLOOKUP('4.Substance-in-Product'!Z576,DSL!A:H,6,FALSE),\"-\")","v":"-"}]
[null,null,null,null,null,null,null,null,null,null,null,null,null,null,null,null,null,null,null,null,null,null,null,null,null,"",null,null,"",null,null,null,null,null,null,{"$f":"IFERROR(VLOOKUP('4.Substance-in-Product'!Z577,DSL!A:H,6,FALSE),\"-\")","v":"-"}]
[null,null,null,null,null,null,null,null,null,null,null,null,null,null,null,null,null,null,null,null,null,null,null,null,null,"",null,null,"",null,null,null,null,null,null,{"$f":"IFERROR(VLOOKUP('4.Substance-in-Product'!Z578,DSL!A:H,6,FALSE),\"-\")","v":"-"}]
[null,null,null,null,null,null,null,null,null,null,null,null,null,null,null,null,null,null,null,null,null,null,null,null,null,"",null,null,"",null,null,null,null,null,null,{"$f":"IFERROR(VLOOKUP('4.Substance-in-Product'!Z579,DSL!A:H,6,FALSE),\"-\")","v":"-"}]
[null,null,null,null,null,null,null,null,null,null,null,null,null,null,null,null,null,null,null,null,null,null,null,null,null,"",null,null,"",null,null,null,null,null,null,{"$f":"IFERROR(VLOOKUP('4.Substance-in-Product'!Z580,DSL!A:H,6,FALSE),\"-\")","v":"-"}]
[null,null,null,null,null,null,null,null,null,null,null,null,null,null,null,null,null,null,null,null,null,null,null,null,null,"",null,null,"",null,null,null,null,null,null,{"$f":"IFERROR(VLOOKUP('4.Substance-in-Product'!Z581,DSL!A:H,6,FALSE),\"-\")","v":"-"}]
[null,null,null,null,null,null,null,null,null,null,null,null,null,null,null,null,null,null,null,null,null,null,null,null,null,"",null,null,"",null,null,null,null,null,null,{"$f":"IFERROR(VLOOKUP('4.Substance-in-Product'!Z582,DSL!A:H,6,FALSE),\"-\")","v":"-"}]
[null,null,null,null,null,null,null,null,null,null,null,null,null,null,null,null,null,null,null,null,null,null,null,null,null,"",null,null,"",null,null,null,null,null,null,{"$f":"IFERROR(VLOOKUP('4.Substance-in-Product'!Z583,DSL!A:H,6,FALSE),\"-\")","v":"-"}]
[null,null,null,null,null,null,null,null,null,null,null,null,null,null,null,null,null,null,null,null,null,null,null,null,null,"",null,null,"",null,null,null,null,null,null,{"$f":"IFERROR(VLOOKUP('4.Substance-in-Product'!Z584,DSL!A:H,6,FALSE),\"-\")","v":"-"}]
[null,null,null,null,null,null,null,null,null,null,null,null,null,null,null,null,null,null,null,null,null,null,null,null,null,"",null,null,"",null,null,null,null,null,null,{"$f":"IFERROR(VLOOKUP('4.Substance-in-Product'!Z585,DSL!A:H,6,FALSE),\"-\")","v":"-"}]
[null,null,null,null,null,null,null,null,null,null,null,null,null,null,null,null,null,null,null,null,null,null,null,null,null,"",null,null,"",null,null,null,null,null,null,{"$f":"IFERROR(VLOOKUP('4.Substance-in-Product'!Z586,DSL!A:H,6,FALSE),\"-\")","v":"-"}]
[null,null,null,null,null,null,null,null,null,null,null,null,null,null,null,null,null,null,null,null,null,null,null,null,null,"",null,null,"",null,null,null,null,null,null,{"$f":"IFERROR(VLOOKUP('4.Substance-in-Product'!Z587,DSL!A:H,6,FALSE),\"-\")","v":"-"}]
[null,null,null,null,null,null,null,null,null,null,null,null,null,null,null,null,null,null,null,null,null,null,null,null,null,"",null,null,"",null,null,null,null,null,null,{"$f":"IFERROR(VLOOKUP('4.Substance-in-Product'!Z588,DSL!A:H,6,FALSE),\"-\")","v":"-"}]
[null,null,null,null,null,null,null,null,null,null,null,null,null,null,null,null,null,null,null,null,null,null,null,null,null,"",null,null,"",null,null,null,null,null,null,{"$f":"IFERROR(VLOOKUP('4.Substance-in-Product'!Z589,DSL!A:H,6,FALSE),\"-\")","v":"-"}]
[null,null,null,null,null,null,null,null,null,null,null,null,null,null,null,null,null,null,null,null,null,null,null,null,null,"",null,null,"",null,null,null,null,null,null,{"$f":"IFERROR(VLOOKUP('4.Substance-in-Product'!Z590,DSL!A:H,6,FALSE),\"-\")","v":"-"}]
[null,null,null,null,null,null,null,null,null,null,null,null,null,null,null,null,null,null,null,null,null,null,null,null,null,"",null,null,"",null,null,null,null,null,null,{"$f":"IFERROR(VLOOKUP('4.Substance-in-Product'!Z591,DSL!A:H,6,FALSE),\"-\")","v":"-"}]
[null,null,null,null,null,null,null,null,null,null,null,null,null,null,null,null,null,null,null,null,null,null,null,null,null,"",null,null,"",null,null,null,null,null,null,{"$f":"IFERROR(VLOOKUP('4.Substance-in-Product'!Z592,DSL!A:H,6,FALSE),\"-\")","v":"-"}]
[null,null,null,null,null,null,null,null,null,null,null,null,null,null,null,null,null,null,null,null,null,null,null,null,null,"",null,null,"",null,null,null,null,null,null,{"$f":"IFERROR(VLOOKUP('4.Substance-in-Product'!Z593,DSL!A:H,6,FALSE),\"-\")","v":"-"}]
[null,null,null,null,null,null,null,null,null,null,null,null,null,null,null,null,null,null,null,null,null,null,null,null,null,"",null,null,"",null,null,null,null,null,null,{"$f":"IFERROR(VLOOKUP('4.Substance-in-Product'!Z594,DSL!A:H,6,FALSE),\"-\")","v":"-"}]
[null,null,null,null,null,null,null,null,null,null,null,null,null,null,null,null,null,null,null,null,null,null,null,null,null,"",null,null,"",null,null,null,null,null,null,{"$f":"IFERROR(VLOOKUP('4.Substance-in-Product'!Z595,DSL!A:H,6,FALSE),\"-\")","v":"-"}]
[null,null,null,null,null,null,null,null,null,null,null,null,null,null,null,null,null,null,null,null,null,null,null,null,null,"",null,null,"",null,null,null,null,null,null,{"$f":"IFERROR(VLOOKUP('4.Substance-in-Product'!Z596,DSL!A:H,6,FALSE),\"-\")","v":"-"}]
[null,null,null,null,null,null,null,null,null,null,null,null,null,null,null,null,null,null,null,null,null,null,null,null,null,"",null,null,"",null,null,null,null,null,null,{"$f":"IFERROR(VLOOKUP('4.Substance-in-Product'!Z597,DSL!A:H,6,FALSE),\"-\")","v":"-"}]
[null,null,null,null,null,null,null,null,null,null,null,null,null,null,null,null,null,null,null,null,null,null,null,null,null,"",null,null,"",null,null,null,null,null,null,{"$f":"IFERROR(VLOOKUP('4.Substance-in-Product'!Z598,DSL!A:H,6,FALSE),\"-\")","v":"-"}]
[null,null,null,null,null,null,null,null,null,null,null,null,null,null,null,null,null,null,null,null,null,null,null,null,null,"",null,null,"",null,null,null,null,null,null,{"$f":"IFERROR(VLOOKUP('4.Substance-in-Product'!Z599,DSL!A:H,6,FALSE),\"-\")","v":"-"}]
[null,null,null,null,null,null,null,null,null,null,null,null,null,null,null,null,null,null,null,null,null,null,null,null,null,"",null,null,"",null,null,null,null,null,null,{"$f":"IFERROR(VLOOKUP('4.Substance-in-Product'!Z600,DSL!A:H,6,FALSE),\"-\")","v":"-"}]
[null,null,null,null,null,null,null,null,null,null,null,null,null,null,null,null,null,null,null,null,null,null,null,null,null,"",null,null,"",null,null,null,null,null,null,{"$f":"IFERROR(VLOOKUP('4.Substance-in-Product'!Z601,DSL!A:H,6,FALSE),\"-\")","v":"-"}]
[null,null,null,null,null,null,null,null,null,null,null,null,null,null,null,null,null,null,null,null,null,null,null,null,null,"",null,null,"",null,null,null,null,null,null,{"$f":"IFERROR(VLOOKUP('4.Substance-in-Product'!Z602,DSL!A:H,6,FALSE),\"-\")","v":"-"}]
[null,null,null,null,null,null,null,null,null,null,null,null,null,null,null,null,null,null,null,null,null,null,null,null,null,"",null,null,"",null,null,null,null,null,null,{"$f":"IFERROR(VLOOKUP('4.Substance-in-Product'!Z603,DSL!A:H,6,FALSE),\"-\")","v":"-"}]
[null,null,null,null,null,null,null,null,null,null,null,null,null,null,null,null,null,null,null,null,null,null,null,null,null,"",null,null,"",null,null,null,null,null,null,{"$f":"IFERROR(VLOOKUP('4.Substance-in-Product'!Z604,DSL!A:H,6,FALSE),\"-\")","v":"-"}]
[null,null,null,null,null,null,null,null,null,null,null,null,null,null,null,null,null,null,null,null,null,null,null,null,null,"",null,null,"",null,null,null,null,null,null,{"$f":"IFERROR(VLOOKUP('4.Substance-in-Product'!Z605,DSL!A:H,6,FALSE),\"-\")","v":"-"}]
[null,null,null,null,null,null,null,null,null,null,null,null,null,null,null,null,null,null,null,null,null,null,null,null,null,"",null,null,"",null,null,null,null,null,null,{"$f":"IFERROR(VLOOKUP('4.Substance-in-Product'!Z606,DSL!A:H,6,FALSE),\"-\")","v":"-"}]
[null,null,null,null,null,null,null,null,null,null,null,null,null,null,null,null,null,null,null,null,null,null,null,null,null,"",null,null,"",null,null,null,null,null,null,{"$f":"IFERROR(VLOOKUP('4.Substance-in-Product'!Z607,DSL!A:H,6,FALSE),\"-\")","v":"-"}]
[null,null,null,null,null,null,null,null,null,null,null,null,null,null,null,null,null,null,null,null,null,null,null,null,null,"",null,null,"",null,null,null,null,null,null,{"$f":"IFERROR(VLOOKUP('4.Substance-in-Product'!Z608,DSL!A:H,6,FALSE),\"-\")","v":"-"}]
[null,null,null,null,null,null,null,null,null,null,null,null,null,null,null,null,null,null,null,null,null,null,null,null,null,"",null,null,"",null,null,null,null,null,null,{"$f":"IFERROR(VLOOKUP('4.Substance-in-Product'!Z609,DSL!A:H,6,FALSE),\"-\")","v":"-"}]
[null,null,null,null,null,null,null,null,null,null,null,null,null,null,null,null,null,null,null,null,null,null,null,null,null,"",null,null,"",null,null,null,null,null,null,{"$f":"IFERROR(VLOOKUP('4.Substance-in-Product'!Z610,DSL!A:H,6,FALSE),\"-\")","v":"-"}]
[null,null,null,null,null,null,null,null,null,null,null,null,null,null,null,null,null,null,null,null,null,null,null,null,null,"",null,null,"",null,null,null,null,null,null,{"$f":"IFERROR(VLOOKUP('4.Substance-in-Product'!Z611,DSL!A:H,6,FALSE),\"-\")","v":"-"}]
[null,null,null,null,null,null,null,null,null,null,null,null,null,null,null,null,null,null,null,null,null,null,null,null,null,"",null,null,"",null,null,null,null,null,null,{"$f":"IFERROR(VLOOKUP('4.Substance-in-Product'!Z612,DSL!A:H,6,FALSE),\"-\")","v":"-"}]
[null,null,null,null,null,null,null,null,null,null,null,null,null,null,null,null,null,null,null,null,null,null,null,null,null,"",null,null,"",null,null,null,null,null,null,{"$f":"IFERROR(VLOOKUP('4.Substance-in-Product'!Z613,DSL!A:H,6,FALSE),\"-\")","v":"-"}]
[null,null,null,null,null,null,null,null,null,null,null,null,null,null,null,null,null,null,null,null,null,null,null,null,null,"",null,null,"",null,null,null,null,null,null,{"$f":"IFERROR(VLOOKUP('4.Substance-in-Product'!Z614,DSL!A:H,6,FALSE),\"-\")","v":"-"}]
[null,null,null,null,null,null,null,null,null,null,null,null,null,null,null,null,null,null,null,null,null,null,null,null,null,"",null,null,"",null,null,null,null,null,null,{"$f":"IFERROR(VLOOKUP('4.Substance-in-Product'!Z615,DSL!A:H,6,FALSE),\"-\")","v":"-"}]
[null,null,null,null,null,null,null,null,null,null,null,null,null,null,null,null,null,null,null,null,null,null,null,null,null,"",null,null,"",null,null,null,null,null,null,{"$f":"IFERROR(VLOOKUP('4.Substance-in-Product'!Z616,DSL!A:H,6,FALSE),\"-\")","v":"-"}]
[null,null,null,null,null,null,null,null,null,null,null,null,null,null,null,null,null,null,null,null,null,null,null,null,null,"",null,null,"",null,null,null,null,null,null,{"$f":"IFERROR(VLOOKUP('4.Substance-in-Product'!Z617,DSL!A:H,6,FALSE),\"-\")","v":"-"}]
[null,null,null,null,null,null,null,null,null,null,null,null,null,null,null,null,null,null,null,null,null,null,null,null,null,"",null,null,"",null,null,null,null,null,null,{"$f":"IFERROR(VLOOKUP('4.Substance-in-Product'!Z618,DSL!A:H,6,FALSE),\"-\")","v":"-"}]
[null,null,null,null,null,null,null,null,null,null,null,null,null,null,null,null,null,null,null,null,null,null,null,null,null,"",null,null,"",null,null,null,null,null,null,{"$f":"IFERROR(VLOOKUP('4.Substance-in-Product'!Z619,DSL!A:H,6,FALSE),\"-\")","v":"-"}]
[null,null,null,null,null,null,null,null,null,null,null,null,null,null,null,null,null,null,null,null,null,null,null,null,null,"",null,null,"",null,null,null,null,null,null,{"$f":"IFERROR(VLOOKUP('4.Substance-in-Product'!Z620,DSL!A:H,6,FALSE),\"-\")","v":"-"}]
[null,null,null,null,null,null,null,null,null,null,null,null,null,null,null,null,null,null,null,null,null,null,null,null,null,"",null,null,"",null,null,null,null,null,null,{"$f":"IFERROR(VLOOKUP('4.Substance-in-Product'!Z621,DSL!A:H,6,FALSE),\"-\")","v":"-"}]
[null,null,null,null,null,null,null,null,null,null,null,null,null,null,null,null,null,null,null,null,null,null,null,null,null,"",null,null,"",null,null,null,null,null,null,{"$f":"IFERROR(VLOOKUP('4.Substance-in-Product'!Z622,DSL!A:H,6,FALSE),\"-\")","v":"-"}]
[null,null,null,null,null,null,null,null,null,null,null,null,null,null,null,null,null,null,null,null,null,null,null,null,null,"",null,null,"",null,null,null,null,null,null,{"$f":"IFERROR(VLOOKUP('4.Substance-in-Product'!Z623,DSL!A:H,6,FALSE),\"-\")","v":"-"}]
[null,null,null,null,null,null,null,null,null,null,null,null,null,null,null,null,null,null,null,null,null,null,null,null,null,"",null,null,"",null,null,null,null,null,null,{"$f":"IFERROR(VLOOKUP('4.Substance-in-Product'!Z624,DSL!A:H,6,FALSE),\"-\")","v":"-"}]
[null,null,null,null,null,null,null,null,null,null,null,null,null,null,null,null,null,null,null,null,null,null,null,null,null,"",null,null,"",null,null,null,null,null,null,{"$f":"IFERROR(VLOOKUP('4.Substance-in-Product'!Z625,DSL!A:H,6,FALSE),\"-\")","v":"-"}]
[null,null,null,null,null,null,null,null,null,null,null,null,null,null,null,null,null,null,null,null,null,null,null,null,null,"",null,null,"",null,null,null,null,null,null,{"$f":"IFERROR(VLOOKUP('4.Substance-in-Product'!Z626,DSL!A:H,6,FALSE),\"-\")","v":"-"}]
[null,null,null,null,null,null,null,null,null,null,null,null,null,null,null,null,null,null,null,null,null,null,null,null,null,"",null,null,"",null,null,null,null,null,null,{"$f":"IFERROR(VLOOKUP('4.Substance-in-Product'!Z627,DSL!A:H,6,FALSE),\"-\")","v":"-"}]
[null,null,null,null,null,null,null,null,null,null,null,null,null,null,null,null,null,null,null,null,null,null,null,null,null,"",null,null,"",null,null,null,null,null,null,{"$f":"IFERROR(VLOOKUP('4.Substance-in-Product'!Z628,DSL!A:H,6,FALSE),\"-\")","v":"-"}]
[null,null,null,null,null,null,null,null,null,null,null,null,null,null,null,null,null,null,null,null,null,null,null,null,null,"",null,null,"",null,null,null,null,null,null,{"$f":"IFERROR(VLOOKUP('4.Substance-in-Product'!Z629,DSL!A:H,6,FALSE),\"-\")","v":"-"}]
[null,null,null,null,null,null,null,null,null,null,null,null,null,null,null,null,null,null,null,null,null,null,null,null,null,"",null,null,"",null,null,null,null,null,null,{"$f":"IFERROR(VLOOKUP('4.Substance-in-Product'!Z630,DSL!A:H,6,FALSE),\"-\")","v":"-"}]
[null,null,null,null,null,null,null,null,null,null,null,null,null,null,null,null,null,null,null,null,null,null,null,null,null,"",null,null,"",null,null,null,null,null,null,{"$f":"IFERROR(VLOOKUP('4.Substance-in-Product'!Z631,DSL!A:H,6,FALSE),\"-\")","v":"-"}]
[null,null,null,null,null,null,null,null,null,null,null,null,null,null,null,null,null,null,null,null,null,null,null,null,null,"",null,null,"",null,null,null,null,null,null,{"$f":"IFERROR(VLOOKUP('4.Substance-in-Product'!Z632,DSL!A:H,6,FALSE),\"-\")","v":"-"}]
[null,null,null,null,null,null,null,null,null,null,null,null,null,null,null,null,null,null,null,null,null,null,null,null,null,"",null,null,"",null,null,null,null,null,null,{"$f":"IFERROR(VLOOKUP('4.Substance-in-Product'!Z633,DSL!A:H,6,FALSE),\"-\")","v":"-"}]
[null,null,null,null,null,null,null,null,null,null,null,null,null,null,null,null,null,null,null,null,null,null,null,null,null,"",null,null,"",null,null,null,null,null,null,{"$f":"IFERROR(VLOOKUP('4.Substance-in-Product'!Z634,DSL!A:H,6,FALSE),\"-\")","v":"-"}]
[null,null,null,null,null,null,null,null,null,null,null,null,null,null,null,null,null,null,null,null,null,null,null,null,null,"",null,null,"",null,null,null,null,null,null,{"$f":"IFERROR(VLOOKUP('4.Substance-in-Product'!Z635,DSL!A:H,6,FALSE),\"-\")","v":"-"}]
[null,null,null,null,null,null,null,null,null,null,null,null,null,null,null,null,null,null,null,null,null,null,null,null,null,"",null,null,"",null,null,null,null,null,null,{"$f":"IFERROR(VLOOKUP('4.Substance-in-Product'!Z636,DSL!A:H,6,FALSE),\"-\")","v":"-"}]
[null,null,null,null,null,null,null,null,null,null,null,null,null,null,null,null,null,null,null,null,null,null,null,null,null,"",null,null,"",null,null,null,null,null,null,{"$f":"IFERROR(VLOOKUP('4.Substance-in-Product'!Z637,DSL!A:H,6,FALSE),\"-\")","v":"-"}]
[null,null,null,null,null,null,null,null,null,null,null,null,null,null,null,null,null,null,null,null,null,null,null,null,null,"",null,null,"",null,null,null,null,null,null,{"$f":"IFERROR(VLOOKUP('4.Substance-in-Product'!Z638,DSL!A:H,6,FALSE),\"-\")","v":"-"}]
[null,null,null,null,null,null,null,null,null,null,null,null,null,null,null,null,null,null,null,null,null,null,null,null,null,"",null,null,"",null,null,null,null,null,null,{"$f":"IFERROR(VLOOKUP('4.Substance-in-Product'!Z639,DSL!A:H,6,FALSE),\"-\")","v":"-"}]
[null,null,null,null,null,null,null,null,null,null,null,null,null,null,null,null,null,null,null,null,null,null,null,null,null,"",null,null,"",null,null,null,null,null,null,{"$f":"IFERROR(VLOOKUP('4.Substance-in-Product'!Z640,DSL!A:H,6,FALSE),\"-\")","v":"-"}]
[null,null,null,null,null,null,null,null,null,null,null,null,null,null,null,null,null,null,null,null,null,null,null,null,null,"",null,null,"",null,null,null,null,null,null,{"$f":"IFERROR(VLOOKUP('4.Substance-in-Product'!Z641,DSL!A:H,6,FALSE),\"-\")","v":"-"}]
[null,null,null,null,null,null,null,null,null,null,null,null,null,null,null,null,null,null,null,null,null,null,null,null,null,"",null,null,"",null,null,null,null,null,null,{"$f":"IFERROR(VLOOKUP('4.Substance-in-Product'!Z642,DSL!A:H,6,FALSE),\"-\")","v":"-"}]
[null,null,null,null,null,null,null,null,null,null,null,null,null,null,null,null,null,null,null,null,null,null,null,null,null,"",null,null,"",null,null,null,null,null,null,{"$f":"IFERROR(VLOOKUP('4.Substance-in-Product'!Z643,DSL!A:H,6,FALSE),\"-\")","v":"-"}]
[null,null,null,null,null,null,null,null,null,null,null,null,null,null,null,null,null,null,null,null,null,null,null,null,null,"",null,null,"",null,null,null,null,null,null,{"$f":"IFERROR(VLOOKUP('4.Substance-in-Product'!Z644,DSL!A:H,6,FALSE),\"-\")","v":"-"}]
[null,null,null,null,null,null,null,null,null,null,null,null,null,null,null,null,null,null,null,null,null,null,null,null,null,"",null,null,"",null,null,null,null,null,null,{"$f":"IFERROR(VLOOKUP('4.Substance-in-Product'!Z645,DSL!A:H,6,FALSE),\"-\")","v":"-"}]
[null,null,null,null,null,null,null,null,null,null,null,null,null,null,null,null,null,null,null,null,null,null,null,null,null,"",null,null,"",null,null,null,null,null,null,{"$f":"IFERROR(VLOOKUP('4.Substance-in-Product'!Z646,DSL!A:H,6,FALSE),\"-\")","v":"-"}]
[null,null,null,null,null,null,null,null,null,null,null,null,null,null,null,null,null,null,null,null,null,null,null,null,null,"",null,null,"",null,null,null,null,null,null,{"$f":"IFERROR(VLOOKUP('4.Substance-in-Product'!Z647,DSL!A:H,6,FALSE),\"-\")","v":"-"}]
[null,null,null,null,null,null,null,null,null,null,null,null,null,null,null,null,null,null,null,null,null,null,null,null,null,"",null,null,"",null,null,null,null,null,null,{"$f":"IFERROR(VLOOKUP('4.Substance-in-Product'!Z648,DSL!A:H,6,FALSE),\"-\")","v":"-"}]
[null,null,null,null,null,null,null,null,null,null,null,null,null,null,null,null,null,null,null,null,null,null,null,null,null,"",null,null,"",null,null,null,null,null,null,{"$f":"IFERROR(VLOOKUP('4.Substance-in-Product'!Z649,DSL!A:H,6,FALSE),\"-\")","v":"-"}]
[null,null,null,null,null,null,null,null,null,null,null,null,null,null,null,null,null,null,null,null,null,null,null,null,null,"",null,null,"",null,null,null,null,null,null,{"$f":"IFERROR(VLOOKUP('4.Substance-in-Product'!Z650,DSL!A:H,6,FALSE),\"-\")","v":"-"}]
[null,null,null,null,null,null,null,null,null,null,null,null,null,null,null,null,null,null,null,null,null,null,null,null,null,"",null,null,"",null,null,null,null,null,null,{"$f":"IFERROR(VLOOKUP('4.Substance-in-Product'!Z651,DSL!A:H,6,FALSE),\"-\")","v":"-"}]
[null,null,null,null,null,null,null,null,null,null,null,null,null,null,null,null,null,null,null,null,null,null,null,null,null,"",null,null,"",null,null,null,null,null,null,{"$f":"IFERROR(VLOOKUP('4.Substance-in-Product'!Z652,DSL!A:H,6,FALSE),\"-\")","v":"-"}]
[null,null,null,null,null,null,null,null,null,null,null,null,null,null,null,null,null,null,null,null,null,null,null,null,null,"",null,null,"",null,null,null,null,null,null,{"$f":"IFERROR(VLOOKUP('4.Substance-in-Product'!Z653,DSL!A:H,6,FALSE),\"-\")","v":"-"}]
[null,null,null,null,null,null,null,null,null,null,null,null,null,null,null,null,null,null,null,null,null,null,null,null,null,"",null,null,"",null,null,null,null,null,null,{"$f":"IFERROR(VLOOKUP('4.Substance-in-Product'!Z654,DSL!A:H,6,FALSE),\"-\")","v":"-"}]
[null,null,null,null,null,null,null,null,null,null,null,null,null,null,null,null,null,null,null,null,null,null,null,null,null,"",null,null,"",null,null,null,null,null,null,{"$f":"IFERROR(VLOOKUP('4.Substance-in-Product'!Z655,DSL!A:H,6,FALSE),\"-\")","v":"-"}]
[null,null,null,null,null,null,null,null,null,null,null,null,null,null,null,null,null,null,null,null,null,null,null,null,null,"",null,null,"",null,null,null,null,null,null,{"$f":"IFERROR(VLOOKUP('4.Substance-in-Product'!Z656,DSL!A:H,6,FALSE),\"-\")","v":"-"}]
[null,null,null,null,null,null,null,null,null,null,null,null,null,null,null,null,null,null,null,null,null,null,null,null,null,"",null,null,"",null,null,null,null,null,null,{"$f":"IFERROR(VLOOKUP('4.Substance-in-Product'!Z657,DSL!A:H,6,FALSE),\"-\")","v":"-"}]
[null,null,null,null,null,null,null,null,null,null,null,null,null,null,null,null,null,null,null,null,null,null,null,null,null,"",null,null,"",null,null,null,null,null,null,{"$f":"IFERROR(VLOOKUP('4.Substance-in-Product'!Z658,DSL!A:H,6,FALSE),\"-\")","v":"-"}]
[null,null,null,null,null,null,null,null,null,null,null,null,null,null,null,null,null,null,null,null,null,null,null,null,null,"",null,null,"",null,null,null,null,null,null,{"$f":"IFERROR(VLOOKUP('4.Substance-in-Product'!Z659,DSL!A:H,6,FALSE),\"-\")","v":"-"}]
[null,null,null,null,null,null,null,null,null,null,null,null,null,null,null,null,null,null,null,null,null,null,null,null,null,"",null,null,"",null,null,null,null,null,null,{"$f":"IFERROR(VLOOKUP('4.Substance-in-Product'!Z660,DSL!A:H,6,FALSE),\"-\")","v":"-"}]
[null,null,null,null,null,null,null,null,null,null,null,null,null,null,null,null,null,null,null,null,null,null,null,null,null,"",null,null,"",null,null,null,null,null,null,{"$f":"IFERROR(VLOOKUP('4.Substance-in-Product'!Z661,DSL!A:H,6,FALSE),\"-\")","v":"-"}]
[null,null,null,null,null,null,null,null,null,null,null,null,null,null,null,null,null,null,null,null,null,null,null,null,null,"",null,null,"",null,null,null,null,null,null,{"$f":"IFERROR(VLOOKUP('4.Substance-in-Product'!Z662,DSL!A:H,6,FALSE),\"-\")","v":"-"}]
[null,null,null,null,null,null,null,null,null,null,null,null,null,null,null,null,null,null,null,null,null,null,null,null,null,"",null,null,"",null,null,null,null,null,null,{"$f":"IFERROR(VLOOKUP('4.Substance-in-Product'!Z663,DSL!A:H,6,FALSE),\"-\")","v":"-"}]
[null,null,null,null,null,null,null,null,null,null,null,null,null,null,null,null,null,null,null,null,null,null,null,null,null,"",null,null,"",null,null,null,null,null,null,{"$f":"IFERROR(VLOOKUP('4.Substance-in-Product'!Z664,DSL!A:H,6,FALSE),\"-\")","v":"-"}]
[null,null,null,null,null,null,null,null,null,null,null,null,null,null,null,null,null,null,null,null,null,null,null,null,null,"",null,null,"",null,null,null,null,null,null,{"$f":"IFERROR(VLOOKUP('4.Substance-in-Product'!Z665,DSL!A:H,6,FALSE),\"-\")","v":"-"}]
[null,null,null,null,null,null,null,null,null,null,null,null,null,null,null,null,null,null,null,null,null,null,null,null,null,"",null,null,"",null,null,null,null,null,null,{"$f":"IFERROR(VLOOKUP('4.Substance-in-Product'!Z666,DSL!A:H,6,FALSE),\"-\")","v":"-"}]
[null,null,null,null,null,null,null,null,null,null,null,null,null,null,null,null,null,null,null,null,null,null,null,null,null,"",null,null,"",null,null,null,null,null,null,{"$f":"IFERROR(VLOOKUP('4.Substance-in-Product'!Z667,DSL!A:H,6,FALSE),\"-\")","v":"-"}]
[null,null,null,null,null,null,null,null,null,null,null,null,null,null,null,null,null,null,null,null,null,null,null,null,null,"",null,null,"",null,null,null,null,null,null,{"$f":"IFERROR(VLOOKUP('4.Substance-in-Product'!Z668,DSL!A:H,6,FALSE),\"-\")","v":"-"}]
[null,null,null,null,null,null,null,null,null,null,null,null,null,null,null,null,null,null,null,null,null,null,null,null,null,"",null,null,"",null,null,null,null,null,null,{"$f":"IFERROR(VLOOKUP('4.Substance-in-Product'!Z669,DSL!A:H,6,FALSE),\"-\")","v":"-"}]
[null,null,null,null,null,null,null,null,null,null,null,null,null,null,null,null,null,null,null,null,null,null,null,null,null,"",null,null,"",null,null,null,null,null,null,{"$f":"IFERROR(VLOOKUP('4.Substance-in-Product'!Z670,DSL!A:H,6,FALSE),\"-\")","v":"-"}]
[null,null,null,null,null,null,null,null,null,null,null,null,null,null,null,null,null,null,null,null,null,null,null,null,null,"",null,null,"",null,null,null,null,null,null,{"$f":"IFERROR(VLOOKUP('4.Substance-in-Product'!Z671,DSL!A:H,6,FALSE),\"-\")","v":"-"}]
[null,null,null,null,null,null,null,null,null,null,null,null,null,null,null,null,null,null,null,null,null,null,null,null,null,"",null,null,"",null,null,null,null,null,null,{"$f":"IFERROR(VLOOKUP('4.Substance-in-Product'!Z672,DSL!A:H,6,FALSE),\"-\")","v":"-"}]
[null,null,null,null,null,null,null,null,null,null,null,null,null,null,null,null,null,null,null,null,null,null,null,null,null,null,null,null,"",null,null,null,null,null,null,{"$f":"IFERROR(VLOOKUP('4.Substance-in-Product'!Z673,DSL!A:H,6,FALSE),\"-\")","v":"-"}]
[null,null,null,null,null,null,null,null,null,null,null,null,null,null,null,null,null,null,null,null,null,null,null,null,null,null,null,null,"",null,null,null,null,null,null,{"$f":"IFERROR(VLOOKUP('4.Substance-in-Product'!Z674,DSL!A:H,6,FALSE),\"-\")","v":"-"}]
[null,null,null,null,null,null,null,null,null,null,null,null,null,null,null,null,null,null,null,null,null,null,null,null,null,null,null,null,"",null,null,null,null,null,null,{"$f":"IFERROR(VLOOKUP('4.Substance-in-Product'!Z675,DSL!A:H,6,FALSE),\"-\")","v":"-"}]
[null,null,null,null,null,null,null,null,null,null,null,null,null,null,null,null,null,null,null,null,null,null,null,null,null,null,null,null,"",null,null,null,null,null,null,{"$f":"IFERROR(VLOOKUP('4.Substance-in-Product'!Z676,DSL!A:H,6,FALSE),\"-\")","v":"-"}]
[null,null,null,null,null,null,null,null,null,null,null,null,null,null,null,null,null,null,null,null,null,null,null,null,null,null,null,null,"",null,null,null,null,null,null,{"$f":"IFERROR(VLOOKUP('4.Substance-in-Product'!Z677,DSL!A:H,6,FALSE),\"-\")","v":"-"}]
[null,null,null,null,null,null,null,null,null,null,null,null,null,null,null,null,null,null,null,null,null,null,null,null,null,null,null,null,"",null,null,null,null,null,null,{"$f":"IFERROR(VLOOKUP('4.Substance-in-Product'!Z678,DSL!A:H,6,FALSE),\"-\")","v":"-"}]
[null,null,null,null,null,null,null,null,null,null,null,null,null,null,null,null,null,null,null,null,null,null,null,null,null,null,null,null,"",null,null,null,null,null,null,{"$f":"IFERROR(VLOOKUP('4.Substance-in-Product'!Z679,DSL!A:H,6,FALSE),\"-\")","v":"-"}]
[null,null,null,null,null,null,null,null,null,null,null,null,null,null,null,null,null,null,null,null,null,null,null,null,null,null,null,null,"",null,null,null,null,null,null,{"$f":"IFERROR(VLOOKUP('4.Substance-in-Product'!Z680,DSL!A:H,6,FALSE),\"-\")","v":"-"}]
[null,null,null,null,null,null,null,null,null,null,null,null,null,null,null,null,null,null,null,null,null,null,null,null,null,null,null,null,"",null,null,null,null,null,null,{"$f":"IFERROR(VLOOKUP('4.Substance-in-Product'!Z681,DSL!A:H,6,FALSE),\"-\")","v":"-"}]
[null,null,null,null,null,null,null,null,null,null,null,null,null,null,null,null,null,null,null,null,null,null,null,null,null,null,null,null,"",null,null,null,null,null,null,{"$f":"IFERROR(VLOOKUP('4.Substance-in-Product'!Z682,DSL!A:H,6,FALSE),\"-\")","v":"-"}]
[null,null,null,null,null,null,null,null,null,null,null,null,null,null,null,null,null,null,null,null,null,null,null,null,null,null,null,null,"",null,null,null,null,null,null,{"$f":"IFERROR(VLOOKUP('4.Substance-in-Product'!Z683,DSL!A:H,6,FALSE),\"-\")","v":"-"}]
[null,null,null,null,null,null,null,null,null,null,null,null,null,null,null,null,null,null,null,null,null,null,null,null,null,null,null,null,"",null,null,null,null,null,null,{"$f":"IFERROR(VLOOKUP('4.Substance-in-Product'!Z684,DSL!A:H,6,FALSE),\"-\")","v":"-"}]
[null,null,null,null,null,null,null,null,null,null,null,null,null,null,null,null,null,null,null,null,null,null,null,null,null,null,null,null,"",null,null,null,null,null,null,{"$f":"IFERROR(VLOOKUP('4.Substance-in-Product'!Z685,DSL!A:H,6,FALSE),\"-\")","v":"-"}]
[null,null,null,null,null,null,null,null,null,null,null,null,null,null,null,null,null,null,null,null,null,null,null,null,null,null,null,null,"",null,null,null,null,null,null,{"$f":"IFERROR(VLOOKUP('4.Substance-in-Product'!Z686,DSL!A:H,6,FALSE),\"-\")","v":"-"}]
[null,null,null,null,null,null,null,null,null,null,null,null,null,null,null,null,null,null,null,null,null,null,null,null,null,null,null,null,"",null,null,null,null,null,null,{"$f":"IFERROR(VLOOKUP('4.Substance-in-Product'!Z687,DSL!A:H,6,FALSE),\"-\")","v":"-"}]
[null,null,null,null,null,null,null,null,null,null,null,null,null,null,null,null,null,null,null,null,null,null,null,null,null,null,null,null,"",null,null,null,null,null,null,{"$f":"IFERROR(VLOOKUP('4.Substance-in-Product'!Z688,DSL!A:H,6,FALSE),\"-\")","v":"-"}]
[null,null,null,null,null,null,null,null,null,null,null,null,null,null,null,null,null,null,null,null,null,null,null,null,null,null,null,null,"",null,null,null,null,null,null,{"$f":"IFERROR(VLOOKUP('4.Substance-in-Product'!Z689,DSL!A:H,6,FALSE),\"-\")","v":"-"}]
[null,null,null,null,null,null,null,null,null,null,null,null,null,null,null,null,null,null,null,null,null,null,null,null,null,null,null,null,"",null,null,null,null,null,null,{"$f":"IFERROR(VLOOKUP('4.Substance-in-Product'!Z690,DSL!A:H,6,FALSE),\"-\")","v":"-"}]
[null,null,null,null,null,null,null,null,null,null,null,null,null,null,null,null,null,null,null,null,null,null,null,null,null,null,null,null,"",null,null,null,null,null,null,{"$f":"IFERROR(VLOOKUP('4.Substance-in-Product'!Z691,DSL!A:H,6,FALSE),\"-\")","v":"-"}]
[null,null,null,null,null,null,null,null,null,null,null,null,null,null,null,null,null,null,null,null,null,null,null,null,null,null,null,null,"",null,null,null,null,null,null,{"$f":"IFERROR(VLOOKUP('4.Substance-in-Product'!Z692,DSL!A:H,6,FALSE),\"-\")","v":"-"}]
[null,null,null,null,null,null,null,null,null,null,null,null,null,null,null,null,null,null,null,null,null,null,null,null,null,null,null,null,"",null,null,null,null,null,null,{"$f":"IFERROR(VLOOKUP('4.Substance-in-Product'!Z693,DSL!A:H,6,FALSE),\"-\")","v":"-"}]
[null,null,null,null,null,null,null,null,null,null,null,null,null,null,null,null,null,null,null,null,null,null,null,null,null,null,null,null,"",null,null,null,null,null,null,{"$f":"IFERROR(VLOOKUP('4.Substance-in-Product'!Z694,DSL!A:H,6,FALSE),\"-\")","v":"-"}]
[null,null,null,null,null,null,null,null,null,null,null,null,null,null,null,null,null,null,null,null,null,null,null,null,null,null,null,null,"",null,null,null,null,null,null,{"$f":"IFERROR(VLOOKUP('4.Substance-in-Product'!Z695,DSL!A:H,6,FALSE),\"-\")","v":"-"}]
[null,null,null,null,null,null,null,null,null,null,null,null,null,null,null,null,null,null,null,null,null,null,null,null,null,null,null,null,"",null,null,null,null,null,null,{"$f":"IFERROR(VLOOKUP('4.Substance-in-Product'!Z696,DSL!A:H,6,FALSE),\"-\")","v":"-"}]
[null,null,null,null,null,null,null,null,null,null,null,null,null,null,null,null,null,null,null,null,null,null,null,null,null,null,null,null,"",null,null,null,null,null,null,{"$f":"IFERROR(VLOOKUP('4.Substance-in-Product'!Z697,DSL!A:H,6,FALSE),\"-\")","v":"-"}]
[null,null,null,null,null,null,null,null,null,null,null,null,null,null,null,null,null,null,null,null,null,null,null,null,null,null,null,null,"",null,null,null,null,null,null,{"$f":"IFERROR(VLOOKUP('4.Substance-in-Product'!Z698,DSL!A:H,6,FALSE),\"-\")","v":"-"}]
[null,null,null,null,null,null,null,null,null,null,null,null,null,null,null,null,null,null,null,null,null,null,null,null,null,null,null,null,"",null,null,null,null,null,null,{"$f":"IFERROR(VLOOKUP('4.Substance-in-Product'!Z699,DSL!A:H,6,FALSE),\"-\")","v":"-"}]
[null,null,null,null,null,null,null,null,null,null,null,null,null,null,null,null,null,null,null,null,null,null,null,null,null,null,null,null,"",null,null,null,null,null,null,{"$f":"IFERROR(VLOOKUP('4.Substance-in-Product'!Z700,DSL!A:H,6,FALSE),\"-\")","v":"-"}]
[null,null,null,null,null,null,null,null,null,null,null,null,null,null,null,null,null,null,null,null,null,null,null,null,null,null,null,null,"",null,null,null,null,null,null,{"$f":"IFERROR(VLOOKUP('4.Substance-in-Product'!Z701,DSL!A:H,6,FALSE),\"-\")","v":"-"}]
[null,null,null,null,null,null,null,null,null,null,null,null,null,null,null,null,null,null,null,null,null,null,null,null,null,null,null,null,"",null,null,null,null,null,null,{"$f":"IFERROR(VLOOKUP('4.Substance-in-Product'!Z702,DSL!A:H,6,FALSE),\"-\")","v":"-"}]
[null,null,null,null,null,null,null,null,null,null,null,null,null,null,null,null,null,null,null,null,null,null,null,null,null,null,null,null,"",null,null,null,null,null,null,{"$f":"IFERROR(VLOOKUP('4.Substance-in-Product'!Z703,DSL!A:H,6,FALSE),\"-\")","v":"-"}]
[null,null,null,null,null,null,null,null,null,null,null,null,null,null,null,null,null,null,null,null,null,null,null,null,null,null,null,null,"",null,null,null,null,null,null,{"$f":"IFERROR(VLOOKUP('4.Substance-in-Product'!Z704,DSL!A:H,6,FALSE),\"-\")","v":"-"}]
[null,null,null,null,null,null,null,null,null,null,null,null,null,null,null,null,null,null,null,null,null,null,null,null,null,null,null,null,"",null,null,null,null,null,null,{"$f":"IFERROR(VLOOKUP('4.Substance-in-Product'!Z705,DSL!A:H,6,FALSE),\"-\")","v":"-"}]
[null,null,null,null,null,null,null,null,null,null,null,null,null,null,null,null,null,null,null,null,null,null,null,null,null,null,null,null,"",null,null,null,null,null,null,{"$f":"IFERROR(VLOOKUP('4.Substance-in-Product'!Z706,DSL!A:H,6,FALSE),\"-\")","v":"-"}]
[null,null,null,null,null,null,null,null,null,null,null,null,null,null,null,null,null,null,null,null,null,null,null,null,null,null,null,null,"",null,null,null,null,null,null,{"$f":"IFERROR(VLOOKUP('4.Substance-in-Product'!Z707,DSL!A:H,6,FALSE),\"-\")","v":"-"}]
[null,null,null,null,null,null,null,null,null,null,null,null,null,null,null,null,null,null,null,null,null,null,null,null,null,null,null,null,"",null,null,null,null,null,null,{"$f":"IFERROR(VLOOKUP('4.Substance-in-Product'!Z708,DSL!A:H,6,FALSE),\"-\")","v":"-"}]
[null,null,null,null,null,null,null,null,null,null,null,null,null,null,null,null,null,null,null,null,null,null,null,null,null,null,null,null,"",null,null,null,null,null,null,{"$f":"IFERROR(VLOOKUP('4.Substance-in-Product'!Z709,DSL!A:H,6,FALSE),\"-\")","v":"-"}]
[null,null,null,null,null,null,null,null,null,null,null,null,null,null,null,null,null,null,null,null,null,null,null,null,null,null,null,null,"",null,null,null,null,null,null,{"$f":"IFERROR(VLOOKUP('4.Substance-in-Product'!Z710,DSL!A:H,6,FALSE),\"-\")","v":"-"}]
[null,null,null,null,null,null,null,null,null,null,null,null,null,null,null,null,null,null,null,null,null,null,null,null,null,null,null,null,"",null,null,null,null,null,null,{"$f":"IFERROR(VLOOKUP('4.Substance-in-Product'!Z711,DSL!A:H,6,FALSE),\"-\")","v":"-"}]
[null,null,null,null,null,null,null,null,null,null,null,null,null,null,null,null,null,null,null,null,null,null,null,null,null,null,null,null,"",null,null,null,null,null,null,{"$f":"IFERROR(VLOOKUP('4.Substance-in-Product'!Z712,DSL!A:H,6,FALSE),\"-\")","v":"-"}]
[null,null,null,null,null,null,null,null,null,null,null,null,null,null,null,null,null,null,null,null,null,null,null,null,null,null,null,null,"",null,null,null,null,null,null,{"$f":"IFERROR(VLOOKUP('4.Substance-in-Product'!Z713,DSL!A:H,6,FALSE),\"-\")","v":"-"}]
[null,null,null,null,null,null,null,null,null,null,null,null,null,null,null,null,null,null,null,null,null,null,null,null,null,null,null,null,"",null,null,null,null,null,null,{"$f":"IFERROR(VLOOKUP('4.Substance-in-Product'!Z714,DSL!A:H,6,FALSE),\"-\")","v":"-"}]
[null,null,null,null,null,null,null,null,null,null,null,null,null,null,null,null,null,null,null,null,null,null,null,null,null,null,null,null,"",null,null,null,null,null,null,{"$f":"IFERROR(VLOOKUP('4.Substance-in-Product'!Z715,DSL!A:H,6,FALSE),\"-\")","v":"-"}]
[null,null,null,null,null,null,null,null,null,null,null,null,null,null,null,null,null,null,null,null,null,null,null,null,null,null,null,null,"",null,null,null,null,null,null,{"$f":"IFERROR(VLOOKUP('4.Substance-in-Product'!Z716,DSL!A:H,6,FALSE),\"-\")","v":"-"}]
[null,null,null,null,null,null,null,null,null,null,null,null,null,null,null,null,null,null,null,null,null,null,null,null,null,null,null,null,"",null,null,null,null,null,null,{"$f":"IFERROR(VLOOKUP('4.Substance-in-Product'!Z717,DSL!A:H,6,FALSE),\"-\")","v":"-"}]
[null,null,null,null,null,null,null,null,null,null,null,null,null,null,null,null,null,null,null,null,null,null,null,null,null,null,null,null,"",null,null,null,null,null,null,{"$f":"IFERROR(VLOOKUP('4.Substance-in-Product'!Z718,DSL!A:H,6,FALSE),\"-\")","v":"-"}]
[null,null,null,null,null,null,null,null,null,null,null,null,null,null,null,null,null,null,null,null,null,null,null,null,null,null,null,null,"",null,null,null,null,null,null,{"$f":"IFERROR(VLOOKUP('4.Substance-in-Product'!Z719,DSL!A:H,6,FALSE),\"-\")","v":"-"}]
[null,null,null,null,null,null,null,null,null,null,null,null,null,null,null,null,null,null,null,null,null,null,null,null,null,null,null,null,"",null,null,null,null,null,null,{"$f":"IFERROR(VLOOKUP('4.Substance-in-Product'!Z720,DSL!A:H,6,FALSE),\"-\")","v":"-"}]
[null,null,null,null,null,null,null,null,null,null,null,null,null,null,null,null,null,null,null,null,null,null,null,null,null,null,null,null,"",null,null,null,null,null,null,{"$f":"IFERROR(VLOOKUP('4.Substance-in-Product'!Z721,DSL!A:H,6,FALSE),\"-\")","v":"-"}]
[null,null,null,null,null,null,null,null,null,null,null,null,null,null,null,null,null,null,null,null,null,null,null,null,null,null,null,null,"",null,null,null,null,null,null,{"$f":"IFERROR(VLOOKUP('4.Substance-in-Product'!Z722,DSL!A:H,6,FALSE),\"-\")","v":"-"}]
[null,null,null,null,null,null,null,null,null,null,null,null,null,null,null,null,null,null,null,null,null,null,null,null,null,null,null,null,"",null,null,null,null,null,null,{"$f":"IFERROR(VLOOKUP('4.Substance-in-Product'!Z723,DSL!A:H,6,FALSE),\"-\")","v":"-"}]
[null,null,null,null,null,null,null,null,null,null,null,null,null,null,null,null,null,null,null,null,null,null,null,null,null,null,null,null,"",null,null,null,null,null,null,{"$f":"IFERROR(VLOOKUP('4.Substance-in-Product'!Z724,DSL!A:H,6,FALSE),\"-\")","v":"-"}]
[null,null,null,null,null,null,null,null,null,null,null,null,null,null,null,null,null,null,null,null,null,null,null,null,null,null,null,null,"",null,null,null,null,null,null,{"$f":"IFERROR(VLOOKUP('4.Substance-in-Product'!Z725,DSL!A:H,6,FALSE),\"-\")","v":"-"}]
[null,null,null,null,null,null,null,null,null,null,null,null,null,null,null,null,null,null,null,null,null,null,null,null,null,null,null,null,"",null,null,null,null,null,null,{"$f":"IFERROR(VLOOKUP('4.Substance-in-Product'!Z726,DSL!A:H,6,FALSE),\"-\")","v":"-"}]
[null,null,null,null,null,null,null,null,null,null,null,null,null,null,null,null,null,null,null,null,null,null,null,null,null,null,null,null,"",null,null,null,null,null,null,{"$f":"IFERROR(VLOOKUP('4.Substance-in-Product'!Z727,DSL!A:H,6,FALSE),\"-\")","v":"-"}]
[null,null,null,null,null,null,null,null,null,null,null,null,null,null,null,null,null,null,null,null,null,null,null,null,null,null,null,null,"",null,null,null,null,null,null,{"$f":"IFERROR(VLOOKUP('4.Substance-in-Product'!Z728,DSL!A:H,6,FALSE),\"-\")","v":"-"}]
[null,null,null,null,null,null,null,null,null,null,null,null,null,null,null,null,null,null,null,null,null,null,null,null,null,null,null,null,"",null,null,null,null,null,null,{"$f":"IFERROR(VLOOKUP('4.Substance-in-Product'!Z729,DSL!A:H,6,FALSE),\"-\")","v":"-"}]
[null,null,null,null,null,null,null,null,null,null,null,null,null,null,null,null,null,null,null,null,null,null,null,null,null,null,null,null,"",null,null,null,null,null,null,{"$f":"IFERROR(VLOOKUP('4.Substance-in-Product'!Z730,DSL!A:H,6,FALSE),\"-\")","v":"-"}]
[null,null,null,null,null,null,null,null,null,null,null,null,null,null,null,null,null,null,null,null,null,null,null,null,null,null,null,null,"",null,null,null,null,null,null,{"$f":"IFERROR(VLOOKUP('4.Substance-in-Product'!Z731,DSL!A:H,6,FALSE),\"-\")","v":"-"}]
[null,null,null,null,null,null,null,null,null,null,null,null,null,null,null,null,null,null,null,null,null,null,null,null,null,null,null,null,"",null,null,null,null,null,null,{"$f":"IFERROR(VLOOKUP('4.Substance-in-Product'!Z732,DSL!A:H,6,FALSE),\"-\")","v":"-"}]
[null,null,null,null,null,null,null,null,null,null,null,null,null,null,null,null,null,null,null,null,null,null,null,null,null,null,null,null,"",null,null,null,null,null,null,{"$f":"IFERROR(VLOOKUP('4.Substance-in-Product'!Z733,DSL!A:H,6,FALSE),\"-\")","v":"-"}]
[null,null,null,null,null,null,null,null,null,null,null,null,null,null,null,null,null,null,null,null,null,null,null,null,null,null,null,null,"",null,null,null,null,null,null,{"$f":"IFERROR(VLOOKUP('4.Substance-in-Product'!Z734,DSL!A:H,6,FALSE),\"-\")","v":"-"}]
[null,null,null,null,null,null,null,null,null,null,null,null,null,null,null,null,null,null,null,null,null,null,null,null,null,null,null,null,"",null,null,null,null,null,null,{"$f":"IFERROR(VLOOKUP('4.Substance-in-Product'!Z735,DSL!A:H,6,FALSE),\"-\")","v":"-"}]
[null,null,null,null,null,null,null,null,null,null,null,null,null,null,null,null,null,null,null,null,null,null,null,null,null,null,null,null,"",null,null,null,null,null,null,{"$f":"IFERROR(VLOOKUP('4.Substance-in-Product'!Z736,DSL!A:H,6,FALSE),\"-\")","v":"-"}]
[null,null,null,null,null,null,null,null,null,null,null,null,null,null,null,null,null,null,null,null,null,null,null,null,null,null,null,null,"",null,null,null,null,null,null,{"$f":"IFERROR(VLOOKUP('4.Substance-in-Product'!Z737,DSL!A:H,6,FALSE),\"-\")","v":"-"}]
[null,null,null,null,null,null,null,null,null,null,null,null,null,null,null,null,null,null,null,null,null,null,null,null,null,null,null,null,"",null,null,null,null,null,null,{"$f":"IFERROR(VLOOKUP('4.Substance-in-Product'!Z738,DSL!A:H,6,FALSE),\"-\")","v":"-"}]
[null,null,null,null,null,null,null,null,null,null,null,null,null,null,null,null,null,null,null,null,null,null,null,null,null,null,null,null,"",null,null,null,null,null,null,{"$f":"IFERROR(VLOOKUP('4.Substance-in-Product'!Z739,DSL!A:H,6,FALSE),\"-\")","v":"-"}]
[null,null,null,null,null,null,null,null,null,null,null,null,null,null,null,null,null,null,null,null,null,null,null,null,null,null,null,null,"",null,null,null,null,null,null,{"$f":"IFERROR(VLOOKUP('4.Substance-in-Product'!Z740,DSL!A:H,6,FALSE),\"-\")","v":"-"}]
[null,null,null,null,null,null,null,null,null,null,null,null,null,null,null,null,null,null,null,null,null,null,null,null,null,null,null,null,"",null,null,null,null,null,null,{"$f":"IFERROR(VLOOKUP('4.Substance-in-Product'!Z741,DSL!A:H,6,FALSE),\"-\")","v":"-"}]
[null,null,null,null,null,null,null,null,null,null,null,null,null,null,null,null,null,null,null,null,null,null,null,null,null,null,null,null,"",null,null,null,null,null,null,{"$f":"IFERROR(VLOOKUP('4.Substance-in-Product'!Z742,DSL!A:H,6,FALSE),\"-\")","v":"-"}]
[null,null,null,null,null,null,null,null,null,null,null,null,null,null,null,null,null,null,null,null,null,null,null,null,null,null,null,null,"",null,null,null,null,null,null,{"$f":"IFERROR(VLOOKUP('4.Substance-in-Product'!Z743,DSL!A:H,6,FALSE),\"-\")","v":"-"}]
[null,null,null,null,null,null,null,null,null,null,null,null,null,null,null,null,null,null,null,null,null,null,null,null,null,null,null,null,"",null,null,null,null,null,null,{"$f":"IFERROR(VLOOKUP('4.Substance-in-Product'!Z744,DSL!A:H,6,FALSE),\"-\")","v":"-"}]
[null,null,null,null,null,null,null,null,null,null,null,null,null,null,null,null,null,null,null,null,null,null,null,null,null,null,null,null,"",null,null,null,null,null,null,{"$f":"IFERROR(VLOOKUP('4.Substance-in-Product'!Z745,DSL!A:H,6,FALSE),\"-\")","v":"-"}]
[null,null,null,null,null,null,null,null,null,null,null,null,null,null,null,null,null,null,null,null,null,null,null,null,null,null,null,null,"",null,null,null,null,null,null,{"$f":"IFERROR(VLOOKUP('4.Substance-in-Product'!Z746,DSL!A:H,6,FALSE),\"-\")","v":"-"}]
[null,null,null,null,null,null,null,null,null,null,null,null,null,null,null,null,null,null,null,null,null,null,null,null,null,null,null,null,"",null,null,null,null,null,null,{"$f":"IFERROR(VLOOKUP('4.Substance-in-Product'!Z747,DSL!A:H,6,FALSE),\"-\")","v":"-"}]
[null,null,null,null,null,null,null,null,null,null,null,null,null,null,null,null,null,null,null,null,null,null,null,null,null,null,null,null,"",null,null,null,null,null,null,{"$f":"IFERROR(VLOOKUP('4.Substance-in-Product'!Z748,DSL!A:H,6,FALSE),\"-\")","v":"-"}]
[null,null,null,null,null,null,null,null,null,null,null,null,null,null,null,null,null,null,null,null,null,null,null,null,null,null,null,null,"",null,null,null,null,null,null,{"$f":"IFERROR(VLOOKUP('4.Substance-in-Product'!Z749,DSL!A:H,6,FALSE),\"-\")","v":"-"}]
[null,null,null,null,null,null,null,null,null,null,null,null,null,null,null,null,null,null,null,null,null,null,null,null,null,null,null,null,"",null,null,null,null,null,null,{"$f":"IFERROR(VLOOKUP('4.Substance-in-Product'!Z750,DSL!A:H,6,FALSE),\"-\")","v":"-"}]
[null,null,null,null,null,null,null,null,null,null,null,null,null,null,null,null,null,null,null,null,null,null,null,null,null,null,null,null,"",null,null,null,null,null,null,{"$f":"IFERROR(VLOOKUP('4.Substance-in-Product'!Z751,DSL!A:H,6,FALSE),\"-\")","v":"-"}]
[null,null,null,null,null,null,null,null,null,null,null,null,null,null,null,null,null,null,null,null,null,null,null,null,null,null,null,null,"",null,null,null,null,null,null,{"$f":"IFERROR(VLOOKUP('4.Substance-in-Product'!Z752,DSL!A:H,6,FALSE),\"-\")","v":"-"}]
[null,null,null,null,null,null,null,null,null,null,null,null,null,null,null,null,null,null,null,null,null,null,null,null,null,null,null,null,"",null,null,null,null,null,null,{"$f":"IFERROR(VLOOKUP('4.Substance-in-Product'!Z753,DSL!A:H,6,FALSE),\"-\")","v":"-"}]
[null,null,null,null,null,null,null,null,null,null,null,null,null,null,null,null,null,null,null,null,null,null,null,null,null,null,null,null,"",null,null,null,null,null,null,{"$f":"IFERROR(VLOOKUP('4.Substance-in-Product'!Z754,DSL!A:H,6,FALSE),\"-\")","v":"-"}]
[null,null,null,null,null,null,null,null,null,null,null,null,null,null,null,null,null,null,null,null,null,null,null,null,null,null,null,null,"",null,null,null,null,null,null,{"$f":"IFERROR(VLOOKUP('4.Substance-in-Product'!Z755,DSL!A:H,6,FALSE),\"-\")","v":"-"}]
[null,null,null,null,null,null,null,null,null,null,null,null,null,null,null,null,null,null,null,null,null,null,null,null,null,null,null,null,"",null,null,null,null,null,null,{"$f":"IFERROR(VLOOKUP('4.Substance-in-Product'!Z756,DSL!A:H,6,FALSE),\"-\")","v":"-"}]
[null,null,null,null,null,null,null,null,null,null,null,null,null,null,null,null,null,null,null,null,null,null,null,null,null,null,null,null,"",null,null,null,null,null,null,{"$f":"IFERROR(VLOOKUP('4.Substance-in-Product'!Z757,DSL!A:H,6,FALSE),\"-\")","v":"-"}]
[null,null,null,null,null,null,null,null,null,null,null,null,null,null,null,null,null,null,null,null,null,null,null,null,null,null,null,null,"",null,null,null,null,null,null,{"$f":"IFERROR(VLOOKUP('4.Substance-in-Product'!Z758,DSL!A:H,6,FALSE),\"-\")","v":"-"}]
[null,null,null,null,null,null,null,null,null,null,null,null,null,null,null,null,null,null,null,null,null,null,null,null,null,null,null,null,"",null,null,null,null,null,null,{"$f":"IFERROR(VLOOKUP('4.Substance-in-Product'!Z759,DSL!A:H,6,FALSE),\"-\")","v":"-"}]
[null,null,null,null,null,null,null,null,null,null,null,null,null,null,null,null,null,null,null,null,null,null,null,null,null,null,null,null,"",null,null,null,null,null,null,{"$f":"IFERROR(VLOOKUP('4.Substance-in-Product'!Z760,DSL!A:H,6,FALSE),\"-\")","v":"-"}]
[null,null,null,null,null,null,null,null,null,null,null,null,null,null,null,null,null,null,null,null,null,null,null,null,null,null,null,null,"",null,null,null,null,null,null,{"$f":"IFERROR(VLOOKUP('4.Substance-in-Product'!Z761,DSL!A:H,6,FALSE),\"-\")","v":"-"}]
[null,null,null,null,null,null,null,null,null,null,null,null,null,null,null,null,null,null,null,null,null,null,null,null,null,null,null,null,"",null,null,null,null,null,null,{"$f":"IFERROR(VLOOKUP('4.Substance-in-Product'!Z762,DSL!A:H,6,FALSE),\"-\")","v":"-"}]
[null,null,null,null,null,null,null,null,null,null,null,null,null,null,null,null,null,null,null,null,null,null,null,null,null,null,null,null,"",null,null,null,null,null,null,{"$f":"IFERROR(VLOOKUP('4.Substance-in-Product'!Z763,DSL!A:H,6,FALSE),\"-\")","v":"-"}]
[null,null,null,null,null,null,null,null,null,null,null,null,null,null,null,null,null,null,null,null,null,null,null,null,null,null,null,null,"",null,null,null,null,null,null,{"$f":"IFERROR(VLOOKUP('4.Substance-in-Product'!Z764,DSL!A:H,6,FALSE),\"-\")","v":"-"}]
[null,null,null,null,null,null,null,null,null,null,null,null,null,null,null,null,null,null,null,null,null,null,null,null,null,null,null,null,"",null,null,null,null,null,null,{"$f":"IFERROR(VLOOKUP('4.Substance-in-Product'!Z765,DSL!A:H,6,FALSE),\"-\")","v":"-"}]
[null,null,null,null,null,null,null,null,null,null,null,null,null,null,null,null,null,null,null,null,null,null,null,null,null,null,null,null,"",null,null,null,null,null,null,{"$f":"IFERROR(VLOOKUP('4.Substance-in-Product'!Z766,DSL!A:H,6,FALSE),\"-\")","v":"-"}]
[null,null,null,null,null,null,null,null,null,null,null,null,null,null,null,null,null,null,null,null,null,null,null,null,null,null,null,null,"",null,null,null,null,null,null,{"$f":"IFERROR(VLOOKUP('4.Substance-in-Product'!Z767,DSL!A:H,6,FALSE),\"-\")","v":"-"}]
[null,null,null,null,null,null,null,null,null,null,null,null,null,null,null,null,null,null,null,null,null,null,null,null,null,null,null,null,"",null,null,null,null,null,null,{"$f":"IFERROR(VLOOKUP('4.Substance-in-Product'!Z768,DSL!A:H,6,FALSE),\"-\")","v":"-"}]
[null,null,null,null,null,null,null,null,null,null,null,null,null,null,null,null,null,null,null,null,null,null,null,null,null,null,null,null,"",null,null,null,null,null,null,{"$f":"IFERROR(VLOOKUP('4.Substance-in-Product'!Z769,DSL!A:H,6,FALSE),\"-\")","v":"-"}]
[null,null,null,null,null,null,null,null,null,null,null,null,null,null,null,null,null,null,null,null,null,null,null,null,null,null,null,null,"",null,null,null,null,null,null,{"$f":"IFERROR(VLOOKUP('4.Substance-in-Product'!Z770,DSL!A:H,6,FALSE),\"-\")","v":"-"}]
[null,null,null,null,null,null,null,null,null,null,null,null,null,null,null,null,null,null,null,null,null,null,null,null,null,null,null,null,"",null,null,null,null,null,null,{"$f":"IFERROR(VLOOKUP('4.Substance-in-Product'!Z771,DSL!A:H,6,FALSE),\"-\")","v":"-"}]
[null,null,null,null,null,null,null,null,null,null,null,null,null,null,null,null,null,null,null,null,null,null,null,null,null,null,null,null,"",null,null,null,null,null,null,{"$f":"IFERROR(VLOOKUP('4.Substance-in-Product'!Z772,DSL!A:H,6,FALSE),\"-\")","v":"-"}]
[null,null,null,null,null,null,null,null,null,null,null,null,null,null,null,null,null,null,null,null,null,null,null,null,null,null,null,null,"",null,null,null,null,null,null,{"$f":"IFERROR(VLOOKUP('4.Substance-in-Product'!Z773,DSL!A:H,6,FALSE),\"-\")","v":"-"}]
[null,null,null,null,null,null,null,null,null,null,null,null,null,null,null,null,null,null,null,null,null,null,null,null,null,null,null,null,"",null,null,null,null,null,null,{"$f":"IFERROR(VLOOKUP('4.Substance-in-Product'!Z774,DSL!A:H,6,FALSE),\"-\")","v":"-"}]
[null,null,null,null,null,null,null,null,null,null,null,null,null,null,null,null,null,null,null,null,null,null,null,null,null,null,null,null,"",null,null,null,null,null,null,{"$f":"IFERROR(VLOOKUP('4.Substance-in-Product'!Z775,DSL!A:H,6,FALSE),\"-\")","v":"-"}]
[null,null,null,null,null,null,null,null,null,null,null,null,null,null,null,null,null,null,null,null,null,null,null,null,null,null,null,null,"",null,null,null,null,null,null,{"$f":"IFERROR(VLOOKUP('4.Substance-in-Product'!Z776,DSL!A:H,6,FALSE),\"-\")","v":"-"}]
[null,null,null,null,null,null,null,null,null,null,null,null,null,null,null,null,null,null,null,null,null,null,null,null,null,null,null,null,"",null,null,null,null,null,null,{"$f":"IFERROR(VLOOKUP('4.Substance-in-Product'!Z777,DSL!A:H,6,FALSE),\"-\")","v":"-"}]
[null,null,null,null,null,null,null,null,null,null,null,null,null,null,null,null,null,null,null,null,null,null,null,null,null,null,null,null,"",null,null,null,null,null,null,{"$f":"IFERROR(VLOOKUP('4.Substance-in-Product'!Z778,DSL!A:H,6,FALSE),\"-\")","v":"-"}]
[null,null,null,null,null,null,null,null,null,null,null,null,null,null,null,null,null,null,null,null,null,null,null,null,null,null,null,null,"",null,null,null,null,null,null,{"$f":"IFERROR(VLOOKUP('4.Substance-in-Product'!Z779,DSL!A:H,6,FALSE),\"-\")","v":"-"}]
[null,null,null,null,null,null,null,null,null,null,null,null,null,null,null,null,null,null,null,null,null,null,null,null,null,null,null,null,"",null,null,null,null,null,null,{"$f":"IFERROR(VLOOKUP('4.Substance-in-Product'!Z780,DSL!A:H,6,FALSE),\"-\")","v":"-"}]
[null,null,null,null,null,null,null,null,null,null,null,null,null,null,null,null,null,null,null,null,null,null,null,null,null,null,null,null,"",null,null,null,null,null,null,{"$f":"IFERROR(VLOOKUP('4.Substance-in-Product'!Z781,DSL!A:H,6,FALSE),\"-\")","v":"-"}]
[null,null,null,null,null,null,null,null,null,null,null,null,null,null,null,null,null,null,null,null,null,null,null,null,null,null,null,null,"",null,null,null,null,null,null,{"$f":"IFERROR(VLOOKUP('4.Substance-in-Product'!Z782,DSL!A:H,6,FALSE),\"-\")","v":"-"}]
[null,null,null,null,null,null,null,null,null,null,null,null,null,null,null,null,null,null,null,null,null,null,null,null,null,null,null,null,"",null,null,null,null,null,null,{"$f":"IFERROR(VLOOKUP('4.Substance-in-Product'!Z783,DSL!A:H,6,FALSE),\"-\")","v":"-"}]
[null,null,null,null,null,null,null,null,null,null,null,null,null,null,null,null,null,null,null,null,null,null,null,null,null,null,null,null,"",null,null,null,null,null,null,{"$f":"IFERROR(VLOOKUP('4.Substance-in-Product'!Z784,DSL!A:H,6,FALSE),\"-\")","v":"-"}]
[null,null,null,null,null,null,null,null,null,null,null,null,null,null,null,null,null,null,null,null,null,null,null,null,null,null,null,null,"",null,null,null,null,null,null,{"$f":"IFERROR(VLOOKUP('4.Substance-in-Product'!Z785,DSL!A:H,6,FALSE),\"-\")","v":"-"}]
[null,null,null,null,null,null,null,null,null,null,null,null,null,null,null,null,null,null,null,null,null,null,null,null,null,null,null,null,"",null,null,null,null,null,null,{"$f":"IFERROR(VLOOKUP('4.Substance-in-Product'!Z786,DSL!A:H,6,FALSE),\"-\")","v":"-"}]
[null,null,null,null,null,null,null,null,null,null,null,null,null,null,null,null,null,null,null,null,null,null,null,null,null,null,null,null,"",null,null,null,null,null,null,{"$f":"IFERROR(VLOOKUP('4.Substance-in-Product'!Z787,DSL!A:H,6,FALSE),\"-\")","v":"-"}]
[null,null,null,null,null,null,null,null,null,null,null,null,null,null,null,null,null,null,null,null,null,null,null,null,null,null,null,null,"",null,null,null,null,null,null,{"$f":"IFERROR(VLOOKUP('4.Substance-in-Product'!Z788,DSL!A:H,6,FALSE),\"-\")","v":"-"}]
[null,null,null,null,null,null,null,null,null,null,null,null,null,null,null,null,null,null,null,null,null,null,null,null,null,null,null,null,"",null,null,null,null,null,null,{"$f":"IFERROR(VLOOKUP('4.Substance-in-Product'!Z789,DSL!A:H,6,FALSE),\"-\")","v":"-"}]
[null,null,null,null,null,null,null,null,null,null,null,null,null,null,null,null,null,null,null,null,null,null,null,null,null,null,null,null,"",null,null,null,null,null,null,{"$f":"IFERROR(VLOOKUP('4.Substance-in-Product'!Z790,DSL!A:H,6,FALSE),\"-\")","v":"-"}]
[null,null,null,null,null,null,null,null,null,null,null,null,null,null,null,null,null,null,null,null,null,null,null,null,null,null,null,null,"",null,null,null,null,null,null,{"$f":"IFERROR(VLOOKUP('4.Substance-in-Product'!Z791,DSL!A:H,6,FALSE),\"-\")","v":"-"}]
[null,null,null,null,null,null,null,null,null,null,null,null,null,null,null,null,null,null,null,null,null,null,null,null,null,null,null,null,"",null,null,null,null,null,null,{"$f":"IFERROR(VLOOKUP('4.Substance-in-Product'!Z792,DSL!A:H,6,FALSE),\"-\")","v":"-"}]
[null,null,null,null,null,null,null,null,null,null,null,null,null,null,null,null,null,null,null,null,null,null,null,null,null,null,null,null,"",null,null,null,null,null,null,{"$f":"IFERROR(VLOOKUP('4.Substance-in-Product'!Z793,DSL!A:H,6,FALSE),\"-\")","v":"-"}]
[null,null,null,null,null,null,null,null,null,null,null,null,null,null,null,null,null,null,null,null,null,null,null,null,null,null,null,null,"",null,null,null,null,null,null,{"$f":"IFERROR(VLOOKUP('4.Substance-in-Product'!Z794,DSL!A:H,6,FALSE),\"-\")","v":"-"}]
[null,null,null,null,null,null,null,null,null,null,null,null,null,null,null,null,null,null,null,null,null,null,null,null,null,null,null,null,"",null,null,null,null,null,null,{"$f":"IFERROR(VLOOKUP('4.Substance-in-Product'!Z795,DSL!A:H,6,FALSE),\"-\")","v":"-"}]
[null,null,null,null,null,null,null,null,null,null,null,null,null,null,null,null,null,null,null,null,null,null,null,null,null,null,null,null,"",null,null,null,null,null,null,{"$f":"IFERROR(VLOOKUP('4.Substance-in-Product'!Z796,DSL!A:H,6,FALSE),\"-\")","v":"-"}]
[null,null,null,null,null,null,null,null,null,null,null,null,null,null,null,null,null,null,null,null,null,null,null,null,null,null,null,null,"",null,null,null,null,null,null,{"$f":"IFERROR(VLOOKUP('4.Substance-in-Product'!Z797,DSL!A:H,6,FALSE),\"-\")","v":"-"}]
[null,null,null,null,null,null,null,null,null,null,null,null,null,null,null,null,null,null,null,null,null,null,null,null,null,null,null,null,"",null,null,null,null,null,null,{"$f":"IFERROR(VLOOKUP('4.Substance-in-Product'!Z798,DSL!A:H,6,FALSE),\"-\")","v":"-"}]
[null,null,null,null,null,null,null,null,null,null,null,null,null,null,null,null,null,null,null,null,null,null,null,null,null,null,null,null,"",null,null,null,null,null,null,{"$f":"IFERROR(VLOOKUP('4.Substance-in-Product'!Z799,DSL!A:H,6,FALSE),\"-\")","v":"-"}]
[null,null,null,null,null,null,null,null,null,null,null,null,null,null,null,null,null,null,null,null,null,null,null,null,null,null,null,null,"",null,null,null,null,null,null,{"$f":"IFERROR(VLOOKUP('4.Substance-in-Product'!Z800,DSL!A:H,6,FALSE),\"-\")","v":"-"}]
[null,null,null,null,null,null,null,null,null,null,null,null,null,null,null,null,null,null,null,null,null,null,null,null,null,null,null,null,"",null,null,null,null,null,null,{"$f":"IFERROR(VLOOKUP('4.Substance-in-Product'!Z801,DSL!A:H,6,FALSE),\"-\")","v":"-"}]
[null,null,null,null,null,null,null,null,null,null,null,null,null,null,null,null,null,null,null,null,null,null,null,null,null,null,null,null,"",null,null,null,null,null,null,{"$f":"IFERROR(VLOOKUP('4.Substance-in-Product'!Z802,DSL!A:H,6,FALSE),\"-\")","v":"-"}]
[null,null,null,null,null,null,null,null,null,null,null,null,null,null,null,null,null,null,null,null,null,null,null,null,null,null,null,null,"",null,null,null,null,null,null,{"$f":"IFERROR(VLOOKUP('4.Substance-in-Product'!Z803,DSL!A:H,6,FALSE),\"-\")","v":"-"}]
[null,null,null,null,null,null,null,null,null,null,null,null,null,null,null,null,null,null,null,null,null,null,null,null,null,null,null,null,"",null,null,null,null,null,null,{"$f":"IFERROR(VLOOKUP('4.Substance-in-Product'!Z804,DSL!A:H,6,FALSE),\"-\")","v":"-"}]
[null,null,null,null,null,null,null,null,null,null,null,null,null,null,null,null,null,null,null,null,null,null,null,null,null,null,null,null,"",null,null,null,null,null,null,{"$f":"IFERROR(VLOOKUP('4.Substance-in-Product'!Z805,DSL!A:H,6,FALSE),\"-\")","v":"-"}]
[null,null,null,null,null,null,null,null,null,null,null,null,null,null,null,null,null,null,null,null,null,null,null,null,null,null,null,null,"",null,null,null,null,null,null,{"$f":"IFERROR(VLOOKUP('4.Substance-in-Product'!Z806,DSL!A:H,6,FALSE),\"-\")","v":"-"}]
[null,null,null,null,null,null,null,null,null,null,null,null,null,null,null,null,null,null,null,null,null,null,null,null,null,null,null,null,"",null,null,null,null,null,null,{"$f":"IFERROR(VLOOKUP('4.Substance-in-Product'!Z807,DSL!A:H,6,FALSE),\"-\")","v":"-"}]
[null,null,null,null,null,null,null,null,null,null,null,null,null,null,null,null,null,null,null,null,null,null,null,null,null,null,null,null,"",null,null,null,null,null,null,{"$f":"IFERROR(VLOOKUP('4.Substance-in-Product'!Z808,DSL!A:H,6,FALSE),\"-\")","v":"-"}]
[null,null,null,null,null,null,null,null,null,null,null,null,null,null,null,null,null,null,null,null,null,null,null,null,null,null,null,null,"",null,null,null,null,null,null,{"$f":"IFERROR(VLOOKUP('4.Substance-in-Product'!Z809,DSL!A:H,6,FALSE),\"-\")","v":"-"}]
[null,null,null,null,null,null,null,null,null,null,null,null,null,null,null,null,null,null,null,null,null,null,null,null,null,null,null,null,"",null,null,null,null,null,null,{"$f":"IFERROR(VLOOKUP('4.Substance-in-Product'!Z810,DSL!A:H,6,FALSE),\"-\")","v":"-"}]
[null,null,null,null,null,null,null,null,null,null,null,null,null,null,null,null,null,null,null,null,null,null,null,null,null,null,null,null,"",null,null,null,null,null,null,{"$f":"IFERROR(VLOOKUP('4.Substance-in-Product'!Z811,DSL!A:H,6,FALSE),\"-\")","v":"-"}]
[null,null,null,null,null,null,null,null,null,null,null,null,null,null,null,null,null,null,null,null,null,null,null,null,null,null,null,null,"",null,null,null,null,null,null,{"$f":"IFERROR(VLOOKUP('4.Substance-in-Product'!Z812,DSL!A:H,6,FALSE),\"-\")","v":"-"}]
[null,null,null,null,null,null,null,null,null,null,null,null,null,null,null,null,null,null,null,null,null,null,null,null,null,null,null,null,"",null,null,null,null,null,null,{"$f":"IFERROR(VLOOKUP('4.Substance-in-Product'!Z813,DSL!A:H,6,FALSE),\"-\")","v":"-"}]
[null,null,null,null,null,null,null,null,null,null,null,null,null,null,null,null,null,null,null,null,null,null,null,null,null,null,null,null,"",null,null,null,null,null,null,{"$f":"IFERROR(VLOOKUP('4.Substance-in-Product'!Z814,DSL!A:H,6,FALSE),\"-\")","v":"-"}]
[null,null,null,null,null,null,null,null,null,null,null,null,null,null,null,null,null,null,null,null,null,null,null,null,null,null,null,null,"",null,null,null,null,null,null,{"$f":"IFERROR(VLOOKUP('4.Substance-in-Product'!Z815,DSL!A:H,6,FALSE),\"-\")","v":"-"}]
[null,null,null,null,null,null,null,null,null,null,null,null,null,null,null,null,null,null,null,null,null,null,null,null,null,null,null,null,"",null,null,null,null,null,null,{"$f":"IFERROR(VLOOKUP('4.Substance-in-Product'!Z816,DSL!A:H,6,FALSE),\"-\")","v":"-"}]
[null,null,null,null,null,null,null,null,null,null,null,null,null,null,null,null,null,null,null,null,null,null,null,null,null,null,null,null,"",null,null,null,null,null,null,{"$f":"IFERROR(VLOOKUP('4.Substance-in-Product'!Z817,DSL!A:H,6,FALSE),\"-\")","v":"-"}]
[null,null,null,null,null,null,null,null,null,null,null,null,null,null,null,null,null,null,null,null,null,null,null,null,null,null,null,null,"",null,null,null,null,null,null,{"$f":"IFERROR(VLOOKUP('4.Substance-in-Product'!Z818,DSL!A:H,6,FALSE),\"-\")","v":"-"}]
[null,null,null,null,null,null,null,null,null,null,null,null,null,null,null,null,null,null,null,null,null,null,null,null,null,null,null,null,"",null,null,null,null,null,null,{"$f":"IFERROR(VLOOKUP('4.Substance-in-Product'!Z819,DSL!A:H,6,FALSE),\"-\")","v":"-"}]
[null,null,null,null,null,null,null,null,null,null,null,null,null,null,null,null,null,null,null,null,null,null,null,null,null,null,null,null,"",null,null,null,null,null,null,{"$f":"IFERROR(VLOOKUP('4.Substance-in-Product'!Z820,DSL!A:H,6,FALSE),\"-\")","v":"-"}]
[null,null,null,null,null,null,null,null,null,null,null,null,null,null,null,null,null,null,null,null,null,null,null,null,null,null,null,null,"",null,null,null,null,null,null,{"$f":"IFERROR(VLOOKUP('4.Substance-in-Product'!Z821,DSL!A:H,6,FALSE),\"-\")","v":"-"}]
[null,null,null,null,null,null,null,null,null,null,null,null,null,null,null,null,null,null,null,null,null,null,null,null,null,null,null,null,"",null,null,null,null,null,null,{"$f":"IFERROR(VLOOKUP('4.Substance-in-Product'!Z822,DSL!A:H,6,FALSE),\"-\")","v":"-"}]
[null,null,null,null,null,null,null,null,null,null,null,null,null,null,null,null,null,null,null,null,null,null,null,null,null,null,null,null,"",null,null,null,null,null,null,{"$f":"IFERROR(VLOOKUP('4.Substance-in-Product'!Z823,DSL!A:H,6,FALSE),\"-\")","v":"-"}]
[null,null,null,null,null,null,null,null,null,null,null,null,null,null,null,null,null,null,null,null,null,null,null,null,null,null,null,null,"",null,null,null,null,null,null,{"$f":"IFERROR(VLOOKUP('4.Substance-in-Product'!Z824,DSL!A:H,6,FALSE),\"-\")","v":"-"}]
[null,null,null,null,null,null,null,null,null,null,null,null,null,null,null,null,null,null,null,null,null,null,null,null,null,null,null,null,"",null,null,null,null,null,null,{"$f":"IFERROR(VLOOKUP('4.Substance-in-Product'!Z825,DSL!A:H,6,FALSE),\"-\")","v":"-"}]
[null,null,null,null,null,null,null,null,null,null,null,null,null,null,null,null,null,null,null,null,null,null,null,null,null,null,null,null,"",null,null,null,null,null,null,{"$f":"IFERROR(VLOOKUP('4.Substance-in-Product'!Z826,DSL!A:H,6,FALSE),\"-\")","v":"-"}]
[null,null,null,null,null,null,null,null,null,null,null,null,null,null,null,null,null,null,null,null,null,null,null,null,null,null,null,null,"",null,null,null,null,null,null,{"$f":"IFERROR(VLOOKUP('4.Substance-in-Product'!Z827,DSL!A:H,6,FALSE),\"-\")","v":"-"}]
[null,null,null,null,null,null,null,null,null,null,null,null,null,null,null,null,null,null,null,null,null,null,null,null,null,null,null,null,"",null,null,null,null,null,null,{"$f":"IFERROR(VLOOKUP('4.Substance-in-Product'!Z828,DSL!A:H,6,FALSE),\"-\")","v":"-"}]
[null,null,null,null,null,null,null,null,null,null,null,null,null,null,null,null,null,null,null,null,null,null,null,null,null,null,null,null,"",null,null,null,null,null,null,{"$f":"IFERROR(VLOOKUP('4.Substance-in-Product'!Z829,DSL!A:H,6,FALSE),\"-\")","v":"-"}]
[null,null,null,null,null,null,null,null,null,null,null,null,null,null,null,null,null,null,null,null,null,null,null,null,null,null,null,null,"",null,null,null,null,null,null,{"$f":"IFERROR(VLOOKUP('4.Substance-in-Product'!Z830,DSL!A:H,6,FALSE),\"-\")","v":"-"}]
[null,null,null,null,null,null,null,null,null,null,null,null,null,null,null,null,null,null,null,null,null,null,null,null,null,null,null,null,"",null,null,null,null,null,null,{"$f":"IFERROR(VLOOKUP('4.Substance-in-Product'!Z831,DSL!A:H,6,FALSE),\"-\")","v":"-"}]
[null,null,null,null,null,null,null,null,null,null,null,null,null,null,null,null,null,null,null,null,null,null,null,null,null,null,null,null,"",null,null,null,null,null,null,{"$f":"IFERROR(VLOOKUP('4.Substance-in-Product'!Z832,DSL!A:H,6,FALSE),\"-\")","v":"-"}]
[null,null,null,null,null,null,null,null,null,null,null,null,null,null,null,null,null,null,null,null,null,null,null,null,null,null,null,null,"",null,null,null,null,null,null,{"$f":"IFERROR(VLOOKUP('4.Substance-in-Product'!Z833,DSL!A:H,6,FALSE),\"-\")","v":"-"}]
[null,null,null,null,null,null,null,null,null,null,null,null,null,null,null,null,null,null,null,null,null,null,null,null,null,null,null,null,"",null,null,null,null,null,null,{"$f":"IFERROR(VLOOKUP('4.Substance-in-Product'!Z834,DSL!A:H,6,FALSE),\"-\")","v":"-"}]
[null,null,null,null,null,null,null,null,null,null,null,null,null,null,null,null,null,null,null,null,null,null,null,null,null,null,null,null,"",null,null,null,null,null,null,{"$f":"IFERROR(VLOOKUP('4.Substance-in-Product'!Z835,DSL!A:H,6,FALSE),\"-\")","v":"-"}]
[null,null,null,null,null,null,null,null,null,null,null,null,null,null,null,null,null,null,null,null,null,null,null,null,null,null,null,null,"",null,null,null,null,null,null,{"$f":"IFERROR(VLOOKUP('4.Substance-in-Product'!Z836,DSL!A:H,6,FALSE),\"-\")","v":"-"}]
[null,null,null,null,null,null,null,null,null,null,null,null,null,null,null,null,null,null,null,null,null,null,null,null,null,null,null,null,"",null,null,null,null,null,null,{"$f":"IFERROR(VLOOKUP('4.Substance-in-Product'!Z837,DSL!A:H,6,FALSE),\"-\")","v":"-"}]
[null,null,null,null,null,null,null,null,null,null,null,null,null,null,null,null,null,null,null,null,null,null,null,null,null,null,null,null,"",null,null,null,null,null,null,{"$f":"IFERROR(VLOOKUP('4.Substance-in-Product'!Z838,DSL!A:H,6,FALSE),\"-\")","v":"-"}]
[null,null,null,null,null,null,null,null,null,null,null,null,null,null,null,null,null,null,null,null,null,null,null,null,null,null,null,null,"",null,null,null,null,null,null,{"$f":"IFERROR(VLOOKUP('4.Substance-in-Product'!Z839,DSL!A:H,6,FALSE),\"-\")","v":"-"}]
[null,null,null,null,null,null,null,null,null,null,null,null,null,null,null,null,null,null,null,null,null,null,null,null,null,null,null,null,"",null,null,null,null,null,null,{"$f":"IFERROR(VLOOKUP('4.Substance-in-Product'!Z840,DSL!A:H,6,FALSE),\"-\")","v":"-"}]
[null,null,null,null,null,null,null,null,null,null,null,null,null,null,null,null,null,null,null,null,null,null,null,null,null,null,null,null,"",null,null,null,null,null,null,{"$f":"IFERROR(VLOOKUP('4.Substance-in-Product'!Z841,DSL!A:H,6,FALSE),\"-\")","v":"-"}]
[null,null,null,null,null,null,null,null,null,null,null,null,null,null,null,null,null,null,null,null,null,null,null,null,null,null,null,null,"",null,null,null,null,null,null,{"$f":"IFERROR(VLOOKUP('4.Substance-in-Product'!Z842,DSL!A:H,6,FALSE),\"-\")","v":"-"}]
[null,null,null,null,null,null,null,null,null,null,null,null,null,null,null,null,null,null,null,null,null,null,null,null,null,null,null,null,"",null,null,null,null,null,null,{"$f":"IFERROR(VLOOKUP('4.Substance-in-Product'!Z843,DSL!A:H,6,FALSE),\"-\")","v":"-"}]
[null,null,null,null,null,null,null,null,null,null,null,null,null,null,null,null,null,null,null,null,null,null,null,null,null,null,null,null,"",null,null,null,null,null,null,{"$f":"IFERROR(VLOOKUP('4.Substance-in-Product'!Z844,DSL!A:H,6,FALSE),\"-\")","v":"-"}]
[null,null,null,null,null,null,null,null,null,null,null,null,null,null,null,null,null,null,null,null,null,null,null,null,null,null,null,null,"",null,null,null,null,null,null,{"$f":"IFERROR(VLOOKUP('4.Substance-in-Product'!Z845,DSL!A:H,6,FALSE),\"-\")","v":"-"}]
[null,null,null,null,null,null,null,null,null,null,null,null,null,null,null,null,null,null,null,null,null,null,null,null,null,null,null,null,"",null,null,null,null,null,null,{"$f":"IFERROR(VLOOKUP('4.Substance-in-Product'!Z846,DSL!A:H,6,FALSE),\"-\")","v":"-"}]
[null,null,null,null,null,null,null,null,null,null,null,null,null,null,null,null,null,null,null,null,null,null,null,null,null,null,null,null,"",null,null,null,null,null,null,{"$f":"IFERROR(VLOOKUP('4.Substance-in-Product'!Z847,DSL!A:H,6,FALSE),\"-\")","v":"-"}]
[null,null,null,null,null,null,null,null,null,null,null,null,null,null,null,null,null,null,null,null,null,null,null,null,null,null,null,null,"",null,null,null,null,null,null,{"$f":"IFERROR(VLOOKUP('4.Substance-in-Product'!Z848,DSL!A:H,6,FALSE),\"-\")","v":"-"}]
[null,null,null,null,null,null,null,null,null,null,null,null,null,null,null,null,null,null,null,null,null,null,null,null,null,null,null,null,"",null,null,null,null,null,null,{"$f":"IFERROR(VLOOKUP('4.Substance-in-Product'!Z849,DSL!A:H,6,FALSE),\"-\")","v":"-"}]
[null,null,null,null,null,null,null,null,null,null,null,null,null,null,null,null,null,null,null,null,null,null,null,null,null,null,null,null,"",null,null,null,null,null,null,{"$f":"IFERROR(VLOOKUP('4.Substance-in-Product'!Z850,DSL!A:H,6,FALSE),\"-\")","v":"-"}]
[null,null,null,null,null,null,null,null,null,null,null,null,null,null,null,null,null,null,null,null,null,null,null,null,null,null,null,null,"",null,null,null,null,null,null,{"$f":"IFERROR(VLOOKUP('4.Substance-in-Product'!Z851,DSL!A:H,6,FALSE),\"-\")","v":"-"}]
[null,null,null,null,null,null,null,null,null,null,null,null,null,null,null,null,null,null,null,null,null,null,null,null,null,null,null,null,"",null,null,null,null,null,null,{"$f":"IFERROR(VLOOKUP('4.Substance-in-Product'!Z852,DSL!A:H,6,FALSE),\"-\")","v":"-"}]
[null,null,null,null,null,null,null,null,null,null,null,null,null,null,null,null,null,null,null,null,null,null,null,null,null,null,null,null,"",null,null,null,null,null,null,{"$f":"IFERROR(VLOOKUP('4.Substance-in-Product'!Z853,DSL!A:H,6,FALSE),\"-\")","v":"-"}]
[null,null,null,null,null,null,null,null,null,null,null,null,null,null,null,null,null,null,null,null,null,null,null,null,null,null,null,null,"",null,null,null,null,null,null,{"$f":"IFERROR(VLOOKUP('4.Substance-in-Product'!Z854,DSL!A:H,6,FALSE),\"-\")","v":"-"}]
[null,null,null,null,null,null,null,null,null,null,null,null,null,null,null,null,null,null,null,null,null,null,null,null,null,null,null,null,"",null,null,null,null,null,null,{"$f":"IFERROR(VLOOKUP('4.Substance-in-Product'!Z855,DSL!A:H,6,FALSE),\"-\")","v":"-"}]
[null,null,null,null,null,null,null,null,null,null,null,null,null,null,null,null,null,null,null,null,null,null,null,null,null,null,null,null,"",null,null,null,null,null,null,{"$f":"IFERROR(VLOOKUP('4.Substance-in-Product'!Z856,DSL!A:H,6,FALSE),\"-\")","v":"-"}]
[null,null,null,null,null,null,null,null,null,null,null,null,null,null,null,null,null,null,null,null,null,null,null,null,null,"",null,null,"",null,null,null,null,null,null,{"$f":"IFERROR(VLOOKUP('4.Substance-in-Product'!Z857,DSL!A:H,6,FALSE),\"-\")","v":"-"}]
[null,null,null,null,null,null,null,null,null,null,null,null,null,null,null,null,null,null,null,null,null,null,null,null,null,"",null,null,"",null,null,null,null,null,null,{"$f":"IFERROR(VLOOKUP('4.Substance-in-Product'!Z858,DSL!A:H,6,FALSE),\"-\")","v":"-"}]
[null,null,null,null,null,null,null,null,null,null,null,null,null,null,null,null,null,null,null,null,null,null,null,null,null,"",null,null,"",null,null,null,null,null,null,{"$f":"IFERROR(VLOOKUP('4.Substance-in-Product'!Z859,DSL!A:H,6,FALSE),\"-\")","v":"-"}]
[null,null,null,null,null,null,null,null,null,null,null,null,null,null,null,null,null,null,null,null,null,null,null,null,null,"",null,null,"",null,null,null,null,null,null,{"$f":"IFERROR(VLOOKUP('4.Substance-in-Product'!Z860,DSL!A:H,6,FALSE),\"-\")","v":"-"}]
[null,null,null,null,null,null,null,null,null,null,null,null,null,null,null,null,null,null,null,null,null,null,null,null,null,"",null,null,"",null,null,null,null,null,null,{"$f":"IFERROR(VLOOKUP('4.Substance-in-Product'!Z861,DSL!A:H,6,FALSE),\"-\")","v":"-"}]
[null,null,null,null,null,null,null,null,null,null,null,null,null,null,null,null,null,null,null,null,null,null,null,null,null,"",null,null,"",null,null,null,null,null,null,{"$f":"IFERROR(VLOOKUP('4.Substance-in-Product'!Z862,DSL!A:H,6,FALSE),\"-\")","v":"-"}]
[null,null,null,null,null,null,null,null,null,null,null,null,null,null,null,null,null,null,null,null,null,null,null,null,null,"",null,null,"",null,null,null,null,null,null,{"$f":"IFERROR(VLOOKUP('4.Substance-in-Product'!Z863,DSL!A:H,6,FALSE),\"-\")","v":"-"}]
[null,null,null,null,null,null,null,null,null,null,null,null,null,null,null,null,null,null,null,null,null,null,null,null,null,"",null,null,"",null,null,null,null,null,null,{"$f":"IFERROR(VLOOKUP('4.Substance-in-Product'!Z864,DSL!A:H,6,FALSE),\"-\")","v":"-"}]
[null,null,null,null,null,null,null,null,null,null,null,null,null,null,null,null,null,null,null,null,null,null,null,null,null,"",null,null,"",null,null,null,null,null,null,{"$f":"IFERROR(VLOOKUP('4.Substance-in-Product'!Z865,DSL!A:H,6,FALSE),\"-\")","v":"-"}]
[null,null,null,null,null,null,null,null,null,null,null,null,null,null,null,null,null,null,null,null,null,null,null,null,null,"",null,null,"",null,null,null,null,null,null,{"$f":"IFERROR(VLOOKUP('4.Substance-in-Product'!Z866,DSL!A:H,6,FALSE),\"-\")","v":"-"}]
[null,null,null,null,null,null,null,null,null,null,null,null,null,null,null,null,null,null,null,null,null,null,null,null,null,"",null,null,"",null,null,null,null,null,null,{"$f":"IFERROR(VLOOKUP('4.Substance-in-Product'!Z867,DSL!A:H,6,FALSE),\"-\")","v":"-"}]
[null,null,null,null,null,null,null,null,null,null,null,null,null,null,null,null,null,null,null,null,null,null,null,null,null,"",null,null,"",null,null,null,null,null,null,{"$f":"IFERROR(VLOOKUP('4.Substance-in-Product'!Z868,DSL!A:H,6,FALSE),\"-\")","v":"-"}]
[null,null,null,null,null,null,null,null,null,null,null,null,null,null,null,null,null,null,null,null,null,null,null,null,null,"",null,null,"",null,null,null,null,null,null,{"$f":"IFERROR(VLOOKUP('4.Substance-in-Product'!Z869,DSL!A:H,6,FALSE),\"-\")","v":"-"}]
[null,null,null,null,null,null,null,null,null,null,null,null,null,null,null,null,null,null,null,null,null,null,null,null,null,"",null,null,"",null,null,null,null,null,null,{"$f":"IFERROR(VLOOKUP('4.Substance-in-Product'!Z870,DSL!A:H,6,FALSE),\"-\")","v":"-"}]
[null,null,null,null,null,null,null,null,null,null,null,null,null,null,null,null,null,null,null,null,null,null,null,null,null,"",null,null,"",null,null,null,null,null,null,{"$f":"IFERROR(VLOOKUP('4.Substance-in-Product'!Z871,DSL!A:H,6,FALSE),\"-\")","v":"-"}]
[null,null,null,null,null,null,null,null,null,null,null,null,null,null,null,null,null,null,null,null,null,null,null,null,null,"",null,null,"",null,null,null,null,null,null,{"$f":"IFERROR(VLOOKUP('4.Substance-in-Product'!Z872,DSL!A:H,6,FALSE),\"-\")","v":"-"}]
[null,null,null,null,null,null,null,null,null,null,null,null,null,null,null,null,null,null,null,null,null,null,null,null,null,"",null,null,"",null,null,null,null,null,null,{"$f":"IFERROR(VLOOKUP('4.Substance-in-Product'!Z873,DSL!A:H,6,FALSE),\"-\")","v":"-"}]
[null,null,null,null,null,null,null,null,null,null,null,null,null,null,null,null,null,null,null,null,null,null,null,null,null,"",null,null,"",null,null,null,null,null,null,{"$f":"IFERROR(VLOOKUP('4.Substance-in-Product'!Z874,DSL!A:H,6,FALSE),\"-\")","v":"-"}]
[null,null,null,null,null,null,null,null,null,null,null,null,null,null,null,null,null,null,null,null,null,null,null,null,null,"",null,null,"",null,null,null,null,null,null,{"$f":"IFERROR(VLOOKUP('4.Substance-in-Product'!Z875,DSL!A:H,6,FALSE),\"-\")","v":"-"}]
[null,null,null,null,null,null,null,null,null,null,null,null,null,null,null,null,null,null,null,null,null,null,null,null,null,"",null,null,"",null,null,null,null,null,null,{"$f":"IFERROR(VLOOKUP('4.Substance-in-Product'!Z876,DSL!A:H,6,FALSE),\"-\")","v":"-"}]
[null,null,null,null,null,null,null,null,null,null,null,null,null,null,null,null,null,null,null,null,null,null,null,null,null,"",null,null,"",null,null,null,null,null,null,{"$f":"IFERROR(VLOOKUP('4.Substance-in-Product'!Z877,DSL!A:H,6,FALSE),\"-\")","v":"-"}]
[null,null,null,null,null,null,null,null,null,null,null,null,null,null,null,null,null,null,null,null,null,null,null,null,null,"",null,null,"",null,null,null,null,null,null,{"$f":"IFERROR(VLOOKUP('4.Substance-in-Product'!Z878,DSL!A:H,6,FALSE),\"-\")","v":"-"}]
[null,null,null,null,null,null,null,null,null,null,null,null,null,null,null,null,null,null,null,null,null,null,null,null,null,"",null,null,"",null,null,null,null,null,null,{"$f":"IFERROR(VLOOKUP('4.Substance-in-Product'!Z879,DSL!A:H,6,FALSE),\"-\")","v":"-"}]
[null,null,null,null,null,null,null,null,null,null,null,null,null,null,null,null,null,null,null,null,null,null,null,null,null,"",null,null,"",null,null,null,null,null,null,{"$f":"IFERROR(VLOOKUP('4.Substance-in-Product'!Z880,DSL!A:H,6,FALSE),\"-\")","v":"-"}]
[null,null,null,null,null,null,null,null,null,null,null,null,null,null,null,null,null,null,null,null,null,null,null,null,null,"",null,null,"",null,null,null,null,null,null,{"$f":"IFERROR(VLOOKUP('4.Substance-in-Product'!Z881,DSL!A:H,6,FALSE),\"-\")","v":"-"}]
[null,null,null,null,null,null,null,null,null,null,null,null,null,null,null,null,null,null,null,null,null,null,null,null,null,"",null,null,"",null,null,null,null,null,null,{"$f":"IFERROR(VLOOKUP('4.Substance-in-Product'!Z882,DSL!A:H,6,FALSE),\"-\")","v":"-"}]
[null,null,null,null,null,null,null,null,null,null,null,null,null,null,null,null,null,null,null,null,null,null,null,null,null,"",null,null,"",null,null,null,null,null,null,{"$f":"IFERROR(VLOOKUP('4.Substance-in-Product'!Z883,DSL!A:H,6,FALSE),\"-\")","v":"-"}]
[null,null,null,null,null,null,null,null,null,null,null,null,null,null,null,null,null,null,null,null,null,null,null,null,null,"",null,null,"",null,null,null,null,null,null,{"$f":"IFERROR(VLOOKUP('4.Substance-in-Product'!Z884,DSL!A:H,6,FALSE),\"-\")","v":"-"}]
[null,null,null,null,null,null,null,null,null,null,null,null,null,null,null,null,null,null,null,null,null,null,null,null,null,"",null,null,"",null,null,null,null,null,null,{"$f":"IFERROR(VLOOKUP('4.Substance-in-Product'!Z885,DSL!A:H,6,FALSE),\"-\")","v":"-"}]
[null,null,null,null,null,null,null,null,null,null,null,null,null,null,null,null,null,null,null,null,null,null,null,null,null,"",null,null,"",null,null,null,null,null,null,{"$f":"IFERROR(VLOOKUP('4.Substance-in-Product'!Z886,DSL!A:H,6,FALSE),\"-\")","v":"-"}]
[null,null,null,null,null,null,null,null,null,null,null,null,null,null,null,null,null,null,null,null,null,null,null,null,null,"",null,null,"",null,null,null,null,null,null,{"$f":"IFERROR(VLOOKUP('4.Substance-in-Product'!Z887,DSL!A:H,6,FALSE),\"-\")","v":"-"}]
[null,null,null,null,null,null,null,null,null,null,null,null,null,null,null,null,null,null,null,null,null,null,null,null,null,"",null,null,"",null,null,null,null,null,null,{"$f":"IFERROR(VLOOKUP('4.Substance-in-Product'!Z888,DSL!A:H,6,FALSE),\"-\")","v":"-"}]
[null,null,null,null,null,null,null,null,null,null,null,null,null,null,null,null,null,null,null,null,null,null,null,null,null,"",null,null,"",null,null,null,null,null,null,{"$f":"IFERROR(VLOOKUP('4.Substance-in-Product'!Z889,DSL!A:H,6,FALSE),\"-\")","v":"-"}]
[null,null,null,null,null,null,null,null,null,null,null,null,null,null,null,null,null,null,null,null,null,null,null,null,null,"",null,null,"",null,null,null,null,null,null,{"$f":"IFERROR(VLOOKUP('4.Substance-in-Product'!Z890,DSL!A:H,6,FALSE),\"-\")","v":"-"}]
[null,null,null,null,null,null,null,null,null,null,null,null,null,null,null,null,null,null,null,null,null,null,null,null,null,"",null,null,"",null,null,null,null,null,null,{"$f":"IFERROR(VLOOKUP('4.Substance-in-Product'!Z891,DSL!A:H,6,FALSE),\"-\")","v":"-"}]
[null,null,null,null,null,null,null,null,null,null,null,null,null,null,null,null,null,null,null,null,null,null,null,null,null,"",null,null,"",null,null,null,null,null,null,{"$f":"IFERROR(VLOOKUP('4.Substance-in-Product'!Z892,DSL!A:H,6,FALSE),\"-\")","v":"-"}]
[null,null,null,null,null,null,null,null,null,null,null,null,null,null,null,null,null,null,null,null,null,null,null,null,null,"",null,null,"",null,null,null,null,null,null,{"$f":"IFERROR(VLOOKUP('4.Substance-in-Product'!Z893,DSL!A:H,6,FALSE),\"-\")","v":"-"}]
[null,null,null,null,null,null,null,null,null,null,null,null,null,null,null,null,null,null,null,null,null,null,null,null,null,"",null,null,"",null,null,null,null,null,null,{"$f":"IFERROR(VLOOKUP('4.Substance-in-Product'!Z894,DSL!A:H,6,FALSE),\"-\")","v":"-"}]
[null,null,null,null,null,null,null,null,null,null,null,null,null,null,null,null,null,null,null,null,null,null,null,null,null,"",null,null,"",null,null,null,null,null,null,{"$f":"IFERROR(VLOOKUP('4.Substance-in-Product'!Z895,DSL!A:H,6,FALSE),\"-\")","v":"-"}]
[null,null,null,null,null,null,null,null,null,null,null,null,null,null,null,null,null,null,null,null,null,null,null,null,null,"",null,null,"",null,null,null,null,null,null,{"$f":"IFERROR(VLOOKUP('4.Substance-in-Product'!Z896,DSL!A:H,6,FALSE),\"-\")","v":"-"}]
[null,null,null,null,null,null,null,null,null,null,null,null,null,null,null,null,null,null,null,null,null,null,null,null,null,"",null,null,"",null,null,null,null,null,null,{"$f":"IFERROR(VLOOKUP('4.Substance-in-Product'!Z897,DSL!A:H,6,FALSE),\"-\")","v":"-"}]
[null,null,null,null,null,null,null,null,null,null,null,null,null,null,null,null,null,null,null,null,null,null,null,null,null,"",null,null,"",null,null,null,null,null,null,{"$f":"IFERROR(VLOOKUP('4.Substance-in-Product'!Z898,DSL!A:H,6,FALSE),\"-\")","v":"-"}]
[null,null,null,null,null,null,null,null,null,null,null,null,null,null,null,null,null,null,null,null,null,null,null,null,null,"",null,null,"",null,null,null,null,null,null,{"$f":"IFERROR(VLOOKUP('4.Substance-in-Product'!Z899,DSL!A:H,6,FALSE),\"-\")","v":"-"}]
[null,null,null,null,null,null,null,null,null,null,null,null,null,null,null,null,null,null,null,null,null,null,null,null,null,"",null,null,"",null,null,null,null,null,null,{"$f":"IFERROR(VLOOKUP('4.Substance-in-Product'!Z900,DSL!A:H,6,FALSE),\"-\")","v":"-"}]
[null,null,null,null,null,null,null,null,null,null,null,null,null,null,null,null,null,null,null,null,null,null,null,null,null,"",null,null,"",null,null,null,null,null,null,{"$f":"IFERROR(VLOOKUP('4.Substance-in-Product'!Z901,DSL!A:H,6,FALSE),\"-\")","v":"-"}]
[null,null,null,null,null,null,null,null,null,null,null,null,null,null,null,null,null,null,null,null,null,null,null,null,null,"",null,null,"",null,null,null,null,null,null,{"$f":"IFERROR(VLOOKUP('4.Substance-in-Product'!Z902,DSL!A:H,6,FALSE),\"-\")","v":"-"}]
[null,null,null,null,null,null,null,null,null,null,null,null,null,null,null,null,null,null,null,null,null,null,null,null,null,"",null,null,"",null,null,null,null,null,null,{"$f":"IFERROR(VLOOKUP('4.Substance-in-Product'!Z903,DSL!A:H,6,FALSE),\"-\")","v":"-"}]
[null,null,null,null,null,null,null,null,null,null,null,null,null,null,null,null,null,null,null,null,null,null,null,null,null,"",null,null,"",null,null,null,null,null,null,{"$f":"IFERROR(VLOOKUP('4.Substance-in-Product'!Z904,DSL!A:H,6,FALSE),\"-\")","v":"-"}]
[null,null,null,null,null,null,null,null,null,null,null,null,null,null,null,null,null,null,null,null,null,null,null,null,null,"",null,null,"",null,null,null,null,null,null,{"$f":"IFERROR(VLOOKUP('4.Substance-in-Product'!Z905,DSL!A:H,6,FALSE),\"-\")","v":"-"}]
[null,null,null,null,null,null,null,null,null,null,null,null,null,null,null,null,null,null,null,null,null,null,null,null,null,"",null,null,"",null,null,null,null,null,null,{"$f":"IFERROR(VLOOKUP('4.Substance-in-Product'!Z906,DSL!A:H,6,FALSE),\"-\")","v":"-"}]
[null,null,null,null,null,null,null,null,null,null,null,null,null,null,null,null,null,null,null,null,null,null,null,null,null,"",null,null,"",null,null,null,null,null,null,{"$f":"IFERROR(VLOOKUP('4.Substance-in-Product'!Z907,DSL!A:H,6,FALSE),\"-\")","v":"-"}]
[null,null,null,null,null,null,null,null,null,null,null,null,null,null,null,null,null,null,null,null,null,null,null,null,null,"",null,null,"",null,null,null,null,null,null,{"$f":"IFERROR(VLOOKUP('4.Substance-in-Product'!Z908,DSL!A:H,6,FALSE),\"-\")","v":"-"}]
[null,null,null,null,null,null,null,null,null,null,null,null,null,null,null,null,null,null,null,null,null,null,null,null,null,"",null,null,"",null,null,null,null,null,null,{"$f":"IFERROR(VLOOKUP('4.Substance-in-Product'!Z909,DSL!A:H,6,FALSE),\"-\")","v":"-"}]
[null,null,null,null,null,null,null,null,null,null,null,null,null,null,null,null,null,null,null,null,null,null,null,null,null,"",null,null,"",null,null,null,null,null,null,{"$f":"IFERROR(VLOOKUP('4.Substance-in-Product'!Z910,DSL!A:H,6,FALSE),\"-\")","v":"-"}]
[null,null,null,null,null,null,null,null,null,null,null,null,null,null,null,null,null,null,null,null,null,null,null,null,null,"",null,null,"",null,null,null,null,null,null,{"$f":"IFERROR(VLOOKUP('4.Substance-in-Product'!Z911,DSL!A:H,6,FALSE),\"-\")","v":"-"}]
[null,null,null,null,null,null,null,null,null,null,null,null,null,null,null,null,null,null,null,null,null,null,null,null,null,"",null,null,"",null,null,null,null,null,null,{"$f":"IFERROR(VLOOKUP('4.Substance-in-Product'!Z912,DSL!A:H,6,FALSE),\"-\")","v":"-"}]
[null,null,null,null,null,null,null,null,null,null,null,null,null,null,null,null,null,null,null,null,null,null,null,null,null,"",null,null,"",null,null,null,null,null,null,{"$f":"IFERROR(VLOOKUP('4.Substance-in-Product'!Z913,DSL!A:H,6,FALSE),\"-\")","v":"-"}]
[null,null,null,null,null,null,null,null,null,null,null,null,null,null,null,null,null,null,null,null,null,null,null,null,null,"",null,null,"",null,null,null,null,null,null,{"$f":"IFERROR(VLOOKUP('4.Substance-in-Product'!Z914,DSL!A:H,6,FALSE),\"-\")","v":"-"}]
[null,null,null,null,null,null,null,null,null,null,null,null,null,null,null,null,null,null,null,null,null,null,null,null,null,"",null,null,"",null,null,null,null,null,null,{"$f":"IFERROR(VLOOKUP('4.Substance-in-Product'!Z915,DSL!A:H,6,FALSE),\"-\")","v":"-"}]
[null,null,null,null,null,null,null,null,null,null,null,null,null,null,null,null,null,null,null,null,null,null,null,null,null,"",null,null,"",null,null,null,null,null,null,{"$f":"IFERROR(VLOOKUP('4.Substance-in-Product'!Z916,DSL!A:H,6,FALSE),\"-\")","v":"-"}]
[null,null,null,null,null,null,null,null,null,null,null,null,null,null,null,null,null,null,null,null,null,null,null,null,null,"",null,null,"",null,null,null,null,null,null,{"$f":"IFERROR(VLOOKUP('4.Substance-in-Product'!Z917,DSL!A:H,6,FALSE),\"-\")","v":"-"}]
[null,null,null,null,null,null,null,null,null,null,null,null,null,null,null,null,null,null,null,null,null,null,null,null,null,"",null,null,"",null,null,null,null,null,null,{"$f":"IFERROR(VLOOKUP('4.Substance-in-Product'!Z918,DSL!A:H,6,FALSE),\"-\")","v":"-"}]
[null,null,null,null,null,null,null,null,null,null,null,null,null,null,null,null,null,null,null,null,null,null,null,null,null,"",null,null,"",null,null,null,null,null,null,{"$f":"IFERROR(VLOOKUP('4.Substance-in-Product'!Z919,DSL!A:H,6,FALSE),\"-\")","v":"-"}]
[null,null,null,null,null,null,null,null,null,null,null,null,null,null,null,null,null,null,null,null,null,null,null,null,null,"",null,null,"",null,null,null,null,null,null,{"$f":"IFERROR(VLOOKUP('4.Substance-in-Product'!Z920,DSL!A:H,6,FALSE),\"-\")","v":"-"}]
[null,null,null,null,null,null,null,null,null,null,null,null,null,null,null,null,null,null,null,null,null,null,null,null,null,"",null,null,"",null,null,null,null,null,null,{"$f":"IFERROR(VLOOKUP('4.Substance-in-Product'!Z921,DSL!A:H,6,FALSE),\"-\")","v":"-"}]
[null,null,null,null,null,null,null,null,null,null,null,null,null,null,null,null,null,null,null,null,null,null,null,null,null,"",null,null,"",null,null,null,null,null,null,{"$f":"IFERROR(VLOOKUP('4.Substance-in-Product'!Z922,DSL!A:H,6,FALSE),\"-\")","v":"-"}]
[null,null,null,null,null,null,null,null,null,null,null,null,null,null,null,null,null,null,null,null,null,null,null,null,null,"",null,null,"",null,null,null,null,null,null,{"$f":"IFERROR(VLOOKUP('4.Substance-in-Product'!Z923,DSL!A:H,6,FALSE),\"-\")","v":"-"}]
[null,null,null,null,null,null,null,null,null,null,null,null,null,null,null,null,null,null,null,null,null,null,null,null,null,"",null,null,"",null,null,null,null,null,null,{"$f":"IFERROR(VLOOKUP('4.Substance-in-Product'!Z924,DSL!A:H,6,FALSE),\"-\")","v":"-"}]
[null,null,null,null,null,null,null,null,null,null,null,null,null,null,null,null,null,null,null,null,null,null,null,null,null,"",null,null,"",null,null,null,null,null,null,{"$f":"IFERROR(VLOOKUP('4.Substance-in-Product'!Z925,DSL!A:H,6,FALSE),\"-\")","v":"-"}]
[null,null,null,null,null,null,null,null,null,null,null,null,null,null,null,null,null,null,null,null,null,null,null,null,null,"",null,null,"",null,null,null,null,null,null,{"$f":"IFERROR(VLOOKUP('4.Substance-in-Product'!Z926,DSL!A:H,6,FALSE),\"-\")","v":"-"}]
[null,null,null,null,null,null,null,null,null,null,null,null,null,null,null,null,null,null,null,null,null,null,null,null,null,"",null,null,"",null,null,null,null,null,null,{"$f":"IFERROR(VLOOKUP('4.Substance-in-Product'!Z927,DSL!A:H,6,FALSE),\"-\")","v":"-"}]
[null,null,null,null,null,null,null,null,null,null,null,null,null,null,null,null,null,null,null,null,null,null,null,null,null,"",null,null,"",null,null,null,null,null,null,{"$f":"IFERROR(VLOOKUP('4.Substance-in-Product'!Z928,DSL!A:H,6,FALSE),\"-\")","v":"-"}]
[null,null,null,null,null,null,null,null,null,null,null,null,null,null,null,null,null,null,null,null,null,null,null,null,null,"",null,null,"",null,null,null,null,null,null,{"$f":"IFERROR(VLOOKUP('4.Substance-in-Product'!Z929,DSL!A:H,6,FALSE),\"-\")","v":"-"}]
[null,null,null,null,null,null,null,null,null,null,null,null,null,null,null,null,null,null,null,null,null,null,null,null,null,"",null,null,"",null,null,null,null,null,null,{"$f":"IFERROR(VLOOKUP('4.Substance-in-Product'!Z930,DSL!A:H,6,FALSE),\"-\")","v":"-"}]
[null,null,null,null,null,null,null,null,null,null,null,null,null,null,null,null,null,null,null,null,null,null,null,null,null,"",null,null,"",null,null,null,null,null,null,{"$f":"IFERROR(VLOOKUP('4.Substance-in-Product'!Z931,DSL!A:H,6,FALSE),\"-\")","v":"-"}]
[null,null,null,null,null,null,null,null,null,null,null,null,null,null,null,null,null,null,null,null,null,null,null,null,null,"",null,null,"",null,null,null,null,null,null,{"$f":"IFERROR(VLOOKUP('4.Substance-in-Product'!Z932,DSL!A:H,6,FALSE),\"-\")","v":"-"}]
[null,null,null,null,null,null,null,null,null,null,null,null,null,null,null,null,null,null,null,null,null,null,null,null,null,"",null,null,"",null,null,null,null,null,null,{"$f":"IFERROR(VLOOKUP('4.Substance-in-Product'!Z933,DSL!A:H,6,FALSE),\"-\")","v":"-"}]
[null,null,null,null,null,null,null,null,null,null,null,null,null,null,null,null,null,null,null,null,null,null,null,null,null,"",null,null,"",null,null,null,null,null,null,{"$f":"IFERROR(VLOOKUP('4.Substance-in-Product'!Z934,DSL!A:H,6,FALSE),\"-\")","v":"-"}]
[null,null,null,null,null,null,null,null,null,null,null,null,null,null,null,null,null,null,null,null,null,null,null,null,null,"",null,null,"",null,null,null,null,null,null,{"$f":"IFERROR(VLOOKUP('4.Substance-in-Product'!Z935,DSL!A:H,6,FALSE),\"-\")","v":"-"}]
[null,null,null,null,null,null,null,null,null,null,null,null,null,null,null,null,null,null,null,null,null,null,null,null,null,"",null,null,"",null,null,null,null,null,null,{"$f":"IFERROR(VLOOKUP('4.Substance-in-Product'!Z936,DSL!A:H,6,FALSE),\"-\")","v":"-"}]
[null,null,null,null,null,null,null,null,null,null,null,null,null,null,null,null,null,null,null,null,null,null,null,null,null,"",null,null,"",null,null,null,null,null,null,{"$f":"IFERROR(VLOOKUP('4.Substance-in-Product'!Z937,DSL!A:H,6,FALSE),\"-\")","v":"-"}]
[null,null,null,null,null,null,null,null,null,null,null,null,null,null,null,null,null,null,null,null,null,null,null,null,null,"",null,null,"",null,null,null,null,null,null,{"$f":"IFERROR(VLOOKUP('4.Substance-in-Product'!Z938,DSL!A:H,6,FALSE),\"-\")","v":"-"}]

{"sheet":"5.Substance-in-Process","index":6,"n_rows":1001,"n_cols":52,"rows_kept":1001,"cut":false,"hidden":false,"merged":[[1,0,2,0],[0,7,2,7],[0,3,2,3],[0,20,2,20],[0,19,2,19],[1,13,1,16]]}
["Product",{"$f":"Overview!E3","v":"Version: 1.2.2"},"return to Overview","add Process Info","Process",{"$f":"Overview!E3","v":"Version: 1.2.2"},null,"add Material Info","Material / Chemical Product",null,null,null,null,"Substance","AD-DSL","AD-UDL","return to Overview",null,null,"IAEG Regulatory Criteria\n(based on CAS Number)","Add comment",null,null,null,null,null,null,null,null,null,"","","","","","","","","","","","","","","","","","","","","",""]
["Supplier Product Number or Product Group ID*","Supplier Product Name/Description",null,null,"Process Name","Process Classification","Process Stage*",null,"Standard Material Number / Symbol","Material Name /  Formulation Trade Name / Description","Manufacturer","Material Use Description","Material Specification / Standard","Substance Identification**",null,null,null,"Synonym","Substance Use Description",null,null,null,null,null,null,null,null,null,null,null,"","","","","","","","","","","","","","","","","","","","","",""]
[null,null,"Product Revision",null,null,null,null,null,null,null,null,null,null,{"$f":"'4.Substance-in-Product'!Z3","v":"CAS"},{"$f":"'4.Substance-in-Product'!AA3","v":"EC"},{"$f":"'4.Substance-in-Product'!AB3","v":"IAEG ID"},{"$f":"'4.Substance-in-Product'!AC3","v":"Name"},null,null,null,null,"Comment",null,null,null,null,null,null,null,null,"","","","","","","","","","","","","","","","","","","","","",""]
[null,null,null,null,null,null,null,null,null,null,null,null,null,"","","",null,"",null,{"$f":"IFERROR(VLOOKUP('5.Substance-in-Process'!N4,DSL!A:H,6,FALSE),\"-\")","v":"-"},null,null,null,null,null,null,null,null,null,null,"","","",null,"","","",null,"","","","","","","","","","","",null,null,""]
["","","","","","","","","","","","","","","","",null,"","",{"$f":"IFERROR(VLOOKUP('5.Substance-in-Process'!N5,DSL!A:H,6,FALSE),\"-\")","v":"-"},null,null,null,null,null,null,null,null,null,null,"","","",null,"","","",null,"","","","","","","","","","","",null,null,""]
["","","","","","","","","","","","","","","","","","",null,{"$f":"IFERROR(VLOOKUP('5.Substance-in-Process'!N6,DSL!A:H,6,FALSE),\"-\")","v":"-"},null,null,null,null,null,null,null,null,null,null,"","","",null,"","","",null,"","","","","","","","","","","",null,null,""]
[null,null,null,null,null,null,null,null,null,null,null,null,null,"","","","","",null,{"$f":"IFERROR(VLOOKUP('5.Substance-in-Process'!N7,DSL!A:H,6,FALSE),\"-\")","v":"-"},null,null,null,null,null,null,null,null,null,null,"","","",null,"","","",null,"","","","","","","","","","","",null,null,""]
[null,null,null,null,null,null,null,null,null,null,null,null,null,"",null,"","","",null,{"$f":"IFERROR(VLOOKUP('5.Substance-in-Process'!N8,DSL!A:H,6,FALSE),\"-\")","v":"-"},null,"",null,null,null,null,null,null,null,null,"","","",null,"","","",null,"","","","","","","","","","","",null,null,""]
[null,null,null,null,null,null,null,null,null,null,null,null,null,"","","","","",null,{"$f":"IFERROR(VLOOKUP('5.Substance-in-Process'!N9,DSL!A:H,6,FALSE),\"-\")","v":"-"},null,"",null,null,null,null,null,null,null,null,"","","",null,"","","",null,"","","","","","","","","","","",null,null,""]
[null,null,null,null,null,null,null,null,null,null,null,null,null,"","","","","",null,{"$f":"IFERROR(VLOOKUP('5.Substance-in-Process'!N10,DSL!A:H,6,FALSE),\"-\")","v":"-"},null,null,null,null,null,null,null,null,null,null,"","","",null,"","","",null,"","","","","","","","","","","",null,null,""]
[null,null,null,null,null,null,null,null,null,null,null,null,null,"","","","","",null,{"$f":"IFERROR(VLOOKUP('5.Substance-in-Process'!N11,DSL!A:H,6,FALSE),\"-\")","v":"-"},null,null,null,null,null,null,null,null,null,null,"","","",null,"","","",null,"","","","","","","","","","","",null,null,""]
[null,null,null,null,null,null,null,null,null,null,null,null,null,"","","","","",null,{"$f":"IFERROR(VLOOKUP('5.Substance-in-Process'!N12,DSL!A:H,6,FALSE),\"-\")","v":"-"},null,null,null,null,null,null,null,null,null,null,"","","",null,"","","",null,"","","","","","","","","","","",null,null,""]
[null,null,null,null,null,null,null,null,null,null,null,null,null,"","","","","",null,{"$f":"IFERROR(VLOOKUP('5.Substance-in-Process'!N13,DSL!A:H,6,FALSE),\"-\")","v":"-"},null,null,null,null,null,null,null,null,null,null,"","","",null,"","","",null,"","","","","","","","","","","",null,null,""]
[null,null,null,null,null,null,null,"","","","",null,null,"","","","","",null,{"$f":"IFERROR(VLOOKUP('5.Substance-in-Process'!N14,DSL!A:H,6,FALSE),\"-\")","v":"-"},null,null,null,null,null,null,null,null,null,null,"","","",null,"","","",null,"","","","","","","","","","","",null,null,""]
[null,null,null,null,null,null,null,null,null,null,null,null,null,"","","","","",null,{"$f":"IFERROR(VLOOKUP('5.Substance-in-Process'!N15,DSL!A:H,6,FALSE),\"-\")","v":"-"},null,null,null,null,null,null,null,null,null,null,"","","",null,"","","",null,"","","","","","","","","","","",null,null,""]
[null,null,null,null,null,null,null,null,null,null,null,null,null,"","","","","",null,{"$f":"IFERROR(VLOOKUP('5.Substance-in-Process'!N16,DSL!A:H,6,FALSE),\"-\")","v":"-"},null,null,null,null,null,null,null,null,null,null,"","","",null,"","","",null,"","","","","","","","","","","",null,null,""]
[null,null,null,null,null,null,null,null,null,null,null,null,null,"","","","","",null,{"$f":"IFERROR(VLOOKUP('5.Substance-in-Process'!N17,DSL!A:H,6,FALSE),\"-\")","v":"-"}]
[null,null,null,null,null,null,null,null,null,null,null,null,null,"","","","","",null,{"$f":"IFERROR(VLOOKUP('5.Substance-in-Process'!N18,DSL!A:H,6,FALSE),\"-\")","v":"-"}]
[null,null,null,null,null,null,null,null,null,null,null,null,null,"","","","","",null,{"$f":"IFERROR(VLOOKUP('5.Substance-in-Process'!N19,DSL!A:H,6,FALSE),\"-\")","v":"-"}]
[null,null,null,null,null,null,null,null,null,null,null,null,null,"","","","","",null,{"$f":"IFERROR(VLOOKUP('5.Substance-in-Process'!N20,DSL!A:H,6,FALSE),\"-\")","v":"-"}]
[null,null,null,null,null,null,null,null,null,null,null,null,null,"","","","","",null,{"$f":"IFERROR(VLOOKUP('5.Substance-in-Process'!N21,DSL!A:H,6,FALSE),\"-\")","v":"-"}]
[null,null,null,null,null,null,null,null,null,null,null,null,null,"","","","","",null,{"$f":"IFERROR(VLOOKUP('5.Substance-in-Process'!N22,DSL!A:H,6,FALSE),\"-\")","v":"-"}]
[null,null,null,null,null,null,null,null,null,null,null,null,null,"","","","","",null,{"$f":"IFERROR(VLOOKUP('5.Substance-in-Process'!N23,DSL!A:H,6,FALSE),\"-\")","v":"-"}]
[null,null,null,null,null,null,null,null,null,null,null,null,null,"","","","","",null,{"$f":"IFERROR(VLOOKUP('5.Substance-in-Process'!N24,DSL!A:H,6,FALSE),\"-\")","v":"-"}]
[null,null,null,null,null,null,null,null,null,null,null,null,null,"","","","","",null,{"$f":"IFERROR(VLOOKUP('5.Substance-in-Process'!N25,DSL!A:H,6,FALSE),\"-\")","v":"-"}]
[null,null,null,null,null,null,null,null,null,null,null,null,null,"","","","","",null,{"$f":"IFERROR(VLOOKUP('5.Substance-in-Process'!N26,DSL!A:H,6,FALSE),\"-\")","v":"-"}]
[null,null,null,null,null,null,null,null,null,null,null,null,null,"","","","","",null,{"$f":"IFERROR(VLOOKUP('5.Substance-in-Process'!N27,DSL!A:H,6,FALSE),\"-\")","v":"-"}]
[null,null,null,null,null,null,null,null,null,null,null,null,null,"","","","","",null,{"$f":"IFERROR(VLOOKUP('5.Substance-in-Process'!N28,DSL!A:H,6,FALSE),\"-\")","v":"-"}]
[null,null,null,null,null,null,null,null,null,null,null,null,null,"","","","","",null,{"$f":"IFERROR(VLOOKUP('5.Substance-in-Process'!N29,DSL!A:H,6,FALSE),\"-\")","v":"-"}]
[null,null,null,null,null,null,null,null,null,null,null,null,null,"","","","","",null,{"$f":"IFERROR(VLOOKUP('5.Substance-in-Process'!N30,DSL!A:H,6,FALSE),\"-\")","v":"-"}]
[null,null,null,null,null,null,null,null,null,null,null,null,null,"","","","","",null,{"$f":"IFERROR(VLOOKUP('5.Substance-in-Process'!N31,DSL!A:H,6,FALSE),\"-\")","v":"-"}]
[null,null,null,null,null,null,null,null,null,null,null,null,null,"","","","","",null,{"$f":"IFERROR(VLOOKUP('5.Substance-in-Process'!N32,DSL!A:H,6,FALSE),\"-\")","v":"-"}]
[null,null,null,null,null,null,null,null,null,null,null,null,null,"","","","","",null,{"$f":"IFERROR(VLOOKUP('5.Substance-in-Process'!N33,DSL!A:H,6,FALSE),\"-\")","v":"-"}]
[null,null,null,null,null,null,null,null,null,null,null,null,null,"","","","","",null,{"$f":"IFERROR(VLOOKUP('5.Substance-in-Process'!N34,DSL!A:H,6,FALSE),\"-\")","v":"-"}]
[null,null,null,null,null,null,null,null,null,null,null,null,null,"","","","","",null,{"$f":"IFERROR(VLOOKUP('5.Substance-in-Process'!N35,DSL!A:H,6,FALSE),\"-\")","v":"-"}]
[null,null,null,null,null,null,null,null,null,null,null,null,null,"","","","","",null,{"$f":"IFERROR(VLOOKUP('5.Substance-in-Process'!N36,DSL!A:H,6,FALSE),\"-\")","v":"-"}]
[null,null,null,null,null,null,null,null,null,null,null,null,null,"","","","","",null,{"$f":"IFERROR(VLOOKUP('5.Substance-in-Process'!N37,DSL!A:H,6,FALSE),\"-\")","v":"-"}]
[null,null,null,null,null,null,null,null,null,null,null,null,null,"","","","","",null,{"$f":"IFERROR(VLOOKUP('5.Substance-in-Process'!N38,DSL!A:H,6,FALSE),\"-\")","v":"-"}]
[null,null,null,null,null,null,null,null,null,null,null,null,null,"","","","","",null,{"$f":"IFERROR(VLOOKUP('5.Substance-in-Process'!N39,DSL!A:H,6,FALSE),\"-\")","v":"-"}]
[null,null,null,null,null,null,null,null,null,null,null,null,null,"","","","","",null,{"$f":"IFERROR(VLOOKUP('5.Substance-in-Process'!N40,DSL!A:H,6,FALSE),\"-\")","v":"-"}]
[null,null,null,null,null,null,null,null,null,null,null,null,null,"","","","","",null,{"$f":"IFERROR(VLOOKUP('5.Substance-in-Process'!N41,DSL!A:H,6,FALSE),\"-\")","v":"-"}]
[null,null,null,null,null,null,null,null,null,null,null,null,null,"","","","","",null,{"$f":"IFERROR(VLOOKUP('5.Substance-in-Process'!N42,DSL!A:H,6,FALSE),\"-\")","v":"-"}]
[null,null,null,null,null,null,null,null,null,null,null,null,null,"","","","","",null,{"$f":"IFERROR(VLOOKUP('5.Substance-in-Process'!N43,DSL!A:H,6,FALSE),\"-\")","v":"-"}]
[null,null,null,null,null,null,null,null,null,null,null,null,null,"","","","","",null,{"$f":"IFERROR(VLOOKUP('5.Substance-in-Process'!N44,DSL!A:H,6,FALSE),\"-\")","v":"-"}]
[null,null,null,null,null,null,null,null,null,null,null,null,null,"","","","","",null,{"$f":"IFERROR(VLOOKUP('5.Substance-in-Process'!N45,DSL!A:H,6,FALSE),\"-\")","v":"-"}]
[null,null,null,null,null,null,null,null,null,null,null,null,null,"","","","","",null,{"$f":"IFERROR(VLOOKUP('5.Substance-in-Process'!N46,DSL!A:H,6,FALSE),\"-\")","v":"-"}]
[null,null,null,null,null,null,null,null,null,null,null,null,null,"","","","","",null,{"$f":"IFERROR(VLOOKUP('5.Substance-in-Process'!N47,DSL!A:H,6,FALSE),\"-\")","v":"-"}]
[null,null,null,null,null,null,null,null,null,null,null,null,null,"","","","","",null,{"$f":"IFERROR(VLOOKUP('5.Substance-in-Process'!N48,DSL!A:H,6,FALSE),\"-\")","v":"-"}]
[null,null,null,null,null,null,null,null,null,null,null,null,null,"","","","","",null,{"$f":"IFERROR(VLOOKUP('5.Substance-in-Process'!N49,DSL!A:H,6,FALSE),\"-\")","v":"-"}]
[null,null,null,null,null,null,null,null,null,null,null,null,null,"","","","","",null,{"$f":"IFERROR(VLOOKUP('5.Substance-in-Process'!N50,DSL!A:H,6,FALSE),\"-\")","v":"-"}]
[null,null,null,null,null,null,null,null,null,null,null,null,null,"","","","","",null,{"$f":"IFERROR(VLOOKUP('5.Substance-in-Process'!N51,DSL!A:H,6,FALSE),\"-\")","v":"-"}]
[null,null,null,null,null,null,null,null,null,null,null,null,null,"","","","","",null,{"$f":"IFERROR(VLOOKUP('5.Substance-in-Process'!N52,DSL!A:H,6,FALSE),\"-\")","v":"-"}]
[null,null,null,null,null,null,null,null,null,null,null,null,null,"","","","","",null,{"$f":"IFERROR(VLOOKUP('5.Substance-in-Process'!N53,DSL!A:H,6,FALSE),\"-\")","v":"-"}]
[null,null,null,null,null,null,null,null,null,null,null,null,null,"","","","","",null,{"$f":"IFERROR(VLOOKUP('5.Substance-in-Process'!N54,DSL!A:H,6,FALSE),\"-\")","v":"-"}]
[null,null,null,null,null,null,null,null,null,null,null,null,null,"","","","","",null,{"$f":"IFERROR(VLOOKUP('5.Substance-in-Process'!N55,DSL!A:H,6,FALSE),\"-\")","v":"-"}]
[null,null,null,null,null,null,null,null,null,null,null,null,null,"","","","","",null,{"$f":"IFERROR(VLOOKUP('5.Substance-in-Process'!N56,DSL!A:H,6,FALSE),\"-\")","v":"-"}]
[null,null,null,null,null,null,null,null,null,null,null,null,null,"","","","","",null,{"$f":"IFERROR(VLOOKUP('5.Substance-in-Process'!N57,DSL!A:H,6,FALSE),\"-\")","v":"-"}]
[null,null,null,null,null,null,null,null,null,null,null,null,null,"","","","","",null,{"$f":"IFERROR(VLOOKUP('5.Substance-in-Process'!N58,DSL!A:H,6,FALSE),\"-\")","v":"-"}]
[null,null,null,null,null,null,null,null,null,null,null,null,null,"","","","","",null,{"$f":"IFERROR(VLOOKUP('5.Substance-in-Process'!N59,DSL!A:H,6,FALSE),\"-\")","v":"-"}]
[null,null,null,null,null,null,null,null,null,null,null,null,null,"","","","","",null,{"$f":"IFERROR(VLOOKUP('5.Substance-in-Process'!N60,DSL!A:H,6,FALSE),\"-\")","v":"-"}]
[null,null,null,null,null,null,null,null,null,null,null,null,null,"","","","","",null,{"$f":"IFERROR(VLOOKUP('5.Substance-in-Process'!N61,DSL!A:H,6,FALSE),\"-\")","v":"-"}]
[null,null,null,null,null,null,null,null,null,null,null,null,null,"","","","","",null,{"$f":"IFERROR(VLOOKUP('5.Substance-in-Process'!N62,DSL!A:H,6,FALSE),\"-\")","v":"-"}]
[null,null,null,null,null,null,null,null,null,null,null,null,null,"","","","","",null,{"$f":"IFERROR(VLOOKUP('5.Substance-in-Process'!N63,DSL!A:H,6,FALSE),\"-\")","v":"-"}]
[null,null,null,null,null,null,null,null,null,null,null,null,null,"","","","","",null,{"$f":"IFERROR(VLOOKUP('5.Substance-in-Process'!N64,DSL!A:H,6,FALSE),\"-\")","v":"-"}]
[null,null,null,null,null,null,null,null,null,null,null,null,null,"","","","","",null,{"$f":"IFERROR(VLOOKUP('5.Substance-in-Process'!N65,DSL!A:H,6,FALSE),\"-\")","v":"-"}]
[null,null,null,null,null,null,null,null,null,null,null,null,null,"","","","","",null,{"$f":"IFERROR(VLOOKUP('5.Substance-in-Process'!N66,DSL!A:H,6,FALSE),\"-\")","v":"-"}]
[null,null,null,null,null,null,null,null,null,null,null,null,null,"","","","","",null,{"$f":"IFERROR(VLOOKUP('5.Substance-in-Process'!N67,DSL!A:H,6,FALSE),\"-\")","v":"-"}]
[null,null,null,null,null,null,null,null,null,null,null,null,null,"","","","","",null,{"$f":"IFERROR(VLOOKUP('5.Substance-in-Process'!N68,DSL!A:H,6,FALSE),\"-\")","v":"-"}]
[null,null,null,null,null,null,null,null,null,null,null,null,null,"","","","","",null,{"$f":"IFERROR(VLOOKUP('5.Substance-in-Process'!N69,DSL!A:H,6,FALSE),\"-\")","v":"-"}]
[null,null,null,null,null,null,null,null,null,null,null,null,null,"","","","","",null,{"$f":"IFERROR(VLOOKUP('5.Substance-in-Process'!N70,DSL!A:H,6,FALSE),\"-\")","v":"-"}]
[null,null,null,null,null,null,null,null,null,null,null,null,null,"","","","","",null,{"$f":"IFERROR(VLOOKUP('5.Substance-in-Process'!N71,DSL!A:H,6,FALSE),\"-\")","v":"-"}]
[null,null,null,null,null,null,null,null,null,null,null,null,null,"","","","","",null,{"$f":"IFERROR(VLOOKUP('5.Substance-in-Process'!N72,DSL!A:H,6,FALSE),\"-\")","v":"-"}]
[null,null,null,null,null,null,null,null,null,null,null,null,null,"","","","","",null,{"$f":"IFERROR(VLOOKUP('5.Substance-in-Process'!N73,DSL!A:H,6,FALSE),\"-\")","v":"-"}]
[null,null,null,null,null,null,null,null,null,null,null,null,null,"","","","","",null,{"$f":"IFERROR(VLOOKUP('5.Substance-in-Process'!N74,DSL!A:H,6,FALSE),\"-\")","v":"-"}]
[null,null,null,null,null,null,null,null,null,null,null,null,null,"","","","","",null,{"$f":"IFERROR(VLOOKUP('5.Substance-in-Process'!N75,DSL!A:H,6,FALSE),\"-\")","v":"-"}]
[null,null,null,null,null,null,null,null,null,null,null,null,null,"","","","","",null,{"$f":"IFERROR(VLOOKUP('5.Substance-in-Process'!N76,DSL!A:H,6,FALSE),\"-\")","v":"-"}]
[null,null,null,null,null,null,null,null,null,null,"","","","","","","","",null,{"$f":"IFERROR(VLOOKUP('5.Substance-in-Process'!N77,DSL!A:H,6,FALSE),\"-\")","v":"-"}]
[null,null,null,null,null,null,null,null,null,null,"","","","","","","","",null,{"$f":"IFERROR(VLOOKUP('5.Substance-in-Process'!N78,DSL!A:H,6,FALSE),\"-\")","v":"-"}]
[null,null,null,null,null,null,null,null,null,null,null,null,null,"","","","","",null,{"$f":"IFERROR(VLOOKUP('5.Substance-in-Process'!N79,DSL!A:H,6,FALSE),\"-\")","v":"-"}]
[null,null,null,null,null,null,null,null,null,null,null,null,null,"","","","","",null,{"$f":"IFERROR(VLOOKUP('5.Substance-in-Process'!N80,DSL!A:H,6,FALSE),\"-\")","v":"-"}]
[null,null,null,null,null,null,null,null,null,null,null,null,null,"","","","","",null,{"$f":"IFERROR(VLOOKUP('5.Substance-in-Process'!N81,DSL!A:H,6,FALSE),\"-\")","v":"-"}]
[null,null,null,null,null,null,null,null,null,null,null,null,null,"","","","","",null,{"$f":"IFERROR(VLOOKUP('5.Substance-in-Process'!N82,DSL!A:H,6,FALSE),\"-\")","v":"-"}]
[null,null,null,null,null,null,null,null,null,null,"","","","","","","","",null,{"$f":"IFERROR(VLOOKUP('5.Substance-in-Process'!N83,DSL!A:H,6,FALSE),\"-\")","v":"-"}]
[null,null,null,null,null,null,null,null,null,null,"","","","","","","","",null,{"$f":"IFERROR(VLOOKUP('5.Substance-in-Process'!N84,DSL!A:H,6,FALSE),\"-\")","v":"-"}]
[null,null,null,null,null,null,null,null,null,null,null,null,null,"","","","","",null,{"$f":"IFERROR(VLOOKUP('5.Substance-in-Process'!N85,DSL!A:H,6,FALSE),\"-\")","v":"-"}]
[null,null,null,null,null,null,null,null,null,null,null,null,null,"","","","","",null,{"$f":"IFERROR(VLOOKUP('5.Substance-in-Process'!N86,DSL!A:H,6,FALSE),\"-\")","v":"-"}]
[null,null,null,null,null,null,null,null,null,null,null,null,null,"","","","","",null,{"$f":"IFERROR(VLOOKUP('5.Substance-in-Process'!N87,DSL!A:H,6,FALSE),\"-\")","v":"-"}]
[null,null,null,null,null,null,null,null,null,null,null,null,null,"","","","","",null,{"$f":"IFERROR(VLOOKUP('5.Substance-in-Process'!N88,DSL!A:H,6,FALSE),\"-\")","v":"-"}]
[null,null,null,null,null,null,null,null,null,null,null,null,null,"","","","","",null,{"$f":"IFERROR(VLOOKUP('5.Substance-in-Process'!N89,DSL!A:H,6,FALSE),\"-\")","v":"-"}]
[null,null,null,null,null,null,null,null,null,null,null,null,null,"","","","","",null,{"$f":"IFERROR(VLOOKUP('5.Substance-in-Process'!N90,DSL!A:H,6,FALSE),\"-\")","v":"-"}]
[null,null,null,null,null,null,null,null,null,null,null,null,null,"","","","","",null,{"$f":"IFERROR(VLOOKUP('5.Substance-in-Process'!N91,DSL!A:H,6,FALSE),\"-\")","v":"-"}]
[null,null,null,null,null,null,null,null,null,null,null,null,null,"","","","","",null,{"$f":"IFERROR(VLOOKUP('5.Substance-in-Process'!N92,DSL!A:H,6,FALSE),\"-\")","v":"-"}]
[null,null,null,null,null,null,null,null,null,null,null,null,null,"","","","","",null,{"$f":"IFERROR(VLOOKUP('5.Substance-in-Process'!N93,DSL!A:H,6,FALSE),\"-\")","v":"-"}]
[null,null,null,null,null,null,null,null,null,null,null,null,null,"","","","","",null,{"$f":"IFERROR(VLOOKUP('5.Substance-in-Process'!N94,DSL!A:H,6,FALSE),\"-\")","v":"-"}]
[null,null,null,null,null,null,null,null,null,null,null,null,null,"","","","","",null,{"$f":"IFERROR(VLOOKUP('5.Substance-in-Process'!N95,DSL!A:H,6,FALSE),\"-\")","v":"-"}]
[null,null,null,null,null,null,null,null,null,null,null,null,null,"","","","","",null,{"$f":"IFERROR(VLOOKUP('5.Substance-in-Process'!N96,DSL!A:H,6,FALSE),\"-\")","v":"-"}]
[null,null,null,null,null,null,null,null,null,null,null,null,null,"","","","","",null,{"$f":"IFERROR(VLOOKUP('5.Substance-in-Process'!N97,DSL!A:H,6,FALSE),\"-\")","v":"-"}]
[null,null,null,null,null,null,null,null,null,null,null,null,null,"","","","","",null,{"$f":"IFERROR(VLOOKUP('5.Substance-in-Process'!N98,DSL!A:H,6,FALSE),\"-\")","v":"-"}]
[null,null,null,null,null,null,null,null,null,null,null,null,null,"","","","","",null,{"$f":"IFERROR(VLOOKUP('5.Substance-in-Process'!N99,DSL!A:H,6,FALSE),\"-\")","v":"-"}]
[null,null,null,null,null,null,null,null,null,null,null,null,null,"","","","","",null,{"$f":"IFERROR(VLOOKUP('5.Substance-in-Process'!N100,DSL!A:H,6,FALSE),\"-\")","v":"-"}]
[null,null,null,null,null,null,null,null,null,null,null,null,null,"","","","","",null,{"$f":"IFERROR(VLOOKUP('5.Substance-in-Process'!N101,DSL!A:H,6,FALSE),\"-\")","v":"-"}]
[null,null,null,null,null,null,null,null,null,null,null,null,null,"","","","","",null,{"$f":"IFERROR(VLOOKUP('5.Substance-in-Process'!N102,DSL!A:H,6,FALSE),\"-\")","v":"-"}]
[null,null,null,null,null,null,null,null,null,null,null,null,null,"","","","","",null,{"$f":"IFERROR(VLOOKUP('5.Substance-in-Process'!N103,DSL!A:H,6,FALSE),\"-\")","v":"-"}]
[null,null,null,null,null,null,null,null,null,null,null,null,null,"","","","","",null,{"$f":"IFERROR(VLOOKUP('5.Substance-in-Process'!N104,DSL!A:H,6,FALSE),\"-\")","v":"-"}]
[null,null,null,null,null,null,null,null,null,null,null,null,null,"","","","","",null,{"$f":"IFERROR(VLOOKUP('5.Substance-in-Process'!N105,DSL!A:H,6,FALSE),\"-\")","v":"-"}]
[null,null,null,null,null,null,null,null,null,null,null,null,null,"","","","","",null,{"$f":"IFERROR(VLOOKUP('5.Substance-in-Process'!N106,DSL!A:H,6,FALSE),\"-\")","v":"-"}]
[null,null,null,null,null,null,null,null,null,null,null,null,null,"","","","","",null,{"$f":"IFERROR(VLOOKUP('5.Substance-in-Process'!N107,DSL!A:H,6,FALSE),\"-\")","v":"-"}]
[null,null,null,null,null,null,null,null,null,null,null,null,null,"","","","","",null,{"$f":"IFERROR(VLOOKUP('5.Substance-in-Process'!N108,DSL!A:H,6,FALSE),\"-\")","v":"-"}]
[null,null,null,null,null,null,null,null,null,null,null,null,null,"","","","","",null,{"$f":"IFERROR(VLOOKUP('5.Substance-in-Process'!N109,DSL!A:H,6,FALSE),\"-\")","v":"-"}]
[null,null,null,null,null,null,null,null,null,null,null,null,null,"","","","","",null,{"$f":"IFERROR(VLOOKUP('5.Substance-in-Process'!N110,DSL!A:H,6,FALSE),\"-\")","v":"-"}]
[null,null,null,null,null,null,null,null,null,null,null,null,null,"","","","","",null,{"$f":"IFERROR(VLOOKUP('5.Substance-in-Process'!N111,DSL!A:H,6,FALSE),\"-\")","v":"-"}]
[null,null,null,null,null,null,null,null,null,null,null,null,null,"","","","","",null,{"$f":"IFERROR(VLOOKUP('5.Substance-in-Process'!N112,DSL!A:H,6,FALSE),\"-\")","v":"-"}]
[null,null,null,null,null,null,null,null,null,null,null,null,null,"","","","","",null,{"$f":"IFERROR(VLOOKUP('5.Substance-in-Process'!N113,DSL!A:H,6,FALSE),\"-\")","v":"-"}]
[null,null,null,null,null,null,null,null,null,null,null,null,null,"","","","","",null,{"$f":"IFERROR(VLOOKUP('5.Substance-in-Process'!N114,DSL!A:H,6,FALSE),\"-\")","v":"-"}]
[null,null,null,null,null,null,null,null,null,null,null,null,null,"","","","","",null,{"$f":"IFERROR(VLOOKUP('5.Substance-in-Process'!N115,DSL!A:H,6,FALSE),\"-\")","v":"-"}]
[null,null,null,null,null,null,null,null,null,null,null,null,null,"","","","","",null,{"$f":"IFERROR(VLOOKUP('5.Substance-in-Process'!N116,DSL!A:H,6,FALSE),\"-\")","v":"-"}]
[null,null,null,null,null,null,null,null,null,null,null,null,null,"","","","","",null,{"$f":"IFERROR(VLOOKUP('5.Substance-in-Process'!N117,DSL!A:H,6,FALSE),\"-\")","v":"-"}]
[null,null,null,null,null,null,null,null,null,null,null,null,null,"","","","","",null,{"$f":"IFERROR(VLOOKUP('5.Substance-in-Process'!N118,DSL!A:H,6,FALSE),\"-\")","v":"-"}]
[null,null,null,null,null,null,null,null,null,null,null,null,null,"","","","","",null,{"$f":"IFERROR(VLOOKUP('5.Substance-in-Process'!N119,DSL!A:H,6,FALSE),\"-\")","v":"-"}]
[null,null,null,null,null,null,null,null,null,null,null,null,null,"","","","","",null,{"$f":"IFERROR(VLOOKUP('5.Substance-in-Process'!N120,DSL!A:H,6,FALSE),\"-\")","v":"-"}]
[null,null,null,null,null,null,null,null,null,null,null,null,null,"","","","","",null,{"$f":"IFERROR(VLOOKUP('5.Substance-in-Process'!N121,DSL!A:H,6,FALSE),\"-\")","v":"-"}]
[null,null,null,null,null,null,null,null,null,null,null,null,null,"","","","","",null,{"$f":"IFERROR(VLOOKUP('5.Substance-in-Process'!N122,DSL!A:H,6,FALSE),\"-\")","v":"-"}]
[null,null,null,null,null,null,null,null,null,null,null,null,null,"","","","","",null,{"$f":"IFERROR(VLOOKUP('5.Substance-in-Process'!N123,DSL!A:H,6,FALSE),\"-\")","v":"-"}]
[null,null,null,null,null,null,null,null,null,null,null,null,null,"","","","","",null,{"$f":"IFERROR(VLOOKUP('5.Substance-in-Process'!N124,DSL!A:H,6,FALSE),\"-\")","v":"-"}]
[null,null,null,null,null,null,null,null,null,null,null,null,null,"","","","","",null,{"$f":"IFERROR(VLOOKUP('5.Substance-in-Process'!N125,DSL!A:H,6,FALSE),\"-\")","v":"-"}]
[null,null,null,null,null,null,null,null,null,null,null,null,null,"","","","","",null,{"$f":"IFERROR(VLOOKUP('5.Substance-in-Process'!N126,DSL!A:H,6,FALSE),\"-\")","v":"-"}]
[null,null,null,null,null,null,null,null,null,null,null,null,null,"","","","","",null,{"$f":"IFERROR(VLOOKUP('5.Substance-in-Process'!N127,DSL!A:H,6,FALSE),\"-\")","v":"-"}]
[null,null,null,null,null,null,null,null,null,null,null,null,null,"","","","","",null,{"$f":"IFERROR(VLOOKUP('5.Substance-in-Process'!N128,DSL!A:H,6,FALSE),\"-\")","v":"-"}]
[null,null,null,null,null,null,null,null,null,null,null,null,null,"","","","","",null,{"$f":"IFERROR(VLOOKUP('5.Substance-in-Process'!N129,DSL!A:H,6,FALSE),\"-\")","v":"-"}]
[null,null,null,null,null,null,null,null,null,null,null,null,null,"","","","","",null,{"$f":"IFERROR(VLOOKUP('5.Substance-in-Process'!N130,DSL!A:H,6,FALSE),\"-\")","v":"-"}]
[null,null,null,null,null,null,null,null,null,null,null,null,null,"","","","","",null,{"$f":"IFERROR(VLOOKUP('5.Substance-in-Process'!N131,DSL!A:H,6,FALSE),\"-\")","v":"-"}]
[null,null,null,null,null,null,null,null,null,null,null,null,null,"","","","","",null,{"$f":"IFERROR(VLOOKUP('5.Substance-in-Process'!N132,DSL!A:H,6,FALSE),\"-\")","v":"-"}]
[null,null,null,null,null,null,null,null,null,null,null,null,null,"","","","","",null,{"$f":"IFERROR(VLOOKUP('5.Substance-in-Process'!N133,DSL!A:H,6,FALSE),\"-\")","v":"-"}]
[null,null,null,null,null,null,null,null,null,null,null,null,null,"","","","","",null,{"$f":"IFERROR(VLOOKUP('5.Substance-in-Process'!N134,DSL!A:H,6,FALSE),\"-\")","v":"-"}]
[null,null,null,null,null,null,null,null,null,null,null,null,null,"","","","","",null,{"$f":"IFERROR(VLOOKUP('5.Substance-in-Process'!N135,DSL!A:H,6,FALSE),\"-\")","v":"-"}]
[null,null,null,null,null,null,null,null,null,null,null,null,null,"","","","","",null,{"$f":"IFERROR(VLOOKUP('5.Substance-in-Process'!N136,DSL!A:H,6,FALSE),\"-\")","v":"-"}]
[null,null,null,null,null,null,null,null,null,null,null,null,null,"","","","","",null,{"$f":"IFERROR(VLOOKUP('5.Substance-in-Process'!N137,DSL!A:H,6,FALSE),\"-\")","v":"-"}]
[null,null,null,null,null,null,null,null,null,null,null,null,null,"","","","","",null,{"$f":"IFERROR(VLOOKUP('5.Substance-in-Process'!N138,DSL!A:H,6,FALSE),\"-\")","v":"-"}]
[null,null,null,null,null,null,null,null,null,null,null,null,null,"","","","","",null,{"$f":"IFERROR(VLOOKUP('5.Substance-in-Process'!N139,DSL!A:H,6,FALSE),\"-\")","v":"-"}]
[null,null,null,null,null,null,null,null,null,null,null,null,null,"","","","","",null,{"$f":"IFERROR(VLOOKUP('5.Substance-in-Process'!N140,DSL!A:H,6,FALSE),\"-\")","v":"-"}]
[null,null,null,null,null,null,null,null,null,null,null,null,null,"","","","","",null,{"$f":"IFERROR(VLOOKUP('5.Substance-in-Process'!N141,DSL!A:H,6,FALSE),\"-\")","v":"-"}]
[null,null,null,null,null,null,null,null,null,null,null,null,null,"","","","","",null,{"$f":"IFERROR(VLOOKUP('5.Substance-in-Process'!N142,DSL!A:H,6,FALSE),\"-\")","v":"-"}]
[null,null,null,null,null,null,null,null,null,null,null,null,null,"","","","","",null,{"$f":"IFERROR(VLOOKUP('5.Substance-in-Process'!N143,DSL!A:H,6,FALSE),\"-\")","v":"-"}]
[null,null,null,null,null,null,null,null,null,null,null,null,null,"","","","","",null,{"$f":"IFERROR(VLOOKUP('5.Substance-in-Process'!N144,DSL!A:H,6,FALSE),\"-\")","v":"-"}]
[null,null,null,null,null,null,null,null,null,null,null,null,null,"","","","","",null,{"$f":"IFERROR(VLOOKUP('5.Substance-in-Process'!N145,DSL!A:H,6,FALSE),\"-\")","v":"-"}]
[null,null,null,null,null,null,null,null,null,null,null,null,null,"","","","","",null,{"$f":"IFERROR(VLOOKUP('5.Substance-in-Process'!N146,DSL!A:H,6,FALSE),\"-\")","v":"-"}]
[null,null,null,null,null,null,null,null,null,null,null,null,null,"","","","","",null,{"$f":"IFERROR(VLOOKUP('5.Substance-in-Process'!N147,DSL!A:H,6,FALSE),\"-\")","v":"-"}]
[null,null,null,null,null,null,null,null,null,null,null,null,null,"","","","","",null,{"$f":"IFERROR(VLOOKUP('5.Substance-in-Process'!N148,DSL!A:H,6,FALSE),\"-\")","v":"-"}]
[null,null,null,null,null,null,null,null,null,null,null,null,null,"","","","","",null,{"$f":"IFERROR(VLOOKUP('5.Substance-in-Process'!N149,DSL!A:H,6,FALSE),\"-\")","v":"-"}]
[null,null,null,null,null,null,null,null,null,null,null,null,null,"","","","","",null,{"$f":"IFERROR(VLOOKUP('5.Substance-in-Process'!N150,DSL!A:H,6,FALSE),\"-\")","v":"-"}]
[null,null,null,null,null,null,null,null,null,null,null,null,null,"","","","","",null,{"$f":"IFERROR(VLOOKUP('5.Substance-in-Process'!N151,DSL!A:H,6,FALSE),\"-\")","v":"-"}]
[null,null,null,null,null,null,null,null,null,null,null,null,null,"","","","","",null,{"$f":"IFERROR(VLOOKUP('5.Substance-in-Process'!N152,DSL!A:H,6,FALSE),\"-\")","v":"-"}]
[null,null,null,null,null,null,null,null,null,null,null,null,null,"","","","","",null,{"$f":"IFERROR(VLOOKUP('5.Substance-in-Process'!N153,DSL!A:H,6,FALSE),\"-\")","v":"-"}]
[null,null,null,null,null,null,null,null,null,null,null,null,null,"","","","","",null,{"$f":"IFERROR(VLOOKUP('5.Substance-in-Process'!N154,DSL!A:H,6,FALSE),\"-\")","v":"-"}]
[null,null,null,null,null,null,null,null,null,null,null,null,null,"","","","","",null,{"$f":"IFERROR(VLOOKUP('5.Substance-in-Process'!N155,DSL!A:H,6,FALSE),\"-\")","v":"-"}]
[null,null,null,null,null,null,null,null,null,null,null,null,null,"","","","","",null,{"$f":"IFERROR(VLOOKUP('5.Substance-in-Process'!N156,DSL!A:H,6,FALSE),\"-\")","v":"-"}]
[null,null,null,null,null,null,null,null,null,null,null,null,null,"","","","","",null,{"$f":"IFERROR(VLOOKUP('5.Substance-in-Process'!N157,DSL!A:H,6,FALSE),\"-\")","v":"-"}]
[null,null,null,null,null,null,null,null,null,null,null,null,null,"","","","","",null,{"$f":"IFERROR(VLOOKUP('5.Substance-in-Process'!N158,DSL!A:H,6,FALSE),\"-\")","v":"-"}]
[null,null,null,null,null,null,null,null,null,null,null,null,null,"","","","","",null,{"$f":"IFERROR(VLOOKUP('5.Substance-in-Process'!N159,DSL!A:H,6,FALSE),\"-\")","v":"-"}]
[null,null,null,null,null,null,null,null,null,null,null,null,null,"","","","","",null,{"$f":"IFERROR(VLOOKUP('5.Substance-in-Process'!N160,DSL!A:H,6,FALSE),\"-\")","v":"-"}]
[null,null,null,null,null,null,null,null,null,null,null,null,null,"","","","","",null,{"$f":"IFERROR(VLOOKUP('5.Substance-in-Process'!N161,DSL!A:H,6,FALSE),\"-\")","v":"-"}]
[null,null,null,null,null,null,null,null,null,null,null,null,null,"","","","","",null,{"$f":"IFERROR(VLOOKUP('5.Substance-in-Process'!N162,DSL!A:H,6,FALSE),\"-\")","v":"-"}]
[null,null,null,null,null,null,null,null,null,null,null,null,null,"","","","","",null,{"$f":"IFERROR(VLOOKUP('5.Substance-in-Process'!N163,DSL!A:H,6,FALSE),\"-\")","v":"-"}]
[null,null,null,null,null,null,null,null,null,null,null,null,null,"","","","","",null,{"$f":"IFERROR(VLOOKUP('5.Substance-in-Process'!N164,DSL!A:H,6,FALSE),\"-\")","v":"-"}]
[null,null,null,null,null,null,null,null,null,null,null,null,null,"","","","","",null,{"$f":"IFERROR(VLOOKUP('5.Substance-in-Process'!N165,DSL!A:H,6,FALSE),\"-\")","v":"-"}]
[null,null,null,null,null,null,null,null,null,null,null,null,null,"","","","","",null,{"$f":"IFERROR(VLOOKUP('5.Substance-in-Process'!N166,DSL!A:H,6,FALSE),\"-\")","v":"-"}]
[null,null,null,null,null,null,null,null,null,null,null,null,null,"","","","","",null,{"$f":"IFERROR(VLOOKUP('5.Substance-in-Process'!N167,DSL!A:H,6,FALSE),\"-\")","v":"-"}]
[null,null,null,null,null,null,null,null,null,null,null,null,null,"","","","","",null,{"$f":"IFERROR(VLOOKUP('5.Substance-in-Process'!N168,DSL!A:H,6,FALSE),\"-\")","v":"-"}]
[null,null,null,null,null,null,null,null,null,null,null,null,null,"","","","","",null,{"$f":"IFERROR(VLOOKUP('5.Substance-in-Process'!N169,DSL!A:H,6,FALSE),\"-\")","v":"-"}]
[null,null,null,null,null,null,null,null,null,null,null,null,null,"","","","","",null,{"$f":"IFERROR(VLOOKUP('5.Substance-in-Process'!N170,DSL!A:H,6,FALSE),\"-\")","v":"-"}]
[null,null,null,null,null,null,null,null,null,null,null,null,null,"","","","","",null,{"$f":"IFERROR(VLOOKUP('5.Substance-in-Process'!N171,DSL!A:H,6,FALSE),\"-\")","v":"-"}]
[null,null,null,null,null,null,null,null,null,null,null,null,null,"","","","","",null,{"$f":"IFERROR(VLOOKUP('5.Substance-in-Process'!N172,DSL!A:H,6,FALSE),\"-\")","v":"-"}]
[null,null,null,null,null,null,null,null,null,null,null,null,null,"","","","","",null,{"$f":"IFERROR(VLOOKUP('5.Substance-in-Process'!N173,DSL!A:H,6,FALSE),\"-\")","v":"-"}]
[null,null,null,null,null,null,null,null,null,null,null,null,null,"","","","","",null,{"$f":"IFERROR(VLOOKUP('5.Substance-in-Process'!N174,DSL!A:H,6,FALSE),\"-\")","v":"-"}]
[null,null,null,null,null,null,null,null,null,null,null,null,null,"","","","","",null,{"$f":"IFERROR(VLOOKUP('5.Substance-in-Process'!N175,DSL!A:H,6,FALSE),\"-\")","v":"-"}]
[null,null,null,null,null,null,null,null,null,null,null,null,null,"","","","","",null,{"$f":"IFERROR(VLOOKUP('5.Substance-in-Process'!N176,DSL!A:H,6,FALSE),\"-\")","v":"-"}]
[null,null,null,null,null,null,null,null,null,null,null,null,null,"","","","","",null,{"$f":"IFERROR(VLOOKUP('5.Substance-in-Process'!N177,DSL!A:H,6,FALSE),\"-\")","v":"-"}]
[null,null,null,null,null,null,null,null,null,null,null,null,null,"","","","","",null,{"$f":"IFERROR(VLOOKUP('5.Substance-in-Process'!N178,DSL!A:H,6,FALSE),\"-\")","v":"-"}]
[null,null,null,null,null,null,null,null,null,null,null,null,null,"","","","","",null,{"$f":"IFERROR(VLOOKUP('5.Substance-in-Process'!N179,DSL!A:H,6,FALSE),\"-\")","v":"-"}]
[null,null,null,null,null,null,null,null,null,null,null,null,null,"","","","","",null,{"$f":"IFERROR(VLOOKUP('5.Substance-in-Process'!N180,DSL!A:H,6,FALSE),\"-\")","v":"-"}]
[null,null,null,null,null,null,null,null,null,null,null,null,null,"","","","","",null,{"$f":"IFERROR(VLOOKUP('5.Substance-in-Process'!N181,DSL!A:H,6,FALSE),\"-\")","v":"-"}]
[null,null,null,null,null,null,null,null,null,null,null,null,null,"","","","","",null,{"$f":"IFERROR(VLOOKUP('5.Substance-in-Process'!N182,DSL!A:H,6,FALSE),\"-\")","v":"-"}]
[null,null,null,null,null,null,null,null,null,null,null,null,null,"","","","","",null,{"$f":"IFERROR(VLOOKUP('5.Substance-in-Process'!N183,DSL!A:H,6,FALSE),\"-\")","v":"-"}]
[null,null,null,null,null,null,null,null,null,null,null,null,null,"","","","","",null,{"$f":"IFERROR(VLOOKUP('5.Substance-in-Process'!N184,DSL!A:H,6,FALSE),\"-\")","v":"-"}]
[null,null,null,null,null,null,null,null,null,null,null,null,null,"","","","","",null,{"$f":"IFERROR(VLOOKUP('5.Substance-in-Process'!N185,DSL!A:H,6,FALSE),\"-\")","v":"-"}]
[null,null,null,null,null,null,null,null,null,null,null,null,null,"","","","","",null,{"$f":"IFERROR(VLOOKUP('5.Substance-in-Process'!N186,DSL!A:H,6,FALSE),\"-\")","v":"-"}]
[null,null,null,null,null,null,null,null,null,null,null,null,null,"","","","","",null,{"$f":"IFERROR(VLOOKUP('5.Substance-in-Process'!N187,DSL!A:H,6,FALSE),\"-\")","v":"-"}]
[null,null,null,null,null,null,null,null,null,null,null,null,null,"","","","","",null,{"$f":"IFERROR(VLOOKUP('5.Substance-in-Process'!N188,DSL!A:H,6,FALSE),\"-\")","v":"-"}]
[null,null,null,null,null,null,null,null,null,null,null,null,null,"","","","","",null,{"$f":"IFERROR(VLOOKUP('5.Substance-in-Process'!N189,DSL!A:H,6,FALSE),\"-\")","v":"-"}]
[null,null,null,null,null,null,null,null,null,null,null,null,null,"","","","","",null,{"$f":"IFERROR(VLOOKUP('5.Substance-in-Process'!N190,DSL!A:H,6,FALSE),\"-\")","v":"-"}]
[null,null,null,null,null,null,null,null,null,null,null,null,null,"","","","","",null,{"$f":"IFERROR(VLOOKUP('5.Substance-in-Process'!N191,DSL!A:H,6,FALSE),\"-\")","v":"-"}]
[null,null,null,null,null,null,null,null,null,null,null,null,null,"","","","","",null,{"$f":"IFERROR(VLOOKUP('5.Substance-in-Process'!N192,DSL!A:H,6,FALSE),\"-\")","v":"-"}]
[null,null,null,null,null,null,null,null,null,null,null,null,null,"","","","","",null,{"$f":"IFERROR(VLOOKUP('5.Substance-in-Process'!N193,DSL!A:H,6,FALSE),\"-\")","v":"-"}]
[null,null,null,null,null,null,null,null,null,null,null,null,null,"","","","","",null,{"$f":"IFERROR(VLOOKUP('5.Substance-in-Process'!N194,DSL!A:H,6,FALSE),\"-\")","v":"-"}]
[null,null,null,null,null,null,null,null,null,null,null,null,null,"","","","","",null,{"$f":"IFERROR(VLOOKUP('5.Substance-in-Process'!N195,DSL!A:H,6,FALSE),\"-\")","v":"-"}]
[null,null,null,null,null,null,null,null,null,null,null,null,null,"","","","","",null,{"$f":"IFERROR(VLOOKUP('5.Substance-in-Process'!N196,DSL!A:H,6,FALSE),\"-\")","v":"-"}]
[null,null,null,null,null,null,null,null,null,null,null,null,null,"","","","","",null,{"$f":"IFERROR(VLOOKUP('5.Substance-in-Process'!N197,DSL!A:H,6,FALSE),\"-\")","v":"-"}]
[null,null,null,null,null,null,null,null,null,null,null,null,null,"","","","","",null,{"$f":"IFERROR(VLOOKUP('5.Substance-in-Process'!N198,DSL!A:H,6,FALSE),\"-\")","v":"-"}]
[null,null,null,null,null,null,null,null,null,null,null,null,null,"","","","","",null,{"$f":"IFERROR(VLOOKUP('5.Substance-in-Process'!N199,DSL!A:H,6,FALSE),\"-\")","v":"-"}]
[null,null,null,null,null,null,null,null,null,null,null,null,null,"","","","","",null,{"$f":"IFERROR(VLOOKUP('5.Substance-in-Process'!N200,DSL!A:H,6,FALSE),\"-\")","v":"-"}]
[null,null,null,null,null,null,null,null,null,null,null,null,null,"","","","","",null,{"$f":"IFERROR(VLOOKUP('5.Substance-in-Process'!N201,DSL!A:H,6,FALSE),\"-\")","v":"-"}]
[null,null,null,null,null,null,null,null,null,null,null,null,null,"","","","","",null,{"$f":"IFERROR(VLOOKUP('5.Substance-in-Process'!N202,DSL!A:H,6,FALSE),\"-\")","v":"-"}]
[null,null,null,null,null,null,null,null,null,null,null,null,null,"","","","","",null,{"$f":"IFERROR(VLOOKUP('5.Substance-in-Process'!N203,DSL!A:H,6,FALSE),\"-\")","v":"-"}]
[null,null,null,null,null,null,null,null,null,null,null,null,null,"","","","","",null,{"$f":"IFERROR(VLOOKUP('5.Substance-in-Process'!N204,DSL!A:H,6,FALSE),\"-\")","v":"-"}]
[null,null,null,null,null,null,null,null,null,null,null,null,null,"","","","","",null,{"$f":"IFERROR(VLOOKUP('5.Substance-in-Process'!N205,DSL!A:H,6,FALSE),\"-\")","v":"-"}]
[null,null,null,null,null,null,null,null,null,null,null,null,null,"","","","","",null,{"$f":"IFERROR(VLOOKUP('5.Substance-in-Process'!N206,DSL!A:H,6,FALSE),\"-\")","v":"-"}]
[null,null,null,null,null,null,null,null,null,null,null,null,null,"","","","","",null,{"$f":"IFERROR(VLOOKUP('5.Substance-in-Process'!N207,DSL!A:H,6,FALSE),\"-\")","v":"-"}]
[null,null,null,null,null,null,null,null,null,null,null,null,null,"","","","","",null,{"$f":"IFERROR(VLOOKUP('5.Substance-in-Process'!N208,DSL!A:H,6,FALSE),\"-\")","v":"-"}]
[null,null,null,null,null,null,null,null,null,null,null,null,null,"","","","","",null,{"$f":"IFERROR(VLOOKUP('5.Substance-in-Process'!N209,DSL!A:H,6,FALSE),\"-\")","v":"-"}]
[null,null,null,null,null,null,null,null,null,null,null,null,null,"","","","","",null,{"$f":"IFERROR(VLOOKUP('5.Substance-in-Process'!N210,DSL!A:H,6,FALSE),\"-\")","v":"-"}]
[null,null,null,null,null,null,null,null,null,null,null,null,null,"","","","","",null,{"$f":"IFERROR(VLOOKUP('5.Substance-in-Process'!N211,DSL!A:H,6,FALSE),\"-\")","v":"-"}]
[null,null,null,null,null,null,null,null,null,null,null,null,null,"","","","","",null,{"$f":"IFERROR(VLOOKUP('5.Substance-in-Process'!N212,DSL!A:H,6,FALSE),\"-\")","v":"-"}]
[null,null,null,null,null,null,null,null,null,null,null,null,null,"","","","","",null,{"$f":"IFERROR(VLOOKUP('5.Substance-in-Process'!N213,DSL!A:H,6,FALSE),\"-\")","v":"-"}]
[null,null,null,null,null,null,null,null,null,null,null,null,null,"","","","","",null,{"$f":"IFERROR(VLOOKUP('5.Substance-in-Process'!N214,DSL!A:H,6,FALSE),\"-\")","v":"-"}]
[null,null,null,null,null,null,null,null,null,null,null,null,null,"","","","","",null,{"$f":"IFERROR(VLOOKUP('5.Substance-in-Process'!N215,DSL!A:H,6,FALSE),\"-\")","v":"-"}]
[null,null,null,null,null,null,null,null,null,null,null,null,null,"","","","","",null,{"$f":"IFERROR(VLOOKUP('5.Substance-in-Process'!N216,DSL!A:H,6,FALSE),\"-\")","v":"-"}]
[null,null,null,null,null,null,null,null,null,null,null,null,null,"","","","","",null,{"$f":"IFERROR(VLOOKUP('5.Substance-in-Process'!N217,DSL!A:H,6,FALSE),\"-\")","v":"-"}]
[null,null,null,null,null,null,null,null,null,null,null,null,null,"","","","","",null,{"$f":"IFERROR(VLOOKUP('5.Substance-in-Process'!N218,DSL!A:H,6,FALSE),\"-\")","v":"-"}]
[null,null,null,null,null,null,null,null,null,null,null,null,null,"","","","","",null,{"$f":"IFERROR(VLOOKUP('5.Substance-in-Process'!N219,DSL!A:H,6,FALSE),\"-\")","v":"-"}]
[null,null,null,null,null,null,null,null,null,null,null,null,null,"","","","","",null,{"$f":"IFERROR(VLOOKUP('5.Substance-in-Process'!N220,DSL!A:H,6,FALSE),\"-\")","v":"-"}]
[null,null,null,null,null,null,null,null,null,null,null,null,null,"","","","","",null,{"$f":"IFERROR(VLOOKUP('5.Substance-in-Process'!N221,DSL!A:H,6,FALSE),\"-\")","v":"-"}]
[null,null,null,null,null,null,null,null,null,null,null,null,null,"","","","","",null,{"$f":"IFERROR(VLOOKUP('5.Substance-in-Process'!N222,DSL!A:H,6,FALSE),\"-\")","v":"-"}]
[null,null,null,null,null,null,null,null,null,null,null,null,null,"","","","","",null,{"$f":"IFERROR(VLOOKUP('5.Substance-in-Process'!N223,DSL!A:H,6,FALSE),\"-\")","v":"-"}]
[null,null,null,null,null,null,null,null,null,null,null,null,null,"","","","","",null,{"$f":"IFERROR(VLOOKUP('5.Substance-in-Process'!N224,DSL!A:H,6,FALSE),\"-\")","v":"-"}]
[null,null,null,null,null,null,null,null,null,null,null,null,null,"","","","","",null,{"$f":"IFERROR(VLOOKUP('5.Substance-in-Process'!N225,DSL!A:H,6,FALSE),\"-\")","v":"-"}]
[null,null,null,null,null,null,null,null,null,null,null,null,null,"","","","","",null,{"$f":"IFERROR(VLOOKUP('5.Substance-in-Process'!N226,DSL!A:H,6,FALSE),\"-\")","v":"-"}]
[null,null,null,null,null,null,null,null,null,null,null,null,null,"","","","","",null,{"$f":"IFERROR(VLOOKUP('5.Substance-in-Process'!N227,DSL!A:H,6,FALSE),\"-\")","v":"-"}]
[null,null,null,null,null,null,null,null,null,null,null,null,null,"","","","","",null,{"$f":"IFERROR(VLOOKUP('5.Substance-in-Process'!N228,DSL!A:H,6,FALSE),\"-\")","v":"-"}]
[null,null,null,null,null,null,null,null,null,null,null,null,null,"","","","","",null,{"$f":"IFERROR(VLOOKUP('5.Substance-in-Process'!N229,DSL!A:H,6,FALSE),\"-\")","v":"-"}]
[null,null,null,null,null,null,null,null,null,null,null,null,null,"","","","","",null,{"$f":"IFERROR(VLOOKUP('5.Substance-in-Process'!N230,DSL!A:H,6,FALSE),\"-\")","v":"-"}]
[null,null,null,null,null,null,null,null,null,null,null,null,null,"","","","","",null,{"$f":"IFERROR(VLOOKUP('5.Substance-in-Process'!N231,DSL!A:H,6,FALSE),\"-\")","v":"-"}]
[null,null,null,null,null,null,null,null,null,null,null,null,null,"","","","","",null,{"$f":"IFERROR(VLOOKUP('5.Substance-in-Process'!N232,DSL!A:H,6,FALSE),\"-\")","v":"-"}]
[null,null,null,null,null,null,null,null,null,null,null,null,null,"","","","","",null,{"$f":"IFERROR(VLOOKUP('5.Substance-in-Process'!N233,DSL!A:H,6,FALSE),\"-\")","v":"-"}]
[null,null,null,null,null,null,null,null,null,null,null,null,null,"","","","","",null,{"$f":"IFERROR(VLOOKUP('5.Substance-in-Process'!N234,DSL!A:H,6,FALSE),\"-\")","v":"-"}]
[null,null,null,null,null,null,null,null,null,null,null,null,null,"","","","","",null,{"$f":"IFERROR(VLOOKUP('5.Substance-in-Process'!N235,DSL!A:H,6,FALSE),\"-\")","v":"-"}]
[null,null,null,null,null,null,null,null,null,null,null,null,null,"","","","","",null,{"$f":"IFERROR(VLOOKUP('5.Substance-in-Process'!N236,DSL!A:H,6,FALSE),\"-\")","v":"-"}]
[null,null,null,null,null,null,null,null,null,null,null,null,null,"","","","","",null,{"$f":"IFERROR(VLOOKUP('5.Substance-in-Process'!N237,DSL!A:H,6,FALSE),\"-\")","v":"-"}]
[null,null,null,null,null,null,null,null,null,null,null,null,null,"","","","","",null,{"$f":"IFERROR(VLOOKUP('5.Substance-in-Process'!N238,DSL!A:H,6,FALSE),\"-\")","v":"-"}]
[null,null,null,null,null,null,null,null,null,null,null,null,null,"","","","","",null,{"$f":"IFERROR(VLOOKUP('5.Substance-in-Process'!N239,DSL!A:H,6,FALSE),\"-\")","v":"-"}]
[null,null,null,null,null,null,null,null,null,null,null,null,null,"","","","","",null,{"$f":"IFERROR(VLOOKUP('5.Substance-in-Process'!N240,DSL!A:H,6,FALSE),\"-\")","v":"-"}]
[null,null,null,null,null,null,null,null,null,null,null,null,null,"","","","","",null,{"$f":"IFERROR(VLOOKUP('5.Substance-in-Process'!N241,DSL!A:H,6,FALSE),\"-\")","v":"-"}]
[null,null,null,null,null,null,null,null,null,null,null,null,null,"","","","","",null,{"$f":"IFERROR(VLOOKUP('5.Substance-in-Process'!N242,DSL!A:H,6,FALSE),\"-\")","v":"-"}]
[null,null,null,null,null,null,null,null,null,null,null,null,null,"","","","","",null,{"$f":"IFERROR(VLOOKUP('5.Substance-in-Process'!N243,DSL!A:H,6,FALSE),\"-\")","v":"-"}]
[null,null,null,null,null,null,null,null,null,null,null,null,null,"","","","","",null,{"$f":"IFERROR(VLOOKUP('5.Substance-in-Process'!N244,DSL!A:H,6,FALSE),\"-\")","v":"-"}]
[null,null,null,null,null,null,null,null,null,null,null,null,null,"","","","","",null,{"$f":"IFERROR(VLOOKUP('5.Substance-in-Process'!N245,DSL!A:H,6,FALSE),\"-\")","v":"-"}]
[null,null,null,null,null,null,null,null,null,null,null,null,null,"","","","","",null,{"$f":"IFERROR(VLOOKUP('5.Substance-in-Process'!N246,DSL!A:H,6,FALSE),\"-\")","v":"-"}]
[null,null,null,null,null,null,null,null,null,null,null,null,null,"","","","","",null,{"$f":"IFERROR(VLOOKUP('5.Substance-in-Process'!N247,DSL!A:H,6,FALSE),\"-\")","v":"-"}]
[null,null,null,null,null,null,null,null,null,null,null,null,null,"","","","","",null,{"$f":"IFERROR(VLOOKUP('5.Substance-in-Process'!N248,DSL!A:H,6,FALSE),\"-\")","v":"-"}]
[null,null,null,null,null,null,null,null,null,null,null,null,null,"","","","","",null,{"$f":"IFERROR(VLOOKUP('5.Substance-in-Process'!N249,DSL!A:H,6,FALSE),\"-\")","v":"-"}]
[null,null,null,null,null,null,null,null,null,null,null,null,null,"","","","","",null,{"$f":"IFERROR(VLOOKUP('5.Substance-in-Process'!N250,DSL!A:H,6,FALSE),\"-\")","v":"-"}]
[null,null,null,null,null,null,null,null,null,null,null,null,null,"","","","","",null,{"$f":"IFERROR(VLOOKUP('5.Substance-in-Process'!N251,DSL!A:H,6,FALSE),\"-\")","v":"-"}]
[null,null,null,null,null,null,null,null,null,null,null,null,null,"","","","","",null,{"$f":"IFERROR(VLOOKUP('5.Substance-in-Process'!N252,DSL!A:H,6,FALSE),\"-\")","v":"-"}]
[null,null,null,null,null,null,null,null,null,null,null,null,null,"","","","","",null,{"$f":"IFERROR(VLOOKUP('5.Substance-in-Process'!N253,DSL!A:H,6,FALSE),\"-\")","v":"-"}]
[null,null,null,null,null,null,null,null,null,null,null,null,null,"","","","","",null,{"$f":"IFERROR(VLOOKUP('5.Substance-in-Process'!N254,DSL!A:H,6,FALSE),\"-\")","v":"-"}]
[null,null,null,null,null,null,null,null,null,null,null,null,null,"","","","","",null,{"$f":"IFERROR(VLOOKUP('5.Substance-in-Process'!N255,DSL!A:H,6,FALSE),\"-\")","v":"-"}]
[null,null,null,null,null,null,null,null,null,null,null,null,null,"","","","","",null,{"$f":"IFERROR(VLOOKUP('5.Substance-in-Process'!N256,DSL!A:H,6,FALSE),\"-\")","v":"-"}]
[null,null,null,null,null,null,null,null,null,null,null,null,null,"","","","","",null,{"$f":"IFERROR(VLOOKUP('5.Substance-in-Process'!N257,DSL!A:H,6,FALSE),\"-\")","v":"-"}]
[null,null,null,null,null,null,null,null,null,null,null,null,null,"","","","","",null,{"$f":"IFERROR(VLOOKUP('5.Substance-in-Process'!N258,DSL!A:H,6,FALSE),\"-\")","v":"-"}]
[null,null,null,null,null,null,null,null,null,null,null,null,null,"","","","","",null,{"$f":"IFERROR(VLOOKUP('5.Substance-in-Process'!N259,DSL!A:H,6,FALSE),\"-\")","v":"-"}]
[null,null,null,null,null,null,null,null,null,null,null,null,null,"","","","","",null,{"$f":"IFERROR(VLOOKUP('5.Substance-in-Process'!N260,DSL!A:H,6,FALSE),\"-\")","v":"-"}]
[null,null,null,null,null,null,null,null,null,null,null,null,null,"","","","","",null,{"$f":"IFERROR(VLOOKUP('5.Substance-in-Process'!N261,DSL!A:H,6,FALSE),\"-\")","v":"-"}]
[null,null,null,null,null,null,null,null,null,null,null,null,null,"","","","","",null,{"$f":"IFERROR(VLOOKUP('5.Substance-in-Process'!N262,DSL!A:H,6,FALSE),\"-\")","v":"-"}]
[null,null,null,null,null,null,null,null,null,null,null,null,null,"","","","","",null,{"$f":"IFERROR(VLOOKUP('5.Substance-in-Process'!N263,DSL!A:H,6,FALSE),\"-\")","v":"-"}]
[null,null,null,null,null,null,null,null,null,null,null,null,null,"","","","","",null,{"$f":"IFERROR(VLOOKUP('5.Substance-in-Process'!N264,DSL!A:H,6,FALSE),\"-\")","v":"-"}]
[null,null,null,null,null,null,null,null,null,null,null,null,null,"","","","","",null,{"$f":"IFERROR(VLOOKUP('5.Substance-in-Process'!N265,DSL!A:H,6,FALSE),\"-\")","v":"-"}]
[null,null,null,null,null,null,null,null,null,null,null,null,null,"","","","","",null,{"$f":"IFERROR(VLOOKUP('5.Substance-in-Process'!N266,DSL!A:H,6,FALSE),\"-\")","v":"-"}]
[null,null,null,null,null,null,null,null,null,null,null,null,null,"","","","","",null,{"$f":"IFERROR(VLOOKUP('5.Substance-in-Process'!N267,DSL!A:H,6,FALSE),\"-\")","v":"-"}]
[null,null,null,null,null,null,null,null,null,null,null,null,null,"","","","","",null,{"$f":"IFERROR(VLOOKUP('5.Substance-in-Process'!N268,DSL!A:H,6,FALSE),\"-\")","v":"-"}]
[null,null,null,null,null,null,null,null,null,null,null,null,null,"","","","","",null,{"$f":"IFERROR(VLOOKUP('5.Substance-in-Process'!N269,DSL!A:H,6,FALSE),\"-\")","v":"-"}]
[null,null,null,null,null,null,null,null,null,null,null,null,null,"","","","","",null,{"$f":"IFERROR(VLOOKUP('5.Substance-in-Process'!N270,DSL!A:H,6,FALSE),\"-\")","v":"-"}]
[null,null,null,null,null,null,null,null,null,null,null,null,null,"","","","","",null,{"$f":"IFERROR(VLOOKUP('5.Substance-in-Process'!N271,DSL!A:H,6,FALSE),\"-\")","v":"-"}]
[null,null,null,null,null,null,null,null,null,null,null,null,null,"","","","","",null,{"$f":"IFERROR(VLOOKUP('5.Substance-in-Process'!N272,DSL!A:H,6,FALSE),\"-\")","v":"-"}]
[null,null,null,null,null,null,null,null,null,null,null,null,null,"","","","","",null,{"$f":"IFERROR(VLOOKUP('5.Substance-in-Process'!N273,DSL!A:H,6,FALSE),\"-\")","v":"-"}]
[null,null,null,null,null,null,null,null,null,null,null,null,null,"","","","","",null,{"$f":"IFERROR(VLOOKUP('5.Substance-in-Process'!N274,DSL!A:H,6,FALSE),\"-\")","v":"-"}]
[null,null,null,null,null,null,null,null,null,null,null,null,null,"","","","","",null,{"$f":"IFERROR(VLOOKUP('5.Substance-in-Process'!N275,DSL!A:H,6,FALSE),\"-\")","v":"-"}]
[null,null,null,null,null,null,null,null,null,null,null,null,null,"","","","","",null,{"$f":"IFERROR(VLOOKUP('5.Substance-in-Process'!N276,DSL!A:H,6,FALSE),\"-\")","v":"-"}]
[null,null,null,null,null,null,null,null,null,null,null,null,null,"","","","","",null,{"$f":"IFERROR(VLOOKUP('5.Substance-in-Process'!N277,DSL!A:H,6,FALSE),\"-\")","v":"-"}]
[null,null,null,null,null,null,null,null,null,null,null,null,null,"","","","","",null,{"$f":"IFERROR(VLOOKUP('5.Substance-in-Process'!N278,DSL!A:H,6,FALSE),\"-\")","v":"-"}]
[null,null,null,null,null,null,null,null,null,null,null,null,null,"","","","","",null,{"$f":"IFERROR(VLOOKUP('5.Substance-in-Process'!N279,DSL!A:H,6,FALSE),\"-\")","v":"-"}]
[null,null,null,null,null,null,null,null,null,null,null,null,null,"","","","","",null,{"$f":"IFERROR(VLOOKUP('5.Substance-in-Process'!N280,DSL!A:H,6,FALSE),\"-\")","v":"-"}]
[null,null,null,null,null,null,null,null,null,null,null,null,null,"","","","","",null,{"$f":"IFERROR(VLOOKUP('5.Substance-in-Process'!N281,DSL!A:H,6,FALSE),\"-\")","v":"-"}]
[null,null,null,null,null,null,null,null,null,null,null,null,null,"","","","","",null,{"$f":"IFERROR(VLOOKUP('5.Substance-in-Process'!N282,DSL!A:H,6,FALSE),\"-\")","v":"-"}]
[null,null,null,null,null,null,null,null,null,null,null,null,null,"","","","","",null,{"$f":"IFERROR(VLOOKUP('5.Substance-in-Process'!N283,DSL!A:H,6,FALSE),\"-\")","v":"-"}]
[null,null,null,null,null,null,null,null,null,null,null,null,null,"","","","","",null,{"$f":"IFERROR(VLOOKUP('5.Substance-in-Process'!N284,DSL!A:H,6,FALSE),\"-\")","v":"-"}]
[null,null,null,null,null,null,null,null,null,null,null,null,null,"","","","","",null,{"$f":"IFERROR(VLOOKUP('5.Substance-in-Process'!N285,DSL!A:H,6,FALSE),\"-\")","v":"-"}]
[null,null,null,null,null,null,null,null,null,null,null,null,null,"","","","","",null,{"$f":"IFERROR(VLOOKUP('5.Substance-in-Process'!N286,DSL!A:H,6,FALSE),\"-\")","v":"-"}]
[null,null,null,null,null,null,null,null,null,null,null,null,null,"","","","","",null,{"$f":"IFERROR(VLOOKUP('5.Substance-in-Process'!N287,DSL!A:H,6,FALSE),\"-\")","v":"-"}]
[null,null,null,null,null,null,null,null,null,null,null,null,null,"","","","","",null,{"$f":"IFERROR(VLOOKUP('5.Substance-in-Process'!N288,DSL!A:H,6,FALSE),\"-\")","v":"-"}]
[null,null,null,null,null,null,null,null,null,null,null,null,null,"","","","","",null,{"$f":"IFERROR(VLOOKUP('5.Substance-in-Process'!N289,DSL!A:H,6,FALSE),\"-\")","v":"-"}]
[null,null,null,null,null,null,null,null,null,null,null,null,null,"","","","","",null,{"$f":"IFERROR(VLOOKUP('5.Substance-in-Process'!N290,DSL!A:H,6,FALSE),\"-\")","v":"-"}]
[null,null,null,null,null,null,null,null,null,null,null,null,null,"","","","","",null,{"$f":"IFERROR(VLOOKUP('5.Substance-in-Process'!N291,DSL!A:H,6,FALSE),\"-\")","v":"-"}]
[null,null,null,null,null,null,null,null,null,null,null,null,null,"","","","","",null,{"$f":"IFERROR(VLOOKUP('5.Substance-in-Process'!N292,DSL!A:H,6,FALSE),\"-\")","v":"-"}]
[null,null,null,null,null,null,null,null,null,null,null,null,null,"","","","","",null,{"$f":"IFERROR(VLOOKUP('5.Substance-in-Process'!N293,DSL!A:H,6,FALSE),\"-\")","v":"-"}]
[null,null,null,null,null,null,null,null,null,null,null,null,null,"","","","","",null,{"$f":"IFERROR(VLOOKUP('5.Substance-in-Process'!N294,DSL!A:H,6,FALSE),\"-\")","v":"-"}]
[null,null,null,null,null,null,null,null,null,null,null,null,null,"","","","","",null,{"$f":"IFERROR(VLOOKUP('5.Substance-in-Process'!N295,DSL!A:H,6,FALSE),\"-\")","v":"-"}]
[null,null,null,null,null,null,null,null,null,null,null,null,null,"","","","","",null,{"$f":"IFERROR(VLOOKUP('5.Substance-in-Process'!N296,DSL!A:H,6,FALSE),\"-\")","v":"-"}]
[null,null,null,null,null,null,null,null,null,null,null,null,null,"","","","","",null,{"$f":"IFERROR(VLOOKUP('5.Substance-in-Process'!N297,DSL!A:H,6,FALSE),\"-\")","v":"-"}]
[null,null,null,null,null,null,null,null,null,null,null,null,null,"","","","","",null,{"$f":"IFERROR(VLOOKUP('5.Substance-in-Process'!N298,DSL!A:H,6,FALSE),\"-\")","v":"-"}]
[null,null,null,null,null,null,null,null,null,null,null,null,null,"","","","","",null,{"$f":"IFERROR(VLOOKUP('5.Substance-in-Process'!N299,DSL!A:H,6,FALSE),\"-\")","v":"-"}]
[null,null,null,null,null,null,null,null,null,null,null,null,null,"","","","","",null,{"$f":"IFERROR(VLOOKUP('5.Substance-in-Process'!N300,DSL!A:H,6,FALSE),\"-\")","v":"-"}]
[null,null,null,null,null,null,null,null,null,null,null,null,null,"","","","","",null,{"$f":"IFERROR(VLOOKUP('5.Substance-in-Process'!N301,DSL!A:H,6,FALSE),\"-\")","v":"-"}]
[null,null,null,null,null,null,null,null,null,null,null,null,null,"","","","","",null,{"$f":"IFERROR(VLOOKUP('5.Substance-in-Process'!N302,DSL!A:H,6,FALSE),\"-\")","v":"-"}]
[null,null,null,null,null,null,null,null,null,null,null,null,null,"","","","","",null,{"$f":"IFERROR(VLOOKUP('5.Substance-in-Process'!N303,DSL!A:H,6,FALSE),\"-\")","v":"-"}]
[null,null,null,null,null,null,null,null,null,null,null,null,null,"","","","","",null,{"$f":"IFERROR(VLOOKUP('5.Substance-in-Process'!N304,DSL!A:H,6,FALSE),\"-\")","v":"-"}]
[null,null,null,null,null,null,null,null,null,null,null,null,null,"","","","","",null,{"$f":"IFERROR(VLOOKUP('5.Substance-in-Process'!N305,DSL!A:H,6,FALSE),\"-\")","v":"-"}]
[null,null,null,null,null,null,null,null,null,null,null,null,null,"","","","","",null,{"$f":"IFERROR(VLOOKUP('5.Substance-in-Process'!N306,DSL!A:H,6,FALSE),\"-\")","v":"-"}]
[null,null,null,null,null,null,null,null,null,null,null,null,null,"","","","","",null,{"$f":"IFERROR(VLOOKUP('5.Substance-in-Process'!N307,DSL!A:H,6,FALSE),\"-\")","v":"-"}]
[null,null,null,null,null,null,null,null,null,null,null,null,null,"","","","","",null,{"$f":"IFERROR(VLOOKUP('5.Substance-in-Process'!N308,DSL!A:H,6,FALSE),\"-\")","v":"-"}]
[null,null,null,null,null,null,null,null,null,null,null,null,null,"","","","","",null,{"$f":"IFERROR(VLOOKUP('5.Substance-in-Process'!N309,DSL!A:H,6,FALSE),\"-\")","v":"-"}]
[null,null,null,null,null,null,null,null,null,null,null,null,null,"","","","","",null,{"$f":"IFERROR(VLOOKUP('5.Substance-in-Process'!N310,DSL!A:H,6,FALSE),\"-\")","v":"-"}]
[null,null,null,null,null,null,null,null,null,null,null,null,null,"","","","","",null,{"$f":"IFERROR(VLOOKUP('5.Substance-in-Process'!N311,DSL!A:H,6,FALSE),\"-\")","v":"-"}]
[null,null,null,null,null,null,null,null,null,null,null,null,null,"","","","","",null,{"$f":"IFERROR(VLOOKUP('5.Substance-in-Process'!N312,DSL!A:H,6,FALSE),\"-\")","v":"-"}]
[null,null,null,null,null,null,null,null,null,null,null,null,null,"","","","","",null,{"$f":"IFERROR(VLOOKUP('5.Substance-in-Process'!N313,DSL!A:H,6,FALSE),\"-\")","v":"-"}]
[null,null,null,null,null,null,null,null,null,null,null,null,null,"","","","","",null,{"$f":"IFERROR(VLOOKUP('5.Substance-in-Process'!N314,DSL!A:H,6,FALSE),\"-\")","v":"-"}]
[null,null,null,null,null,null,null,null,null,null,null,null,null,"","","","","",null,{"$f":"IFERROR(VLOOKUP('5.Substance-in-Process'!N315,DSL!A:H,6,FALSE),\"-\")","v":"-"}]
[null,null,null,null,null,null,null,null,null,null,null,null,null,"","","","","",null,{"$f":"IFERROR(VLOOKUP('5.Substance-in-Process'!N316,DSL!A:H,6,FALSE),\"-\")","v":"-"}]
[null,null,null,null,null,null,null,null,null,null,null,null,null,"","","","","",null,{"$f":"IFERROR(VLOOKUP('5.Substance-in-Process'!N317,DSL!A:H,6,FALSE),\"-\")","v":"-"}]
[null,null,null,null,null,null,null,null,null,null,null,null,null,"","","","","",null,{"$f":"IFERROR(VLOOKUP('5.Substance-in-Process'!N318,DSL!A:H,6,FALSE),\"-\")","v":"-"}]
[null,null,null,null,null,null,null,null,null,null,null,null,null,"","","","","",null,{"$f":"IFERROR(VLOOKUP('5.Substance-in-Process'!N319,DSL!A:H,6,FALSE),\"-\")","v":"-"}]
[null,null,null,null,null,null,null,null,null,null,null,null,null,"","","","","",null,{"$f":"IFERROR(VLOOKUP('5.Substance-in-Process'!N320,DSL!A:H,6,FALSE),\"-\")","v":"-"}]
[null,null,null,null,null,null,null,null,null,null,null,null,null,"","","","","",null,{"$f":"IFERROR(VLOOKUP('5.Substance-in-Process'!N321,DSL!A:H,6,FALSE),\"-\")","v":"-"}]
[null,null,null,null,null,null,null,null,null,null,null,null,null,"","","","","",null,{"$f":"IFERROR(VLOOKUP('5.Substance-in-Process'!N322,DSL!A:H,6,FALSE),\"-\")","v":"-"}]
[null,null,null,null,null,null,null,null,null,null,null,null,null,"","","","","",null,{"$f":"IFERROR(VLOOKUP('5.Substance-in-Process'!N323,DSL!A:H,6,FALSE),\"-\")","v":"-"}]
[null,null,null,null,null,null,null,null,null,null,null,null,null,"","","","","",null,{"$f":"IFERROR(VLOOKUP('5.Substance-in-Process'!N324,DSL!A:H,6,FALSE),\"-\")","v":"-"}]
[null,null,null,null,null,null,null,null,null,null,null,null,null,"","","","","",null,{"$f":"IFERROR(VLOOKUP('5.Substance-in-Process'!N325,DSL!A:H,6,FALSE),\"-\")","v":"-"}]
[null,null,null,null,null,null,null,null,null,null,null,null,null,"","","","","",null,{"$f":"IFERROR(VLOOKUP('5.Substance-in-Process'!N326,DSL!A:H,6,FALSE),\"-\")","v":"-"}]
[null,null,null,null,null,null,null,null,null,null,null,null,null,"","","","","",null,{"$f":"IFERROR(VLOOKUP('5.Substance-in-Process'!N327,DSL!A:H,6,FALSE),\"-\")","v":"-"}]
[null,null,null,null,null,null,null,null,null,null,null,null,null,"","","","","",null,{"$f":"IFERROR(VLOOKUP('5.Substance-in-Process'!N328,DSL!A:H,6,FALSE),\"-\")","v":"-"}]
[null,null,null,null,null,null,null,null,null,null,null,null,null,"","","","","",null,{"$f":"IFERROR(VLOOKUP('5.Substance-in-Process'!N329,DSL!A:H,6,FALSE),\"-\")","v":"-"}]
[null,null,null,null,null,null,null,null,null,null,null,null,null,"","","","","",null,{"$f":"IFERROR(VLOOKUP('5.Substance-in-Process'!N330,DSL!A:H,6,FALSE),\"-\")","v":"-"}]
[null,null,null,null,null,null,null,null,null,null,null,null,null,"","","","","",null,{"$f":"IFERROR(VLOOKUP('5.Substance-in-Process'!N331,DSL!A:H,6,FALSE),\"-\")","v":"-"}]
[null,null,null,null,null,null,null,null,null,null,null,null,null,"","","","","",null,{"$f":"IFERROR(VLOOKUP('5.Substance-in-Process'!N332,DSL!A:H,6,FALSE),\"-\")","v":"-"}]
[null,null,null,null,null,null,null,null,null,null,null,null,null,"","","","","",null,{"$f":"IFERROR(VLOOKUP('5.Substance-in-Process'!N333,DSL!A:H,6,FALSE),\"-\")","v":"-"}]
[null,null,null,null,null,null,null,null,null,null,null,null,null,"","","","","",null,{"$f":"IFERROR(VLOOKUP('5.Substance-in-Process'!N334,DSL!A:H,6,FALSE),\"-\")","v":"-"}]
[null,null,null,null,null,null,null,null,null,null,null,null,null,"","","","","",null,{"$f":"IFERROR(VLOOKUP('5.Substance-in-Process'!N335,DSL!A:H,6,FALSE),\"-\")","v":"-"}]
[null,null,null,null,null,null,null,null,null,null,null,null,null,"","","","","",null,{"$f":"IFERROR(VLOOKUP('5.Substance-in-Process'!N336,DSL!A:H,6,FALSE),\"-\")","v":"-"}]
[null,null,null,null,null,null,null,null,null,null,null,null,null,"","","","","",null,{"$f":"IFERROR(VLOOKUP('5.Substance-in-Process'!N337,DSL!A:H,6,FALSE),\"-\")","v":"-"}]
[null,null,null,null,null,null,null,null,null,null,null,null,null,"","","","","",null,{"$f":"IFERROR(VLOOKUP('5.Substance-in-Process'!N338,DSL!A:H,6,FALSE),\"-\")","v":"-"}]
[null,null,null,null,null,null,null,null,null,null,null,null,null,"","","","","",null,{"$f":"IFERROR(VLOOKUP('5.Substance-in-Process'!N339,DSL!A:H,6,FALSE),\"-\")","v":"-"}]
[null,null,null,null,null,null,null,null,null,null,null,null,null,"","","","","",null,{"$f":"IFERROR(VLOOKUP('5.Substance-in-Process'!N340,DSL!A:H,6,FALSE),\"-\")","v":"-"}]
[null,null,null,null,null,null,null,null,null,null,null,null,null,"","","","","",null,{"$f":"IFERROR(VLOOKUP('5.Substance-in-Process'!N341,DSL!A:H,6,FALSE),\"-\")","v":"-"}]
[null,null,null,null,null,null,null,null,null,null,null,null,null,"","","","","",null,{"$f":"IFERROR(VLOOKUP('5.Substance-in-Process'!N342,DSL!A:H,6,FALSE),\"-\")","v":"-"}]
[null,null,null,null,null,null,null,null,null,null,null,null,null,"","","","","",null,{"$f":"IFERROR(VLOOKUP('5.Substance-in-Process'!N343,DSL!A:H,6,FALSE),\"-\")","v":"-"}]
[null,null,null,null,null,null,null,null,null,null,null,null,null,"","","","","",null,{"$f":"IFERROR(VLOOKUP('5.Substance-in-Process'!N344,DSL!A:H,6,FALSE),\"-\")","v":"-"}]
[null,null,null,null,null,null,null,null,null,null,null,null,null,"","","","","",null,{"$f":"IFERROR(VLOOKUP('5.Substance-in-Process'!N345,DSL!A:H,6,FALSE),\"-\")","v":"-"}]
[null,null,null,null,null,null,null,null,null,null,null,null,null,"","","","","",null,{"$f":"IFERROR(VLOOKUP('5.Substance-in-Process'!N346,DSL!A:H,6,FALSE),\"-\")","v":"-"}]
[null,null,null,null,null,null,null,null,null,null,null,null,null,"","","","","",null,{"$f":"IFERROR(VLOOKUP('5.Substance-in-Process'!N347,DSL!A:H,6,FALSE),\"-\")","v":"-"}]
[null,null,null,null,null,null,null,null,null,null,null,null,null,"","","","","",null,{"$f":"IFERROR(VLOOKUP('5.Substance-in-Process'!N348,DSL!A:H,6,FALSE),\"-\")","v":"-"}]
[null,null,null,null,null,null,null,null,null,null,null,null,null,"","","","","",null,{"$f":"IFERROR(VLOOKUP('5.Substance-in-Process'!N349,DSL!A:H,6,FALSE),\"-\")","v":"-"}]
[null,null,null,null,null,null,null,null,null,null,null,null,null,"","","","","",null,{"$f":"IFERROR(VLOOKUP('5.Substance-in-Process'!N350,DSL!A:H,6,FALSE),\"-\")","v":"-"}]
[null,null,null,null,null,null,null,null,null,null,null,null,null,"","","","","",null,{"$f":"IFERROR(VLOOKUP('5.Substance-in-Process'!N351,DSL!A:H,6,FALSE),\"-\")","v":"-"}]
[null,null,null,null,null,null,null,null,null,null,null,null,null,"","","","","",null,{"$f":"IFERROR(VLOOKUP('5.Substance-in-Process'!N352,DSL!A:H,6,FALSE),\"-\")","v":"-"}]
[null,null,null,null,null,null,null,null,null,null,null,null,null,"","","","","",null,{"$f":"IFERROR(VLOOKUP('5.Substance-in-Process'!N353,DSL!A:H,6,FALSE),\"-\")","v":"-"}]
[null,null,null,null,null,null,null,null,null,null,null,null,null,"","","","","",null,{"$f":"IFERROR(VLOOKUP('5.Substance-in-Process'!N354,DSL!A:H,6,FALSE),\"-\")","v":"-"}]
[null,null,null,null,null,null,null,null,null,null,null,null,null,"","","","","",null,{"$f":"IFERROR(VLOOKUP('5.Substance-in-Process'!N355,DSL!A:H,6,FALSE),\"-\")","v":"-"}]
[null,null,null,null,null,null,null,null,null,null,null,null,null,"","","","","",null,{"$f":"IFERROR(VLOOKUP('5.Substance-in-Process'!N356,DSL!A:H,6,FALSE),\"-\")","v":"-"}]
[null,null,null,null,null,null,null,null,null,null,null,null,null,"","","","","",null,{"$f":"IFERROR(VLOOKUP('5.Substance-in-Process'!N357,DSL!A:H,6,FALSE),\"-\")","v":"-"}]
[null,null,null,null,null,null,null,null,null,null,null,null,null,"","","","","",null,{"$f":"IFERROR(VLOOKUP('5.Substance-in-Process'!N358,DSL!A:H,6,FALSE),\"-\")","v":"-"}]
[null,null,null,null,null,null,null,null,null,null,null,null,null,"","","","","",null,{"$f":"IFERROR(VLOOKUP('5.Substance-in-Process'!N359,DSL!A:H,6,FALSE),\"-\")","v":"-"}]
[null,null,null,null,null,null,null,null,null,null,null,null,null,"","","","","",null,{"$f":"IFERROR(VLOOKUP('5.Substance-in-Process'!N360,DSL!A:H,6,FALSE),\"-\")","v":"-"}]
[null,null,null,null,null,null,null,null,null,null,null,null,null,"","","","","",null,{"$f":"IFERROR(VLOOKUP('5.Substance-in-Process'!N361,DSL!A:H,6,FALSE),\"-\")","v":"-"}]
[null,null,null,null,null,null,null,null,null,null,null,null,null,"","","","","",null,{"$f":"IFERROR(VLOOKUP('5.Substance-in-Process'!N362,DSL!A:H,6,FALSE),\"-\")","v":"-"}]
[null,null,null,null,null,null,null,null,null,null,null,null,null,"","","","","",null,{"$f":"IFERROR(VLOOKUP('5.Substance-in-Process'!N363,DSL!A:H,6,FALSE),\"-\")","v":"-"}]
[null,null,null,null,null,null,null,null,null,null,null,null,null,"","","","","",null,{"$f":"IFERROR(VLOOKUP('5.Substance-in-Process'!N364,DSL!A:H,6,FALSE),\"-\")","v":"-"}]
[null,null,null,null,null,null,null,null,null,null,null,null,null,"","","","","",null,{"$f":"IFERROR(VLOOKUP('5.Substance-in-Process'!N365,DSL!A:H,6,FALSE),\"-\")","v":"-"}]
[null,null,null,null,null,null,null,null,null,null,null,null,null,"","","","","",null,{"$f":"IFERROR(VLOOKUP('5.Substance-in-Process'!N366,DSL!A:H,6,FALSE),\"-\")","v":"-"}]
[null,null,null,null,null,null,null,null,null,null,null,null,null,"","","","","",null,{"$f":"IFERROR(VLOOKUP('5.Substance-in-Process'!N367,DSL!A:H,6,FALSE),\"-\")","v":"-"}]
[null,null,null,null,null,null,null,null,null,null,null,null,null,"","","","","",null,{"$f":"IFERROR(VLOOKUP('5.Substance-in-Process'!N368,DSL!A:H,6,FALSE),\"-\")","v":"-"}]
[null,null,null,null,null,null,null,null,null,null,null,null,null,"","","","","",null,{"$f":"IFERROR(VLOOKUP('5.Substance-in-Process'!N369,DSL!A:H,6,FALSE),\"-\")","v":"-"}]
[null,null,null,null,null,null,null,null,null,null,null,null,null,"","","","","",null,{"$f":"IFERROR(VLOOKUP('5.Substance-in-Process'!N370,DSL!A:H,6,FALSE),\"-\")","v":"-"}]
[null,null,null,null,null,null,null,null,null,null,null,null,null,"","","","","",null,{"$f":"IFERROR(VLOOKUP('5.Substance-in-Process'!N371,DSL!A:H,6,FALSE),\"-\")","v":"-"}]
[null,null,null,null,null,null,null,null,null,null,null,null,null,"","","","","",null,{"$f":"IFERROR(VLOOKUP('5.Substance-in-Process'!N372,DSL!A:H,6,FALSE),\"-\")","v":"-"}]
[null,null,null,null,null,null,null,null,null,null,null,null,null,"","","","","",null,{"$f":"IFERROR(VLOOKUP('5.Substance-in-Process'!N373,DSL!A:H,6,FALSE),\"-\")","v":"-"}]
[null,null,null,null,null,null,null,null,null,null,null,null,null,"","","","","",null,{"$f":"IFERROR(VLOOKUP('5.Substance-in-Process'!N374,DSL!A:H,6,FALSE),\"-\")","v":"-"}]
[null,null,null,null,null,null,null,null,null,null,null,null,null,"","","","","",null,{"$f":"IFERROR(VLOOKUP('5.Substance-in-Process'!N375,DSL!A:H,6,FALSE),\"-\")","v":"-"}]
[null,null,null,null,null,null,null,null,null,null,null,null,null,"","","","","",null,{"$f":"IFERROR(VLOOKUP('5.Substance-in-Process'!N376,DSL!A:H,6,FALSE),\"-\")","v":"-"}]
[null,null,null,null,null,null,null,null,null,null,null,null,null,"","","","","",null,{"$f":"IFERROR(VLOOKUP('5.Substance-in-Process'!N377,DSL!A:H,6,FALSE),\"-\")","v":"-"}]
[null,null,null,null,null,null,null,null,null,null,null,null,null,"","","","","",null,{"$f":"IFERROR(VLOOKUP('5.Substance-in-Process'!N378,DSL!A:H,6,FALSE),\"-\")","v":"-"}]
[null,null,null,null,null,null,null,null,null,null,null,null,null,"","","","","",null,{"$f":"IFERROR(VLOOKUP('5.Substance-in-Process'!N379,DSL!A:H,6,FALSE),\"-\")","v":"-"}]
[null,null,null,null,null,null,null,null,null,null,null,null,null,"","","","","",null,{"$f":"IFERROR(VLOOKUP('5.Substance-in-Process'!N380,DSL!A:H,6,FALSE),\"-\")","v":"-"}]
[null,null,null,null,null,null,null,null,null,null,null,null,null,"","","","","",null,{"$f":"IFERROR(VLOOKUP('5.Substance-in-Process'!N381,DSL!A:H,6,FALSE),\"-\")","v":"-"}]
[null,null,null,null,null,null,null,null,null,null,null,null,null,"","","","","",null,{"$f":"IFERROR(VLOOKUP('5.Substance-in-Process'!N382,DSL!A:H,6,FALSE),\"-\")","v":"-"}]
[null,null,null,null,null,null,null,null,null,null,null,null,null,"","","","","",null,{"$f":"IFERROR(VLOOKUP('5.Substance-in-Process'!N383,DSL!A:H,6,FALSE),\"-\")","v":"-"}]
[null,null,null,null,null,null,null,null,null,null,null,null,null,"","","","","",null,{"$f":"IFERROR(VLOOKUP('5.Substance-in-Process'!N384,DSL!A:H,6,FALSE),\"-\")","v":"-"}]
[null,null,null,null,null,null,null,null,null,null,null,null,null,"","","","","",null,{"$f":"IFERROR(VLOOKUP('5.Substance-in-Process'!N385,DSL!A:H,6,FALSE),\"-\")","v":"-"}]
[null,null,null,null,null,null,null,null,null,null,null,null,null,"","","","","",null,{"$f":"IFERROR(VLOOKUP('5.Substance-in-Process'!N386,DSL!A:H,6,FALSE),\"-\")","v":"-"}]
[null,null,null,null,null,null,null,null,null,null,null,null,null,"","","","","",null,{"$f":"IFERROR(VLOOKUP('5.Substance-in-Process'!N387,DSL!A:H,6,FALSE),\"-\")","v":"-"}]
[null,null,null,null,null,null,null,null,null,null,null,null,null,"","","","","",null,{"$f":"IFERROR(VLOOKUP('5.Substance-in-Process'!N388,DSL!A:H,6,FALSE),\"-\")","v":"-"}]
[null,null,null,null,null,null,null,null,null,null,null,null,null,"","","","","",null,{"$f":"IFERROR(VLOOKUP('5.Substance-in-Process'!N389,DSL!A:H,6,FALSE),\"-\")","v":"-"}]
[null,null,null,null,null,null,null,null,null,null,null,null,null,"","","","","",null,{"$f":"IFERROR(VLOOKUP('5.Substance-in-Process'!N390,DSL!A:H,6,FALSE),\"-\")","v":"-"}]
[null,null,null,null,null,null,null,null,null,null,null,null,null,"","","","","",null,{"$f":"IFERROR(VLOOKUP('5.Substance-in-Process'!N391,DSL!A:H,6,FALSE),\"-\")","v":"-"}]
[null,null,null,null,null,null,null,null,null,null,null,null,null,"","","","","",null,{"$f":"IFERROR(VLOOKUP('5.Substance-in-Process'!N392,DSL!A:H,6,FALSE),\"-\")","v":"-"}]
[null,null,null,null,null,null,null,null,null,null,null,null,null,"","","","","",null,{"$f":"IFERROR(VLOOKUP('5.Substance-in-Process'!N393,DSL!A:H,6,FALSE),\"-\")","v":"-"}]
[null,null,null,null,null,null,null,null,null,null,null,null,null,"","","","","",null,{"$f":"IFERROR(VLOOKUP('5.Substance-in-Process'!N394,DSL!A:H,6,FALSE),\"-\")","v":"-"}]
[null,null,null,null,null,null,null,null,null,null,null,null,null,"","","","","",null,{"$f":"IFERROR(VLOOKUP('5.Substance-in-Process'!N395,DSL!A:H,6,FALSE),\"-\")","v":"-"}]
[null,null,null,null,null,null,null,null,null,null,null,null,null,"","","","","",null,{"$f":"IFERROR(VLOOKUP('5.Substance-in-Process'!N396,DSL!A:H,6,FALSE),\"-\")","v":"-"}]
[null,null,null,null,null,null,null,null,null,null,null,null,null,"","","","","",null,{"$f":"IFERROR(VLOOKUP('5.Substance-in-Process'!N397,DSL!A:H,6,FALSE),\"-\")","v":"-"}]
[null,null,null,null,null,null,null,null,null,null,null,null,null,"","","","","",null,{"$f":"IFERROR(VLOOKUP('5.Substance-in-Process'!N398,DSL!A:H,6,FALSE),\"-\")","v":"-"}]
[null,null,null,null,null,null,null,null,null,null,null,null,null,"","","","","",null,{"$f":"IFERROR(VLOOKUP('5.Substance-in-Process'!N399,DSL!A:H,6,FALSE),\"-\")","v":"-"}]
[null,null,null,null,null,null,null,null,null,null,null,null,null,"","","","","",null,{"$f":"IFERROR(VLOOKUP('5.Substance-in-Process'!N400,DSL!A:H,6,FALSE),\"-\")","v":"-"}]
[null,null,null,null,null,null,null,null,null,null,null,null,null,"","","","","",null,{"$f":"IFERROR(VLOOKUP('5.Substance-in-Process'!N401,DSL!A:H,6,FALSE),\"-\")","v":"-"}]
[null,null,null,null,null,null,null,null,null,null,null,null,null,"","","","","",null,{"$f":"IFERROR(VLOOKUP('5.Substance-in-Process'!N402,DSL!A:H,6,FALSE),\"-\")","v":"-"}]
[null,null,null,null,null,null,null,null,null,null,null,null,null,"","","","","",null,{"$f":"IFERROR(VLOOKUP('5.Substance-in-Process'!N403,DSL!A:H,6,FALSE),\"-\")","v":"-"}]
[null,null,null,null,null,null,null,null,null,null,null,null,null,"","","","","",null,{"$f":"IFERROR(VLOOKUP('5.Substance-in-Process'!N404,DSL!A:H,6,FALSE),\"-\")","v":"-"}]
[null,null,null,null,null,null,null,null,null,null,null,null,null,"","","","","",null,{"$f":"IFERROR(VLOOKUP('5.Substance-in-Process'!N405,DSL!A:H,6,FALSE),\"-\")","v":"-"}]
[null,null,null,null,null,null,null,null,null,null,null,null,null,"","","","","",null,{"$f":"IFERROR(VLOOKUP('5.Substance-in-Process'!N406,DSL!A:H,6,FALSE),\"-\")","v":"-"}]
[null,null,null,null,null,null,null,null,null,null,null,null,null,"","","","","",null,{"$f":"IFERROR(VLOOKUP('5.Substance-in-Process'!N407,DSL!A:H,6,FALSE),\"-\")","v":"-"}]
[null,null,null,null,null,null,null,null,null,null,null,null,null,"","","","","",null,{"$f":"IFERROR(VLOOKUP('5.Substance-in-Process'!N408,DSL!A:H,6,FALSE),\"-\")","v":"-"}]
[null,null,null,null,null,null,null,null,null,null,null,null,null,"","","","","",null,{"$f":"IFERROR(VLOOKUP('5.Substance-in-Process'!N409,DSL!A:H,6,FALSE),\"-\")","v":"-"}]
[null,null,null,null,null,null,null,null,null,null,null,null,null,"","","","","",null,{"$f":"IFERROR(VLOOKUP('5.Substance-in-Process'!N410,DSL!A:H,6,FALSE),\"-\")","v":"-"}]
[null,null,null,null,null,null,null,null,null,null,null,null,null,"","","","","",null,{"$f":"IFERROR(VLOOKUP('5.Substance-in-Process'!N411,DSL!A:H,6,FALSE),\"-\")","v":"-"}]
[null,null,null,null,null,null,null,null,null,null,null,null,null,"","","","","",null,{"$f":"IFERROR(VLOOKUP('5.Substance-in-Process'!N412,DSL!A:H,6,FALSE),\"-\")","v":"-"}]
[null,null,null,null,null,null,null,null,null,null,null,null,null,"","","","","",null,{"$f":"IFERROR(VLOOKUP('5.Substance-in-Process'!N413,DSL!A:H,6,FALSE),\"-\")","v":"-"}]
[null,null,null,null,null,null,null,null,null,null,null,null,null,"","","","","",null,{"$f":"IFERROR(VLOOKUP('5.Substance-in-Process'!N414,DSL!A:H,6,FALSE),\"-\")","v":"-"}]
[null,null,null,null,null,null,null,null,null,null,null,null,null,"","","","","",null,{"$f":"IFERROR(VLOOKUP('5.Substance-in-Process'!N415,DSL!A:H,6,FALSE),\"-\")","v":"-"}]
[null,null,null,null,null,null,null,null,null,null,null,null,null,"","","","","",null,{"$f":"IFERROR(VLOOKUP('5.Substance-in-Process'!N416,DSL!A:H,6,FALSE),\"-\")","v":"-"}]
[null,null,null,null,null,null,null,null,null,null,null,null,null,"","","","","",null,{"$f":"IFERROR(VLOOKUP('5.Substance-in-Process'!N417,DSL!A:H,6,FALSE),\"-\")","v":"-"}]
[null,null,null,null,null,null,null,null,null,null,null,null,null,"","","","","",null,{"$f":"IFERROR(VLOOKUP('5.Substance-in-Process'!N418,DSL!A:H,6,FALSE),\"-\")","v":"-"}]
[null,null,null,null,null,null,null,null,null,null,null,null,null,"","","","","",null,{"$f":"IFERROR(VLOOKUP('5.Substance-in-Process'!N419,DSL!A:H,6,FALSE),\"-\")","v":"-"}]
[null,null,null,null,null,null,null,null,null,null,null,null,null,"","","","","",null,{"$f":"IFERROR(VLOOKUP('5.Substance-in-Process'!N420,DSL!A:H,6,FALSE),\"-\")","v":"-"}]
[null,null,null,null,null,null,null,null,null,null,null,null,null,"","","","","",null,{"$f":"IFERROR(VLOOKUP('5.Substance-in-Process'!N421,DSL!A:H,6,FALSE),\"-\")","v":"-"}]
[null,null,null,null,null,null,null,null,null,null,null,null,null,"","","","","",null,{"$f":"IFERROR(VLOOKUP('5.Substance-in-Process'!N422,DSL!A:H,6,FALSE),\"-\")","v":"-"}]
[null,null,null,null,null,null,null,null,null,null,null,null,null,"","","","","",null,{"$f":"IFERROR(VLOOKUP('5.Substance-in-Process'!N423,DSL!A:H,6,FALSE),\"-\")","v":"-"}]
[null,null,null,null,null,null,null,null,null,null,null,null,null,"","","","","",null,{"$f":"IFERROR(VLOOKUP('5.Substance-in-Process'!N424,DSL!A:H,6,FALSE),\"-\")","v":"-"}]
[null,null,null,null,null,null,null,null,null,null,null,null,null,"","","","","",null,{"$f":"IFERROR(VLOOKUP('5.Substance-in-Process'!N425,DSL!A:H,6,FALSE),\"-\")","v":"-"}]
[null,null,null,null,null,null,null,null,null,null,null,null,null,"","","","","",null,{"$f":"IFERROR(VLOOKUP('5.Substance-in-Process'!N426,DSL!A:H,6,FALSE),\"-\")","v":"-"}]
[null,null,null,null,null,null,null,null,null,null,null,null,null,"","","","","",null,{"$f":"IFERROR(VLOOKUP('5.Substance-in-Process'!N427,DSL!A:H,6,FALSE),\"-\")","v":"-"}]
[null,null,null,null,null,null,null,null,null,null,null,null,null,"","","","","",null,{"$f":"IFERROR(VLOOKUP('5.Substance-in-Process'!N428,DSL!A:H,6,FALSE),\"-\")","v":"-"}]
[null,null,null,null,null,null,null,null,null,null,null,null,null,"","","","","",null,{"$f":"IFERROR(VLOOKUP('5.Substance-in-Process'!N429,DSL!A:H,6,FALSE),\"-\")","v":"-"}]
[null,null,null,null,null,null,null,null,null,null,null,null,null,"","","","","",null,{"$f":"IFERROR(VLOOKUP('5.Substance-in-Process'!N430,DSL!A:H,6,FALSE),\"-\")","v":"-"}]
[null,null,null,null,null,null,null,null,null,null,null,null,null,"","","","","",null,{"$f":"IFERROR(VLOOKUP('5.Substance-in-Process'!N431,DSL!A:H,6,FALSE),\"-\")","v":"-"}]
[null,null,null,null,null,null,null,null,null,null,null,null,null,"","","","","",null,{"$f":"IFERROR(VLOOKUP('5.Substance-in-Process'!N432,DSL!A:H,6,FALSE),\"-\")","v":"-"}]
[null,null,null,null,null,null,null,null,null,null,null,null,null,"","","","","",null,{"$f":"IFERROR(VLOOKUP('5.Substance-in-Process'!N433,DSL!A:H,6,FALSE),\"-\")","v":"-"}]
[null,null,null,null,null,null,null,null,null,null,null,null,null,"","","","","",null,{"$f":"IFERROR(VLOOKUP('5.Substance-in-Process'!N434,DSL!A:H,6,FALSE),\"-\")","v":"-"}]
[null,null,null,null,null,null,null,null,null,null,null,null,null,"","","","","",null,{"$f":"IFERROR(VLOOKUP('5.Substance-in-Process'!N435,DSL!A:H,6,FALSE),\"-\")","v":"-"}]
[null,null,null,null,null,null,null,null,null,null,null,null,null,"","","","","",null,{"$f":"IFERROR(VLOOKUP('5.Substance-in-Process'!N436,DSL!A:H,6,FALSE),\"-\")","v":"-"}]
[null,null,null,null,null,null,null,null,null,null,null,null,null,"","","","","",null,{"$f":"IFERROR(VLOOKUP('5.Substance-in-Process'!N437,DSL!A:H,6,FALSE),\"-\")","v":"-"}]
[null,null,null,null,null,null,null,null,null,null,null,null,null,"","","","","",null,{"$f":"IFERROR(VLOOKUP('5.Substance-in-Process'!N438,DSL!A:H,6,FALSE),\"-\")","v":"-"}]
[null,null,null,null,null,null,null,null,null,null,null,null,null,"","","","","",null,{"$f":"IFERROR(VLOOKUP('5.Substance-in-Process'!N439,DSL!A:H,6,FALSE),\"-\")","v":"-"}]
[null,null,null,null,null,null,null,null,null,null,null,null,null,"","","","","",null,{"$f":"IFERROR(VLOOKUP('5.Substance-in-Process'!N440,DSL!A:H,6,FALSE),\"-\")","v":"-"}]
[null,null,null,null,null,null,null,null,null,null,null,null,null,"","","","","",null,{"$f":"IFERROR(VLOOKUP('5.Substance-in-Process'!N441,DSL!A:H,6,FALSE),\"-\")","v":"-"}]
[null,null,null,null,null,null,null,null,null,null,null,null,null,"","","","","",null,{"$f":"IFERROR(VLOOKUP('5.Substance-in-Process'!N442,DSL!A:H,6,FALSE),\"-\")","v":"-"}]
[null,null,null,null,null,null,null,null,null,null,null,null,null,"","","","","",null,{"$f":"IFERROR(VLOOKUP('5.Substance-in-Process'!N443,DSL!A:H,6,FALSE),\"-\")","v":"-"}]
[null,null,null,null,null,null,null,null,null,null,null,null,null,"","","","","",null,{"$f":"IFERROR(VLOOKUP('5.Substance-in-Process'!N444,DSL!A:H,6,FALSE),\"-\")","v":"-"}]
[null,null,null,null,null,null,null,null,null,null,null,null,null,"","","","","",null,{"$f":"IFERROR(VLOOKUP('5.Substance-in-Process'!N445,DSL!A:H,6,FALSE),\"-\")","v":"-"}]
[null,null,null,null,null,null,null,null,null,null,null,null,null,"","","","","",null,{"$f":"IFERROR(VLOOKUP('5.Substance-in-Process'!N446,DSL!A:H,6,FALSE),\"-\")","v":"-"}]
[null,null,null,null,null,null,null,null,null,null,null,null,null,"","","","","",null,{"$f":"IFERROR(VLOOKUP('5.Substance-in-Process'!N447,DSL!A:H,6,FALSE),\"-\")","v":"-"}]
[null,null,null,null,null,null,null,null,null,null,null,null,null,"","","","","",null,{"$f":"IFERROR(VLOOKUP('5.Substance-in-Process'!N448,DSL!A:H,6,FALSE),\"-\")","v":"-"}]
[null,null,null,null,null,null,null,null,null,null,null,null,null,"","","","","",null,{"$f":"IFERROR(VLOOKUP('5.Substance-in-Process'!N449,DSL!A:H,6,FALSE),\"-\")","v":"-"}]
[null,null,null,null,null,null,null,null,null,null,null,null,null,"","","","","",null,{"$f":"IFERROR(VLOOKUP('5.Substance-in-Process'!N450,DSL!A:H,6,FALSE),\"-\")","v":"-"}]
[null,null,null,null,null,null,null,null,null,null,null,null,null,"","","","","",null,{"$f":"IFERROR(VLOOKUP('5.Substance-in-Process'!N451,DSL!A:H,6,FALSE),\"-\")","v":"-"}]
[null,null,null,null,null,null,null,null,null,null,null,null,null,"","","","","",null,{"$f":"IFERROR(VLOOKUP('5.Substance-in-Process'!N452,DSL!A:H,6,FALSE),\"-\")","v":"-"}]
[null,null,null,null,null,null,null,null,null,null,null,null,null,"","","","","",null,{"$f":"IFERROR(VLOOKUP('5.Substance-in-Process'!N453,DSL!A:H,6,FALSE),\"-\")","v":"-"}]
[null,null,null,null,null,null,null,null,null,null,null,null,null,"","","","","",null,{"$f":"IFERROR(VLOOKUP('5.Substance-in-Process'!N454,DSL!A:H,6,FALSE),\"-\")","v":"-"}]
[null,null,null,null,null,null,null,null,null,null,null,null,null,"","","","","",null,{"$f":"IFERROR(VLOOKUP('5.Substance-in-Process'!N455,DSL!A:H,6,FALSE),\"-\")","v":"-"}]
[null,null,null,null,null,null,null,null,null,null,null,null,null,"","","","","",null,{"$f":"IFERROR(VLOOKUP('5.Substance-in-Process'!N456,DSL!A:H,6,FALSE),\"-\")","v":"-"}]
[null,null,null,null,null,null,null,null,null,null,null,null,null,"","","","","",null,{"$f":"IFERROR(VLOOKUP('5.Substance-in-Process'!N457,DSL!A:H,6,FALSE),\"-\")","v":"-"}]
[null,null,null,null,null,null,null,null,null,null,null,null,null,"","","","","",null,{"$f":"IFERROR(VLOOKUP('5.Substance-in-Process'!N458,DSL!A:H,6,FALSE),\"-\")","v":"-"}]
[null,null,null,null,null,null,null,null,null,null,null,null,null,"","","","","",null,{"$f":"IFERROR(VLOOKUP('5.Substance-in-Process'!N459,DSL!A:H,6,FALSE),\"-\")","v":"-"}]
[null,null,null,null,null,null,null,null,null,null,null,null,null,"","","","","",null,{"$f":"IFERROR(VLOOKUP('5.Substance-in-Process'!N460,DSL!A:H,6,FALSE),\"-\")","v":"-"}]
[null,null,null,null,null,null,null,null,null,null,null,null,null,"","","","","",null,{"$f":"IFERROR(VLOOKUP('5.Substance-in-Process'!N461,DSL!A:H,6,FALSE),\"-\")","v":"-"}]
[null,null,null,null,null,null,null,null,null,null,null,null,null,"","","","","",null,{"$f":"IFERROR(VLOOKUP('5.Substance-in-Process'!N462,DSL!A:H,6,FALSE),\"-\")","v":"-"}]
[null,null,null,null,null,null,null,null,null,null,null,null,null,"","","","","",null,{"$f":"IFERROR(VLOOKUP('5.Substance-in-Process'!N463,DSL!A:H,6,FALSE),\"-\")","v":"-"}]
[null,null,null,null,null,null,null,null,null,null,null,null,null,"","","","","",null,{"$f":"IFERROR(VLOOKUP('5.Substance-in-Process'!N464,DSL!A:H,6,FALSE),\"-\")","v":"-"}]
[null,null,null,null,null,null,null,null,null,null,null,null,null,"","","","","",null,{"$f":"IFERROR(VLOOKUP('5.Substance-in-Process'!N465,DSL!A:H,6,FALSE),\"-\")","v":"-"}]
[null,null,null,null,null,null,null,null,null,null,null,null,null,"","","","","",null,{"$f":"IFERROR(VLOOKUP('5.Substance-in-Process'!N466,DSL!A:H,6,FALSE),\"-\")","v":"-"}]
[null,null,null,null,null,null,null,null,null,null,null,null,null,"","","","","",null,{"$f":"IFERROR(VLOOKUP('5.Substance-in-Process'!N467,DSL!A:H,6,FALSE),\"-\")","v":"-"}]
[null,null,null,null,null,null,null,null,null,null,null,null,null,"","","","","",null,{"$f":"IFERROR(VLOOKUP('5.Substance-in-Process'!N468,DSL!A:H,6,FALSE),\"-\")","v":"-"}]
[null,null,null,null,null,null,null,null,null,null,null,null,null,"","","","","",null,{"$f":"IFERROR(VLOOKUP('5.Substance-in-Process'!N469,DSL!A:H,6,FALSE),\"-\")","v":"-"}]
[null,null,null,null,null,null,null,null,null,null,null,null,null,"","","","","",null,{"$f":"IFERROR(VLOOKUP('5.Substance-in-Process'!N470,DSL!A:H,6,FALSE),\"-\")","v":"-"}]
[null,null,null,null,null,null,null,null,null,null,null,null,null,"","","","","",null,{"$f":"IFERROR(VLOOKUP('5.Substance-in-Process'!N471,DSL!A:H,6,FALSE),\"-\")","v":"-"}]
[null,null,null,null,null,null,null,null,null,null,null,null,null,"","","","","",null,{"$f":"IFERROR(VLOOKUP('5.Substance-in-Process'!N472,DSL!A:H,6,FALSE),\"-\")","v":"-"}]
[null,null,null,null,null,null,null,null,null,null,null,null,null,"","","","","",null,{"$f":"IFERROR(VLOOKUP('5.Substance-in-Process'!N473,DSL!A:H,6,FALSE),\"-\")","v":"-"}]
[null,null,null,null,null,null,null,null,null,null,null,null,null,"","","","","",null,{"$f":"IFERROR(VLOOKUP('5.Substance-in-Process'!N474,DSL!A:H,6,FALSE),\"-\")","v":"-"}]
[null,null,null,null,null,null,null,null,null,null,null,null,null,"","","","","",null,{"$f":"IFERROR(VLOOKUP('5.Substance-in-Process'!N475,DSL!A:H,6,FALSE),\"-\")","v":"-"}]
[null,null,null,null,null,null,null,null,null,null,null,null,null,"","","","","",null,{"$f":"IFERROR(VLOOKUP('5.Substance-in-Process'!N476,DSL!A:H,6,FALSE),\"-\")","v":"-"}]
[null,null,null,null,null,null,null,null,null,null,null,null,null,"","","","","",null,{"$f":"IFERROR(VLOOKUP('5.Substance-in-Process'!N477,DSL!A:H,6,FALSE),\"-\")","v":"-"}]
[null,null,null,null,null,null,null,null,null,null,null,null,null,"","","","","",null,{"$f":"IFERROR(VLOOKUP('5.Substance-in-Process'!N478,DSL!A:H,6,FALSE),\"-\")","v":"-"}]
[null,null,null,null,null,null,null,null,null,null,null,null,null,"","","","","",null,{"$f":"IFERROR(VLOOKUP('5.Substance-in-Process'!N479,DSL!A:H,6,FALSE),\"-\")","v":"-"}]
[null,null,null,null,null,null,null,null,null,null,null,null,null,"","","","","",null,{"$f":"IFERROR(VLOOKUP('5.Substance-in-Process'!N480,DSL!A:H,6,FALSE),\"-\")","v":"-"}]
[null,null,null,null,null,null,null,null,null,null,null,null,null,"","","","","",null,{"$f":"IFERROR(VLOOKUP('5.Substance-in-Process'!N481,DSL!A:H,6,FALSE),\"-\")","v":"-"}]
[null,null,null,null,null,null,null,null,null,null,null,null,null,"","","","","",null,{"$f":"IFERROR(VLOOKUP('5.Substance-in-Process'!N482,DSL!A:H,6,FALSE),\"-\")","v":"-"}]
[null,null,null,null,null,null,null,null,null,null,null,null,null,"","","","","",null,{"$f":"IFERROR(VLOOKUP('5.Substance-in-Process'!N483,DSL!A:H,6,FALSE),\"-\")","v":"-"}]
[null,null,null,null,null,null,null,null,null,null,null,null,null,"","","","","",null,{"$f":"IFERROR(VLOOKUP('5.Substance-in-Process'!N484,DSL!A:H,6,FALSE),\"-\")","v":"-"}]
[null,null,null,null,null,null,null,null,null,null,null,null,null,"","","","","",null,{"$f":"IFERROR(VLOOKUP('5.Substance-in-Process'!N485,DSL!A:H,6,FALSE),\"-\")","v":"-"}]
[null,null,null,null,null,null,null,null,null,null,null,null,null,"","","","","",null,{"$f":"IFERROR(VLOOKUP('5.Substance-in-Process'!N486,DSL!A:H,6,FALSE),\"-\")","v":"-"}]
[null,null,null,null,null,null,null,null,null,null,null,null,null,"","","","","",null,{"$f":"IFERROR(VLOOKUP('5.Substance-in-Process'!N487,DSL!A:H,6,FALSE),\"-\")","v":"-"}]
[null,null,null,null,null,null,null,null,null,null,null,null,null,"","","","","",null,{"$f":"IFERROR(VLOOKUP('5.Substance-in-Process'!N488,DSL!A:H,6,FALSE),\"-\")","v":"-"}]
[null,null,null,null,null,null,null,null,null,null,null,null,null,"","","","","",null,{"$f":"IFERROR(VLOOKUP('5.Substance-in-Process'!N489,DSL!A:H,6,FALSE),\"-\")","v":"-"}]
[null,null,null,null,null,null,null,null,null,null,null,null,null,"","","","","",null,{"$f":"IFERROR(VLOOKUP('5.Substance-in-Process'!N490,DSL!A:H,6,FALSE),\"-\")","v":"-"}]
[null,null,null,null,null,null,null,null,null,null,null,null,null,"","","","","",null,{"$f":"IFERROR(VLOOKUP('5.Substance-in-Process'!N491,DSL!A:H,6,FALSE),\"-\")","v":"-"}]
[null,null,null,null,null,null,null,null,null,null,null,null,null,"","","","","",null,{"$f":"IFERROR(VLOOKUP('5.Substance-in-Process'!N492,DSL!A:H,6,FALSE),\"-\")","v":"-"}]
[null,null,null,null,null,null,null,null,null,null,null,null,null,"","","","","",null,{"$f":"IFERROR(VLOOKUP('5.Substance-in-Process'!N493,DSL!A:H,6,FALSE),\"-\")","v":"-"}]
[null,null,null,null,null,null,null,null,null,null,null,null,null,"","","","","",null,{"$f":"IFERROR(VLOOKUP('5.Substance-in-Process'!N494,DSL!A:H,6,FALSE),\"-\")","v":"-"}]
[null,null,null,null,null,null,null,null,null,null,null,null,null,"","","","","",null,{"$f":"IFERROR(VLOOKUP('5.Substance-in-Process'!N495,DSL!A:H,6,FALSE),\"-\")","v":"-"}]
[null,null,null,null,null,null,null,null,null,null,null,null,null,"","","","","",null,{"$f":"IFERROR(VLOOKUP('5.Substance-in-Process'!N496,DSL!A:H,6,FALSE),\"-\")","v":"-"}]
[null,null,null,null,null,null,null,null,null,null,null,null,null,"","","","","",null,{"$f":"IFERROR(VLOOKUP('5.Substance-in-Process'!N497,DSL!A:H,6,FALSE),\"-\")","v":"-"}]
[null,null,null,null,null,null,null,null,null,null,null,null,null,"","","","","",null,{"$f":"IFERROR(VLOOKUP('5.Substance-in-Process'!N498,DSL!A:H,6,FALSE),\"-\")","v":"-"}]
[null,null,null,null,null,null,null,null,null,null,null,null,null,"","","","","",null,{"$f":"IFERROR(VLOOKUP('5.Substance-in-Process'!N499,DSL!A:H,6,FALSE),\"-\")","v":"-"}]
[null,null,null,null,null,null,null,null,null,null,null,null,null,"","","","","",null,{"$f":"IFERROR(VLOOKUP('5.Substance-in-Process'!N500,DSL!A:H,6,FALSE),\"-\")","v":"-"}]
[null,null,null,null,null,null,null,null,null,null,null,null,null,"","","","","",null,{"$f":"IFERROR(VLOOKUP('5.Substance-in-Process'!N501,DSL!A:H,6,FALSE),\"-\")","v":"-"}]
[null,null,null,null,null,null,null,null,null,null,null,null,null,"","","","","",null,{"$f":"IFERROR(VLOOKUP('5.Substance-in-Process'!N502,DSL!A:H,6,FALSE),\"-\")","v":"-"}]
[null,null,null,null,null,null,null,null,null,null,null,null,null,"","","","","",null,{"$f":"IFERROR(VLOOKUP('5.Substance-in-Process'!N503,DSL!A:H,6,FALSE),\"-\")","v":"-"}]
[null,null,null,null,null,null,null,null,null,null,null,null,null,"","","","","",null,{"$f":"IFERROR(VLOOKUP('5.Substance-in-Process'!N504,DSL!A:H,6,FALSE),\"-\")","v":"-"}]
[null,null,null,null,null,null,null,null,null,null,null,null,null,"","","","","",null,{"$f":"IFERROR(VLOOKUP('5.Substance-in-Process'!N505,DSL!A:H,6,FALSE),\"-\")","v":"-"}]
[null,null,null,null,null,null,null,null,null,null,null,null,null,"","","","","",null,{"$f":"IFERROR(VLOOKUP('5.Substance-in-Process'!N506,DSL!A:H,6,FALSE),\"-\")","v":"-"}]
[null,null,null,null,null,null,null,null,null,null,null,null,null,"","","","","",null,{"$f":"IFERROR(VLOOKUP('5.Substance-in-Process'!N507,DSL!A:H,6,FALSE),\"-\")","v":"-"}]
[null,null,null,null,null,null,null,null,null,null,null,null,null,"","","","","",null,{"$f":"IFERROR(VLOOKUP('5.Substance-in-Process'!N508,DSL!A:H,6,FALSE),\"-\")","v":"-"}]
[null,null,null,null,null,null,null,null,null,null,null,null,null,"","","","","",null,{"$f":"IFERROR(VLOOKUP('5.Substance-in-Process'!N509,DSL!A:H,6,FALSE),\"-\")","v":"-"}]
[null,null,null,null,null,null,null,null,null,null,null,null,null,"","","","","",null,{"$f":"IFERROR(VLOOKUP('5.Substance-in-Process'!N510,DSL!A:H,6,FALSE),\"-\")","v":"-"}]
[null,null,null,null,null,null,null,null,null,null,null,null,null,"","","","","",null,{"$f":"IFERROR(VLOOKUP('5.Substance-in-Process'!N511,DSL!A:H,6,FALSE),\"-\")","v":"-"}]
[null,null,null,null,null,null,null,null,null,null,null,null,null,"","","","","",null,{"$f":"IFERROR(VLOOKUP('5.Substance-in-Process'!N512,DSL!A:H,6,FALSE),\"-\")","v":"-"}]
[null,null,null,null,null,null,null,null,null,null,null,null,null,"","","","","",null,{"$f":"IFERROR(VLOOKUP('5.Substance-in-Process'!N513,DSL!A:H,6,FALSE),\"-\")","v":"-"}]
[null,null,null,null,null,null,null,null,null,null,null,null,null,"","","","","",null,{"$f":"IFERROR(VLOOKUP('5.Substance-in-Process'!N514,DSL!A:H,6,FALSE),\"-\")","v":"-"}]
[null,null,null,null,null,null,null,null,null,null,null,null,null,"","","","","",null,{"$f":"IFERROR(VLOOKUP('5.Substance-in-Process'!N515,DSL!A:H,6,FALSE),\"-\")","v":"-"}]
[null,null,null,null,null,null,null,null,null,null,null,null,null,"","","","","",null,{"$f":"IFERROR(VLOOKUP('5.Substance-in-Process'!N516,DSL!A:H,6,FALSE),\"-\")","v":"-"}]
[null,null,null,null,null,null,null,null,null,null,null,null,null,"","","","","",null,{"$f":"IFERROR(VLOOKUP('5.Substance-in-Process'!N517,DSL!A:H,6,FALSE),\"-\")","v":"-"}]
[null,null,null,null,null,null,null,null,null,null,null,null,null,"","","","","",null,{"$f":"IFERROR(VLOOKUP('5.Substance-in-Process'!N518,DSL!A:H,6,FALSE),\"-\")","v":"-"}]
[null,null,null,null,null,null,null,null,null,null,null,null,null,"","","","","",null,{"$f":"IFERROR(VLOOKUP('5.Substance-in-Process'!N519,DSL!A:H,6,FALSE),\"-\")","v":"-"}]
[null,null,null,null,null,null,null,null,null,null,null,null,null,"","","","","",null,{"$f":"IFERROR(VLOOKUP('5.Substance-in-Process'!N520,DSL!A:H,6,FALSE),\"-\")","v":"-"}]
[null,null,null,null,null,null,null,null,null,null,null,null,null,"","","","","",null,{"$f":"IFERROR(VLOOKUP('5.Substance-in-Process'!N521,DSL!A:H,6,FALSE),\"-\")","v":"-"}]
[null,null,null,null,null,null,null,null,null,null,null,null,null,"","","","","",null,{"$f":"IFERROR(VLOOKUP('5.Substance-in-Process'!N522,DSL!A:H,6,FALSE),\"-\")","v":"-"}]
[null,null,null,null,null,null,null,null,null,null,null,null,null,"","","","","",null,{"$f":"IFERROR(VLOOKUP('5.Substance-in-Process'!N523,DSL!A:H,6,FALSE),\"-\")","v":"-"}]
[null,null,null,null,null,null,null,null,null,null,null,null,null,"","","","","",null,{"$f":"IFERROR(VLOOKUP('5.Substance-in-Process'!N524,DSL!A:H,6,FALSE),\"-\")","v":"-"}]
[null,null,null,null,null,null,null,null,null,null,null,null,null,"","","","","",null,{"$f":"IFERROR(VLOOKUP('5.Substance-in-Process'!N525,DSL!A:H,6,FALSE),\"-\")","v":"-"}]
[null,null,null,null,null,null,null,null,null,null,null,null,null,"","","","","",null,{"$f":"IFERROR(VLOOKUP('5.Substance-in-Process'!N526,DSL!A:H,6,FALSE),\"-\")","v":"-"}]
[null,null,null,null,null,null,null,null,null,null,null,null,null,"","","","","",null,{"$f":"IFERROR(VLOOKUP('5.Substance-in-Process'!N527,DSL!A:H,6,FALSE),\"-\")","v":"-"}]
[null,null,null,null,null,null,null,null,null,null,null,null,null,"","","","","",null,{"$f":"IFERROR(VLOOKUP('5.Substance-in-Process'!N528,DSL!A:H,6,FALSE),\"-\")","v":"-"}]
[null,null,null,null,null,null,null,null,null,null,null,null,null,"","","","","",null,{"$f":"IFERROR(VLOOKUP('5.Substance-in-Process'!N529,DSL!A:H,6,FALSE),\"-\")","v":"-"}]
[null,null,null,null,null,null,null,null,null,null,null,null,null,"","","","","",null,{"$f":"IFERROR(VLOOKUP('5.Substance-in-Process'!N530,DSL!A:H,6,FALSE),\"-\")","v":"-"}]
[null,null,null,null,null,null,null,null,null,null,null,null,null,"","","","","",null,{"$f":"IFERROR(VLOOKUP('5.Substance-in-Process'!N531,DSL!A:H,6,FALSE),\"-\")","v":"-"}]
[null,null,null,null,null,null,null,null,null,null,null,null,null,"","","","","",null,{"$f":"IFERROR(VLOOKUP('5.Substance-in-Process'!N532,DSL!A:H,6,FALSE),\"-\")","v":"-"}]
[null,null,null,null,null,null,null,null,null,null,null,null,null,"","","","","",null,{"$f":"IFERROR(VLOOKUP('5.Substance-in-Process'!N533,DSL!A:H,6,FALSE),\"-\")","v":"-"}]
[null,null,null,null,null,null,null,null,null,null,null,null,null,"","","","","",null,{"$f":"IFERROR(VLOOKUP('5.Substance-in-Process'!N534,DSL!A:H,6,FALSE),\"-\")","v":"-"}]
[null,null,null,null,null,null,null,null,null,null,null,null,null,"","","","","",null,{"$f":"IFERROR(VLOOKUP('5.Substance-in-Process'!N535,DSL!A:H,6,FALSE),\"-\")","v":"-"}]
[null,null,null,null,null,null,null,null,null,null,null,null,null,"","","","","",null,{"$f":"IFERROR(VLOOKUP('5.Substance-in-Process'!N536,DSL!A:H,6,FALSE),\"-\")","v":"-"}]
[null,null,null,null,null,null,null,null,null,null,null,null,null,"","","","","",null,{"$f":"IFERROR(VLOOKUP('5.Substance-in-Process'!N537,DSL!A:H,6,FALSE),\"-\")","v":"-"}]
[null,null,null,null,null,null,null,null,null,null,null,null,null,"","","","","",null,{"$f":"IFERROR(VLOOKUP('5.Substance-in-Process'!N538,DSL!A:H,6,FALSE),\"-\")","v":"-"}]
[null,null,null,null,null,null,null,null,null,null,null,null,null,"","","","","",null,{"$f":"IFERROR(VLOOKUP('5.Substance-in-Process'!N539,DSL!A:H,6,FALSE),\"-\")","v":"-"}]
[null,null,null,null,null,null,null,null,null,null,null,null,null,"","","","","",null,{"$f":"IFERROR(VLOOKUP('5.Substance-in-Process'!N540,DSL!A:H,6,FALSE),\"-\")","v":"-"}]
[null,null,null,null,null,null,null,null,null,null,null,null,null,"","","","","",null,{"$f":"IFERROR(VLOOKUP('5.Substance-in-Process'!N541,DSL!A:H,6,FALSE),\"-\")","v":"-"}]
[null,null,null,null,null,null,null,null,null,null,null,null,null,"","","","","",null,{"$f":"IFERROR(VLOOKUP('5.Substance-in-Process'!N542,DSL!A:H,6,FALSE),\"-\")","v":"-"}]
[null,null,null,null,null,null,null,null,null,null,null,null,null,"","","","","",null,{"$f":"IFERROR(VLOOKUP('5.Substance-in-Process'!N543,DSL!A:H,6,FALSE),\"-\")","v":"-"}]
[null,null,null,null,null,null,null,null,null,null,null,null,null,"","","","","",null,{"$f":"IFERROR(VLOOKUP('5.Substance-in-Process'!N544,DSL!A:H,6,FALSE),\"-\")","v":"-"}]
[null,null,null,null,null,null,null,null,null,null,null,null,null,"","","","","",null,{"$f":"IFERROR(VLOOKUP('5.Substance-in-Process'!N545,DSL!A:H,6,FALSE),\"-\")","v":"-"}]
[null,null,null,null,null,null,null,null,null,null,null,null,null,"","","","","",null,{"$f":"IFERROR(VLOOKUP('5.Substance-in-Process'!N546,DSL!A:H,6,FALSE),\"-\")","v":"-"}]
[null,null,null,null,null,null,null,null,null,null,null,null,null,"","","","","",null,{"$f":"IFERROR(VLOOKUP('5.Substance-in-Process'!N547,DSL!A:H,6,FALSE),\"-\")","v":"-"}]
[null,null,null,null,null,null,null,null,null,null,null,null,null,"","","","","",null,{"$f":"IFERROR(VLOOKUP('5.Substance-in-Process'!N548,DSL!A:H,6,FALSE),\"-\")","v":"-"}]
[null,null,null,null,null,null,null,null,null,null,null,null,null,"","","","","",null,{"$f":"IFERROR(VLOOKUP('5.Substance-in-Process'!N549,DSL!A:H,6,FALSE),\"-\")","v":"-"}]
[null,null,null,null,null,null,null,null,null,null,null,null,null,"","","","","",null,{"$f":"IFERROR(VLOOKUP('5.Substance-in-Process'!N550,DSL!A:H,6,FALSE),\"-\")","v":"-"}]
[null,null,null,null,null,null,null,null,null,null,null,null,null,"","","","","",null,{"$f":"IFERROR(VLOOKUP('5.Substance-in-Process'!N551,DSL!A:H,6,FALSE),\"-\")","v":"-"}]
[null,null,null,null,null,null,null,null,null,null,null,null,null,"","","","","",null,{"$f":"IFERROR(VLOOKUP('5.Substance-in-Process'!N552,DSL!A:H,6,FALSE),\"-\")","v":"-"}]
[null,null,null,null,null,null,null,null,null,null,null,null,null,"","","","","",null,{"$f":"IFERROR(VLOOKUP('5.Substance-in-Process'!N553,DSL!A:H,6,FALSE),\"-\")","v":"-"}]
[null,null,null,null,null,null,null,null,null,null,null,null,null,"","","","","",null,{"$f":"IFERROR(VLOOKUP('5.Substance-in-Process'!N554,DSL!A:H,6,FALSE),\"-\")","v":"-"}]
[null,null,null,null,null,null,null,null,null,null,null,null,null,"","","","","",null,{"$f":"IFERROR(VLOOKUP('5.Substance-in-Process'!N555,DSL!A:H,6,FALSE),\"-\")","v":"-"}]
[null,null,null,null,null,null,null,null,null,null,null,null,null,"","","","","",null,{"$f":"IFERROR(VLOOKUP('5.Substance-in-Process'!N556,DSL!A:H,6,FALSE),\"-\")","v":"-"}]
[null,null,null,null,null,null,null,null,null,null,null,null,null,"","","","","",null,{"$f":"IFERROR(VLOOKUP('5.Substance-in-Process'!N557,DSL!A:H,6,FALSE),\"-\")","v":"-"}]
[null,null,null,null,null,null,null,null,null,null,null,null,null,"","","","","",null,{"$f":"IFERROR(VLOOKUP('5.Substance-in-Process'!N558,DSL!A:H,6,FALSE),\"-\")","v":"-"}]
[null,null,null,null,null,null,null,null,null,null,null,null,null,"","","","","",null,{"$f":"IFERROR(VLOOKUP('5.Substance-in-Process'!N559,DSL!A:H,6,FALSE),\"-\")","v":"-"}]
[null,null,null,null,null,null,null,null,null,null,null,null,null,"","","","","",null,{"$f":"IFERROR(VLOOKUP('5.Substance-in-Process'!N560,DSL!A:H,6,FALSE),\"-\")","v":"-"}]
[null,null,null,null,null,null,null,null,null,null,null,null,null,"","","","","",null,{"$f":"IFERROR(VLOOKUP('5.Substance-in-Process'!N561,DSL!A:H,6,FALSE),\"-\")","v":"-"}]
[null,null,null,null,null,null,null,null,null,null,null,null,null,"","","","","",null,{"$f":"IFERROR(VLOOKUP('5.Substance-in-Process'!N562,DSL!A:H,6,FALSE),\"-\")","v":"-"}]
[null,null,null,null,null,null,null,null,null,null,null,null,null,"","","","","",null,{"$f":"IFERROR(VLOOKUP('5.Substance-in-Process'!N563,DSL!A:H,6,FALSE),\"-\")","v":"-"}]
[null,null,null,null,null,null,null,null,null,null,null,null,null,"","","","","",null,{"$f":"IFERROR(VLOOKUP('5.Substance-in-Process'!N564,DSL!A:H,6,FALSE),\"-\")","v":"-"}]
[null,null,null,null,null,null,null,null,null,null,null,null,null,"","","","","",null,{"$f":"IFERROR(VLOOKUP('5.Substance-in-Process'!N565,DSL!A:H,6,FALSE),\"-\")","v":"-"}]
[null,null,null,null,null,null,null,null,null,null,null,null,null,"","","","","",null,{"$f":"IFERROR(VLOOKUP('5.Substance-in-Process'!N566,DSL!A:H,6,FALSE),\"-\")","v":"-"}]
[null,null,null,null,null,null,null,null,null,null,null,null,null,"","","","","",null,{"$f":"IFERROR(VLOOKUP('5.Substance-in-Process'!N567,DSL!A:H,6,FALSE),\"-\")","v":"-"}]
[null,null,null,null,null,null,null,null,null,null,null,null,null,"","","","","",null,{"$f":"IFERROR(VLOOKUP('5.Substance-in-Process'!N568,DSL!A:H,6,FALSE),\"-\")","v":"-"}]
[null,null,null,null,null,null,null,null,null,null,null,null,null,"","","","","",null,{"$f":"IFERROR(VLOOKUP('5.Substance-in-Process'!N569,DSL!A:H,6,FALSE),\"-\")","v":"-"}]
[null,null,null,null,null,null,null,null,null,null,null,null,null,"","","","","",null,{"$f":"IFERROR(VLOOKUP('5.Substance-in-Process'!N570,DSL!A:H,6,FALSE),\"-\")","v":"-"}]
[null,null,null,null,null,null,null,null,null,null,null,null,null,"","","","","",null,{"$f":"IFERROR(VLOOKUP('5.Substance-in-Process'!N571,DSL!A:H,6,FALSE),\"-\")","v":"-"}]
[null,null,null,null,null,null,null,null,null,null,null,null,null,"","","","","",null,{"$f":"IFERROR(VLOOKUP('5.Substance-in-Process'!N572,DSL!A:H,6,FALSE),\"-\")","v":"-"}]
[null,null,null,null,null,null,null,null,null,null,null,null,null,"","","","","",null,{"$f":"IFERROR(VLOOKUP('5.Substance-in-Process'!N573,DSL!A:H,6,FALSE),\"-\")","v":"-"}]
[null,null,null,null,null,null,null,null,null,null,null,null,null,"","","","","",null,{"$f":"IFERROR(VLOOKUP('5.Substance-in-Process'!N574,DSL!A:H,6,FALSE),\"-\")","v":"-"}]
[null,null,null,null,null,null,null,null,null,null,null,null,null,"","","","","",null,{"$f":"IFERROR(VLOOKUP('5.Substance-in-Process'!N575,DSL!A:H,6,FALSE),\"-\")","v":"-"}]
[null,null,null,null,null,null,null,null,null,null,null,null,null,"","","","","",null,{"$f":"IFERROR(VLOOKUP('5.Substance-in-Process'!N576,DSL!A:H,6,FALSE),\"-\")","v":"-"}]
[null,null,null,null,null,null,null,null,null,null,null,null,null,"","","","","",null,{"$f":"IFERROR(VLOOKUP('5.Substance-in-Process'!N577,DSL!A:H,6,FALSE),\"-\")","v":"-"}]
[null,null,null,null,null,null,null,null,null,null,null,null,null,"","","","","",null,{"$f":"IFERROR(VLOOKUP('5.Substance-in-Process'!N578,DSL!A:H,6,FALSE),\"-\")","v":"-"}]
[null,null,null,null,null,null,null,null,null,null,null,null,null,"","","","","",null,{"$f":"IFERROR(VLOOKUP('5.Substance-in-Process'!N579,DSL!A:H,6,FALSE),\"-\")","v":"-"}]
[null,null,null,null,null,null,null,null,null,null,null,null,null,"","","","","",null,{"$f":"IFERROR(VLOOKUP('5.Substance-in-Process'!N580,DSL!A:H,6,FALSE),\"-\")","v":"-"}]
[null,null,null,null,null,null,null,null,null,null,null,null,null,"","","","","",null,{"$f":"IFERROR(VLOOKUP('5.Substance-in-Process'!N581,DSL!A:H,6,FALSE),\"-\")","v":"-"}]
[null,null,null,null,null,null,null,null,null,null,null,null,null,"","","","","",null,{"$f":"IFERROR(VLOOKUP('5.Substance-in-Process'!N582,DSL!A:H,6,FALSE),\"-\")","v":"-"}]
[null,null,null,null,null,null,null,null,null,null,null,null,null,"","","","","",null,{"$f":"IFERROR(VLOOKUP('5.Substance-in-Process'!N583,DSL!A:H,6,FALSE),\"-\")","v":"-"}]
[null,null,null,null,null,null,null,null,null,null,null,null,null,"","","","","",null,{"$f":"IFERROR(VLOOKUP('5.Substance-in-Process'!N584,DSL!A:H,6,FALSE),\"-\")","v":"-"}]
[null,null,null,null,null,null,null,null,null,null,null,null,null,"","","","","",null,{"$f":"IFERROR(VLOOKUP('5.Substance-in-Process'!N585,DSL!A:H,6,FALSE),\"-\")","v":"-"}]
[null,null,null,null,null,null,null,null,null,null,null,null,null,"","","","","",null,{"$f":"IFERROR(VLOOKUP('5.Substance-in-Process'!N586,DSL!A:H,6,FALSE),\"-\")","v":"-"}]
[null,null,null,null,null,null,null,null,null,null,null,null,null,"","","","","",null,{"$f":"IFERROR(VLOOKUP('5.Substance-in-Process'!N587,DSL!A:H,6,FALSE),\"-\")","v":"-"}]
[null,null,null,null,null,null,null,null,null,null,null,null,null,"","","","","",null,{"$f":"IFERROR(VLOOKUP('5.Substance-in-Process'!N588,DSL!A:H,6,FALSE),\"-\")","v":"-"}]
[null,null,null,null,null,null,null,null,null,null,null,null,null,"","","","","",null,{"$f":"IFERROR(VLOOKUP('5.Substance-in-Process'!N589,DSL!A:H,6,FALSE),\"-\")","v":"-"}]
[null,null,null,null,null,null,null,null,null,null,null,null,null,"","","","","",null,{"$f":"IFERROR(VLOOKUP('5.Substance-in-Process'!N590,DSL!A:H,6,FALSE),\"-\")","v":"-"}]
[null,null,null,null,null,null,null,null,null,null,null,null,null,"","","","","",null,{"$f":"IFERROR(VLOOKUP('5.Substance-in-Process'!N591,DSL!A:H,6,FALSE),\"-\")","v":"-"}]
[null,null,null,null,null,null,null,null,null,null,null,null,null,"","","","","",null,{"$f":"IFERROR(VLOOKUP('5.Substance-in-Process'!N592,DSL!A:H,6,FALSE),\"-\")","v":"-"}]
[null,null,null,null,null,null,null,null,null,null,null,null,null,"","","","","",null,{"$f":"IFERROR(VLOOKUP('5.Substance-in-Process'!N593,DSL!A:H,6,FALSE),\"-\")","v":"-"}]
[null,null,null,null,null,null,null,null,null,null,null,null,null,"","","","","",null,{"$f":"IFERROR(VLOOKUP('5.Substance-in-Process'!N594,DSL!A:H,6,FALSE),\"-\")","v":"-"}]
[null,null,null,null,null,null,null,null,null,null,null,null,null,"","","","","",null,{"$f":"IFERROR(VLOOKUP('5.Substance-in-Process'!N595,DSL!A:H,6,FALSE),\"-\")","v":"-"}]
[null,null,null,null,null,null,null,null,null,null,null,null,null,"","","","","",null,{"$f":"IFERROR(VLOOKUP('5.Substance-in-Process'!N596,DSL!A:H,6,FALSE),\"-\")","v":"-"}]
[null,null,null,null,null,null,null,null,null,null,null,null,null,"","","","","",null,{"$f":"IFERROR(VLOOKUP('5.Substance-in-Process'!N597,DSL!A:H,6,FALSE),\"-\")","v":"-"}]
[null,null,null,null,null,null,null,null,null,null,null,null,null,"","","","","",null,{"$f":"IFERROR(VLOOKUP('5.Substance-in-Process'!N598,DSL!A:H,6,FALSE),\"-\")","v":"-"}]
[null,null,null,null,null,null,null,null,null,null,null,null,null,"","","","","",null,{"$f":"IFERROR(VLOOKUP('5.Substance-in-Process'!N599,DSL!A:H,6,FALSE),\"-\")","v":"-"}]
[null,null,null,null,null,null,null,null,null,null,null,null,null,"","","","","",null,{"$f":"IFERROR(VLOOKUP('5.Substance-in-Process'!N600,DSL!A:H,6,FALSE),\"-\")","v":"-"}]
[null,null,null,null,null,null,null,null,null,null,null,null,null,"","","","","",null,{"$f":"IFERROR(VLOOKUP('5.Substance-in-Process'!N601,DSL!A:H,6,FALSE),\"-\")","v":"-"}]
[null,null,null,null,null,null,null,null,null,null,null,null,null,"","","","","",null,{"$f":"IFERROR(VLOOKUP('5.Substance-in-Process'!N602,DSL!A:H,6,FALSE),\"-\")","v":"-"}]
[null,null,null,null,null,null,null,null,null,null,null,null,null,"","","","","",null,{"$f":"IFERROR(VLOOKUP('5.Substance-in-Process'!N603,DSL!A:H,6,FALSE),\"-\")","v":"-"}]
[null,null,null,null,null,null,null,null,null,null,null,null,null,"","","","","",null,{"$f":"IFERROR(VLOOKUP('5.Substance-in-Process'!N604,DSL!A:H,6,FALSE),\"-\")","v":"-"}]
[null,null,null,null,null,null,null,null,null,null,null,null,null,"","","","","",null,{"$f":"IFERROR(VLOOKUP('5.Substance-in-Process'!N605,DSL!A:H,6,FALSE),\"-\")","v":"-"}]
[null,null,null,null,null,null,null,null,null,null,null,null,null,"","","","","",null,{"$f":"IFERROR(VLOOKUP('5.Substance-in-Process'!N606,DSL!A:H,6,FALSE),\"-\")","v":"-"}]
[null,null,null,null,null,null,null,null,null,null,null,null,null,"","","","","",null,{"$f":"IFERROR(VLOOKUP('5.Substance-in-Process'!N607,DSL!A:H,6,FALSE),\"-\")","v":"-"}]
[null,null,null,null,null,null,null,null,null,null,null,null,null,"","","","","",null,{"$f":"IFERROR(VLOOKUP('5.Substance-in-Process'!N608,DSL!A:H,6,FALSE),\"-\")","v":"-"}]
[null,null,null,null,null,null,null,null,null,null,null,null,null,"","","","","",null,{"$f":"IFERROR(VLOOKUP('5.Substance-in-Process'!N609,DSL!A:H,6,FALSE),\"-\")","v":"-"}]
[null,null,null,null,null,null,null,null,null,null,null,null,null,"","","","","",null,{"$f":"IFERROR(VLOOKUP('5.Substance-in-Process'!N610,DSL!A:H,6,FALSE),\"-\")","v":"-"}]
[null,null,null,null,null,null,null,null,null,null,null,null,null,"","","","","",null,{"$f":"IFERROR(VLOOKUP('5.Substance-in-Process'!N611,DSL!A:H,6,FALSE),\"-\")","v":"-"}]
[null,null,null,null,null,null,null,null,null,null,null,null,null,"","","","","",null,{"$f":"IFERROR(VLOOKUP('5.Substance-in-Process'!N612,DSL!A:H,6,FALSE),\"-\")","v":"-"}]
[null,null,null,null,null,null,null,null,null,null,null,null,null,"","","","","",null,{"$f":"IFERROR(VLOOKUP('5.Substance-in-Process'!N613,DSL!A:H,6,FALSE),\"-\")","v":"-"}]
[null,null,null,null,null,null,null,null,null,null,null,null,null,"","","","","",null,{"$f":"IFERROR(VLOOKUP('5.Substance-in-Process'!N614,DSL!A:H,6,FALSE),\"-\")","v":"-"}]
[null,null,null,null,null,null,null,null,null,null,null,null,null,"","","","","",null,{"$f":"IFERROR(VLOOKUP('5.Substance-in-Process'!N615,DSL!A:H,6,FALSE),\"-\")","v":"-"}]
[null,null,null,null,null,null,null,null,null,null,null,null,null,"","","","","",null,{"$f":"IFERROR(VLOOKUP('5.Substance-in-Process'!N616,DSL!A:H,6,FALSE),\"-\")","v":"-"}]
[null,null,null,null,null,null,null,null,null,null,null,null,null,"","","","","",null,{"$f":"IFERROR(VLOOKUP('5.Substance-in-Process'!N617,DSL!A:H,6,FALSE),\"-\")","v":"-"}]
[null,null,null,null,null,null,null,null,null,null,null,null,null,"","","","","",null,{"$f":"IFERROR(VLOOKUP('5.Substance-in-Process'!N618,DSL!A:H,6,FALSE),\"-\")","v":"-"}]
[null,null,null,null,null,null,null,null,null,null,null,null,null,"","","","","",null,{"$f":"IFERROR(VLOOKUP('5.Substance-in-Process'!N619,DSL!A:H,6,FALSE),\"-\")","v":"-"}]
[null,null,null,null,null,null,null,null,null,null,null,null,null,"","","","","",null,{"$f":"IFERROR(VLOOKUP('5.Substance-in-Process'!N620,DSL!A:H,6,FALSE),\"-\")","v":"-"}]
[null,null,null,null,null,null,null,null,null,null,null,null,null,"","","","","",null,{"$f":"IFERROR(VLOOKUP('5.Substance-in-Process'!N621,DSL!A:H,6,FALSE),\"-\")","v":"-"}]
[null,null,null,null,null,null,null,null,null,null,null,null,null,"","","","","",null,{"$f":"IFERROR(VLOOKUP('5.Substance-in-Process'!N622,DSL!A:H,6,FALSE),\"-\")","v":"-"}]
[null,null,null,null,null,null,null,null,null,null,null,null,null,"","","","","",null,{"$f":"IFERROR(VLOOKUP('5.Substance-in-Process'!N623,DSL!A:H,6,FALSE),\"-\")","v":"-"}]
[null,null,null,null,null,null,null,null,null,null,null,null,null,"","","","","",null,{"$f":"IFERROR(VLOOKUP('5.Substance-in-Process'!N624,DSL!A:H,6,FALSE),\"-\")","v":"-"}]
[null,null,null,null,null,null,null,null,null,null,null,null,null,"","","","","",null,{"$f":"IFERROR(VLOOKUP('5.Substance-in-Process'!N625,DSL!A:H,6,FALSE),\"-\")","v":"-"}]
[null,null,null,null,null,null,null,null,null,null,null,null,null,"","","","","",null,{"$f":"IFERROR(VLOOKUP('5.Substance-in-Process'!N626,DSL!A:H,6,FALSE),\"-\")","v":"-"}]
[null,null,null,null,null,null,null,null,null,null,null,null,null,"","","","","",null,{"$f":"IFERROR(VLOOKUP('5.Substance-in-Process'!N627,DSL!A:H,6,FALSE),\"-\")","v":"-"}]
[null,null,null,null,null,null,null,null,null,null,null,null,null,"","","","","",null,{"$f":"IFERROR(VLOOKUP('5.Substance-in-Process'!N628,DSL!A:H,6,FALSE),\"-\")","v":"-"}]
[null,null,null,null,null,null,null,null,null,null,null,null,null,"","","","","",null,{"$f":"IFERROR(VLOOKUP('5.Substance-in-Process'!N629,DSL!A:H,6,FALSE),\"-\")","v":"-"}]
[null,null,null,null,null,null,null,null,null,null,null,null,null,"","","","","",null,{"$f":"IFERROR(VLOOKUP('5.Substance-in-Process'!N630,DSL!A:H,6,FALSE),\"-\")","v":"-"}]
[null,null,null,null,null,null,null,null,null,null,null,null,null,"","","","","",null,{"$f":"IFERROR(VLOOKUP('5.Substance-in-Process'!N631,DSL!A:H,6,FALSE),\"-\")","v":"-"}]
[null,null,null,null,null,null,null,null,null,null,null,null,null,"","","","","",null,{"$f":"IFERROR(VLOOKUP('5.Substance-in-Process'!N632,DSL!A:H,6,FALSE),\"-\")","v":"-"}]
[null,null,null,null,null,null,null,null,null,null,null,null,null,"","","","","",null,{"$f":"IFERROR(VLOOKUP('5.Substance-in-Process'!N633,DSL!A:H,6,FALSE),\"-\")","v":"-"}]
[null,null,null,null,null,null,null,null,null,null,null,null,null,"","","","","",null,{"$f":"IFERROR(VLOOKUP('5.Substance-in-Process'!N634,DSL!A:H,6,FALSE),\"-\")","v":"-"}]
[null,null,null,null,null,null,null,null,null,null,null,null,null,"","","","","",null,{"$f":"IFERROR(VLOOKUP('5.Substance-in-Process'!N635,DSL!A:H,6,FALSE),\"-\")","v":"-"}]
[null,null,null,null,null,null,null,null,null,null,null,null,null,"","","","","",null,{"$f":"IFERROR(VLOOKUP('5.Substance-in-Process'!N636,DSL!A:H,6,FALSE),\"-\")","v":"-"}]
[null,null,null,null,null,null,null,null,null,null,null,null,null,"","","","","",null,{"$f":"IFERROR(VLOOKUP('5.Substance-in-Process'!N637,DSL!A:H,6,FALSE),\"-\")","v":"-"}]
[null,null,null,null,null,null,null,null,null,null,null,null,null,"","","","","",null,{"$f":"IFERROR(VLOOKUP('5.Substance-in-Process'!N638,DSL!A:H,6,FALSE),\"-\")","v":"-"}]
[null,null,null,null,null,null,null,null,null,null,null,null,null,"","","","","",null,{"$f":"IFERROR(VLOOKUP('5.Substance-in-Process'!N639,DSL!A:H,6,FALSE),\"-\")","v":"-"}]
[null,null,null,null,null,null,null,null,null,null,null,null,null,"","","","","",null,{"$f":"IFERROR(VLOOKUP('5.Substance-in-Process'!N640,DSL!A:H,6,FALSE),\"-\")","v":"-"}]
[null,null,null,null,null,null,null,null,null,null,null,null,null,"","","","","",null,{"$f":"IFERROR(VLOOKUP('5.Substance-in-Process'!N641,DSL!A:H,6,FALSE),\"-\")","v":"-"}]
[null,null,null,null,null,null,null,null,null,null,null,null,null,"","","","","",null,{"$f":"IFERROR(VLOOKUP('5.Substance-in-Process'!N642,DSL!A:H,6,FALSE),\"-\")","v":"-"}]
[null,null,null,null,null,null,null,null,null,null,null,null,null,"","","","","",null,{"$f":"IFERROR(VLOOKUP('5.Substance-in-Process'!N643,DSL!A:H,6,FALSE),\"-\")","v":"-"}]
[null,null,null,null,null,null,null,null,null,null,null,null,null,"","","","","",null,{"$f":"IFERROR(VLOOKUP('5.Substance-in-Process'!N644,DSL!A:H,6,FALSE),\"-\")","v":"-"}]
[null,null,null,null,null,null,null,null,null,null,null,null,null,"","","","","",null,{"$f":"IFERROR(VLOOKUP('5.Substance-in-Process'!N645,DSL!A:H,6,FALSE),\"-\")","v":"-"}]
[null,null,null,null,null,null,null,null,null,null,null,null,null,"","","","","",null,{"$f":"IFERROR(VLOOKUP('5.Substance-in-Process'!N646,DSL!A:H,6,FALSE),\"-\")","v":"-"}]
[null,null,null,null,null,null,null,null,null,null,null,null,null,"","","","","",null,{"$f":"IFERROR(VLOOKUP('5.Substance-in-Process'!N647,DSL!A:H,6,FALSE),\"-\")","v":"-"}]
[null,null,null,null,null,null,null,null,null,null,null,null,null,"","","","","",null,{"$f":"IFERROR(VLOOKUP('5.Substance-in-Process'!N648,DSL!A:H,6,FALSE),\"-\")","v":"-"}]
[null,null,null,null,null,null,null,null,null,null,null,null,null,"","","","","",null,{"$f":"IFERROR(VLOOKUP('5.Substance-in-Process'!N649,DSL!A:H,6,FALSE),\"-\")","v":"-"}]
[null,null,null,null,null,null,null,null,null,null,null,null,null,"","","","","",null,{"$f":"IFERROR(VLOOKUP('5.Substance-in-Process'!N650,DSL!A:H,6,FALSE),\"-\")","v":"-"}]
[null,null,null,null,null,null,null,null,null,null,null,null,null,"","","","","",null,{"$f":"IFERROR(VLOOKUP('5.Substance-in-Process'!N651,DSL!A:H,6,FALSE),\"-\")","v":"-"}]
[null,null,null,null,null,null,null,null,null,null,null,null,null,"","","","","",null,{"$f":"IFERROR(VLOOKUP('5.Substance-in-Process'!N652,DSL!A:H,6,FALSE),\"-\")","v":"-"}]
[null,null,null,null,null,null,null,null,null,null,null,null,null,"","","","","",null,{"$f":"IFERROR(VLOOKUP('5.Substance-in-Process'!N653,DSL!A:H,6,FALSE),\"-\")","v":"-"}]
[null,null,null,null,null,null,null,null,null,null,null,null,null,"","","","","",null,{"$f":"IFERROR(VLOOKUP('5.Substance-in-Process'!N654,DSL!A:H,6,FALSE),\"-\")","v":"-"}]
[null,null,null,null,null,null,null,null,null,null,null,null,null,"","","","","",null,{"$f":"IFERROR(VLOOKUP('5.Substance-in-Process'!N655,DSL!A:H,6,FALSE),\"-\")","v":"-"}]
[null,null,null,null,null,null,null,null,null,null,null,null,null,"","","","","",null,{"$f":"IFERROR(VLOOKUP('5.Substance-in-Process'!N656,DSL!A:H,6,FALSE),\"-\")","v":"-"}]
[null,null,null,null,null,null,null,null,null,null,null,null,null,"","","","","",null,{"$f":"IFERROR(VLOOKUP('5.Substance-in-Process'!N657,DSL!A:H,6,FALSE),\"-\")","v":"-"}]
[null,null,null,null,null,null,null,null,null,null,null,null,null,"","","","","",null,{"$f":"IFERROR(VLOOKUP('5.Substance-in-Process'!N658,DSL!A:H,6,FALSE),\"-\")","v":"-"}]
[null,null,null,null,null,null,null,null,null,null,null,null,null,"","","","","",null,{"$f":"IFERROR(VLOOKUP('5.Substance-in-Process'!N659,DSL!A:H,6,FALSE),\"-\")","v":"-"}]
[null,null,null,null,null,null,null,null,null,null,null,null,null,"","","","","",null,{"$f":"IFERROR(VLOOKUP('5.Substance-in-Process'!N660,DSL!A:H,6,FALSE),\"-\")","v":"-"}]
[null,null,null,null,null,null,null,null,null,null,null,null,null,"","","","","",null,{"$f":"IFERROR(VLOOKUP('5.Substance-in-Process'!N661,DSL!A:H,6,FALSE),\"-\")","v":"-"}]
[null,null,null,null,null,null,null,null,null,null,null,null,null,"","","","","",null,{"$f":"IFERROR(VLOOKUP('5.Substance-in-Process'!N662,DSL!A:H,6,FALSE),\"-\")","v":"-"}]
[null,null,null,null,null,null,null,null,null,null,null,null,null,"","","","","",null,{"$f":"IFERROR(VLOOKUP('5.Substance-in-Process'!N663,DSL!A:H,6,FALSE),\"-\")","v":"-"}]
[null,null,null,null,null,null,null,null,null,null,null,null,null,"","","","","",null,{"$f":"IFERROR(VLOOKUP('5.Substance-in-Process'!N664,DSL!A:H,6,FALSE),\"-\")","v":"-"}]
[null,null,null,null,null,null,null,null,null,null,null,null,null,"","","","","",null,{"$f":"IFERROR(VLOOKUP('5.Substance-in-Process'!N665,DSL!A:H,6,FALSE),\"-\")","v":"-"}]
[null,null,null,null,null,null,null,null,null,null,null,null,null,"","","","","",null,{"$f":"IFERROR(VLOOKUP('5.Substance-in-Process'!N666,DSL!A:H,6,FALSE),\"-\")","v":"-"}]
[null,null,null,null,null,null,null,null,null,null,null,null,null,"","","","","",null,{"$f":"IFERROR(VLOOKUP('5.Substance-in-Process'!N667,DSL!A:H,6,FALSE),\"-\")","v":"-"}]
[null,null,null,null,null,null,null,null,null,null,null,null,null,"","","","","",null,{"$f":"IFERROR(VLOOKUP('5.Substance-in-Process'!N668,DSL!A:H,6,FALSE),\"-\")","v":"-"}]
[null,null,null,null,null,null,null,null,null,null,null,null,null,"","","","","",null,{"$f":"IFERROR(VLOOKUP('5.Substance-in-Process'!N669,DSL!A:H,6,FALSE),\"-\")","v":"-"}]
[null,null,null,null,null,null,null,null,null,null,null,null,null,"","","","","",null,{"$f":"IFERROR(VLOOKUP('5.Substance-in-Process'!N670,DSL!A:H,6,FALSE),\"-\")","v":"-"}]
[null,null,null,null,null,null,null,null,null,null,null,null,null,"","","","","",null,{"$f":"IFERROR(VLOOKUP('5.Substance-in-Process'!N671,DSL!A:H,6,FALSE),\"-\")","v":"-"}]
[null,null,null,null,null,null,null,null,null,null,null,null,null,"","","","","",null,{"$f":"IFERROR(VLOOKUP('5.Substance-in-Process'!N672,DSL!A:H,6,FALSE),\"-\")","v":"-"}]
[null,null,null,null,null,null,null,null,null,null,null,null,null,"","","","","",null,{"$f":"IFERROR(VLOOKUP('5.Substance-in-Process'!N673,DSL!A:H,6,FALSE),\"-\")","v":"-"}]
[null,null,null,null,null,null,null,null,null,null,null,null,null,"","","","","",null,{"$f":"IFERROR(VLOOKUP('5.Substance-in-Process'!N674,DSL!A:H,6,FALSE),\"-\")","v":"-"}]
[null,null,null,null,null,null,null,null,null,null,null,null,null,"","","","","",null,{"$f":"IFERROR(VLOOKUP('5.Substance-in-Process'!N675,DSL!A:H,6,FALSE),\"-\")","v":"-"}]
[null,null,null,null,null,null,null,null,null,null,null,null,null,"","","","","",null,{"$f":"IFERROR(VLOOKUP('5.Substance-in-Process'!N676,DSL!A:H,6,FALSE),\"-\")","v":"-"}]
[null,null,null,null,null,null,null,null,null,null,null,null,null,"","","","","",null,{"$f":"IFERROR(VLOOKUP('5.Substance-in-Process'!N677,DSL!A:H,6,FALSE),\"-\")","v":"-"}]
[null,null,null,null,null,null,null,null,null,null,null,null,null,"","","","","",null,{"$f":"IFERROR(VLOOKUP('5.Substance-in-Process'!N678,DSL!A:H,6,FALSE),\"-\")","v":"-"}]
[null,null,null,null,null,null,null,null,null,null,null,null,null,"","","","","",null,{"$f":"IFERROR(VLOOKUP('5.Substance-in-Process'!N679,DSL!A:H,6,FALSE),\"-\")","v":"-"}]
[null,null,null,null,null,null,null,null,null,null,null,null,null,"","","","","",null,{"$f":"IFERROR(VLOOKUP('5.Substance-in-Process'!N680,DSL!A:H,6,FALSE),\"-\")","v":"-"}]
[null,null,null,null,null,null,null,null,null,null,null,null,null,"","","","","",null,{"$f":"IFERROR(VLOOKUP('5.Substance-in-Process'!N681,DSL!A:H,6,FALSE),\"-\")","v":"-"}]
[null,null,null,null,null,null,null,null,null,null,null,null,null,"","","","","",null,{"$f":"IFERROR(VLOOKUP('5.Substance-in-Process'!N682,DSL!A:H,6,FALSE),\"-\")","v":"-"}]
[null,null,null,null,null,null,null,null,null,null,null,null,null,"","","","","",null,{"$f":"IFERROR(VLOOKUP('5.Substance-in-Process'!N683,DSL!A:H,6,FALSE),\"-\")","v":"-"}]
[null,null,null,null,null,null,null,null,null,null,null,null,null,"","","","","",null,{"$f":"IFERROR(VLOOKUP('5.Substance-in-Process'!N684,DSL!A:H,6,FALSE),\"-\")","v":"-"}]
[null,null,null,null,null,null,null,null,null,null,null,null,null,"","","","","",null,{"$f":"IFERROR(VLOOKUP('5.Substance-in-Process'!N685,DSL!A:H,6,FALSE),\"-\")","v":"-"}]
[null,null,null,null,null,null,null,null,null,null,null,null,null,"","","","","",null,{"$f":"IFERROR(VLOOKUP('5.Substance-in-Process'!N686,DSL!A:H,6,FALSE),\"-\")","v":"-"}]
[null,null,null,null,null,null,null,null,null,null,null,null,null,"","","","","",null,{"$f":"IFERROR(VLOOKUP('5.Substance-in-Process'!N687,DSL!A:H,6,FALSE),\"-\")","v":"-"}]
[null,null,null,null,null,null,null,null,null,null,null,null,null,"","","","","",null,{"$f":"IFERROR(VLOOKUP('5.Substance-in-Process'!N688,DSL!A:H,6,FALSE),\"-\")","v":"-"}]
[null,null,null,null,null,null,null,null,null,null,null,null,null,"","","","","",null,{"$f":"IFERROR(VLOOKUP('5.Substance-in-Process'!N689,DSL!A:H,6,FALSE),\"-\")","v":"-"}]
[null,null,null,null,null,null,null,null,null,null,null,null,null,"","","","","",null,{"$f":"IFERROR(VLOOKUP('5.Substance-in-Process'!N690,DSL!A:H,6,FALSE),\"-\")","v":"-"}]
[null,null,null,null,null,null,null,null,null,null,null,null,null,"","","","","",null,{"$f":"IFERROR(VLOOKUP('5.Substance-in-Process'!N691,DSL!A:H,6,FALSE),\"-\")","v":"-"}]
[null,null,null,null,null,null,null,null,null,null,null,null,null,"","","","","",null,{"$f":"IFERROR(VLOOKUP('5.Substance-in-Process'!N692,DSL!A:H,6,FALSE),\"-\")","v":"-"}]
[null,null,null,null,null,null,null,null,null,null,null,null,null,"","","","","",null,{"$f":"IFERROR(VLOOKUP('5.Substance-in-Process'!N693,DSL!A:H,6,FALSE),\"-\")","v":"-"}]
[null,null,null,null,null,null,null,null,null,null,null,null,null,"","","","","",null,{"$f":"IFERROR(VLOOKUP('5.Substance-in-Process'!N694,DSL!A:H,6,FALSE),\"-\")","v":"-"}]
[null,null,null,null,null,null,null,null,null,null,null,null,null,"","","","","",null,{"$f":"IFERROR(VLOOKUP('5.Substance-in-Process'!N695,DSL!A:H,6,FALSE),\"-\")","v":"-"}]
[null,null,null,null,null,null,null,null,null,null,null,null,null,"","","","","",null,{"$f":"IFERROR(VLOOKUP('5.Substance-in-Process'!N696,DSL!A:H,6,FALSE),\"-\")","v":"-"}]
[null,null,null,null,null,null,null,null,null,null,null,null,null,"","","","","",null,{"$f":"IFERROR(VLOOKUP('5.Substance-in-Process'!N697,DSL!A:H,6,FALSE),\"-\")","v":"-"}]
[null,null,null,null,null,null,null,null,null,null,null,null,null,"","","","","",null,{"$f":"IFERROR(VLOOKUP('5.Substance-in-Process'!N698,DSL!A:H,6,FALSE),\"-\")","v":"-"}]
[null,null,null,null,null,null,null,null,null,null,null,null,null,"","","","","",null,{"$f":"IFERROR(VLOOKUP('5.Substance-in-Process'!N699,DSL!A:H,6,FALSE),\"-\")","v":"-"}]
[null,null,null,null,null,null,null,null,null,null,null,null,null,"","","","","",null,{"$f":"IFERROR(VLOOKUP('5.Substance-in-Process'!N700,DSL!A:H,6,FALSE),\"-\")","v":"-"}]
[null,null,null,null,null,null,null,null,null,null,null,null,null,"","","","","",null,{"$f":"IFERROR(VLOOKUP('5.Substance-in-Process'!N701,DSL!A:H,6,FALSE),\"-\")","v":"-"}]
[null,null,null,null,null,null,null,null,null,null,null,null,null,"","","","","",null,{"$f":"IFERROR(VLOOKUP('5.Substance-in-Process'!N702,DSL!A:H,6,FALSE),\"-\")","v":"-"}]
[null,null,null,null,null,null,null,null,null,null,null,null,null,"","","","","",null,{"$f":"IFERROR(VLOOKUP('5.Substance-in-Process'!N703,DSL!A:H,6,FALSE),\"-\")","v":"-"}]
[null,null,null,null,null,null,null,null,null,null,null,null,null,"","","","","",null,{"$f":"IFERROR(VLOOKUP('5.Substance-in-Process'!N704,DSL!A:H,6,FALSE),\"-\")","v":"-"}]
[null,null,null,null,null,null,null,null,null,null,null,null,null,"","","","","",null,{"$f":"IFERROR(VLOOKUP('5.Substance-in-Process'!N705,DSL!A:H,6,FALSE),\"-\")","v":"-"}]
[null,null,null,null,null,null,null,null,null,null,null,null,null,"","","","","",null,{"$f":"IFERROR(VLOOKUP('5.Substance-in-Process'!N706,DSL!A:H,6,FALSE),\"-\")","v":"-"}]
[null,null,null,null,null,null,null,null,null,null,null,null,null,"","","","","",null,{"$f":"IFERROR(VLOOKUP('5.Substance-in-Process'!N707,DSL!A:H,6,FALSE),\"-\")","v":"-"}]
[null,null,null,null,null,null,null,null,null,null,null,null,null,"","","","","",null,{"$f":"IFERROR(VLOOKUP('5.Substance-in-Process'!N708,DSL!A:H,6,FALSE),\"-\")","v":"-"}]
[null,null,null,null,null,null,null,null,null,null,null,null,null,"","","","","",null,{"$f":"IFERROR(VLOOKUP('5.Substance-in-Process'!N709,DSL!A:H,6,FALSE),\"-\")","v":"-"}]
[null,null,null,null,null,null,null,null,null,null,null,null,null,"","","","","",null,{"$f":"IFERROR(VLOOKUP('5.Substance-in-Process'!N710,DSL!A:H,6,FALSE),\"-\")","v":"-"}]
[null,null,null,null,null,null,null,null,null,null,null,null,null,"","","","","",null,{"$f":"IFERROR(VLOOKUP('5.Substance-in-Process'!N711,DSL!A:H,6,FALSE),\"-\")","v":"-"}]
[null,null,null,null,null,null,null,null,null,null,null,null,null,"","","","","",null,{"$f":"IFERROR(VLOOKUP('5.Substance-in-Process'!N712,DSL!A:H,6,FALSE),\"-\")","v":"-"}]
[null,null,null,null,null,null,null,null,null,null,null,null,null,"","","","","",null,{"$f":"IFERROR(VLOOKUP('5.Substance-in-Process'!N713,DSL!A:H,6,FALSE),\"-\")","v":"-"}]
[null,null,null,null,null,null,null,null,null,null,null,null,null,"","","","","",null,{"$f":"IFERROR(VLOOKUP('5.Substance-in-Process'!N714,DSL!A:H,6,FALSE),\"-\")","v":"-"}]
[null,null,null,null,null,null,null,null,null,null,null,null,null,"","","","","",null,{"$f":"IFERROR(VLOOKUP('5.Substance-in-Process'!N715,DSL!A:H,6,FALSE),\"-\")","v":"-"}]
[null,null,null,null,null,null,null,null,null,null,null,null,null,"","","","","",null,{"$f":"IFERROR(VLOOKUP('5.Substance-in-Process'!N716,DSL!A:H,6,FALSE),\"-\")","v":"-"}]
[null,null,null,null,null,null,null,null,null,null,null,null,null,"","","","","",null,{"$f":"IFERROR(VLOOKUP('5.Substance-in-Process'!N717,DSL!A:H,6,FALSE),\"-\")","v":"-"}]
[null,null,null,null,null,null,null,null,null,null,null,null,null,"","","","","",null,{"$f":"IFERROR(VLOOKUP('5.Substance-in-Process'!N718,DSL!A:H,6,FALSE),\"-\")","v":"-"}]
[null,null,null,null,null,null,null,null,null,null,null,null,null,"","","","","",null,{"$f":"IFERROR(VLOOKUP('5.Substance-in-Process'!N719,DSL!A:H,6,FALSE),\"-\")","v":"-"}]
[null,null,null,null,null,null,null,null,null,null,null,null,null,"","","","","",null,{"$f":"IFERROR(VLOOKUP('5.Substance-in-Process'!N720,DSL!A:H,6,FALSE),\"-\")","v":"-"}]
[null,null,null,null,null,null,null,null,null,null,null,null,null,"","","","","",null,{"$f":"IFERROR(VLOOKUP('5.Substance-in-Process'!N721,DSL!A:H,6,FALSE),\"-\")","v":"-"}]
[null,null,null,null,null,null,null,null,null,null,null,null,null,"","","","","",null,{"$f":"IFERROR(VLOOKUP('5.Substance-in-Process'!N722,DSL!A:H,6,FALSE),\"-\")","v":"-"}]
[null,null,null,null,null,null,null,null,null,null,null,null,null,"","","","","",null,{"$f":"IFERROR(VLOOKUP('5.Substance-in-Process'!N723,DSL!A:H,6,FALSE),\"-\")","v":"-"}]
[null,null,null,null,null,null,null,null,null,null,null,null,null,"","","","","",null,{"$f":"IFERROR(VLOOKUP('5.Substance-in-Process'!N724,DSL!A:H,6,FALSE),\"-\")","v":"-"}]
[null,null,null,null,null,null,null,null,null,null,null,null,null,"","","","","",null,{"$f":"IFERROR(VLOOKUP('5.Substance-in-Process'!N725,DSL!A:H,6,FALSE),\"-\")","v":"-"}]
[null,null,null,null,null,null,null,null,null,null,null,null,null,"","","","","",null,{"$f":"IFERROR(VLOOKUP('5.Substance-in-Process'!N726,DSL!A:H,6,FALSE),\"-\")","v":"-"}]
[null,null,null,null,null,null,null,null,null,null,null,null,null,"","","","","",null,{"$f":"IFERROR(VLOOKUP('5.Substance-in-Process'!N727,DSL!A:H,6,FALSE),\"-\")","v":"-"}]
[null,null,null,null,null,null,null,null,null,null,null,null,null,"","","","","",null,{"$f":"IFERROR(VLOOKUP('5.Substance-in-Process'!N728,DSL!A:H,6,FALSE),\"-\")","v":"-"}]
[null,null,null,null,null,null,null,null,null,null,null,null,null,"","","","","",null,{"$f":"IFERROR(VLOOKUP('5.Substance-in-Process'!N729,DSL!A:H,6,FALSE),\"-\")","v":"-"}]
[null,null,null,null,null,null,null,null,null,null,null,null,null,"","","","","",null,{"$f":"IFERROR(VLOOKUP('5.Substance-in-Process'!N730,DSL!A:H,6,FALSE),\"-\")","v":"-"}]
[null,null,null,null,null,null,null,null,null,null,null,null,null,"","","","","",null,{"$f":"IFERROR(VLOOKUP('5.Substance-in-Process'!N731,DSL!A:H,6,FALSE),\"-\")","v":"-"}]
[null,null,null,null,null,null,null,null,null,null,null,null,null,"","","","","",null,{"$f":"IFERROR(VLOOKUP('5.Substance-in-Process'!N732,DSL!A:H,6,FALSE),\"-\")","v":"-"}]
[null,null,null,null,null,null,null,null,null,null,null,null,null,"","","","","",null,{"$f":"IFERROR(VLOOKUP('5.Substance-in-Process'!N733,DSL!A:H,6,FALSE),\"-\")","v":"-"}]
[null,null,null,null,null,null,null,null,null,null,null,null,null,"","","","","",null,{"$f":"IFERROR(VLOOKUP('5.Substance-in-Process'!N734,DSL!A:H,6,FALSE),\"-\")","v":"-"}]
[null,null,null,null,null,null,null,null,null,null,null,null,null,"","","","","",null,{"$f":"IFERROR(VLOOKUP('5.Substance-in-Process'!N735,DSL!A:H,6,FALSE),\"-\")","v":"-"}]
[null,null,null,null,null,null,null,null,null,null,null,null,null,"","","","","",null,{"$f":"IFERROR(VLOOKUP('5.Substance-in-Process'!N736,DSL!A:H,6,FALSE),\"-\")","v":"-"}]
[null,null,null,null,null,null,null,null,null,null,null,null,null,"","","","","",null,{"$f":"IFERROR(VLOOKUP('5.Substance-in-Process'!N737,DSL!A:H,6,FALSE),\"-\")","v":"-"}]
[null,null,null,null,null,null,null,null,null,null,null,null,null,"","","","","",null,{"$f":"IFERROR(VLOOKUP('5.Substance-in-Process'!N738,DSL!A:H,6,FALSE),\"-\")","v":"-"}]
[null,null,null,null,null,null,null,null,null,null,null,null,null,"","","","","",null,{"$f":"IFERROR(VLOOKUP('5.Substance-in-Process'!N739,DSL!A:H,6,FALSE),\"-\")","v":"-"}]
[null,null,null,null,null,null,null,null,null,null,null,null,null,"","","","","",null,{"$f":"IFERROR(VLOOKUP('5.Substance-in-Process'!N740,DSL!A:H,6,FALSE),\"-\")","v":"-"}]
[null,null,null,null,null,null,null,null,null,null,null,null,null,"","","","","",null,{"$f":"IFERROR(VLOOKUP('5.Substance-in-Process'!N741,DSL!A:H,6,FALSE),\"-\")","v":"-"}]
[null,null,null,null,null,null,null,null,null,null,null,null,null,"","","","","",null,{"$f":"IFERROR(VLOOKUP('5.Substance-in-Process'!N742,DSL!A:H,6,FALSE),\"-\")","v":"-"}]
[null,null,null,null,null,null,null,null,null,null,null,null,null,"","","","","",null,{"$f":"IFERROR(VLOOKUP('5.Substance-in-Process'!N743,DSL!A:H,6,FALSE),\"-\")","v":"-"}]
[null,null,null,null,null,null,null,null,null,null,null,null,null,"","","","","",null,{"$f":"IFERROR(VLOOKUP('5.Substance-in-Process'!N744,DSL!A:H,6,FALSE),\"-\")","v":"-"}]
[null,null,null,null,null,null,null,null,null,null,null,null,null,"","","","","",null,{"$f":"IFERROR(VLOOKUP('5.Substance-in-Process'!N745,DSL!A:H,6,FALSE),\"-\")","v":"-"}]
[null,null,null,null,null,null,null,null,null,null,null,null,null,"","","","","",null,{"$f":"IFERROR(VLOOKUP('5.Substance-in-Process'!N746,DSL!A:H,6,FALSE),\"-\")","v":"-"}]
[null,null,null,null,null,null,null,null,null,null,null,null,null,"","","","","",null,{"$f":"IFERROR(VLOOKUP('5.Substance-in-Process'!N747,DSL!A:H,6,FALSE),\"-\")","v":"-"}]
[null,null,null,null,null,null,null,null,null,null,null,null,null,"","","","","",null,{"$f":"IFERROR(VLOOKUP('5.Substance-in-Process'!N748,DSL!A:H,6,FALSE),\"-\")","v":"-"}]
[null,null,null,null,null,null,null,null,null,null,null,null,null,"","","","","",null,{"$f":"IFERROR(VLOOKUP('5.Substance-in-Process'!N749,DSL!A:H,6,FALSE),\"-\")","v":"-"}]
[null,null,null,null,null,null,null,null,null,null,null,null,null,"","","","","",null,{"$f":"IFERROR(VLOOKUP('5.Substance-in-Process'!N750,DSL!A:H,6,FALSE),\"-\")","v":"-"}]
[null,null,null,null,null,null,null,null,null,null,null,null,null,"","","","","",null,{"$f":"IFERROR(VLOOKUP('5.Substance-in-Process'!N751,DSL!A:H,6,FALSE),\"-\")","v":"-"}]
[null,null,null,null,null,null,null,null,null,null,null,null,null,"","","","","",null,{"$f":"IFERROR(VLOOKUP('5.Substance-in-Process'!N752,DSL!A:H,6,FALSE),\"-\")","v":"-"}]
[null,null,null,null,null,null,null,null,null,null,null,null,null,"","","","","",null,{"$f":"IFERROR(VLOOKUP('5.Substance-in-Process'!N753,DSL!A:H,6,FALSE),\"-\")","v":"-"}]
[null,null,null,null,null,null,null,null,null,null,null,null,null,"","","","","",null,{"$f":"IFERROR(VLOOKUP('5.Substance-in-Process'!N754,DSL!A:H,6,FALSE),\"-\")","v":"-"}]
[null,null,null,null,null,null,null,null,null,null,null,null,null,"","","","","",null,{"$f":"IFERROR(VLOOKUP('5.Substance-in-Process'!N755,DSL!A:H,6,FALSE),\"-\")","v":"-"}]
[null,null,null,null,null,null,null,null,null,null,null,null,null,"","","","","",null,{"$f":"IFERROR(VLOOKUP('5.Substance-in-Process'!N756,DSL!A:H,6,FALSE),\"-\")","v":"-"}]
[null,null,null,null,null,null,null,null,null,null,null,null,null,"","","","","",null,{"$f":"IFERROR(VLOOKUP('5.Substance-in-Process'!N757,DSL!A:H,6,FALSE),\"-\")","v":"-"}]
[null,null,null,null,null,null,null,null,null,null,null,null,null,"","","","","",null,{"$f":"IFERROR(VLOOKUP('5.Substance-in-Process'!N758,DSL!A:H,6,FALSE),\"-\")","v":"-"}]
[null,null,null,null,null,null,null,null,null,null,null,null,null,"","","","","",null,{"$f":"IFERROR(VLOOKUP('5.Substance-in-Process'!N759,DSL!A:H,6,FALSE),\"-\")","v":"-"}]
[null,null,null,null,null,null,null,null,null,null,null,null,null,"","","","","",null,{"$f":"IFERROR(VLOOKUP('5.Substance-in-Process'!N760,DSL!A:H,6,FALSE),\"-\")","v":"-"}]
[null,null,null,null,null,null,null,null,null,null,null,null,null,"","","","","",null,{"$f":"IFERROR(VLOOKUP('5.Substance-in-Process'!N761,DSL!A:H,6,FALSE),\"-\")","v":"-"}]
[null,null,null,null,null,null,null,null,null,null,null,null,null,"","","","","",null,{"$f":"IFERROR(VLOOKUP('5.Substance-in-Process'!N762,DSL!A:H,6,FALSE),\"-\")","v":"-"}]
[null,null,null,null,null,null,null,null,null,null,null,null,null,"","","","","",null,{"$f":"IFERROR(VLOOKUP('5.Substance-in-Process'!N763,DSL!A:H,6,FALSE),\"-\")","v":"-"}]
[null,null,null,null,null,null,null,null,null,null,null,null,null,"","","","","",null,{"$f":"IFERROR(VLOOKUP('5.Substance-in-Process'!N764,DSL!A:H,6,FALSE),\"-\")","v":"-"}]
[null,null,null,null,null,null,null,null,null,null,null,null,null,"","","","","",null,{"$f":"IFERROR(VLOOKUP('5.Substance-in-Process'!N765,DSL!A:H,6,FALSE),\"-\")","v":"-"}]
[null,null,null,null,null,null,null,null,null,null,null,null,null,"","","","","",null,{"$f":"IFERROR(VLOOKUP('5.Substance-in-Process'!N766,DSL!A:H,6,FALSE),\"-\")","v":"-"}]
[null,null,null,null,null,null,null,null,null,null,null,null,null,"","","","","",null,{"$f":"IFERROR(VLOOKUP('5.Substance-in-Process'!N767,DSL!A:H,6,FALSE),\"-\")","v":"-"}]
[null,null,null,null,null,null,null,null,null,null,null,null,null,"","","","","",null,{"$f":"IFERROR(VLOOKUP('5.Substance-in-Process'!N768,DSL!A:H,6,FALSE),\"-\")","v":"-"}]
[null,null,null,null,null,null,null,null,null,null,null,null,null,"","","","","",null,{"$f":"IFERROR(VLOOKUP('5.Substance-in-Process'!N769,DSL!A:H,6,FALSE),\"-\")","v":"-"}]
[null,null,null,null,null,null,null,null,null,null,null,null,null,"","","","","",null,{"$f":"IFERROR(VLOOKUP('5.Substance-in-Process'!N770,DSL!A:H,6,FALSE),\"-\")","v":"-"}]
[null,null,null,null,null,null,null,null,null,null,null,null,null,"","","","","",null,{"$f":"IFERROR(VLOOKUP('5.Substance-in-Process'!N771,DSL!A:H,6,FALSE),\"-\")","v":"-"}]
[null,null,null,null,null,null,null,null,null,null,null,null,null,"","","","","",null,{"$f":"IFERROR(VLOOKUP('5.Substance-in-Process'!N772,DSL!A:H,6,FALSE),\"-\")","v":"-"}]
[null,null,null,null,null,null,null,null,null,null,null,null,null,"","","","","",null,{"$f":"IFERROR(VLOOKUP('5.Substance-in-Process'!N773,DSL!A:H,6,FALSE),\"-\")","v":"-"}]
[null,null,null,null,null,null,null,null,null,null,null,null,null,"","","","","",null,{"$f":"IFERROR(VLOOKUP('5.Substance-in-Process'!N774,DSL!A:H,6,FALSE),\"-\")","v":"-"}]
[null,null,null,null,null,null,null,null,null,null,null,null,null,"","","","","",null,{"$f":"IFERROR(VLOOKUP('5.Substance-in-Process'!N775,DSL!A:H,6,FALSE),\"-\")","v":"-"}]
[null,null,null,null,null,null,null,null,null,null,null,null,null,"","","","","",null,{"$f":"IFERROR(VLOOKUP('5.Substance-in-Process'!N776,DSL!A:H,6,FALSE),\"-\")","v":"-"}]
[null,null,null,null,null,null,null,null,null,null,null,null,null,"","","","","",null,{"$f":"IFERROR(VLOOKUP('5.Substance-in-Process'!N777,DSL!A:H,6,FALSE),\"-\")","v":"-"}]
[null,null,null,null,null,null,null,null,null,null,null,null,null,"","","","","",null,{"$f":"IFERROR(VLOOKUP('5.Substance-in-Process'!N778,DSL!A:H,6,FALSE),\"-\")","v":"-"}]
[null,null,null,null,null,null,null,null,null,null,null,null,null,"","","","","",null,{"$f":"IFERROR(VLOOKUP('5.Substance-in-Process'!N779,DSL!A:H,6,FALSE),\"-\")","v":"-"}]
[null,null,null,null,null,null,null,null,null,null,null,null,null,"","","","","",null,{"$f":"IFERROR(VLOOKUP('5.Substance-in-Process'!N780,DSL!A:H,6,FALSE),\"-\")","v":"-"}]
[null,null,null,null,null,null,null,null,null,null,null,null,null,"","","","","",null,{"$f":"IFERROR(VLOOKUP('5.Substance-in-Process'!N781,DSL!A:H,6,FALSE),\"-\")","v":"-"}]
[null,null,null,null,null,null,null,null,null,null,null,null,null,"","","","","",null,{"$f":"IFERROR(VLOOKUP('5.Substance-in-Process'!N782,DSL!A:H,6,FALSE),\"-\")","v":"-"}]
[null,null,null,null,null,null,null,null,null,null,null,null,null,"","","","","",null,{"$f":"IFERROR(VLOOKUP('5.Substance-in-Process'!N783,DSL!A:H,6,FALSE),\"-\")","v":"-"}]
[null,null,null,null,null,null,null,null,null,null,null,null,null,"","","","","",null,{"$f":"IFERROR(VLOOKUP('5.Substance-in-Process'!N784,DSL!A:H,6,FALSE),\"-\")","v":"-"}]
[null,null,null,null,null,null,null,null,null,null,null,null,null,"","","","","",null,{"$f":"IFERROR(VLOOKUP('5.Substance-in-Process'!N785,DSL!A:H,6,FALSE),\"-\")","v":"-"}]
[null,null,null,null,null,null,null,null,null,null,null,null,null,"","","","","",null,{"$f":"IFERROR(VLOOKUP('5.Substance-in-Process'!N786,DSL!A:H,6,FALSE),\"-\")","v":"-"}]
[null,null,null,null,null,null,null,null,null,null,null,null,null,"","","","","",null,{"$f":"IFERROR(VLOOKUP('5.Substance-in-Process'!N787,DSL!A:H,6,FALSE),\"-\")","v":"-"}]
[null,null,null,null,null,null,null,null,null,null,null,null,null,"","","","","",null,{"$f":"IFERROR(VLOOKUP('5.Substance-in-Process'!N788,DSL!A:H,6,FALSE),\"-\")","v":"-"}]
[null,null,null,null,null,null,null,null,null,null,null,null,null,"","","","","",null,{"$f":"IFERROR(VLOOKUP('5.Substance-in-Process'!N789,DSL!A:H,6,FALSE),\"-\")","v":"-"}]
[null,null,null,null,null,null,null,null,null,null,null,null,null,"","","","","",null,{"$f":"IFERROR(VLOOKUP('5.Substance-in-Process'!N790,DSL!A:H,6,FALSE),\"-\")","v":"-"}]
[null,null,null,null,null,null,null,null,null,null,null,null,null,"","","","","",null,{"$f":"IFERROR(VLOOKUP('5.Substance-in-Process'!N791,DSL!A:H,6,FALSE),\"-\")","v":"-"}]
[null,null,null,null,null,null,null,null,null,null,null,null,null,"","","","","",null,{"$f":"IFERROR(VLOOKUP('5.Substance-in-Process'!N792,DSL!A:H,6,FALSE),\"-\")","v":"-"}]
[null,null,null,null,null,null,null,null,null,null,null,null,null,"","","","","",null,{"$f":"IFERROR(VLOOKUP('5.Substance-in-Process'!N793,DSL!A:H,6,FALSE),\"-\")","v":"-"}]
[null,null,null,null,null,null,null,null,null,null,null,null,null,"","","","","",null,{"$f":"IFERROR(VLOOKUP('5.Substance-in-Process'!N794,DSL!A:H,6,FALSE),\"-\")","v":"-"}]
[null,null,null,null,null,null,null,null,null,null,null,null,null,"","","","","",null,{"$f":"IFERROR(VLOOKUP('5.Substance-in-Process'!N795,DSL!A:H,6,FALSE),\"-\")","v":"-"}]
[null,null,null,null,null,null,null,null,null,null,null,null,null,"","","","","",null,{"$f":"IFERROR(VLOOKUP('5.Substance-in-Process'!N796,DSL!A:H,6,FALSE),\"-\")","v":"-"}]
[null,null,null,null,null,null,null,null,null,null,null,null,null,"","","","","",null,{"$f":"IFERROR(VLOOKUP('5.Substance-in-Process'!N797,DSL!A:H,6,FALSE),\"-\")","v":"-"}]
[null,null,null,null,null,null,null,null,null,null,null,null,null,"","","","","",null,{"$f":"IFERROR(VLOOKUP('5.Substance-in-Process'!N798,DSL!A:H,6,FALSE),\"-\")","v":"-"}]
[null,null,null,null,null,null,null,null,null,null,null,null,null,"","","","","",null,{"$f":"IFERROR(VLOOKUP('5.Substance-in-Process'!N799,DSL!A:H,6,FALSE),\"-\")","v":"-"}]
[null,null,null,null,null,null,null,null,null,null,null,null,null,"","","","","",null,{"$f":"IFERROR(VLOOKUP('5.Substance-in-Process'!N800,DSL!A:H,6,FALSE),\"-\")","v":"-"}]
[null,null,null,null,null,null,null,null,null,null,null,null,null,"","","","","",null,{"$f":"IFERROR(VLOOKUP('5.Substance-in-Process'!N801,DSL!A:H,6,FALSE),\"-\")","v":"-"}]
[null,null,null,null,null,null,null,null,null,null,null,null,null,"","","","","",null,{"$f":"IFERROR(VLOOKUP('5.Substance-in-Process'!N802,DSL!A:H,6,FALSE),\"-\")","v":"-"}]
[null,null,null,null,null,null,null,null,null,null,null,null,null,"","","","","",null,{"$f":"IFERROR(VLOOKUP('5.Substance-in-Process'!N803,DSL!A:H,6,FALSE),\"-\")","v":"-"}]
[null,null,null,null,null,null,null,null,null,null,null,null,null,"","","","","",null,{"$f":"IFERROR(VLOOKUP('5.Substance-in-Process'!N804,DSL!A:H,6,FALSE),\"-\")","v":"-"}]
[null,null,null,null,null,null,null,null,null,null,null,null,null,"","","","","",null,{"$f":"IFERROR(VLOOKUP('5.Substance-in-Process'!N805,DSL!A:H,6,FALSE),\"-\")","v":"-"}]
[null,null,null,null,null,null,null,null,null,null,null,null,null,"","","","","",null,{"$f":"IFERROR(VLOOKUP('5.Substance-in-Process'!N806,DSL!A:H,6,FALSE),\"-\")","v":"-"}]
[null,null,null,null,null,null,null,null,null,null,null,null,null,"","","","","",null,{"$f":"IFERROR(VLOOKUP('5.Substance-in-Process'!N807,DSL!A:H,6,FALSE),\"-\")","v":"-"}]
[null,null,null,null,null,null,null,null,null,null,null,null,null,"","","","","",null,{"$f":"IFERROR(VLOOKUP('5.Substance-in-Process'!N808,DSL!A:H,6,FALSE),\"-\")","v":"-"}]
[null,null,null,null,null,null,null,null,null,null,null,null,null,"","","","","",null,{"$f":"IFERROR(VLOOKUP('5.Substance-in-Process'!N809,DSL!A:H,6,FALSE),\"-\")","v":"-"}]
[null,null,null,null,null,null,null,null,null,null,null,null,null,"","","","","",null,{"$f":"IFERROR(VLOOKUP('5.Substance-in-Process'!N810,DSL!A:H,6,FALSE),\"-\")","v":"-"}]
[null,null,null,null,null,null,null,null,null,null,null,null,null,"","","","","",null,{"$f":"IFERROR(VLOOKUP('5.Substance-in-Process'!N811,DSL!A:H,6,FALSE),\"-\")","v":"-"}]
[null,null,null,null,null,null,null,null,null,null,null,null,null,"","","","","",null,{"$f":"IFERROR(VLOOKUP('5.Substance-in-Process'!N812,DSL!A:H,6,FALSE),\"-\")","v":"-"}]
[null,null,null,null,null,null,null,null,null,null,null,null,null,"","","","","",null,{"$f":"IFERROR(VLOOKUP('5.Substance-in-Process'!N813,DSL!A:H,6,FALSE),\"-\")","v":"-"}]
[null,null,null,null,null,null,null,null,null,null,null,null,null,"","","","","",null,{"$f":"IFERROR(VLOOKUP('5.Substance-in-Process'!N814,DSL!A:H,6,FALSE),\"-\")","v":"-"}]
[null,null,null,null,null,null,null,null,null,null,null,null,null,"","","","","",null,{"$f":"IFERROR(VLOOKUP('5.Substance-in-Process'!N815,DSL!A:H,6,FALSE),\"-\")","v":"-"}]
[null,null,null,null,null,null,null,null,null,null,null,null,null,"","","","","",null,{"$f":"IFERROR(VLOOKUP('5.Substance-in-Process'!N816,DSL!A:H,6,FALSE),\"-\")","v":"-"}]
[null,null,null,null,null,null,null,null,null,null,null,null,null,"","","","","",null,{"$f":"IFERROR(VLOOKUP('5.Substance-in-Process'!N817,DSL!A:H,6,FALSE),\"-\")","v":"-"}]
[null,null,null,null,null,null,null,null,null,null,null,null,null,"","","","","",null,{"$f":"IFERROR(VLOOKUP('5.Substance-in-Process'!N818,DSL!A:H,6,FALSE),\"-\")","v":"-"}]
[null,null,null,null,null,null,null,null,null,null,null,null,null,"","","","","",null,{"$f":"IFERROR(VLOOKUP('5.Substance-in-Process'!N819,DSL!A:H,6,FALSE),\"-\")","v":"-"}]
[null,null,null,null,null,null,null,null,null,null,null,null,null,"","","","","",null,{"$f":"IFERROR(VLOOKUP('5.Substance-in-Process'!N820,DSL!A:H,6,FALSE),\"-\")","v":"-"}]
[null,null,null,null,null,null,null,null,null,null,null,null,null,"","","","","",null,{"$f":"IFERROR(VLOOKUP('5.Substance-in-Process'!N821,DSL!A:H,6,FALSE),\"-\")","v":"-"}]
[null,null,null,null,null,null,null,null,null,null,null,null,null,"","","","","",null,{"$f":"IFERROR(VLOOKUP('5.Substance-in-Process'!N822,DSL!A:H,6,FALSE),\"-\")","v":"-"}]
[null,null,null,null,null,null,null,null,null,null,null,null,null,"","","","","",null,{"$f":"IFERROR(VLOOKUP('5.Substance-in-Process'!N823,DSL!A:H,6,FALSE),\"-\")","v":"-"}]
[null,null,null,null,null,null,null,null,null,null,null,null,null,"","","","","",null,{"$f":"IFERROR(VLOOKUP('5.Substance-in-Process'!N824,DSL!A:H,6,FALSE),\"-\")","v":"-"}]
[null,null,null,null,null,null,null,null,null,null,null,null,null,"","","","","",null,{"$f":"IFERROR(VLOOKUP('5.Substance-in-Process'!N825,DSL!A:H,6,FALSE),\"-\")","v":"-"}]
[null,null,null,null,null,null,null,null,null,null,null,null,null,"","","","","",null,{"$f":"IFERROR(VLOOKUP('5.Substance-in-Process'!N826,DSL!A:H,6,FALSE),\"-\")","v":"-"}]
[null,null,null,null,null,null,null,null,null,null,null,null,null,"","","","","",null,{"$f":"IFERROR(VLOOKUP('5.Substance-in-Process'!N827,DSL!A:H,6,FALSE),\"-\")","v":"-"}]
[null,null,null,null,null,null,null,null,null,null,null,null,null,"","","","","",null,{"$f":"IFERROR(VLOOKUP('5.Substance-in-Process'!N828,DSL!A:H,6,FALSE),\"-\")","v":"-"}]
[null,null,null,null,null,null,null,null,null,null,null,null,null,"","","","","",null,{"$f":"IFERROR(VLOOKUP('5.Substance-in-Process'!N829,DSL!A:H,6,FALSE),\"-\")","v":"-"}]
[null,null,null,null,null,null,null,null,null,null,null,null,null,"","","","","",null,{"$f":"IFERROR(VLOOKUP('5.Substance-in-Process'!N830,DSL!A:H,6,FALSE),\"-\")","v":"-"}]
[null,null,null,null,null,null,null,null,null,null,null,null,null,"","","","","",null,{"$f":"IFERROR(VLOOKUP('5.Substance-in-Process'!N831,DSL!A:H,6,FALSE),\"-\")","v":"-"}]
[null,null,null,null,null,null,null,null,null,null,null,null,null,"","","","","",null,{"$f":"IFERROR(VLOOKUP('5.Substance-in-Process'!N832,DSL!A:H,6,FALSE),\"-\")","v":"-"}]
[null,null,null,null,null,null,null,null,null,null,null,null,null,"","","","","",null,{"$f":"IFERROR(VLOOKUP('5.Substance-in-Process'!N833,DSL!A:H,6,FALSE),\"-\")","v":"-"}]
[null,null,null,null,null,null,null,null,null,null,null,null,null,"","","","","",null,{"$f":"IFERROR(VLOOKUP('5.Substance-in-Process'!N834,DSL!A:H,6,FALSE),\"-\")","v":"-"}]
[null,null,null,null,null,null,null,null,null,null,null,null,null,"","","","","",null,{"$f":"IFERROR(VLOOKUP('5.Substance-in-Process'!N835,DSL!A:H,6,FALSE),\"-\")","v":"-"}]
[null,null,null,null,null,null,null,null,null,null,null,null,null,"","","","","",null,{"$f":"IFERROR(VLOOKUP('5.Substance-in-Process'!N836,DSL!A:H,6,FALSE),\"-\")","v":"-"}]
[null,null,null,null,null,null,null,null,null,null,null,null,null,"","","","","",null,{"$f":"IFERROR(VLOOKUP('5.Substance-in-Process'!N837,DSL!A:H,6,FALSE),\"-\")","v":"-"}]
[null,null,null,null,null,null,null,null,null,null,null,null,null,"","","","","",null,{"$f":"IFERROR(VLOOKUP('5.Substance-in-Process'!N838,DSL!A:H,6,FALSE),\"-\")","v":"-"}]
[null,null,null,null,null,null,null,null,null,null,null,null,null,"","","","","",null,{"$f":"IFERROR(VLOOKUP('5.Substance-in-Process'!N839,DSL!A:H,6,FALSE),\"-\")","v":"-"}]
[null,null,null,null,null,null,null,null,null,null,null,null,null,"","","","","",null,{"$f":"IFERROR(VLOOKUP('5.Substance-in-Process'!N840,DSL!A:H,6,FALSE),\"-\")","v":"-"}]
[null,null,null,null,null,null,null,null,null,null,null,null,null,"","","","","",null,{"$f":"IFERROR(VLOOKUP('5.Substance-in-Process'!N841,DSL!A:H,6,FALSE),\"-\")","v":"-"}]
[null,null,null,null,null,null,null,null,null,null,null,null,null,"","","","","",null,{"$f":"IFERROR(VLOOKUP('5.Substance-in-Process'!N842,DSL!A:H,6,FALSE),\"-\")","v":"-"}]
[null,null,null,null,null,null,null,null,null,null,null,null,null,"","","","","",null,{"$f":"IFERROR(VLOOKUP('5.Substance-in-Process'!N843,DSL!A:H,6,FALSE),\"-\")","v":"-"}]
[null,null,null,null,null,null,null,null,null,null,null,null,null,"","","","","",null,{"$f":"IFERROR(VLOOKUP('5.Substance-in-Process'!N844,DSL!A:H,6,FALSE),\"-\")","v":"-"}]
[null,null,null,null,null,null,null,null,null,null,null,null,null,"","","","","",null,{"$f":"IFERROR(VLOOKUP('5.Substance-in-Process'!N845,DSL!A:H,6,FALSE),\"-\")","v":"-"}]
[null,null,null,null,null,null,null,null,null,null,null,null,null,"","","","","",null,{"$f":"IFERROR(VLOOKUP('5.Substance-in-Process'!N846,DSL!A:H,6,FALSE),\"-\")","v":"-"}]
[null,null,null,null,null,null,null,null,null,null,null,null,null,"","","","","",null,{"$f":"IFERROR(VLOOKUP('5.Substance-in-Process'!N847,DSL!A:H,6,FALSE),\"-\")","v":"-"}]
[null,null,null,null,null,null,null,null,null,null,null,null,null,"","","","","",null,{"$f":"IFERROR(VLOOKUP('5.Substance-in-Process'!N848,DSL!A:H,6,FALSE),\"-\")","v":"-"}]
[null,null,null,null,null,null,null,null,null,null,null,null,null,"","","","","",null,{"$f":"IFERROR(VLOOKUP('5.Substance-in-Process'!N849,DSL!A:H,6,FALSE),\"-\")","v":"-"}]
[null,null,null,null,null,null,null,null,null,null,null,null,null,"","","","","",null,{"$f":"IFERROR(VLOOKUP('5.Substance-in-Process'!N850,DSL!A:H,6,FALSE),\"-\")","v":"-"}]
[null,null,null,null,null,null,null,null,null,null,null,null,null,"","","","","",null,{"$f":"IFERROR(VLOOKUP('5.Substance-in-Process'!N851,DSL!A:H,6,FALSE),\"-\")","v":"-"}]
[null,null,null,null,null,null,null,null,null,null,null,null,null,"","","","","",null,{"$f":"IFERROR(VLOOKUP('5.Substance-in-Process'!N852,DSL!A:H,6,FALSE),\"-\")","v":"-"}]
[null,null,null,null,null,null,null,null,null,null,null,null,null,"","","","","",null,{"$f":"IFERROR(VLOOKUP('5.Substance-in-Process'!N853,DSL!A:H,6,FALSE),\"-\")","v":"-"}]
[null,null,null,null,null,null,null,null,null,null,null,null,null,"","","","","",null,{"$f":"IFERROR(VLOOKUP('5.Substance-in-Process'!N854,DSL!A:H,6,FALSE),\"-\")","v":"-"}]
[null,null,null,null,null,null,null,null,null,null,null,null,null,"","","","","",null,{"$f":"IFERROR(VLOOKUP('5.Substance-in-Process'!N855,DSL!A:H,6,FALSE),\"-\")","v":"-"}]
[null,null,null,null,null,null,null,null,null,null,null,null,null,"","","","","",null,{"$f":"IFERROR(VLOOKUP('5.Substance-in-Process'!N856,DSL!A:H,6,FALSE),\"-\")","v":"-"}]
[null,null,null,null,null,null,null,null,null,null,null,null,null,"","","","","",null,{"$f":"IFERROR(VLOOKUP('5.Substance-in-Process'!N857,DSL!A:H,6,FALSE),\"-\")","v":"-"}]
[null,null,null,null,null,null,null,null,null,null,null,null,null,"","","","","",null,{"$f":"IFERROR(VLOOKUP('5.Substance-in-Process'!N858,DSL!A:H,6,FALSE),\"-\")","v":"-"}]
[null,null,null,null,null,null,null,null,null,null,null,null,null,"","","","","",null,{"$f":"IFERROR(VLOOKUP('5.Substance-in-Process'!N859,DSL!A:H,6,FALSE),\"-\")","v":"-"}]
[null,null,null,null,null,null,null,null,null,null,null,null,null,"","","","","",null,{"$f":"IFERROR(VLOOKUP('5.Substance-in-Process'!N860,DSL!A:H,6,FALSE),\"-\")","v":"-"}]
[null,null,null,null,null,null,null,null,null,null,null,null,null,"","","","","",null,{"$f":"IFERROR(VLOOKUP('5.Substance-in-Process'!N861,DSL!A:H,6,FALSE),\"-\")","v":"-"}]
[null,null,null,null,null,null,null,null,null,null,null,null,null,"","","","","",null,{"$f":"IFERROR(VLOOKUP('5.Substance-in-Process'!N862,DSL!A:H,6,FALSE),\"-\")","v":"-"}]
[null,null,null,null,null,null,null,null,null,null,null,null,null,"","","","","",null,{"$f":"IFERROR(VLOOKUP('5.Substance-in-Process'!N863,DSL!A:H,6,FALSE),\"-\")","v":"-"}]
[null,null,null,null,null,null,null,null,null,null,null,null,null,"","","","","",null,{"$f":"IFERROR(VLOOKUP('5.Substance-in-Process'!N864,DSL!A:H,6,FALSE),\"-\")","v":"-"}]
[null,null,null,null,null,null,null,null,null,null,null,null,null,"","","","","",null,{"$f":"IFERROR(VLOOKUP('5.Substance-in-Process'!N865,DSL!A:H,6,FALSE),\"-\")","v":"-"}]
[null,null,null,null,null,null,null,null,null,null,null,null,null,"","","","","",null,{"$f":"IFERROR(VLOOKUP('5.Substance-in-Process'!N866,DSL!A:H,6,FALSE),\"-\")","v":"-"}]
[null,null,null,null,null,null,null,null,null,null,null,null,null,"","","","","",null,{"$f":"IFERROR(VLOOKUP('5.Substance-in-Process'!N867,DSL!A:H,6,FALSE),\"-\")","v":"-"}]
[null,null,null,null,null,null,null,null,null,null,null,null,null,"","","","","",null,{"$f":"IFERROR(VLOOKUP('5.Substance-in-Process'!N868,DSL!A:H,6,FALSE),\"-\")","v":"-"}]
[null,null,null,null,null,null,null,null,null,null,null,null,null,"","","","","",null,{"$f":"IFERROR(VLOOKUP('5.Substance-in-Process'!N869,DSL!A:H,6,FALSE),\"-\")","v":"-"}]
[null,null,null,null,null,null,null,null,null,null,null,null,null,"","","","","",null,{"$f":"IFERROR(VLOOKUP('5.Substance-in-Process'!N870,DSL!A:H,6,FALSE),\"-\")","v":"-"}]
[null,null,null,null,null,null,null,null,null,null,null,null,null,"","","","","",null,{"$f":"IFERROR(VLOOKUP('5.Substance-in-Process'!N871,DSL!A:H,6,FALSE),\"-\")","v":"-"}]
[null,null,null,null,null,null,null,null,null,null,null,null,null,"","","","","",null,{"$f":"IFERROR(VLOOKUP('5.Substance-in-Process'!N872,DSL!A:H,6,FALSE),\"-\")","v":"-"}]
[null,null,null,null,null,null,null,null,null,null,null,null,null,"","","","","",null,{"$f":"IFERROR(VLOOKUP('5.Substance-in-Process'!N873,DSL!A:H,6,FALSE),\"-\")","v":"-"}]
[null,null,null,null,null,null,null,null,null,null,null,null,null,"","","","","",null,{"$f":"IFERROR(VLOOKUP('5.Substance-in-Process'!N874,DSL!A:H,6,FALSE),\"-\")","v":"-"}]
[null,null,null,null,null,null,null,null,null,null,null,null,null,"","","","","",null,{"$f":"IFERROR(VLOOKUP('5.Substance-in-Process'!N875,DSL!A:H,6,FALSE),\"-\")","v":"-"}]
[null,null,null,null,null,null,null,null,null,null,null,null,null,"","","","","",null,{"$f":"IFERROR(VLOOKUP('5.Substance-in-Process'!N876,DSL!A:H,6,FALSE),\"-\")","v":"-"}]
[null,null,null,null,null,null,null,null,null,null,null,null,null,"","","","","",null,{"$f":"IFERROR(VLOOKUP('5.Substance-in-Process'!N877,DSL!A:H,6,FALSE),\"-\")","v":"-"}]
[null,null,null,null,null,null,null,null,null,null,null,null,null,"","","","","",null,{"$f":"IFERROR(VLOOKUP('5.Substance-in-Process'!N878,DSL!A:H,6,FALSE),\"-\")","v":"-"}]
[null,null,null,null,null,null,null,null,null,null,null,null,null,"","","","","",null,{"$f":"IFERROR(VLOOKUP('5.Substance-in-Process'!N879,DSL!A:H,6,FALSE),\"-\")","v":"-"}]
[null,null,null,null,null,null,null,null,null,null,null,null,null,"","","","","",null,{"$f":"IFERROR(VLOOKUP('5.Substance-in-Process'!N880,DSL!A:H,6,FALSE),\"-\")","v":"-"}]
[null,null,null,null,null,null,null,null,null,null,null,null,null,"","","","","",null,{"$f":"IFERROR(VLOOKUP('5.Substance-in-Process'!N881,DSL!A:H,6,FALSE),\"-\")","v":"-"}]
[null,null,null,null,null,null,null,null,null,null,null,null,null,"","","","","",null,{"$f":"IFERROR(VLOOKUP('5.Substance-in-Process'!N882,DSL!A:H,6,FALSE),\"-\")","v":"-"}]
[null,null,null,null,null,null,null,null,null,null,null,null,null,"","","","","",null,{"$f":"IFERROR(VLOOKUP('5.Substance-in-Process'!N883,DSL!A:H,6,FALSE),\"-\")","v":"-"}]
[null,null,null,null,null,null,null,null,null,null,null,null,null,"","","","","",null,{"$f":"IFERROR(VLOOKUP('5.Substance-in-Process'!N884,DSL!A:H,6,FALSE),\"-\")","v":"-"}]
[null,null,null,null,null,null,null,null,null,null,null,null,null,"","","","","",null,{"$f":"IFERROR(VLOOKUP('5.Substance-in-Process'!N885,DSL!A:H,6,FALSE),\"-\")","v":"-"}]
[null,null,null,null,null,null,null,null,null,null,null,null,null,"","","","","",null,{"$f":"IFERROR(VLOOKUP('5.Substance-in-Process'!N886,DSL!A:H,6,FALSE),\"-\")","v":"-"}]
[null,null,null,null,null,null,null,null,null,null,null,null,null,"","","","","",null,{"$f":"IFERROR(VLOOKUP('5.Substance-in-Process'!N887,DSL!A:H,6,FALSE),\"-\")","v":"-"}]
[null,null,null,null,null,null,null,null,null,null,null,null,null,"","","","","",null,{"$f":"IFERROR(VLOOKUP('5.Substance-in-Process'!N888,DSL!A:H,6,FALSE),\"-\")","v":"-"}]
[null,null,null,null,null,null,null,null,null,null,null,null,null,"","","","","",null,{"$f":"IFERROR(VLOOKUP('5.Substance-in-Process'!N889,DSL!A:H,6,FALSE),\"-\")","v":"-"}]
[null,null,null,null,null,null,null,null,null,null,null,null,null,"","","","","",null,{"$f":"IFERROR(VLOOKUP('5.Substance-in-Process'!N890,DSL!A:H,6,FALSE),\"-\")","v":"-"}]
[null,null,null,null,null,null,null,null,null,null,null,null,null,"","","","","",null,{"$f":"IFERROR(VLOOKUP('5.Substance-in-Process'!N891,DSL!A:H,6,FALSE),\"-\")","v":"-"}]
[null,null,null,null,null,null,null,null,null,null,null,null,null,"","","","","",null,{"$f":"IFERROR(VLOOKUP('5.Substance-in-Process'!N892,DSL!A:H,6,FALSE),\"-\")","v":"-"}]
[null,null,null,null,null,null,null,null,null,null,null,null,null,"","","","","",null,{"$f":"IFERROR(VLOOKUP('5.Substance-in-Process'!N893,DSL!A:H,6,FALSE),\"-\")","v":"-"}]
[null,null,null,null,null,null,null,null,null,null,null,null,null,"","","","","",null,{"$f":"IFERROR(VLOOKUP('5.Substance-in-Process'!N894,DSL!A:H,6,FALSE),\"-\")","v":"-"}]
[null,null,null,null,null,null,null,null,null,null,null,null,null,"","","","","",null,{"$f":"IFERROR(VLOOKUP('5.Substance-in-Process'!N895,DSL!A:H,6,FALSE),\"-\")","v":"-"}]
[null,null,null,null,null,null,null,null,null,null,null,null,null,"","","","","",null,{"$f":"IFERROR(VLOOKUP('5.Substance-in-Process'!N896,DSL!A:H,6,FALSE),\"-\")","v":"-"}]
[null,null,null,null,null,null,null,null,null,null,null,null,null,"","","","","",null,{"$f":"IFERROR(VLOOKUP('5.Substance-in-Process'!N897,DSL!A:H,6,FALSE),\"-\")","v":"-"}]
[null,null,null,null,null,null,null,null,null,null,null,null,null,"","","","","",null,{"$f":"IFERROR(VLOOKUP('5.Substance-in-Process'!N898,DSL!A:H,6,FALSE),\"-\")","v":"-"}]
[null,null,null,null,null,null,null,null,null,null,null,null,null,"","","","","",null,{"$f":"IFERROR(VLOOKUP('5.Substance-in-Process'!N899,DSL!A:H,6,FALSE),\"-\")","v":"-"}]
[null,null,null,null,null,null,null,null,null,null,null,null,null,"","","","","",null,{"$f":"IFERROR(VLOOKUP('5.Substance-in-Process'!N900,DSL!A:H,6,FALSE),\"-\")","v":"-"}]
[null,null,null,null,null,null,null,null,null,null,null,null,null,"","","","","",null,{"$f":"IFERROR(VLOOKUP('5.Substance-in-Process'!N901,DSL!A:H,6,FALSE),\"-\")","v":"-"}]
[null,null,null,null,null,null,null,null,null,null,null,null,null,"","","","","",null,{"$f":"IFERROR(VLOOKUP('5.Substance-in-Process'!N902,DSL!A:H,6,FALSE),\"-\")","v":"-"}]
[null,null,null,null,null,null,null,null,null,null,null,null,null,"","","","","",null,{"$f":"IFERROR(VLOOKUP('5.Substance-in-Process'!N903,DSL!A:H,6,FALSE),\"-\")","v":"-"}]
[null,null,null,null,null,null,null,null,null,null,null,null,null,"","","","","",null,{"$f":"IFERROR(VLOOKUP('5.Substance-in-Process'!N904,DSL!A:H,6,FALSE),\"-\")","v":"-"}]
[null,null,null,null,null,null,null,null,null,null,null,null,null,"","","","","",null,{"$f":"IFERROR(VLOOKUP('5.Substance-in-Process'!N905,DSL!A:H,6,FALSE),\"-\")","v":"-"}]
[null,null,null,null,null,null,null,null,null,null,null,null,null,"","","","","",null,{"$f":"IFERROR(VLOOKUP('5.Substance-in-Process'!N906,DSL!A:H,6,FALSE),\"-\")","v":"-"}]
[null,null,null,null,null,null,null,null,null,null,null,null,null,"","","","","",null,{"$f":"IFERROR(VLOOKUP('5.Substance-in-Process'!N907,DSL!A:H,6,FALSE),\"-\")","v":"-"}]
[null,null,null,null,null,null,null,null,null,null,null,null,null,"","","","","",null,{"$f":"IFERROR(VLOOKUP('5.Substance-in-Process'!N908,DSL!A:H,6,FALSE),\"-\")","v":"-"}]
[null,null,null,null,null,null,null,null,null,null,null,null,null,"","","","","",null,{"$f":"IFERROR(VLOOKUP('5.Substance-in-Process'!N909,DSL!A:H,6,FALSE),\"-\")","v":"-"}]
[null,null,null,null,null,null,null,null,null,null,null,null,null,"","","","","",null,{"$f":"IFERROR(VLOOKUP('5.Substance-in-Process'!N910,DSL!A:H,6,FALSE),\"-\")","v":"-"}]
[null,null,null,null,null,null,null,null,null,null,null,null,null,"","","","","",null,{"$f":"IFERROR(VLOOKUP('5.Substance-in-Process'!N911,DSL!A:H,6,FALSE),\"-\")","v":"-"}]
[null,null,null,null,null,null,null,null,null,null,null,null,null,"","","","","",null,{"$f":"IFERROR(VLOOKUP('5.Substance-in-Process'!N912,DSL!A:H,6,FALSE),\"-\")","v":"-"}]
[null,null,null,null,null,null,null,null,null,null,null,null,null,"","","","","",null,{"$f":"IFERROR(VLOOKUP('5.Substance-in-Process'!N913,DSL!A:H,6,FALSE),\"-\")","v":"-"}]
[null,null,null,null,null,null,null,null,null,null,null,null,null,"","","","","",null,{"$f":"IFERROR(VLOOKUP('5.Substance-in-Process'!N914,DSL!A:H,6,FALSE),\"-\")","v":"-"}]
[null,null,null,null,null,null,null,null,null,null,null,null,null,"","","","","",null,{"$f":"IFERROR(VLOOKUP('5.Substance-in-Process'!N915,DSL!A:H,6,FALSE),\"-\")","v":"-"}]
[null,null,null,null,null,null,null,null,null,null,null,null,null,"","","","","",null,{"$f":"IFERROR(VLOOKUP('5.Substance-in-Process'!N916,DSL!A:H,6,FALSE),\"-\")","v":"-"}]
[null,null,null,null,null,null,null,null,null,null,null,null,null,"","","","","",null,{"$f":"IFERROR(VLOOKUP('5.Substance-in-Process'!N917,DSL!A:H,6,FALSE),\"-\")","v":"-"}]
[null,null,null,null,null,null,null,null,null,null,null,null,null,"","","","","",null,{"$f":"IFERROR(VLOOKUP('5.Substance-in-Process'!N918,DSL!A:H,6,FALSE),\"-\")","v":"-"}]
[null,null,null,null,null,null,null,null,null,null,null,null,null,"","","","","",null,{"$f":"IFERROR(VLOOKUP('5.Substance-in-Process'!N919,DSL!A:H,6,FALSE),\"-\")","v":"-"}]
[null,null,null,null,null,null,null,null,null,null,null,null,null,"","","","","",null,{"$f":"IFERROR(VLOOKUP('5.Substance-in-Process'!N920,DSL!A:H,6,FALSE),\"-\")","v":"-"}]
[null,null,null,null,null,null,null,null,null,null,null,null,null,"","","","","",null,{"$f":"IFERROR(VLOOKUP('5.Substance-in-Process'!N921,DSL!A:H,6,FALSE),\"-\")","v":"-"}]
[null,null,null,null,null,null,null,null,null,null,null,null,null,"","","","","",null,{"$f":"IFERROR(VLOOKUP('5.Substance-in-Process'!N922,DSL!A:H,6,FALSE),\"-\")","v":"-"}]
[null,null,null,null,null,null,null,null,null,null,null,null,null,"","","","","",null,{"$f":"IFERROR(VLOOKUP('5.Substance-in-Process'!N923,DSL!A:H,6,FALSE),\"-\")","v":"-"}]
[null,null,null,null,null,null,null,null,null,null,null,null,null,"","","","","",null,{"$f":"IFERROR(VLOOKUP('5.Substance-in-Process'!N924,DSL!A:H,6,FALSE),\"-\")","v":"-"}]
[null,null,null,null,null,null,null,null,null,null,null,null,null,"","","","","",null,{"$f":"IFERROR(VLOOKUP('5.Substance-in-Process'!N925,DSL!A:H,6,FALSE),\"-\")","v":"-"}]
[null,null,null,null,null,null,null,null,null,null,null,null,null,"","","","","",null,{"$f":"IFERROR(VLOOKUP('5.Substance-in-Process'!N926,DSL!A:H,6,FALSE),\"-\")","v":"-"}]
[null,null,null,null,null,null,null,null,null,null,null,null,null,"","","","","",null,{"$f":"IFERROR(VLOOKUP('5.Substance-in-Process'!N927,DSL!A:H,6,FALSE),\"-\")","v":"-"}]
[null,null,null,null,null,null,null,null,null,null,null,null,null,"","","","","",null,{"$f":"IFERROR(VLOOKUP('5.Substance-in-Process'!N928,DSL!A:H,6,FALSE),\"-\")","v":"-"}]
[null,null,null,null,null,null,null,null,null,null,null,null,null,"","","","","",null,{"$f":"IFERROR(VLOOKUP('5.Substance-in-Process'!N929,DSL!A:H,6,FALSE),\"-\")","v":"-"}]
[null,null,null,null,null,null,null,null,null,null,null,null,null,"","","","","",null,{"$f":"IFERROR(VLOOKUP('5.Substance-in-Process'!N930,DSL!A:H,6,FALSE),\"-\")","v":"-"}]
[null,null,null,null,null,null,null,null,null,null,null,null,null,"","","","","",null,{"$f":"IFERROR(VLOOKUP('5.Substance-in-Process'!N931,DSL!A:H,6,FALSE),\"-\")","v":"-"}]
[null,null,null,null,null,null,null,null,null,null,null,null,null,"","","","","",null,{"$f":"IFERROR(VLOOKUP('5.Substance-in-Process'!N932,DSL!A:H,6,FALSE),\"-\")","v":"-"}]
[null,null,null,null,null,null,null,null,null,null,null,null,null,"","","","","",null,{"$f":"IFERROR(VLOOKUP('5.Substance-in-Process'!N933,DSL!A:H,6,FALSE),\"-\")","v":"-"}]
[null,null,null,null,null,null,null,null,null,null,null,null,null,"","","","","",null,{"$f":"IFERROR(VLOOKUP('5.Substance-in-Process'!N934,DSL!A:H,6,FALSE),\"-\")","v":"-"}]
[null,null,null,null,null,null,null,null,null,null,null,null,null,"","","","","",null,{"$f":"IFERROR(VLOOKUP('5.Substance-in-Process'!N935,DSL!A:H,6,FALSE),\"-\")","v":"-"}]
[null,null,null,null,null,null,null,null,null,null,null,null,null,"","","","","",null,{"$f":"IFERROR(VLOOKUP('5.Substance-in-Process'!N936,DSL!A:H,6,FALSE),\"-\")","v":"-"}]
[null,null,null,null,null,null,null,null,null,null,null,null,null,"","","","","",null,{"$f":"IFERROR(VLOOKUP('5.Substance-in-Process'!N937,DSL!A:H,6,FALSE),\"-\")","v":"-"}]
[null,null,null,null,null,null,null,null,null,null,null,null,null,"","","","","",null,{"$f":"IFERROR(VLOOKUP('5.Substance-in-Process'!N938,DSL!A:H,6,FALSE),\"-\")","v":"-"}]
[null,null,null,null,null,null,null,null,null,null,null,null,null,"","","","","",null,{"$f":"IFERROR(VLOOKUP('5.Substance-in-Process'!N939,DSL!A:H,6,FALSE),\"-\")","v":"-"}]
[null,null,null,null,null,null,null,null,null,null,null,null,null,"","","","","",null,{"$f":"IFERROR(VLOOKUP('5.Substance-in-Process'!N940,DSL!A:H,6,FALSE),\"-\")","v":"-"}]
[null,null,null,null,null,null,null,null,null,null,null,null,null,"","","","","",null,{"$f":"IFERROR(VLOOKUP('5.Substance-in-Process'!N941,DSL!A:H,6,FALSE),\"-\")","v":"-"}]
[null,null,null,null,null,null,null,null,null,null,null,null,null,"","","","","",null,{"$f":"IFERROR(VLOOKUP('5.Substance-in-Process'!N942,DSL!A:H,6,FALSE),\"-\")","v":"-"}]
[null,null,null,null,null,null,null,null,null,null,null,null,null,"","","","","",null,{"$f":"IFERROR(VLOOKUP('5.Substance-in-Process'!N943,DSL!A:H,6,FALSE),\"-\")","v":"-"}]
[null,null,null,null,null,null,null,null,null,null,null,null,null,"","","","","",null,{"$f":"IFERROR(VLOOKUP('5.Substance-in-Process'!N944,DSL!A:H,6,FALSE),\"-\")","v":"-"}]
[null,null,null,null,null,null,null,null,null,null,null,null,null,"","","","","",null,{"$f":"IFERROR(VLOOKUP('5.Substance-in-Process'!N945,DSL!A:H,6,FALSE),\"-\")","v":"-"}]
[null,null,null,null,null,null,null,null,null,null,null,null,null,"","","","","",null,{"$f":"IFERROR(VLOOKUP('5.Substance-in-Process'!N946,DSL!A:H,6,FALSE),\"-\")","v":"-"}]
[null,null,null,null,null,null,null,null,null,null,null,null,null,"","","","","",null,{"$f":"IFERROR(VLOOKUP('5.Substance-in-Process'!N947,DSL!A:H,6,FALSE),\"-\")","v":"-"}]
[null,null,null,null,null,null,null,null,null,null,null,null,null,"","","","","",null,{"$f":"IFERROR(VLOOKUP('5.Substance-in-Process'!N948,DSL!A:H,6,FALSE),\"-\")","v":"-"}]
[null,null,null,null,null,null,null,null,null,null,null,null,null,"","","","","",null,{"$f":"IFERROR(VLOOKUP('5.Substance-in-Process'!N949,DSL!A:H,6,FALSE),\"-\")","v":"-"}]
[null,null,null,null,null,null,null,null,null,null,null,null,null,"","","","","",null,{"$f":"IFERROR(VLOOKUP('5.Substance-in-Process'!N950,DSL!A:H,6,FALSE),\"-\")","v":"-"}]
[null,null,null,null,null,null,null,null,null,null,null,null,null,"","","","","",null,{"$f":"IFERROR(VLOOKUP('5.Substance-in-Process'!N951,DSL!A:H,6,FALSE),\"-\")","v":"-"}]
[null,null,null,null,null,null,null,null,null,null,null,null,null,"","","","","",null,{"$f":"IFERROR(VLOOKUP('5.Substance-in-Process'!N952,DSL!A:H,6,FALSE),\"-\")","v":"-"}]
[null,null,null,null,null,null,null,null,null,null,null,null,null,"","","","","",null,{"$f":"IFERROR(VLOOKUP('5.Substance-in-Process'!N953,DSL!A:H,6,FALSE),\"-\")","v":"-"}]
[null,null,null,null,null,null,null,null,null,null,null,null,null,"","","","","",null,{"$f":"IFERROR(VLOOKUP('5.Substance-in-Process'!N954,DSL!A:H,6,FALSE),\"-\")","v":"-"}]
[null,null,null,null,null,null,null,null,null,null,null,null,null,"","","","","",null,{"$f":"IFERROR(VLOOKUP('5.Substance-in-Process'!N955,DSL!A:H,6,FALSE),\"-\")","v":"-"}]
[null,null,null,null,null,null,null,null,null,null,null,null,null,"","","","","",null,{"$f":"IFERROR(VLOOKUP('5.Substance-in-Process'!N956,DSL!A:H,6,FALSE),\"-\")","v":"-"}]
[null,null,null,null,null,null,null,null,null,null,null,null,null,"","","","","",null,{"$f":"IFERROR(VLOOKUP('5.Substance-in-Process'!N957,DSL!A:H,6,FALSE),\"-\")","v":"-"}]
[null,null,null,null,null,null,null,null,null,null,null,null,null,"","","","","",null,{"$f":"IFERROR(VLOOKUP('5.Substance-in-Process'!N958,DSL!A:H,6,FALSE),\"-\")","v":"-"}]
[null,null,null,null,null,null,null,null,null,null,null,null,null,"","","","","",null,{"$f":"IFERROR(VLOOKUP('5.Substance-in-Process'!N959,DSL!A:H,6,FALSE),\"-\")","v":"-"}]
[null,null,null,null,null,null,null,null,null,null,null,null,null,"","","","","",null,{"$f":"IFERROR(VLOOKUP('5.Substance-in-Process'!N960,DSL!A:H,6,FALSE),\"-\")","v":"-"}]
[null,null,null,null,null,null,null,null,null,null,null,null,null,"","","","","",null,{"$f":"IFERROR(VLOOKUP('5.Substance-in-Process'!N961,DSL!A:H,6,FALSE),\"-\")","v":"-"}]
[null,null,null,null,null,null,null,null,null,null,null,null,null,"","","","","",null,{"$f":"IFERROR(VLOOKUP('5.Substance-in-Process'!N962,DSL!A:H,6,FALSE),\"-\")","v":"-"}]
[null,null,null,null,null,null,null,null,null,null,null,null,null,"","","","","",null,{"$f":"IFERROR(VLOOKUP('5.Substance-in-Process'!N963,DSL!A:H,6,FALSE),\"-\")","v":"-"}]
[null,null,null,null,null,null,null,null,null,null,null,null,null,"","","","","",null,{"$f":"IFERROR(VLOOKUP('5.Substance-in-Process'!N964,DSL!A:H,6,FALSE),\"-\")","v":"-"}]
[null,null,null,null,null,null,null,null,null,null,null,null,null,"","","","","",null,{"$f":"IFERROR(VLOOKUP('5.Substance-in-Process'!N965,DSL!A:H,6,FALSE),\"-\")","v":"-"}]
[null,null,null,null,null,null,null,null,null,null,null,null,null,"","","","","",null,{"$f":"IFERROR(VLOOKUP('5.Substance-in-Process'!N966,DSL!A:H,6,FALSE),\"-\")","v":"-"}]
[null,null,null,null,null,null,null,null,null,null,null,null,null,"","","","","",null,{"$f":"IFERROR(VLOOKUP('5.Substance-in-Process'!N967,DSL!A:H,6,FALSE),\"-\")","v":"-"}]
[null,null,null,null,null,null,null,null,null,null,null,null,null,"","","","","",null,{"$f":"IFERROR(VLOOKUP('5.Substance-in-Process'!N968,DSL!A:H,6,FALSE),\"-\")","v":"-"}]
[null,null,null,null,null,null,null,null,null,null,null,null,null,"","","","","",null,{"$f":"IFERROR(VLOOKUP('5.Substance-in-Process'!N969,DSL!A:H,6,FALSE),\"-\")","v":"-"}]
[null,null,null,null,null,null,null,null,null,null,null,null,null,"","","","","",null,{"$f":"IFERROR(VLOOKUP('5.Substance-in-Process'!N970,DSL!A:H,6,FALSE),\"-\")","v":"-"}]
[null,null,null,null,null,null,null,null,null,null,null,null,null,"","","","","",null,{"$f":"IFERROR(VLOOKUP('5.Substance-in-Process'!N971,DSL!A:H,6,FALSE),\"-\")","v":"-"}]
[null,null,null,null,null,null,null,null,null,null,null,null,null,"","","","","",null,{"$f":"IFERROR(VLOOKUP('5.Substance-in-Process'!N972,DSL!A:H,6,FALSE),\"-\")","v":"-"}]
[null,null,null,null,null,null,null,null,null,null,null,null,null,"","","","","",null,{"$f":"IFERROR(VLOOKUP('5.Substance-in-Process'!N973,DSL!A:H,6,FALSE),\"-\")","v":"-"}]
[null,null,null,null,null,null,null,null,null,null,null,null,null,"","","","","",null,{"$f":"IFERROR(VLOOKUP('5.Substance-in-Process'!N974,DSL!A:H,6,FALSE),\"-\")","v":"-"}]
[null,null,null,null,null,null,null,null,null,null,null,null,null,"","","","","",null,{"$f":"IFERROR(VLOOKUP('5.Substance-in-Process'!N975,DSL!A:H,6,FALSE),\"-\")","v":"-"}]
[null,null,null,null,null,null,null,null,null,null,null,null,null,"","","","","",null,{"$f":"IFERROR(VLOOKUP('5.Substance-in-Process'!N976,DSL!A:H,6,FALSE),\"-\")","v":"-"}]
[null,null,null,null,null,null,null,null,null,null,null,null,null,"","","","","",null,{"$f":"IFERROR(VLOOKUP('5.Substance-in-Process'!N977,DSL!A:H,6,FALSE),\"-\")","v":"-"}]
[null,null,null,null,null,null,null,null,null,null,null,null,null,"","","","","",null,{"$f":"IFERROR(VLOOKUP('5.Substance-in-Process'!N978,DSL!A:H,6,FALSE),\"-\")","v":"-"}]
[null,null,null,null,null,null,null,null,null,null,null,null,null,"","","","","",null,{"$f":"IFERROR(VLOOKUP('5.Substance-in-Process'!N979,DSL!A:H,6,FALSE),\"-\")","v":"-"}]
[null,null,null,null,null,null,null,null,null,null,null,null,null,"","","","","",null,{"$f":"IFERROR(VLOOKUP('5.Substance-in-Process'!N980,DSL!A:H,6,FALSE),\"-\")","v":"-"}]
[null,null,null,null,null,null,null,null,null,null,null,null,null,"","","","","",null,{"$f":"IFERROR(VLOOKUP('5.Substance-in-Process'!N981,DSL!A:H,6,FALSE),\"-\")","v":"-"}]
[null,null,null,null,null,null,null,null,null,null,null,null,null,"","","","","",null,{"$f":"IFERROR(VLOOKUP('5.Substance-in-Process'!N982,DSL!A:H,6,FALSE),\"-\")","v":"-"}]
[null,null,null,null,null,null,null,null,null,null,null,null,null,"","","","","",null,{"$f":"IFERROR(VLOOKUP('5.Substance-in-Process'!N983,DSL!A:H,6,FALSE),\"-\")","v":"-"}]
[null,null,null,null,null,null,null,null,null,null,null,null,null,"","","","","",null,{"$f":"IFERROR(VLOOKUP('5.Substance-in-Process'!N984,DSL!A:H,6,FALSE),\"-\")","v":"-"}]
[null,null,null,null,null,null,null,null,null,null,null,null,null,"","","","","",null,{"$f":"IFERROR(VLOOKUP('5.Substance-in-Process'!N985,DSL!A:H,6,FALSE),\"-\")","v":"-"}]
[null,null,null,null,null,null,null,null,null,null,null,null,null,"","","","","",null,{"$f":"IFERROR(VLOOKUP('5.Substance-in-Process'!N986,DSL!A:H,6,FALSE),\"-\")","v":"-"}]
[null,null,null,null,null,null,null,null,null,null,null,null,null,"","","","","",null,{"$f":"IFERROR(VLOOKUP('5.Substance-in-Process'!N987,DSL!A:H,6,FALSE),\"-\")","v":"-"}]
[null,null,null,null,null,null,null,null,null,null,null,null,null,"","","","","",null,{"$f":"IFERROR(VLOOKUP('5.Substance-in-Process'!N988,DSL!A:H,6,FALSE),\"-\")","v":"-"}]
[null,null,null,null,null,null,null,null,null,null,null,null,null,"","","","","",null,{"$f":"IFERROR(VLOOKUP('5.Substance-in-Process'!N989,DSL!A:H,6,FALSE),\"-\")","v":"-"}]
[null,null,null,null,null,null,null,null,null,null,null,null,null,"","","","","",null,{"$f":"IFERROR(VLOOKUP('5.Substance-in-Process'!N990,DSL!A:H,6,FALSE),\"-\")","v":"-"}]
[null,null,null,null,null,null,null,null,null,null,null,null,null,"","","","","",null,{"$f":"IFERROR(VLOOKUP('5.Substance-in-Process'!N991,DSL!A:H,6,FALSE),\"-\")","v":"-"}]
[null,null,null,null,null,null,null,null,null,null,null,null,null,"","","","","",null,{"$f":"IFERROR(VLOOKUP('5.Substance-in-Process'!N992,DSL!A:H,6,FALSE),\"-\")","v":"-"}]
[null,null,null,null,null,null,null,null,null,null,null,null,null,"","","","","",null,{"$f":"IFERROR(VLOOKUP('5.Substance-in-Process'!N993,DSL!A:H,6,FALSE),\"-\")","v":"-"}]
[null,null,null,null,null,null,null,null,null,null,null,null,null,"","","","","",null,{"$f":"IFERROR(VLOOKUP('5.Substance-in-Process'!N994,DSL!A:H,6,FALSE),\"-\")","v":"-"}]
[null,null,null,null,null,null,null,null,null,null,null,null,null,"","","","","",null,{"$f":"IFERROR(VLOOKUP('5.Substance-in-Process'!N995,DSL!A:H,6,FALSE),\"-\")","v":"-"}]
[null,null,null,null,null,null,null,null,null,null,null,null,null,"","","","","",null,{"$f":"IFERROR(VLOOKUP('5.Substance-in-Process'!N996,DSL!A:H,6,FALSE),\"-\")","v":"-"}]
[null,null,null,null,null,null,null,null,null,null,null,null,null,"","","","","",null,{"$f":"IFERROR(VLOOKUP('5.Substance-in-Process'!N997,DSL!A:H,6,FALSE),\"-\")","v":"-"}]
[null,null,null,null,null,null,null,null,null,null,null,null,null,"","","","","",null,{"$f":"IFERROR(VLOOKUP('5.Substance-in-Process'!N998,DSL!A:H,6,FALSE),\"-\")","v":"-"}]
[null,null,null,null,null,null,null,null,null,null,null,null,null,"","","","","",null,{"$f":"IFERROR(VLOOKUP('5.Substance-in-Process'!N999,DSL!A:H,6,FALSE),\"-\")","v":"-"}]
[null,null,null,null,null,null,null,null,null,null,null,null,null,"","","","","",null,{"$f":"IFERROR(VLOOKUP('5.Substance-in-Process'!N1000,DSL!A:H,6,FALSE),\"-\")","v":"-"}]
[null,null,null,null,null,null,null,null,null,null,null,null,null,"","","","","",null,"c"]

{"sheet":"6.Attachment","index":7,"n_rows":3,"n_cols":8,"rows_kept":3,"cut":false,"hidden":false,"merged":[]}
["Attachments",null,{"$f":"Overview!E3","v":"Version: 1.2.2"},null,null,"return to Overview","Add comment"]
["Attachments will appear here:","Supplier Product Number\nor Products Group ID**","File Name","File Type","File or URL","File ZIP Location",null,"Comment"]
["Please resize icon and leave here ---->"]

{"sheet":"7.Supplier-Acceptance","index":8,"n_rows":251,"n_cols":25,"rows_kept":251,"cut":false,"hidden":false,"merged":[[18,6,21,8],[30,2,31,7],[26,2,27,8]]}
["Supplier Authorizer*",null,null,null,null,null,{"$f":"Overview!E3","v":"Version: 1.2.2"},null,"return to Overview"]
[null,null,null,null,null,null,null,null,null,null,null,null,null,null,null,null,null,null,null,null,null,null,null,null,"CountryCode"]
[null,"Supplier Authorizer identical to Supplier Contact","",null,null,null,null,null,null,null,null,"Yes",null,null,null,null,null,null,null,null,null,null,null,null,"AF - Afghanistan"]
[null,null,null,null,null,null,null,null,null,null,null,"No",null,null,null,null,null,null,null,null,null,null,null,null,"AX - Aland Islands"]
[null,"Authorizer Company Name*","",null,null,"Authorizer Name*","",null,null,null,null,null,null,null,null,null,null,null,null,null,null,null,null,null,"AL - Albania"]
[null,"Authorizer Company ID Type","",null,null,"Authorizer Phone*","",null,null,null,null,null,null,null,null,null,null,null,null,null,null,null,null,null,"DZ - Algeria"]
[null,"Authorizer Company ID Number","",null,null,"Authorizer Email*","",null,null,null,null,null,null,null,null,null,null,null,null,null,null,null,null,null,"AS - American Samoa"]
[null,"Authorizer Address",null,null,null,"Authorizer Title","",null,null,null,null,null,null,null,null,null,null,null,null,null,null,null,null,null,"AD - Andorra"]
[null,"Street","",null,null,null,null,null,null,null,null,null,null,null,null,null,null,null,null,null,null,null,null,null,"AO - Angola"]
[null,"City","",null,null,null,null,null,null,null,null,null,null,null,null,null,null,null,null,null,null,null,null,null,"AI - Anguilla"]
[null,"State","",null,null,null,null,null,null,null,null,null,null,null,null,null,null,null,null,null,null,null,null,null,"AQ - Antarctica"]
[null,"Country","",null,null,null,null,null,null,null,null,null,null,null,null,null,null,null,null,null,null,null,null,null,"AG - Antigua and Barbuda"]
[null,"Zip Code","",null,null,null,null,null,null,null,null,null,null,null,null,null,null,null,null,null,null,null,null,null,"AR - Argentina"]
[null,null,null,null,null,null,null,null,null,null,null,null,null,null,null,null,null,null,null,null,null,null,null,null,"AM - Armenia"]
["Supplier Authorizer Acceptance*",null,null,null,null,null,null,null,null,null,null,null,null,null,null,null,null,null,null,null,null,null,null,null,"AW - Aruba"]
[null,null,null,null,null,null,null,null,null,null,null,null,null,null,null,null,null,null,null,null,null,null,null,null,"AU - Australia"]
[null,"Authorizer Acceptance*",null,null,null,"Statement Type*","Default",null,null,null,null,null,null,null,null,null,null,null,null,null,null,null,null,null,"AT - Austria"]
[null,"of the Acceptance Statement",null,null,null,null,null,null,null,null,null,null,null,null,null,null,null,null,null,null,null,null,null,null,"AZ - Azerbaijan"]
[null,null,null,null,null,"Acceptance Statement*","I confirm that this declaration has been completed to the best of our knowledge acting in due diligence.",null,null,null,null,null,null,null,null,null,null,null,null,null,null,null,null,null,"BS - Bahamas"]
[null,"Authorizer Signature",null,null,null,null,null,null,null,null,null,null,null,null,null,null,null,null,null,null,null,null,null,null,"BH - Bahrain"]
[null,"Authorizer Signed Date*",null,null,null,null,null,null,null,null,null,null,null,null,null,null,null,null,null,null,null,null,null,null,"BD - Bangladesh"]
[null,null,null,null,null,null,null,null,null,null,null,null,null,null,null,null,null,null,null,null,null,null,null,null,"BB - Barbados"]
[null,null,null,null,null,null,null,null,null,null,null,null,null,null,null,null,null,null,null,null,null,null,null,null,"BY - Belarus"]
["Data Checks",null,null,null,null,null,null,null,null,null,null,null,null,null,null,null,null,null,null,null,null,null,null,null,"BE - Belgium"]
[null,null,null,null,null,null,null,null,null,null,null,null,null,null,null,null,null,null,null,null,null,null,null,null,"BZ - Belize"]
[null,null,null,null,null,null,null,null,null,null,null,null,null,null,null,null,null,null,null,null,null,null,null,null,"BJ - Benin"]
[null,null,"Prior to submitting the declaration to the requestor, please click the \"Run Data Check\" button. Once the “Run Data Check” button turns green, then the excel file is ready to be submitted to the requestor and/or exported to IPC-1754 XML file. Note: no data check is available in version without macros.",null,null,null,null,null,null,null,null,null,null,null,null,null,null,null,null,null,null,null,null,null,"BM - Bermuda"]
[null,null,null,null,null,null,null,null,null,null,null,null,null,null,null,null,null,null,null,null,null,null,null,null,"BT - Bhutan"]
[null,null,null,null,null,null,null,null,null,null,null,null,null,null,null,null,null,null,null,null,null,null,null,null,"BO - Bolivia (Plurinational State of)"]
[null,null,null,null,null,null,null,null,null,null,null,null,null,null,null,null,null,null,null,null,null,null,null,null,"BQ - Bonaire, Sint Eustatius and Saba"]
[null,null,null,null,null,null,null,null,null,null,null,null,null,null,null,null,null,null,null,null,null,null,null,null,"BA - Bosnia and Herzegovina"]
[null,null,null,null,null,null,null,null,null,null,null,null,null,null,null,null,null,null,null,null,null,null,null,null,"BW - Botswana"]
[null,null,null,null,null,null,null,null,null,null,null,null,null,null,null,null,null,null,null,null,null,null,null,null,"BV - Bouvet Island"]
[null,null,null,null,null,null,null,null,null,null,null,null,null,null,null,null,null,null,null,null,null,null,null,null,"BR - Brazil"]
[null,null,null,null,null,null,null,null,null,null,null,null,null,null,null,null,null,null,null,null,null,null,null,null,"IO - British Indian Ocean Territory"]
[null,null,null,null,null,null,null,null,null,null,null,null,null,null,null,null,null,null,null,null,null,null,null,null,"BN - Brunei Darussalam"]
[null,null,null,null,null,null,null,null,null,null,null,null,null,null,null,null,null,null,null,null,null,null,null,null,"BG - Bulgaria"]
[null,null,null,null,null,null,null,null,null,null,null,null,null,null,null,null,null,null,null,null,null,null,null,null,"BF - Burkina Faso"]
[null,null,null,null,null,null,null,null,null,null,null,null,null,null,null,null,null,null,null,null,null,null,null,null,"BI - Burundi"]
[null,null,null,null,null,null,null,null,null,null,null,null,null,null,null,null,null,null,null,null,null,null,null,null,"KH - Cambodia"]
[null,null,null,null,null,null,null,null,null,null,null,null,null,null,null,null,null,null,null,null,null,null,null,null,"CM - Cameroon"]
[null,null,null,null,null,null,null,null,null,null,null,null,null,null,null,null,null,null,null,null,null,null,null,null,"CA - Canada"]
[null,null,null,null,null,null,null,null,null,null,null,null,null,null,null,null,null,null,null,null,null,null,null,null,"CV - Cabo Verde"]
[null,null,null,null,null,null,null,null,null,null,null,null,null,null,null,null,null,null,null,null,null,null,null,null,"KY - Cayman Islands"]
[null,null,null,null,null,null,null,null,null,null,null,null,null,null,null,null,null,null,null,null,null,null,null,null,"CF - Central African Republic"]
[null,null,null,null,null,null,null,null,null,null,null,null,null,null,null,null,null,null,null,null,null,null,null,null,"TD - Chad"]
[null,null,null,null,null,null,null,null,null,null,null,null,null,null,null,null,null,null,null,null,null,null,null,null,"CL - Chile"]
[null,null,null,null,null,null,null,null,null,null,null,null,null,null,null,null,null,null,null,null,null,null,null,null,"CN - China"]
[null,null,null,null,null,null,null,null,null,null,null,null,null,null,null,null,null,null,null,null,null,null,null,null,"CX - Christmas Island"]
[null,null,null,null,null,null,null,null,null,null,null,null,null,null,null,null,null,null,null,null,null,null,null,null,"CC - Cocos (Keeling) Islands"]
[null,null,null,null,null,null,null,null,null,null,null,null,null,null,null,null,null,null,null,null,null,null,null,null,"CO - Colombia"]
[null,null,null,null,null,null,null,null,null,null,null,null,null,null,null,null,null,null,null,null,null,null,null,null,"KM - Comoros"]
[null,null,null,null,null,null,null,null,null,null,null,null,null,null,null,null,null,null,null,null,null,null,null,null,"CG - Congo"]
[null,null,null,null,null,null,null,null,null,null,null,null,null,null,null,null,null,null,null,null,null,null,null,null,"CD - Congo (Democratic Republic of the)"]
[null,null,null,null,null,null,null,null,null,null,null,null,null,null,null,null,null,null,null,null,null,null,null,null,"CK - Cook Islands"]
[null,null,null,null,null,null,null,null,null,null,null,null,null,null,null,null,null,null,null,null,null,null,null,null,"CR - Costa Rica"]
[null,null,null,null,null,null,null,null,null,null,null,null,null,null,null,null,null,null,null,null,null,null,null,null,"CI - Cote d'Ivoire"]
[null,null,null,null,null,null,null,null,null,null,null,null,null,null,null,null,null,null,null,null,null,null,null,null,"HR - Croatia"]
[null,null,null,null,null,null,null,null,null,null,null,null,null,null,null,null,null,null,null,null,null,null,null,null,"CU - Cuba"]
[null,null,null,null,null,null,null,null,null,null,null,null,null,null,null,null,null,null,null,null,null,null,null,null,"CW - Curacao !Curaçao"]
[null,null,null,null,null,null,null,null,null,null,null,null,null,null,null,null,null,null,null,null,null,null,null,null,"CY - Cyprus"]
[null,null,null,null,null,null,null,null,null,null,null,null,null,null,null,null,null,null,null,null,null,null,null,null,"CZ - Czech Republic"]
[null,null,null,null,null,null,null,null,null,null,null,null,null,null,null,null,null,null,null,null,null,null,null,null,"DK - Denmark"]
[null,null,null,null,null,null,null,null,null,null,null,null,null,null,null,null,null,null,null,null,null,null,null,null,"DJ - Djibouti"]
[null,null,null,null,null,null,null,null,null,null,null,null,null,null,null,null,null,null,null,null,null,null,null,null,"DM - Dominica"]
[null,null,null,null,null,null,null,null,null,null,null,null,null,null,null,null,null,null,null,null,null,null,null,null,"DO - Dominican Republic"]
[null,null,null,null,null,null,null,null,null,null,null,null,null,null,null,null,null,null,null,null,null,null,null,null,"EC - Ecuador"]
[null,null,null,null,null,null,null,null,null,null,null,null,null,null,null,null,null,null,null,null,null,null,null,null,"EG - Egypt"]
[null,null,null,null,null,null,null,null,null,null,null,null,null,null,null,null,null,null,null,null,null,null,null,null,"SV - El Salvador"]
[null,null,null,null,null,null,null,null,null,null,null,null,null,null,null,null,null,null,null,null,null,null,null,null,"GQ - Equatorial Guinea"]
[null,null,null,null,null,null,null,null,null,null,null,null,null,null,null,null,null,null,null,null,null,null,null,null,"ER - Eritrea"]
[null,null,null,null,null,null,null,null,null,null,null,null,null,null,null,null,null,null,null,null,null,null,null,null,"EE - Estonia"]
[null,null,null,null,null,null,null,null,null,null,null,null,null,null,null,null,null,null,null,null,null,null,null,null,"ET - Ethiopia"]
[null,null,null,null,null,null,null,null,null,null,null,null,null,null,null,null,null,null,null,null,null,null,null,null,"FK - Falkland Islands (Malvinas)"]
[null,null,null,null,null,null,null,null,null,null,null,null,null,null,null,null,null,null,null,null,null,null,null,null,"FO - Faroe Islands"]
[null,null,null,null,null,null,null,null,null,null,null,null,null,null,null,null,null,null,null,null,null,null,null,null,"FJ - Fiji"]
[null,null,null,null,null,null,null,null,null,null,null,null,null,null,null,null,null,null,null,null,null,null,null,null,"FI - Finland"]
[null,null,null,null,null,null,null,null,null,null,null,null,null,null,null,null,null,null,null,null,null,null,null,null,"FR - France"]
[null,null,null,null,null,null,null,null,null,null,null,null,null,null,null,null,null,null,null,null,null,null,null,null,"GF - French Guiana"]
[null,null,null,null,null,null,null,null,null,null,null,null,null,null,null,null,null,null,null,null,null,null,null,null,"PF - French Polynesia"]
[null,null,null,null,null,null,null,null,null,null,null,null,null,null,null,null,null,null,null,null,null,null,null,null,"TF - French Southern Territories"]
[null,null,null,null,null,null,null,null,null,null,null,null,null,null,null,null,null,null,null,null,null,null,null,null,"GA - Gabon"]
[null,null,null,null,null,null,null,null,null,null,null,null,null,null,null,null,null,null,null,null,null,null,null,null,"GM - Gambia"]
[null,null,null,null,null,null,null,null,null,null,null,null,null,null,null,null,null,null,null,null,null,null,null,null,"GE - Georgia"]
[null,null,null,null,null,null,null,null,null,null,null,null,null,null,null,null,null,null,null,null,null,null,null,null,"DE - Germany"]
[null,null,null,null,null,null,null,null,null,null,null,null,null,null,null,null,null,null,null,null,null,null,null,null,"GH - Ghana"]
[null,null,null,null,null,null,null,null,null,null,null,null,null,null,null,null,null,null,null,null,null,null,null,null,"GI - Gibraltar"]
[null,null,null,null,null,null,null,null,null,null,null,null,null,null,null,null,null,null,null,null,null,null,null,null,"GR - Greece"]
[null,null,null,null,null,null,null,null,null,null,null,null,null,null,null,null,null,null,null,null,null,null,null,null,"GL - Greenland"]
[null,null,null,null,null,null,null,null,null,null,null,null,null,null,null,null,null,null,null,null,null,null,null,null,"GD - Grenada"]
[null,null,null,null,null,null,null,null,null,null,null,null,null,null,null,null,null,null,null,null,null,null,null,null,"GP - Guadeloupe"]
[null,null,null,null,null,null,null,null,null,null,null,null,null,null,null,null,null,null,null,null,null,null,null,null,"GU - Guam"]
[null,null,null,null,null,null,null,null,null,null,null,null,null,null,null,null,null,null,null,null,null,null,null,null,"GT - Guatemala"]
[null,null,null,null,null,null,null,null,null,null,null,null,null,null,null,null,null,null,null,null,null,null,null,null,"GG - Guernsey"]
[null,null,null,null,null,null,null,null,null,null,null,null,null,null,null,null,null,null,null,null,null,null,null,null,"GN - Guinea"]
[null,null,null,null,null,null,null,null,null,null,null,null,null,null,null,null,null,null,null,null,null,null,null,null,"GW - Guinea-Bissau"]
[null,null,null,null,null,null,null,null,null,null,null,null,null,null,null,null,null,null,null,null,null,null,null,null,"GY - Guyana"]
[null,null,null,null,null,null,null,null,null,null,null,null,null,null,null,null,null,null,null,null,null,null,null,null,"HT - Haiti"]
[null,null,null,null,null,null,null,null,null,null,null,null,null,null,null,null,null,null,null,null,null,null,null,null,"HM - Heard Island and McDonald Islands"]
[null,null,null,null,null,null,null,null,null,null,null,null,null,null,null,null,null,null,null,null,null,null,null,null,"VA - Holy See"]
[null,null,null,null,null,null,null,null,null,null,null,null,null,null,null,null,null,null,null,null,null,null,null,null,"HN - Honduras"]
[null,null,null,null,null,null,null,null,null,null,null,null,null,null,null,null,null,null,null,null,null,null,null,null,"HK - Hong Kong"]
[null,null,null,null,null,null,null,null,null,null,null,null,null,null,null,null,null,null,null,null,null,null,null,null,"HU - Hungary"]
[null,null,null,null,null,null,null,null,null,null,null,null,null,null,null,null,null,null,null,null,null,null,null,null,"IS - Iceland"]
[null,null,null,null,null,null,null,null,null,null,null,null,null,null,null,null,null,null,null,null,null,null,null,null,"IN - India"]
[null,null,null,null,null,null,null,null,null,null,null,null,null,null,null,null,null,null,null,null,null,null,null,null,"ID - Indonesia"]
[null,null,null,null,null,null,null,null,null,null,null,null,null,null,null,null,null,null,null,null,null,null,null,null,"IR - Iran (Islamic Republic of)"]
[null,null,null,null,null,null,null,null,null,null,null,null,null,null,null,null,null,null,null,null,null,null,null,null,"IQ - Iraq"]
[null,null,null,null,null,null,null,null,null,null,null,null,null,null,null,null,null,null,null,null,null,null,null,null,"IE - Ireland"]
[null,null,null,null,null,null,null,null,null,null,null,null,null,null,null,null,null,null,null,null,null,null,null,null,"IM - Isle of Man"]
[null,null,null,null,null,null,null,null,null,null,null,null,null,null,null,null,null,null,null,null,null,null,null,null,"IL - Israel"]
[null,null,null,null,null,null,null,null,null,null,null,null,null,null,null,null,null,null,null,null,null,null,null,null,"IT - Italy"]
[null,null,null,null,null,null,null,null,null,null,null,null,null,null,null,null,null,null,null,null,null,null,null,null,"JM - Jamaica"]
[null,null,null,null,null,null,null,null,null,null,null,null,null,null,null,null,null,null,null,null,null,null,null,null,"JP - Japan"]
[null,null,null,null,null,null,null,null,null,null,null,null,null,null,null,null,null,null,null,null,null,null,null,null,"JE - Jersey"]
[null,null,null,null,null,null,null,null,null,null,null,null,null,null,null,null,null,null,null,null,null,null,null,null,"JO - Jordan"]
[null,null,null,null,null,null,null,null,null,null,null,null,null,null,null,null,null,null,null,null,null,null,null,null,"KZ - Kazakhstan"]
[null,null,null,null,null,null,null,null,null,null,null,null,null,null,null,null,null,null,null,null,null,null,null,null,"KE - Kenya"]
[null,null,null,null,null,null,null,null,null,null,null,null,null,null,null,null,null,null,null,null,null,null,null,null,"KI - Kiribati"]
[null,null,null,null,null,null,null,null,null,null,null,null,null,null,null,null,null,null,null,null,null,null,null,null,"KP - Korea (Democratic People's Republic of)"]
[null,null,null,null,null,null,null,null,null,null,null,null,null,null,null,null,null,null,null,null,null,null,null,null,"KR - Korea (Republic of)"]
[null,null,null,null,null,null,null,null,null,null,null,null,null,null,null,null,null,null,null,null,null,null,null,null,"KW - Kuwait"]
[null,null,null,null,null,null,null,null,null,null,null,null,null,null,null,null,null,null,null,null,null,null,null,null,"KG - Kyrgyzstan"]
[null,null,null,null,null,null,null,null,null,null,null,null,null,null,null,null,null,null,null,null,null,null,null,null,"LA - Lao People's Democratic Republic"]
[null,null,null,null,null,null,null,null,null,null,null,null,null,null,null,null,null,null,null,null,null,null,null,null,"LV - Latvia"]
[null,null,null,null,null,null,null,null,null,null,null,null,null,null,null,null,null,null,null,null,null,null,null,null,"LB - Lebanon"]
[null,null,null,null,null,null,null,null,null,null,null,null,null,null,null,null,null,null,null,null,null,null,null,null,"LS - Lesotho"]
[null,null,null,null,null,null,null,null,null,null,null,null,null,null,null,null,null,null,null,null,null,null,null,null,"LR - Liberia"]
[null,null,null,null,null,null,null,null,null,null,null,null,null,null,null,null,null,null,null,null,null,null,null,null,"LY - Libya"]
[null,null,null,null,null,null,null,null,null,null,null,null,null,null,null,null,null,null,null,null,null,null,null,null,"LI - Liechtenstein"]
[null,null,null,null,null,null,null,null,null,null,null,null,null,null,null,null,null,null,null,null,null,null,null,null,"LT - Lithuania"]
[null,null,null,null,null,null,null,null,null,null,null,null,null,null,null,null,null,null,null,null,null,null,null,null,"LU - Luxembourg"]
[null,null,null,null,null,null,null,null,null,null,null,null,null,null,null,null,null,null,null,null,null,null,null,null,"MO - Macao"]
[null,null,null,null,null,null,null,null,null,null,null,null,null,null,null,null,null,null,null,null,null,null,null,null,"MK - Macedonia (the former Yugoslav Republic of)"]
[null,null,null,null,null,null,null,null,null,null,null,null,null,null,null,null,null,null,null,null,null,null,null,null,"MG - Madagascar"]
[null,null,null,null,null,null,null,null,null,null,null,null,null,null,null,null,null,null,null,null,null,null,null,null,"MW - Malawi"]
[null,null,null,null,null,null,null,null,null,null,null,null,null,null,null,null,null,null,null,null,null,null,null,null,"MY - Malaysia"]
[null,null,null,null,null,null,null,null,null,null,null,null,null,null,null,null,null,null,null,null,null,null,null,null,"MV - Maldives"]
[null,null,null,null,null,null,null,null,null,null,null,null,null,null,null,null,null,null,null,null,null,null,null,null,"ML - Mali"]
[null,null,null,null,null,null,null,null,null,null,null,null,null,null,null,null,null,null,null,null,null,null,null,null,"MT - Malta"]
[null,null,null,null,null,null,null,null,null,null,null,null,null,null,null,null,null,null,null,null,null,null,null,null,"MH - Marshall Islands"]
[null,null,null,null,null,null,null,null,null,null,null,null,null,null,null,null,null,null,null,null,null,null,null,null,"MQ - Martinique"]
[null,null,null,null,null,null,null,null,null,null,null,null,null,null,null,null,null,null,null,null,null,null,null,null,"MR - Mauritania"]
[null,null,null,null,null,null,null,null,null,null,null,null,null,null,null,null,null,null,null,null,null,null,null,null,"MU - Mauritius"]
[null,null,null,null,null,null,null,null,null,null,null,null,null,null,null,null,null,null,null,null,null,null,null,null,"YT - Mayotte"]
[null,null,null,null,null,null,null,null,null,null,null,null,null,null,null,null,null,null,null,null,null,null,null,null,"MX - Mexico"]
[null,null,null,null,null,null,null,null,null,null,null,null,null,null,null,null,null,null,null,null,null,null,null,null,"FM - Micronesia (Federated States of)"]
[null,null,null,null,null,null,null,null,null,null,null,null,null,null,null,null,null,null,null,null,null,null,null,null,"MD - Moldova (Republic of)"]
[null,null,null,null,null,null,null,null,null,null,null,null,null,null,null,null,null,null,null,null,null,null,null,null,"MC - Monaco"]
[null,null,null,null,null,null,null,null,null,null,null,null,null,null,null,null,null,null,null,null,null,null,null,null,"MN - Mongolia"]
[null,null,null,null,null,null,null,null,null,null,null,null,null,null,null,null,null,null,null,null,null,null,null,null,"ME - Montenegro"]
[null,null,null,null,null,null,null,null,null,null,null,null,null,null,null,null,null,null,null,null,null,null,null,null,"MS - Montserrat"]
[null,null,null,null,null,null,null,null,null,null,null,null,null,null,null,null,null,null,null,null,null,null,null,null,"MA - Morocco"]
[null,null,null,null,null,null,null,null,null,null,null,null,null,null,null,null,null,null,null,null,null,null,null,null,"MZ - Mozambique"]
[null,null,null,null,null,null,null,null,null,null,null,null,null,null,null,null,null,null,null,null,null,null,null,null,"MM - Myanmar"]
[null,null,null,null,null,null,null,null,null,null,null,null,null,null,null,null,null,null,null,null,null,null,null,null,"NA - Namibia"]
[null,null,null,null,null,null,null,null,null,null,null,null,null,null,null,null,null,null,null,null,null,null,null,null,"NR - Nauru"]
[null,null,null,null,null,null,null,null,null,null,null,null,null,null,null,null,null,null,null,null,null,null,null,null,"NP - Nepal"]
[null,null,null,null,null,null,null,null,null,null,null,null,null,null,null,null,null,null,null,null,null,null,null,null,"NL - Netherlands"]
[null,null,null,null,null,null,null,null,null,null,null,null,null,null,null,null,null,null,null,null,null,null,null,null,"NC - New Caledonia"]
[null,null,null,null,null,null,null,null,null,null,null,null,null,null,null,null,null,null,null,null,null,null,null,null,"NZ - New Zealand"]
[null,null,null,null,null,null,null,null,null,null,null,null,null,null,null,null,null,null,null,null,null,null,null,null,"NI - Nicaragua"]
[null,null,null,null,null,null,null,null,null,null,null,null,null,null,null,null,null,null,null,null,null,null,null,null,"NE - Niger"]
[null,null,null,null,null,null,null,null,null,null,null,null,null,null,null,null,null,null,null,null,null,null,null,null,"NG - Nigeria"]
[null,null,null,null,null,null,null,null,null,null,null,null,null,null,null,null,null,null,null,null,null,null,null,null,"NU - Niue"]
[null,null,null,null,null,null,null,null,null,null,null,null,null,null,null,null,null,null,null,null,null,null,null,null,"NF - Norfolk Island"]
[null,null,null,null,null,null,null,null,null,null,null,null,null,null,null,null,null,null,null,null,null,null,null,null,"MP - Northern Mariana Islands"]
[null,null,null,null,null,null,null,null,null,null,null,null,null,null,null,null,null,null,null,null,null,null,null,null,"NO - Norway"]
[null,null,null,null,null,null,null,null,null,null,null,null,null,null,null,null,null,null,null,null,null,null,null,null,"OM - Oman"]
[null,null,null,null,null,null,null,null,null,null,null,null,null,null,null,null,null,null,null,null,null,null,null,null,"PK - Pakistan"]
[null,null,null,null,null,null,null,null,null,null,null,null,null,null,null,null,null,null,null,null,null,null,null,null,"PW - Palau"]
[null,null,null,null,null,null,null,null,null,null,null,null,null,null,null,null,null,null,null,null,null,null,null,null,"PS - Palestine, State of"]
[null,null,null,null,null,null,null,null,null,null,null,null,null,null,null,null,null,null,null,null,null,null,null,null,"PA - Panama"]
[null,null,null,null,null,null,null,null,null,null,null,null,null,null,null,null,null,null,null,null,null,null,null,null,"PG - Papua New Guinea"]
[null,null,null,null,null,null,null,null,null,null,null,null,null,null,null,null,null,null,null,null,null,null,null,null,"PY - Paraguay"]
[null,null,null,null,null,null,null,null,null,null,null,null,null,null,null,null,null,null,null,null,null,null,null,null,"PE - Peru"]
[null,null,null,null,null,null,null,null,null,null,null,null,null,null,null,null,null,null,null,null,null,null,null,null,"PH - Philippines"]
[null,null,null,null,null,null,null,null,null,null,null,null,null,null,null,null,null,null,null,null,null,null,null,null,"PN - Pitcairn"]
[null,null,null,null,null,null,null,null,null,null,null,null,null,null,null,null,null,null,null,null,null,null,null,null,"PL - Poland"]
[null,null,null,null,null,null,null,null,null,null,null,null,null,null,null,null,null,null,null,null,null,null,null,null,"PT - Portugal"]
[null,null,null,null,null,null,null,null,null,null,null,null,null,null,null,null,null,null,null,null,null,null,null,null,"PR - Puerto Rico"]
[null,null,null,null,null,null,null,null,null,null,null,null,null,null,null,null,null,null,null,null,null,null,null,null,"QA - Qatar"]
[null,null,null,null,null,null,null,null,null,null,null,null,null,null,null,null,null,null,null,null,null,null,null,null,"RE - Reunion"]
[null,null,null,null,null,null,null,null,null,null,null,null,null,null,null,null,null,null,null,null,null,null,null,null,"RO - Romania"]
[null,null,null,null,null,null,null,null,null,null,null,null,null,null,null,null,null,null,null,null,null,null,null,null,"RU - Russian Federation"]
[null,null,null,null,null,null,null,null,null,null,null,null,null,null,null,null,null,null,null,null,null,null,null,null,"RW - Rwanda"]
[null,null,null,null,null,null,null,null,null,null,null,null,null,null,null,null,null,null,null,null,null,null,null,null,"BL - Saint Barthelemy"]
[null,null,null,null,null,null,null,null,null,null,null,null,null,null,null,null,null,null,null,null,null,null,null,null,"SH - Saint Helena, Ascension and Tristan da Cunha"]
[null,null,null,null,null,null,null,null,null,null,null,null,null,null,null,null,null,null,null,null,null,null,null,null,"KN - Saint Kitts and Nevis"]
[null,null,null,null,null,null,null,null,null,null,null,null,null,null,null,null,null,null,null,null,null,null,null,null,"LC - Saint Lucia"]
[null,null,null,null,null,null,null,null,null,null,null,null,null,null,null,null,null,null,null,null,null,null,null,null,"MF - Saint Martin (French part)"]
[null,null,null,null,null,null,null,null,null,null,null,null,null,null,null,null,null,null,null,null,null,null,null,null,"PM - Saint Pierre and Miquelon"]
[null,null,null,null,null,null,null,null,null,null,null,null,null,null,null,null,null,null,null,null,null,null,null,null,"VC - Saint Vincent and the Grenadines"]
[null,null,null,null,null,null,null,null,null,null,null,null,null,null,null,null,null,null,null,null,null,null,null,null,"WS - Samoa"]
[null,null,null,null,null,null,null,null,null,null,null,null,null,null,null,null,null,null,null,null,null,null,null,null,"SM - San Marino"]
[null,null,null,null,null,null,null,null,null,null,null,null,null,null,null,null,null,null,null,null,null,null,null,null,"ST - Sao Tome and Principe"]
[null,null,null,null,null,null,null,null,null,null,null,null,null,null,null,null,null,null,null,null,null,null,null,null,"SA - Saudi Arabia"]
[null,null,null,null,null,null,null,null,null,null,null,null,null,null,null,null,null,null,null,null,null,null,null,null,"SN - Senegal"]
[null,null,null,null,null,null,null,null,null,null,null,null,null,null,null,null,null,null,null,null,null,null,null,null,"RS - Serbia"]
[null,null,null,null,null,null,null,null,null,null,null,null,null,null,null,null,null,null,null,null,null,null,null,null,"SC - Seychelles"]
[null,null,null,null,null,null,null,null,null,null,null,null,null,null,null,null,null,null,null,null,null,null,null,null,"SL - Sierra Leone"]
[null,null,null,null,null,null,null,null,null,null,null,null,null,null,null,null,null,null,null,null,null,null,null,null,"SG - Singapore"]
[null,null,null,null,null,null,null,null,null,null,null,null,null,null,null,null,null,null,null,null,null,null,null,null,"SX - Sint Maarten (Dutch part)"]
[null,null,null,null,null,null,null,null,null,null,null,null,null,null,null,null,null,null,null,null,null,null,null,null,"SK - Slovakia"]
[null,null,null,null,null,null,null,null,null,null,null,null,null,null,null,null,null,null,null,null,null,null,null,null,"SI - Slovenia"]
[null,null,null,null,null,null,null,null,null,null,null,null,null,null,null,null,null,null,null,null,null,null,null,null,"SB - Solomon Islands"]
[null,null,null,null,null,null,null,null,null,null,null,null,null,null,null,null,null,null,null,null,null,null,null,null,"SO - Somalia"]
[null,null,null,null,null,null,null,null,null,null,null,null,null,null,null,null,null,null,null,null,null,null,null,null,"ZA - South Africa"]
[null,null,null,null,null,null,null,null,null,null,null,null,null,null,null,null,null,null,null,null,null,null,null,null,"GS - South Georgia and the South Sandwich Islands"]
[null,null,null,null,null,null,null,null,null,null,null,null,null,null,null,null,null,null,null,null,null,null,null,null,"SS - South Sudan"]
[null,null,null,null,null,null,null,null,null,null,null,null,null,null,null,null,null,null,null,null,null,null,null,null,"ES - Spain"]
[null,null,null,null,null,null,null,null,null,null,null,null,null,null,null,null,null,null,null,null,null,null,null,null,"LK - Sri Lanka"]
[null,null,null,null,null,null,null,null,null,null,null,null,null,null,null,null,null,null,null,null,null,null,null,null,"SD - Sudan"]
[null,null,null,null,null,null,null,null,null,null,null,null,null,null,null,null,null,null,null,null,null,null,null,null,"SR - Suriname"]
[null,null,null,null,null,null,null,null,null,null,null,null,null,null,null,null,null,null,null,null,null,null,null,null,"SJ - Svalbard and Jan Mayen"]
[null,null,null,null,null,null,null,null,null,null,null,null,null,null,null,null,null,null,null,null,null,null,null,null,"SZ - Swaziland"]
[null,null,null,null,null,null,null,null,null,null,null,null,null,null,null,null,null,null,null,null,null,null,null,null,"SE - Sweden"]
[null,null,null,null,null,null,null,null,null,null,null,null,null,null,null,null,null,null,null,null,null,null,null,null,"CH - Switzerland"]
[null,null,null,null,null,null,null,null,null,null,null,null,null,null,null,null,null,null,null,null,null,null,null,null,"SY - Syrian Arab Republic"]
[null,null,null,null,null,null,null,null,null,null,null,null,null,null,null,null,null,null,null,null,null,null,null,null,"TW - Taiwan, Province of China"]
[null,null,null,null,null,null,null,null,null,null,null,null,null,null,null,null,null,null,null,null,null,null,null,null,"TJ - Tajikistan"]
[null,null,null,null,null,null,null,null,null,null,null,null,null,null,null,null,null,null,null,null,null,null,null,null,"TZ - Tanzania, United Republic of"]
[null,null,null,null,null,null,null,null,null,null,null,null,null,null,null,null,null,null,null,null,null,null,null,null,"TH - Thailand"]
[null,null,null,null,null,null,null,null,null,null,null,null,null,null,null,null,null,null,null,null,null,null,null,null,"TL - Timor-Leste"]
[null,null,null,null,null,null,null,null,null,null,null,null,null,null,null,null,null,null,null,null,null,null,null,null,"TG - Togo"]
[null,null,null,null,null,null,null,null,null,null,null,null,null,null,null,null,null,null,null,null,null,null,null,null,"TK - Tokelau"]
[null,null,null,null,null,null,null,null,null,null,null,null,null,null,null,null,null,null,null,null,null,null,null,null,"TO - Tonga"]
[null,null,null,null,null,null,null,null,null,null,null,null,null,null,null,null,null,null,null,null,null,null,null,null,"TT - Trinidad and Tobago"]
[null,null,null,null,null,null,null,null,null,null,null,null,null,null,null,null,null,null,null,null,null,null,null,null,"TN - Tunisia"]
[null,null,null,null,null,null,null,null,null,null,null,null,null,null,null,null,null,null,null,null,null,null,null,null,"TR - Turkey"]
[null,null,null,null,null,null,null,null,null,null,null,null,null,null,null,null,null,null,null,null,null,null,null,null,"TM - Turkmenistan"]
[null,null,null,null,null,null,null,null,null,null,null,null,null,null,null,null,null,null,null,null,null,null,null,null,"TC - Turks and Caicos Islands"]
[null,null,null,null,null,null,null,null,null,null,null,null,null,null,null,null,null,null,null,null,null,null,null,null,"TV - Tuvalu"]
[null,null,null,null,null,null,null,null,null,null,null,null,null,null,null,null,null,null,null,null,null,null,null,null,"UG - Uganda"]
[null,null,null,null,null,null,null,null,null,null,null,null,null,null,null,null,null,null,null,null,null,null,null,null,"UA - Ukraine"]
[null,null,null,null,null,null,null,null,null,null,null,null,null,null,null,null,null,null,null,null,null,null,null,null,"AE - United Arab Emirates"]
[null,null,null,null,null,null,null,null,null,null,null,null,null,null,null,null,null,null,null,null,null,null,null,null,"GB - United Kingdom of Great Britain and Northern Ireland"]
[null,null,null,null,null,null,null,null,null,null,null,null,null,null,null,null,null,null,null,null,null,null,null,null,"US - United States of America"]
[null,null,null,null,null,null,null,null,null,null,null,null,null,null,null,null,null,null,null,null,null,null,null,null,"UM - United States Minor Outlying Islands"]
[null,null,null,null,null,null,null,null,null,null,null,null,null,null,null,null,null,null,null,null,null,null,null,null,"UY - Uruguay"]
[null,null,null,null,null,null,null,null,null,null,null,null,null,null,null,null,null,null,null,null,null,null,null,null,"UZ - Uzbekistan"]
[null,null,null,null,null,null,null,null,null,null,null,null,null,null,null,null,null,null,null,null,null,null,null,null,"VU - Vanuatu"]
[null,null,null,null,null,null,null,null,null,null,null,null,null,null,null,null,null,null,null,null,null,null,null,null,"VE - Venezuela (Bolivarian Republic of)"]
[null,null,null,null,null,null,null,null,null,null,null,null,null,null,null,null,null,null,null,null,null,null,null,null,"VN - Viet Nam"]
[null,null,null,null,null,null,null,null,null,null,null,null,null,null,null,null,null,null,null,null,null,null,null,null,"VG - Virgin Islands (British)"]
[null,null,null,null,null,null,null,null,null,null,null,null,null,null,null,null,null,null,null,null,null,null,null,null,"VI - Virgin Islands (U.S.)"]
[null,null,null,null,null,null,null,null,null,null,null,null,null,null,null,null,null,null,null,null,null,null,null,null,"WF - Wallis and Futuna"]
[null,null,null,null,null,null,null,null,null,null,null,null,null,null,null,null,null,null,null,null,null,null,null,null,"EH - Western Sahara"]
[null,null,null,null,null,null,null,null,null,null,null,null,null,null,null,null,null,null,null,null,null,null,null,null,"YE - Yemen"]
[null,null,null,null,null,null,null,null,null,null,null,null,null,null,null,null,null,null,null,null,null,null,null,null,"ZM - Zambia"]
[null,null,null,null,null,null,null,null,null,null,null,null,null,null,null,null,null,null,null,null,null,null,null,null,"ZW - Zimbabwe"]

{"sheet":"DSL","index":9,"n_rows":1735,"n_cols":11,"rows_kept":1735,"cut":false,"hidden":false,"merged":[]}
["Authority:","Identity:","Version number:","Issue Date: ",null,"return to tab\n4.Substance-in-Product","return to tab\n5.Substance-in-Process",{"$f":"Overview!E3","v":"Version: 1.2.2"}]
["IAEG","AD-DSL",6,"2022-02-17"]
["CAS","EC","IAEG ID","Name","Synonyms","IAEG Regulatory Criteria","Date first added","Revision date","ECHA ID","Entry Type","Parent Group IAEG ID"]
["1327-53-3","215-481-4","IAEG000001","Diarsenic trioxide","Arsenic trioxide","R1;R2;D1","2015-03-17","2015-03-17","100.014.075","Substance Direct Entry",{"$f":"IF(J4=\"Group Member\",VLOOKUP(I4,#REF!,5,0),\"\")","v":""}]
["1303-28-2","215-116-9","IAEG000002","Diarsenic pentaoxide","Arsenic pentoxide; Arsenic oxide","R1;R2;D1","2015-03-17","2015-03-17","100.013.743","Substance Direct Entry",{"$f":"IF(J5=\"Group Member\",VLOOKUP(I5,#REF!,5,0),\"\")","v":""}]
["15606-95-8","427-700-2","IAEG000003","Triethyl arsenate","","R1;R2;D1","2015-03-17","2017-08-14","100.102.611","Substance Direct Entry",{"$f":"IF(J6=\"Group Member\",VLOOKUP(I6,#REF!,5,0),\"\")","v":""}]
["7778-39-4","231-901-9","IAEG000004","Arsenic acid","","R1;R2;D1","2015-03-17","2015-03-17","100.029.001","Substance Direct Entry",{"$f":"IF(J7=\"Group Member\",VLOOKUP(I7,#REF!,5,0),\"\")","v":""}]
["3687-31-8","222-979-5","IAEG000005","Trilead diarsenate","","R1;R2;D1;I","2015-03-17","2017-08-14","100.020.890","Substance Direct Entry",{"$f":"IF(J8=\"Group Member\",VLOOKUP(I8,#REF!,5,0),\"\")","v":""}]
["7778-44-1","231-904-5","IAEG000006","Calcium arsenate","","R1;R2;D1","2015-03-17","2017-08-14","100.029.003","Substance Direct Entry",{"$f":"IF(J9=\"Group Member\",VLOOKUP(I9,#REF!,5,0),\"\")","v":""}]
["12006-15-4","234-484-1","IAEG000009","Cadmium arsenide","Tricadmium diarsenide","R1;R2;D1","2017-08-14","2017-08-14",null,"Substance Direct Entry",{"$f":"IF(J10=\"Group Member\",VLOOKUP(I10,#REF!,5,0),\"\")","v":""}]
["7440-41-7","231-150-7","IAEG000021","Beryllium (Be)","","R2","2015-03-17","2019-01-24",null,"Substance Direct Entry",{"$f":"IF(J11=\"Group Member\",VLOOKUP(I11,#REF!,5,0),\"\")","v":""}]
["1306-19-0","215-146-2","IAEG000022","Cadmium oxide","","R1;R2;D1","2015-03-17","2017-08-14","100.013.770","Substance Direct Entry",{"$f":"IF(J12=\"Group Member\",VLOOKUP(I12,#REF!,5,0),\"\")","v":""}]
["10108-64-2","233-296-7","IAEG000023","Cadmium chloride","","R1;R2;D1","2015-03-17","2017-08-14","100.030.256","Substance Direct Entry",{"$f":"IF(J13=\"Group Member\",VLOOKUP(I13,#REF!,5,0),\"\")","v":""}]
["1306-23-6","215-147-8","IAEG000024","Cadmium sulphide","","R1;R2;D1","2015-03-17","2017-08-14","100.013.771","Substance Direct Entry",{"$f":"IF(J14=\"Group Member\",VLOOKUP(I14,#REF!,5,0),\"\")","v":""}]
["10124-36-4","233-331-6","IAEG000025","Cadmium sulphate","","R1;R2;D1;I","2015-03-17","2017-08-14","100.030.288","Substance Direct Entry",{"$f":"IF(J15=\"Group Member\",VLOOKUP(I15,#REF!,5,0),\"\")","v":""}]
["31119-53-6","233-331-6","IAEG000026","Cadmium sulphate",null,"R1;R2;D1;I","2015-03-17","2017-08-14","100.030.288","Substance Direct Entry",{"$f":"IF(J16=\"Group Member\",VLOOKUP(I16,#REF!,5,0),\"\")","v":""}]
["7790-79-6","232-222-0","IAEG000027","Cadmium fluoride","","R1;R2;D1;I","2015-03-17","2017-08-14","100.029.293","Substance Direct Entry",{"$f":"IF(J17=\"Group Member\",VLOOKUP(I17,#REF!,5,0),\"\")","v":""}]
["7440-43-9","231-152-8","IAEG000028","Cadmium (Cd)","","R1;R2;D1","2015-03-17","2017-08-14","100.028.320","Substance Direct Entry",{"$f":"IF(J18=\"Group Member\",VLOOKUP(I18,#REF!,5,0),\"\")","v":""}]
["10325-94-7","233-710-6","IAEG000029","Cadmium nitrate","Cadmium dinitrate","R1;R2;D1;I","2017-08-14","2017-08-14","100.030.633","Substance Direct Entry",{"$f":"IF(J19=\"Group Member\",VLOOKUP(I19,#REF!,5,0),\"\")","v":""}]
["10022-68-1","No EC available","IAEG000030","Cadmium nitrate (tetrahydrate)","Cadmium dinitrate; Nitric acid, cadmium salt, tetrahydrate","R1;R2;D1","2017-08-14","2017-08-14",null,"Substance Direct Entry",{"$f":"IF(J20=\"Group Member\",VLOOKUP(I20,#REF!,5,0),\"\")","v":""}]
["21041-95-2","244-168-5","IAEG000031","Cadmium hydroxide","","R1;R2;D1;I","2017-08-14","2017-08-14","100.040.137","Substance Direct Entry",{"$f":"IF(J21=\"Group Member\",VLOOKUP(I21,#REF!,5,0),\"\")","v":""}]
["513-78-0","208-168-9","IAEG000032","Cadmium carbonate","","R1;R2;D1;I","2017-08-14","2017-08-14","100.007.427","Substance Direct Entry",{"$f":"IF(J22=\"Group Member\",VLOOKUP(I22,#REF!,5,0),\"\")","v":""}]
["1306-25-8","215-149-9","IAEG000033","Cadmium telluride","","R1;R2;D1","2017-08-14","2017-08-14",null,"Substance Direct Entry",{"$f":"IF(J23=\"Group Member\",VLOOKUP(I23,#REF!,5,0),\"\")","v":""}]
["8048-07-5","232-466-8","IAEG000034","Cadmium zinc sulphide yellow","","R1;R2;D1;I","2017-08-14","2017-08-14",null,"Substance Direct Entry",{"$f":"IF(J24=\"Group Member\",VLOOKUP(I24,#REF!,5,0),\"\")","v":""}]
["58339-34-7","261-218-1","IAEG000035","Cadmium sulphoselenide red","","R1;R2;D1","2017-08-14","2017-08-14",null,"Substance Direct Entry",{"$f":"IF(J25=\"Group Member\",VLOOKUP(I25,#REF!,5,0),\"\")","v":""}]
["100402-53-7","309-489-8","IAEG000037","Cadmium chloride phosphate (Cd5Cl(PO4)3), manganese-doped","","R1;R2;D1","2017-08-14","2017-08-14",null,"Substance Direct Entry",{"$f":"IF(J26=\"Group Member\",VLOOKUP(I26,#REF!,5,0),\"\")","v":""}]
["101012-89-9","309-789-9","IAEG000038","Dodecanoic acid, cadmium salt, basic","","R1;R2;D1","2017-08-14","2017-08-14",null,"Substance Direct Entry",{"$f":"IF(J27=\"Group Member\",VLOOKUP(I27,#REF!,5,0),\"\")","v":""}]
["101012-93-5","309-794-6","IAEG000039","Octadecanoic acid, cadmium salt, basic","","R1;R2;D1","2017-08-14","2017-08-14",null,"Substance Direct Entry",{"$f":"IF(J28=\"Group Member\",VLOOKUP(I28,#REF!,5,0),\"\")","v":""}]
["101012-94-6","309-795-1","IAEG000040","Octadecanoic acid, 12-hydroxy-, cadmium salt, basic","","R1;R2;D1","2017-08-14","2017-08-14",null,"Substance Direct Entry",{"$f":"IF(J29=\"Group Member\",VLOOKUP(I29,#REF!,5,0),\"\")","v":""}]
["101356-99-4","309-896-0","IAEG000041","Cadmium oxide (CdO), solid soln. with calcium oxide and titanium oxide (TiO2), praseodymium-doped","","R1;R2;D1","2017-08-14","2017-08-14",null,"Substance Direct Entry",{"$f":"IF(J30=\"Group Member\",VLOOKUP(I30,#REF!,5,0),\"\")","v":""}]
["101357-00-0","309-897-6","IAEG000042","Cadmium selenide (CdSe), solid soln. with cadmium sulphide, zinc selenide and zinc sulphide, aluminium and copper-doped","","R1;R2;D1","2017-08-14","2017-08-14",null,"Substance Direct Entry",{"$f":"IF(J31=\"Group Member\",VLOOKUP(I31,#REF!,5,0),\"\")","v":""}]
["101357-01-1","309-898-1","IAEG000043","Cadmium selenide (CdSe), solid soln. with cadmium sulphide, zinc selenide and zinc sulphide, copper and manganese-doped","","R1;R2;D1","2017-08-14","2017-08-14",null,"Substance Direct Entry",{"$f":"IF(J32=\"Group Member\",VLOOKUP(I32,#REF!,5,0),\"\")","v":""}]
["101357-02-2","309-899-7","IAEG000044","Cadmium selenide (CdSe), solid soln. with cadmium sulphide, zinc selenide and zinc sulphide, europium-doped","","R1;R2;D1","2017-08-14","2017-08-14",null,"Substance Direct Entry",{"$f":"IF(J33=\"Group Member\",VLOOKUP(I33,#REF!,5,0),\"\")","v":""}]
["101357-03-3","309-900-0","IAEG000045","Cadmium selenide (CdSe), solid soln. with cadmium sulphide, zinc selenide and zinc sulphide, gold and manganese-doped","","R1;R2;D1","2017-08-14","2017-08-14",null,"Substance Direct Entry",{"$f":"IF(J34=\"Group Member\",VLOOKUP(I34,#REF!,5,0),\"\")","v":""}]
["101357-04-4","309-901-6","IAEG000046","Cadmium selenide (CdSe), solid soln. with cadmium sulphide, zinc selenide and zinc sulphide, manganese and silver-doped","","R1;R2;D1","2017-08-14","2017-08-14",null,"Substance Direct Entry",{"$f":"IF(J35=\"Group Member\",VLOOKUP(I35,#REF!,5,0),\"\")","v":""}]
["10196-67-5","233-489-6","IAEG000047","Cadmium myristate","","R1;R2;D1","2017-08-14","2017-08-14",null,"Substance Direct Entry",{"$f":"IF(J36=\"Group Member\",VLOOKUP(I36,#REF!,5,0),\"\")","v":""}]
["102110-30-5","310-029-3","IAEG000048","Cadmium oxide (CdO), solid soln. with magnesium oxide, tungsten oxide (WO3) and zinc oxide","","R1;R2;D1","2017-08-14","2017-08-14",null,"Substance Direct Entry",{"$f":"IF(J37=\"Group Member\",VLOOKUP(I37,#REF!,5,0),\"\")","v":""}]
["102184-95-2","310-077-5","IAEG000049","Silicic acid, zirconium salt, cadmium pigment-encapsulated","","R1;R2;D1","2017-08-14","2017-08-14",null,"Substance Direct Entry",{"$f":"IF(J38=\"Group Member\",VLOOKUP(I38,#REF!,5,0),\"\")","v":""}]
["10468-30-1","233-954-3","IAEG000050","Cadmium dioleate","","R1;R2;D1","2017-08-14","2017-08-14",null,"Substance Direct Entry",{"$f":"IF(J39=\"Group Member\",VLOOKUP(I39,#REF!,5,0),\"\")","v":""}]
["11112-63-3","234-342-9","IAEG000051","Cadmium selenide sulphide","","R1;R2;D1","2017-08-14","2017-08-14",null,"Substance Direct Entry",{"$f":"IF(J40=\"Group Member\",VLOOKUP(I40,#REF!,5,0),\"\")","v":""}]
["1191-79-3","214-740-9","IAEG000052","Barium cadmium tetrastearate","","R1;R2;D1","2017-08-14","2017-08-14",null,"Substance Direct Entry",{"$f":"IF(J41=\"Group Member\",VLOOKUP(I41,#REF!,5,0),\"\")","v":""}]
["12014-14-1","234-593-4","IAEG000053","Cadmium titanium oxide","Cadmium titanium trioxide","R1;R2;D1","2017-08-14","2017-08-14",null,"Substance Direct Entry",{"$f":"IF(J42=\"Group Member\",VLOOKUP(I42,#REF!,5,0),\"\")","v":""}]
["12014-28-7","234-595-5","IAEG000054","Cadmium phosphide","Tricadmium diphosphide","R1;R2;D1","2017-08-14","2017-08-14",null,"Substance Direct Entry",{"$f":"IF(J43=\"Group Member\",VLOOKUP(I43,#REF!,5,0),\"\")","v":""}]
["12014-29-8","234-596-0","IAEG000055","Cadmium antimonide","Antimony, compound with cadmium (2:3)","R1;R2;D1","2017-08-14","2017-08-14",null,"Substance Direct Entry",{"$f":"IF(J44=\"Group Member\",VLOOKUP(I44,#REF!,5,0),\"\")","v":""}]
["12214-12-9","235-392-4","IAEG000060","Dicadmium selenide sulphide","","R1;R2;D1","2017-08-14","2017-08-14",null,"Substance Direct Entry",{"$f":"IF(J45=\"Group Member\",VLOOKUP(I45,#REF!,5,0),\"\")","v":""}]
["12442-27-2","235-672-6","IAEG000062","Cadmium zinc sulphide","","R1;R2;D1;I","2017-08-14","2017-08-14",null,"Substance Direct Entry",{"$f":"IF(J46=\"Group Member\",VLOOKUP(I46,#REF!,5,0),\"\")","v":""}]
["12626-36-7","235-724-8","IAEG000063","Cadmium selenide sulphide","","R1;R2;D1","2017-08-14","2017-08-14",null,"Substance Direct Entry",{"$f":"IF(J47=\"Group Member\",VLOOKUP(I47,#REF!,5,0),\"\")","v":""}]
["12656-57-4","235-758-3","IAEG000064","Cadmium sulphoselenide orange","","R1;R2;D1","2017-08-14","2017-08-14",null,"Substance Direct Entry",{"$f":"IF(J48=\"Group Member\",VLOOKUP(I48,#REF!,5,0),\"\")","v":""}]
["1345-09-1","215-717-6","IAEG000065","Cadmium mercury sulphide","","R1;R2;D1;I","2017-08-14","2017-08-14",null,"Substance Direct Entry",{"$f":"IF(J49=\"Group Member\",VLOOKUP(I49,#REF!,5,0),\"\")","v":""}]
["13814-59-0","237-480-8","IAEG000072","Cadmium selenite","","R1;R2;D1","2017-08-14","2017-08-14",null,"Substance Direct Entry",{"$f":"IF(J50=\"Group Member\",VLOOKUP(I50,#REF!,5,0),\"\")","v":""}]
["14486-19-2","238-490-5","IAEG000083","Cadmium tetrafluoroborate","","R1;R2;D1","2015-03-17","2015-03-17",null,"Substance Direct Entry",{"$f":"IF(J51=\"Group Member\",VLOOKUP(I51,#REF!,5,0),\"\")","v":""}]
["2223-93-0","218-743-6","IAEG000109","Cadmium distearate","","R1;R2;D1","2017-08-14","2017-08-14",null,"Substance Direct Entry",{"$f":"IF(J52=\"Group Member\",VLOOKUP(I52,#REF!,5,0),\"\")","v":""}]
["29870-72-2","249-914-3","IAEG000117","Cadmium mercury telluride","","R1;R2;D1;I","2019-01-24","2019-01-24",null,"Substance Direct Entry",{"$f":"IF(J53=\"Group Member\",VLOOKUP(I53,#REF!,5,0),\"\")","v":""}]
["506-82-1","208-055-4","IAEG000132","Dimethylcadmium","","R1;R2;D1","2017-08-14","2017-08-14",null,"Substance Direct Entry",{"$f":"IF(J54=\"Group Member\",VLOOKUP(I54,#REF!,5,0),\"\")","v":""}]
["543-90-8","208-853-2","IAEG000136","Cadmium di(acetate)","","R1;R2;D1","2017-08-14","2017-08-14",null,"Substance Direct Entry",{"$f":"IF(J55=\"Group Member\",VLOOKUP(I55,#REF!,5,0),\"\")","v":""}]
["592-02-9","No EC available","IAEG000139","Cadmium, diethyl-","","R1;R2;D1","2017-08-14","2017-08-14",null,"Substance Direct Entry",{"$f":"IF(J56=\"Group Member\",VLOOKUP(I56,#REF!,5,0),\"\")","v":""}]
["61789-34-2","263-053-0","IAEG000140","Naphthenic acids, cadmium salts","","R1;R2;D1","2017-08-14","2017-08-14",null,"Substance Direct Entry",{"$f":"IF(J57=\"Group Member\",VLOOKUP(I57,#REF!,5,0),\"\")","v":""}]
["7789-42-6","232-165-1","IAEG000184","Cadmium bromide","","R1;R2;D1","2017-08-14","2017-08-14",null,"Substance Direct Entry",{"$f":"IF(J58=\"Group Member\",VLOOKUP(I58,#REF!,5,0),\"\")","v":""}]
["7790-84-3","No EC available","IAEG000187","Sulphuric acid, cadmium salt (1:1), hydrate (3:8)","","R1;R2;D1","2017-08-14","2017-08-14",null,"Substance Direct Entry",{"$f":"IF(J59=\"Group Member\",VLOOKUP(I59,#REF!,5,0),\"\")","v":""}]
["14312-00-6","238-252-0","IAEG000230","Cadmium chromate","","R1;R2;D1","2017-08-14","2017-08-14",null,"Substance Direct Entry",{"$f":"IF(J60=\"Group Member\",VLOOKUP(I60,#REF!,5,0),\"\")","v":""}]
["542-83-6","208-829-1","IAEG000234","Cadmium cyanide","","R1;R2;D1","2015-03-17","2017-08-14",null,"Substance Direct Entry",{"$f":"IF(J61=\"Group Member\",VLOOKUP(I61,#REF!,5,0),\"\")","v":""}]
["7790-80-9","232-223-6","IAEG000236","Cadmium iodide","","R1;R2;D1","2017-08-14","2017-08-14",null,"Substance Direct Entry",{"$f":"IF(J62=\"Group Member\",VLOOKUP(I62,#REF!,5,0),\"\")","v":""}]
["13464-92-1","No EC available","IAEG000237","Cadmium bromide, tetrahydrate","","R1;R2;D1","2017-08-14","2017-08-14",null,"Substance Direct Entry",{"$f":"IF(J63=\"Group Member\",VLOOKUP(I63,#REF!,5,0),\"\")","v":""}]
["7790-78-5","No EC available","IAEG000238","Cadmium chloride, hydrate (2:5)","","R1;R2;D1","2017-08-14","2017-08-14",null,"Substance Direct Entry",{"$f":"IF(J64=\"Group Member\",VLOOKUP(I64,#REF!,5,0),\"\")","v":""}]
["1306-24-7","215-148-3","IAEG000239","Cadmium selenide (CdSe)","","R1;R2;D1","2015-03-17","2015-03-17",null,"Substance Direct Entry",{"$f":"IF(J65=\"Group Member\",VLOOKUP(I65,#REF!,5,0),\"\")","v":""}]
["11129-14-9","234-372-2","IAEG000241","Cadmium zinc sulfide","","R1;R2;D1","2017-08-14","2017-08-14",null,"Substance Direct Entry",{"$f":"IF(J66=\"Group Member\",VLOOKUP(I66,#REF!,5,0),\"\")","v":""}]
["35658-65-2","No EC available","IAEG000263","Cadmium chloride (CdCl2), monohydrate","","R1;R2;D1","2019-01-24","2019-01-24",null,"Substance Direct Entry",{"$f":"IF(J67=\"Group Member\",VLOOKUP(I67,#REF!,5,0),\"\")","v":""}]
["5743-04-4","No EC available","IAEG000264","Acetic acid, cadmium salt, dihydrate","","R1;R2;D1","2017-08-14","2017-08-14",null,"Substance Direct Entry",{"$f":"IF(J68=\"Group Member\",VLOOKUP(I68,#REF!,5,0),\"\")","v":""}]
["15244-35-6","No EC available","IAEG000265","Cadmium sulphate hydrate","","R1;R2;D1","2017-08-14","2017-08-14",null,"Substance Direct Entry",{"$f":"IF(J69=\"Group Member\",VLOOKUP(I69,#REF!,5,0),\"\")","v":""}]
["10326-28-0","No EC available","IAEG000274","Cadmium Perchlorate Trihydrate","","R1;R2;D1","2017-08-14","2017-08-14",null,"Substance Direct Entry",{"$f":"IF(J70=\"Group Member\",VLOOKUP(I70,#REF!,5,0),\"\")","v":""}]
["75-69-4","200-892-3","IAEG000276","Trichlorofluoromethane (CFC-11)","","R1;R2;D1","2015-03-17","2015-03-17",null,"Substance Direct Entry",{"$f":"IF(J71=\"Group Member\",VLOOKUP(I71,#REF!,5,0),\"\")","v":""}]
["2354-06-5","No EC available","IAEG000291","1,1,1,3,3-Pentachloro-2,2,3-trifluoropropane (CFC-213)","","R1;R2;D1","2019-01-24","2019-01-24",null,"Substance Direct Entry",{"$f":"IF(J72=\"Group Member\",VLOOKUP(I72,#REF!,5,0),\"\")","v":""}]
["3182-26-1","No EC available","IAEG000294","1,1,1,3,3,3-Hexachloro-2,2-difluoropropane","Hexachlorodifluoropropane (CFC-212)","R1;R2;D1","2019-01-24","2019-01-24",null,"Substance Direct Entry",{"$f":"IF(J73=\"Group Member\",VLOOKUP(I73,#REF!,5,0),\"\")","v":""}]
["354-58-5","206-564-6","IAEG000296","1,1,1-Trichloro-2,2,2-trifluoroethane (CFC-113a)","","R1;R2;D1","2017-08-14","2017-08-14",null,"Substance Direct Entry",{"$f":"IF(J74=\"Group Member\",VLOOKUP(I74,#REF!,5,0),\"\")","v":""}]
["422-78-6","No EC available","IAEG000298","1,1,1,2,2,3,3-Heptachloro-3-fluoropropane (CFC-211aa)","","R1;R2;D1","2019-01-24","2019-01-24",null,"Substance Direct Entry",{"$f":"IF(J75=\"Group Member\",VLOOKUP(I75,#REF!,5,0),\"\")","v":""}]
["662-01-1","211-552-9","IAEG000306","Propane, 1,3-dichloro-1,1,2,2,3,3-hexafluoro-","","R1;R2","2019-01-24","2019-01-24",null,"Substance Direct Entry",{"$f":"IF(J76=\"Group Member\",VLOOKUP(I76,#REF!,5,0),\"\")","v":""}]
["677-68-9","No EC available","IAEG000307","Propane, 1,2,2,3-tetrachloro-1,1,3,3-tetrafluoro-","","R1;R2","2020-01-16","2020-01-16",null,"Substance Direct Entry",{"$f":"IF(J77=\"Group Member\",VLOOKUP(I77,#REF!,5,0),\"\")","v":""}]
["75-71-8","200-893-9","IAEG000309","Dichlorodifluoromethane (CFC-12)","","R1;R2;D1","2015-03-17","2015-03-17",null,"Substance Direct Entry",{"$f":"IF(J78=\"Group Member\",VLOOKUP(I78,#REF!,5,0),\"\")","v":""}]
["75-72-9","200-894-4","IAEG000310","Chlorotrifluoromethane (CFC-13)","","R1;R2;D1","2015-03-17","2015-03-17",null,"Substance Direct Entry",{"$f":"IF(J79=\"Group Member\",VLOOKUP(I79,#REF!,5,0),\"\")","v":""}]
["76-11-9","200-934-0","IAEG000311","1,1,1,2-Tetrachloro-2,2-difluoroethane (CFC-112a)","","R1;R2;D1","2020-01-16","2020-01-16",null,"Substance Direct Entry",{"$f":"IF(J80=\"Group Member\",VLOOKUP(I80,#REF!,5,0),\"\")","v":""}]
["76-12-0","200-935-6","IAEG000312","1,1,2,2-Tetrachloro-1,2-difluoroethane","Tetrachlorodifluoroethane (CFC-112)","R1;R2;D1","2017-08-14","2017-08-14",null,"Substance Direct Entry",{"$f":"IF(J81=\"Group Member\",VLOOKUP(I81,#REF!,5,0),\"\")","v":""}]
["76-13-1","200-936-1","IAEG000313","1,1,2-Trichloro-1,2,2-trifluoroethane","Trichlorotrifluoroethane (CFC-113)","R1;R2;D1","2015-03-17","2017-08-14",null,"Substance Direct Entry",{"$f":"IF(J82=\"Group Member\",VLOOKUP(I82,#REF!,5,0),\"\")","v":""}]
["76-14-2","200-937-7","IAEG000314","1,2-Dichloro-1,1,2,2-tetrafluoroethane","Dichlorotetrafluoroethane (CFC-114)","R1;R2;D1","2017-08-14","2017-08-14",null,"Substance Direct Entry",{"$f":"IF(J83=\"Group Member\",VLOOKUP(I83,#REF!,5,0),\"\")","v":""}]
["76-15-3","200-938-2","IAEG000315","Chloropentafluoroethane (CFC-115)","","R1;R2;D1","2015-03-17","2015-03-17",null,"Substance Direct Entry",{"$f":"IF(J84=\"Group Member\",VLOOKUP(I84,#REF!,5,0),\"\")","v":""}]
["76-17-5","No EC available","IAEG000316","1,2,3-Trichloropentafluoropropane (CFC-215ba)","","R1;R2;D1","2019-01-24","2019-01-24",null,"Substance Direct Entry",{"$f":"IF(J85=\"Group Member\",VLOOKUP(I85,#REF!,5,0),\"\")","v":""}]
["76-18-6","200-940-3","IAEG000317","Propane, 2-chloro-1,1,1,2,3,3,3-heptafluoro-","","R1;R2","2019-01-24","2019-01-24",null,"Substance Direct Entry",{"$f":"IF(J86=\"Group Member\",VLOOKUP(I86,#REF!,5,0),\"\")","v":""}]
["26523-64-8","247-758-0","IAEG000324","Trichlorotrifluoroethane","","R1;R2","2015-03-17","2015-03-17",null,"Substance Direct Entry",{"$f":"IF(J87=\"Group Member\",VLOOKUP(I87,#REF!,5,0),\"\")","v":""}]
["79-38-9","201-201-8","IAEG000325","Chlorotrifluoroethylene","","R1;R2","2017-08-14","2017-08-14",null,"Substance Direct Entry",{"$f":"IF(J88=\"Group Member\",VLOOKUP(I88,#REF!,5,0),\"\")","v":""}]
["27156-03-2","608-056-3","IAEG000347","Ethene, dichlorodifluoro-","","R1;R2","2017-08-14","2017-08-14",null,"Substance Direct Entry",{"$f":"IF(J89=\"Group Member\",VLOOKUP(I89,#REF!,5,0),\"\")","v":""}]
["375-45-1","609-441-9","IAEG000348","Butane, 1,2,3,4-tetrachloro-1,1,2,3,4,4-hexafluoro-","","R1;R2","2017-08-14","2017-08-14",null,"Substance Direct Entry",{"$f":"IF(J90=\"Group Member\",VLOOKUP(I90,#REF!,5,0),\"\")","v":""}]
["No CAS available","No EC available","IAEG000350","1,1,2-Trichloropentafluoropropane (CFC-215bb)","","R1;R2;D1","2017-08-14","2017-08-14",null,"Substance Direct Entry",{"$f":"IF(J91=\"Group Member\",VLOOKUP(I91,#REF!,5,0),\"\")","v":""}]
["356-19-4","No EC available","IAEG000353","Cyclobutane, 1,3-dichloro-1,2,2,3,4,4-hexafluoro-","","R1;R2","2017-08-14","2017-08-14",null,"Substance Direct Entry",{"$f":"IF(J92=\"Group Member\",VLOOKUP(I92,#REF!,5,0),\"\")","v":""}]
["39432-81-0","No EC available","IAEG000355","Chloropentafluoroethane, mixture with chlorodifluoromethane","","R1;R2","2020-01-16","2020-01-16",null,"Substance Direct Entry",{"$f":"IF(J93=\"Group Member\",VLOOKUP(I93,#REF!,5,0),\"\")","v":""}]
["377-93-5","No EC available","IAEG000356","1,2-Dichlorotetrafluorocyclobut-1-Ene","","R1;R2","2020-01-16","2020-01-16",null,"Substance Direct Entry",{"$f":"IF(J94=\"Group Member\",VLOOKUP(I94,#REF!,5,0),\"\")","v":""}]
["1333-82-0","215-607-8","IAEG000358","Chromium (VI) trioxide","Trioxochromium","R1;R2;D1;I","2015-03-17","2015-03-17","100.014.189","Substance Direct Entry",{"$f":"IF(J95=\"Group Member\",VLOOKUP(I95,#REF!,5,0),\"\")","v":""}]
["7738-94-5","231-801-5","IAEG000359","Chromic acid","Note: ECHA REF LIST JAN 2022 lists 100.239.153 as the parent of this substance.","R1;R2;D1","2015-03-17","2015-03-17","100.028.910","Substance Direct Entry"]
["13530-68-2","236-881-5","IAEG000360","Dichromic acid","Note: ECHA REF LIST JAN 2022 lists 100.239.153 as the parent of this substance.","R1;R2;D1","2015-03-17","2015-03-17","100.033.513","Substance Direct Entry"]
["10588-01-9","234-190-3","IAEG000361","Sodium dichromate","Sodium dichromate anhydrous; Sodium dichromate dihydrate","R1;R2;D1","2015-03-17","2015-03-17","100.031.070","Substance Direct Entry",{"$f":"IF(J98=\"Group Member\",VLOOKUP(I98,#REF!,5,0),\"\")","v":""}]
["7789-12-0","234-190-3","IAEG000362","Sodium dichromate","Sodium dichromate anhydrous; Sodium dichromate dihydrate","R1;R2;D1","2015-03-17","2015-03-17","100.031.070","Substance Direct Entry",{"$f":"IF(J99=\"Group Member\",VLOOKUP(I99,#REF!,5,0),\"\")","v":""}]
["7775-11-3","231-889-5","IAEG000364","Sodium chromate","","R1;R2;D1","2015-03-17","2015-03-17","100.028.990","Substance Direct Entry",{"$f":"IF(J100=\"Group Member\",VLOOKUP(I100,#REF!,5,0),\"\")","v":""}]
["7789-00-6","232-140-5","IAEG000365","Potassium chromate","","R1;R2;D1","2015-03-17","2015-03-17","100.029.218","Substance Direct Entry",{"$f":"IF(J101=\"Group Member\",VLOOKUP(I101,#REF!,5,0),\"\")","v":""}]
["7778-50-9","231-906-6","IAEG000366","Potassium dichromate","","R1;R2;D1","2015-03-17","2015-03-17","100.029.005","Substance Direct Entry",{"$f":"IF(J102=\"Group Member\",VLOOKUP(I102,#REF!,5,0),\"\")","v":""}]
["12656-85-8","235-759-9","IAEG000367","Lead chromate molybdate sulphate red","C.I. Pigment Red 104","R1;R2;D1;I","2015-03-17","2015-03-17","100.032.496","Substance Direct Entry",{"$f":"IF(J103=\"Group Member\",VLOOKUP(I103,#REF!,5,0),\"\")","v":""}]
["1344-37-2","215-693-7","IAEG000368","Lead sulfochromate yellow","C.I. Pigment Yellow 34","R1;R2;D1;I","2015-03-17","2015-03-17","100.014.267","Substance Direct Entry",{"$f":"IF(J104=\"Group Member\",VLOOKUP(I104,#REF!,5,0),\"\")","v":""}]
["7758-97-6","231-846-0","IAEG000369","Lead chromate","","R1;R2;D1;I","2015-03-17","2015-03-17","100.028.951","Substance Direct Entry",{"$f":"IF(J105=\"Group Member\",VLOOKUP(I105,#REF!,5,0),\"\")","v":""}]
["7789-06-2","232-142-6","IAEG000370","Strontium chromate","","R1;R2;D1","2015-03-17","2015-03-17","100.029.220","Substance Direct Entry",{"$f":"IF(J106=\"Group Member\",VLOOKUP(I106,#REF!,5,0),\"\")","v":""}]
["24613-89-6","246-356-2","IAEG000371","Dichromium tris(chromate)","Chromium (III) chromate; Chromic chromate","R1;R2;D1","2015-03-17","2015-03-17","100.042.127","Substance Direct Entry",{"$f":"IF(J107=\"Group Member\",VLOOKUP(I107,#REF!,5,0),\"\")","v":""}]
["14721-18-7","238-766-5","IAEG000372","Nickel chromate","","R1;D1","2019-01-24","2019-01-24",null,"Substance Direct Entry",{"$f":"IF(J108=\"Group Member\",VLOOKUP(I108,#REF!,5,0),\"\")","v":""}]
["15586-38-6","239-646-5","IAEG000373","Nickel dichromate","","R1;D1","2020-01-16","2020-01-16",null,"Substance Direct Entry",{"$f":"IF(J109=\"Group Member\",VLOOKUP(I109,#REF!,5,0),\"\")","v":""}]
["14977-61-8","239-056-8","IAEG000374","Chromyl dichloride","Chromic oxychloride","R1;D1","2019-01-24","2019-01-24",null,"Substance Direct Entry",{"$f":"IF(J110=\"Group Member\",VLOOKUP(I110,#REF!,5,0),\"\")","v":""}]
["13765-19-0","237-366-8","IAEG000375","Calcium chromate","","R1;D1","2015-03-17","2017-08-14",null,"Substance Direct Entry",{"$f":"IF(J111=\"Group Member\",VLOOKUP(I111,#REF!,5,0),\"\")","v":""}]
["11103-86-9","234-329-8","IAEG000376","Potassium hydroxyoctaoxodizincatedichromate(1-)","","R1;R2;D1;I","2015-03-17","2015-03-17","100.031.196","Substance Direct Entry",{"$f":"IF(J112=\"Group Member\",VLOOKUP(I112,#REF!,5,0),\"\")","v":""}]
["99328-50-4","308-967-3","IAEG000377","Nitric acid, barium salt, reaction products with ammonia, chromic acid (H2CrO4) diammonium salt and copper (II) dinitrate, calcined","","R1;D1","2019-01-24","2019-01-24",null,"Substance Direct Entry",{"$f":"IF(J113=\"Group Member\",VLOOKUP(I113,#REF!,5,0),\"\")","v":""}]
["14104-85-9","237-959-1","IAEG000379","Magnesium dichromate","","R1;D1","2017-08-14","2017-08-14",null,"Substance Direct Entry",{"$f":"IF(J114=\"Group Member\",VLOOKUP(I114,#REF!,5,0),\"\")","v":""}]
["49663-84-5","256-418-0","IAEG000381","Pentazinc chromate octahydroxide","","R1;R2;D1;I","2015-03-17","2015-03-17","100.051.272","Substance Direct Entry",{"$f":"IF(J115=\"Group Member\",VLOOKUP(I115,#REF!,5,0),\"\")","v":""}]
["10034-82-9","No EC available","IAEG000382","Chromic acid, disodium salt, tetrahydrate","","R1;D1","2017-08-14","2017-08-14",null,"Substance Direct Entry",{"$f":"IF(J116=\"Group Member\",VLOOKUP(I116,#REF!,5,0),\"\")","v":""}]
["10294-52-7","233-661-0","IAEG000384","Diiron tris(chromate)","Chromic acid (H2CrO4), iron (3+) salt (3:2)","R1;D1","2020-01-16","2020-01-16",null,"Substance Direct Entry",{"$f":"IF(J117=\"Group Member\",VLOOKUP(I117,#REF!,5,0),\"\")","v":""}]
["12617-87-7","No EC available","IAEG000386","Chromic acid, copper salt","","R1;D1","2019-01-24","2019-01-24",null,"Substance Direct Entry",{"$f":"IF(J118=\"Group Member\",VLOOKUP(I118,#REF!,5,0),\"\")","v":""}]
["13423-61-5","236-540-0","IAEG000387","Magnesium chromate","","R1;D1","2015-03-17","2017-08-14",null,"Substance Direct Entry",{"$f":"IF(J119=\"Group Member\",VLOOKUP(I119,#REF!,5,0),\"\")","v":""}]
["13446-72-5","236-601-1","IAEG000388","Rubidium chromate","","R1;D1","2017-08-14","2017-08-14",null,"Substance Direct Entry",{"$f":"IF(J120=\"Group Member\",VLOOKUP(I120,#REF!,5,0),\"\")","v":""}]
["13446-73-6","236-602-7","IAEG000389","Dirubidium dichromate","","R1;D1","2019-01-24","2019-01-24",null,"Substance Direct Entry",{"$f":"IF(J121=\"Group Member\",VLOOKUP(I121,#REF!,5,0),\"\")","v":""}]
["13453-35-5","236-626-8","IAEG000390","Dithallium dichromate","","R1;D1","2019-01-24","2019-01-24",null,"Substance Direct Entry",{"$f":"IF(J122=\"Group Member\",VLOOKUP(I122,#REF!,5,0),\"\")","v":""}]
["13454-78-9","236-640-4","IAEG000391","Dicesium chromate","","R1;D1","2017-08-14","2017-08-14",null,"Substance Direct Entry",{"$f":"IF(J123=\"Group Member\",VLOOKUP(I123,#REF!,5,0),\"\")","v":""}]
["13473-75-1","236-750-2","IAEG000393","Dithallium chromate","","R1;D1","2019-01-24","2019-01-24",null,"Substance Direct Entry",{"$f":"IF(J124=\"Group Member\",VLOOKUP(I124,#REF!,5,0),\"\")","v":""}]
["13477-01-5","236-761-2","IAEG000394","Barium dichromate","","R1;D1","2017-08-14","2017-08-14",null,"Substance Direct Entry",{"$f":"IF(J125=\"Group Member\",VLOOKUP(I125,#REF!,5,0),\"\")","v":""}]
["13548-42-0","236-922-7","IAEG000396","Copper chromate","","R1;D1","2019-01-24","2019-01-24",null,"Substance Direct Entry",{"$f":"IF(J126=\"Group Member\",VLOOKUP(I126,#REF!,5,0),\"\")","v":""}]
["13843-81-7","237-567-0","IAEG000398","Lithium dichromate","","R1;D1","2019-01-24","2019-01-24",null,"Substance Direct Entry",{"$f":"IF(J127=\"Group Member\",VLOOKUP(I127,#REF!,5,0),\"\")","v":""}]
["14307-33-6","238-243-1","IAEG000399","Calcium dichromate","","R1;D1","2017-08-14","2017-08-14",null,"Substance Direct Entry",{"$f":"IF(J128=\"Group Member\",VLOOKUP(I128,#REF!,5,0),\"\")","v":""}]
["14307-35-8","238-244-7","IAEG000400","Lithium chromate","","R1;D1","2017-08-14","2017-08-14",null,"Substance Direct Entry",{"$f":"IF(J129=\"Group Member\",VLOOKUP(I129,#REF!,5,0),\"\")","v":""}]
["18454-12-1","242-339-9","IAEG000402","Dilead chromate oxide","","R1;D1;I","2017-08-14","2017-08-14",null,"Substance Direct Entry",{"$f":"IF(J130=\"Group Member\",VLOOKUP(I130,#REF!,5,0),\"\")","v":""}]
["34493-01-1","252-062-5","IAEG000405","Dichromic acid, sodium salt","","R1;D1","2020-01-16","2020-01-16",null,"Substance Direct Entry",{"$f":"IF(J131=\"Group Member\",VLOOKUP(I131,#REF!,5,0),\"\")","v":""}]
["41189-36-0","255-252-6","IAEG000407","Chromic acid, potassium zinc salt","","R1;D1","2020-01-16","2020-01-16",null,"Substance Direct Entry",{"$f":"IF(J132=\"Group Member\",VLOOKUP(I132,#REF!,5,0),\"\")","v":""}]
["50922-29-7","256-848-9","IAEG000408","Chromium zinc oxide","","R1;D1;I","2017-08-14","2017-08-14",null,"Substance Direct Entry",{"$f":"IF(J133=\"Group Member\",VLOOKUP(I133,#REF!,5,0),\"\")","v":""}]
["54991-58-1","No EC available","IAEG000409","Chromic acid, aluminium salt","","R1;D1","2017-08-14","2017-08-14",null,"Substance Direct Entry",{"$f":"IF(J134=\"Group Member\",VLOOKUP(I134,#REF!,5,0),\"\")","v":""}]
["75578-75-5","No EC available","IAEG000415","Phenazinium, 3-[[7-[(4-aminophenyl)amino]-5-phenylphenazinium-3-yl]amino]-5-phenyl-7-[[5-phenyl-7-(phenylamino)phenazinium-3-yl]amino]-, salt with chromic acid (H2Cr2O7) (2:3)","","R1;D1","2017-08-14","2017-08-14",null,"Substance Direct Entry",{"$f":"IF(J135=\"Group Member\",VLOOKUP(I135,#REF!,5,0),\"\")","v":""}]
["7784-01-2","232-043-8","IAEG000416","Silver chromate","","R1;D1","2017-08-14","2017-08-14",null,"Substance Direct Entry",{"$f":"IF(J136=\"Group Member\",VLOOKUP(I136,#REF!,5,0),\"\")","v":""}]
["94232-45-8","303-973-2","IAEG000424","Dichromic acid, potassium sodium salt","","R1;D1","2017-08-14","2017-08-14",null,"Substance Direct Entry",{"$f":"IF(J137=\"Group Member\",VLOOKUP(I137,#REF!,5,0),\"\")","v":""}]
["11113-70-5","234-347-6","IAEG000428","Silicic acid, chromium lead salt","","R1;D1;I","2017-08-14","2017-08-14",null,"Substance Direct Entry",{"$f":"IF(J138=\"Group Member\",VLOOKUP(I138,#REF!,5,0),\"\")","v":""}]
["12017-86-6","234-628-3","IAEG000429","Dilead chromate dihydroxide","Lead chromate hydroxide (Pb2(CrO4)(OH)2)","R1;D1;I","2020-01-16","2020-01-16",null,"Substance Direct Entry",{"$f":"IF(J139=\"Group Member\",VLOOKUP(I139,#REF!,5,0),\"\")","v":""}]
["68891-96-3","272-586-8","IAEG000432","Glycine, N-ethyl-N-[(heptadecafluorooctyl)sulfonyl]-, chromium complex","","R1;R2;D1;I","2019-01-24","2019-01-24",null,"Substance Direct Entry",{"$f":"IF(J140=\"Group Member\",VLOOKUP(I140,#REF!,5,0),\"\")","v":""}]
["13530-65-9","236-878-9","IAEG000433","Zinc chromate","Chromic acid, zinc salt (1:1)","R1;R2;D1;I","2015-03-17","2017-08-14",null,"Substance Direct Entry",{"$f":"IF(J141=\"Group Member\",VLOOKUP(I141,#REF!,5,0),\"\")","v":""}]
["14018-95-2","237-843-0","IAEG000434","Chromic acid, zinc salt (1:1)","","R1;D1","2019-01-24","2019-01-24",null,"Substance Direct Entry",{"$f":"IF(J142=\"Group Member\",VLOOKUP(I142,#REF!,5,0),\"\")","v":""}]
["149564-65-8","414-290-5","IAEG000435","Trilithium bis(4-((4-(diethylamino)-2-hydroxyphenyl)azo)-3-hydroxy-1-naphthalenesulfonato(3-))chromate(3-)","","R1;R2;D1","2020-01-16","2020-01-16",null,"Substance Direct Entry",{"$f":"IF(J143=\"Group Member\",VLOOKUP(I143,#REF!,5,0),\"\")","v":""}]
["10294-40-3","233-660-5","IAEG000436","Barium chromate","","R1;D1","2015-03-17","2017-08-14",null,"Substance Direct Entry",{"$f":"IF(J144=\"Group Member\",VLOOKUP(I144,#REF!,5,0),\"\")","v":""}]
["18540-29-9","No EC available","IAEG000439","Chromium (VI)","Hexavalent chromium","R1;D1","2015-03-17","2017-08-14",null,"Substance Direct Entry",{"$f":"IF(J145=\"Group Member\",VLOOKUP(I145,#REF!,5,0),\"\")","v":""}]
["14986-48-2","No EC available","IAEG000440","Chromium (VI) chloride","","R1;D1","2019-01-24","2019-01-24",null,"Substance Direct Entry",{"$f":"IF(J146=\"Group Member\",VLOOKUP(I146,#REF!,5,0),\"\")","v":""}]
["1328-67-2","No EC available","IAEG000441","Basic zinc chromate","","R1;D1","2017-08-14","2017-08-14",null,"Substance Direct Entry",{"$f":"IF(J147=\"Group Member\",VLOOKUP(I147,#REF!,5,0),\"\")","v":""}]
["15930-94-6","No EC available","IAEG000442","Zinc chromate hydroxide","","R1;D1","2020-01-16","2020-01-16",null,"Substance Direct Entry",{"$f":"IF(J148=\"Group Member\",VLOOKUP(I148,#REF!,5,0),\"\")","v":""}]
["37300-23-5","No EC available","IAEG000443","Zinc yellow (Zinc chromate pigment)","","R1;D1;I","2017-08-14","2017-08-14",null,"Substance Direct Entry",{"$f":"IF(J149=\"Group Member\",VLOOKUP(I149,#REF!,5,0),\"\")","v":""}]
["11115-74-5","No EC available","IAEG000444","Dihydroxy-dioxo-chromium","","R1;D1","2019-01-24","2019-01-24",null,"Substance Direct Entry",{"$f":"IF(J150=\"Group Member\",VLOOKUP(I150,#REF!,5,0),\"\")","v":""}]
["11119-70-3","No EC available","IAEG000445","Chromium lead oxide","","R1;D1;I","2017-08-14","2017-08-14",null,"Substance Direct Entry",{"$f":"IF(J151=\"Group Member\",VLOOKUP(I151,#REF!,5,0),\"\")","v":""}]
["116565-73-2","No EC available","IAEG000448","Lead sulfomolybdochromate, silica encapsulated","","R1;D1;I","2019-01-24","2019-01-24",null,"Substance Direct Entry",{"$f":"IF(J152=\"Group Member\",VLOOKUP(I152,#REF!,5,0),\"\")","v":""}]
["37224-57-0","609-358-8","IAEG000451","Zinc potassium chromate","Chromium potassium zinc oxide","R1;D1","2020-01-16","2020-01-16",null,"Substance Direct Entry",{"$f":"IF(J153=\"Group Member\",VLOOKUP(I153,#REF!,5,0),\"\")","v":""}]
["72869-85-3","276-955-4","IAEG000452","Chromate(1-), bis[3,5-bis(1,1-dimethylethyl) -2-hydroxybenzoato(2-)-O1,O2]-, hydrogen","","R1;D1","2017-08-14","2017-08-14",null,"Substance Direct Entry",{"$f":"IF(J154=\"Group Member\",VLOOKUP(I154,#REF!,5,0),\"\")","v":""}]
["97692-41-6","307-694-7","IAEG000454","Sodium [mu-[4-[[5-[(5-chloro-2-hydroxyphenyl)azo]-2,4-dihydroxyphenyl]azo]-3-hydroxy-7-nitronaphthalene-1-sulphonato(5-)]]dihydroxydichromate(1-)","","R1;D1","2017-08-14","2017-08-14",null,"Substance Direct Entry",{"$f":"IF(J155=\"Group Member\",VLOOKUP(I155,#REF!,5,0),\"\")","v":""}]
["26299-14-9","247-595-5","IAEG000458","Pyridinium chlorochromate","","R1;D1","2017-08-14","2017-08-14",null,"Substance Direct Entry",{"$f":"IF(J156=\"Group Member\",VLOOKUP(I156,#REF!,5,0),\"\")","v":""}]
["93962-87-9","300-727-6","IAEG000464","Dihydrogen [mu-[[2,2'-[vinylenebis[(3-sulpho-4,1-phenylene)imino(6-chloro-1,3,5-triazine-4,2-diyl)imino(1-hydroxy-3-sulphonaphthalene-6,2-diyl)azo]]bis[benzoato]](8-)]]dichromate(2-)","","R1;D1","2017-08-14","2017-08-14",null,"Substance Direct Entry",{"$f":"IF(J157=\"Group Member\",VLOOKUP(I157,#REF!,5,0),\"\")","v":""}]
["68141-02-6","268-824-5","IAEG000467","Chromium(3+) perfluorooctanoate","Octanoic acid, 2,2,3,3,4,4,5,5,6,6,7,7,8,8,8- pentadecafluoro-, chromium(3+)","R1;R2;D1;I","2017-08-14","2017-08-14",null,"Substance Direct Entry",{"$f":"IF(J158=\"Group Member\",VLOOKUP(I158,#REF!,5,0),\"\")","v":""}]
["13907-45-4","No EC available","IAEG000470","Chromate (CrO42-)","","R1;D1","2017-08-14","2017-08-14",null,"Substance Direct Entry",{"$f":"IF(J159=\"Group Member\",VLOOKUP(I159,#REF!,5,0),\"\")","v":""}]
["92203-02-6","No EC available","IAEG000475","Phosphoric acid, reaction products with aluminum hydroxide and chromium oxide (CrO3)","","R1;D1","2017-08-14","2017-08-14",null,"Substance Direct Entry",{"$f":"IF(J160=\"Group Member\",VLOOKUP(I160,#REF!,5,0),\"\")","v":""}]
["92203-03-7","No EC available","IAEG000476","Phosphoric acid, reaction products with aluminum hydroxide, chromium oxide (CrO3) and diethanolamine","","R1;D1","2017-08-14","2017-08-14",null,"Substance Direct Entry",{"$f":"IF(J161=\"Group Member\",VLOOKUP(I161,#REF!,5,0),\"\")","v":""}]
["94933-05-8","No EC available","IAEG000477","Chromate(3-), bis[2-[2-[2-(hydroxy-.kappa.O)-4-hydroxy-3-[2-(5-sulfo-1-naphthalenyl)diazenyl-.kappa.N1]phenyl]diazenyl]benzoato(3-)-.kappa.O]-, sodium (1:3)","","R1;R2;D1","2017-08-14","2017-08-14",null,"Substance Direct Entry",{"$f":"IF(J162=\"Group Member\",VLOOKUP(I162,#REF!,5,0),\"\")","v":""}]
["10031-16-0","No EC available","IAEG000492","Barium dichromate","","R1;D1","2017-08-14","2017-08-14",null,"Substance Direct Entry",{"$f":"IF(J163=\"Group Member\",VLOOKUP(I163,#REF!,5,0),\"\")","v":""}]
["13907-47-6","No EC available","IAEG000494","Bichromate","Bichromic acid","R1;D1","2017-08-14","2017-08-14",null,"Substance Direct Entry",{"$f":"IF(J164=\"Group Member\",VLOOKUP(I164,#REF!,5,0),\"\")","v":""}]
["81121-61-1","632-855-6","IAEG000500","4-(Dimethylamino)Pyridinium Chlorochromate","","R1;D1","2017-08-14","2017-08-14",null,"Substance Direct Entry",{"$f":"IF(J165=\"Group Member\",VLOOKUP(I165,#REF!,5,0),\"\")","v":""}]
["83042-08-4","No EC available","IAEG000501","Pyridinium Fluorochromate","","R1;D1","2017-08-14","2017-08-14",null,"Substance Direct Entry",{"$f":"IF(J166=\"Group Member\",VLOOKUP(I166,#REF!,5,0),\"\")","v":""}]
["89952-87-4","No EC available","IAEG000503","Tetrakis(Pyridine)Silver(I) Dichromate","","R1;D1","2017-08-14","2017-08-14",null,"Substance Direct Entry",{"$f":"IF(J167=\"Group Member\",VLOOKUP(I167,#REF!,5,0),\"\")","v":""}]
["1511-62-2","216-149-1","IAEG000509","Bromodifluoromethane (HBFC-22 B1)","","R1;R2;D1","2019-01-24","2019-01-24",null,"Substance Direct Entry",{"$f":"IF(J168=\"Group Member\",VLOOKUP(I168,#REF!,5,0),\"\")","v":""}]
["1868-53-7","No EC available","IAEG000512","Dibromofluoromethane (HBFC-21 B2)","","R1;R2;D1","2015-03-17","2015-03-17",null,"Substance Direct Entry",{"$f":"IF(J169=\"Group Member\",VLOOKUP(I169,#REF!,5,0),\"\")","v":""}]
["1871-72-3","No EC available","IAEG000513","1-Bromo-2-fluoropropane (HBFC-271 B1)","","R1;R2;D1","2019-01-24","2019-01-24",null,"Substance Direct Entry",{"$f":"IF(J170=\"Group Member\",VLOOKUP(I170,#REF!,5,0),\"\")","v":""}]
["354-04-1","206-543-1","IAEG000526","1,2-Dibromo-1,1,2-trifluoroethane (HBFC-123 B2)","","R1;R2;D1","2019-01-24","2019-01-24",null,"Substance Direct Entry",{"$f":"IF(J171=\"Group Member\",VLOOKUP(I171,#REF!,5,0),\"\")","v":""}]
["358-97-4","206-621-5","IAEG000529","1,2-Dibromo-1-fluoroethane (HBFC-141 B2)","","R1;R2;D1","2019-01-24","2019-01-24",null,"Substance Direct Entry",{"$f":"IF(J172=\"Group Member\",VLOOKUP(I172,#REF!,5,0),\"\")","v":""}]
["373-52-4","481-800-0","IAEG000535","Bromofluoromethane (HBFC-31 B1)","","R1;R2;D1","2019-01-24","2019-01-24",null,"Substance Direct Entry",{"$f":"IF(J173=\"Group Member\",VLOOKUP(I173,#REF!,5,0),\"\")","v":""}]
["421-06-7","207-001-7","IAEG000538","2-Bromo-1,1,1-trifluoroethane (HBFC-133 B1)","","R1;R2;D1","2019-01-24","2019-01-24",null,"Substance Direct Entry",{"$f":"IF(J174=\"Group Member\",VLOOKUP(I174,#REF!,5,0),\"\")","v":""}]
["75372-14-4","No EC available","IAEG000572","1,2,3-Tribromo-1-fluoropropane","Tribromofluoropropane (HBFC-251 B3)","R1;R2;D1","2019-01-24","2019-01-24",null,"Substance Direct Entry",{"$f":"IF(J175=\"Group Member\",VLOOKUP(I175,#REF!,5,0),\"\")","v":""}]
["75-82-1","200-905-2","IAEG000573","1,2-Dibromo-1,1-difluoroethane","Dibromodifluoroethane (HBFC-132 B2)","R1;R2;D1","2019-01-24","2019-01-24",null,"Substance Direct Entry",{"$f":"IF(J176=\"Group Member\",VLOOKUP(I176,#REF!,5,0),\"\")","v":""}]
["762-49-2","212-100-3","IAEG000574","Bromofluoroethane (HBFC-151 B1)","","R1;R2;D1","2019-01-24","2019-01-24",null,"Substance Direct Entry",{"$f":"IF(J177=\"Group Member\",VLOOKUP(I177,#REF!,5,0),\"\")","v":""}]
["353-97-9","No EC available","IAEG000586","Tribromodifluoroethane (HBFC-122 B3)","Ethane, 1,1,2-tribromo-1,2-difluoro-","R1;R2;D1","2019-01-24","2019-01-24",null,"Substance Direct Entry",{"$f":"IF(J178=\"Group Member\",VLOOKUP(I178,#REF!,5,0),\"\")","v":""}]
["679-94-7","No EC available","IAEG000598","Bromopentafluoropropane (HBFC-235 B1)","1-Bromo-1,2,2,3,3-pentafluoropropane","R1;R2;D1","2017-08-14","2017-08-14",null,"Substance Direct Entry",{"$f":"IF(J179=\"Group Member\",VLOOKUP(I179,#REF!,5,0),\"\")","v":""}]
["461-49-4","No EC available","IAEG000618","Bromodifluoropropane (HBFC-262 B1)","Propane, 3-bromo-1,1-difluoro-","R1;R2;D1","2019-01-24","2019-01-24",null,"Substance Direct Entry",{"$f":"IF(J180=\"Group Member\",VLOOKUP(I180,#REF!,5,0),\"\")","v":""}]
["1765-40-8","217-182-4","IAEG000647","Alpha-bromo-2,3,4,5,6-pentafluorotoluene","","R1;R2","2017-08-14","2017-08-14",null,"Substance Direct Entry",{"$f":"IF(J181=\"Group Member\",VLOOKUP(I181,#REF!,5,0),\"\")","v":""}]
["460-00-4","207-300-2","IAEG000652","1-bromo-4-fluorobenzene","","R1;R2;I","2017-08-14","2017-08-14",null,"Substance Direct Entry",{"$f":"IF(J182=\"Group Member\",VLOOKUP(I182,#REF!,5,0),\"\")","v":""}]
["1073-06-9","214-023-0","IAEG000653","1-bromo-3-fluorobenzene","","R1;R2","2017-08-14","2017-08-14",null,"Substance Direct Entry",{"$f":"IF(J183=\"Group Member\",VLOOKUP(I183,#REF!,5,0),\"\")","v":""}]
["1514-82-5","627-872-0","IAEG000684","2-bromo-3,3,3-trifluoroprop-1-ene","","R1;R2;D1","2017-08-14","2017-08-14",null,"Substance Direct Entry",{"$f":"IF(J184=\"Group Member\",VLOOKUP(I184,#REF!,5,0),\"\")","v":""}]
["656-57-5","No EC available","IAEG000709","1-Bromo-2-Fluorocyclohexane","","R1;R2","2017-08-14","2017-08-14",null,"Substance Direct Entry",{"$f":"IF(J185=\"Group Member\",VLOOKUP(I185,#REF!,5,0),\"\")","v":""}]
["7617-93-8","676-876-9","IAEG000711","1-Bromo-2,5-Bis(Trifluoromethyl)Benzene","","R1;R2","2017-08-14","2017-08-14",null,"Substance Direct Entry",{"$f":"IF(J186=\"Group Member\",VLOOKUP(I186,#REF!,5,0),\"\")","v":""}]
["875664-38-3","No EC available","IAEG000715","2-Bromo-4,5-Difluorotoluene","","R1;R2","2020-01-16","2020-01-16",null,"Substance Direct Entry",{"$f":"IF(J187=\"Group Member\",VLOOKUP(I187,#REF!,5,0),\"\")","v":""}]
["886509-99-5","No EC available","IAEG000716","2-Bromo-4-(Difluoromethyl)-1-Fluorobenzene","","R1;R2","2020-01-16","2020-01-16",null,"Substance Direct Entry",{"$f":"IF(J188=\"Group Member\",VLOOKUP(I188,#REF!,5,0),\"\")","v":""}]
["92814-00-1","No EC available","IAEG000717","1-Bromomethyl-4-Methyl-2,3,5,6-Tetrafluorobenzene","","R1;R2","2020-01-16","2020-01-16",null,"Substance Direct Entry",{"$f":"IF(J189=\"Group Member\",VLOOKUP(I189,#REF!,5,0),\"\")","v":""}]
["75-45-6","200-871-9","IAEG000720","Chlorodifluoromethane (HCFC-22)","","R1;R2;D1","2015-03-17","2015-03-17",null,"Substance Direct Entry",{"$f":"IF(J190=\"Group Member\",VLOOKUP(I190,#REF!,5,0),\"\")","v":""}]
["75-68-3","200-891-8","IAEG000721","1-Chloro-1,1-difluoroethane (HCFC-142b)","","R1;R2;D1","2015-03-17","2015-03-17",null,"Substance Direct Entry",{"$f":"IF(J191=\"Group Member\",VLOOKUP(I191,#REF!,5,0),\"\")","v":""}]
["98-56-6","202-681-1","IAEG000722","4-chloro-alpha,alpha,alpha-trifluorotoluene","","R1;R2","2017-08-14","2017-08-14",null,"Substance Direct Entry",{"$f":"IF(J192=\"Group Member\",VLOOKUP(I192,#REF!,5,0),\"\")","v":""}]
["306-83-2","206-190-3","IAEG000723","2,2-Dichloro-1,1,1-trifluoroethane","1,1-Dichloro-2,2,2-trifluoroethane (HCFC-123)","R1;R2;D1","2015-03-17","2015-03-17",null,"Substance Direct Entry",{"$f":"IF(J193=\"Group Member\",VLOOKUP(I193,#REF!,5,0),\"\")","v":""}]
["230956-35-1","No EC available","IAEG000786","Propane, 2-chloro-1,1,1,2,3-pentafluoro-","","R1;R2","2020-01-16","2020-01-16",null,"Substance Direct Entry",{"$f":"IF(J194=\"Group Member\",VLOOKUP(I194,#REF!,5,0),\"\")","v":""}]
["2837-89-0","220-629-6","IAEG000791","2-Chloro-1,1,1,2-tetrafluoroethane (HCFC-124)","","R1;R2;D1","2017-08-14","2017-08-14",null,"Substance Direct Entry",{"$f":"IF(J195=\"Group Member\",VLOOKUP(I195,#REF!,5,0),\"\")","v":""}]
["354-21-2","206-548-9","IAEG000804","1,2,2-Trichloro-1,1-difluoroethane (HCFC-122)","","R1;R2;D1","2019-01-24","2019-01-24",null,"Substance Direct Entry",{"$f":"IF(J196=\"Group Member\",VLOOKUP(I196,#REF!,5,0),\"\")","v":""}]
["354-25-6","206-552-0","IAEG000806","1-Chloro-1,1,2,2-tetrafluoroethane (HCFC-124a)","","R1;R2;D1","2017-08-14","2017-08-14",null,"Substance Direct Entry",{"$f":"IF(J197=\"Group Member\",VLOOKUP(I197,#REF!,5,0),\"\")","v":""}]
["359-28-4","No EC available","IAEG000807","1,1,2-Trichloro-2-fluoroethane (HCFC-131)","","R1;R2;D1","2019-01-24","2019-01-24",null,"Substance Direct Entry",{"$f":"IF(J198=\"Group Member\",VLOOKUP(I198,#REF!,5,0),\"\")","v":""}]
["422-51-5","No EC available","IAEG000842","Propane, 1,1,1-trichloro-2,2,3,3-tetrafluoro-","","R1;R2","2020-01-16","2020-01-16",null,"Substance Direct Entry",{"$f":"IF(J199=\"Group Member\",VLOOKUP(I199,#REF!,5,0),\"\")","v":""}]
["422-56-0","207-016-9","IAEG000847","3,3-Dichloro-1,1,1,2,2-pentafluoropropane  (HCFC-225ca)","","R1;R2;D1","2015-03-17","2015-03-17",null,"Substance Direct Entry",{"$f":"IF(J200=\"Group Member\",VLOOKUP(I200,#REF!,5,0),\"\")","v":""}]
["460-69-5","No EC available","IAEG000872","3,3-Dichloro-1,1,1-trifluoropropane (HCFC-243fa)","","R1;R2;D1","2020-01-16","2020-01-16",null,"Substance Direct Entry",{"$f":"IF(J201=\"Group Member\",VLOOKUP(I201,#REF!,5,0),\"\")","v":""}]
["507-55-1","208-076-9","IAEG000877","1,3-Dichloro-1,1,2,2,3-pentafluoropropane  (HCFC-225cb)","","R1;R2;D1","2015-03-17","2015-03-17",null,"Substance Direct Entry",{"$f":"IF(J202=\"Group Member\",VLOOKUP(I202,#REF!,5,0),\"\")","v":""}]
["593-70-4","209-803-2","IAEG000888","Chlorofluoromethane (HCFC-31)","","R1;R2;D1","2019-01-24","2019-01-24",null,"Substance Direct Entry",{"$f":"IF(J203=\"Group Member\",VLOOKUP(I203,#REF!,5,0),\"\")","v":""}]
["7125-83-9","No EC available","IAEG000905","1,1,1-Trichloro-3,3,3-trifluoropropane (HCFC-233fb)","","R1;R2","2017-08-14","2017-08-14",null,"Substance Direct Entry",{"$f":"IF(J204=\"Group Member\",VLOOKUP(I204,#REF!,5,0),\"\")","v":""}]
["7126-06-9","No EC available","IAEG000911","Propane, 1,1,2,2-tetrachloro-1-fluoro-","","R1;R2","2020-01-16","2020-01-16",null,"Substance Direct Entry",{"$f":"IF(J205=\"Group Member\",VLOOKUP(I205,#REF!,5,0),\"\")","v":""}]
["75-43-4","200-869-8","IAEG000915","Dichlorofluoromethane (HCFC-21)","","R1;R2;D1","2017-08-14","2017-08-14",null,"Substance Direct Entry",{"$f":"IF(J206=\"Group Member\",VLOOKUP(I206,#REF!,5,0),\"\")","v":""}]
["75-88-7","200-912-0","IAEG000916","2-Chloro-1,1,1-trifluoroethane","Chloro-1,1,1-trifluoroethane (HCFC-133a)","R1;R2;D1","2015-03-17","2015-03-17",null,"Substance Direct Entry",{"$f":"IF(J207=\"Group Member\",VLOOKUP(I207,#REF!,5,0),\"\")","v":""}]
["83124-57-6","No EC available","IAEG000929","Propane, 3-chloro-1,1-difluoro-","","R1;R2","2020-01-16","2020-01-16",null,"Substance Direct Entry",{"$f":"IF(J208=\"Group Member\",VLOOKUP(I208,#REF!,5,0),\"\")","v":""}]
["1717-00-6","404-080-1","IAEG000934","1,1-Dichloro-1-fluoroethane (HCFC-141b)","","R1;R2;D1","2015-03-17","2015-03-17",null,"Substance Direct Entry",{"$f":"IF(J209=\"Group Member\",VLOOKUP(I209,#REF!,5,0),\"\")","v":""}]
["134190-50-4","No EC available","IAEG000953","Chlorotetrafluoropropane (HCFC-244)","","R1;R2;D1","2019-01-24","2019-01-24",null,"Substance Direct Entry",{"$f":"IF(J210=\"Group Member\",VLOOKUP(I210,#REF!,5,0),\"\")","v":""}]
["475-26-3","207-493-3","IAEG000961","Benzene, 1,1'-(2,2,2-trichloroethylidene)bis[4-fluoro-","","R1;R2","2017-08-14","2017-08-14",null,"Substance Direct Entry",{"$f":"IF(J211=\"Group Member\",VLOOKUP(I211,#REF!,5,0),\"\")","v":""}]
["352-33-0","206-521-1","IAEG001001","1-chloro-4-fluorobenzene","","R1;R2","2017-08-14","2017-08-14",null,"Substance Direct Entry",{"$f":"IF(J212=\"Group Member\",VLOOKUP(I212,#REF!,5,0),\"\")","v":""}]
["402-42-6","206-942-0","IAEG001010","P-fluoro-alpha,alpha,alpha-trichlorotoluene","","R1;R2","2017-08-14","2017-08-14",null,"Substance Direct Entry",{"$f":"IF(J213=\"Group Member\",VLOOKUP(I213,#REF!,5,0),\"\")","v":""}]
["348-51-6","206-476-8","IAEG001015","1-chloro-2-fluorobenzene","","R1;R2","2020-01-16","2020-01-16",null,"Substance Direct Entry",{"$f":"IF(J214=\"Group Member\",VLOOKUP(I214,#REF!,5,0),\"\")","v":""}]
["88-16-4","201-805-1","IAEG001021","2-chloro-alpha,alpha,alpha-trifluorotoluene","","R1;R2","2017-08-14","2017-08-14",null,"Substance Direct Entry",{"$f":"IF(J215=\"Group Member\",VLOOKUP(I215,#REF!,5,0),\"\")","v":""}]
["98-15-7","202-642-9","IAEG001028","3-chloro-alpha,alpha,alpha-trifluorotoluene","","R1;R2","2017-08-14","2017-08-14",null,"Substance Direct Entry",{"$f":"IF(J216=\"Group Member\",VLOOKUP(I216,#REF!,5,0),\"\")","v":""}]
["328-84-7","206-337-1","IAEG001034","3,4-dichloro-alpha,alpha,alpha-trifluorotoluene","","R1;R2","2017-08-14","2017-08-14",null,"Substance Direct Entry",{"$f":"IF(J217=\"Group Member\",VLOOKUP(I217,#REF!,5,0),\"\")","v":""}]
["102687-65-0","No EC available","IAEG001051","1-Propene, 1-chloro-3,3,3-trifluoro-, (1E)-","","R1;R2","2017-08-14","2017-08-14",null,"Substance Direct Entry",{"$f":"IF(J218=\"Group Member\",VLOOKUP(I218,#REF!,5,0),\"\")","v":""}]
["52181-51-8","No EC available","IAEG001062","Chlorobenzotrifluoride","Benzene, chloro(trifluoromethyl)-","R1;R2","2017-08-14","2017-08-14",null,"Substance Direct Entry",{"$f":"IF(J219=\"Group Member\",VLOOKUP(I219,#REF!,5,0),\"\")","v":""}]
["1835-61-6","No EC available","IAEG001067","3-Chloro-1,2,4,5-Tetrafluorobenzene","","R1;R2","2017-08-14","2017-08-14",null,"Substance Direct Entry",{"$f":"IF(J220=\"Group Member\",VLOOKUP(I220,#REF!,5,0),\"\")","v":""}]
["2106-40-3","No EC available","IAEG001068","1-Chloro-2,4,6-Trifluorobenzene","","R1;R2","2017-08-14","2017-08-14",null,"Substance Direct Entry",{"$f":"IF(J221=\"Group Member\",VLOOKUP(I221,#REF!,5,0),\"\")","v":""}]
["2368-53-8","No EC available","IAEG001070","1,3-Dichloro-2,4,6-Trifluorobenzene","","R1;R2","2017-08-14","2017-08-14",null,"Substance Direct Entry",{"$f":"IF(J222=\"Group Member\",VLOOKUP(I222,#REF!,5,0),\"\")","v":""}]
["348-59-4","No EC available","IAEG001071","2,5-Dichlorofluorobenzene","","R1;R2","2017-08-14","2017-08-14",null,"Substance Direct Entry",{"$f":"IF(J223=\"Group Member\",VLOOKUP(I223,#REF!,5,0),\"\")","v":""}]
["38361-37-4","No EC available","IAEG001072","2-Chloro-1,3-Difluorobenzene","","R1;R2","2020-01-16","2020-01-16",null,"Substance Direct Entry",{"$f":"IF(J224=\"Group Member\",VLOOKUP(I224,#REF!,5,0),\"\")","v":""}]
["6186-91-0","No EC available","IAEG001073","3-Chloro-2-Fluoroprop-1-Ene","","R1;R2","2017-08-14","2017-08-14",null,"Substance Direct Entry",{"$f":"IF(J225=\"Group Member\",VLOOKUP(I225,#REF!,5,0),\"\")","v":""}]
["696-02-6","No EC available","IAEG001075","1-Chloro-3,4-Difluorobenzene","4-Chloro-1,2-Difluorobenzene","R1;R2","2020-01-16","2020-01-16",null,"Substance Direct Entry",{"$f":"IF(J226=\"Group Member\",VLOOKUP(I226,#REF!,5,0),\"\")","v":""}]
["93286-22-7","No EC available","IAEG001076","2-Chloro-4-Fluorobenzyl Chloride","2-Chloro-1-(Chloromethyl)-4-Fluorobenzene","R1;R2","2020-01-16","2020-01-16",null,"Substance Direct Entry",{"$f":"IF(J227=\"Group Member\",VLOOKUP(I227,#REF!,5,0),\"\")","v":""}]
["75-02-5","200-832-6","IAEG001077","Vinyl fluoride","Fluoroethylene","R1;R2","2015-03-17","2017-08-14",null,"Substance Direct Entry",{"$f":"IF(J228=\"Group Member\",VLOOKUP(I228,#REF!,5,0),\"\")","v":""}]
["75-10-5","200-839-4","IAEG001078","Difluoromethane (HFC-32)","","R1;R2;D1","2015-03-17","2015-03-17",null,"Substance Direct Entry",{"$f":"IF(J229=\"Group Member\",VLOOKUP(I229,#REF!,5,0),\"\")","v":""}]
["75-37-6","200-866-1","IAEG001079","1,1-Difluoroethane (HFC-152a)","","R1;R2;D1","2015-03-17","2015-03-17",null,"Substance Direct Entry",{"$f":"IF(J230=\"Group Member\",VLOOKUP(I230,#REF!,5,0),\"\")","v":""}]
["75-38-7","200-867-7","IAEG001080","1,1-Difluoroethylene","","R1;R2","2017-08-14","2017-08-14",null,"Substance Direct Entry",{"$f":"IF(J231=\"Group Member\",VLOOKUP(I231,#REF!,5,0),\"\")","v":""}]
["354-33-6","206-557-8","IAEG001081","Pentafluoroethane (HFC-125)","","R1;R2;D1","2015-03-17","2015-03-17",null,"Substance Direct Entry",{"$f":"IF(J232=\"Group Member\",VLOOKUP(I232,#REF!,5,0),\"\")","v":""}]
["420-46-2","206-996-5","IAEG001082","1,1,1-Trifluoroethane (HFC-143a)","","R1;R2;D1","2015-03-17","2015-03-17",null,"Substance Direct Entry",{"$f":"IF(J233=\"Group Member\",VLOOKUP(I233,#REF!,5,0),\"\")","v":""}]
["431-89-0","207-079-2","IAEG001083","1,1,1,2,3,3,3-Heptafluoropropane (HFC-227ea)","","R1;R2;D1","2015-03-17","2015-03-17",null,"Substance Direct Entry",{"$f":"IF(J234=\"Group Member\",VLOOKUP(I234,#REF!,5,0),\"\")","v":""}]
["811-97-2","212-377-0","IAEG001084","Norflurane","1,1,1,2-Tetrafluoroethane (HFC-134a)","R1;R2;D1","2015-03-17","2015-03-17",null,"Substance Direct Entry",{"$f":"IF(J235=\"Group Member\",VLOOKUP(I235,#REF!,5,0),\"\")","v":""}]
["75-46-7","200-872-4","IAEG001085","Trifluoromethane (HFC-23)","","R1;R2;D1","2015-03-17","2015-03-17",null,"Substance Direct Entry",{"$f":"IF(J236=\"Group Member\",VLOOKUP(I236,#REF!,5,0),\"\")","v":""}]
["462-06-6","207-321-7","IAEG001087","Fluorobenzene","","R1;R2","2017-08-14","2017-08-14",null,"Substance Direct Entry",{"$f":"IF(J237=\"Group Member\",VLOOKUP(I237,#REF!,5,0),\"\")","v":""}]
["98-08-8","202-635-0","IAEG001088","Alpha,alpha,alpha-trifluorotoluene","Benzotrifluoride","R1;R2","2017-08-14","2017-08-14",null,"Substance Direct Entry",{"$f":"IF(J238=\"Group Member\",VLOOKUP(I238,#REF!,5,0),\"\")","v":""}]
["406-58-6","430-250-1","IAEG001089","1,1,1,3,3-Pentafluorobutane (HFC-365mfc)","SOLKANE 365 MFC","R1;R2;D1","2015-03-17","2015-03-17",null,"Substance Direct Entry",{"$f":"IF(J239=\"Group Member\",VLOOKUP(I239,#REF!,5,0),\"\")","v":""}]
["15290-77-4","430-710-1","IAEG001090","1,1,2,2,3,3,4-Heptafluorocyclopentane","","R1;R2;D1","2017-08-14","2017-08-14",null,"Substance Direct Entry",{"$f":"IF(J240=\"Group Member\",VLOOKUP(I240,#REF!,5,0),\"\")","v":""}]
["431-63-0","207-076-6","IAEG001093","1,1,1,2,3,3-Hexafluoropropane (HFC-236ea)","","R1;R2;D1","2020-01-16","2020-01-16",null,"Substance Direct Entry",{"$f":"IF(J241=\"Group Member\",VLOOKUP(I241,#REF!,5,0),\"\")","v":""}]
["359-35-3","206-628-3","IAEG001094","1,1,2,2-Tetrafluoroethane (HFC-134)","","R1;R2;D1","2020-01-16","2020-01-16",null,"Substance Direct Entry",{"$f":"IF(J242=\"Group Member\",VLOOKUP(I242,#REF!,5,0),\"\")","v":""}]
["430-66-0","207-066-1","IAEG001095","1,1,2-Trifluoroethane (HFC-143)","","R1;R2;D1","2020-01-16","2020-01-16",null,"Substance Direct Entry",{"$f":"IF(J243=\"Group Member\",VLOOKUP(I243,#REF!,5,0),\"\")","v":""}]
["25497-28-3","No EC available","IAEG001097","Difluoroethane","","R1;R2","2017-08-14","2017-08-14",null,"Substance Direct Entry",{"$f":"IF(J244=\"Group Member\",VLOOKUP(I244,#REF!,5,0),\"\")","v":""}]
["593-53-3","209-796-6","IAEG001099","Fluoromethane","Methyl fluoride (HFC-41)","R1;R2;D1","2015-03-17","2015-03-17",null,"Substance Direct Entry",{"$f":"IF(J245=\"Group Member\",VLOOKUP(I245,#REF!,5,0),\"\")","v":""}]
["138495-42-8","No EC available","IAEG001101","1,1,1,2,2,3,4,5,5,5-Decafluoropentane (HFC-43-10mee)","","R1;R2;D1","2015-03-17","2015-03-17",null,"Substance Direct Entry",{"$f":"IF(J246=\"Group Member\",VLOOKUP(I246,#REF!,5,0),\"\")","v":""}]
["690-39-1","No EC available","IAEG001102","1,1,1,3,3,3-Hexafluoropropane (HFC-236fa)","","R1;R2;D1","2015-03-17","2015-03-17",null,"Substance Direct Entry",{"$f":"IF(J247=\"Group Member\",VLOOKUP(I247,#REF!,5,0),\"\")","v":""}]
["754-12-1","468-710-7","IAEG001105","2,3,3,3-Tetrafluoropropene","Polyhaloalkene","R1;R2;D1","2020-01-16","2020-01-16",null,"Substance Direct Entry",{"$f":"IF(J248=\"Group Member\",VLOOKUP(I248,#REF!,5,0),\"\")","v":""}]
["677-56-5","No EC available","IAEG001106","1,1,1,2,2,3-Hexafluoropropane (HFC-236cb)","","R1;R2;D1","2020-01-16","2020-01-16",null,"Substance Direct Entry",{"$f":"IF(J249=\"Group Member\",VLOOKUP(I249,#REF!,5,0),\"\")","v":""}]
["679-86-7","No EC available","IAEG001107","1,1,2,2,3-Pentafluoropropane (HFC-245ca)","","R1;R2;D1","2020-01-16","2020-01-16",null,"Substance Direct Entry",{"$f":"IF(J250=\"Group Member\",VLOOKUP(I250,#REF!,5,0),\"\")","v":""}]
["460-73-1","419-170-6","IAEG001108","1,1,1,3,3-Pentafluoropropane (HFC-245fa)","","R1;R2;D1","2015-03-17","2015-03-17",null,"Substance Direct Entry",{"$f":"IF(J251=\"Group Member\",VLOOKUP(I251,#REF!,5,0),\"\")","v":""}]
["363-72-4","206-658-7","IAEG001125","Pentafluorobenzene","","R1;R2","2017-08-14","2017-08-14",null,"Substance Direct Entry",{"$f":"IF(J252=\"Group Member\",VLOOKUP(I252,#REF!,5,0),\"\")","v":""}]
["540-36-3","208-742-9","IAEG001132","1,4-difluorobenzene","","R1;R2","2017-08-14","2017-08-14",null,"Substance Direct Entry",{"$f":"IF(J253=\"Group Member\",VLOOKUP(I253,#REF!,5,0),\"\")","v":""}]
["321-38-0","206-287-0","IAEG001144","1-fluoronaphthalene","","R1;R2","2017-08-14","2017-08-14",null,"Substance Direct Entry",{"$f":"IF(J254=\"Group Member\",VLOOKUP(I254,#REF!,5,0),\"\")","v":""}]
["25291-17-2","246-791-8","IAEG001174","3,3,4,4,5,5,6,6,7,7,8,8,8-tridecafluorooct-1-ene","","R1;R2;D1","2017-08-14","2017-08-14",null,"Substance Direct Entry",{"$f":"IF(J255=\"Group Member\",VLOOKUP(I255,#REF!,5,0),\"\")","v":""}]
["402-31-3","206-939-4","IAEG001180","Alpha,alpha,alpha,beta,beta,beta-hexafluoro-m-xylene","","R1;R2","2017-08-14","2017-08-14",null,"Substance Direct Entry",{"$f":"IF(J256=\"Group Member\",VLOOKUP(I256,#REF!,5,0),\"\")","v":""}]
["1763-21-9","217-178-2","IAEG001197","3,3,4,4-tetrafluorohexa-1,5-diene","","R1;R2","2020-01-16","2020-01-16",null,"Substance Direct Entry",{"$f":"IF(J257=\"Group Member\",VLOOKUP(I257,#REF!,5,0),\"\")","v":""}]
["29118-24-9","No EC available","IAEG001204","1-Propene, 1,3,3,3-tetrafluoro-, (1E)-","","R1;R2","2017-08-14","2017-08-14",null,"Substance Direct Entry",{"$f":"IF(J258=\"Group Member\",VLOOKUP(I258,#REF!,5,0),\"\")","v":""}]
["1645-83-6","No EC available","IAEG001234","(E)-1,3,3,3-Tetrafluoroprop-1-ene ((E)-HFC-1234ze)","","R1;R2;D1","2017-08-14","2017-08-14",null,"Substance Direct Entry",{"$f":"IF(J259=\"Group Member\",VLOOKUP(I259,#REF!,5,0),\"\")","v":""}]
["374-77-6","No EC available","IAEG001277","Cyclohexane,1,1,2,2,3,4,4,5,5,6-decafluoro-3,6-bis(trifluoromethyl)-","","R1;R2","2020-01-16","2020-01-16",null,"Substance Direct Entry",{"$f":"IF(J260=\"Group Member\",VLOOKUP(I260,#REF!,5,0),\"\")","v":""}]
["142347-07-7","No EC available","IAEG001284","Pentane, 1,1,1,2,2,3,4,5,5,5-decafluoro-, (3R,4R)-","","R1;R2","2017-08-14","2017-08-14",null,"Substance Direct Entry",{"$f":"IF(J261=\"Group Member\",VLOOKUP(I261,#REF!,5,0),\"\")","v":""}]
["729-81-7","No EC available","IAEG001327","1,3,5-Tris(Trifluoromethyl)Benzene","1,3,5-Tris(Trifluoromethyl)Benzene; 1,3,5-Tris(Trifluoromethyl)Benzene; 1,3,5-Tris(Trifluoromethyl)Benzene","R1;R2","2017-08-14","2017-08-14",null,"Substance Direct Entry",{"$f":"IF(J262=\"Group Member\",VLOOKUP(I262,#REF!,5,0),\"\")","v":""}]
["87458-21-7","No EC available","IAEG001332","Pentafluoroethane-D1","","R1;R2","2020-01-16","2020-01-16",null,"Substance Direct Entry",{"$f":"IF(J263=\"Group Member\",VLOOKUP(I263,#REF!,5,0),\"\")","v":""}]
["7439-97-6","231-106-7","IAEG001339","Mercury (Hg)","","R1;R2;D1","2015-03-17","2017-08-14",null,"Substance Direct Entry",{"$f":"IF(J264=\"Group Member\",VLOOKUP(I264,#REF!,5,0),\"\")","v":""}]
["10112-91-1","233-307-5","IAEG001340","Dimercury dichloride","","R1;R2;D1;I","2017-08-14","2017-08-14",null,"Substance Direct Entry",{"$f":"IF(J265=\"Group Member\",VLOOKUP(I265,#REF!,5,0),\"\")","v":""}]
["100-57-2","202-866-7","IAEG001341","Phenylmercuric hydroxide","","R1;R2;D1;I","2017-08-14","2017-08-14",null,"Substance Direct Entry",{"$f":"IF(J266=\"Group Member\",VLOOKUP(I266,#REF!,5,0),\"\")","v":""}]
["21908-53-2","244-654-7","IAEG001346","Mercury monoxide","Mercury oxide; Mercuric oxide","R1;R2;D1;I","2017-08-14","2017-08-14",null,"Substance Direct Entry",{"$f":"IF(J267=\"Group Member\",VLOOKUP(I267,#REF!,5,0),\"\")","v":""}]
["62-38-4","200-532-5","IAEG001360","Phenylmercury acetate","Phenylmercuric acetate","R1;R2;D1;I","2015-03-17","2017-08-14",null,"Substance Direct Entry",{"$f":"IF(J268=\"Group Member\",VLOOKUP(I268,#REF!,5,0),\"\")","v":""}]
["7487-94-7","231-299-8","IAEG001361","Mercury dichloride","Mercuric chloride","R1;R2;D1;I","2015-03-17","2017-08-14",null,"Substance Direct Entry",{"$f":"IF(J269=\"Group Member\",VLOOKUP(I269,#REF!,5,0),\"\")","v":""}]
["7546-30-7","231-430-9","IAEG001362","Mercury chloride","Mercurous chloride; Calomel","R1;R2;D1;I","2017-08-14","2017-08-14",null,"Substance Direct Entry",{"$f":"IF(J270=\"Group Member\",VLOOKUP(I270,#REF!,5,0),\"\")","v":""}]
["103-27-5","203-094-3","IAEG001365","Phenylmercury propionate","Phenylmercuric propionate; Phenyl(propanoato-O)mercury","R1;R2;D1;I","2015-03-17","2017-08-14",null,"Substance Direct Entry",{"$f":"IF(J271=\"Group Member\",VLOOKUP(I271,#REF!,5,0),\"\")","v":""}]
["104-60-9","203-218-6","IAEG001367","Mercury, (9-octadecenoato-O)phenyl-, (Z)-","","R1;R2;D1;I","2017-08-14","2017-08-14",null,"Substance Direct Entry",{"$f":"IF(J272=\"Group Member\",VLOOKUP(I272,#REF!,5,0),\"\")","v":""}]
["129-16-8","204-933-6","IAEG001379","Merbromin","Mercury, (2',7'-dibromo-3',6'-dihydroxy-3-oxospiro[isobenzofuran-1(3H),9'-[9H]xanthen]-4'-yl)hydroxy-, disodium salt","R1;R2;D1;I","2017-08-14","2017-08-14",null,"Substance Direct Entry",{"$f":"IF(J273=\"Group Member\",VLOOKUP(I273,#REF!,5,0),\"\")","v":""}]
["13302-00-6","236-326-7","IAEG001385","Phenylmercury 2-ethylhexanoate","(2-Ethylhexanoato)phenylmercury","R1;R2;D1;I","2015-03-17","2017-08-14",null,"Substance Direct Entry",{"$f":"IF(J274=\"Group Member\",VLOOKUP(I274,#REF!,5,0),\"\")","v":""}]
["1600-27-7","216-491-1","IAEG001399","Mercury di(acetate)","Mercuric acetate; Acetic acid, mercury(2+) salt","R1;R2;D1;I","2017-08-14","2017-08-14",null,"Substance Direct Entry",{"$f":"IF(J275=\"Group Member\",VLOOKUP(I275,#REF!,5,0),\"\")","v":""}]
["24806-32-4","No EC available","IAEG001419","Mercury, [.mu.-[dodecylbutanedioato(2-)-O:O']]diphenyldi-","","R1;R2;D1;I","2017-08-14","2017-08-14",null,"Substance Direct Entry",{"$f":"IF(J276=\"Group Member\",VLOOKUP(I276,#REF!,5,0),\"\")","v":""}]
["26545-49-3","247-783-7","IAEG001420","Phenylmercury neodecanoate ","(Neodecanoato-O)phenylmercury","R1;R2;D1;I","2015-03-17","2017-08-14",null,"Substance Direct Entry",{"$f":"IF(J277=\"Group Member\",VLOOKUP(I277,#REF!,5,0),\"\")","v":""}]
["27236-65-3","248-355-2","IAEG001424","Mercury, diphenyl[.mu.-[(tetrapropenyl)butanedioato(2-)-O:O']]di-","","R1;R2;D1;I","2017-08-14","2017-08-14",null,"Substance Direct Entry",{"$f":"IF(J278=\"Group Member\",VLOOKUP(I278,#REF!,5,0),\"\")","v":""}]
["33770-60-4","251-672-9","IAEG001440","2,5-Cyclohexadiene-1,4-dione, 2,5-dichloro-3,6-dihydroxy-, mercury(2+) salt (1:1)","","R1;R2;D1;I","2017-08-14","2017-08-14",null,"Substance Direct Entry",{"$f":"IF(J279=\"Group Member\",VLOOKUP(I279,#REF!,5,0),\"\")","v":""}]
["3570-80-7","222-673-1","IAEG001442","Bis(acetato-O)[mu-(3',6'-dihydroxy-3-oxospiro[isobenzofuran-1(3H),9'-[9H]xanthene]-2',7'-diyl)]dimercury","","R1;R2;D1;I","2017-08-14","2017-08-14",null,"Substance Direct Entry",{"$f":"IF(J280=\"Group Member\",VLOOKUP(I280,#REF!,5,0),\"\")","v":""}]
["54-64-8","200-210-4","IAEG001459","Thiomersal","Mercurate(1-), ethyl(2-mercaptobenzoato(2-)-O,S)-,sodium; Phenylethylmercuric salicylate","R1;R2;D1;I","2017-08-14","2017-08-14",null,"Substance Direct Entry",{"$f":"IF(J281=\"Group Member\",VLOOKUP(I281,#REF!,5,0),\"\")","v":""}]
["62638-02-2","263-665-8","IAEG001480","Cyclohexanebutanoic acid, mercury(2+) salt","","R1;R2;D1;I","2017-08-14","2017-08-14",null,"Substance Direct Entry",{"$f":"IF(J282=\"Group Member\",VLOOKUP(I282,#REF!,5,0),\"\")","v":""}]
["94070-93-6","301-792-3","IAEG001504","Mercury, [.mu.-[(oxydi-2,1-ethanediyl 1,2-benzenedicarboxylato)(2-)]]diphenyl-","","R1;R2;D1;I","2017-08-14","2017-08-14",null,"Substance Direct Entry",{"$f":"IF(J283=\"Group Member\",VLOOKUP(I283,#REF!,5,0),\"\")","v":""}]
["13864-38-5","No EC available","IAEG001510","Phenylmercury octanoate","Phenylmercuric octanoate","R1;R2;D1;I","2020-01-16","2020-01-16",null,"Substance Direct Entry",{"$f":"IF(J284=\"Group Member\",VLOOKUP(I284,#REF!,5,0),\"\")","v":""}]
["33445-15-7","251-524-3","IAEG001519","Diammonium tetrachloromercurate","","R1;R2;D1;I","2020-01-16","2020-01-16",null,"Substance Direct Entry",{"$f":"IF(J285=\"Group Member\",VLOOKUP(I285,#REF!,5,0),\"\")","v":""}]
["13967-25-4","237-747-9","IAEG001520","Dimercury difluoride","","R1;R2;D1;I","2020-01-16","2020-01-16",null,"Substance Direct Entry",{"$f":"IF(J286=\"Group Member\",VLOOKUP(I286,#REF!,5,0),\"\")","v":""}]
["20582-71-2","No EC available","IAEG001523","Mercurate(2-), tetrachloro-, dipotassium, (T-4)-","","R1;R2;D1;I","2020-01-16","2020-01-16",null,"Substance Direct Entry",{"$f":"IF(J287=\"Group Member\",VLOOKUP(I287,#REF!,5,0),\"\")","v":""}]
["13876-85-2","237-634-4","IAEG001524","Mercurate(2-), tetraiodo-, dicopper(1+), (T-4)-","","R1;R2;D1;I","2017-08-14","2017-08-14",null,"Substance Direct Entry",{"$f":"IF(J288=\"Group Member\",VLOOKUP(I288,#REF!,5,0),\"\")","v":""}]
["7789-47-1","232-169-3","IAEG001525","Mercuric bromide","","R1;R2;D1;I","2017-08-14","2017-08-14",null,"Substance Direct Entry",{"$f":"IF(J289=\"Group Member\",VLOOKUP(I289,#REF!,5,0),\"\")","v":""}]
["592-04-1","209-741-6","IAEG001526","Mercuric cyanide","","R1;R2;D1;I","2017-08-14","2017-08-14",null,"Substance Direct Entry",{"$f":"IF(J290=\"Group Member\",VLOOKUP(I290,#REF!,5,0),\"\")","v":""}]
["7774-29-0","231-873-8","IAEG001527","Mercuric iodide","","R1;R2;D1;I","2017-08-14","2017-08-14",null,"Substance Direct Entry",{"$f":"IF(J291=\"Group Member\",VLOOKUP(I291,#REF!,5,0),\"\")","v":""}]
["10045-94-0","233-152-3","IAEG001528","Mercuric nitrate","","R1;R2;D1;I","2017-08-14","2017-08-14",null,"Substance Direct Entry",{"$f":"IF(J292=\"Group Member\",VLOOKUP(I292,#REF!,5,0),\"\")","v":""}]
["7783-35-9","231-992-5","IAEG001531","Mercuric sulphate","","R1;R2;D1;I","2015-03-17","2017-08-14",null,"Substance Direct Entry",{"$f":"IF(J293=\"Group Member\",VLOOKUP(I293,#REF!,5,0),\"\")","v":""}]
["592-85-8","209-773-0","IAEG001532","Mercuric thiocyanate","","R1;R2;D1;I","2015-03-17","2017-08-14",null,"Substance Direct Entry",{"$f":"IF(J294=\"Group Member\",VLOOKUP(I294,#REF!,5,0),\"\")","v":""}]
["10415-75-5","233-886-4","IAEG001535","Mercurous nitrate","","R1;R2;D1;I","2019-01-24","2019-01-24",null,"Substance Direct Entry",{"$f":"IF(J295=\"Group Member\",VLOOKUP(I295,#REF!,5,0),\"\")","v":""}]
["14836-60-3","677-693-7","IAEG001538","Mercury (I) nitrate","","R1;R2;D1;I","2017-08-14","2017-08-14",null,"Substance Direct Entry",{"$f":"IF(J296=\"Group Member\",VLOOKUP(I296,#REF!,5,0),\"\")","v":""}]
["7783-34-8","No EC available","IAEG001539","Mercury (II) nitrate, monohydrate","","R1;R2;D1;I","2017-08-14","2017-08-14",null,"Substance Direct Entry",{"$f":"IF(J297=\"Group Member\",VLOOKUP(I297,#REF!,5,0),\"\")","v":""}]
["68833-55-6","No EC available","IAEG001540","Mercury acetylide","","R1;R2;D1;I","2017-08-14","2017-08-14",null,"Substance Direct Entry",{"$f":"IF(J298=\"Group Member\",VLOOKUP(I298,#REF!,5,0),\"\")","v":""}]
["15385-58-7","No EC available","IAEG001542","Mercury bromide (Hg2Br2)","","R1;R2;D1;I","2017-08-14","2017-08-14",null,"Substance Direct Entry",{"$f":"IF(J299=\"Group Member\",VLOOKUP(I299,#REF!,5,0),\"\")","v":""}]
["1344-48-5","215-696-3","IAEG001552","Mercury sulfide (HgS)","","R1;R2;D1;I","2015-03-17","2017-08-14",null,"Substance Direct Entry",{"$f":"IF(J300=\"Group Member\",VLOOKUP(I300,#REF!,5,0),\"\")","v":""}]
["12068-90-5","235-108-9","IAEG001553","Mercury telluride (HgTe)","","R1;R2;D1;I","2017-08-14","2017-08-14",null,"Substance Direct Entry",{"$f":"IF(J301=\"Group Member\",VLOOKUP(I301,#REF!,5,0),\"\")","v":""}]
["7783-33-7","231-990-4","IAEG001557","Mercury(II) potassium iodide","","R1;R2;D1;I","2020-01-16","2020-01-16",null,"Substance Direct Entry",{"$f":"IF(J302=\"Group Member\",VLOOKUP(I302,#REF!,5,0),\"\")","v":""}]
["7782-86-7","No EC available","IAEG001585","Nitric acid, mercury(1+) salt, monohydrate","","R1;R2;D1;I","2017-08-14","2017-08-14",null,"Substance Direct Entry",{"$f":"IF(J303=\"Group Member\",VLOOKUP(I303,#REF!,5,0),\"\")","v":""}]
["6827-10-7","No EC available","IAEG001636","Pyrazine, Mercuric Chloride Complex","","R1;R2;D1;I","2017-08-14","2017-08-14",null,"Substance Direct Entry",{"$f":"IF(J304=\"Group Member\",VLOOKUP(I304,#REF!,5,0),\"\")","v":""}]
["762-55-0","No EC available","IAEG001637","Vinylmercuric Chloride","","R1;R2;D1;I","2017-08-14","2017-08-14",null,"Substance Direct Entry",{"$f":"IF(J305=\"Group Member\",VLOOKUP(I305,#REF!,5,0),\"\")","v":""}]
["78571-20-7","No EC available","IAEG001638","Chlorodecylmercury","","R1;R2;D1;I","2020-01-16","2020-01-16",null,"Substance Direct Entry",{"$f":"IF(J306=\"Group Member\",VLOOKUP(I306,#REF!,5,0),\"\")","v":""}]
["80994-87-2","No EC available","IAEG001639","2-Methyl-2-Phenylpropylmercuric Chloride","","R1;R2;D1;I","2020-01-16","2020-01-16",null,"Substance Direct Entry",{"$f":"IF(J307=\"Group Member\",VLOOKUP(I307,#REF!,5,0),\"\")","v":""}]
["823-04-1","No EC available","IAEG001640","Phenylmercuric Iodide","","R1;R2;D1;I","2020-01-16","2020-01-16",null,"Substance Direct Entry",{"$f":"IF(J308=\"Group Member\",VLOOKUP(I308,#REF!,5,0),\"\")","v":""}]
["833486-99-0","No EC available","IAEG001641","Ethyl 4,5-Bis(Chloromercuri)-2-Methyl-3-Furoate","","R1;R2;D1;I","2020-01-16","2020-01-16",null,"Substance Direct Entry",{"$f":"IF(J309=\"Group Member\",VLOOKUP(I309,#REF!,5,0),\"\")","v":""}]
["86086-51-3","No EC available","IAEG001644","1,4-Bis(Acetoxymercurio)-2,3-Dimethoxybutane","","R1;R2;D1;I","2020-01-16","2020-01-16",null,"Substance Direct Entry",{"$f":"IF(J310=\"Group Member\",VLOOKUP(I310,#REF!,5,0),\"\")","v":""}]
["7718-54-9","231-743-0","IAEG001645","Nickel dichloride","","I","2015-03-17","2015-03-17",null,"Substance Direct Entry",{"$f":"IF(J311=\"Group Member\",VLOOKUP(I311,#REF!,5,0),\"\")","v":""}]
["13138-45-9","236-068-5","IAEG001646","Nickel dinitrate","","I","2015-03-17","2015-03-17",null,"Substance Direct Entry",{"$f":"IF(J312=\"Group Member\",VLOOKUP(I312,#REF!,5,0),\"\")","v":""}]
["7786-81-4","232-104-9","IAEG001647","Nickel sulphate","","I","2015-03-17","2015-03-17",null,"Substance Direct Entry",{"$f":"IF(J313=\"Group Member\",VLOOKUP(I313,#REF!,5,0),\"\")","v":""}]
["1313-99-1","215-215-7","IAEG001648","Nickel monoxide","","I","2015-03-17","2015-03-17",null,"Substance Direct Entry",{"$f":"IF(J314=\"Group Member\",VLOOKUP(I314,#REF!,5,0),\"\")","v":""}]
["12054-48-7","235-008-5","IAEG001649","Nickel dihydroxide","","I","2015-03-17","2015-03-17",null,"Substance Direct Entry",{"$f":"IF(J315=\"Group Member\",VLOOKUP(I315,#REF!,5,0),\"\")","v":""}]
["12607-70-4","235-715-9","IAEG001650","[Carbonato(2-)]tetrahydroxytrinickel","Basic nickel carbonate","I","2015-03-17","2015-03-17",null,"Substance Direct Entry",{"$f":"IF(J316=\"Group Member\",VLOOKUP(I316,#REF!,5,0),\"\")","v":""}]
["12035-72-2","234-829-6","IAEG001653","Trinickel disulphide","Nickel subsulphide","R2;I","2015-03-17","2019-01-24",null,"Substance Direct Entry",{"$f":"IF(J317=\"Group Member\",VLOOKUP(I317,#REF!,5,0),\"\")","v":""}]
["11099-02-8","234-323-5","IAEG001654","Nickel oxide","","I","2015-03-17","2015-03-17",null,"Substance Direct Entry",{"$f":"IF(J318=\"Group Member\",VLOOKUP(I318,#REF!,5,0),\"\")","v":""}]
["68130-19-8","No EC available","IAEG001655","Silicic acid, lead nickel salt","","R1;D1;I","2017-08-14","2017-08-14",null,"Substance Direct Entry",{"$f":"IF(J319=\"Group Member\",VLOOKUP(I319,#REF!,5,0),\"\")","v":""}]
["38465-55-3","253-958-9","IAEG001656","Nickel, bis[1-[4-(dimethylamino)phenyl]-2-phenyl-1,2-ethenedithiolato(2-)-S,S']-","","R2","2020-01-16","2020-01-16",null,"Substance Direct Entry",{"$f":"IF(J320=\"Group Member\",VLOOKUP(I320,#REF!,5,0),\"\")","v":""}]
["182442-95-1","No EC available","IAEG001657","Cobalt lithium manganese nickel oxide",null,"R1;R2;D1","2017-08-14","2017-08-14",null,"Substance Direct Entry",{"$f":"IF(J321=\"Group Member\",VLOOKUP(I321,#REF!,5,0),\"\")","v":""}]
["No CAS available","No EC available","IAEG001661","4-Nonylphenol, branched and linear [substances with a linear and/or branched alkyl chain with a carbon number of 9 covalently bound in position 4 to phenol, covering also UVCB- and well-defined substances which include any of the individual isomers or a combination thereof]",null,"R1;R2;D1","2017-08-14","2017-08-14","100.239.149","Group Direct Entry"]
["84852-15-3","284-325-5","IAEG001659","4-Nonylphenol, branched",null,"R1;R2;D1;I","2015-03-17","2015-03-17","100.076.631","Group member","IAEG001661"]
["104-40-5","203-199-4","IAEG001660","Nonylphenol","4-Nonylphenol (4-NP)","R1;R2;D1;I","2015-03-17","2015-03-17","100.002.909","Group member","IAEG001661"]
["26543-97-5","247-770-6","IAEG001662","P-isononylphenol","","D1","2015-03-17","2015-03-17","100.043.412","Group member","IAEG001661"]
["17404-66-9","241-427-4","IAEG001663","P-(1-methyloctyl)phenol","","D1","2015-03-17","2015-03-17","100.037.646","Group member","IAEG001661"]
["30784-30-6","250-339-5","IAEG001664","P-(1,1-dimethylheptyl)phenol","","D1","2015-03-17","2015-03-17","100.045.748","Group member","IAEG001661"]
["52427-13-1","257-907-1","IAEG001665","4-(1-ethyl-1-methylhexyl)phenol","","D1","2015-03-17","2015-03-17","100.052.625","Group member","IAEG001661"]
["186825-36-5","635-389-1","IAEG001666","4-(1-ethyl-1,3-dimethylpentyl)phenol","","D1","2015-03-17","2015-03-17","100.163.283","Group member","IAEG001661"]
["142731-63-3","635-391-2","IAEG001667","4-(1-ethyl-1,4-dimethylpentyl)phenol","","D1","2015-03-17","2015-03-17","100.163.285","Group member","IAEG001661"]
["24518-48-7","No EC available","IAEG001668","4-isononyl phenol","","D1","2017-08-14","2017-08-14",null,"Group member","IAEG001661"]
["63085-63-2","No EC available","IAEG001669","4-(2,6-dimethylheptyl)phenol","","D1","2017-08-14","2017-08-14",null,"Group member","IAEG001661"]
["17404-67-0","No EC available","IAEG001670","3-(4-hydroxyphenyl)nonane","","D1","2017-08-14","2017-08-14",null,"Group member","IAEG001661"]
["17404-46-5","No EC available","IAEG001671","2-(1-ethylheptyl)phenol","","D1","2017-08-14","2017-08-14",null,"Group member","IAEG001661"]
["142731-58-6","No EC available","IAEG001672","4-(1,2-dimethylheptyl)phenol","","D1","2017-08-14","2017-08-14",null,"Group member","IAEG001661"]
["866790-13-8","No EC available","IAEG001673","4-(1,2-dimethyl-1-propylbutyl)phenol","","D1","2017-08-14","2017-08-14",null,"Group member","IAEG001661"]
["186825-35-4","No EC available","IAEG001674","4-(1-ethyl-1,3,3-trimethylbutyl)phenol","","D1","2017-08-14","2017-08-14",null,"Group member","IAEG001661"]
["701920-86-7","No EC available","IAEG001675","4-(1,1,3,4-tetramethylpentyl)phenol","","D1","2017-08-14","2017-08-14",null,"Group member","IAEG001661"]
["851401-44-0","No EC available","IAEG001676","4-(1,1,2,4-tetramethylpentyl)phenol","","D1","2017-08-14","2017-08-14",null,"Group member","IAEG001661"]
["866790-14-9","No EC available","IAEG001677","Phenol, 4-(1-ethyl-1,2-dimethylpentyl)","","D1","2017-08-14","2017-08-14",null,"Group member","IAEG001661"]
["478243-86-6","No EC available","IAEG001678","4-(2-ethyl-1,1-dimethylpentyl)phenol","","D1","2017-08-14","2017-08-14",null,"Group member","IAEG001661"]
["142731-59-7","No EC available","IAEG001679","Phenol, 4-[1-(1-methylpropyl)pentyl]","","D1","2017-08-14","2017-08-14",null,"Group member","IAEG001661"]
["1119215-28-9","No EC available","IAEG001680","(R)-4-(3,6-dimethylheptan-3-yl)phenol","","D1","2017-08-14","2017-08-14",null,"Group member","IAEG001661"]
["1158978-80-3","No EC available","IAEG001681","4-(1-ethyl-2-methylhexyl)phenol","","D1","2017-08-14","2017-08-14",null,"Group member","IAEG001661"]
["1119216-40-8","No EC available","IAEG001682","(S)-4-(2,3-dimethylheptan-2-yl)phenol","","D1","2017-08-14","2017-08-14",null,"Group member","IAEG001661"]
["1119215-26-7","No EC available","IAEG001683","(R)-4-(2,3-dimethylheptan-2-yl)phenol","","D1","2017-08-14","2017-08-14",null,"Group member","IAEG001661"]
["1988-28-9","No EC available","IAEG001684","4-(2,5-dimethylheptan-2-yl)phenol","","D1","2017-08-14","2017-08-14",null,"Group member","IAEG001661"]
["186825-37-6","No EC available","IAEG001685","4-(1,2,4-trimethylhexyl)phenol","","D1","2017-08-14","2017-08-14",null,"Group member","IAEG001661"]
["6465-76-5","No EC available","IAEG001686","4-(1-butylpentyl)phenol","","D1","2017-08-14","2017-08-14",null,"Group member","IAEG001661"]
["497103-56-7","No EC available","IAEG001687","4-(2,3-dimethylheptan-2-yl)phenol","","D1","2017-08-14","2017-08-14",null,"Group member","IAEG001661"]
["6465-78-7","No EC available","IAEG001688","4-(4-hydroxyphenyl)nonane","","D1","2017-08-14","2017-08-14",null,"Group member","IAEG001661"]
["25154-52-3","246-672-0","IAEG003074","Nonylphenol","","R1;R2;D1;I","2015-03-17","2017-08-14","100.042.414","Group member","IAEG001661"]
["186825-39-8","635-696-0","IAEG004689","4-(2-Ethyl-1-methylhexyl)phenol",null,"D1","2015-03-17","2015-03-17","100.163.560","Group member","IAEG001661"]
["29832-11-9","No EC available","IAEG004691","4-Nonylphenol",null,"D1","2017-08-14","2017-08-14",null,"Group member","IAEG001661"]
["521947-27-3","635-388-6","IAEG004693","4-(2,6-Dimethyl-2-heptyl)phenol ",null,"D1","2017-08-14","2017-08-14","100.163.282","Group member","IAEG001661"]
["68081-86-7","268-359-8","IAEG006546","Phenol, nonyl derivs.",null,"D1","2019-01-24","2019-01-24",null,"Group member","IAEG001661"]
["11066-49-2","234-284-4","IAEG006591","Isononylphenol",null,"R1;R2;D1","2020-01-16","2020-01-16","100.031.156","Group member","IAEG001661"]
["90481-04-2","291-844-0","IAEG006592","Phenol, nonyl-, branched",null,"R2;D1","2020-01-16","2020-01-16","100.083.463","Group member","IAEG001661"]
["No CAS available","No EC available","IAEG001698","4-Nonylphenol, branched and linear, ethoxylated [substances with a linear and/or branched alkyl chain with a carbon number of 9 covalently bound in position 4 to phenol, ethoxylated covering UVCB- and well-defined substances, polymers and homologues, which include any of the individual isomers and/or combinations thereof]","","R2;D1","2017-08-14","2017-08-14","100.239.148","Group Direct Entry",{"$f":"IF(J359=\"Group Member\",VLOOKUP(I359,#REF!,5,0),\"\")","v":""}]
["104-35-8","No EC available","IAEG001689","2-(p-Nonylphenoxy) ethanol","Ethanol, 2-(4-nonylphenoxy)-","R2;D1","2015-03-17","2017-08-14","100.289.057","Group member","IAEG001698"]
["14409-72-4","604-395-6","IAEG001690","4-Nonylphenolnonaethoxylate","26-(4-Nonylphenoxy)-3,6,9,12,15,18,21,24-octaoxahexacosan -1-ol; Tergitol NP 9","R2;D1","2015-03-17","2017-08-14","100.110.408","Group member","IAEG001698"]
["20427-84-3","243-816-4","IAEG001691","2-[2-(4-Nonylphenoxy)ethoxy]ethanol","2-(2-(p-Nonylphenoxy)ethoxy) ethanol","R2;D1;I","2015-03-17","2017-08-14","100.039.818","Group member","IAEG001698"]
["26027-38-3","500-045-0","IAEG001692","4-Nonylphenol, ethoxylated","","R2;D1;I","2015-03-17","2017-08-14","100.105.552","Group member","IAEG001698"]
["7311-27-5","230-770-5","IAEG001693","2-[2-[2-[2-(4-Nonylphenoxy)ethoxy]ethoxy]ethoxy]ethanol","","R2;D1;I","2015-03-17","2017-08-14","100.027.972","Group member","IAEG001698"]
["20636-48-0","No EC available","IAEG001694","Nonylphenol polyethylene glycol ether","","R2;D1","2015-03-17","2017-08-14","100.291.191","Group member","IAEG001698"]
["No CAS available","No EC available","IAEG001695","Poly(oxy-1,2-ethanediyl), alpha-(4-nonylphenyl)-omega-hydroxy","","R2;D1","2015-03-17","2017-08-14",null,"Group member","IAEG001698"]
["32742-88-4","251-190-9","IAEG001696","20-(4-octylphenoxy)-3,6,9,12,15,18-hexaoxaicosan-1-ol","","R2;D1","2017-08-14","2017-08-14",null,"Group member","IAEG001698"]
["27942-27-4","248-743-1","IAEG001697","20-(4-Nonylphenoxy)-3,6,9,12,15,18-hexaoxaicosan-1-ol","","R2;D1","2015-03-17","2017-08-14","100.044.297","Group member","IAEG001698"]
["34166-38-6","No EC available","IAEG001699","17-(4-Nonylphenoxy)-3,6,9,12,15-pentaoxaheptadecan-1-ol","","R2;D1","2015-03-17","2017-08-14","100.125.263","Group member","IAEG001698"]
["41506-14-3","No EC available","IAEG001700","1(1-Hydroxy-4,7,10,13,16,19,22-heptaoxa)tetracosyl-4-nonylbenzol","","R2;D1","2017-08-14","2017-08-14",null,"Group member","IAEG001698"]
["17692-59-0","No EC available","IAEG001701","44-(4-nonylphenoxy)-3,6,9,12,15,18,21,24,27,30,33,36,39,42-tetradecaoxatetratetracontan-1-ol","","R2;D1","2017-08-14","2017-08-14",null,"Group member","IAEG001698"]
["2073-51-0","No EC available","IAEG001702","Nonylphenol polyoxyethylene glycol (30)","","R2;D1","2017-08-14","2017-08-14",null,"Group member","IAEG001698"]
["51437-95-7","No EC available","IAEG001703","4-n-Nonylphenol triethoxylate","","R2;D1","2017-08-14","2017-08-14",null,"Group member","IAEG001698"]
["20543-07-1","No EC available","IAEG001704","p-n-Nonylphenoxydecaethoxyethanol","","R2;D1","2017-08-14","2017-08-14",null,"Group member","IAEG001698"]
["131890-13-6","No EC available","IAEG001705","41-(4-nonylphenoxy)-3,6,9,12,15,18,21,24,27,30,33,36,39-tridecaoxahentetracontan-1-ol","","R2;D1","2017-08-14","2017-08-14",null,"Group member","IAEG001698"]
["131890-12-5","No EC available","IAEG001706","38-(4-nonylphenoxy)-3,6,9,12,15,18,21,24,27,30,33,36-dodecaoxaoctatriacontan-1-ol","","R2;D1","2017-08-14","2017-08-14",null,"Group member","IAEG001698"]
["261176-82-3","No EC available","IAEG001707","2-(2-(2-(2-(4-(Nonan-5-yl)phenoxy)ethoxy)ethoxy)ethoxy)ethan-1-ol","","R2;D1","2017-08-14","2017-08-14",null,"Group member","IAEG001698"]
["9016-45-9","500-024-6","IAEG003075","Nonylphenol ethoxylated","","R2;D1;I","2015-03-17","2017-08-14","100.105.533","Group member","IAEG001698"]
["27177-05-5","248-293-6","IAEG003099","23-(nonylphenoxy)-3,6,9,12,15,18,21-heptaoxatricosan-1-ol","","R2;D1;I","2015-03-17","2017-08-14","100.043.888","Group member","IAEG001698"]
["37205-87-1","609-346-2","IAEG003102","Poly(oxy-1,2-ethanediyl), alpha-(isononylphenyl)-omega-hydroxy-","Isononylphenol-ethoxylate","R2;D1;I","2015-03-17","2017-08-14","100.130.672","Group member","IAEG001698"]
["26571-11-9","247-816-5","IAEG003209","3,6,9,12,15,18,21,24-Octaoxahexacosan-1-ol, 26-(nonylphenoxy)-","","R2;D1;I","2015-03-17","2017-08-14","100.043.454","Group member","IAEG001698"]
["68412-54-4","500-209-1","IAEG004281","Nonylphenol, branched, ethoxylated","2-{2-[4-(2,4,5-Trimethylhexan-3-yl)phenoxy]polyethoxy}ethanol","R2;D1","2015-03-17","2017-08-14","100.105.700","Group member","IAEG001698"]
["127087-87-0","500-315-8","IAEG004282","4-Nonylphenol, branched, ethoxylated (1 - 2.5 moles ethoxylated)","","R2;D1","2015-03-17","2017-08-14","100.105.797","Group member","IAEG001698"]
["156609-10-8","No EC available","IAEG004425","4-tert-Nonylphenol diethoxylate",null,"R2;D1","2017-08-14","2017-08-14","100.290.599","Group member","IAEG001698"]
["26264-02-8","247-555-7","IAEG004690","14-(Nonylphenoxy)-3,6,9,12-tetraoxatetradecan-1-ol",null,"R2;D1","2017-08-14","2017-08-14","100.043.217","Group member","IAEG001698"]
["91673-24-4","294-139-6","IAEG006457","Ethanol, 2-[2-[2-[2-(4-nonylphenoxy)ethoxy]ethoxy]ethoxy]-, branched",null,"R2;D1","2017-08-14","2017-08-14",null,"Group member","IAEG001698"]
["155679-84-8","No EC available","IAEG006578","Ethanol, 2-[2-(4-isononylphenoxy)ethoxy]-",null,"R2;D1","2019-01-24","2019-01-24",null,"Group member","IAEG001698"]
["1119449-37-4","687-832-3","IAEG008160","2-[4-(3,6-dimethylheptan-3-yl)phenoxy]ethanol",null,"R1;R2;D1","2020-01-16","2020-01-16","100.214.096","Group member","IAEG001698"]
["1119449-38-5","687-833-9","IAEG008161","2-{2-[4-(3,6-dimethylheptan-3-yl)phenoxy]ethoxy}ethanol",null,"R1;R2;D1","2020-01-16","2020-01-16","100.214.097","Group member","IAEG001698"]
["No CAS available","932-998-7","IAEG008651","Nonylphenolpolyglycolether",null,"R1;R2;D1","2021-02-02","2021-02-02","100.205.448","Group member","IAEG001698"]
["No CAS available","938-618-6","IAEG008652","Nonylphenol, ethoxylated (polymer)",null,"R1;R2;D1","2021-02-02","2021-02-02","100.224.899","Group member","IAEG001698"]
["No CAS available","939-975-0","IAEG008653","Nonylphenol, ethoxylated (EO = 4)",null,"R1;R2;D1","2021-02-02","2021-02-02","100.228.429","Group member","IAEG001698"]
["No CAS available","939-993-9","IAEG008654","Nonylphenol, ethoxylated (EO = 10)",null,"R1;R2;D1","2021-02-02","2021-02-02","100.228.488","Group member","IAEG001698"]
["91995-52-7","295-313-4","IAEG001709","Distillates (coal tar), pitch, pyrene fraction","","I","2019-01-24","2019-01-24",null,"Substance Direct Entry",{"$f":"IF(J394=\"Group Member\",VLOOKUP(I394,#REF!,5,0),\"\")","v":""}]
["120-12-7","204-371-1","IAEG001710","Anthracene, pure","","D1;I","2015-03-17","2015-03-17","100.003.974","Substance Direct Entry",{"$f":"IF(J395=\"Group Member\",VLOOKUP(I395,#REF!,5,0),\"\")","v":""}]
["90640-80-5","292-602-7","IAEG001711","Anthracene oil","","R1;R2;D1;I","2015-03-17","2017-08-14","100.084.153","Substance Direct Entry",{"$f":"IF(J396=\"Group Member\",VLOOKUP(I396,#REF!,5,0),\"\")","v":""}]
["90640-81-6","292-603-2","IAEG001712","Anthracene oil, anthracene paste","","D1;I","2015-03-17","2015-03-17","100.084.154","Substance Direct Entry",{"$f":"IF(J397=\"Group Member\",VLOOKUP(I397,#REF!,5,0),\"\")","v":""}]
["90640-82-7","292-604-8","IAEG001713","Anthracene oil, anthracene-low","","D1;I","2015-03-17","2015-03-17","100.084.155","Substance Direct Entry",{"$f":"IF(J398=\"Group Member\",VLOOKUP(I398,#REF!,5,0),\"\")","v":""}]
["91995-15-2","295-275-9","IAEG001714","Anthracene oil, anthracene paste, anthracene fraction","","D1;I","2015-03-17","2015-03-17","100.086.576","Substance Direct Entry",{"$f":"IF(J399=\"Group Member\",VLOOKUP(I399,#REF!,5,0),\"\")","v":""}]
["91995-17-4","295-278-5","IAEG001715","Anthracene oil, anthracene paste, distn. lights","","D1;I","2015-03-17","2015-03-17","100.086.578","Substance Direct Entry",{"$f":"IF(J400=\"Group Member\",VLOOKUP(I400,#REF!,5,0),\"\")","v":""}]
["50-32-8","200-028-5","IAEG001716","Benzo[def]chrysene","Benzo[a]pyrene (BaP)","R1;R2;D1;I","2015-03-17","2017-08-14","100.000.026","Substance Direct Entry",{"$f":"IF(J401=\"Group Member\",VLOOKUP(I401,#REF!,5,0),\"\")","v":""}]
["56-55-3","200-280-6","IAEG001717","Benzo[a]anthracene (BaA)","","R1;R2;D1;I","2015-03-17","2017-08-14","100.000.255","Substance Direct Entry",{"$f":"IF(J402=\"Group Member\",VLOOKUP(I402,#REF!,5,0),\"\")","v":""}]
["205-99-2","205-911-9","IAEG001718","Benz[e]acephenanthrylene","Benzo[b]fluoranthene (BbFA)","R1;R2;D1;I","2015-03-17","2017-08-14",null,"Substance Direct Entry",{"$f":"IF(J403=\"Group Member\",VLOOKUP(I403,#REF!,5,0),\"\")","v":""}]
["192-97-2","205-892-7","IAEG001719","Benzo[e]pyrene (BeP)","","R1;R2;D1;I","2015-03-17","2017-08-14",null,"Substance Direct Entry",{"$f":"IF(J404=\"Group Member\",VLOOKUP(I404,#REF!,5,0),\"\")","v":""}]
["205-82-3","205-910-3","IAEG001720","Benzo[j]fluoranthene (BjFA)","","R1;R2;D1;I","2015-03-17","2017-08-14",null,"Substance Direct Entry",{"$f":"IF(J405=\"Group Member\",VLOOKUP(I405,#REF!,5,0),\"\")","v":""}]
["207-08-9","205-916-6","IAEG001721","Benzo[k]fluoranthene (BkFA)","","R1;R2;D1;I","2015-03-17","2019-01-24","100.005.379","Substance Direct Entry",{"$f":"IF(J406=\"Group Member\",VLOOKUP(I406,#REF!,5,0),\"\")","v":""}]
["218-01-9","205-923-4","IAEG001722","Chrysene (CHR)","","R1;R2;D1;I","2015-03-17","2017-08-14","100.005.386","Substance Direct Entry",{"$f":"IF(J407=\"Group Member\",VLOOKUP(I407,#REF!,5,0),\"\")","v":""}]
["53-70-3","200-181-8","IAEG001723","Dibenz[a,h]anthracene","Dibenzo[a,h]anthracene (DBAhA)","R1;R2;D1;I","2015-03-17","2017-08-14",null,"Substance Direct Entry",{"$f":"IF(J408=\"Group Member\",VLOOKUP(I408,#REF!,5,0),\"\")","v":""}]
["83-32-9","201-469-6","IAEG001724","Acenaphthene","","I","2017-08-14","2017-08-14",null,"Substance Direct Entry",{"$f":"IF(J409=\"Group Member\",VLOOKUP(I409,#REF!,5,0),\"\")","v":""}]
["85-01-8","201-581-5","IAEG001726","Phenanthrene","","D1;I","2017-08-14","2019-01-24","100.001.437","Substance Direct Entry",{"$f":"IF(J410=\"Group Member\",VLOOKUP(I410,#REF!,5,0),\"\")","v":""}]
["36355-01-8","252-994-2","IAEG001729","Hexabromo-1,1'-biphenyl","Hexabromobiphenyl; FireMaster BP-6; FireMaster FF-1","R1;R2;D1","2015-03-17","2015-03-17",null,"Substance Direct Entry",{"$f":"IF(J411=\"Group Member\",VLOOKUP(I411,#REF!,5,0),\"\")","v":""}]
["59536-65-1","No EC available","IAEG001733","Polybrominated biphenyl (PBB)","Biphenyl, hexabromo- (technical grade); FireMaster BP-6","R1;R2;D1","2015-03-17","2017-08-14",null,"Substance Direct Entry",{"$f":"IF(J412=\"Group Member\",VLOOKUP(I412,#REF!,5,0),\"\")","v":""}]
["92-86-4","202-198-6","IAEG001737","Dibromobiphenyl","4,4'-dibromobiphenyl","R1;R2;D1","2017-08-14","2017-08-14",null,"Substance Direct Entry",{"$f":"IF(J413=\"Group Member\",VLOOKUP(I413,#REF!,5,0),\"\")","v":""}]
["88700-05-4","No EC available","IAEG001742","2,2',3,5',6-pentabromo-1,1'-biphenyl","","R1;R2;D1","2019-01-24","2019-01-24",null,"Substance Direct Entry",{"$f":"IF(J414=\"Group Member\",VLOOKUP(I414,#REF!,5,0),\"\")","v":""}]
["955955-54-1","No EC available","IAEG001827","2,2',3,4',5,6'-Hexabromobiphenyl","","R1;R2;D1","2017-08-14","2017-08-14",null,"Substance Direct Entry",{"$f":"IF(J415=\"Group Member\",VLOOKUP(I415,#REF!,5,0),\"\")","v":""}]
["32536-52-0","251-087-9","IAEG001837","Octabrominated diphenyl ether","Octabromodiphenyl ether (octaBDE)","R1;R2;D1","2015-03-17","2015-03-17",null,"Substance Direct Entry",{"$f":"IF(J416=\"Group Member\",VLOOKUP(I416,#REF!,5,0),\"\")","v":""}]
["1163-19-5","214-604-9","IAEG001838","Bis(pentabromophenyl) ether","Decabrominated diphenyl ether; Decabromodiphenyl ether (DecaBDE); 1,1'-oxybis[2,3,4,5,6-pentabromobenzene]","R1;R2;D1;I","2015-03-17","2015-03-17","100.013.277","Substance Direct Entry",{"$f":"IF(J417=\"Group Member\",VLOOKUP(I417,#REF!,5,0),\"\")","v":""}]
["32534-81-9","251-084-2","IAEG001839","Pentabrominated diphenyl ether","Pentabromodiphenyl ether (pentaBDE)","R1;R2;D1","2015-03-17","2015-03-17",null,"Substance Direct Entry",{"$f":"IF(J418=\"Group Member\",VLOOKUP(I418,#REF!,5,0),\"\")","v":""}]
["36483-60-0","253-058-6","IAEG001841","Hexabrominated diphenyl ether","Hexabromodiphenyl ether (hexaBDE)","R1;R2;D1","2015-03-17","2015-03-17",null,"Substance Direct Entry",{"$f":"IF(J419=\"Group Member\",VLOOKUP(I419,#REF!,5,0),\"\")","v":""}]
["40088-47-9","254-787-2","IAEG001843","Tetrabromodiphenylether","2,2',4,4'-tetrabromodiphenyl ether (BDE-47)","R1;R2;D1","2015-03-17","2015-03-17",null,"Substance Direct Entry",{"$f":"IF(J420=\"Group Member\",VLOOKUP(I420,#REF!,5,0),\"\")","v":""}]
["101-55-3","202-952-4","IAEG001855","4-Bromophenyl phenyl ether","","R1;R2;D1","2017-08-14","2017-08-14",null,"Substance Direct Entry",{"$f":"IF(J421=\"Group Member\",VLOOKUP(I421,#REF!,5,0),\"\")","v":""}]
["63936-56-1","264-565-7","IAEG001862","Pentabromo(tetrabromophenoxy)benzene","Nonabromodiphenyl ether","R1;R2;D1","2017-08-14","2017-08-14",null,"Substance Direct Entry",{"$f":"IF(J422=\"Group Member\",VLOOKUP(I422,#REF!,5,0),\"\")","v":""}]
["49690-94-0","256-431-1","IAEG001864","Diphenyl ether, tribromo derivative","","R1;R2;D1","2015-03-17","2015-03-17",null,"Substance Direct Entry",{"$f":"IF(J423=\"Group Member\",VLOOKUP(I423,#REF!,5,0),\"\")","v":""}]
["446254-98-4","No EC available","IAEG001898","2,2',3,4,5,6-Hexabromodiphenyl ether","","R1;R2;D1","2020-01-16","2020-01-16",null,"Substance Direct Entry",{"$f":"IF(J424=\"Group Member\",VLOOKUP(I424,#REF!,5,0),\"\")","v":""}]
["446255-28-3","No EC available","IAEG001904","2,2',3,4',5,5',6-Heptadibromodiphenyl ether","","R1;R2;D1","2020-01-16","2020-01-16",null,"Substance Direct Entry",{"$f":"IF(J425=\"Group Member\",VLOOKUP(I425,#REF!,5,0),\"\")","v":""}]
["437701-78-5","No EC available","IAEG001905","2,2',3,3',4,5,5',6,6'-Nonabromodiphenyl ether (BDE 208)","","R1;R2;D1","2020-01-16","2020-01-16",null,"Substance Direct Entry",{"$f":"IF(J426=\"Group Member\",VLOOKUP(I426,#REF!,5,0),\"\")","v":""}]
["63387-28-0","No EC available","IAEG001906","2,2',3,3',4,4',5,5',6-Nonabromodiphenyl ether","","R1;R2;D1","2017-08-14","2017-08-14",null,"Substance Direct Entry",{"$f":"IF(J427=\"Group Member\",VLOOKUP(I427,#REF!,5,0),\"\")","v":""}]
["75-74-1","200-897-0","IAEG001908","Tetramethyl lead","","R1;D1;I","2015-03-17","2017-08-14",null,"Substance Direct Entry",{"$f":"IF(J428=\"Group Member\",VLOOKUP(I428,#REF!,5,0),\"\")","v":""}]
["13424-46-9","236-542-1","IAEG001909","Lead diazide","Lead azide","R1;D1;I","2015-03-17","2017-08-14","100.033.206","Substance Direct Entry",{"$f":"IF(J429=\"Group Member\",VLOOKUP(I429,#REF!,5,0),\"\")","v":""}]
["15245-44-0","239-290-0","IAEG001910","Lead styphnate","Lead 2,4,6-trinitro-m-phenylene dioxide; Lead 2,4,6-trinitroresorcinoxide","R1;D1;I","2015-03-17","2017-08-14","100.035.703","Substance Direct Entry",{"$f":"IF(J430=\"Group Member\",VLOOKUP(I430,#REF!,5,0),\"\")","v":""}]
["301-04-2","206-104-4","IAEG001911","Lead di(acetate)","","R1;D1;I","2015-03-17","2017-08-14","100.005.551","Substance Direct Entry",{"$f":"IF(J431=\"Group Member\",VLOOKUP(I431,#REF!,5,0),\"\")","v":""}]
["1335-32-6","215-630-3","IAEG001912","Lead acetate, basic","Lead acetate; Lead subacetate","R1;D1;I","2015-03-17","2017-08-14",null,"Substance Direct Entry",{"$f":"IF(J432=\"Group Member\",VLOOKUP(I432,#REF!,5,0),\"\")","v":""}]
["17570-76-2","401-750-5","IAEG001914","Lead(II) bis(methanesulfonate)","","R1;D1;I","2015-03-17","2017-08-14","100.100.365","Substance Direct Entry",{"$f":"IF(J433=\"Group Member\",VLOOKUP(I433,#REF!,5,0),\"\")","v":""}]
["78-00-2","201-075-4","IAEG001915","Tetraethyl lead","","R1;D1;I","2015-03-17","2017-08-14","100.000.979","Substance Direct Entry",{"$f":"IF(J434=\"Group Member\",VLOOKUP(I434,#REF!,5,0),\"\")","v":""}]
["7446-27-7","231-205-5","IAEG001916","Trilead bis(orthophosphate)","Lead phosphate","R1;D1;I","2015-03-17","2017-08-14",null,"Substance Direct Entry",{"$f":"IF(J435=\"Group Member\",VLOOKUP(I435,#REF!,5,0),\"\")","v":""}]
["7439-92-1","231-100-4","IAEG001917","Lead (Pb)","","R1;R2;D1;I","2015-03-17","2017-08-14","100.028.273","Substance Direct Entry",{"$f":"IF(J436=\"Group Member\",VLOOKUP(I436,#REF!,5,0),\"\")","v":""}]
["1317-36-8","215-267-0","IAEG001918","Lead oxide","Lead monoxide","R1;D1;I","2015-03-17","2017-08-14","100.013.880","Substance Direct Entry",{"$f":"IF(J437=\"Group Member\",VLOOKUP(I437,#REF!,5,0),\"\")","v":""}]
["1314-41-6","215-235-6","IAEG001919","Lead tetroxide","Orange lead","R1;D1;I","2015-03-17","2017-08-14","100.013.851","Substance Direct Entry",{"$f":"IF(J438=\"Group Member\",VLOOKUP(I438,#REF!,5,0),\"\")","v":""}]
["12065-90-6","235-067-7","IAEG001920","Pentalead tetraoxide sulphate","","R1;D1;I","2015-03-17","2017-08-14","100.031.867","Substance Direct Entry",{"$f":"IF(J439=\"Group Member\",VLOOKUP(I439,#REF!,5,0),\"\")","v":""}]
["12202-17-4","235-380-9","IAEG001921","Tetralead trioxide sulphate","","R1;D1;I","2015-03-17","2017-08-14","100.032.152","Substance Direct Entry",{"$f":"IF(J440=\"Group Member\",VLOOKUP(I440,#REF!,5,0),\"\")","v":""}]
["12141-20-7","235-252-2","IAEG001922","Trilead dioxide phosphonate","","R1;D1;I","2015-03-17","2017-08-14","100.032.035","Substance Direct Entry",{"$f":"IF(J441=\"Group Member\",VLOOKUP(I441,#REF!,5,0),\"\")","v":""}]
["69011-06-9","273-688-5","IAEG001923","Dibasic lead phthalate","[Phthalato(2-)]dioxotrilead","R1;D1;I","2015-03-17","2017-08-14","100.066.970","Substance Direct Entry",{"$f":"IF(J442=\"Group Member\",VLOOKUP(I442,#REF!,5,0),\"\")","v":""}]
["12578-12-0","235-702-8","IAEG001924","Dioxobis(stearato)trilead","","R1;D1;I","2015-03-17","2017-08-14","100.032.444","Substance Direct Entry",{"$f":"IF(J443=\"Group Member\",VLOOKUP(I443,#REF!,5,0),\"\")","v":""}]
["1072-35-1","214-005-2","IAEG001925","Lead distearate","","R1;D1;I","2019-01-24","2019-01-24",null,"Substance Direct Entry",{"$f":"IF(J444=\"Group Member\",VLOOKUP(I444,#REF!,5,0),\"\")","v":""}]
["68411-78-9","270-148-0","IAEG001926","Lead oxide (PbO), lead-contg.","","R1;D1;I","2019-01-24","2019-01-24",null,"Substance Direct Entry",{"$f":"IF(J445=\"Group Member\",VLOOKUP(I445,#REF!,5,0),\"\")","v":""}]
["10099-74-8","233-245-9","IAEG001929","Lead dinitrate","","R1;D1;I","2015-03-17","2017-08-14","100.030.210","Substance Direct Entry",{"$f":"IF(J446=\"Group Member\",VLOOKUP(I446,#REF!,5,0),\"\")","v":""}]
["546-67-8","208-908-0","IAEG001930","Lead tetraacetate","","R1;D1;I","2017-08-14","2017-08-14",null,"Substance Direct Entry",{"$f":"IF(J447=\"Group Member\",VLOOKUP(I447,#REF!,5,0),\"\")","v":""}]
["598-63-0","209-943-4","IAEG001931","Lead carbonate","","R1;R2;D1;I","2015-03-17","2017-08-14",null,"Substance Direct Entry",{"$f":"IF(J448=\"Group Member\",VLOOKUP(I448,#REF!,5,0),\"\")","v":""}]
["1309-60-0","215-174-5","IAEG001932","Lead dioxide","","R1;D1;I","2015-03-17","2017-08-14",null,"Substance Direct Entry",{"$f":"IF(J449=\"Group Member\",VLOOKUP(I449,#REF!,5,0),\"\")","v":""}]
["1314-91-6","215-247-1","IAEG001933","Lead telluride","","R1;D1;I","2017-08-14","2017-08-14",null,"Substance Direct Entry",{"$f":"IF(J450=\"Group Member\",VLOOKUP(I450,#REF!,5,0),\"\")","v":""}]
["1319-46-6","215-290-6","IAEG001934","Trilead bis(carbonate)dihydroxide","Basic lead carbonate; Lead hydroxide carbonate; Lead carbonate; White lead","R1;R2;D1;I","2015-03-17","2017-08-14","100.013.901","Substance Direct Entry",{"$f":"IF(J451=\"Group Member\",VLOOKUP(I451,#REF!,5,0),\"\")","v":""}]
["1335-25-7","215-626-1","IAEG001935","Lead oxide","","R1;D1;I","2017-08-14","2017-08-14",null,"Substance Direct Entry",{"$f":"IF(J452=\"Group Member\",VLOOKUP(I452,#REF!,5,0),\"\")","v":""}]
["7758-95-4","231-845-5","IAEG001936","Lead dichloride","","R1;D1;I","2017-08-14","2017-08-14",null,"Substance Direct Entry",{"$f":"IF(J453=\"Group Member\",VLOOKUP(I453,#REF!,5,0),\"\")","v":""}]
["8012-00-8","232-382-1","IAEG001937","Pyrochlore, antimony lead yellow","","R1;D1;I","2015-03-17","2017-08-14","100.029.436","Substance Direct Entry",{"$f":"IF(J454=\"Group Member\",VLOOKUP(I454,#REF!,5,0),\"\")","v":""}]
["10099-76-0","233-246-4","IAEG001938","Lead (II) silicate","","R1;D1;I","2015-03-17","2017-08-14",null,"Substance Direct Entry",{"$f":"IF(J455=\"Group Member\",VLOOKUP(I455,#REF!,5,0),\"\")","v":""}]
["11120-22-2","234-363-3","IAEG001939","Silicic acid, lead salt","","R1;D1;I","2015-03-17","2017-08-14","100.031.227","Substance Direct Entry",{"$f":"IF(J456=\"Group Member\",VLOOKUP(I456,#REF!,5,0),\"\")","v":""}]
["12036-76-9","234-853-7","IAEG001940","Lead oxide sulphate","Basic lead sulphate","R1;D1;I","2015-03-17","2017-08-14","100.031.672","Substance Direct Entry",{"$f":"IF(J457=\"Group Member\",VLOOKUP(I457,#REF!,5,0),\"\")","v":""}]
["12060-00-3","235-038-9","IAEG001941","Lead titanium trioxide","","R1;D1;I","2015-03-17","2017-08-14","100.031.841","Substance Direct Entry",{"$f":"IF(J458=\"Group Member\",VLOOKUP(I458,#REF!,5,0),\"\")","v":""}]
["12069-00-0","235-109-4","IAEG001942","Lead selenide","","R1;D1;I","2015-03-17","2017-08-14",null,"Substance Direct Entry",{"$f":"IF(J459=\"Group Member\",VLOOKUP(I459,#REF!,5,0),\"\")","v":""}]
["12626-81-2","235-727-4","IAEG001943","Lead titanium zirconium oxide","","R1;D1;I","2015-03-17","2017-08-14","100.032.467","Substance Direct Entry",{"$f":"IF(J460=\"Group Member\",VLOOKUP(I460,#REF!,5,0),\"\")","v":""}]
["13814-96-5","237-486-0","IAEG001944","Lead bis(tetrafluoroborate)","","R1;D1;I","2015-03-17","2017-08-14","100.034.064","Substance Direct Entry",{"$f":"IF(J461=\"Group Member\",VLOOKUP(I461,#REF!,5,0),\"\")","v":""}]
["51404-69-4","257-175-3","IAEG001946","Acetic acid, lead salt, basic","","R1;D1;I","2015-03-17","2017-08-14","100.051.960","Substance Direct Entry",{"$f":"IF(J462=\"Group Member\",VLOOKUP(I462,#REF!,5,0),\"\")","v":""}]
["62229-08-7","263-467-1","IAEG001947","Sulphurous acid, lead salt, dibasic","","R1;D1;I","2015-03-17","2017-08-14","100.057.680","Substance Direct Entry",{"$f":"IF(J463=\"Group Member\",VLOOKUP(I463,#REF!,5,0),\"\")","v":""}]
["68784-75-8","272-271-5","IAEG001948","Silicic acid (H2Si2O5), barium salt (1:1), lead-doped","","R1;D1;I","2015-03-17","2017-08-14","100.065.681","Substance Direct Entry",{"$f":"IF(J464=\"Group Member\",VLOOKUP(I464,#REF!,5,0),\"\")","v":""}]
["91031-62-8","292-966-7","IAEG001949","Fatty acids, C16-18, lead salts","","R1;D1;I","2015-03-17","2017-08-14","100.084.483","Substance Direct Entry",{"$f":"IF(J465=\"Group Member\",VLOOKUP(I465,#REF!,5,0),\"\")","v":""}]
["68411-07-4","614-455-3","IAEG001952","Copper, beta-resorcylate salicylate lead complexes","","R1;D1;I","2017-08-14","2017-08-14",null,"Substance Direct Entry",{"$f":"IF(J466=\"Group Member\",VLOOKUP(I466,#REF!,5,0),\"\")","v":""}]
["1314-87-0","215-246-6","IAEG001953","Lead sulphide","","R1;D1;I","2017-08-14","2017-08-14",null,"Substance Direct Entry",{"$f":"IF(J467=\"Group Member\",VLOOKUP(I467,#REF!,5,0),\"\")","v":""}]
["7446-14-2","231-198-9","IAEG001954","Lead sulphate","","R1;R2;D1;I","2015-03-17","2017-08-14",null,"Substance Direct Entry",{"$f":"IF(J468=\"Group Member\",VLOOKUP(I468,#REF!,5,0),\"\")","v":""}]
["10031-22-8","233-084-4","IAEG001956","Lead bromide","","R1;D1;I","2017-08-14","2017-08-14",null,"Substance Direct Entry",{"$f":"IF(J469=\"Group Member\",VLOOKUP(I469,#REF!,5,0),\"\")","v":""}]
["101012-92-4","309-793-0","IAEG001960","Lead, isodecanoate naphthenate complexes, basic","","R1;D1;I","2017-08-14","2017-08-14",null,"Substance Direct Entry",{"$f":"IF(J470=\"Group Member\",VLOOKUP(I470,#REF!,5,0),\"\")","v":""}]
["10101-63-0","233-256-9","IAEG001962","Lead iodide","","R1;D1;I","2017-08-14","2017-08-14",null,"Substance Direct Entry",{"$f":"IF(J471=\"Group Member\",VLOOKUP(I471,#REF!,5,0),\"\")","v":""}]
["10190-55-3","233-459-2","IAEG001963","Molybdic acid, lead (2+) salt (1:1)","","R1;D1;I","2017-08-14","2017-08-14",null,"Substance Direct Entry",{"$f":"IF(J472=\"Group Member\",VLOOKUP(I472,#REF!,5,0),\"\")","v":""}]
["102110-26-9","310-025-1","IAEG001966","Boric acid (H3BO3), solid soln. with barium oxide, calcium oxide and strontium oxide, lead and manganese-doped","","R1;D1;I","2017-08-14","2017-08-14",null,"Substance Direct Entry",{"$f":"IF(J473=\"Group Member\",VLOOKUP(I473,#REF!,5,0),\"\")","v":""}]
["10294-58-3","233-664-7","IAEG001969","Phosphinic acid, lead (2+) salt","","R1;D1;I","2017-08-14","2017-08-14",null,"Substance Direct Entry",{"$f":"IF(J474=\"Group Member\",VLOOKUP(I474,#REF!,5,0),\"\")","v":""}]
["1120-46-3","214-310-0","IAEG001973","Lead dioleate","","R1;D1;I","2017-08-14","2017-08-14",null,"Substance Direct Entry",{"$f":"IF(J475=\"Group Member\",VLOOKUP(I475,#REF!,5,0),\"\")","v":""}]
["12034-30-9","234-800-8","IAEG001980","Lead disodium dioxide","","R1;D1;I","2017-08-14","2017-08-14",null,"Substance Direct Entry",{"$f":"IF(J476=\"Group Member\",VLOOKUP(I476,#REF!,5,0),\"\")","v":""}]
["12059-89-1","235-036-8","IAEG001984","Lead oxide","Dilead oxide","R1;D1;I","2017-08-14","2017-08-14",null,"Substance Direct Entry",{"$f":"IF(J477=\"Group Member\",VLOOKUP(I477,#REF!,5,0),\"\")","v":""}]
["12060-01-4","235-039-4","IAEG001985","Lead zirconium oxide","Lead zirconium trioxide","R1;D1;I","2019-01-24","2019-01-24",null,"Substance Direct Entry",{"$f":"IF(J478=\"Group Member\",VLOOKUP(I478,#REF!,5,0),\"\")","v":""}]
["12065-68-8","235-065-6","IAEG001986","Lead ditantalum hexaoxide","Lead tantalum oxide (PbTa2O6)","R1;D1;I","2017-08-14","2017-08-14",null,"Substance Direct Entry",{"$f":"IF(J479=\"Group Member\",VLOOKUP(I479,#REF!,5,0),\"\")","v":""}]
["12275-07-9","235-549-7","IAEG001991","Lead, [2-butenedioato(2-)]trioxotetra-","","R1;D1;I","2017-08-14","2017-08-14",null,"Substance Direct Entry",{"$f":"IF(J480=\"Group Member\",VLOOKUP(I480,#REF!,5,0),\"\")","v":""}]
["12397-06-7","No EC available","IAEG001993","Lead oxide sulphate (Pb4O3(SO4)), monohydrate","","R1;D1;I","2019-01-24","2019-01-24",null,"Substance Direct Entry",{"$f":"IF(J481=\"Group Member\",VLOOKUP(I481,#REF!,5,0),\"\")","v":""}]
["12403-82-6","235-642-2","IAEG001995","Lead, dihydroxy[2,4,6-trinitro-1,3-benzenediolato(2-)]di-","","R1;D1;I","2017-08-14","2017-08-14",null,"Substance Direct Entry",{"$f":"IF(J482=\"Group Member\",VLOOKUP(I482,#REF!,5,0),\"\")","v":""}]
["12740-44-2","No EC available","IAEG001998","Sodium alloy, nonbase, Na,Pb","","R1;D1;I","2017-08-14","2017-08-14",null,"Substance Direct Entry",{"$f":"IF(J483=\"Group Member\",VLOOKUP(I483,#REF!,5,0),\"\")","v":""}]
["12765-51-4","235-803-7","IAEG001999","Lead oxide sulphate","","R1;D1;I","2019-01-24","2019-01-24",null,"Substance Direct Entry",{"$f":"IF(J484=\"Group Member\",VLOOKUP(I484,#REF!,5,0),\"\")","v":""}]
["1314-27-8","No EC available","IAEG002001","Lead oxide (Pb2O3)","","R1;D1;I","2019-01-24","2019-01-24",null,"Substance Direct Entry",{"$f":"IF(J485=\"Group Member\",VLOOKUP(I485,#REF!,5,0),\"\")","v":""}]
["13406-89-8","236-498-3","IAEG002003","1,3-Benzenediol, 2,4-dinitro-, lead (2+) salt (1:1)","","R1;D1;I","2017-08-14","2017-08-14",null,"Substance Direct Entry",{"$f":"IF(J486=\"Group Member\",VLOOKUP(I486,#REF!,5,0),\"\")","v":""}]
["1344-40-7","No EC available","IAEG002004","Lead oxide phosphonate (Pb3O2(HPO3)), hemihydrate","","R1;D1;I","2017-08-14","2017-08-14",null,"Substance Direct Entry",{"$f":"IF(J487=\"Group Member\",VLOOKUP(I487,#REF!,5,0),\"\")","v":""}]
["13637-76-8","237-125-7","IAEG002008","Lead diperchlorate","","R1;D1;I","2017-08-14","2017-08-14",null,"Substance Direct Entry",{"$f":"IF(J488=\"Group Member\",VLOOKUP(I488,#REF!,5,0),\"\")","v":""}]
["13698-55-0","237-220-3","IAEG002009","Lead fumarate","","R1;D1;I","2017-08-14","2017-08-14",null,"Substance Direct Entry",{"$f":"IF(J489=\"Group Member\",VLOOKUP(I489,#REF!,5,0),\"\")","v":""}]
["15696-43-2","239-790-9","IAEG002023","Octanoic acid, lead salt","","R1;D1;I","2017-08-14","2017-08-14",null,"Substance Direct Entry",{"$f":"IF(J490=\"Group Member\",VLOOKUP(I490,#REF!,5,0),\"\")","v":""}]
["15739-80-7","239-831-0","IAEG002024","Sulphuric acid, lead salt","","R1;R2;D1;I","2015-03-17","2017-08-14",null,"Substance Direct Entry",{"$f":"IF(J491=\"Group Member\",VLOOKUP(I491,#REF!,5,0),\"\")","v":""}]
["15748-73-9","239-839-4","IAEG002025","Lead disalicylate","","R1;D1;I","2017-08-14","2017-08-14",null,"Substance Direct Entry",{"$f":"IF(J492=\"Group Member\",VLOOKUP(I492,#REF!,5,0),\"\")","v":""}]
["15845-52-0","239-952-9","IAEG002031","Lead hydrogenorthophosphate","Phosphoric acid, lead (2+) salt (1:1)","R1;D1;I","2017-08-14","2017-08-14",null,"Substance Direct Entry",{"$f":"IF(J493=\"Group Member\",VLOOKUP(I493,#REF!,5,0),\"\")","v":""}]
["16038-76-9","240-176-8","IAEG002035","Lead phosphite","Phosphonic acid, lead salt","R1;D1;I","2017-08-14","2017-08-14",null,"Substance Direct Entry",{"$f":"IF(J494=\"Group Member\",VLOOKUP(I494,#REF!,5,0),\"\")","v":""}]
["16996-40-0","241-076-7","IAEG002038","2-ethylhexanoic acid, lead salt","","R1;D1;I","2017-08-14","2017-08-14",null,"Substance Direct Entry",{"$f":"IF(J495=\"Group Member\",VLOOKUP(I495,#REF!,5,0),\"\")","v":""}]
["20837-86-9","244-073-9","IAEG002051","Lead cyanamidate","","R1;D1;I","2015-03-17","2017-08-14","100.040.052","Substance Direct Entry",{"$f":"IF(J496=\"Group Member\",VLOOKUP(I496,#REF!,5,0),\"\")","v":""}]
["20936-32-7","244-118-2","IAEG002053","Benzoic acid, 2,4-dihydroxy-, lead salt","","R1;D1;I","2020-01-16","2020-01-16",null,"Substance Direct Entry",{"$f":"IF(J497=\"Group Member\",VLOOKUP(I497,#REF!,5,0),\"\")","v":""}]
["27253-28-7","248-369-9","IAEG002063","Neodecanoic acid, lead salt","","R1;D1;I","2017-08-14","2017-08-14",null,"Substance Direct Entry",{"$f":"IF(J498=\"Group Member\",VLOOKUP(I498,#REF!,5,0),\"\")","v":""}]
["301-08-6","206-107-0","IAEG002067","Hexanoic acid, 2-ethyl-, lead (2+) salt","","R1;D1;I","2017-08-14","2017-08-14",null,"Substance Direct Entry",{"$f":"IF(J499=\"Group Member\",VLOOKUP(I499,#REF!,5,0),\"\")","v":""}]
["36501-84-5","253-068-0","IAEG002077","Lead, bis(dipentylcarbamodithioato-S,S')-, (T-4)-","","R1;D1;I","2017-08-14","2017-08-14",null,"Substance Direct Entry",{"$f":"IF(J500=\"Group Member\",VLOOKUP(I500,#REF!,5,0),\"\")","v":""}]
["37194-88-0","253-389-6","IAEG002078","Lead ruthenium oxide","","R1;D1;I","2019-01-24","2019-01-24",null,"Substance Direct Entry",{"$f":"IF(J501=\"Group Member\",VLOOKUP(I501,#REF!,5,0),\"\")","v":""}]
["50825-29-1","256-790-4","IAEG002087","Cyclohexanecarboxylic acid, lead salt","","R1;D1;I","2019-01-24","2019-01-24",null,"Substance Direct Entry",{"$f":"IF(J502=\"Group Member\",VLOOKUP(I502,#REF!,5,0),\"\")","v":""}]
["512-26-5","208-141-1","IAEG002089","1,2,3-Propanetricarboxylic acid, 2-hydroxy-, lead (2+) salt (2:3)","","R1;D1;I","2017-08-14","2017-08-14",null,"Substance Direct Entry",{"$f":"IF(J503=\"Group Member\",VLOOKUP(I503,#REF!,5,0),\"\")","v":""}]
["51317-24-9","257-133-4","IAEG002090","1,3-Benzenediol, nitro-, lead salt","","R1;D1;I","2017-08-14","2017-08-14",null,"Substance Direct Entry",{"$f":"IF(J504=\"Group Member\",VLOOKUP(I504,#REF!,5,0),\"\")","v":""}]
["52652-59-2","No EC available","IAEG002095","Octadecanoic acid, lead salt, dibasic","","R1;D1;I","2020-01-16","2020-01-16",null,"Substance Direct Entry",{"$f":"IF(J505=\"Group Member\",VLOOKUP(I505,#REF!,5,0),\"\")","v":""}]
["56189-09-4","260-043-8","IAEG002100","Lead, bis(octadecanoato)dioxodi-","","R1;D1;I","2017-08-14","2017-08-14",null,"Substance Direct Entry",{"$f":"IF(J506=\"Group Member\",VLOOKUP(I506,#REF!,5,0),\"\")","v":""}]
["592-87-0","209-774-6","IAEG002106","Lead dithiocyanate","","R1;D1;I","2017-08-14","2017-08-14",null,"Substance Direct Entry",{"$f":"IF(J507=\"Group Member\",VLOOKUP(I507,#REF!,5,0),\"\")","v":""}]
["6080-56-4","No EC available","IAEG002109","Acetic acid, lead (2+) salt, trihydrate","","R1;D1;I","2015-03-17","2017-08-14",null,"Substance Direct Entry",{"$f":"IF(J508=\"Group Member\",VLOOKUP(I508,#REF!,5,0),\"\")","v":""}]
["61788-54-3","262-986-0","IAEG002112","Fatty acids, tall-oil, lead salts","","R1;D1;I","2017-08-14","2017-08-14",null,"Substance Direct Entry",{"$f":"IF(J509=\"Group Member\",VLOOKUP(I509,#REF!,5,0),\"\")","v":""}]
["61790-14-5","263-109-4","IAEG002113","Naphthenic acid, lead salt","","R1;D1;I","2017-08-14","2017-08-14",null,"Substance Direct Entry",{"$f":"IF(J510=\"Group Member\",VLOOKUP(I510,#REF!,5,0),\"\")","v":""}]
["62637-99-4","263-663-7","IAEG002115","Cyclohexanebutanoic acid, lead (2+) salt","","R1;D1;I","2017-08-14","2017-08-14",null,"Substance Direct Entry",{"$f":"IF(J511=\"Group Member\",VLOOKUP(I511,#REF!,5,0),\"\")","v":""}]
["63568-30-9","264-316-2","IAEG002117","Naphthalenesulfonic acid, diisononyl-, lead (2+) salt","","R1;D1;I","2017-08-14","2017-08-14",null,"Substance Direct Entry",{"$f":"IF(J512=\"Group Member\",VLOOKUP(I512,#REF!,5,0),\"\")","v":""}]
["6477-64-1","229-335-2","IAEG002119","Lead dipicrate","Phenol, 2,4,6-trinitro-, lead (2+) salt","R1;D1;I","2015-03-17","2017-08-14","100.026.669","Substance Direct Entry",{"$f":"IF(J513=\"Group Member\",VLOOKUP(I513,#REF!,5,0),\"\")","v":""}]
["67674-14-0","266-853-8","IAEG002125","Petrolatum (petroleum), oxidized, lead salt","","R1;D1;I","2017-08-14","2017-08-14",null,"Substance Direct Entry",{"$f":"IF(J514=\"Group Member\",VLOOKUP(I514,#REF!,5,0),\"\")","v":""}]
["68409-79-0","270-063-9","IAEG002133","Carboxylic acids, C8-10-branched, basic lead salt","","R1;D1;I","2017-08-14","2017-08-14",null,"Substance Direct Entry",{"$f":"IF(J515=\"Group Member\",VLOOKUP(I515,#REF!,5,0),\"\")","v":""}]
["68411-33-6","685-313-6","IAEG002134","1,3-Benzenediol, 2-nitro-, lead salt, basic","","R1;D1;I","2017-08-14","2017-08-14",null,"Substance Direct Entry",{"$f":"IF(J516=\"Group Member\",VLOOKUP(I516,#REF!,5,0),\"\")","v":""}]
["68442-95-5","270-498-4","IAEG002136","Hexanoic acid, dimethyl-, lead (2+) salt, basic","","R1;D1;I","2017-08-14","2017-08-14",null,"Substance Direct Entry",{"$f":"IF(J517=\"Group Member\",VLOOKUP(I517,#REF!,5,0),\"\")","v":""}]
["68603-83-8","271-675-9","IAEG002146","Fatty acids, C6-19-branched, basic lead and lead salts","","R1;D1;I","2017-08-14","2017-08-14",null,"Substance Direct Entry",{"$f":"IF(J518=\"Group Member\",VLOOKUP(I518,#REF!,5,0),\"\")","v":""}]
["69029-53-4","273-797-8","IAEG002163","Lead oxide, retort","","R1;D1;I","2017-08-14","2017-08-14",null,"Substance Direct Entry",{"$f":"IF(J519=\"Group Member\",VLOOKUP(I519,#REF!,5,0),\"\")","v":""}]
["70084-67-2","274-302-8","IAEG002167","Lead, C6-19-branched carboxylate naphthenate complexes","","R1;D1;I","2017-08-14","2017-08-14",null,"Substance Direct Entry",{"$f":"IF(J520=\"Group Member\",VLOOKUP(I520,#REF!,5,0),\"\")","v":""}]
["7428-48-0","231-068-1","IAEG002179","Octadecanoic acid, lead salt","","R1;D1;I","2017-08-14","2017-08-14",null,"Substance Direct Entry",{"$f":"IF(J521=\"Group Member\",VLOOKUP(I521,#REF!,5,0),\"\")","v":""}]
["7759-01-5","231-849-7","IAEG002186","Lead tungsten tetraoxide","Tungstic acid (H2WO4), lead (2+) salt (1:1)","R1;D1;I","2017-08-14","2017-08-14",null,"Substance Direct Entry",{"$f":"IF(J522=\"Group Member\",VLOOKUP(I522,#REF!,5,0),\"\")","v":""}]
["7783-46-2","231-998-8","IAEG002187","Lead fluoride","","R1;D1;I","2015-03-17","2017-08-14",null,"Substance Direct Entry",{"$f":"IF(J523=\"Group Member\",VLOOKUP(I523,#REF!,5,0),\"\")","v":""}]
["79357-62-3","No EC available","IAEG002189","Lead, (2-methyl-4,6-dinitrophenolato-O1)(nitrato-O)-.mu.-oxodi-, monohydrate","","R1;D1;I","2017-08-14","2017-08-14",null,"Substance Direct Entry",{"$f":"IF(J524=\"Group Member\",VLOOKUP(I524,#REF!,5,0),\"\")","v":""}]
["79803-79-5","No EC available","IAEG002190","Lead, C3-13-fatty acid naphthenate complexes","","R1;D1;I","2017-08-14","2017-08-14",null,"Substance Direct Entry",{"$f":"IF(J525=\"Group Member\",VLOOKUP(I525,#REF!,5,0),\"\")","v":""}]
["63918-97-8","No EC available","IAEG002348","Lead styphnate","","R1;D1;I","2017-08-14","2017-08-14",null,"Substance Direct Entry",{"$f":"IF(J526=\"Group Member\",VLOOKUP(I526,#REF!,5,0),\"\")","v":""}]
["39412-44-7","No EC available","IAEG002358","Lead/Tin alloy","","R1;D1;I","2017-08-14","2017-08-14",null,"Substance Direct Entry",{"$f":"IF(J527=\"Group Member\",VLOOKUP(I527,#REF!,5,0),\"\")","v":""}]
["873-54-1","212-841-2","IAEG002362","Lead dibenzoate","","R1;D1;I","2019-01-24","2019-01-24",null,"Substance Direct Entry",{"$f":"IF(J528=\"Group Member\",VLOOKUP(I528,#REF!,5,0),\"\")","v":""}]
["1336-36-3","215-648-1","IAEG002393","Polychlorinated biphenyls (PCBs)","Chlorobiphenyls; Chlorinated biphenyls","R1;R2;D1;I","2015-03-17","2015-03-17",null,"Substance Direct Entry",{"$f":"IF(J529=\"Group Member\",VLOOKUP(I529,#REF!,5,0),\"\")","v":""}]
["2051-24-3","218-115-1","IAEG002401","Decachlorobiphenyl (PCB 209)","","R1;R2;D1;I","2015-03-17","2015-03-17",null,"Substance Direct Entry",{"$f":"IF(J530=\"Group Member\",VLOOKUP(I530,#REF!,5,0),\"\")","v":""}]
["2051-60-7","218-125-6","IAEG002402","2-Chlorobiphenyl (PCB 1)","","R1;R2;D1","2015-03-17","2015-03-17",null,"Substance Direct Entry",{"$f":"IF(J531=\"Group Member\",VLOOKUP(I531,#REF!,5,0),\"\")","v":""}]
["2051-61-8","218-126-1","IAEG002403","3-Chlorobiphenyl (PCB 2)","","R1;R2;D1","2015-03-17","2015-03-17",null,"Substance Direct Entry",{"$f":"IF(J532=\"Group Member\",VLOOKUP(I532,#REF!,5,0),\"\")","v":""}]
["76842-07-4","No EC available","IAEG002609","2,3,3',4',5'-Pentachlorobiphenyl (PCB 122)","","R1;R2;D1","2017-08-14","2017-08-14",null,"Substance Direct Entry",{"$f":"IF(J533=\"Group Member\",VLOOKUP(I533,#REF!,5,0),\"\")","v":""}]
["205991-67-9","No EC available","IAEG002665","(R)-2,2',3,3',5,6'-hexachlorobiphenyl","","R1;R2;D1","2020-01-16","2020-01-16",null,"Substance Direct Entry",{"$f":"IF(J534=\"Group Member\",VLOOKUP(I534,#REF!,5,0),\"\")","v":""}]
["207004-29-3","No EC available","IAEG002671","(-)-2,2',3,3',5,6'-hexachlorobiphenyl","","R1;R2;D1","2020-01-16","2020-01-16",null,"Substance Direct Entry",{"$f":"IF(J535=\"Group Member\",VLOOKUP(I535,#REF!,5,0),\"\")","v":""}]
["116-14-3","204-126-9","IAEG002682","Tetrafluoroethylene","","R1;R2;I","2017-08-14","2017-08-14",null,"Substance Direct Entry",{"$f":"IF(J536=\"Group Member\",VLOOKUP(I536,#REF!,5,0),\"\")","v":""}]
["116-15-4","204-127-4","IAEG002683","Hexafluoropropene","","R1;R2","2017-08-14","2017-08-14",null,"Substance Direct Entry",{"$f":"IF(J537=\"Group Member\",VLOOKUP(I537,#REF!,5,0),\"\")","v":""}]
["75-73-0","200-896-5","IAEG002684","Carbon tetrafluoride","Tetrafluoromethane; Perfluoromethane","R1;R2;D1","2015-03-17","2015-03-17",null,"Substance Direct Entry",{"$f":"IF(J538=\"Group Member\",VLOOKUP(I538,#REF!,5,0),\"\")","v":""}]
["335-57-9","206-392-1","IAEG002685","Heptane, hexadecafluoro-","","R1;R2","2017-08-14","2017-08-14",null,"Substance Direct Entry",{"$f":"IF(J539=\"Group Member\",VLOOKUP(I539,#REF!,5,0),\"\")","v":""}]
["355-42-0","206-585-0","IAEG002686","Tetradecafluorohexane","Perfluorohexane; Perflexane","R1;R2;D1","2015-03-17","2015-03-17",null,"Substance Direct Entry",{"$f":"IF(J540=\"Group Member\",VLOOKUP(I540,#REF!,5,0),\"\")","v":""}]
["115-25-3","204-075-2","IAEG002688","Octafluorocyclobutane","Perfluorocyclobutane","R1;R2;D1","2015-03-17","2015-03-17",null,"Substance Direct Entry",{"$f":"IF(J541=\"Group Member\",VLOOKUP(I541,#REF!,5,0),\"\")","v":""}]
["76-16-4","200-939-8","IAEG002689","Hexafluoroethane","Perfluoroethane","R1;R2;D1","2015-03-17","2015-03-17",null,"Substance Direct Entry",{"$f":"IF(J542=\"Group Member\",VLOOKUP(I542,#REF!,5,0),\"\")","v":""}]
["76-19-7","200-941-9","IAEG002690","Octafluoropropane","Perfluoropropane","R1;R2;D1","2015-03-17","2015-03-17",null,"Substance Direct Entry",{"$f":"IF(J543=\"Group Member\",VLOOKUP(I543,#REF!,5,0),\"\")","v":""}]
["355-25-9","206-580-3","IAEG002691","Decafluorobutane","Perfluorobutane","R1;R2;D1","2015-03-17","2015-03-17",null,"Substance Direct Entry",{"$f":"IF(J544=\"Group Member\",VLOOKUP(I544,#REF!,5,0),\"\")","v":""}]
["678-26-2","211-647-5","IAEG002692","Dodecafluoropentane","Perfluoropentane","R1;R2;D1","2015-03-17","2015-03-17",null,"Substance Direct Entry",{"$f":"IF(J545=\"Group Member\",VLOOKUP(I545,#REF!,5,0),\"\")","v":""}]
["306-92-3","206-191-9","IAEG002693","1,1,2,2,3,3,4,4,4a,5,5,6,6,7,7,8,8a-heptadecafluorodecahydro-8-(trifluoromethyl)naphthalene","","R1;R2","2019-01-24","2019-01-24",null,"Substance Direct Entry",{"$f":"IF(J546=\"Group Member\",VLOOKUP(I546,#REF!,5,0),\"\")","v":""}]
["392-56-3","206-876-2","IAEG002697","Hexafluorobenzene","","R1;R2","2017-08-14","2017-08-14",null,"Substance Direct Entry",{"$f":"IF(J547=\"Group Member\",VLOOKUP(I547,#REF!,5,0),\"\")","v":""}]
["335-27-3","206-386-9","IAEG002706","1,1,2,2,3,3,4,5,5,6-decafluoro-4,6-bis(trifluoromethyl)cyclohexane","","R1;R2","2017-08-14","2017-08-14",null,"Substance Direct Entry",{"$f":"IF(J548=\"Group Member\",VLOOKUP(I548,#REF!,5,0),\"\")","v":""}]
["2994-71-0","221-065-3","IAEG002710","1,1,2,2,3,4-hexafluoro-3,4-bis(trifluoromethyl)cyclobutane","","R1;R2","2017-08-14","2017-08-14",null,"Substance Direct Entry",{"$f":"IF(J549=\"Group Member\",VLOOKUP(I549,#REF!,5,0),\"\")","v":""}]
["37589-57-4","253-557-9","IAEG002713","Dotetracontafluoroicosane","","R1;R2","2017-08-14","2017-08-14",null,"Substance Direct Entry",{"$f":"IF(J550=\"Group Member\",VLOOKUP(I550,#REF!,5,0),\"\")","v":""}]
["355-02-2","206-573-5","IAEG002715","Perfluoro(methylcyclohexane)","","R1;R2","2017-08-14","2017-08-14",null,"Substance Direct Entry",{"$f":"IF(J551=\"Group Member\",VLOOKUP(I551,#REF!,5,0),\"\")","v":""}]
["307-34-6","206-199-2","IAEG002720","Perfluorooctane","","R1;R2","2017-08-14","2017-08-14",null,"Substance Direct Entry",{"$f":"IF(J552=\"Group Member\",VLOOKUP(I552,#REF!,5,0),\"\")","v":""}]
["355-04-4","206-575-6","IAEG002721","1,1,1,2,2,3,3,4,5,5,5-undecafluoro-4-(trifluoromethyl)pentane","","R1;R2","2017-08-14","2017-08-14",null,"Substance Direct Entry",{"$f":"IF(J553=\"Group Member\",VLOOKUP(I553,#REF!,5,0),\"\")","v":""}]
["313-72-4","206-239-9","IAEG002728","Octafluoronaphthalene","","R1;R2","2017-08-14","2017-08-14",null,"Substance Direct Entry",{"$f":"IF(J554=\"Group Member\",VLOOKUP(I554,#REF!,5,0),\"\")","v":""}]
["306-91-2","No EC available","IAEG002737","Phenanthrene, 1,1,2,2,3,3,4,4,4a,4b,5,5,6,6,7,7,8,8,8a,9,9,10,10,10a-tetracosafluorotetradecahydro-","","R1;R2","2017-08-14","2017-08-14",null,"Substance Direct Entry",{"$f":"IF(J555=\"Group Member\",VLOOKUP(I555,#REF!,5,0),\"\")","v":""}]
["13221-71-1","No EC available","IAEG002738","Cyclobutane, 1,1,2,3,3,4-hexafluoro-2,4-bis(trifluoromethyl)-","","R1;R2","2017-08-14","2017-08-14",null,"Substance Direct Entry",{"$f":"IF(J556=\"Group Member\",VLOOKUP(I556,#REF!,5,0),\"\")","v":""}]
["382-21-8","No EC available","IAEG002742","1,1,3,3,3-Pentafluoro-2-(trifluoromethyl)prop-1-ene","1,1,3,3,3-Pentafluoro-2-(trifluoromethyl)-1-propene (PFIB)","R1;R2","2017-08-14","2017-08-14",null,"Substance Direct Entry",{"$f":"IF(J557=\"Group Member\",VLOOKUP(I557,#REF!,5,0),\"\")","v":""}]
["1321-65-9","215-321-3","IAEG002761","Trichloronaphthalene","","R1;R2","2017-08-14","2017-08-14",null,"Substance Direct Entry",{"$f":"IF(J558=\"Group Member\",VLOOKUP(I558,#REF!,5,0),\"\")","v":""}]
["1335-88-2","215-642-9","IAEG002763","Tetrachloronaphthalene","","R1;R2","2017-08-14","2017-08-14",null,"Substance Direct Entry",{"$f":"IF(J559=\"Group Member\",VLOOKUP(I559,#REF!,5,0),\"\")","v":""}]
["2050-69-3","218-097-5","IAEG002785","1,2-dichloronaphthalene","","R1;R2","2017-08-14","2017-08-14",null,"Substance Direct Entry",{"$f":"IF(J560=\"Group Member\",VLOOKUP(I560,#REF!,5,0),\"\")","v":""}]
["25586-43-0","247-120-1","IAEG002796","Chloronaphthalene","","R1;R2","2017-08-14","2017-08-14",null,"Substance Direct Entry",{"$f":"IF(J561=\"Group Member\",VLOOKUP(I561,#REF!,5,0),\"\")","v":""}]
["55720-39-3","No EC available","IAEG002817","1,6,7-trichloronaphthalene","","R1;R2","2020-01-16","2020-01-16",null,"Substance Direct Entry",{"$f":"IF(J562=\"Group Member\",VLOOKUP(I562,#REF!,5,0),\"\")","v":""}]
["90-13-1","201-967-3","IAEG002835","1-Chloronaphthalene","","R1;R2","2017-08-14","2017-08-14",null,"Substance Direct Entry",{"$f":"IF(J563=\"Group Member\",VLOOKUP(I563,#REF!,5,0),\"\")","v":""}]
["91-58-7","202-079-9","IAEG002837","2-Chloronaphthalene","","R1;R2","2017-08-14","2017-08-14",null,"Substance Direct Entry",{"$f":"IF(J564=\"Group Member\",VLOOKUP(I564,#REF!,5,0),\"\")","v":""}]
["56773-42-3","260-375-3","IAEG002886","Tetraethylammonium heptadecafluorooctanesulphonate","","R1;R2;D1;I","2015-03-17","2015-03-17",null,"Substance Direct Entry",{"$f":"IF(J565=\"Group Member\",VLOOKUP(I565,#REF!,5,0),\"\")","v":""}]
["2795-39-3","220-527-1","IAEG002888","Potassium heptadecafluorooctane-1-sulphonate","PFOS potassium salt","R1;R2;D1;I","2015-03-17","2015-03-17",null,"Substance Direct Entry",{"$f":"IF(J566=\"Group Member\",VLOOKUP(I566,#REF!,5,0),\"\")","v":""}]
["29081-56-9","249-415-0","IAEG002889","Ammonium heptadecafluorooctanesulphonate","PFOS ammonium salt","R1;R2;D1;I","2015-03-17","2015-03-17",null,"Substance Direct Entry",{"$f":"IF(J567=\"Group Member\",VLOOKUP(I567,#REF!,5,0),\"\")","v":""}]
["70225-14-8","274-460-8","IAEG002891","Heptadecafluorooctanesulphonic acid, compound with 2,2'-iminodiethanol (1:1)","Diethanolamine perfluorooctane sulfonate; PFOS diethanolamine salt","R1;R2;D1;I","2015-03-17","2015-03-17",null,"Substance Direct Entry",{"$f":"IF(J568=\"Group Member\",VLOOKUP(I568,#REF!,5,0),\"\")","v":""}]
["1763-23-1","217-179-8","IAEG002904","Heptadecafluorooctane-1-sulphonic acid (PFOS)","Perfluorooctanesulphonic acid","R1;R2;D1;I","2015-03-17","2015-03-17",null,"Substance Direct Entry",{"$f":"IF(J569=\"Group Member\",VLOOKUP(I569,#REF!,5,0),\"\")","v":""}]
["4151-50-2","223-980-3","IAEG002905","Perfluorooctane sulfonamide (PFOSA)","Sulfluramid","R1;R2;D1;I","2017-08-14","2017-08-14",null,"Substance Direct Entry",{"$f":"IF(J570=\"Group Member\",VLOOKUP(I570,#REF!,5,0),\"\")","v":""}]
["1652-63-7","216-716-3","IAEG002910","N,N,N-Trimethyl[3-(perfluorooctanesulfonylamino)propyl]ammonium iodide","","R1;R2;D1;I","2017-08-14","2017-08-14",null,"Substance Direct Entry",{"$f":"IF(J571=\"Group Member\",VLOOKUP(I571,#REF!,5,0),\"\")","v":""}]
["2991-51-7","221-062-7","IAEG002920","Glycine, N-ethyl-N-[(heptadecafluorooctyl)sulfonyl]-, potassium salt","","R1;R2;D1;I","2015-03-17","2015-03-17",null,"Substance Direct Entry",{"$f":"IF(J572=\"Group Member\",VLOOKUP(I572,#REF!,5,0),\"\")","v":""}]
["376-14-7","206-805-5","IAEG002926","N-Ethylperfluorooctylsulfonamidoethyl methacrylate","","R1;R2;D1;I","2017-08-14","2017-08-14",null,"Substance Direct Entry",{"$f":"IF(J573=\"Group Member\",VLOOKUP(I573,#REF!,5,0),\"\")","v":""}]
["383-07-3","206-846-9","IAEG002929","N-Butylperfluorooctanesulphonamido ethyl acrylate","","R1;R2;D1;I","2017-08-14","2017-08-14",null,"Substance Direct Entry",{"$f":"IF(J574=\"Group Member\",VLOOKUP(I574,#REF!,5,0),\"\")","v":""}]
["423-82-5","207-031-0","IAEG002931","2-[N-Ethyl-N-(perfluorooctylsulfonyl)amino]ethyl acrylate","","R1;R2;D1;I","2017-08-14","2017-08-14",null,"Substance Direct Entry",{"$f":"IF(J575=\"Group Member\",VLOOKUP(I575,#REF!,5,0),\"\")","v":""}]
["75046-16-1","No EC available","IAEG002989","N,N-Dimethyl-N-[3-(perfluorooctanesulfonamido)propyl]-N-carboxymethylammonium betaine","","R1;R2;I","2020-01-16","2020-01-16",null,"Substance Direct Entry",{"$f":"IF(J576=\"Group Member\",VLOOKUP(I576,#REF!,5,0),\"\")","v":""}]
["109669-84-3","No EC available","IAEG002993","1-Propanaminium,N-(carboxymethyl)-N-[3-[[(heptadecafluorooctyl)sulfonyl]amino]propyl]-2-hydroxy-N-(2-hydroxy-3-sulfoprop","","R1;R2;I","2017-08-14","2017-08-14",null,"Substance Direct Entry",{"$f":"IF(J577=\"Group Member\",VLOOKUP(I577,#REF!,5,0),\"\")","v":""}]
["438237-77-5","No EC available","IAEG002994","1-Propanaminium, 3-[[(3,3,4,4,5,5,6,6,7,7,8,8,9,9,10,10,10- heptadecafluorodecyl)sulfonyl]amino]-N,N,N-trimethyl-, salt with 4-methylbenzenesulfonic acid (1:1)","","R1;R2;I","2017-08-14","2017-08-14",null,"Substance Direct Entry",{"$f":"IF(J578=\"Group Member\",VLOOKUP(I578,#REF!,5,0),\"\")","v":""}]
["110494-69-4","No EC available","IAEG002996","Heptadecafluoro-N-poly(oxy-1,2-ethanediyl)-N-propyl-1-octanesulfonamide","","R1;R2;I","2017-08-14","2017-08-14",null,"Substance Direct Entry",{"$f":"IF(J579=\"Group Member\",VLOOKUP(I579,#REF!,5,0),\"\")","v":""}]
["56-35-9","200-268-0","IAEG003005","Bis(tributyltin) oxide","1,1,1,3,3,3-Hexabutyldistannoxane; Tributyltin oxide (TBTO)","R1;R2;D1","2015-03-17","2017-08-14","100.000.244","Substance Direct Entry",{"$f":"IF(J580=\"Group Member\",VLOOKUP(I580,#REF!,5,0),\"\")","v":""}]
["1461-22-9","215-958-7","IAEG003006","Tributyltin chloride (TBTCL)","Tributan-1-yl(chloro)stannane; Tributylchlorostannane","R1;R2","2015-03-17","2017-08-14",null,"Substance Direct Entry",{"$f":"IF(J581=\"Group Member\",VLOOKUP(I581,#REF!,5,0),\"\")","v":""}]
["639-58-7","211-358-4","IAEG003007","Fentin chloride","Triphenyltin chloride; Chloro(triphenyl)stannane","R1;R2","2017-08-14","2017-08-14",null,"Substance Direct Entry",{"$f":"IF(J582=\"Group Member\",VLOOKUP(I582,#REF!,5,0),\"\")","v":""}]
["76-87-9","200-990-6","IAEG003008","Fentin hydroxide","Triphenyltin hydroxide; Triphenylstannanol","R1;R2","2015-03-17","2017-08-14",null,"Substance Direct Entry",{"$f":"IF(J583=\"Group Member\",VLOOKUP(I583,#REF!,5,0),\"\")","v":""}]
["683-18-1","211-670-0","IAEG003010","Dibutyltin dichloride (DBTC)","","R2;D1","2015-03-17","2017-08-14","100.010.610","Substance Direct Entry",{"$f":"IF(J584=\"Group Member\",VLOOKUP(I584,#REF!,5,0),\"\")","v":""}]
["15571-58-1","239-622-4","IAEG003011","2-Ethylhexyl 10-ethyl-4,4-dioctyl-7-oxo-8-oxa-3,5-dithia-4-stannatetradecanoate","Dioctyltin bis(2-ethylhexyl mercaptoacetate) (DOTE)","R2;D1;I","2015-03-17","2017-08-14","100.036.005","Substance Direct Entry",{"$f":"IF(J585=\"Group Member\",VLOOKUP(I585,#REF!,5,0),\"\")","v":""}]
["57583-35-4","260-829-0","IAEG003012","2-Ethylhexyl 10-ethyl-4,4-dimethyl-7-oxo-8-oxa-3,5-dithia-4-stannatetradecanoate","Dimethyltin bis(2-ethylhexylmercaptoacetate) (DMT EHMA)","R2;I","2019-01-24","2019-01-24",null,"Substance Direct Entry",{"$f":"IF(J586=\"Group Member\",VLOOKUP(I586,#REF!,5,0),\"\")","v":""}]
["1983-10-4","217-847-9","IAEG003022","Tributyltin fluoride (TBTF)","Tributylfluorostanane","R1;R2","2015-03-17","2017-08-14",null,"Substance Direct Entry",{"$f":"IF(J587=\"Group Member\",VLOOKUP(I587,#REF!,5,0),\"\")","v":""}]
["3090-36-6","221-434-9","IAEG003025","Tributyl(lauroyloxy)stannane","","R1;R2","2020-01-16","2020-01-16",null,"Substance Direct Entry",{"$f":"IF(J588=\"Group Member\",VLOOKUP(I588,#REF!,5,0),\"\")","v":""}]
["3644-38-0","222-873-9","IAEG003026","Stannane, tributyl(pentachlorophenoxy)-","","R1;R2;D1","2020-01-16","2020-01-16",null,"Substance Direct Entry",{"$f":"IF(J589=\"Group Member\",VLOOKUP(I589,#REF!,5,0),\"\")","v":""}]
["4342-36-3","224-399-8","IAEG003027","Tributylstannyl benzoate","Tributyltin benzoate; (Benzoyloxy)tributylstannane","R1;R2","2015-03-17","2017-08-14",null,"Substance Direct Entry",{"$f":"IF(J590=\"Group Member\",VLOOKUP(I590,#REF!,5,0),\"\")","v":""}]
["4782-29-0","225-327-8","IAEG003028","Stannane, [1,2-phenylenebis(carbonyloxy)]bis(tributyl-","","R1;R2","2020-01-16","2020-01-16",null,"Substance Direct Entry",{"$f":"IF(J591=\"Group Member\",VLOOKUP(I591,#REF!,5,0),\"\")","v":""}]
["67772-01-4","No EC available","IAEG003030","2-Propenoic acid, 2-methyl-, methyl ester, polymer with octyl 2-propenoate and tributyl[(2-methyl-1-oxo-2-propenyl)oxy]stannane","","R1;R2","2020-01-16","2020-01-16",null,"Substance Direct Entry",{"$f":"IF(J592=\"Group Member\",VLOOKUP(I592,#REF!,5,0),\"\")","v":""}]
["13356-08-6","236-407-7","IAEG003036","Fenbutatin oxide","Bis(tris(2-methyl-2-phenylpropyl)tin) oxide","R1;R2","2017-08-14","2017-08-14",null,"Substance Direct Entry",{"$f":"IF(J593=\"Group Member\",VLOOKUP(I593,#REF!,5,0),\"\")","v":""}]
["41083-11-8","255-209-1","IAEG003037","Azocyclotin","1-(tricyclohexylstannyl)-1H-1,2,4-triazole","R1;R2","2020-01-16","2020-01-16",null,"Substance Direct Entry",{"$f":"IF(J594=\"Group Member\",VLOOKUP(I594,#REF!,5,0),\"\")","v":""}]
["6454-35-9","229-262-6","IAEG003042","Bis(tributan-1-ylstannyl) fumarate","","R1;R2","2020-01-16","2020-01-16",null,"Substance Direct Entry",{"$f":"IF(J595=\"Group Member\",VLOOKUP(I595,#REF!,5,0),\"\")","v":""}]
["24291-45-0","246-125-6","IAEG003043","Bis(tributan-1-ylstannyl) but-2-enedioate","","R1;R2","2020-01-16","2020-01-16",null,"Substance Direct Entry",{"$f":"IF(J596=\"Group Member\",VLOOKUP(I596,#REF!,5,0),\"\")","v":""}]
["56875-68-4","260-414-4","IAEG003049","2,2-dioctyl-1,3-dioxa-6,9-dithia-2-stannacycloundecane-4,11-dione","","R1;R2;D1","2020-01-16","2020-01-16",null,"Substance Direct Entry",{"$f":"IF(J597=\"Group Member\",VLOOKUP(I597,#REF!,5,0),\"\")","v":""}]
["No CAS available","No EC available","IAEG003053","Reaction mass of DOTE and MOTE","Reaction mass of 2-Ethylhexyl 10-ethyl-4,4-dioctyl-7-oxo-8-oxa-3,5-dithia-4-stannatetradecanoate and 2-Ethylhexyl 10-ethyl-4-[[2-[(2-ethylhexyl)oxy]-2-oxoethyl]thio]-4-octyl-7-oxo-8-oxa-3,5-dithia-4-stannatetradecanoate","R2;D1;I","2015-03-17","2017-08-14","100.239.161","Substance Direct Entry",{"$f":"IF(J598=\"Group Member\",VLOOKUP(I598,#REF!,5,0),\"\")","v":""}]
["109-86-4","203-713-7","IAEG003057","2-Methoxyethanol","Ethylene glycol monomethyl ether (EGME)","R1;R2;D1","2015-03-17","2017-08-14","100.003.377","Substance Direct Entry",{"$f":"IF(J599=\"Group Member\",VLOOKUP(I599,#REF!,5,0),\"\")","v":""}]
["110-80-5","203-804-1","IAEG003058","2-Ethoxyethanol","Ethylene glycol monoethyl ether (EGEE)","D1","2015-03-17","2015-03-17","100.003.459","Substance Direct Entry",{"$f":"IF(J600=\"Group Member\",VLOOKUP(I600,#REF!,5,0),\"\")","v":""}]
["111-96-6","203-924-4","IAEG003059","Bis(2-methoxyethyl) ether","Diglyme","R1;R2;D1","2015-03-17","2015-03-17","100.003.568","Substance Direct Entry",{"$f":"IF(J601=\"Group Member\",VLOOKUP(I601,#REF!,5,0),\"\")","v":""}]
["111-15-9","203-839-2","IAEG003060","2-Ethoxyethyl acetate","Ethylglycol acetate; Ethylene glycol monoethyl ether acetate","R2;D1","2015-03-17","2017-08-14","100.003.491","Substance Direct Entry",{"$f":"IF(J602=\"Group Member\",VLOOKUP(I602,#REF!,5,0),\"\")","v":""}]
["112-49-2","203-977-3","IAEG003061","1,2-Bis(2-methoxyethoxy)ethane","Triethylene glycol dimethyl ether (TEGDME); Triglyme","R1;R2;D1","2015-03-17","2017-08-14","100.003.616","Substance Direct Entry",{"$f":"IF(J603=\"Group Member\",VLOOKUP(I603,#REF!,5,0),\"\")","v":""}]
["110-71-4","203-794-9","IAEG003062","1,2-Dimethoxyethane","Ethylene glycol dimethyl ether (EGDME)","R1;R2;D1","2015-03-17","2017-08-14","100.003.451","Substance Direct Entry",{"$f":"IF(J604=\"Group Member\",VLOOKUP(I604,#REF!,5,0),\"\")","v":""}]
["629-14-1","211-076-1","IAEG003063","1,2-Diethoxyethane","Ethylene glycol diethyl ether","R1;R2;D1","2015-03-17","2017-08-14","100.010.070","Substance Direct Entry",{"$f":"IF(J605=\"Group Member\",VLOOKUP(I605,#REF!,5,0),\"\")","v":""}]
["51-79-6","200-123-1","IAEG003064","Urethane","Ethyl carbamate","R1;R2;D1","2015-03-17","2017-08-14",null,"Substance Direct Entry",{"$f":"IF(J606=\"Group Member\",VLOOKUP(I606,#REF!,5,0),\"\")","v":""}]
["110-49-6","203-772-9","IAEG003065","2-Methoxyethyl acetate","Methylglycol acetate; Ethylene glycol monomethyl ether acetate; Methyl cellosolve acetate","R2;D1;I","2015-03-17","2020-01-16","100.003.431","Substance Direct Entry",{"$f":"IF(J607=\"Group Member\",VLOOKUP(I607,#REF!,5,0),\"\")","v":""}]
["92-87-5","202-199-1","IAEG003067","Benzidine","1,1'-Biphenyl-4,4'-diamine; 4,4'-diaminobiphenyl; Biphenyl-4,4'-ylenediamine","R1;R2;D1","2015-03-17","2017-08-14",null,"Substance Direct Entry",{"$f":"IF(J608=\"Group Member\",VLOOKUP(I608,#REF!,5,0),\"\")","v":""}]
["16071-86-6","240-221-1","IAEG003068","Disodium {5-[(4'-((2,6-hydroxy-3-((2-hydroxy-5-sulphophenyl)azo)phenyl)azo)(1,1'-biphenyl)-4-yl)azo]salicylato(4-)}cuprate(2-)","C.I. Direct Brown 95","R1;R2;D1","2015-03-17","2017-08-14",null,"Substance Direct Entry",{"$f":"IF(J609=\"Group Member\",VLOOKUP(I609,#REF!,5,0),\"\")","v":""}]
["573-58-0","209-358-4","IAEG003069","Disodium 3,3'-[[1,1'-biphenyl]-4,4'-diylbis(azo)]bis(4-aminonaphthalene-1-sulphonate)","C.I. Direct Red 28; Congo Red","R1;R2;D1","2015-03-17","2017-08-14","100.008.509","Substance Direct Entry",{"$f":"IF(J610=\"Group Member\",VLOOKUP(I610,#REF!,5,0),\"\")","v":""}]
["1937-37-7","217-710-3","IAEG003070","Disodium 4-amino-3-[[4'-[(2,4-diaminophenyl)azo][1,1'-biphenyl]-4-yl]azo]-5-hydroxy-6-(phenylazo)naphthalene-2,7-disulphonate","C.I. Direct Black 38","R1;R2;D1","2015-03-17","2022-02-17","100.016.101","Substance Direct Entry",{"$f":"IF(J611=\"Group Member\",VLOOKUP(I611,#REF!,5,0),\"\")","v":""}]
["680-31-9","211-653-8","IAEG003071","Hexamethylphosphoric triamide","Hexamethylphosphoramide","R1;R2;D1","2015-03-17","2017-08-14",null,"Substance Direct Entry",{"$f":"IF(J612=\"Group Member\",VLOOKUP(I612,#REF!,5,0),\"\")","v":""}]
["531-85-1","208-519-6","IAEG003072","Benzidine dihydrochloride","","R1;R2;D1","2015-03-17","2017-08-14",null,"Substance Direct Entry",{"$f":"IF(J613=\"Group Member\",VLOOKUP(I613,#REF!,5,0),\"\")","v":""}]
["2602-46-2","220-012-1","IAEG003073","Tetrasodium 3,3'-[[1,1'-biphenyl]-4,4'-diylbis(azo)]bis[5-amino-4-hydroxynaphthalene-2,7-disulphonate]","C.I. Direct Blue 6","R1;R2;D1","2015-03-17","2017-08-14",null,"Substance Direct Entry",{"$f":"IF(J614=\"Group Member\",VLOOKUP(I614,#REF!,5,0),\"\")","v":""}]
["335-67-1","206-397-9","IAEG003077","Pentadecafluorooctanoic acid","Perfluorooctanoic acid (PFOA)","R1;R2;D1;I","2015-03-17","2015-03-17","100.005.817","Substance Direct Entry",{"$f":"IF(J615=\"Group Member\",VLOOKUP(I615,#REF!,5,0),\"\")","v":""}]
["8007-45-2","232-361-7","IAEG003078","Tar, coal","","R2;I","2017-08-14","2019-01-24",null,"Substance Direct Entry",{"$f":"IF(J616=\"Group Member\",VLOOKUP(I616,#REF!,5,0),\"\")","v":""}]
["98-16-8","202-643-4","IAEG003080","Alpha,alpha,alpha-trifluoro-m-toluidine","","I","2017-08-14","2017-08-14",null,"Substance Direct Entry",{"$f":"IF(J617=\"Group Member\",VLOOKUP(I617,#REF!,5,0),\"\")","v":""}]
["123-54-6","204-634-0","IAEG003081","Pentane-2,4-dione","","I","2017-08-14","2017-08-14",null,"Substance Direct Entry",{"$f":"IF(J618=\"Group Member\",VLOOKUP(I618,#REF!,5,0),\"\")","v":""}]
["124-63-0","204-706-1","IAEG003082","Methanesulphonyl chloride","","I","2015-03-17","2015-03-17",null,"Substance Direct Entry",{"$f":"IF(J619=\"Group Member\",VLOOKUP(I619,#REF!,5,0),\"\")","v":""}]
["68909-77-3","272-712-1","IAEG003087","Ethanol, 2,2'-oxybis-, reaction products with ammonia, morpholine derivs. residues","","I","2019-01-24","2019-01-24",null,"Substance Direct Entry",{"$f":"IF(J620=\"Group Member\",VLOOKUP(I620,#REF!,5,0),\"\")","v":""}]
["174333-80-3","605-717-8","IAEG003092","Benzaldehyde, 2-hydroxy-5-nonyl-, oxime, branched","","R1;R2;D1","2019-01-24","2019-01-24",null,"Substance Direct Entry",{"$f":"IF(J621=\"Group Member\",VLOOKUP(I621,#REF!,5,0),\"\")","v":""}]
["126-72-7","204-799-9","IAEG003095","Tris (2,3-dibromopropyl) phosphate (TRIS) (TBPP)","","R1;R2;D1","2015-03-17","2017-08-14",null,"Substance Direct Entry",{"$f":"IF(J622=\"Group Member\",VLOOKUP(I622,#REF!,5,0),\"\")","v":""}]
["76-01-7","200-925-1","IAEG003096","Pentachloroethane","","R1;R2;D1;I","2017-08-14","2017-08-14",null,"Substance Direct Entry",{"$f":"IF(J623=\"Group Member\",VLOOKUP(I623,#REF!,5,0),\"\")","v":""}]
["65996-91-0","266-026-1","IAEG003097","Distillates (coal tar), upper","","R1;R2;I","2017-08-14","2017-08-14",null,"Substance Direct Entry",{"$f":"IF(J624=\"Group Member\",VLOOKUP(I624,#REF!,5,0),\"\")","v":""}]
["27176-93-8","248-291-5","IAEG003098","Ethanol, 2-[2-(nonylphenoxy)ethoxy]-","2-[2-(nonylphenoxy)ethoxy]ethanol","R2;I","2017-08-14","2017-08-14",null,"Substance Direct Entry",{"$f":"IF(J625=\"Group Member\",VLOOKUP(I625,#REF!,5,0),\"\")","v":""}]
["17202-41-4","241-247-6","IAEG003111","1-Nonanesulfonic acid, 1,1,2,2,3,3,4,4,5,5,6,6,7,7,8,8,9,9,9-nonadecafluoro-, ammonium salt","","R1;R2;D1;I","2017-08-14","2017-08-14",null,"Substance Direct Entry",{"$f":"IF(J626=\"Group Member\",VLOOKUP(I626,#REF!,5,0),\"\")","v":""}]
["29117-08-6","No EC available","IAEG003115","Glycols, polyethylene, mono[2-(N-ethyl-1,1,2,2,3,3,4,4,5,5,6,6,7,7,8,8,8-heptadecafluoro-1-octanesulfonamido)ethyl] ether","","R1;R2;D1;I","2017-08-14","2017-08-14",null,"Substance Direct Entry",{"$f":"IF(J627=\"Group Member\",VLOOKUP(I627,#REF!,5,0),\"\")","v":""}]
["306974-45-8","No EC available","IAEG003119","Sulfonic acids, C6-8-alkane, perfluoro, compds. with polyethylene-polypropylene glycol bis(2-aminopropyl) ether","","R1;R2;D1;I","2020-01-16","2020-01-16",null,"Substance Direct Entry",{"$f":"IF(J628=\"Group Member\",VLOOKUP(I628,#REF!,5,0),\"\")","v":""}]
["306978-65-4","No EC available","IAEG003130","Hexane, 1,6-diisocyanato-, homopolymer, N-(hydroxyethyl)-N-methylperfluoro-C4-8-alkanesulfonamides- and stearyl alc.-blocked","","R1;R2;D1","2017-08-14","2017-08-14",null,"Substance Direct Entry",{"$f":"IF(J629=\"Group Member\",VLOOKUP(I629,#REF!,5,0),\"\")","v":""}]
["38850-58-7","254-157-7","IAEG003134","(2-hydroxyethyl)dimethyl[3-[(3-sulphopropyl)[(tridecafluorohexyl)sulphonyl]amino]propyl]ammonium hydroxide","","R1;R2;D1","2020-01-16","2020-01-16",null,"Substance Direct Entry",{"$f":"IF(J630=\"Group Member\",VLOOKUP(I630,#REF!,5,0),\"\")","v":""}]
["67584-42-3","266-724-6","IAEG003138","Potassium decafluoro(pentafluoroethyl)cyclohexanesulphonate","","R1;R2;D1;I","2017-08-14","2017-08-14",null,"Substance Direct Entry",{"$f":"IF(J631=\"Group Member\",VLOOKUP(I631,#REF!,5,0),\"\")","v":""}]
["67906-42-7","267-709-7","IAEG003139","Ammonium henicosafluorodecanesulphonate","","R1;R2;D1;I","2017-08-14","2017-08-14",null,"Substance Direct Entry",{"$f":"IF(J632=\"Group Member\",VLOOKUP(I632,#REF!,5,0),\"\")","v":""}]
["68156-01-4","268-998-2","IAEG003141","Potassium nonafluorobis(trifluoromethyl)cyclohexanesulphonate","","R1;R2;D1;I","2017-08-14","2017-08-14",null,"Substance Direct Entry",{"$f":"IF(J633=\"Group Member\",VLOOKUP(I633,#REF!,5,0),\"\")","v":""}]
["68541-80-0","No EC available","IAEG003144","Acrylic acid-N-ethylperfluorooctanesulfonamidoethyl methacrylate-stearyl acrylate copolymer","","R1;R2;D1","2020-01-16","2020-01-16",null,"Substance Direct Entry",{"$f":"IF(J634=\"Group Member\",VLOOKUP(I634,#REF!,5,0),\"\")","v":""}]
["68958-61-2","No EC available","IAEG003154","Poly(oxy-1,2-ethanediyl), .alpha.-[2-[ethyl[(heptadecafluorooctyl)sulfonyl]amino]ethyl]-.omega.-methoxy-","","R1;R2;D1;I","2017-08-14","2017-08-14",null,"Substance Direct Entry",{"$f":"IF(J635=\"Group Member\",VLOOKUP(I635,#REF!,5,0),\"\")","v":""}]
["5248-39-5","401-360-5","IAEG003161","4-methoxy-N,6-dimethyl-1,3,5-triazin-2-ylamine","","R1;R2;D1","2017-08-14","2017-08-14",null,"Substance Direct Entry",{"$f":"IF(J636=\"Group Member\",VLOOKUP(I636,#REF!,5,0),\"\")","v":""}]
["608-93-5","210-172-0","IAEG003162","Pentachlorobenzene (PeCB) (QCB)","","R1;R2","2015-03-17","2015-03-17",null,"Substance Direct Entry",{"$f":"IF(J637=\"Group Member\",VLOOKUP(I637,#REF!,5,0),\"\")","v":""}]
["26172-55-4","247-500-7","IAEG003163","Methylchloroisothiazolinone","Chloro-isothiazolinone; 5-Chloro-2-methyl-2H-isothiazol-3-one; CIT; CMI; CMIT; MCI; MCIT","I","2017-08-14","2017-08-14",null,"Substance Direct Entry",{"$f":"IF(J638=\"Group Member\",VLOOKUP(I638,#REF!,5,0),\"\")","v":""}]
["12056-51-8","432-240-0","IAEG003166","Potassium Titanium Oxide (K2Ti6O13)","TXAX","R1;R2;D1","2019-01-24","2019-01-24",null,"Substance Direct Entry",{"$f":"IF(J639=\"Group Member\",VLOOKUP(I639,#REF!,5,0),\"\")","v":""}]
["2437-29-8","219-441-7","IAEG003168","Malachite green oxalate","","R1;R2;D1","2017-08-14","2017-08-14",null,"Substance Direct Entry",{"$f":"IF(J640=\"Group Member\",VLOOKUP(I640,#REF!,5,0),\"\")","v":""}]
["27610-48-6","429-960-2","IAEG003169","EPICLON HP-4032","EPICLON HP-4032D","R1;R2;D1","2017-08-14","2017-08-14",null,"Substance Direct Entry",{"$f":"IF(J641=\"Group Member\",VLOOKUP(I641,#REF!,5,0),\"\")","v":""}]
["70-30-4","200-733-8","IAEG003170","2,2'-methylenebis-(3,4,6-trichlorophenol)","Hexachlorophene","I","2017-08-14","2019-01-24",null,"Substance Direct Entry",{"$f":"IF(J642=\"Group Member\",VLOOKUP(I642,#REF!,5,0),\"\")","v":""}]
["110726-28-8","425-600-3","IAEG003172","TPH-PA","TRISTER","R1;R2;D1","2017-08-14","2017-08-14",null,"Substance Direct Entry",{"$f":"IF(J643=\"Group Member\",VLOOKUP(I643,#REF!,5,0),\"\")","v":""}]
["123-63-7","204-639-8","IAEG003173","2,4,6-trimethyl-1,3,5-trioxane","Paraldehyde","I","2019-01-24","2019-01-24",null,"Substance Direct Entry",{"$f":"IF(J644=\"Group Member\",VLOOKUP(I644,#REF!,5,0),\"\")","v":""}]
["591-78-6","209-731-1","IAEG003174","Hexan-2-one","Methyl butyl ketone; Butyl methyl ketone; Methyl-n-butyl ketone","R1;R2;D1","2017-08-14","2017-08-14",null,"Substance Direct Entry",{"$f":"IF(J645=\"Group Member\",VLOOKUP(I645,#REF!,5,0),\"\")","v":""}]
["130728-76-6","410-060-3","IAEG003180","N,N,N',N'-tetraglycidyl-4,4'-diamino-3,3'-diethyldiphenylmethane","","R1;R2;D1","2017-08-14","2017-08-14",null,"Substance Direct Entry",{"$f":"IF(J646=\"Group Member\",VLOOKUP(I646,#REF!,5,0),\"\")","v":""}]
["107934-68-9","407-560-9","IAEG003181","4,4'-(9H-fluoren-9-ylidene)bis(2-chloroaniline)","","R1;R2;D1","2017-08-14","2017-08-14",null,"Substance Direct Entry",{"$f":"IF(J647=\"Group Member\",VLOOKUP(I647,#REF!,5,0),\"\")","v":""}]
["5117-12-4","418-140-1","IAEG003183","4-(1-oxo-2-propenyl)-morpholine","","R1;R2;D1","2017-08-14","2017-08-14",null,"Substance Direct Entry",{"$f":"IF(J648=\"Group Member\",VLOOKUP(I648,#REF!,5,0),\"\")","v":""}]
["119462-56-5","412-570-1","IAEG003186","1,3-bis(3-methyl-2,5-dioxo-1H-pyrrolinylmethyl)benzene","","R1;R2;D1","2017-08-14","2017-08-14",null,"Substance Direct Entry",{"$f":"IF(J649=\"Group Member\",VLOOKUP(I649,#REF!,5,0),\"\")","v":""}]
["2682-20-4","220-239-6","IAEG003202","2-Methylisothiazol-3(2H)-one","2-Methyl-4-thiazoline-3-ketone; Methylisothiazolinone (MIT)","I","2017-08-14","2017-08-14",null,"Substance Direct Entry",{"$f":"IF(J650=\"Group Member\",VLOOKUP(I650,#REF!,5,0),\"\")","v":""}]
["507-63-1","208-079-5","IAEG003206","Heptadecafluoro-1-iodooctane","Perfluorooctyl iodide (PFOI)","R1;R2;D1;I","2020-01-16","2020-01-16",null,"Substance Direct Entry",{"$f":"IF(J651=\"Group Member\",VLOOKUP(I651,#REF!,5,0),\"\")","v":""}]
["865-86-1","212-748-7","IAEG003207","C10-2 fluorotelomer alcohol:","","R1;R2;D1;I","2020-01-16","2020-01-16",null,"Substance Direct Entry",{"$f":"IF(J652=\"Group Member\",VLOOKUP(I652,#REF!,5,0),\"\")","v":""}]
["335-95-5","206-404-5","IAEG003210","Sodium pentadecafluorooctanoate (Na-PFOA)","Sodium salt of PFOA","R1;R2;D1;I","2015-03-17","2015-03-17",null,"Substance Direct Entry",{"$f":"IF(J653=\"Group Member\",VLOOKUP(I653,#REF!,5,0),\"\")","v":""}]
["95-94-3","202-466-2","IAEG003212","1,2,4,5-Tetrachlorobenzene","","R1;R2","2015-03-17","2015-03-17",null,"Substance Direct Entry",{"$f":"IF(J654=\"Group Member\",VLOOKUP(I654,#REF!,5,0),\"\")","v":""}]
["375-95-1","206-801-3","IAEG003216","Heptadecafluorononanoic acid","2,2,3,3,4,4,5,5,6,6,7,7,8,8,9,9,9-Heptadecafluorononanoic acid; Perfluorononan-1-oic acid; Perfluorononanoic acid (PFNA) Note: ECHA REF LIST JAN 2022 lists 100.242.186 as the parent of this substance.","R1;R2;D1;I","2017-08-14","2017-08-14","100.006.184","Substance Direct Entry"]
["68259-07-4","269-510-0","IAEG003221","1-Heptanesulphonic acid, 1,1,2,2,3,3,4,4,5,5,6,6,7,7,7-pentadecafluoro-, ammonium salt","","R1;R2;D1;I","2017-08-14","2017-08-14",null,"Substance Direct Entry",{"$f":"IF(J656=\"Group Member\",VLOOKUP(I656,#REF!,5,0),\"\")","v":""}]
["68957-62-0","273-354-9","IAEG003231","1-Heptanesulphonamide, N-ethyl-1,1,2,2,3,3,4,4,5, 5,6,6,7,7,7-pentadecafluoro-","","R1;R2;D1;I","2017-08-14","2017-08-14",null,"Substance Direct Entry",{"$f":"IF(J657=\"Group Member\",VLOOKUP(I657,#REF!,5,0),\"\")","v":""}]
["70225-15-9","274-461-3","IAEG003232","1-Heptanesulphonic acid, 1,1,2,2,3,3,4,4,5,5,6,6,7,7,7-pentadecafluoro-, compd. with 2,2'-iminobis[ethanol] (1:1)","","R1;R2;D1;I","2017-08-14","2017-08-14",null,"Substance Direct Entry",{"$f":"IF(J658=\"Group Member\",VLOOKUP(I658,#REF!,5,0),\"\")","v":""}]
["70969-47-0","No EC available","IAEG003233","Thiols, C8-20, y-w-perfluoro, telomers with acrylamide","","R1;R2;D1;I","2019-01-24","2019-01-24",null,"Substance Direct Entry",{"$f":"IF(J659=\"Group Member\",VLOOKUP(I659,#REF!,5,0),\"\")","v":""}]
["3825-26-1","223-320-4","IAEG003234","Ammonium pentadecafluorooctanoate (APFO)","Ammonium salt of PFOA","R1;R2;D1;I","2015-03-17","2015-03-17","100.021.202","Substance Direct Entry",{"$f":"IF(J660=\"Group Member\",VLOOKUP(I660,#REF!,5,0),\"\")","v":""}]
["66204-44-2","266-235-8","IAEG003235","3,3'-methylenebis[5-methyloxazolidine]","Oxazolidin","R1;R2;D1","2017-08-14","2017-08-14",null,"Substance Direct Entry",{"$f":"IF(J661=\"Group Member\",VLOOKUP(I661,#REF!,5,0),\"\")","v":""}]
["670241-72-2","447-010-5","IAEG003236","Nonylbenzoate, branched and linear","Benzoic acid, nonyl ester, branched and linear","R1;R2;D1","2019-01-24","2019-01-24",null,"Substance Direct Entry",{"$f":"IF(J662=\"Group Member\",VLOOKUP(I662,#REF!,5,0),\"\")","v":""}]
["376-06-7","206-803-4","IAEG003237","Heptacosafluorotetradecanoic acid","","R1;R2;D1;I","2015-03-17","2017-08-14","100.006.186","Substance Direct Entry",{"$f":"IF(J663=\"Group Member\",VLOOKUP(I663,#REF!,5,0),\"\")","v":""}]
["307-55-1","206-203-2","IAEG003238","Tricosafluorododecanoic acid","","R1;R2;D1;I","2015-03-17","2017-08-14","100.005.641","Substance Direct Entry",{"$f":"IF(J664=\"Group Member\",VLOOKUP(I664,#REF!,5,0),\"\")","v":""}]
["553-26-4","209-036-3","IAEG003240","4,4'-bipyridyl","","I","2017-08-14","2019-01-24",null,"Substance Direct Entry",{"$f":"IF(J665=\"Group Member\",VLOOKUP(I665,#REF!,5,0),\"\")","v":""}]
["91672-41-2","294-048-1","IAEG003241","Phenol, 2-nonyl-, branched","","I","2017-08-14","2017-08-14",null,"Substance Direct Entry",{"$f":"IF(J666=\"Group Member\",VLOOKUP(I666,#REF!,5,0),\"\")","v":""}]
["1996-88-9","217-877-2","IAEG003242","3,3,4,4,5,5,6,6,7,7,8,8,9,9,10,10,10-heptadecafluorodecyl methacrylate","","R1;R2;D1;I","2017-08-14","2017-08-14",null,"Substance Direct Entry",{"$f":"IF(J667=\"Group Member\",VLOOKUP(I667,#REF!,5,0),\"\")","v":""}]
["26694-69-9","247-906-4","IAEG003245","9-[2-(ethoxycarbonyl)phenyl]-3,6-bis(ethylamino)-2,7-dimethylxanthylium ethyl sulphate","","R1;R2;D1","2017-08-14","2017-08-14",null,"Substance Direct Entry",{"$f":"IF(J668=\"Group Member\",VLOOKUP(I668,#REF!,5,0),\"\")","v":""}]
["28106-30-1","248-846-1","IAEG003246","Ethylstyrene","","I","2017-08-14","2017-08-14",null,"Substance Direct Entry",{"$f":"IF(J669=\"Group Member\",VLOOKUP(I669,#REF!,5,0),\"\")","v":""}]
["43048-08-4","256-062-6","IAEG003248","(octahydro-4,7-methano-1H-indenediyl)bis(methylene) bismethacrylate","","R1;R2;D1","2017-08-14","2017-08-14",null,"Substance Direct Entry",{"$f":"IF(J670=\"Group Member\",VLOOKUP(I670,#REF!,5,0),\"\")","v":""}]
["67584-52-5","266-729-3","IAEG003249","Potassium N-ethyl-N-[(undecafluoropentyl)sulphonyl]glycinate","","R1;R2;D1;I","2017-08-14","2017-08-14",null,"Substance Direct Entry",{"$f":"IF(J671=\"Group Member\",VLOOKUP(I671,#REF!,5,0),\"\")","v":""}]
["110-03-2","203-731-5","IAEG003266","2,5-dimethylhexane-2,5-diol","","I","2017-08-14","2019-01-24",null,"Substance Direct Entry",{"$f":"IF(J672=\"Group Member\",VLOOKUP(I672,#REF!,5,0),\"\")","v":""}]
["142-30-3","205-533-4","IAEG003267","2,5-dimethylhexyne-2,5-diol","","I","2020-01-16","2020-01-16",null,"Substance Direct Entry",{"$f":"IF(J673=\"Group Member\",VLOOKUP(I673,#REF!,5,0),\"\")","v":""}]
["355-46-4","206-587-1","IAEG003269","Perfluorohexane-1-sulphonic acid","Perfluorohexanesulphonic acid (PFHxS) Note: ECHA REF LIST JAN 2022 lists 100.244.691 as the parent of this substance.","R1;R2;D1;I","2017-08-14","2017-08-14","100.005.989","Substance Direct Entry"]
["512-24-3","208-139-0","IAEG003270","Cerium(3+) 2-hydroxypropane-1,2,3-tricarboxylate","","R1;R2;D1","2019-01-24","2019-01-24",null,"Substance Direct Entry",{"$f":"IF(J675=\"Group Member\",VLOOKUP(I675,#REF!,5,0),\"\")","v":""}]
["67584-53-6","266-730-9","IAEG003277","Potassium N-ethyl-N-[(tridecafluorohexyl)sulphonyl]glycinate","","R1;R2;D1;I","2017-08-14","2017-08-14",null,"Substance Direct Entry",{"$f":"IF(J676=\"Group Member\",VLOOKUP(I676,#REF!,5,0),\"\")","v":""}]
["68156-07-0","269-002-9","IAEG003284","Potassium decafluoro(trifluoromethyl)cyclohexanesulphonate","","R1;R2;D1;I","2017-08-14","2017-08-14",null,"Substance Direct Entry",{"$f":"IF(J677=\"Group Member\",VLOOKUP(I677,#REF!,5,0),\"\")","v":""}]
["70225-17-1","274-463-4","IAEG003292","Bis(2-hydroxyethyl)ammonium 1,1,2,2,3,3,4,4,5,5,5-undecafluoropentane-1-sulphonate","","R1;R2;D1;I","2017-08-14","2017-08-14",null,"Substance Direct Entry",{"$f":"IF(J678=\"Group Member\",VLOOKUP(I678,#REF!,5,0),\"\")","v":""}]
["112-36-7","203-963-7","IAEG003296","Bis(2-ethoxyethyl) ether","","R1;R2;D1","2017-08-14","2017-08-14",null,"Substance Direct Entry",{"$f":"IF(J679=\"Group Member\",VLOOKUP(I679,#REF!,5,0),\"\")","v":""}]
["112-73-2","204-001-9","IAEG003297","Bis(2-butoxyethyl) ether","","R1;R2;D1","2017-08-14","2017-08-14",null,"Substance Direct Entry",{"$f":"IF(J680=\"Group Member\",VLOOKUP(I680,#REF!,5,0),\"\")","v":""}]
["376-27-2","206-808-1","IAEG003302","Methyl perfluorooctanoate","","R1;R2;D1;I","2017-08-14","2017-08-14",null,"Substance Direct Entry",{"$f":"IF(J681=\"Group Member\",VLOOKUP(I681,#REF!,5,0),\"\")","v":""}]
["16068-37-4","240-212-2","IAEG003306","4,4,7,7-tetraethoxy-3,8-dioxa-4,7-disiladecane","","R1;R2;D1","2017-08-14","2017-08-14",null,"Substance Direct Entry",{"$f":"IF(J682=\"Group Member\",VLOOKUP(I682,#REF!,5,0),\"\")","v":""}]
["67584-58-1","266-736-1","IAEG003318","Trimethyl-3-[[(pentadecafluoroheptyl)sulphonyl]amino]propylammonium iodide","","R1;R2;D1;I","2017-08-14","2017-08-14",null,"Substance Direct Entry",{"$f":"IF(J683=\"Group Member\",VLOOKUP(I683,#REF!,5,0),\"\")","v":""}]
["68957-57-3","273-349-1","IAEG003325","Trimethyl-3-[[(undecafluoropentyl)sulphonyl]amino]propylammonium iodide","","R1;R2;D1;I","2017-08-14","2017-08-14",null,"Substance Direct Entry",{"$f":"IF(J684=\"Group Member\",VLOOKUP(I684,#REF!,5,0),\"\")","v":""}]
["70983-60-7","275-091-5","IAEG003327","1-Propanaminium, 2-hydroxy-N,N,N-trimethyl-, 3-[(gamma-omega-perfluoro-C6-20-alkyl)thio] derivs., chlorides","","R1;R2;D1;I","2017-08-14","2017-08-14",null,"Substance Direct Entry",{"$f":"IF(J685=\"Group Member\",VLOOKUP(I685,#REF!,5,0),\"\")","v":""}]
["542-92-7","208-835-4","IAEG003334","Cyclopentadiene","","I","2017-08-14","2019-01-24",null,"Substance Direct Entry",{"$f":"IF(J686=\"Group Member\",VLOOKUP(I686,#REF!,5,0),\"\")","v":""}]
["3107-18-4","221-465-8","IAEG003337","Potassium undecafluorocyclohexanesulphonate","","R1;R2;D1;I","2017-08-14","2017-08-14",null,"Substance Direct Entry",{"$f":"IF(J687=\"Group Member\",VLOOKUP(I687,#REF!,5,0),\"\")","v":""}]
["67906-70-1","267-730-1","IAEG003345","2-[ethyl[(tridecafluorohexyl)sulphonyl]amino]ethyl methacrylate","","R1;R2;D1","2017-08-14","2017-08-14",null,"Substance Direct Entry",{"$f":"IF(J688=\"Group Member\",VLOOKUP(I688,#REF!,5,0),\"\")","v":""}]
["68259-09-6","269-512-1","IAEG003346","Ammonium 1,1,2,2,3,3,4,4,5,5,5-undecafluoropentane-1-sulphonate","","R1;R2;D1;I","2017-08-14","2017-08-14",null,"Substance Direct Entry",{"$f":"IF(J689=\"Group Member\",VLOOKUP(I689,#REF!,5,0),\"\")","v":""}]
["71604-74-5","275-662-9","IAEG003355","M-(2,3-epoxypropoxy)-N,N-bis(2,3-epoxypropyl)aniline","","R1;R2;D1","2017-08-14","2017-08-14",null,"Substance Direct Entry",{"$f":"IF(J690=\"Group Member\",VLOOKUP(I690,#REF!,5,0),\"\")","v":""}]
["2602-34-8","220-011-6","IAEG003366","[3-(2,3-epoxypropoxy)propyl]triethoxysilane","","R1;R2;D1","2017-08-14","2017-08-14",null,"Substance Direct Entry",{"$f":"IF(J691=\"Group Member\",VLOOKUP(I691,#REF!,5,0),\"\")","v":""}]
["68239-72-5","269-465-7","IAEG003381","1,1,2,2,3,3,4,4,5,5,5-undecafluoro-N-(4-hydroxybutyl)-N-methylpentane-1-sulphonamide","","R1;R2;D1","2017-08-14","2017-08-14",null,"Substance Direct Entry",{"$f":"IF(J692=\"Group Member\",VLOOKUP(I692,#REF!,5,0),\"\")","v":""}]
["335-76-2","206-400-3","IAEG003391","Nonadecafluorodecanoic acid","Perfluorodecanoic acid (PFDA) Note: ECHA REF LIST JAN 2022 lists 100.244.606 as the parent of this substance.","R1;R2;D1;I","2017-08-14","2017-08-14","100.005.819","Substance Direct Entry"]
["693-38-9","211-751-0","IAEG003392","Vinyl palmitate","","R1;R2;D1","2019-01-24","2019-01-24",null,"Substance Direct Entry",{"$f":"IF(J694=\"Group Member\",VLOOKUP(I694,#REF!,5,0),\"\")","v":""}]
["3872-25-1","223-394-8","IAEG003394","Potassium perfluoropentane-1-sulphonate","","R1;R2;D1;I","2017-08-14","2017-08-14",null,"Substance Direct Entry",{"$f":"IF(J695=\"Group Member\",VLOOKUP(I695,#REF!,5,0),\"\")","v":""}]
["51851-37-7","257-473-3","IAEG003398","Triethoxy(3,3,4,4,5,5,6,6,7,7,8,8,8-tridecafluorooctyl)silane","","R1;R2;D1","2017-08-14","2017-08-14",null,"Substance Direct Entry",{"$f":"IF(J696=\"Group Member\",VLOOKUP(I696,#REF!,5,0),\"\")","v":""}]
["61790-13-4","263-108-9","IAEG003400","Naphthenic acids, sodium salts","","I","2017-08-14","2017-08-14",null,"Substance Direct Entry",{"$f":"IF(J697=\"Group Member\",VLOOKUP(I697,#REF!,5,0),\"\")","v":""}]
["60270-55-5","262-135-3","IAEG003419","Potassium 1,1,2,2,3,3,4,4,5,5,6,6,7,7,7-pentadecafluoroheptane-1-sulphonate","","R1;R2;D1;I","2017-08-14","2017-08-14",null,"Substance Direct Entry",{"$f":"IF(J698=\"Group Member\",VLOOKUP(I698,#REF!,5,0),\"\")","v":""}]
["67584-62-7","266-740-3","IAEG003422","Potassium N-ethyl-N-[(pentadecafluoroheptyl)sulphonyl]glycinate","","R1;R2;D1;I","2017-08-14","2017-08-14",null,"Substance Direct Entry",{"$f":"IF(J699=\"Group Member\",VLOOKUP(I699,#REF!,5,0),\"\")","v":""}]
["27905-45-9","248-722-7","IAEG003440","3,3,4,4,5,5,6,6,7,7,8,8,9,9,10,10,10-Heptadecafluorodecyl acrylate (8:2 FTAC)","","R1;R2;D1;I","2017-08-14","2017-08-14",null,"Substance Direct Entry",{"$f":"IF(J700=\"Group Member\",VLOOKUP(I700,#REF!,5,0),\"\")","v":""}]
["59071-10-2","261-590-5","IAEG003443","2-[ethyl[(pentadecafluoroheptyl)sulphonyl]amino]ethyl acrylate","","R1;R2;D1;I","2017-08-14","2017-08-14",null,"Substance Direct Entry",{"$f":"IF(J701=\"Group Member\",VLOOKUP(I701,#REF!,5,0),\"\")","v":""}]
["64194-22-5","264-727-7","IAEG003444","3-methyl-1,5-pentanediyl diacrylate","","R1;R2;D1","2017-08-14","2017-08-14",null,"Substance Direct Entry",{"$f":"IF(J702=\"Group Member\",VLOOKUP(I702,#REF!,5,0),\"\")","v":""}]
["68758-57-6","272-148-6","IAEG003456","3,3,4,4,5,5,6,6,7,7,8,8,9,9,10,10,11,11,12,12,13,13,14,14,14-pentacosafluorotetradecane-1-sulphonyl chloride","","R1;R2;D1;I","2020-01-16","2020-01-16",null,"Substance Direct Entry",{"$f":"IF(J703=\"Group Member\",VLOOKUP(I703,#REF!,5,0),\"\")","v":""}]
["68957-58-4","273-350-7","IAEG003457","Trimethyl-3-[[(tridecafluorohexyl)sulphonyl]amino]propylammonium iodide","","R1;R2;D1;I","2017-08-14","2017-08-14",null,"Substance Direct Entry",{"$f":"IF(J704=\"Group Member\",VLOOKUP(I704,#REF!,5,0),\"\")","v":""}]
["93820-33-8","298-613-3","IAEG003459","N-(2-ethylhexyl)isononan-1-amide","","R1;R2;D1","2019-01-24","2019-01-24",null,"Substance Direct Entry",{"$f":"IF(J705=\"Group Member\",VLOOKUP(I705,#REF!,5,0),\"\")","v":""}]
["375-03-1","No EC available","IAEG003463","Propane, 1,1,1,2,2,3,3-heptafluoro-3-methoxy-","","R1;R2;D1","2017-08-14","2017-08-14",null,"Substance Direct Entry",{"$f":"IF(J706=\"Group Member\",VLOOKUP(I706,#REF!,5,0),\"\")","v":""}]
["1577-03-3","No EC available","IAEG003464","1-Penten-3-one, 1-(4-chlorophenyl)-4,4-dimethyl-","","R1;R2;D1","2020-01-16","2020-01-16",null,"Substance Direct Entry",{"$f":"IF(J707=\"Group Member\",VLOOKUP(I707,#REF!,5,0),\"\")","v":""}]
["2479-46-1","No EC available","IAEG003471","Benzenamine, 4,4'-[1,3-phenylenebis(oxy)]bis-","","R1;R2;D1","2017-08-14","2017-08-14",null,"Substance Direct Entry",{"$f":"IF(J708=\"Group Member\",VLOOKUP(I708,#REF!,5,0),\"\")","v":""}]
["12032-75-6","No EC available","IAEG003481","Manganese yttrium oxide (MnYO3)","","R1;R2;D1","2017-08-14","2017-08-14",null,"Substance Direct Entry",{"$f":"IF(J709=\"Group Member\",VLOOKUP(I709,#REF!,5,0),\"\")","v":""}]
["12163-45-0","No EC available","IAEG003482","Manganese strontium oxide (MnSrO3)","","R1;R2;D1","2017-08-14","2017-08-14",null,"Substance Direct Entry",{"$f":"IF(J710=\"Group Member\",VLOOKUP(I710,#REF!,5,0),\"\")","v":""}]
["26738-51-2","No EC available","IAEG003484","3,6,9,12-Tetraoxapentadecane, 1,1,1,2,4,4,5,7,7,8,10,10,11,13,13,14,14,15,15,15-eicosafluoro-5,8,11-tris(trifluoromethyl)-","","R1;R2;D1;I","2017-08-14","2017-08-14",null,"Substance Direct Entry",{"$f":"IF(J711=\"Group Member\",VLOOKUP(I711,#REF!,5,0),\"\")","v":""}]
["19019-43-3","No EC available","IAEG003485","Glycine, N-(carboxymethyl)-N-[2-[(carboxymethyl)amino]ethyl]-, sodium salt (1:3)","","R1;R2;D1","2017-08-14","2017-08-14",null,"Substance Direct Entry",{"$f":"IF(J712=\"Group Member\",VLOOKUP(I712,#REF!,5,0),\"\")","v":""}]
["19721-22-3","No EC available","IAEG003488","1-Propanol, 3-mercapto-","","R1;R2;D1","2017-08-14","2017-08-14",null,"Substance Direct Entry",{"$f":"IF(J713=\"Group Member\",VLOOKUP(I713,#REF!,5,0),\"\")","v":""}]
["25249-16-5","No EC available","IAEG003490","2-Propenoic acid, 2-methyl-, 2-hydroxyethyl ester, homopolymer","","R1;R2;D1","2017-08-14","2017-08-14",null,"Substance Direct Entry",{"$f":"IF(J714=\"Group Member\",VLOOKUP(I714,#REF!,5,0),\"\")","v":""}]
["37338-48-0","No EC available","IAEG003504","Poly[oxy(methyl-1,2-ethanediyl)], .alpha.-[2-[ethyl[(1,1,2,2,3,3,4,4,5,5,6,6,7,7,8,8,8-heptadecafluorooctyl)sulfonyl]amino]ethyl]-.omega.-hydroxy-","","R1;R2;D1;I","2017-08-14","2017-08-14",null,"Substance Direct Entry",{"$f":"IF(J715=\"Group Member\",VLOOKUP(I715,#REF!,5,0),\"\")","v":""}]
["56372-23-7","No EC available","IAEG003514","Poly(oxy-1,2-ethanediyl), .alpha.-[2-[ethyl[(1,1,2,2,3,3,4,4,5,5,6,6,6-tridecafluorohexyl)sulfonyl]amino]ethyl]-.omega.-hydroxy-","","R1;R2;D1;I","2017-08-14","2017-08-14",null,"Substance Direct Entry",{"$f":"IF(J716=\"Group Member\",VLOOKUP(I716,#REF!,5,0),\"\")","v":""}]
["68526-97-6","No EC available","IAEG003519","Alcohols, C3-12, .beta.-.omega.-perfluoro-.omega.-hydro, sodium salts","","R1;R2;D1","2020-01-16","2020-01-16",null,"Substance Direct Entry",{"$f":"IF(J717=\"Group Member\",VLOOKUP(I717,#REF!,5,0),\"\")","v":""}]
["65104-45-2","No EC available","IAEG003520","2-Propenoic acid, 2-methyl-, 3,3,4,4,5,5,6,6,7,7,8,8,9,9,10,10,11,11,12,12,12-heneicosafluorododecyl ester, polymer with 3,3,4,4,5,5,6,6,7,7,8,8,9,9,10,10,10-heptadecafluorodecyl 2-methyl-2-propenoate, methyl 2-methyl-2-propenoate, 3,3,4,4,5,5,6,6,7,7,8,8,9,9,10,10,11,11,12,12,13,13,14,14,14-pentacosafluorotetradecyl 2-methyl-2-propenoate and 3,3,4,4,5,5,6,6,7,7,8,8,8-tridecafluorooctyl 2-methyl-2-propenoate","","R1;R2;D1","2020-01-16","2020-01-16",null,"Substance Direct Entry",{"$f":"IF(J718=\"Group Member\",VLOOKUP(I718,#REF!,5,0),\"\")","v":""}]
["65530-58-7","No EC available","IAEG003524","Poly(difluoromethylene), .alpha.-fluoro-.omega.-(2-hydroxyethyl)-, ester with 2,15-bis(carboxymethyl)-4,13-dioxo-3,14-dioxa-5,12-diazahexadecane-1,2,15,16-tetracarboxylic acid (6:1)","","R1;R2;D1","2019-01-24","2019-01-24",null,"Substance Direct Entry",{"$f":"IF(J719=\"Group Member\",VLOOKUP(I719,#REF!,5,0),\"\")","v":""}]
["65530-65-6","No EC available","IAEG003530","Poly(difluoromethylene), .alpha.-fluoro-.omega.-[2-[(1-oxooctadecyl)oxy]ethyl]-","","R1;R2;D1;I","2017-08-14","2017-08-14",null,"Substance Direct Entry",{"$f":"IF(J720=\"Group Member\",VLOOKUP(I720,#REF!,5,0),\"\")","v":""}]
["65530-69-0","No EC available","IAEG003534","Poly(difluoromethylene), .alpha.-[2-[(2-carboxyethyl)thio]ethyl]-.omega.-fluoro-, lithium salt (1:1)","","R1;R2;D1;I","2017-08-14","2017-08-14",null,"Substance Direct Entry",{"$f":"IF(J721=\"Group Member\",VLOOKUP(I721,#REF!,5,0),\"\")","v":""}]
["65530-70-3","No EC available","IAEG003535","Poly(difluoromethylene), .alpha.,.alpha.'-[phosphinicobis(oxy-2,1-ethanediyl)]bis[.omega.-fluoro-, ammonium salt (1:1)","","R1;R2;D1;I","2017-08-14","2017-08-14",null,"Substance Direct Entry",{"$f":"IF(J722=\"Group Member\",VLOOKUP(I722,#REF!,5,0),\"\")","v":""}]
["65530-71-4","No EC available","IAEG003536","Poly(difluoromethylene), .alpha.-fluoro-.omega.-[2-(phosphonooxy)ethyl]-, ammonium salt (1:1)","","R1;R2;D1;I","2017-08-14","2017-08-14",null,"Substance Direct Entry",{"$f":"IF(J723=\"Group Member\",VLOOKUP(I723,#REF!,5,0),\"\")","v":""}]
["65530-72-5","No EC available","IAEG003537","Poly(difluoromethylene), .alpha.-fluoro-.omega.-[2-(phosphonooxy)ethyl]-, ammonium salt (1:2)","","R1;R2;D1;I","2017-08-14","2017-08-14",null,"Substance Direct Entry",{"$f":"IF(J724=\"Group Member\",VLOOKUP(I724,#REF!,5,0),\"\")","v":""}]
["65530-85-0","No EC available","IAEG003548","Poly(difluoromethylene), .alpha.-(cyclohexylmethyl)-.omega.-hydro-","","R1;R2;D1","2017-08-14","2017-08-14",null,"Substance Direct Entry",{"$f":"IF(J725=\"Group Member\",VLOOKUP(I725,#REF!,5,0),\"\")","v":""}]
["65545-80-4","No EC available","IAEG003549","Poly(oxy-1,2-ethanediyl), .alpha.-hydro-.omega.-hydroxy-, ether with .alpha.-fluoro-.omega.-(2-hydroxyethyl)poly(difluoromethylene) (1:1)","","R1;R2;D1;I","2017-08-14","2017-08-14",null,"Substance Direct Entry",{"$f":"IF(J726=\"Group Member\",VLOOKUP(I726,#REF!,5,0),\"\")","v":""}]
["66034-17-1","No EC available","IAEG003552","Diphosphoric acid, compd. with piperazine (1:1)","","R1;R2;D1","2017-08-14","2017-08-14",null,"Substance Direct Entry",{"$f":"IF(J727=\"Group Member\",VLOOKUP(I727,#REF!,5,0),\"\")","v":""}]
["68259-38-1","No EC available","IAEG003563","Poly[oxy(methyl-1,2-ethanediyl)], .alpha.-[2-[ethyl[(1,1,2,2,3,3,4,4,5,5,6,6,6-tridecafluorohexyl)sulfonyl]amino]ethyl]-.omega.-hydroxy-","","R1;R2;D1;I","2017-08-14","2017-08-14",null,"Substance Direct Entry",{"$f":"IF(J728=\"Group Member\",VLOOKUP(I728,#REF!,5,0),\"\")","v":""}]
["68259-39-2","No EC available","IAEG003564","Poly[oxy(methyl-1,2-ethanediyl)], .alpha.-[2-[ethyl[(1,1,2,2,3,3,4,4,5,5,6,6,7,7,7-pentadecafluoroheptyl)sulfonyl]amino]ethyl]-.omega.-hydroxy-","","R1;R2;D1;I","2017-08-14","2017-08-14",null,"Substance Direct Entry",{"$f":"IF(J729=\"Group Member\",VLOOKUP(I729,#REF!,5,0),\"\")","v":""}]
["68298-80-6","No EC available","IAEG003568","Poly(oxy-1,2-ethanediyl), .alpha.-[2-[ethyl[(1,1,2,2,3,3,4,4,5,5,5-undecafluoropentyl)sulfonyl]amino]ethyl]-.omega.-hydroxy-","","R1;R2;D1;I","2017-08-14","2017-08-14",null,"Substance Direct Entry",{"$f":"IF(J730=\"Group Member\",VLOOKUP(I730,#REF!,5,0),\"\")","v":""}]
["68298-81-7","No EC available","IAEG003569","Poly(oxy-1,2-ethanediyl), .alpha.-[2-[ethyl[(1,1,2,2,3,3,4,4,5,5,6,6,7,7,7-pentadecafluoroheptyl)sulfonyl]amino]ethyl]-.omega.-hydroxy-","","R1;R2;D1;I","2017-08-14","2017-08-14",null,"Substance Direct Entry",{"$f":"IF(J731=\"Group Member\",VLOOKUP(I731,#REF!,5,0),\"\")","v":""}]
["68310-17-8","No EC available","IAEG003571","Poly[oxy(methyl-1,2-ethanediyl)], .alpha.-[2-[ethyl[(1,1,2,2,3,3,4,4,5,5,5-undecafluoropentyl)sulfonyl]amino]ethyl]-.omega.-hydroxy-","","R1;R2;D1;I","2017-08-14","2017-08-14",null,"Substance Direct Entry",{"$f":"IF(J732=\"Group Member\",VLOOKUP(I732,#REF!,5,0),\"\")","v":""}]
["68958-60-1","No EC available","IAEG003595","Poly(oxy-1,2-ethanediyl), .alpha.-[2-[ethyl[(1,1,2,2,3,3,4,4,5,5,6,6,7,7,7-pentadecafluoroheptyl)sulfonyl]amino]ethyl]-.omega.-methoxy-","","R1;R2;D1;I","2017-08-14","2017-08-14",null,"Substance Direct Entry",{"$f":"IF(J733=\"Group Member\",VLOOKUP(I733,#REF!,5,0),\"\")","v":""}]
["94148-67-1","No EC available","IAEG003613","Benzenamine, 4,4'-[[1,1'-biphenyl]-2,5-diylbis(oxy)]bis-","","R1;R2;D1","2017-08-14","2017-08-14",null,"Substance Direct Entry",{"$f":"IF(J734=\"Group Member\",VLOOKUP(I734,#REF!,5,0),\"\")","v":""}]
["78560-44-8","No EC available","IAEG003633","Silane, trichloro(3,3,4,4,5,5,6,6,7,7,8,8,9,9,10,10,10-heptadecafluorodecyl)-","","R1;R2;D1;I","2017-08-14","2017-08-14",null,"Substance Direct Entry",{"$f":"IF(J735=\"Group Member\",VLOOKUP(I735,#REF!,5,0),\"\")","v":""}]
["79070-11-4","No EC available","IAEG003634","Poly(difluoromethylene), .alpha.-chloro-.omega.-(2,2-dichloro-1,1,2-trifluoroethyl)-","","R1;R2;D1;I","2017-08-14","2017-08-14",null,"Substance Direct Entry",{"$f":"IF(J736=\"Group Member\",VLOOKUP(I736,#REF!,5,0),\"\")","v":""}]
["83048-65-1","No EC available","IAEG003638","Silane, (3,3,4,4,5,5,6,6,7,7,8,8,9,9,10,10,10-heptadecafluorodecyl)trimethoxy-","","R1;R2;I","2017-08-14","2017-08-14",null,"Substance Direct Entry",{"$f":"IF(J737=\"Group Member\",VLOOKUP(I737,#REF!,5,0),\"\")","v":""}]
["87093-13-8","No EC available","IAEG003643","Oxirane, 2,2',2''-[ethylidynetris(4,1-phenyleneoxymethylene)]tris-","","R1;R2;D1","2017-08-14","2017-08-14",null,"Substance Direct Entry",{"$f":"IF(J738=\"Group Member\",VLOOKUP(I738,#REF!,5,0),\"\")","v":""}]
["93705-66-9","439-910-1","IAEG003646","Oxirane, 2,2'-[methylenebis[(2,6-dimethyl-4,1-phenylene)oxymethylene]]bis-","","R1;R2;D1","2017-08-14","2017-08-14",null,"Substance Direct Entry",{"$f":"IF(J739=\"Group Member\",VLOOKUP(I739,#REF!,5,0),\"\")","v":""}]
["126213-50-1","No EC available","IAEG003666","Thieno[3,4-b]-1,4-dioxin, 2,3-dihydro-","","R1;R2;D1","2017-08-14","2017-08-14",null,"Substance Direct Entry",{"$f":"IF(J740=\"Group Member\",VLOOKUP(I740,#REF!,5,0),\"\")","v":""}]
["157707-95-4","No EC available","IAEG003693","L-Alanine, N-[5-(acetylamino)-2-chloro-4-[2-(2-cyano-4-nitrophenyl)diazenyl]phenyl]-, methyl ester","","R1;R2;D1","2020-01-16","2020-01-16",null,"Substance Direct Entry",{"$f":"IF(J741=\"Group Member\",VLOOKUP(I741,#REF!,5,0),\"\")","v":""}]
["160848-22-6","No EC available","IAEG003694","3'H-Cyclopropa[1,9][5,6]fullerene-C60-Ih-3'-butanoic acid, 3'-phenyl-, methyl ester","","R1;R2;D1","2017-08-14","2017-08-14",null,"Substance Direct Entry",{"$f":"IF(J742=\"Group Member\",VLOOKUP(I742,#REF!,5,0),\"\")","v":""}]
["163702-05-4","No EC available","IAEG003695","Butane, 1-ethoxy-1,1,2,2,3,3,4,4,4-nonafluoro-","","D1","2017-08-14","2017-08-14",null,"Substance Direct Entry",{"$f":"IF(J743=\"Group Member\",VLOOKUP(I743,#REF!,5,0),\"\")","v":""}]
["164383-18-0","No EC available","IAEG003698","Cyclohexanamine, N,N-dimethyl-, compd. with .alpha.-isotridecyl-.omega.-hydroxypoly(oxy-1,2-ethanediyl) phosphate","","R1;R2;D1","2017-08-14","2017-08-14",null,"Substance Direct Entry",{"$f":"IF(J744=\"Group Member\",VLOOKUP(I744,#REF!,5,0),\"\")","v":""}]
["186321-98-2","No EC available","IAEG003716","Benzene, 1,1'-methylenebis[4-isocyanato-, homopolymer, Bu alc.-blocked","","R1;R2;D1","2020-01-16","2020-01-16",null,"Substance Direct Entry",{"$f":"IF(J745=\"Group Member\",VLOOKUP(I745,#REF!,5,0),\"\")","v":""}]
["364059-77-8","No EC available","IAEG003741","2-Propenoic acid, 3-(C8-10-alkyloxy)-2-hydroxypropyl esters","","R1;R2;D1","2017-08-14","2017-08-14",null,"Substance Direct Entry",{"$f":"IF(J746=\"Group Member\",VLOOKUP(I746,#REF!,5,0),\"\")","v":""}]
["609771-63-3","No EC available","IAEG003746","3'H-Cyclopropa[8,25][5,6]fullerene-C70-D5h(6)-3'-butanoic acid, 3'-phenyl-, methyl ester","","R1;R2;D1","2017-08-14","2017-08-14",null,"Substance Direct Entry",{"$f":"IF(J747=\"Group Member\",VLOOKUP(I747,#REF!,5,0),\"\")","v":""}]
["642928-30-1","No EC available","IAEG003754","Distillates (Fischer-Tropsch), hydroisomerized middle, C10-13-branched alkane fraction","","R1;R2;D1","2020-01-16","2020-01-16",null,"Substance Direct Entry",{"$f":"IF(J748=\"Group Member\",VLOOKUP(I748,#REF!,5,0),\"\")","v":""}]
["649574-37-8","No EC available","IAEG003755","Silica, [(ethenylsilylidyne)tris(oxy)]-modified","","R1;R2;D1","2017-08-14","2017-08-14",null,"Substance Direct Entry",{"$f":"IF(J749=\"Group Member\",VLOOKUP(I749,#REF!,5,0),\"\")","v":""}]
["1051371-21-1","No EC available","IAEG003765","3'H-Cyclopropa[7,22][5,6]fullerene-C70-D5h(6)-3'-butanoic acid, 3'-phenyl-, methyl ester","","R1;R2;D1","2017-08-14","2017-08-14",null,"Substance Direct Entry",{"$f":"IF(J750=\"Group Member\",VLOOKUP(I750,#REF!,5,0),\"\")","v":""}]
["1078715-83-9","No EC available","IAEG003772","Phenol, 2-[[[3-(dimethylamino)propyl]amino]methyl]-6-methyl-, 4-polybutene derivs.","","R1;R2;D1","2020-01-16","2020-01-16",null,"Substance Direct Entry",{"$f":"IF(J751=\"Group Member\",VLOOKUP(I751,#REF!,5,0),\"\")","v":""}]
["1078715-90-8","No EC available","IAEG003773","2-Propenoic acid, 2-methyl-, cyclohexyl ester, polymer with ethenylbenzene and 2-oxiranylmethyl 2-methyl-2-propenoate, tert-Bu 2-ethylhexaneperoxoate-initiated","","R1;R2;D1","2020-01-16","2020-01-16",null,"Substance Direct Entry",{"$f":"IF(J752=\"Group Member\",VLOOKUP(I752,#REF!,5,0),\"\")","v":""}]
["1078726-27-8","No EC available","IAEG003774","Cuprate(3-), [3-[2-[5-(hydroxy-.kappa.O)-4-[2-[1-(hydroxy-.kappa.O)-6-(phenylamino)-3-sulfo-2-naphthalenyl]diazenyl-.kappa.N1]-2-methylphenyl]diazenyl]-1,5-naphthalenedisulfonato(5-)]-, hydrogen, compd. with 2,2'-iminobis[ethanol] (1:3:3)","","R1;R2;D1","2020-01-16","2020-01-16",null,"Substance Direct Entry",{"$f":"IF(J753=\"Group Member\",VLOOKUP(I753,#REF!,5,0),\"\")","v":""}]
["1078726-28-9","No EC available","IAEG003775","Cuprate(3-), [3-[2-[5-(hydroxy-.kappa.O)-4-[2-[1-(hydroxy-.kappa.O)-6-(phenylamino)-3-sulfo-2-naphthalenyl]diazenyl-.kappa.N1]-2-methylphenyl]diazenyl]-1,5-naphthalenedisulfonato(5-)]-, ammonium (1:3)","","R1;R2;D1","2020-01-16","2020-01-16",null,"Substance Direct Entry",{"$f":"IF(J754=\"Group Member\",VLOOKUP(I754,#REF!,5,0),\"\")","v":""}]
["484024-67-1","No EC available","IAEG003778","1-Butanesullfonamide, 1,1,2,2,3,3,4,4,4-nonafluoro-N- (2hydroxyethyl) -, monoammium salt","","R1;R2;D1","2019-01-24","2019-01-24",null,"Substance Direct Entry",{"$f":"IF(J755=\"Group Member\",VLOOKUP(I755,#REF!,5,0),\"\")","v":""}]
["406-78-0","No EC available","IAEG003780","Ethane, 1,1,2,2-tetrafluoro-1-(2,2,2-trifluoroethoxy)-","","R1;R2;D1","2015-03-17","2017-08-14",null,"Substance Direct Entry",{"$f":"IF(J756=\"Group Member\",VLOOKUP(I756,#REF!,5,0),\"\")","v":""}]
["16923-87-8","No EC available","IAEG003782","Silicate(2-), hexafluoro-, cesium (1:2)","","R1;R2;D1","2020-01-16","2020-01-16",null,"Substance Direct Entry",{"$f":"IF(J757=\"Group Member\",VLOOKUP(I757,#REF!,5,0),\"\")","v":""}]
["35397-13-8","No EC available","IAEG003784","Propane, 1,1,1,2,2,3,3-heptafluoro-3-[(1,2,2-trifluoroethenyl)oxy]-, polymer with 1-chloro-1,2,2-trifluoroethene and ethene","","R1;R2;D1","2020-01-16","2020-01-16",null,"Substance Direct Entry",{"$f":"IF(J758=\"Group Member\",VLOOKUP(I758,#REF!,5,0),\"\")","v":""}]
["57570-64-6","No EC available","IAEG003785","1-Propene, 1,1,2,3,3,3-hexafluoro-, polymer with 1,1-difluoroethene, 1,1,2,2-tetrafluoroethene and 1,1,2-trifluoro-2-(trifluoromethoxy)ethene","","R1;R2;D1","2020-01-16","2020-01-16",null,"Substance Direct Entry",{"$f":"IF(J759=\"Group Member\",VLOOKUP(I759,#REF!,5,0),\"\")","v":""}]
["1254743-03-7","No EC available","IAEG003791","Imidodicarbonic diamide, N,N-dibutyl-N',2-bis[4-[(4-isocyanatophenyl)methyl]phenyl]-","","R1;R2;D1","2020-01-16","2020-01-16",null,"Substance Direct Entry",{"$f":"IF(J760=\"Group Member\",VLOOKUP(I760,#REF!,5,0),\"\")","v":""}]
["86960-46-5","617-941-3","IAEG003793","Benzoic acid, 4-[ (1-oxodecyl) oxy]-","","R1;R2;D1","2020-01-16","2020-01-16",null,"Substance Direct Entry",{"$f":"IF(J761=\"Group Member\",VLOOKUP(I761,#REF!,5,0),\"\")","v":""}]
["163802-53-7","642-902-2","IAEG003794","3-(trimethoxysilyl)propyl (2E,4E)-hexa-2,4-dienoate","","R1;R2;D1","2020-01-16","2020-01-16",null,"Substance Direct Entry",{"$f":"IF(J762=\"Group Member\",VLOOKUP(I762,#REF!,5,0),\"\")","v":""}]
["1279108-20-1","No EC available","IAEG003796","Hexane, 1,6-diisocyanato-, homopolymer, .alpha.-[1-[[[3-[[3-(dimethylamino)propyl]amino]propyl]amino]carbonyl]-1,2,2,2-tetrafluoroethyl]-.omega.-(1,1,2,2,3,3,3-heptafluoropropoxy)poly[oxy[trifluoro(trifluoromethyl)-1,2-ethanediyl]]-blocked","","R1;R2;D1","2020-01-16","2020-01-16",null,"Substance Direct Entry",{"$f":"IF(J763=\"Group Member\",VLOOKUP(I763,#REF!,5,0),\"\")","v":""}]
["1568954-90-4","No EC available","IAEG003797","Polyphosphoric acids, esters with triethanolamine, compds. with alkylpyridines","","R1;R2;D1","2020-01-16","2020-01-16",null,"Substance Direct Entry",{"$f":"IF(J764=\"Group Member\",VLOOKUP(I764,#REF!,5,0),\"\")","v":""}]
["3090-13-9","No EC available","IAEG003798","2,4-Hexadienoic acid, 3-(trimethoxysilyl)propyl ester","","R1;R2;D1","2020-01-16","2020-01-16",null,"Substance Direct Entry",{"$f":"IF(J765=\"Group Member\",VLOOKUP(I765,#REF!,5,0),\"\")","v":""}]
["1417164-49-8","No EC available","IAEG003800","Bismuth nitrate oxide (Bi3(NO3)O4)","","R1;R2;D1","2020-01-16","2020-01-16",null,"Substance Direct Entry",{"$f":"IF(J766=\"Group Member\",VLOOKUP(I766,#REF!,5,0),\"\")","v":""}]
["1332-21-4","603-721-4","IAEG003801","Asbestos Fibres","Asbestos (amphibole forms)","R1;R2;D1","2017-08-14","2017-08-14",null,"Substance Direct Entry",{"$f":"IF(J767=\"Group Member\",VLOOKUP(I767,#REF!,5,0),\"\")","v":""}]
["85204-21-3","286-316-1","IAEG003802","4-[(2-ethylhexyl)amino]-4-oxoisocrotonic acid, compound with 2,2',2''-nitrilotris[ethanol] (1:1)","","I","2015-03-17","2015-03-17",null,"Substance Direct Entry",{"$f":"IF(J768=\"Group Member\",VLOOKUP(I768,#REF!,5,0),\"\")","v":""}]
["56-23-5","200-262-8","IAEG003803","Carbon tetrachloride","Tetrachloromethane","R1;R2;D1;I","2015-03-17","2015-03-17",null,"Substance Direct Entry",{"$f":"IF(J769=\"Group Member\",VLOOKUP(I769,#REF!,5,0),\"\")","v":""}]
["71-55-6","200-756-3","IAEG003804","1,1,1-Trichloroethane","Methyl chloroform","R1;R2;D1","2015-03-17","2015-03-17",null,"Substance Direct Entry",{"$f":"IF(J770=\"Group Member\",VLOOKUP(I770,#REF!,5,0),\"\")","v":""}]
["74-83-9","200-813-2","IAEG003805","Bromomethane","Methyl bromide","R1;R2;D1","2015-03-17","2015-03-17",null,"Substance Direct Entry",{"$f":"IF(J771=\"Group Member\",VLOOKUP(I771,#REF!,5,0),\"\")","v":""}]
["124-73-2","204-711-9","IAEG003806","1,2-Dibromotetrafluoroethane","Dibromotetrafluoroethane (Halon 2402)","R1;R2;D1","2015-03-17","2015-03-17",null,"Substance Direct Entry",{"$f":"IF(J772=\"Group Member\",VLOOKUP(I772,#REF!,5,0),\"\")","v":""}]
["353-59-3","206-537-9","IAEG003807","Bromochlorodifluoromethane (Halon 1211)","","R1;R2;D1","2015-03-17","2015-03-17",null,"Substance Direct Entry",{"$f":"IF(J773=\"Group Member\",VLOOKUP(I773,#REF!,5,0),\"\")","v":""}]
["74-97-5","200-826-3","IAEG003808","Bromochloromethane (Halon 1011)","","R1;R2;D1","2015-03-17","2015-03-17",null,"Substance Direct Entry",{"$f":"IF(J774=\"Group Member\",VLOOKUP(I774,#REF!,5,0),\"\")","v":""}]
["75-63-8","200-887-6","IAEG003809","Bromotrifluoromethane (Halon 1301)","","R1;R2;D1","2015-03-17","2015-03-17",null,"Substance Direct Entry",{"$f":"IF(J775=\"Group Member\",VLOOKUP(I775,#REF!,5,0),\"\")","v":""}]
["115-96-8","204-118-5","IAEG003810","Tris(2-chloroethyl) phosphate (TCEP)","","R2;D1;I","2015-03-17","2017-08-14","100.003.744","Substance Direct Entry",{"$f":"IF(J776=\"Group Member\",VLOOKUP(I776,#REF!,5,0),\"\")","v":""}]
["106-89-8","203-439-8","IAEG003811","1-Chloro-2,3-epoxypropane","Epichlorohydrin","R2;I","2015-03-17","2017-08-14",null,"Substance Direct Entry",{"$f":"IF(J777=\"Group Member\",VLOOKUP(I777,#REF!,5,0),\"\")","v":""}]
["79-46-9","201-209-1","IAEG003812","2-Nitropropane","","R2","2015-03-17","2017-08-14",null,"Substance Direct Entry",{"$f":"IF(J778=\"Group Member\",VLOOKUP(I778,#REF!,5,0),\"\")","v":""}]
["75-56-9","200-879-2","IAEG003813","Propylene oxide","1,2-Epoxypropane; Methyloxirane","R2;D1","2017-08-14","2017-08-14","100.000.800","Substance Direct Entry",{"$f":"IF(J779=\"Group Member\",VLOOKUP(I779,#REF!,5,0),\"\")","v":""}]
["100-44-7","202-853-6","IAEG003814","Alpha-chlorotoluene","Benzyl chloride","R1;R2;I","2015-03-17","2020-01-16",null,"Substance Direct Entry",{"$f":"IF(J780=\"Group Member\",VLOOKUP(I780,#REF!,5,0),\"\")","v":""}]
["88-72-2","201-853-3","IAEG003815","2-Nitrotoluene","O-Nitrotoluene","R2","2015-03-17","2015-03-17",null,"Substance Direct Entry",{"$f":"IF(J781=\"Group Member\",VLOOKUP(I781,#REF!,5,0),\"\")","v":""}]
["64-67-5","200-589-6","IAEG003816","Diethyl sulphate","","D1","2015-03-17","2015-03-17","100.000.536","Substance Direct Entry",{"$f":"IF(J782=\"Group Member\",VLOOKUP(I782,#REF!,5,0),\"\")","v":""}]
["77-78-1","201-058-1","IAEG003817","Dimethyl sulphate (DMS)","","D1","2015-03-17","2015-03-17","100.000.963","Substance Direct Entry",{"$f":"IF(J783=\"Group Member\",VLOOKUP(I783,#REF!,5,0),\"\")","v":""}]
["133-49-3","205-107-8","IAEG003818","Pentachlorobenzenethiol","Pentachlorothiophenol","R1;R2;D1","2015-03-17","2017-08-14",null,"Substance Direct Entry",{"$f":"IF(J784=\"Group Member\",VLOOKUP(I784,#REF!,5,0),\"\")","v":""}]
["7758-01-2","231-829-8","IAEG003819","Potassium bromate","Bromic acid, potassium salt","R2","2015-03-17","2017-08-14",null,"Substance Direct Entry",{"$f":"IF(J785=\"Group Member\",VLOOKUP(I785,#REF!,5,0),\"\")","v":""}]
["90-94-8","202-027-5","IAEG003820","Michler's Ketone","4,4'-Bis(dimethylamino)benzophenone","R2;D1","2015-03-17","2017-08-14","100.001.843","Substance Direct Entry",{"$f":"IF(J786=\"Group Member\",VLOOKUP(I786,#REF!,5,0),\"\")","v":""}]
["117-82-8","204-212-6","IAEG003821","Bis(2-methoxyethyl) phthalate","Di(methoxyethyl) phthalate (DMEP)","R1;R2;D1","2017-08-14","2017-08-14","100.003.830","Substance Direct Entry",{"$f":"IF(J787=\"Group Member\",VLOOKUP(I787,#REF!,5,0),\"\")","v":""}]
["106-88-7","203-438-2","IAEG003822","1,2-Epoxybutane","Ethyloxirane; 1-Butene oxide","R2","2015-03-17","2017-08-14",null,"Substance Direct Entry",{"$f":"IF(J788=\"Group Member\",VLOOKUP(I788,#REF!,5,0),\"\")","v":""}]
["111-77-3","203-906-6","IAEG003823","2-(2-methoxyethoxy)ethanol","Diethylene glycol monomethyl ether (DEGME)","R2","2017-08-14","2017-08-14",null,"Substance Direct Entry",{"$f":"IF(J789=\"Group Member\",VLOOKUP(I789,#REF!,5,0),\"\")","v":""}]
["107-05-1","203-457-6","IAEG003824","3-Chloropropene","Allyl chloride","R2","2015-03-17","2017-08-14",null,"Substance Direct Entry",{"$f":"IF(J790=\"Group Member\",VLOOKUP(I790,#REF!,5,0),\"\")","v":""}]
["1314-62-1","215-239-8","IAEG003825","Divanadium pentaoxide","Vanadium pentoxide","R2","2015-03-17","2017-08-14",null,"Substance Direct Entry",{"$f":"IF(J791=\"Group Member\",VLOOKUP(I791,#REF!,5,0),\"\")","v":""}]
["123-31-9","204-617-8","IAEG003826","Hydroquinone","1,4-Benzenediol","R2","2015-03-17","2017-08-14",null,"Substance Direct Entry",{"$f":"IF(J792=\"Group Member\",VLOOKUP(I792,#REF!,5,0),\"\")","v":""}]
["120-80-9","204-427-5","IAEG003827","1,2-Dihydroxybenzene","Pyrocatechol; Catechol; 1,2-Benzenediol","R2","2017-08-14","2017-08-14",null,"Substance Direct Entry",{"$f":"IF(J793=\"Group Member\",VLOOKUP(I793,#REF!,5,0),\"\")","v":""}]
["62-56-6","200-543-5","IAEG003829","Thiourea","","R2","2017-08-14","2017-08-14",null,"Substance Direct Entry",{"$f":"IF(J794=\"Group Member\",VLOOKUP(I794,#REF!,5,0),\"\")","v":""}]
["1962-75-0","217-803-9","IAEG003830","Dibutyl terephthalate","","R2","2020-01-16","2020-01-16",null,"Substance Direct Entry",{"$f":"IF(J795=\"Group Member\",VLOOKUP(I795,#REF!,5,0),\"\")","v":""}]
["53306-54-0","258-469-4","IAEG003832","Bis(2-propylheptyl) phthalate","Di(2-propyl heptyl) phthalate (DPHP)","R2","2017-08-14","2017-08-14",null,"Substance Direct Entry",{"$f":"IF(J796=\"Group Member\",VLOOKUP(I796,#REF!,5,0),\"\")","v":""}]
["1912-24-9","217-617-8","IAEG003834","Atrazine","","R2","2015-03-17","2017-08-14",null,"Substance Direct Entry",{"$f":"IF(J797=\"Group Member\",VLOOKUP(I797,#REF!,5,0),\"\")","v":""}]
["6786-83-0","229-851-8","IAEG003835","Alpha,alpha-bis[4-(dimethylamino)phenyl]-4 (phenylamino)naphthalene-1-methanol","C.I. Solvent Blue 4","R2;D1","2017-08-14","2017-08-14","100.027.138","Substance Direct Entry",{"$f":"IF(J798=\"Group Member\",VLOOKUP(I798,#REF!,5,0),\"\")","v":""}]
["68512-30-1","270-966-8","IAEG003836","Phenol, methylstyrenated","","R2","2017-08-14","2017-08-14",null,"Substance Direct Entry",{"$f":"IF(J799=\"Group Member\",VLOOKUP(I799,#REF!,5,0),\"\")","v":""}]
["68515-51-5","271-094-0","IAEG003837","1,2-Benzenedicarboxylic acid, di-C6-10-alkyl esters","Di(C6-C10)alkyl phthalate Note: ECHA REF LIST JAN 2022 lists 100.239.145 as the parent of this substance.","R2;D1;I","2015-03-17","2015-03-17","100.064.611","Substance Direct Entry"]
["87-86-5","201-778-6","IAEG003838","Pentachlorophenol (PCP)","","R1;R2;D1","2015-03-17","2017-08-14",null,"Substance Direct Entry",{"$f":"IF(J801=\"Group Member\",VLOOKUP(I801,#REF!,5,0),\"\")","v":""}]
["732-26-3","211-989-5","IAEG003839","2,4,6-Tri-tert-butylphenol","Tri-tert-butylphenol; Dodecyl phenol","R1;R2;D1","2017-08-14","2017-08-14",null,"Substance Direct Entry",{"$f":"IF(J802=\"Group Member\",VLOOKUP(I802,#REF!,5,0),\"\")","v":""}]
["1582-09-8","216-428-8","IAEG003840","Trifluralin","","R2","2017-08-14","2017-08-14",null,"Substance Direct Entry",{"$f":"IF(J803=\"Group Member\",VLOOKUP(I803,#REF!,5,0),\"\")","v":""}]
["1897-45-6","217-588-1","IAEG003841","Chlorothalonil","Tetrachloroisophthalonitrile","R2","2017-08-14","2017-08-14",null,"Substance Direct Entry",{"$f":"IF(J804=\"Group Member\",VLOOKUP(I804,#REF!,5,0),\"\")","v":""}]
["105076-77-5","402-430-8","IAEG003845","N-(5-(bis(2-methoxyethyl)amino)-2-((5-nitro-2,1-benzisothiazol-3-yl)azo)phenylacetamide","","R2","2020-01-16","2020-01-16",null,"Substance Direct Entry",{"$f":"IF(J805=\"Group Member\",VLOOKUP(I805,#REF!,5,0),\"\")","v":""}]
["90076-65-6","415-300-0","IAEG003846","Lithium bis(trifluoromethylsulfonyl)imide","","R2","2017-08-14","2017-08-14",null,"Substance Direct Entry",{"$f":"IF(J806=\"Group Member\",VLOOKUP(I806,#REF!,5,0),\"\")","v":""}]
["74336-60-0","277-824-4","IAEG003847","9,10-Anthracenedione, 1-[(5,7-dichloro-1,9-dihydro-2-methyl-9-oxopyrazolo[5,1-b]quinazolin-3-yl)azo]-","","R2","2017-08-14","2017-08-14",null,"Substance Direct Entry",{"$f":"IF(J807=\"Group Member\",VLOOKUP(I807,#REF!,5,0),\"\")","v":""}]
["10448-09-6","233-931-8","IAEG003848","Cyclotetrasiloxane, heptamethylphenyl-","","R2","2017-08-14","2017-08-14",null,"Substance Direct Entry",{"$f":"IF(J808=\"Group Member\",VLOOKUP(I808,#REF!,5,0),\"\")","v":""}]
["68551-44-0","271-378-4","IAEG003849","Fatty acids, C6-19-branched,  Zinc salts","","R2","2015-03-17","2017-08-14",null,"Substance Direct Entry",{"$f":"IF(J809=\"Group Member\",VLOOKUP(I809,#REF!,5,0),\"\")","v":""}]
["2425-85-6","219-372-2","IAEG003850","1-(4-methyl-2-nitrophenylazo)-2-naphthol","C.I. Pigment Red 3; C.I. 12120","R2","2017-08-14","2017-08-14",null,"Substance Direct Entry",{"$f":"IF(J810=\"Group Member\",VLOOKUP(I810,#REF!,5,0),\"\")","v":""}]
["87-10-5","201-723-6","IAEG003852","Tribromsalan","3,4',5-Tribromosalicylanilide","R2","2017-08-14","2017-08-14",null,"Substance Direct Entry",{"$f":"IF(J811=\"Group Member\",VLOOKUP(I811,#REF!,5,0),\"\")","v":""}]
["3118-97-6","221-490-4","IAEG003853","1-(2,4-dimethylphenylazo)-2-naphthol","","R2","2017-08-14","2017-08-14",null,"Substance Direct Entry",{"$f":"IF(J812=\"Group Member\",VLOOKUP(I812,#REF!,5,0),\"\")","v":""}]
["509-34-2","208-096-8","IAEG003854","3',6'-bis(diethylamino)spiro[isobenzofuran-1(3H),9'-[9H]xanthene]-3-one","","R2","2017-08-14","2017-08-14",null,"Substance Direct Entry",{"$f":"IF(J813=\"Group Member\",VLOOKUP(I813,#REF!,5,0),\"\")","v":""}]
["1229-55-6","214-968-9","IAEG003856","1-[(2-methoxyphenyl)azo]-2-naphthol","","R2","2015-03-17","2017-08-14",null,"Substance Direct Entry",{"$f":"IF(J814=\"Group Member\",VLOOKUP(I814,#REF!,5,0),\"\")","v":""}]
["55-18-5","200-226-1","IAEG003858","N-Nitrosodiethylamine (NDEA)","","R2","2017-08-14","2017-08-14",null,"Substance Direct Entry",{"$f":"IF(J815=\"Group Member\",VLOOKUP(I815,#REF!,5,0),\"\")","v":""}]
["76-60-8","200-972-8","IAEG003859","Phenol, 4,4'-(3H-2,1-benzoxathiol- 3-ylidene)bis[2,6-dibromo-3-methyl-, S,S-dioxide","","R2","2017-08-14","2017-08-14",null,"Substance Direct Entry",{"$f":"IF(J816=\"Group Member\",VLOOKUP(I816,#REF!,5,0),\"\")","v":""}]
["93-46-9","202-249-2","IAEG003861","1,4-benzenediamine, N,N'-di-2-naphthalenyl- (Diafen NN)","","R2","2017-08-14","2017-08-14",null,"Substance Direct Entry",{"$f":"IF(J817=\"Group Member\",VLOOKUP(I817,#REF!,5,0),\"\")","v":""}]
["96-66-2","202-522-6","IAEG003862","Phenol, 4,4'-thiobis[2-(1,1-dimethylethyl)-6-methyl-","","R2","2017-08-14","2017-08-14",null,"Substance Direct Entry",{"$f":"IF(J818=\"Group Member\",VLOOKUP(I818,#REF!,5,0),\"\")","v":""}]
["598-55-0","209-939-2","IAEG003864","Methyl carbamate","","R2","2017-08-14","2017-08-14",null,"Substance Direct Entry",{"$f":"IF(J819=\"Group Member\",VLOOKUP(I819,#REF!,5,0),\"\")","v":""}]
["603-33-8","210-033-4","IAEG003865","Bismuthine, triphenyl-","","R2","2017-08-14","2017-08-14",null,"Substance Direct Entry",{"$f":"IF(J820=\"Group Member\",VLOOKUP(I820,#REF!,5,0),\"\")","v":""}]
["603-48-5","210-043-9","IAEG003866","Benzenamine, 4,4',4''-methylidynetris[N,N-dimethyl-","","R2;D1","2017-08-14","2017-08-14",null,"Substance Direct Entry",{"$f":"IF(J821=\"Group Member\",VLOOKUP(I821,#REF!,5,0),\"\")","v":""}]
["626-39-1","210-947-3","IAEG003868","1,3,5-Tribromobenzene","","R2","2017-08-14","2017-08-14",null,"Substance Direct Entry",{"$f":"IF(J822=\"Group Member\",VLOOKUP(I822,#REF!,5,0),\"\")","v":""}]
["1000-05-1","213-669-0","IAEG003870","Tetrasiloxane, 1,1,3,3,5,5,7,7-octamethyl","","R2","2020-01-16","2020-01-16",null,"Substance Direct Entry",{"$f":"IF(J823=\"Group Member\",VLOOKUP(I823,#REF!,5,0),\"\")","v":""}]
["1325-86-6","215-409-1","IAEG003874","1-Naphthalenemethanol, alpha,alpha-bis[4-(diethylamino) phenyl]-4-(ethylamino)-","","R2","2017-08-14","2017-08-14",null,"Substance Direct Entry",{"$f":"IF(J824=\"Group Member\",VLOOKUP(I824,#REF!,5,0),\"\")","v":""}]
["4395-65-7","224-520-4","IAEG003883","1-amino-4-(phenylamino)anthraquinone","Disperse Blue 19","R2","2017-08-14","2017-08-14",null,"Substance Direct Entry",{"$f":"IF(J825=\"Group Member\",VLOOKUP(I825,#REF!,5,0),\"\")","v":""}]
["6300-37-4","228-587-0","IAEG003888","C.I. Disperse Yellow 7","4-[[p-(phenylazo)phenyl]azo]-o-cresol; Disperse Fast Yellow 4K","R2","2017-08-14","2017-08-14",null,"Substance Direct Entry",{"$f":"IF(J826=\"Group Member\",VLOOKUP(I826,#REF!,5,0),\"\")","v":""}]
["14295-43-3","238-222-7","IAEG003899","Benzo[b]thiophen-3(2H)-one, 4,7-dichloro-2-(4,7-dichloro- 3-oxobenzo[b]thien-2(3H)-ylidene)-","","R2","2017-08-14","2017-08-14",null,"Substance Direct Entry",{"$f":"IF(J827=\"Group Member\",VLOOKUP(I827,#REF!,5,0),\"\")","v":""}]
["17540-75-9","241-533-0","IAEG003903","DTBSBP","4-sec-butyl-2,6-di-tert-butylphenol; 2,6-bis(1,1-dimethylethyl)-4-(1-methylpropyl)phenol","R2;I","2019-01-24","2019-01-24",null,"Substance Direct Entry",{"$f":"IF(J828=\"Group Member\",VLOOKUP(I828,#REF!,5,0),\"\")","v":""}]
["70776-86-2","274-880-1","IAEG003961","2-Butanone, 4-[[[1,2,3,4,4a,9,10,10a- octahydro-1,4a-dimethyl-7-(1-methylethyl)-1-phenanthrenyl ]methyl](3-oxo-3-phenylpropyl)amino]-, [1R-(1alpha,4abeta,10aalpha)]-","","R2","2017-08-14","2017-08-14",null,"Substance Direct Entry",{"$f":"IF(J829=\"Group Member\",VLOOKUP(I829,#REF!,5,0),\"\")","v":""}]
["93805-00-6","298-480-1","IAEG004000","Phenol, 4-[[2-methoxy-4-[(2-methoxyphenyl) azo]-5-methylphenyl]azo]-","","R2","2020-01-16","2020-01-16",null,"Substance Direct Entry",{"$f":"IF(J830=\"Group Member\",VLOOKUP(I830,#REF!,5,0),\"\")","v":""}]
["114910-04-2","No EC available","IAEG004010","1-Naphthalenediazonium, 4-[[4-[(4-nitro-2-sulfophenyl) amino]phenyl]azo]-6-sulfo-, chloride, reaction products with formaldehyde and salicylic acid, ammonium sodium salts","","R2","2020-01-16","2020-01-16",null,"Substance Direct Entry",{"$f":"IF(J831=\"Group Member\",VLOOKUP(I831,#REF!,5,0),\"\")","v":""}]
["440-17-5","207-123-0","IAEG004019","Trifluoperazine dihydrochloride","","R2","2017-08-14","2017-08-14",null,"Substance Direct Entry",{"$f":"IF(J832=\"Group Member\",VLOOKUP(I832,#REF!,5,0),\"\")","v":""}]
["3115-49-9","221-486-2","IAEG004022","(4-nonylphenoxy)acetic acid","","R2","2017-08-14","2017-08-14",null,"Substance Direct Entry",{"$f":"IF(J833=\"Group Member\",VLOOKUP(I833,#REF!,5,0),\"\")","v":""}]
["68412-63-5","270-201-8","IAEG004025","Phosphoric acid, C12-15-alkyl esters","","R2","2017-08-14","2017-08-14",null,"Substance Direct Entry",{"$f":"IF(J834=\"Group Member\",VLOOKUP(I834,#REF!,5,0),\"\")","v":""}]
["13597-19-8","237-044-7","IAEG004026","Cerium vanadium tetraoxide","","R2","2020-01-16","2020-01-16",null,"Substance Direct Entry",{"$f":"IF(J835=\"Group Member\",VLOOKUP(I835,#REF!,5,0),\"\")","v":""}]
["475-71-8","207-498-0","IAEG004027","Benzo[h]benz[5,6]acridino[2,1,9,8-klmna]acridine-8,16-dione","","R2","2020-01-16","2020-01-16",null,"Substance Direct Entry",{"$f":"IF(J836=\"Group Member\",VLOOKUP(I836,#REF!,5,0),\"\")","v":""}]
["70865-20-2","274-950-1","IAEG004028","Sodium 4-[[4-[(4-hydroxy-2-methylphenyl)azo]phenyl]amino]-3-nitrobenzenesulphonate","","R2","2020-01-16","2020-01-16",null,"Substance Direct Entry",{"$f":"IF(J837=\"Group Member\",VLOOKUP(I837,#REF!,5,0),\"\")","v":""}]
["71033-08-4","275-143-7","IAEG004029","2,2'-[(1-methylethylidene)bis[4,1-phenyleneoxy[1-(butoxymethyl)ethylene]oxymethylene]]bisoxirane","","R2","2017-08-14","2017-08-14",null,"Substance Direct Entry",{"$f":"IF(J838=\"Group Member\",VLOOKUP(I838,#REF!,5,0),\"\")","v":""}]
["2128-93-0","218-345-2","IAEG004030","4-phenylbenzophenone","","R2","2017-08-14","2017-08-14",null,"Substance Direct Entry",{"$f":"IF(J839=\"Group Member\",VLOOKUP(I839,#REF!,5,0),\"\")","v":""}]
["2432-74-8","219-409-2","IAEG004031","6-aminohexanonitrile","","R2","2020-01-16","2020-01-16",null,"Substance Direct Entry",{"$f":"IF(J840=\"Group Member\",VLOOKUP(I840,#REF!,5,0),\"\")","v":""}]
["61799-13-1","No EC available","IAEG004032","3-Pyridinecarbonitrile, 5-[2-(2-cyano-4-nitrophenyl)diazenyl]-2-[(2-hydroxyethyl)amino]-4-methyl-6-[[3-(2-phenoxyethoxy)propyl]amino]-","","R2","2020-01-16","2020-01-16",null,"Substance Direct Entry",{"$f":"IF(J841=\"Group Member\",VLOOKUP(I841,#REF!,5,0),\"\")","v":""}]
["68187-39-3","No EC available","IAEG004033","Fatty acids, C12-14-tertiary, glycidyl esters, reaction products with triethylenetetramine","","R2","2017-08-14","2017-08-14",null,"Substance Direct Entry",{"$f":"IF(J842=\"Group Member\",VLOOKUP(I842,#REF!,5,0),\"\")","v":""}]
["68584-82-7","No EC available","IAEG004035","Oxirane, 2-[[3-(trimethoxysilyl)propoxy]methyl]-, hydrolysis products with silica","Silane, trimethoxy[3-(oxiranylmethoxy)propyl]-, hydrolysis products with silica","R2","2020-01-16","2020-01-16",null,"Substance Direct Entry",{"$f":"IF(J843=\"Group Member\",VLOOKUP(I843,#REF!,5,0),\"\")","v":""}]
["123464-54-0","No EC available","IAEG004037","Poly(oxy-1,2-ethanediyl), .alpha.-[2(or 4)-(tetrapropenyl)phenyl]-.omega.-hydroxy-","","R2","2020-01-16","2020-01-16",null,"Substance Direct Entry",{"$f":"IF(J844=\"Group Member\",VLOOKUP(I844,#REF!,5,0),\"\")","v":""}]
["149879-98-1","No EC available","IAEG004038","1-Propanaminium, N-(carboxymethyl)-N,N-dimethyl-3-[[(13Z)-1-oxo-13-docosen-1-yl]amino]-, inner salt","","R2","2020-01-16","2020-01-16",null,"Substance Direct Entry",{"$f":"IF(J845=\"Group Member\",VLOOKUP(I845,#REF!,5,0),\"\")","v":""}]
["164462-16-2","No EC available","IAEG004039","Alanine, N,N-bis(carboxymethyl)-, sodium salt (1:3)","","R2","2017-08-14","2017-08-14",null,"Substance Direct Entry",{"$f":"IF(J846=\"Group Member\",VLOOKUP(I846,#REF!,5,0),\"\")","v":""}]
["188627-10-3","No EC available","IAEG004040","Siloxanes and Silicones, di-Me, [[[3-[(2-aminoethyl)amino]-2-methylpropyl]methoxymethylsilyl]oxy]- and (C13-15-alkyloxy)-terminated","","R2","2020-01-16","2020-01-16",null,"Substance Direct Entry",{"$f":"IF(J847=\"Group Member\",VLOOKUP(I847,#REF!,5,0),\"\")","v":""}]
["189233-30-5","No EC available","IAEG004041","1-Hexadecanol, manuf. of, distn. lights","","R2","2020-01-16","2020-01-16",null,"Substance Direct Entry",{"$f":"IF(J848=\"Group Member\",VLOOKUP(I848,#REF!,5,0),\"\")","v":""}]
["211510-16-6","No EC available","IAEG004042","Benzeneacetic acid, .alpha.-oxo-, 1,1'-(oxydi-2,1-ethanediyl) ester","","R2","2020-01-16","2020-01-16",null,"Substance Direct Entry",{"$f":"IF(J849=\"Group Member\",VLOOKUP(I849,#REF!,5,0),\"\")","v":""}]
["442536-99-4","No EC available","IAEG004043","Benzeneacetic acid, .alpha.-oxo-, 2-(2-hydroxyethoxy)ethyl ester","","R2","2020-01-16","2020-01-16",null,"Substance Direct Entry",{"$f":"IF(J850=\"Group Member\",VLOOKUP(I850,#REF!,5,0),\"\")","v":""}]
["882878-48-0","No EC available","IAEG004051","Siloxanes and Silicones, dimethyl, methyl-3,3,4,4,5,5,6,6,6-nonafluorohexyl","","R2","2017-08-14","2017-08-14",null,"Substance Direct Entry",{"$f":"IF(J851=\"Group Member\",VLOOKUP(I851,#REF!,5,0),\"\")","v":""}]
["921936-12-1","No EC available","IAEG004052","Siloxanes and Silicones, 3-[(2-aminoethyl)amino]propyl Me, di-Me, hydroxyand methoxy-terminated, polymers with polyethylenepolypropylene glycol bis(2-methyl-2-propen-1-yl) ether","","R2","2017-08-14","2017-08-14",null,"Substance Direct Entry",{"$f":"IF(J852=\"Group Member\",VLOOKUP(I852,#REF!,5,0),\"\")","v":""}]
["1001320-38-2","691-061-8","IAEG004053","Carbamic acid, N-[(butylthio)thioxomethyl]-, butyl ester","","R2","2015-03-17","2017-08-14",null,"Substance Direct Entry",{"$f":"IF(J853=\"Group Member\",VLOOKUP(I853,#REF!,5,0),\"\")","v":""}]
["120-82-1","204-428-0","IAEG004054","1,2,4-Trichlorobenzene","","R2","2015-03-17","2015-03-17",null,"Substance Direct Entry",{"$f":"IF(J854=\"Group Member\",VLOOKUP(I854,#REF!,5,0),\"\")","v":""}]
["85-68-7","201-622-7","IAEG004055","Benzyl butyl phthalate","Butyl benzyl phthalate (BBP)","R1;R2;D1;I","2015-03-17","2015-03-17","100.001.475","Substance Direct Entry",{"$f":"IF(J855=\"Group Member\",VLOOKUP(I855,#REF!,5,0),\"\")","v":""}]
["117-81-7","204-211-0","IAEG004056","Bis(2-ethylhexyl) phthalate","Di-(2-ethylhexyl) phthalate (DEHP)","R1;R2;D1;I","2015-03-17","2015-03-17","100.003.829","Substance Direct Entry",{"$f":"IF(J856=\"Group Member\",VLOOKUP(I856,#REF!,5,0),\"\")","v":""}]
["84-74-2","201-557-4","IAEG004057","Dibutyl phthalate","Di-n-butyl phthalate (DBP)","R1;R2;D1;I","2015-03-17","2015-03-17","100.001.416","Substance Direct Entry",{"$f":"IF(J857=\"Group Member\",VLOOKUP(I857,#REF!,5,0),\"\")","v":""}]
["79-01-6","201-167-4","IAEG004058","Trichloroethylene","Trichloroethene (TCE)","R1;R2;D1","2015-03-17","2015-03-17","100.001.062","Substance Direct Entry",{"$f":"IF(J858=\"Group Member\",VLOOKUP(I858,#REF!,5,0),\"\")","v":""}]
["107-06-2","203-458-1","IAEG004059","Ethylene dichloride","1,2-Dichloroethane (EDC)","R1;R2;D1;I","2015-03-17","2015-03-17","100.003.145","Substance Direct Entry",{"$f":"IF(J859=\"Group Member\",VLOOKUP(I859,#REF!,5,0),\"\")","v":""}]
["68-12-2","200-679-5","IAEG004060","N,N-Dimethylformamide","Dimethyl formamide (DMF)","R1;D1;I","2015-03-17","2019-01-24","100.000.617","Substance Direct Entry",{"$f":"IF(J860=\"Group Member\",VLOOKUP(I860,#REF!,5,0),\"\")","v":""}]
["118-74-1","204-273-9","IAEG004061","Hexachlorobenzene (HCB)","","R1;R2","2015-03-17","2017-08-14",null,"Substance Direct Entry",{"$f":"IF(J861=\"Group Member\",VLOOKUP(I861,#REF!,5,0),\"\")","v":""}]
["542-88-1","208-832-8","IAEG004062","Bis(chloromethyl) ether","Oxybis(chloromethane)","R1;R2","2015-03-17","2017-08-14",null,"Substance Direct Entry",{"$f":"IF(J862=\"Group Member\",VLOOKUP(I862,#REF!,5,0),\"\")","v":""}]
["107-30-2","203-480-1","IAEG004063","Chlorodimethyl ether","Chloromethyl methyl ether (CMME)","R1;R2","2015-03-17","2017-08-14",null,"Substance Direct Entry",{"$f":"IF(J863=\"Group Member\",VLOOKUP(I863,#REF!,5,0),\"\")","v":""}]
["62-75-9","200-549-8","IAEG004064","N-Nitrosodimethylamine","Dimethylnitrosoamine (NDMA)","R1;R2","2015-03-17","2015-03-17",null,"Substance Direct Entry",{"$f":"IF(J864=\"Group Member\",VLOOKUP(I864,#REF!,5,0),\"\")","v":""}]
["87-68-3","201-765-5","IAEG004065","Hexachlorobuta-1,3-diene","Hexachlorobutadiene (HCBD)","R1;R2;D1;I","2015-03-17","2017-08-14",null,"Substance Direct Entry",{"$f":"IF(J865=\"Group Member\",VLOOKUP(I865,#REF!,5,0),\"\")","v":""}]
["71-43-2","200-753-7","IAEG004067","Benzene","","R1;R2;I","2015-03-17","2015-03-17",null,"Substance Direct Entry",{"$f":"IF(J866=\"Group Member\",VLOOKUP(I866,#REF!,5,0),\"\")","v":""}]
["50-00-0","200-001-8","IAEG004068","Formaldehyde","","R1;R2;D1;I","2017-08-14","2017-08-14",null,"Substance Direct Entry",{"$f":"IF(J867=\"Group Member\",VLOOKUP(I867,#REF!,5,0),\"\")","v":""}]
["100-42-5","202-851-5","IAEG004069","Styrene","Ethenyl-benzene; Vinylbenzene; Phenylethylene; Styrol; Styrolene; Cinnamene","I","2015-03-17","2017-08-14",null,"Substance Direct Entry",{"$f":"IF(J868=\"Group Member\",VLOOKUP(I868,#REF!,5,0),\"\")","v":""}]
["67-66-3","200-663-8","IAEG004070","Chloroform","Trichloromethane","R1;R2;I","2015-03-17","2015-03-17",null,"Substance Direct Entry",{"$f":"IF(J869=\"Group Member\",VLOOKUP(I869,#REF!,5,0),\"\")","v":""}]
["75-09-2","200-838-9","IAEG004071","Dichloromethane (DCM)","Methylene chloride","R1;R2","2017-08-14","2017-08-14",null,"Substance Direct Entry",{"$f":"IF(J870=\"Group Member\",VLOOKUP(I870,#REF!,5,0),\"\")","v":""}]
["108-95-2","203-632-7","IAEG004072","Phenol","","I","2015-03-17","2017-08-14",null,"Substance Direct Entry",{"$f":"IF(J871=\"Group Member\",VLOOKUP(I871,#REF!,5,0),\"\")","v":""}]
["127-18-4","204-825-9","IAEG004073","Tetrachloroethylene","Perchloroethylene (PERC)","R2;I","2015-03-17","2017-08-14",null,"Substance Direct Entry",{"$f":"IF(J872=\"Group Member\",VLOOKUP(I872,#REF!,5,0),\"\")","v":""}]
["79-34-5","201-197-8","IAEG004074","1,1,2,2-Tetrachloroethane","","R1;R2;I","2017-08-14","2017-08-14",null,"Substance Direct Entry",{"$f":"IF(J873=\"Group Member\",VLOOKUP(I873,#REF!,5,0),\"\")","v":""}]
["111-44-4","203-870-1","IAEG004076","Bis(2-chloroethyl) ether (BCEE)","","R2","2017-08-14","2017-08-14",null,"Substance Direct Entry",{"$f":"IF(J874=\"Group Member\",VLOOKUP(I874,#REF!,5,0),\"\")","v":""}]
["634-66-2","211-214-0","IAEG004077","1,2,3,4-Tetrachlorobenzene","","R1;R2","2020-01-16","2020-01-16",null,"Substance Direct Entry",{"$f":"IF(J875=\"Group Member\",VLOOKUP(I875,#REF!,5,0),\"\")","v":""}]
["634-90-2","211-217-7","IAEG004078","1,2,3,5-Tetrachlorobenzene","","R1;R2","2020-01-16","2020-01-16",null,"Substance Direct Entry",{"$f":"IF(J876=\"Group Member\",VLOOKUP(I876,#REF!,5,0),\"\")","v":""}]
["2385-85-5","219-196-6","IAEG004080","Mirex","Dodecachloropentacyclo[5.2.1.02,6.03,9.05,8]decane","R1;R2","2017-08-14","2017-08-14",null,"Substance Direct Entry",{"$f":"IF(J877=\"Group Member\",VLOOKUP(I877,#REF!,5,0),\"\")","v":""}]
["789-02-6","212-332-5","IAEG004081","2,2,2,o,p'-Pentachloroethylidenebisbenzene","O,p'-DDT","R1;R2","2017-08-14","2017-08-14",null,"Substance Direct Entry",{"$f":"IF(J878=\"Group Member\",VLOOKUP(I878,#REF!,5,0),\"\")","v":""}]
["203743-03-7","No EC available","IAEG004083","2-Propenoic acid, 2-methyl-, hexadecyl ester, polymers with 2-hydroxyethyl methacrylate, gamma-omega-perfluoro-C10-16-alkyl acrylate and stearyl methacrylate","","R2","2020-01-16","2020-01-16",null,"Substance Direct Entry",{"$f":"IF(J879=\"Group Member\",VLOOKUP(I879,#REF!,5,0),\"\")","v":""}]
["464178-90-3","No EC available","IAEG004085","2-Propen-1-ol reaction products with pentafluoroiodoethane tetrafluoroethylene telomer, dehydroiodinated, reaction products with epichlorohydrin and triethylenetetramine","","R2","2015-03-17","2019-01-24",null,"Substance Direct Entry",{"$f":"IF(J880=\"Group Member\",VLOOKUP(I880,#REF!,5,0),\"\")","v":""}]
["101-77-9","202-974-4","IAEG004089","4,4'-Diaminodiphenylmethane","4,4'-Methylenedianiline (MDA)","R1;R2;D1","2015-03-17","2015-03-17","100.002.705","Substance Direct Entry",{"$f":"IF(J881=\"Group Member\",VLOOKUP(I881,#REF!,5,0),\"\")","v":""}]
["25637-99-4","247-148-4","IAEG004090","Hexabromocyclododecane","Note: ECHA REF LIST JAN 2022 lists 100.239.157 as the parent of this substance.","R1;R2;D1;I","2015-03-17","2015-03-17","100.042.848","Substance Direct Entry"]
["3194-55-6","221-695-9","IAEG004091","1,2,5,6,9,10-hexabromocyclododecane","Note: ECHA REF LIST JAN 2022 lists 100.239.157 as the parent of this substance.","R1;R2;D1;I","2015-03-17","2022-02-17","100.019.724","Substance Direct Entry"]
["134237-50-6","603-801-9","IAEG004092","alpha-hexabromocyclododecane","Note: ECHA REF LIST JAN 2022 lists 100.239.157 as the parent of this substance.","R1;R2;D1","2015-03-17","2015-03-17","100.131.125","Substance Direct Entry"]
["134237-51-7","603-802-4","IAEG004093","beta-hexabromocyclododecane","Note: ECHA REF LIST JAN 2022 lists 100.239.157 as the parent of this substance.","R1;R2;D1","2015-03-17","2015-03-17","100.131.015","Substance Direct Entry"]
["134237-52-8","603-804-5","IAEG004094","gamma-hexabromocyclododecane","Note: ECHA REF LIST JAN 2022 lists 100.239.157 as the parent of this substance.","R1;R2;D1","2015-03-17","2015-03-17","100.130.841","Substance Direct Entry"]
["81-15-2","201-329-4","IAEG004095","Musk Xylene","5-Tert-butyl-2,4,6-trinitro-m-xylene","R2;D1","2015-03-17","2015-03-17","100.001.210","Substance Direct Entry",{"$f":"IF(J887=\"Group Member\",VLOOKUP(I887,#REF!,5,0),\"\")","v":""}]
["84-69-5","201-553-2","IAEG004096","Diisobutyl phthalate (DIBP)","","R1;R2;D1;I","2015-03-17","2015-03-17","100.001.412","Substance Direct Entry",{"$f":"IF(J888=\"Group Member\",VLOOKUP(I888,#REF!,5,0),\"\")","v":""}]
["121-14-2","204-450-0","IAEG004097","1-Methyl-2,4-dinitrobenzene","2,4-Dinitrotoluene (DNT)","R2;D1;I","2015-03-17","2015-03-17","100.004.046","Substance Direct Entry",{"$f":"IF(J889=\"Group Member\",VLOOKUP(I889,#REF!,5,0),\"\")","v":""}]
["101-14-4","202-918-9","IAEG004098","MOCA","4,4'-Methylenebis(2-chloroaniline); 2,2'-Dichloro-4,4'-methylenedianiline; 4,4'-Diamino-3,3'-dichlorodiphenylmethane","R1;R2;D1","2015-03-17","2015-03-17","100.002.654","Substance Direct Entry",{"$f":"IF(J890=\"Group Member\",VLOOKUP(I890,#REF!,5,0),\"\")","v":""}]
["25214-70-4","500-036-1","IAEG004099","Formaldehyde, oligomeric reaction products with aniline (technical MDA)","","R2;D1","2015-03-17","2015-03-17","100.105.544","Substance Direct Entry",{"$f":"IF(J891=\"Group Member\",VLOOKUP(I891,#REF!,5,0),\"\")","v":""}]
["71-48-7","200-755-8","IAEG004100","Cobalt di(acetate)","","D1;I","2015-03-17","2015-03-17","100.000.687","Substance Direct Entry",{"$f":"IF(J892=\"Group Member\",VLOOKUP(I892,#REF!,5,0),\"\")","v":""}]
["513-79-1","208-169-4","IAEG004101","Cobalt (II) carbonate","","D1;I","2015-03-17","2015-03-17","100.007.428","Substance Direct Entry",{"$f":"IF(J893=\"Group Member\",VLOOKUP(I893,#REF!,5,0),\"\")","v":""}]
["10141-05-6","233-402-1","IAEG004102","Cobalt dinitrate","","D1;I","2015-03-17","2015-03-17","100.030.353","Substance Direct Entry",{"$f":"IF(J894=\"Group Member\",VLOOKUP(I894,#REF!,5,0),\"\")","v":""}]
["10124-43-3","233-334-2","IAEG004103","Cobalt sulphate","","D1;I","2015-03-17","2015-03-17","100.030.291","Substance Direct Entry",{"$f":"IF(J895=\"Group Member\",VLOOKUP(I895,#REF!,5,0),\"\")","v":""}]
["79-06-1","201-173-7","IAEG004104","Acrylamide","Prop-2-enamide; 2-Propenamide","D1","2015-03-17","2015-03-17","100.001.067","Substance Direct Entry",{"$f":"IF(J896=\"Group Member\",VLOOKUP(I896,#REF!,5,0),\"\")","v":""}]
["85535-84-8","287-476-5","IAEG004105","Alkanes, C10-13, chloro","Short-chain chlorinated paraffins (SCCP)","R1;R2;D1","2015-03-17","2015-03-17","100.079.496","Substance Direct Entry",{"$f":"IF(J897=\"Group Member\",VLOOKUP(I897,#REF!,5,0),\"\")","v":""}]
["7646-79-9","231-589-4","IAEG004106","Cobalt dichloride","","D1;I","2015-03-17","2015-03-17","100.028.718","Substance Direct Entry",{"$f":"IF(J898=\"Group Member\",VLOOKUP(I898,#REF!,5,0),\"\")","v":""}]
["302-01-2","206-114-9","IAEG004144","Hydrazine","Hydrazine hydrate; Hydrazine monohydrate","D1","2015-03-17","2015-03-17","100.005.560","Substance Direct Entry",{"$f":"IF(J899=\"Group Member\",VLOOKUP(I899,#REF!,5,0),\"\")","v":""}]
["7803-57-8","206-114-9","IAEG004145","Hydrazine",null,"D1","2015-03-17","2015-03-17","100.005.560","Substance Direct Entry",{"$f":"IF(J900=\"Group Member\",VLOOKUP(I900,#REF!,5,0),\"\")","v":""}]
["1303-96-4","215-540-4","IAEG004107","Disodium tetraborate, anhydrous","Borax; Boric acid, disodium salt; Disodium tetraborate decahydrate; Borax decahydrate; Disodium tetraborate Pentahydrate; Borax pentahydrate","D1","2015-03-17","2015-03-17","100.014.129","Substance Direct Entry",{"$f":"IF(J901=\"Group Member\",VLOOKUP(I901,#REF!,5,0),\"\")","v":""}]
["1330-43-4","215-540-4","IAEG004108","Disodium tetraborate, anhydrous","Borax; Boric acid, disodium salt; Disodium tetraborate decahydrate; Borax decahydrate; Disodium tetraborate Pentahydrate; Borax pentahydrate","D1","2015-03-17","2015-03-17","100.014.129","Substance Direct Entry",{"$f":"IF(J902=\"Group Member\",VLOOKUP(I902,#REF!,5,0),\"\")","v":""}]
["12179-04-3","215-540-4","IAEG004109","Disodium tetraborate, anhydrous","Borax; Boric acid, disodium salt; Disodium tetraborate decahydrate; Borax decahydrate; Disodium tetraborate Pentahydrate; Borax pentahydrate","D1","2015-03-17","2015-03-17","100.014.129","Substance Direct Entry",{"$f":"IF(J903=\"Group Member\",VLOOKUP(I903,#REF!,5,0),\"\")","v":""}]
["10043-35-3","233-139-2","IAEG004110","Boric acid","Note: ECHA REF LIST Jan 2022 lists 100.239.155 as the parent of this substance.","D1","2015-03-17","2015-03-17","100.030.114","Substance Direct Entry"]
["11113-50-1","234-343-4","IAEG004111","Boric acid","Note: ECHA REF LIST JAN 2022 lists 100.239.155 as the parent of this substance.","D1;I","2015-03-17","2015-03-17","100.031.209","Substance Direct Entry"]
["12267-73-1","235-541-3","IAEG004112","Tetraboron disodium heptaoxide, hydrate","","D1","2015-03-17","2017-08-14","100.032.298","Substance Direct Entry",{"$f":"IF(J906=\"Group Member\",VLOOKUP(I906,#REF!,5,0),\"\")","v":""}]
["65996-93-2","266-028-2","IAEG004113","Pitch, coal tar, high-temp.","","R2;D1;I","2015-03-17","2017-08-14","100.060.007","Substance Direct Entry",{"$f":"IF(J907=\"Group Member\",VLOOKUP(I907,#REF!,5,0),\"\")","v":""}]
["96-18-4","202-486-1","IAEG004114","1,2,3-Trichloropropane (1,2,3-TCP)","","R1;R2;D1","2015-03-17","2015-03-17","100.002.261","Substance Direct Entry",{"$f":"IF(J908=\"Group Member\",VLOOKUP(I908,#REF!,5,0),\"\")","v":""}]
["1303-86-2","215-125-8","IAEG004115","Diboron trioxide","","D1","2015-03-17","2015-03-17","100.013.751","Substance Direct Entry",{"$f":"IF(J909=\"Group Member\",VLOOKUP(I909,#REF!,5,0),\"\")","v":""}]
["127-19-5","204-826-4","IAEG004116","N,N-Dimethylacetamide (DMAC)","","R1;D1;I","2015-03-17","2019-01-24","100.004.389","Substance Direct Entry",{"$f":"IF(J910=\"Group Member\",VLOOKUP(I910,#REF!,5,0),\"\")","v":""}]
["68515-42-4","271-084-6","IAEG004117","1,2-Benzenedicarboxylic acid, di-C7-11-branched and linear alkyl esters (DHNUP)","","R2;D1","2015-03-17","2017-08-14","100.064.602","Substance Direct Entry",{"$f":"IF(J911=\"Group Member\",VLOOKUP(I911,#REF!,5,0),\"\")","v":""}]
["90-04-0","201-963-1","IAEG004118","2-Methoxyaniline","O-Anisidine","R1;D1","2015-03-17","2017-08-14","100.001.785","Substance Direct Entry",{"$f":"IF(J912=\"Group Member\",VLOOKUP(I912,#REF!,5,0),\"\")","v":""}]
["838-88-0","212-658-8","IAEG004119","4,4'-Methylenedi-o-toluidine","4,4'-Methylene bis(2-methylaniline)","R1;D1","2015-03-17","2017-08-14","100.011.508","Substance Direct Entry",{"$f":"IF(J913=\"Group Member\",VLOOKUP(I913,#REF!,5,0),\"\")","v":""}]
["71888-89-6","276-158-1","IAEG004120","1,2-Benzenedicarboxylic acid, di-C6-8-branched alkyl esters, C7-rich (DIHP)","","R1;R2;D1","2017-08-14","2017-08-14","100.069.214","Substance Direct Entry",{"$f":"IF(J914=\"Group Member\",VLOOKUP(I914,#REF!,5,0),\"\")","v":""}]
["110-00-9","203-727-3","IAEG004121","Furan","","D1","2015-03-17","2015-03-17","100.003.390","Substance Direct Entry",{"$f":"IF(J915=\"Group Member\",VLOOKUP(I915,#REF!,5,0),\"\")","v":""}]
["77-09-8","201-004-7","IAEG004122","Phenolphthalein","","D1","2015-03-17","2015-03-17","100.000.914","Substance Direct Entry",{"$f":"IF(J916=\"Group Member\",VLOOKUP(I916,#REF!,5,0),\"\")","v":""}]
["872-50-4","212-828-1","IAEG004123","1-Methyl-2-pyrrolidone","N-Methyl-2-pyrrolidone; N-methylpyrrolidone (NMP)","R1;R2;D1;I","2015-03-17","2015-03-17","100.011.662","Substance Direct Entry",{"$f":"IF(J917=\"Group Member\",VLOOKUP(I917,#REF!,5,0),\"\")","v":""}]
["2451-62-9","219-514-3","IAEG004124","Triglycidylisocyanurate (TGIC)","1,3,5-Tris(oxiranylmethyl)-1,3,5-triazine-2,4,6(1H,3H,5H)-trione","D1","2015-03-17","2017-08-14","100.017.741","Substance Direct Entry",{"$f":"IF(J918=\"Group Member\",VLOOKUP(I918,#REF!,5,0),\"\")","v":""}]
["101-80-4","202-977-0","IAEG004125","4,4'-Diaminodiphenyl ether","4,4'-Oxydianiline; Bis(4-aminophenyl) ether Note: ECHA REF LIST JAN 2022 lists 100.239.146 as the parent of this substance.","R1;D1","2015-03-17","2017-08-14","100.002.707","Substance Direct Entry"]
["605-50-5","210-088-4","IAEG004126","Diisopentyl phthalate","Diisopentylphthalate","R1;R2;D1;I","2015-03-17","2017-08-14","100.009.172","Substance Direct Entry",{"$f":"IF(J920=\"Group Member\",VLOOKUP(I920,#REF!,5,0),\"\")","v":""}]
["106-94-5","203-445-0","IAEG004128","1-Bromopropane (1-BP)","N-propyl bromide","R2;D1;I","2015-03-17","2017-08-14","100.003.133","Substance Direct Entry",{"$f":"IF(J921=\"Group Member\",VLOOKUP(I921,#REF!,5,0),\"\")","v":""}]
["1120-71-4","214-317-9","IAEG004129","1,3-Propanesultone","1,2-Oxathiolane 2,2-dioxide","D1;I","2015-03-17","2017-08-14","100.013.017","Substance Direct Entry",{"$f":"IF(J922=\"Group Member\",VLOOKUP(I922,#REF!,5,0),\"\")","v":""}]
["60-09-3","200-453-6","IAEG004130","4-Aminoazobenzene","4-Phenylazoaniline; Aniline Yellow","R1;D1","2015-03-17","2015-03-17","100.000.412","Substance Direct Entry",{"$f":"IF(J923=\"Group Member\",VLOOKUP(I923,#REF!,5,0),\"\")","v":""}]
["88-85-7","201-861-7","IAEG004131","Dinoseb","6-Sec-butyl-2,4-dinitrophenol","D1","2015-03-17","2015-03-17","100.001.692","Substance Direct Entry",{"$f":"IF(J924=\"Group Member\",VLOOKUP(I924,#REF!,5,0),\"\")","v":""}]
["96-45-7","202-506-9","IAEG004132","Ethylene thiourea","Imidazolidine-2-thione; 2-Imidazoline-2-thiol","D1","2015-03-17","2015-03-17","100.002.280","Substance Direct Entry",{"$f":"IF(J925=\"Group Member\",VLOOKUP(I925,#REF!,5,0),\"\")","v":""}]
["625-45-6","210-894-6","IAEG004133","Methoxyacetic acid (MAA)","","D1","2015-03-17","2015-03-17","100.009.904","Substance Direct Entry",{"$f":"IF(J926=\"Group Member\",VLOOKUP(I926,#REF!,5,0),\"\")","v":""}]
["79-16-3","201-182-6","IAEG004134","N-methylacetamide","","D1","2015-03-17","2015-03-17","100.001.075","Substance Direct Entry",{"$f":"IF(J927=\"Group Member\",VLOOKUP(I927,#REF!,5,0),\"\")","v":""}]
["7632-04-4","231-556-4","IAEG004136","Sodium peroxometaborate","Perboric acid (HBO(O2)), sodium salt, tetrahydrate; Perboric acid (HBO(O2)), sodium salt, monohydrate","R2;D1","2015-03-17","2017-08-14","100.028.688","Substance Direct Entry",{"$f":"IF(J928=\"Group Member\",VLOOKUP(I928,#REF!,5,0),\"\")","v":""}]
["84777-06-0","284-032-2","IAEG004137","1,2-Benzenedicarboxylic acid, dipentyl ester, branched and linear","","R2;D1","2015-03-17","2015-03-17","100.076.365","Substance Direct Entry",{"$f":"IF(J929=\"Group Member\",VLOOKUP(I929,#REF!,5,0),\"\")","v":""}]
["59653-74-6","423-400-0","IAEG004138","Beta-TGIC","1,3,5-tris[(2S and 2R)-2,3-epoxypropyl]-1,3,5-triazine-2,4,6-(1H,3H,5H)-trione","D1","2015-03-17","2015-03-17","100.102.195","Substance Direct Entry",{"$f":"IF(J930=\"Group Member\",VLOOKUP(I930,#REF!,5,0),\"\")","v":""}]
["143860-04-2","421-150-7","IAEG004139","3-Ethyl-2-methyl-2-(3-methylbutyl)-1,3-oxazolidine","Zoldine MS-PLUS","D1","2015-03-17","2017-08-14","100.101.975","Substance Direct Entry",{"$f":"IF(J931=\"Group Member\",VLOOKUP(I931,#REF!,5,0),\"\")","v":""}]
["97-56-3","202-591-2","IAEG004140","O-Aminoazotoluene","4-o-Tolylazo-o-toluidine; 4-Amino-2',3-dimethylazobenzene; 2-Amino-5-azotoluene; Solvent Yellow 3; AAT","R1;D1","2015-03-17","2017-08-14","100.002.357","Substance Direct Entry",{"$f":"IF(J932=\"Group Member\",VLOOKUP(I932,#REF!,5,0),\"\")","v":""}]
["92-67-1","202-177-1","IAEG004141","Biphenyl-4-ylamine","Xenylamine; 4-Aminobiphenyl; 4-Biphenylamine","R1;R2;D1","2015-03-17","2017-08-14","100.001.980","Substance Direct Entry",{"$f":"IF(J933=\"Group Member\",VLOOKUP(I933,#REF!,5,0),\"\")","v":""}]
["131-18-0","205-017-9","IAEG004142","Dipentyl phthalate (DPP)","Di-n-pentyl phthalate (DnPP)","R1;R2;D1","2015-03-17","2015-03-17","100.004.563","Substance Direct Entry",{"$f":"IF(J934=\"Group Member\",VLOOKUP(I934,#REF!,5,0),\"\")","v":""}]
["101-61-1","202-959-2","IAEG004143","Michler's Base","N,N,N',N'-tetramethyl-4,4'-methylenedianiline","D1","2015-03-17","2015-03-17","100.002.691","Substance Direct Entry",{"$f":"IF(J935=\"Group Member\",VLOOKUP(I935,#REF!,5,0),\"\")","v":""}]
["11138-47-9","234-390-0","IAEG004127","Perboric acid, sodium salt","Note: ECHA REF LIST JAN 2022 lists 100.239.162 as the parent of this substance.","R2;D1","2015-03-17","2017-08-14","100.031.251","Substance Direct Entry"]
["12008-41-2","234-541-0","IAEG005362","Disodium octaborate","Disodium octaborate anhydrate; Sodium borate","D1","2019-01-24","2019-01-24","100.031.388","Substance Direct Entry",{"$f":"IF(J937=\"Group Member\",VLOOKUP(I937,#REF!,5,0),\"\")","v":""}]
["75-12-7","200-842-0","IAEG004146","Formamide","","D1","2015-03-17","2017-08-14","100.000.766","Substance Direct Entry",{"$f":"IF(J938=\"Group Member\",VLOOKUP(I938,#REF!,5,0),\"\")","v":""}]
["95-53-4","202-429-0","IAEG004147","o-Toluidine","Ortho-Toluidine; 2-Aminotoluene","R1;D1","2015-03-17","2017-08-14","100.002.209","Substance Direct Entry",{"$f":"IF(J939=\"Group Member\",VLOOKUP(I939,#REF!,5,0),\"\")","v":""}]
["95-80-7","202-453-1","IAEG004148","4-Methyl-m-phenylenediamine","2,4-Toluenediamine; 2,4-Diaminotoluene","R1;D1","2015-03-17","2017-08-14","100.002.231","Substance Direct Entry",{"$f":"IF(J940=\"Group Member\",VLOOKUP(I940,#REF!,5,0),\"\")","v":""}]
["120-71-8","204-419-1","IAEG004149","6-Methoxy-m-toluidine","P-Cresidine","R1;D1","2015-03-17","2015-03-17","100.004.018","Substance Direct Entry",{"$f":"IF(J941=\"Group Member\",VLOOKUP(I941,#REF!,5,0),\"\")","v":""}]
["140-66-9","205-426-2","IAEG004150","4-(1,1,3,3-tetramethylbutyl)phenol","4-tert-octylphenol; Octylphenol","D1","2015-03-17","2015-03-17","100.004.934","Substance Direct Entry",{"$f":"IF(J942=\"Group Member\",VLOOKUP(I942,#REF!,5,0),\"\")","v":""}]
["123-77-3","204-650-8","IAEG004151","Diazene-1,2-dicarboxamide","C,C'-azodi(formamide); 1,1'-azobis(formamide); ADCA","D1","2015-03-17","2015-03-17","100.004.229","Substance Direct Entry",{"$f":"IF(J943=\"Group Member\",VLOOKUP(I943,#REF!,5,0),\"\")","v":""}]
["85-42-7","201-604-9","IAEG004152","Cyclohexane-1,2-dicarboxylic anhydride","Hexahydrophthalic anhydride; Hexahydro-2-benzofuran-1,3-dione (HHPA) Note: ECHA REF LIST JAN 2022 lists 100.239.156 as the parent of this substance","D1","2017-08-14","2017-08-14","100.001.459","Substance Direct Entry"]
["98-95-3","202-716-0","IAEG004153","Nitrobenzene","","D1;I","2015-03-17","2015-03-17","100.002.469","Substance Direct Entry",{"$f":"IF(J945=\"Group Member\",VLOOKUP(I945,#REF!,5,0),\"\")","v":""}]
["19438-60-9","243-072-0","IAEG004154","Hexahydro-4-methylphthalic anhydride","Note: ECHA REF LIST JAN 2022 lists 100.239.158 as the parent of this substance.","D1","2015-03-17","2015-03-17","100.039.141","Substance Direct Entry"]
["548-62-9","208-953-6","IAEG004155","[4-[4,4'-bis(dimethylamino)benzhydrylidene]cyclohexa-2,5-dien-1-ylidene]dimethylammonium chloride","C.I. Basic Violet 3","R1;D1","2015-03-17","2020-01-16","100.008.140","Substance Direct Entry",{"$f":"IF(J947=\"Group Member\",VLOOKUP(I947,#REF!,5,0),\"\")","v":""}]
["25155-23-1","246-677-8","IAEG004156","Trixylyl phosphate","","R2;D1","2015-03-17","2015-03-17","100.042.419","Substance Direct Entry",{"$f":"IF(J948=\"Group Member\",VLOOKUP(I948,#REF!,5,0),\"\")","v":""}]
["84-75-3","201-559-5","IAEG004157","Dihexyl phthalate (DHP)","Di-n-hexyl phthalate (DnHP)","R1;R2;D1","2015-03-17","2019-01-24","100.001.417","Substance Direct Entry",{"$f":"IF(J949=\"Group Member\",VLOOKUP(I949,#REF!,5,0),\"\")","v":""}]
["25550-51-0","247-094-1","IAEG004158","Hexahydromethylphthalic anhydride","Note: ECHA REF LIST JAN 2022 lists 100.239.158 as the parent of this substance.","D1","2015-03-17","2017-08-14","100.042.798","Substance Direct Entry"]
["776297-69-9","No EC available","IAEG004159","N-pentyl-isopentylphthalate","","R2;D1","2015-03-17","2015-03-17","100.149.209","Substance Direct Entry",{"$f":"IF(J951=\"Group Member\",VLOOKUP(I951,#REF!,5,0),\"\")","v":""}]
["57110-29-9","260-566-1","IAEG004160","Hexahydro-3-methylphthalic anhydride","Note: ECHA REF LIST JAN 2022 lists 100.239.158 as the parent of this substance.","D1","2015-03-17","2015-03-17","100.055.043","Substance Direct Entry"]
["14166-21-3","238-009-9","IAEG004161","Trans-cyclohexane-1,2-dicarboxylic anhydride","Note: ECHA REF LIST JAN 2022 lists 100.239.156 as the parent of this substance","D1","2015-03-17","2017-08-14","100.034.539","Substance Direct Entry"]
["3846-71-7","223-346-6","IAEG004162","2-Benzotriazol-2-yl-4,6-di-tert-butylphenol (UV-320)","","R1;R2;D1","2017-08-14","2017-08-14","100.021.225","Substance Direct Entry",{"$f":"IF(J954=\"Group Member\",VLOOKUP(I954,#REF!,5,0),\"\")","v":""}]
["3864-99-1","223-383-8","IAEG004163","2,4-Di-tert-butyl-6-(5-chlorobenzotriazol-2-yl)phenol (UV-327)","","R2;D1;I","2015-03-17","2015-03-17","100.021.259","Substance Direct Entry",{"$f":"IF(J955=\"Group Member\",VLOOKUP(I955,#REF!,5,0),\"\")","v":""}]
["2580-56-5","219-943-6","IAEG004164","[4-[[4-anilino-1-naphthyl][4-(dimethylamino)phenyl]methylene]cyclohexa-2,5-dien-1-ylidene]dimethylammonium chloride","C.I. Basic Blue 26; C.I. 44045","D1","2015-03-17","2015-03-17","100.018.131","Substance Direct Entry",{"$f":"IF(J956=\"Group Member\",VLOOKUP(I956,#REF!,5,0),\"\")","v":""}]
["25973-55-1","247-384-8","IAEG004165","2-(2H-benzotriazol-2-yl)-4,6-ditertpentylphenol (UV-328)","Tinuvin 328","R2;D1;I","2017-08-14","2017-08-14","100.043.062","Substance Direct Entry",{"$f":"IF(J957=\"Group Member\",VLOOKUP(I957,#REF!,5,0),\"\")","v":""}]
["No CAS available","No EC available","IAEG004166","Aluminosilicate Refractory Ceramic Fibres (Al-RCF) (fibres covered by index number 650-017-00-8 in Annex VI of Regulation (EC) No 1272/2008, and fulfilling the three following conditions: a) oxides of aluminium and silicon are the main components present (in the fibres) within variable concentration ranges b) fibres have a length weighted geometric mean diameter less two standard geometric errors of 6 or less micrometres  c) alkaline oxide and alkali earth oxide (Na2O+K2O+CaO+MgO+BaO) content less or equal to 18% by weight)","Note: ECHA REF LIST JAN 2022 lists 100.239.154 as a Substance Direct Entry.","D1","2017-08-14","2017-08-14","100.239.154","Group Direct Entry",{"$f":"IF(J958=\"Group Member\",VLOOKUP(I958,#REF!,5,0),\"\")","v":""}]
["142844-00-6","604-314-4","IAEG004633","Refractories, fibers, aluminosilicate",null,"D1","2015-03-17","2017-08-14","100.133.434","Group member","IAEG004166"]
["No CAS available","No EC available","IAEG004167","Zirconia Aluminosilicate Refractory Ceramic Fibres (ZrAl-RCF) (fibres covered by index number 650-017-00-8 in Annex VI of Regulation (EC) No 1272/2008, and fulfilling the three following conditions: a) oxides of aluminium, silicon and zirconium are the main components present (in the fibres) within variable concentration ranges b) fibres have a length weighted geometric mean diameter less two standard geometric errors of 6 or less micrometres. c) alkaline oxide and alkali earth oxide (Na2O+K2O+CaO+MgO+BaO) content less or equal to 18% by weight)","Note: ECHA REF LIST JAN 2022 lists 100.133.434 as a child of this substance.","D1","2015-03-17","2015-03-17","100.239.163","Substance Direct Entry"]
["561-41-1","209-218-2","IAEG004168","4,4'-Bis(dimethylamino)-4''-(methylamino)trityl alcohol","C.I. Solvent Violet 8","D1","2015-03-17","2015-03-17","100.008.381","Substance Direct Entry"]
["72629-94-8","276-745-2","IAEG004169","Pentacosafluorotridecanoic acid","","R1;R2;D1;I","2015-03-17","2015-03-17","100.069.747","Substance Direct Entry"]
["2058-94-8","218-165-4","IAEG004170","Henicosafluoroundecanoic acid","","R1;R2;D1;I","2015-03-17","2015-03-17","100.016.515","Substance Direct Entry"]
["13149-00-3","236-086-3","IAEG004171","Cis-cyclohexane-1,2-dicarboxylic anhydride","Note: ECHA REF LIST JAN 2022 lists 100.239.156 as the parent of this substance","D1","2015-03-17","2015-03-17","100.032.791","Substance Direct Entry"]
["48122-14-1","256-356-4","IAEG004172","Hexahydro-1-methylphthalic anhydride","Note: ECHA REF LIST JAN 2022 lists 100.239.158 as the parent of this substance.","D1","2017-08-14","2017-08-14","100.051.216","Substance Direct Entry"]
["No CAS available","No EC available","IAEG004173","4-(1,1,3,3-tetramethylbutyl)phenol, ethoxylated [covering well-defined substances and UVCB substances, polymers and homologues]","4-tert-Octylphenol ethoxylates (4-tert-OPnEO)","R2;D1","2017-08-14","2017-08-14","100.239.147","Group Direct Entry",{"$f":"IF(J966=\"Group Member\",VLOOKUP(I966,#REF!,5,0),\"\")","v":""}]
["2315-67-5","No EC available","IAEG004209","2-[4-(1,1,3,3-tetramethylbutyl)phenoxy]ethanol","","R2;D1","2015-03-17","2017-08-14","100.150.206","Group member","IAEG004173"]
["2315-61-9","No EC available","IAEG004210","2-[2-[4-(1,1,3,3-tetramethylbutyl)phenoxy]ethoxy]ethanol","","R2;D1","2015-03-17","2017-08-14","100.150.202","Group member","IAEG004173"]
["9002-93-1","No EC available","IAEG004211","Alpha-[4-(1,1,3,3-tetramethylbutyl)phenyl]-w-hydroxypoly(oxy-1,2-ethanediyl)","","R2;D1","2015-03-17","2017-08-14","100.123.919","Group member","IAEG004173"]
["2497-59-8","219-682-8","IAEG004212","20-[4-(1,1,3,3-tetramethylbutyl)phenoxy]-3,6,9,12,15,18-hexaoxaicosan-1-ol","","R2;D1","2015-03-17","2015-03-17","100.017.894","Group member","IAEG004173"]
["9036-19-5","618-541-1","IAEG004531","Glycols, polyethylene, mono((1,1,3,3-tet = Poly(oxy-1,2-ethanediyl), .alpha.-[(1,1,3,3-tetramethylbutyl) phenyl]-.omega.-hydroxy-",null,"R2;D1","2017-08-14","2017-08-14","100.120.858","Group member","IAEG004173"]
["38723-96-5","254-103-2","IAEG004532","29-[(1,1,3,3-tetramethylbutyl)phenoxy]-3,6,9,12,15,18,24,27-nonoxanonacosan-1-ol",null,"R2;D1","2017-08-14","2017-08-14",null,"Group member","IAEG004173"]
["9004-87-9","No EC available","IAEG006582","Poly(oxy-1,2-ethanediyl), .alpha.-(isooctylphenyl)-.omega.-hydroxy-",null,"R2;D1","2019-01-24","2020-01-16",null,"Group member","IAEG004173"]
["68648-93-1","272-013-1","IAEG004174","1,2-Benzenedicarboxylic acid, mixed decyl and hexyl and octyl diesters","Note: ECHA REF LIST JAN 2022 lists 100.239.145 as the parent of this substance.","R2;D1","2015-03-17","2015-03-17","100.065.447","Substance Direct Entry"]
["68515-50-4","271-093-5","IAEG004175","1,2-Benzenedicarboxylic acid, dihexyl ester, branched and linear (DIHP)","","R2;D1","2017-08-14","2017-08-14","100.064.610","Substance Direct Entry",{"$f":"IF(J975=\"Group Member\",VLOOKUP(I975,#REF!,5,0),\"\")","v":""}]
["36437-37-3","253-037-1","IAEG004176","2-(2H-Benzotriazol-2-yl)-4-(tert-butyl)-6-(sec-butyl)phenol (UV-350)","","R2;D1;I","2017-08-14","2017-08-14","100.048.200","Substance Direct Entry",{"$f":"IF(J976=\"Group Member\",VLOOKUP(I976,#REF!,5,0),\"\")","v":""}]
["21049-39-8","No EC available","IAEG004177","Perfluorononan-1-oic acid, sodium salt","Note: ECHA REF LIST JAN 2022 lists 100.242.186 as the parent of this substance.","R1;R2;D1;I","2017-08-14","2017-08-14","100.242.187","Substance Direct Entry"]
["4149-60-4","No EC available","IAEG004178","Perfluorononan-1-oic acid, ammonium salt","Note: ECHA REF LIST JAN 2022 lists 100.242.186 as the parent of this substance.","R1;R2;D1;I","2017-08-14","2017-08-14","100.242.185","Substance Direct Entry"]
["No CAS available","No EC available","IAEG004179","5-Sec-butyl-2-(2,4-dimethylcyclohex-3-en-1-yl)-5-methyl-1,3-dioxane [1], 5-sec-butyl-2-(4,6-dimethylcyclohex-3-en-1-yl)-5-methyl-1,3-dioxane [2] [covering any of the individual isomers of [1] and [2] or any combination thereof]","","R2;D1","2017-08-14","2017-08-14","100.239.151","Group Direct Entry",{"$f":"IF(J979=\"Group Member\",VLOOKUP(I979,#REF!,5,0),\"\")","v":""}]
["117933-89-8","No EC available","IAEG004378","1,3-Dioxane, 2-(2,4-dimethyl-3-cyclohexen-1-yl)-5-methyl-5-(1-methylpropyl)-","","R2;D1","2017-08-14","2017-08-14","100.120.617","Group member","IAEG004179"]
["No CAS available","413-720-9","IAEG008069","Karanal","Reaction mass of 5-sec-butyl-2-(2,4-dimethylcyclohex-3-en-1-yl)-5-methyl-1,3-dioxane and 5-sec-butyl-2-(4,6-dimethylcyclohex-3-en-1-yl)-5-methyl-1,3-dioxane","R2;D1","2020-01-16","2020-01-16","100.101.291","Group member","IAEG004179"]
["No CAS available","700-927-7","IAEG008102","Reaction mass of 5-[(2R)-butan-2-yl]-2-[(1R,2R)-2,4-dimethylcyclohex-3-en-1-yl]-5-methyl-1,3-dioxane and 5-[(2R)-butan-2-yl]-2-[(1R,2S)-2,4-dimethylcyclohex-3-en-1-yl]-5-methyl-1,3-dioxane and 5-[(2R)-butan-2-yl]-2-[(1S,2R)-2,4-dimethylcyclohex-3-en-1-yl]-5-methyl-1,3-dioxane and 5-[(2R)-butan-2-yl]-2-[(1S,2S)-2,4-dimethylcyclohex-3-en-1-yl]-5-methyl-1,3-dioxane and 5-[(2S)-butan-2-yl]-2-[(1S,2R)-2,4-dimethylcyclohex-3-en-1-yl]-5-methyl-1,3-dioxane and 5-[(2S)-butan-2-yl]-2-[(1S,2S)-2,4-dimethylcyclohex-3-en-1-yl]-5-methyl-1,3-dioxane",null,"R2;D1","2020-01-16","2020-01-16","100.225.073","Group member","IAEG004179"]
["13048-33-4","235-921-9","IAEG004180","Hexamethylene diacrylate (HDDA)","Hexane-1,6-diol diacrylate","I","2017-08-14","2017-08-14",null,"Substance Direct Entry",{"$f":"IF(J983=\"Group Member\",VLOOKUP(I983,#REF!,5,0),\"\")","v":""}]
["84-61-7","201-545-9","IAEG004181","Dicyclohexyl phthalate (DCHP)","","D1;I","2017-08-14","2019-01-24","100.001.405","Substance Direct Entry",{"$f":"IF(J984=\"Group Member\",VLOOKUP(I984,#REF!,5,0),\"\")","v":""}]
["No CAS available","No EC available","IAEG009236","Individual isomers of (+/-)-1,7,7-trimethyl-3-[(4-methylphenyl)methylene]bicyclo[2.2.1]heptan-2-one (4-MBC) or any combination thereof (4-MBC)",null,"D1","2022-02-17","2022-02-17","100.325.076","Group Direct Entry"]
["36861-47-9","253-242-6","IAEG004182","(+/-)-1,7,7-Trimethyl-3-[(4-methylphenyl)methylene]bicyclo[2.2.1]heptan-2-one","4-Methylbenzylidenecamphor (4-MBC)","R1;R2;D1;I","2015-03-17","2019-01-24","100.048.386","Group member","IAEG009236"]
["852541-30-1","No EC available","IAEG009259","(1S,3E,4R)-1,7,7-trimethyl-3-(4-methylbenzylidene)bicyclo[2.2.1]heptan-2-one",null,"D1","2022-02-17","2022-02-17","100.347.647","Group member","IAEG009236"]
["95342-41-9","No EC available","IAEG009260","(1R,3E,4S)-1,7,7-trimethyl-3-(4-methylbenzylidene)bicyclo[2.2.1]heptan-2-one",null,"D1","2022-02-17","2022-02-17","100.347.637","Group member","IAEG009236"]
["852541-21-0","No EC available","IAEG009261","(1R,3Z,4S)-1,7,7-trimethyl-3-(4-methylbenzylidene)bicyclo[2.2.1]heptan-2-one",null,"D1","2022-02-17","2022-02-17","100.347.640","Group member","IAEG009236"]
["852541-25-4","No EC available","IAEG009262","(1S,3Z,4R)-1,7,7-trimethyl-3-(4-methylbenzylidene)bicyclo[2.2.1]heptan-2-one",null,"D1","2022-02-17","2022-02-17","100.347.638","Group member","IAEG009236"]
["1782069-81-1","No EC available","IAEG009263","(3E)-1,7,7-trimethyl-3-(4-methylbenzylidene)bicyclo[2.2.1]heptan-2-one",null,"D1","2022-02-17","2022-02-17","100.332.682","Group member","IAEG009236"]
["741687-98-9","No EC available","IAEG009264","(1R,4S)-1,7,7-trimethyl-3-(4-methylbenzylidene)bicyclo[2.2.1]heptan-2-one",null,"D1","2022-02-17","2022-02-17","100.347.643","Group member","IAEG009236"]
["15087-24-8","239-139-9","IAEG004183","3-Benzylidenecamphor","3-Benzylidene Camphor (3-BC); 1,7,7-Trimethyl-3-(phenylmethylene)bicyclo[2.2.1]heptan-2-one","D1;I","2019-01-24","2019-01-24","100.035.567","Substance Direct Entry",{"$f":"IF(J993=\"Group Member\",VLOOKUP(I993,#REF!,5,0),\"\")","v":""}]
["75-01-4","200-831-0","IAEG004184","Vinyl chloride","Chloroethylene","R1;R2","2015-03-17","2017-08-14",null,"Substance Direct Entry",{"$f":"IF(J994=\"Group Member\",VLOOKUP(I994,#REF!,5,0),\"\")","v":""}]
["92-93-3","202-204-7","IAEG004185","4-Nitrobiphenyl","4-Nitrodiphenyl","R2","2020-01-16","2020-01-16",null,"Substance Direct Entry",{"$f":"IF(J995=\"Group Member\",VLOOKUP(I995,#REF!,5,0),\"\")","v":""}]
["91-59-8","202-080-4","IAEG004186","2-Naphthylamine","","R1;R2","2015-03-17","2015-03-17",null,"Substance Direct Entry",{"$f":"IF(J996=\"Group Member\",VLOOKUP(I996,#REF!,5,0),\"\")","v":""}]
["75-35-4","200-864-0","IAEG004187","1,1-Dichloroethene","1,1-Dichloroethylene; Vinylydene dichloride","R2","2015-03-17","2017-08-14",null,"Substance Direct Entry",{"$f":"IF(J997=\"Group Member\",VLOOKUP(I997,#REF!,5,0),\"\")","v":""}]
["79-00-5","201-166-9","IAEG004188","1,1,2-Trichloroethane","Vinyl trichloride","R1;R2;I","2015-03-17","2015-03-17",null,"Substance Direct Entry",{"$f":"IF(J998=\"Group Member\",VLOOKUP(I998,#REF!,5,0),\"\")","v":""}]
["101-68-8","202-966-0","IAEG004189","4,4'-Methylenediphenyl diisocyanate","","I","2017-08-14","2017-08-14",null,"Substance Direct Entry",{"$f":"IF(J999=\"Group Member\",VLOOKUP(I999,#REF!,5,0),\"\")","v":""}]
["2536-05-2","219-799-4","IAEG004190","2,2'-Methylenediphenyl diisocyanate","","I","2015-03-17","2017-08-14",null,"Substance Direct Entry",{"$f":"IF(J1000=\"Group Member\",VLOOKUP(I1000,#REF!,5,0),\"\")","v":""}]
["67-72-1","200-666-4","IAEG004191","Hexachloroethane","","R1;R2","2017-08-14","2017-08-14",null,"Substance Direct Entry",{"$f":"IF(J1001=\"Group Member\",VLOOKUP(I1001,#REF!,5,0),\"\")","v":""}]
["630-20-6","211-135-1","IAEG004192","1,1,1,2-Tetrachloroethane","","R1;R2","2015-03-17","2017-08-14",null,"Substance Direct Entry",{"$f":"IF(J1002=\"Group Member\",VLOOKUP(I1002,#REF!,5,0),\"\")","v":""}]
["624-49-7","210-849-0","IAEG004194","Dimethyl fumarate (DMF)","","R1","2015-03-17","2017-08-14",null,"Substance Direct Entry",{"$f":"IF(J1003=\"Group Member\",VLOOKUP(I1003,#REF!,5,0),\"\")","v":""}]
["132207-33-1","No EC available","IAEG004197","Crocidolite (asbestos fibre)","","R1;R2;D1","2020-01-16","2020-01-16",null,"Substance Direct Entry",{"$f":"IF(J1004=\"Group Member\",VLOOKUP(I1004,#REF!,5,0),\"\")","v":""}]
["12001-28-4","601-649-8","IAEG004198","Crocidolite (asbestos fibre)","","R1;R2;D1","2015-03-17","2017-08-14",null,"Substance Direct Entry",{"$f":"IF(J1005=\"Group Member\",VLOOKUP(I1005,#REF!,5,0),\"\")","v":""}]
["13768-00-8","No EC available","IAEG004199","Actinolite (asbestos fibre)","","R1;R2;D1","2019-01-24","2019-01-24",null,"Substance Direct Entry",{"$f":"IF(J1006=\"Group Member\",VLOOKUP(I1006,#REF!,5,0),\"\")","v":""}]
["12172-67-7","No EC available","IAEG004200","Actinolite (asbestos fibre)","Ferroactinolite","R1;R2;D1","2019-01-24","2019-01-24",null,"Substance Direct Entry",{"$f":"IF(J1007=\"Group Member\",VLOOKUP(I1007,#REF!,5,0),\"\")","v":""}]
["77536-66-4","616-471-6","IAEG004201","Actinolite (asbestos fibre)","","R1;R2;D1","2015-03-17","2017-08-14",null,"Substance Direct Entry",{"$f":"IF(J1008=\"Group Member\",VLOOKUP(I1008,#REF!,5,0),\"\")","v":""}]
["14567-73-8","No EC available","IAEG004202","Tremolite (asbestos fibre)","","R1;R2;D1","2015-03-17","2017-08-14",null,"Substance Direct Entry",{"$f":"IF(J1009=\"Group Member\",VLOOKUP(I1009,#REF!,5,0),\"\")","v":""}]
["77536-68-6","616-473-7","IAEG004203","Tremolite (asbestos fibre)","","R1;R2;D1","2015-03-17","2017-08-14",null,"Substance Direct Entry",{"$f":"IF(J1010=\"Group Member\",VLOOKUP(I1010,#REF!,5,0),\"\")","v":""}]
["17068-78-9","No EC available","IAEG004204","Anthophyllite (asbestos fibre)","","R1;R2;D1","2015-03-17","2017-08-14",null,"Substance Direct Entry",{"$f":"IF(J1011=\"Group Member\",VLOOKUP(I1011,#REF!,5,0),\"\")","v":""}]
["77536-67-5","616-472-1","IAEG004205","Anthophyllite (asbestos fibre)","","R1;R2;D1","2015-03-17","2017-08-14",null,"Substance Direct Entry",{"$f":"IF(J1012=\"Group Member\",VLOOKUP(I1012,#REF!,5,0),\"\")","v":""}]
["106-93-4","203-444-5","IAEG004214","1,2-Dibromoethane","Ethylene dibromide (EDB)","R2;I","2017-08-14","2017-08-14",null,"Substance Direct Entry",{"$f":"IF(J1013=\"Group Member\",VLOOKUP(I1013,#REF!,5,0),\"\")","v":""}]
["6807-17-6","401-720-1","IAEG004215","2,2-Bis(4'-hydroxyphenyl)-4-methylpentane","4,4-Isobutylethylidenediphenol","D1;I","2015-03-17","2019-01-24","100.100.362","Substance Direct Entry",{"$f":"IF(J1014=\"Group Member\",VLOOKUP(I1014,#REF!,5,0),\"\")","v":""}]
["98-54-4","202-679-0","IAEG004216","4-Tert-butylphenol","P-Tert-butylphenol","D1;I","2015-03-17","2020-01-16","100.002.436","Substance Direct Entry",{"$f":"IF(J1015=\"Group Member\",VLOOKUP(I1015,#REF!,5,0),\"\")","v":""}]
["79-94-7","201-236-9","IAEG004217","Tetrabromobisphenol A","2,2',6,6'-Tetrabromo-4,4'-isopropylidenediphenol (TBBPA)","R2;I","2017-08-14","2017-08-14",null,"Substance Direct Entry",{"$f":"IF(J1016=\"Group Member\",VLOOKUP(I1016,#REF!,5,0),\"\")","v":""}]
["552-30-7","209-008-0","IAEG004221","1,2,4-Benzenetricarboxylic acid 1,2-anhydride","Benzene-1,2,4-tricarboxylic acid 1,2-anhydride","D1;I","2015-03-17","2019-01-24","100.008.190","Substance Direct Entry",{"$f":"IF(J1017=\"Group Member\",VLOOKUP(I1017,#REF!,5,0),\"\")","v":""}]
["5124-30-1","225-863-2","IAEG004222","4,4'-methylenedicyclohexyl diisocyanate","","I","2015-03-17","2015-03-17",null,"Substance Direct Entry",{"$f":"IF(J1018=\"Group Member\",VLOOKUP(I1018,#REF!,5,0),\"\")","v":""}]
["822-06-0","212-485-8","IAEG004223","Hexamethylene diisocyanate","Hexamethylene-1,6-diisocyanate (HDI)","I","2017-08-14","2017-08-14",null,"Substance Direct Entry",{"$f":"IF(J1019=\"Group Member\",VLOOKUP(I1019,#REF!,5,0),\"\")","v":""}]
["26471-62-5","247-722-4","IAEG004224","Toluene diisocyanate (TDI)","M-Tolylidene diisocyanate; 1,3-Diisocyanato(methyl)benzene; Toluene diisocyanates, mixed (TDI)","I","2017-08-14","2017-08-14",null,"Substance Direct Entry",{"$f":"IF(J1020=\"Group Member\",VLOOKUP(I1020,#REF!,5,0),\"\")","v":""}]
["107-15-3","203-468-6","IAEG004225","Ethylenediamine","","D1;I","2017-08-14","2019-01-24","100.003.154","Substance Direct Entry",{"$f":"IF(J1021=\"Group Member\",VLOOKUP(I1021,#REF!,5,0),\"\")","v":""}]
["111-30-8","203-856-5","IAEG004226","Glutaral","Glutaraldehyde; 1,5-Pentanedial; Pentane-1,5-dial; Pentanedial","D1;I","2017-08-14","2017-08-14","100.003.506","Substance Direct Entry",{"$f":"IF(J1022=\"Group Member\",VLOOKUP(I1022,#REF!,5,0),\"\")","v":""}]
["64742-82-1","265-185-4","IAEG004228","Naphtha (petroleum), hydrodesulphurised heavy","White spirit type 1","I","2017-08-14","2017-08-14",null,"Substance Direct Entry",{"$f":"IF(J1023=\"Group Member\",VLOOKUP(I1023,#REF!,5,0),\"\")","v":""}]
["64742-48-9","265-150-3","IAEG004229","Naphtha (petroleum), hydrotreated heavy","","I","2017-08-14","2017-08-14",null,"Substance Direct Entry",{"$f":"IF(J1024=\"Group Member\",VLOOKUP(I1024,#REF!,5,0),\"\")","v":""}]
["106-50-3","203-404-7","IAEG004230","p-Phenylenediamine","","I","2017-08-14","2017-08-14",null,"Substance Direct Entry",{"$f":"IF(J1025=\"Group Member\",VLOOKUP(I1025,#REF!,5,0),\"\")","v":""}]
["137-30-4","205-288-3","IAEG004231","Ziram","","I","2015-03-17","2015-03-17",null,"Substance Direct Entry",{"$f":"IF(J1026=\"Group Member\",VLOOKUP(I1026,#REF!,5,0),\"\")","v":""}]
["3173-72-6","221-641-4","IAEG004232","1,5-naphthylene diisocyanate","","I","2017-08-14","2019-01-24",null,"Substance Direct Entry",{"$f":"IF(J1027=\"Group Member\",VLOOKUP(I1027,#REF!,5,0),\"\")","v":""}]
["26447-40-5","247-714-0","IAEG004233","Methylenediphenyl diisocyanate (MDI)","Methylene diphenyl diisocyanate (MDI) mixed isomers","I","2017-08-14","2019-01-24",null,"Substance Direct Entry",{"$f":"IF(J1028=\"Group Member\",VLOOKUP(I1028,#REF!,5,0),\"\")","v":""}]
["1308-06-1","215-157-2","IAEG004234","Tricobalt tetraoxide","","I","2017-08-14","2017-08-14",null,"Substance Direct Entry",{"$f":"IF(J1029=\"Group Member\",VLOOKUP(I1029,#REF!,5,0),\"\")","v":""}]
["67-43-6","200-652-8","IAEG004235","N-Carboxymethyliminobis(ethylenenitrilo)tetra(acetic acid)","Pentetic acid","I","2017-08-14","2017-08-14",null,"Substance Direct Entry",{"$f":"IF(J1030=\"Group Member\",VLOOKUP(I1030,#REF!,5,0),\"\")","v":""}]
["80-09-1","201-250-5","IAEG004236","Bisphenol S (BPS)","4,4'-Sulphonyldiphenol; 4,4'-Sulfonyldiphenol","I","2017-08-14","2019-01-24",null,"Substance Direct Entry",{"$f":"IF(J1031=\"Group Member\",VLOOKUP(I1031,#REF!,5,0),\"\")","v":""}]
["128-37-0","204-881-4","IAEG004237","2,6-Di-tert-butyl-4-methylphenol","2,6-Di-tert-butyl-p-cresol; Butylated hydroxytoluene (BHT)","I","2015-03-17","2015-03-17",null,"Substance Direct Entry",{"$f":"IF(J1032=\"Group Member\",VLOOKUP(I1032,#REF!,5,0),\"\")","v":""}]
["504-60-9","207-995-2","IAEG004238","Penta-1,3-diene","","I","2017-08-14","2019-01-24",null,"Substance Direct Entry",{"$f":"IF(J1033=\"Group Member\",VLOOKUP(I1033,#REF!,5,0),\"\")","v":""}]
["584-84-9","209-544-5","IAEG004239","4-Methyl-m-phenylene diisocyanate","2,4-Toluene diisocyanate","I","2015-03-17","2015-03-17",null,"Substance Direct Entry",{"$f":"IF(J1034=\"Group Member\",VLOOKUP(I1034,#REF!,5,0),\"\")","v":""}]
["2778-42-9","220-474-4","IAEG004240","1,3-bis(1-isocyanato-1-methylethyl)benzene","","I","2017-08-14","2017-08-14",null,"Substance Direct Entry",{"$f":"IF(J1035=\"Group Member\",VLOOKUP(I1035,#REF!,5,0),\"\")","v":""}]
["5873-54-1","227-534-9","IAEG004241","O-(p-isocyanatobenzyl)phenyl isocyanate","2,4'-Methylenediphenyl diisocyanate (2,4'MDI)","I","2017-08-14","2017-08-14",null,"Substance Direct Entry",{"$f":"IF(J1036=\"Group Member\",VLOOKUP(I1036,#REF!,5,0),\"\")","v":""}]
["7664-93-9","231-639-5","IAEG004242","Sulphuric acid","Sulfuric acid","I","2017-08-14","2017-08-14",null,"Substance Direct Entry",{"$f":"IF(J1037=\"Group Member\",VLOOKUP(I1037,#REF!,5,0),\"\")","v":""}]
["13674-84-5","237-158-7","IAEG004243","Tris(2-chloro-1-methylethyl) phosphate","Tris (1-chloro-2-propyl) phosphate (TCPP)","I","2015-03-17","2015-03-17",null,"Substance Direct Entry",{"$f":"IF(J1038=\"Group Member\",VLOOKUP(I1038,#REF!,5,0),\"\")","v":""}]
["68855-54-9","272-489-0","IAEG004244","Kieselguhr, soda ash flux-calcined (SiO2) (amorphous silica)","","I","2015-03-17","2015-03-17",null,"Substance Direct Entry",{"$f":"IF(J1039=\"Group Member\",VLOOKUP(I1039,#REF!,5,0),\"\")","v":""}]
["91-08-7","202-039-0","IAEG004245","2-Methyl-m-phenylene diisocyanate","2,6-Toluene diisocyanate","I","2017-08-14","2017-08-14",null,"Substance Direct Entry",{"$f":"IF(J1040=\"Group Member\",VLOOKUP(I1040,#REF!,5,0),\"\")","v":""}]
["91-97-4","202-112-7","IAEG004246","3,3'-Dimethylbiphenyl-4,4'-diyl diisocyanate","","I","2017-08-14","2019-01-24",null,"Substance Direct Entry",{"$f":"IF(J1041=\"Group Member\",VLOOKUP(I1041,#REF!,5,0),\"\")","v":""}]
["119-36-8","204-317-7","IAEG004247","Methyl salicylate","","I","2017-08-14","2017-08-14",null,"Substance Direct Entry",{"$f":"IF(J1042=\"Group Member\",VLOOKUP(I1042,#REF!,5,0),\"\")","v":""}]
["2440-22-4","219-470-5","IAEG004248","2-(2H-benzotriazol-2-yl)-p-cresol","Drometrizole; 2-(2H-benzotriazol-2-yl)-4-methylphenol (UV-P)","I","2017-08-14","2017-08-14",null,"Substance Direct Entry",{"$f":"IF(J1043=\"Group Member\",VLOOKUP(I1043,#REF!,5,0),\"\")","v":""}]
["8052-41-3","232-489-3","IAEG004249","Stoddard solvent","","I","2017-08-14","2017-08-14",null,"Substance Direct Entry",{"$f":"IF(J1044=\"Group Member\",VLOOKUP(I1044,#REF!,5,0),\"\")","v":""}]
["18172-67-3","242-060-2","IAEG004250","(-)-Pin-2(10)-ene","L-beta-pinene","I","2017-08-14","2019-01-24",null,"Substance Direct Entry",{"$f":"IF(J1045=\"Group Member\",VLOOKUP(I1045,#REF!,5,0),\"\")","v":""}]
["26038-87-9","247-421-8","IAEG004251","Orthoboric acid, compound with 2-aminoethanol","","I","2017-08-14","2017-08-14",null,"Substance Direct Entry",{"$f":"IF(J1046=\"Group Member\",VLOOKUP(I1046,#REF!,5,0),\"\")","v":""}]
["64742-88-7","265-191-7","IAEG004253","Solvent naphtha (petroleum), medium aliph.","","I","2017-08-14","2017-08-14",null,"Substance Direct Entry",{"$f":"IF(J1047=\"Group Member\",VLOOKUP(I1047,#REF!,5,0),\"\")","v":""}]
["131-56-6","205-029-4","IAEG004255","2,4-dihydroxybenzophenone","Benzophenone-1","I","2017-08-14","2017-08-14",null,"Substance Direct Entry",{"$f":"IF(J1048=\"Group Member\",VLOOKUP(I1048,#REF!,5,0),\"\")","v":""}]
["131-55-5","205-028-9","IAEG004256","2,2',4,4'-tetrahydroxybenzophenone","Benzophenone-2 (Bp-2)","I","2017-08-14","2017-08-14",null,"Substance Direct Entry",{"$f":"IF(J1049=\"Group Member\",VLOOKUP(I1049,#REF!,5,0),\"\")","v":""}]
["131-57-7","205-031-5","IAEG004257","Oxybenzone","Benzophenone-3; 2-Hydroxy-4-methoxybenzophenone","I","2017-08-14","2017-08-14",null,"Substance Direct Entry",{"$f":"IF(J1050=\"Group Member\",VLOOKUP(I1050,#REF!,5,0),\"\")","v":""}]
["25013-16-5","246-563-8","IAEG004258","Tert-butyl-4-methoxyphenol","Butylated hydroxyanisole (BHA)","I","2017-08-14","2017-08-14",null,"Substance Direct Entry",{"$f":"IF(J1051=\"Group Member\",VLOOKUP(I1051,#REF!,5,0),\"\")","v":""}]
["3147-75-9","221-573-5","IAEG004261","2-(2H-benzotriazol-2-yl)-4-(1,1,3,3-tetramethylbutyl)phenol (UV-329)","","I","2017-08-14","2017-08-14",null,"Substance Direct Entry",{"$f":"IF(J1052=\"Group Member\",VLOOKUP(I1052,#REF!,5,0),\"\")","v":""}]
["3296-90-0","221-967-7","IAEG004262","2,2-Bis(bromomethyl)-1,3-propanediol","2,2-Bis(bromomethyl)propane-1,3-diol","D1;I","2017-08-14","2017-08-14","100.019.971","Substance Direct Entry",{"$f":"IF(J1053=\"Group Member\",VLOOKUP(I1053,#REF!,5,0),\"\")","v":""}]
["70321-86-7","274-570-6","IAEG004263","2-(2H-benzotriazol-2-yl)-4,6-bis(1-methyl-1-phenylethyl)phenol (UV-234)","","I","2017-08-14","2017-08-14",null,"Substance Direct Entry",{"$f":"IF(J1054=\"Group Member\",VLOOKUP(I1054,#REF!,5,0),\"\")","v":""}]
["620-92-8","210-658-2","IAEG004264","4,4'-Methylenediphenol","Bis(4-hydroxyphenyl)methane; Bisphenol F (BPF)","I","2017-08-14","2017-08-14",null,"Substance Direct Entry",{"$f":"IF(J1055=\"Group Member\",VLOOKUP(I1055,#REF!,5,0),\"\")","v":""}]
["80-46-6","201-280-9","IAEG004265","p-(1,1-Dimethylpropyl)phenol","4-Tert-pentylphenol","D1;I","2017-08-14","2017-08-14","100.001.165","Substance Direct Entry",{"$f":"IF(J1056=\"Group Member\",VLOOKUP(I1056,#REF!,5,0),\"\")","v":""}]
["73936-91-1","422-600-5","IAEG004267","2-(2H-Benzotriazole-2-yl)-6-(1-methyl-1-phenylethyl)-4-(1,1,3,3-tetramethylbutyl)phenol (UV-928)","","I","2017-08-14","2017-08-14",null,"Substance Direct Entry",{"$f":"IF(J1057=\"Group Member\",VLOOKUP(I1057,#REF!,5,0),\"\")","v":""}]
["25713-60-4","426-040-2","IAEG004268","2,4,6-Tris(2,4,6-tribromophenoxy)-1,3,5-triazine","","I","2017-08-14","2017-08-14",null,"Substance Direct Entry",{"$f":"IF(J1058=\"Group Member\",VLOOKUP(I1058,#REF!,5,0),\"\")","v":""}]
["1478-61-1","216-036-7","IAEG004269","4,4'-[2,2,2-Trifluoro-1-(trifluoromethyl)ethylidene]diphenol","","I","2017-08-14","2017-08-14",null,"Substance Direct Entry",{"$f":"IF(J1059=\"Group Member\",VLOOKUP(I1059,#REF!,5,0),\"\")","v":""}]
["3108-42-7","221-470-5","IAEG004270","Ammonium nonadecafluorodecanoate","Ammonium salt of Nonadecafluorodecanoic acid Note: ECHA REF LIST JAN 2022 lists 100.244.606 as the parent of this substance.","R1;R2;D1;I","2017-08-14","2017-08-14","100.019.518","Substance Direct Entry"]
["39635-79-5","254-551-9","IAEG004271","4,4'-sulphonylbis[2,6-dibromophenol]","","I","2020-01-16","2020-01-16",null,"Substance Direct Entry",{"$f":"IF(J1061=\"Group Member\",VLOOKUP(I1061,#REF!,5,0),\"\")","v":""}]
["50926-11-9","610-589-1","IAEG004274","Indium tin oxide (ITO)","","I","2015-03-17","2017-08-14",null,"Substance Direct Entry",{"$f":"IF(J1062=\"Group Member\",VLOOKUP(I1062,#REF!,5,0),\"\")","v":""}]
["3830-45-3","No EC available","IAEG004276","Sodium nonadecafluorodecanoate","Sodium salt of Nonadecafluorodecanoic acid Note: ECHA REF LIST JAN 2022 lists 100.244.606 as the parent of this substance.","R1;R2;D1;I","2015-03-17","2017-08-14","100.249.275","Substance Direct Entry"]
["80-05-7","201-245-8","IAEG004277","Bisphenol A (BPA)","4,4'-Isopropylidenediphenol","D1;I","2015-03-17","2019-01-24","100.001.133","Substance Direct Entry",{"$f":"IF(J1064=\"Group Member\",VLOOKUP(I1064,#REF!,5,0),\"\")","v":""}]
["553-00-4","209-030-0","IAEG004279","2-naphthylammonium acetate","","R1;R2;I","2015-03-17","2017-08-14",null,"Substance Direct Entry",{"$f":"IF(J1065=\"Group Member\",VLOOKUP(I1065,#REF!,5,0),\"\")","v":""}]
["115-32-2","204-082-0","IAEG004283","Dicofol","2,2,2-Trichloro-1,1-bis(4-chlorophenyl)ethanol; Kelthane","R1;R2;I","2020-01-16","2020-01-16",null,"Substance Direct Entry",{"$f":"IF(J1066=\"Group Member\",VLOOKUP(I1066,#REF!,5,0),\"\")","v":""}]
["12001-29-5","601-650-3","IAEG004284","Chrysotile (asbestos fibre)","","R1;R2;D1","2017-08-14","2017-08-14",null,"Substance Direct Entry",{"$f":"IF(J1067=\"Group Member\",VLOOKUP(I1067,#REF!,5,0),\"\")","v":""}]
["132207-32-0","601-650-3","IAEG004285","Chrysotile (asbestos fibre)","","R1;R2;D1","2015-03-17","2017-08-14",null,"Substance Direct Entry",{"$f":"IF(J1068=\"Group Member\",VLOOKUP(I1068,#REF!,5,0),\"\")","v":""}]
["93-76-5","202-273-3","IAEG004286","2,4,5-Trichlorophenoxyacetic acid (2,4,5-T)","Trioxone","R2","2017-08-14","2017-08-14",null,"Substance Direct Entry",{"$f":"IF(J1069=\"Group Member\",VLOOKUP(I1069,#REF!,5,0),\"\")","v":""}]
["1910-42-5","217-615-7","IAEG004290","Paraquat-dichloride","1,1-Dimethyl-4,4'-bipyridinium dichloride","R2","2017-08-14","2017-08-14",null,"Substance Direct Entry",{"$f":"IF(J1070=\"Group Member\",VLOOKUP(I1070,#REF!,5,0),\"\")","v":""}]
["12172-73-5","601-801-3","IAEG004291","Amosite","Grunerite (asbestos fibre)","R1;R2;D1","2017-08-14","2017-08-14",null,"Substance Direct Entry",{"$f":"IF(J1071=\"Group Member\",VLOOKUP(I1071,#REF!,5,0),\"\")","v":""}]
["7446-18-6","231-201-3","IAEG004292","Dithallium sulphate","Thallic sulphate","R2","2015-03-17","2015-03-17",null,"Substance Direct Entry",{"$f":"IF(J1072=\"Group Member\",VLOOKUP(I1072,#REF!,5,0),\"\")","v":""}]
["76-06-2","200-930-9","IAEG004293","Trichloronitromethane","Chloropicrin","R2","2015-03-17","2017-08-14",null,"Substance Direct Entry",{"$f":"IF(J1073=\"Group Member\",VLOOKUP(I1073,#REF!,5,0),\"\")","v":""}]
["57-24-9","200-319-7","IAEG004295","Strychnine","","R2","2017-08-14","2017-08-14",null,"Substance Direct Entry",{"$f":"IF(J1074=\"Group Member\",VLOOKUP(I1074,#REF!,5,0),\"\")","v":""}]
["115-29-7","204-079-4","IAEG004297","Endosulfan","","R1;R2","2017-08-14","2017-08-14",null,"Substance Direct Entry",{"$f":"IF(J1075=\"Group Member\",VLOOKUP(I1075,#REF!,5,0),\"\")","v":""}]
["2551-62-4","219-854-2","IAEG004298","Sulphur hexafluoride","","R1;R2;D1","2017-08-14","2017-08-14",null,"Substance Direct Entry",{"$f":"IF(J1076=\"Group Member\",VLOOKUP(I1076,#REF!,5,0),\"\")","v":""}]
["920-66-1","213-059-4","IAEG004301","1,1,1,3,3,3-hexafluoropropan-2-ol","","D1","2017-08-14","2017-08-14",null,"Substance Direct Entry",{"$f":"IF(J1077=\"Group Member\",VLOOKUP(I1077,#REF!,5,0),\"\")","v":""}]
["422-05-9","207-012-7","IAEG004302","2,2,3,3,3-pentafluoropropanol","","D1","2017-08-14","2017-08-14",null,"Substance Direct Entry",{"$f":"IF(J1078=\"Group Member\",VLOOKUP(I1078,#REF!,5,0),\"\")","v":""}]
["7783-54-2","232-007-1","IAEG004303","Nitrogen trifluoride","","D1","2015-03-17","2017-08-14",null,"Substance Direct Entry",{"$f":"IF(J1079=\"Group Member\",VLOOKUP(I1079,#REF!,5,0),\"\")","v":""}]
["69991-67-9","No EC available","IAEG004304","1-Propene, 1,1,2,3,3,3-hexafluoro-, oxidized, polymd.","","D1","2015-03-17","2017-08-14",null,"Substance Direct Entry",{"$f":"IF(J1080=\"Group Member\",VLOOKUP(I1080,#REF!,5,0),\"\")","v":""}]
["163702-07-6","605-339-3","IAEG004305","Butane, 1,1,1,2,2,3,3,4,4-nonafluoro-4-methoxy-","","D1","2015-03-17","2017-08-14",null,"Substance Direct Entry",{"$f":"IF(J1081=\"Group Member\",VLOOKUP(I1081,#REF!,5,0),\"\")","v":""}]
["57041-67-5","No EC available","IAEG004311","2-(Difluoromethoxy)-1,1,1,2-tetrafluoroethane","Desflurane (HFE-236ea2)","D1","2019-01-24","2019-01-24",null,"Substance Direct Entry",{"$f":"IF(J1082=\"Group Member\",VLOOKUP(I1082,#REF!,5,0),\"\")","v":""}]
["188690-77-9","No EC available","IAEG004329","1-(Difluoromethoxy)-2-((difluoromethoxy)difluoromethoxy)-1,1,2,2-tetrafluoroethane (HFE-43-10pccc124) (H-Galden 1040x, HG-11)","","D1","2020-01-16","2020-01-16",null,"Substance Direct Entry",{"$f":"IF(J1083=\"Group Member\",VLOOKUP(I1083,#REF!,5,0),\"\")","v":""}]
["75-61-6","200-885-5","IAEG004332","Dibromodifluoromethane (Halon 1202)","","R1;R2;D1","2020-01-16","2020-01-16",null,"Substance Direct Entry",{"$f":"IF(J1084=\"Group Member\",VLOOKUP(I1084,#REF!,5,0),\"\")","v":""}]
["74-87-3","200-817-4","IAEG004333","Chloromethane","Methyl chloride","R1;R2;D1","2017-08-14","2017-08-14",null,"Substance Direct Entry",{"$f":"IF(J1085=\"Group Member\",VLOOKUP(I1085,#REF!,5,0),\"\")","v":""}]
["74-96-4","200-825-8","IAEG004334","Bromoethane","Ethyl bromide","D1","2015-03-17","2015-03-17",null,"Substance Direct Entry",{"$f":"IF(J1086=\"Group Member\",VLOOKUP(I1086,#REF!,5,0),\"\")","v":""}]
["2314-97-8","219-014-5","IAEG004335","Trifluoroiodomethane","Trifluoromethyl iodide","D1","2017-08-14","2017-08-14",null,"Substance Direct Entry",{"$f":"IF(J1087=\"Group Member\",VLOOKUP(I1087,#REF!,5,0),\"\")","v":""}]
["58-89-9","200-401-2","IAEG004336","Lindane","Gamma-HCH; Gamma-BHC; Gamma-1,2,3,4,5,6-hexachlorocyclohexane","R1;R2","2017-08-14","2017-08-14",null,"Substance Direct Entry",{"$f":"IF(J1088=\"Group Member\",VLOOKUP(I1088,#REF!,5,0),\"\")","v":""}]
["608-73-1","210-168-9","IAEG004337","Hexachlorocyclohexane","HCH; BCH","R1;R2","2017-08-14","2017-08-14",null,"Substance Direct Entry",{"$f":"IF(J1089=\"Group Member\",VLOOKUP(I1089,#REF!,5,0),\"\")","v":""}]
["53558-25-1","258-626-7","IAEG004340","Pyriminil","1-(4-nitrophenyl)-3-(3-pyridylmethyl)urea","R2","2020-01-16","2020-01-16",null,"Substance Direct Entry",{"$f":"IF(J1090=\"Group Member\",VLOOKUP(I1090,#REF!,5,0),\"\")","v":""}]
["11097-69-1","No EC available","IAEG004341","PCB Aroclor 1254","","R1;R2;D1","2017-08-14","2017-08-14",null,"Substance Direct Entry",{"$f":"IF(J1091=\"Group Member\",VLOOKUP(I1091,#REF!,5,0),\"\")","v":""}]
["5103-71-9","225-825-5","IAEG004342","Rel-(1R,2S,3R,4S,6S,7S)-1,3,4,7,8,9,10,10-Octachlorotricyclo[5.2.1.0(2,6)]dec-8-ene","","R1;R2","2015-03-17","2015-03-17",null,"Substance Direct Entry",{"$f":"IF(J1092=\"Group Member\",VLOOKUP(I1092,#REF!,5,0),\"\")","v":""}]
["5566-34-7","226-938-2","IAEG004343","1,4,4,7,8,9,10,10-Octachlorotricyclo[5.2.1.0(2,6)]dec-8-ene","","R1;R2","2017-08-14","2017-08-14",null,"Substance Direct Entry",{"$f":"IF(J1093=\"Group Member\",VLOOKUP(I1093,#REF!,5,0),\"\")","v":""}]
["56534-03-3","No EC available","IAEG004345","Rel-(1R,4S,7S,8S,9S)-2,3,4,5,6,9-Hexachlorotricyclo[5.2.1.0(4,8)]deca-2,5-diene","","R1;R2","2020-01-16","2020-01-16",null,"Substance Direct Entry",{"$f":"IF(J1094=\"Group Member\",VLOOKUP(I1094,#REF!,5,0),\"\")","v":""}]
["4736-49-6","No EC available","IAEG004352","Rel-(1R,2S,5R,6S,9R,10S)-1,2,5,6,9,10-Hexabromocyclododecane","","R1;R2;D1","2019-01-24","2019-01-24",null,"Substance Direct Entry",{"$f":"IF(J1095=\"Group Member\",VLOOKUP(I1095,#REF!,5,0),\"\")","v":""}]
["65701-47-5","No EC available","IAEG004353","Rel-(1R,2S,5R,6S,9S,10R)-1,2,5,6,9,10-Hexabromocyclododecane","","R1;R2;D1","2019-01-24","2019-01-24",null,"Substance Direct Entry",{"$f":"IF(J1096=\"Group Member\",VLOOKUP(I1096,#REF!,5,0),\"\")","v":""}]
["138257-17-7","No EC available","IAEG004354","(1R,2R,5R,6S,9S,10S)-1,2,5,6,9,10-Hexabromocyclododecane","","R1;R2;D1","2019-01-24","2019-01-24",null,"Substance Direct Entry",{"$f":"IF(J1097=\"Group Member\",VLOOKUP(I1097,#REF!,5,0),\"\")","v":""}]
["138257-18-8","No EC available","IAEG004355","(1R,2R,5R,6S,9R,10S)-1,2,5,6,9,10-Hexabromocyclododecane","","R1;R2;D1","2017-08-14","2017-08-14",null,"Substance Direct Entry",{"$f":"IF(J1098=\"Group Member\",VLOOKUP(I1098,#REF!,5,0),\"\")","v":""}]
["138257-19-9","No EC available","IAEG004356","(1R,2S,5S,6R,9S,10S)-1,2,5,6,9,10-Hexabromocyclododecane","","R1;R2;D1","2019-01-24","2019-01-24",null,"Substance Direct Entry",{"$f":"IF(J1099=\"Group Member\",VLOOKUP(I1099,#REF!,5,0),\"\")","v":""}]
["169102-57-2","No EC available","IAEG004357","(1R,2S,5S,6S,9S,10R)-1,2,5,6,9,10-Hexabromocyclododecane","","R1;R2;D1","2019-01-24","2019-01-24",null,"Substance Direct Entry",{"$f":"IF(J1100=\"Group Member\",VLOOKUP(I1100,#REF!,5,0),\"\")","v":""}]
["678970-15-5","No EC available","IAEG004358","(1R,2R,5S,6R,9R,10S)-1,2,5,6,9,10-Hexabromocyclododecane","","R1;R2;D1","2019-01-24","2019-01-24",null,"Substance Direct Entry",{"$f":"IF(J1101=\"Group Member\",VLOOKUP(I1101,#REF!,5,0),\"\")","v":""}]
["678970-16-6","No EC available","IAEG004359","(1R,2S,5R,6S,9S,10S)-1,2,5,6,9,10-Hexabromocyclododecane","","R1;R2;D1","2020-01-16","2020-01-16",null,"Substance Direct Entry",{"$f":"IF(J1102=\"Group Member\",VLOOKUP(I1102,#REF!,5,0),\"\")","v":""}]
["678970-17-7","No EC available","IAEG004360","(1R,2R,5R,6S,9S,10R)-1,2,5,6,9,10-Hexabromocyclododecane","","R1;R2;D1","2019-01-24","2019-01-24",null,"Substance Direct Entry",{"$f":"IF(J1103=\"Group Member\",VLOOKUP(I1103,#REF!,5,0),\"\")","v":""}]
["96-12-8","202-479-3","IAEG004361","1,2-Dibromo-3-chloropropane (DBCP)","","R2","2017-08-14","2017-08-14",null,"Substance Direct Entry",{"$f":"IF(J1104=\"Group Member\",VLOOKUP(I1104,#REF!,5,0),\"\")","v":""}]
["12185-10-3","610-810-2","IAEG004362","Yellow phosphorus","Phosphorus, mol. (P4); Tetraphosphorus","R2","2017-08-14","2017-08-14",null,"Substance Direct Entry",{"$f":"IF(J1105=\"Group Member\",VLOOKUP(I1105,#REF!,5,0),\"\")","v":""}]
["133-06-2","205-087-0","IAEG004363","Captan","1,2,3,6-tetrahydro-N-(trichloromethylthio)phthalimide","R2","2015-03-17","2017-08-14",null,"Substance Direct Entry",{"$f":"IF(J1106=\"Group Member\",VLOOKUP(I1106,#REF!,5,0),\"\")","v":""}]
["20859-73-8","244-088-0","IAEG004365","Aluminium phosphide","Aluminium phosphide releasing phosphine (under BPR)","R2","2017-08-14","2017-08-14",null,"Substance Direct Entry",{"$f":"IF(J1107=\"Group Member\",VLOOKUP(I1107,#REF!,5,0),\"\")","v":""}]
["10102-45-1","233-273-1","IAEG004369","Thallium(I) nitrate","","R2","2017-08-14","2017-08-14",null,"Substance Direct Entry",{"$f":"IF(J1108=\"Group Member\",VLOOKUP(I1108,#REF!,5,0),\"\")","v":""}]
["81741-28-8","279-808-2","IAEG004372","Tributyltetradecylphosphonium chloride","","R2","2017-08-14","2017-08-14",null,"Substance Direct Entry",{"$f":"IF(J1109=\"Group Member\",VLOOKUP(I1109,#REF!,5,0),\"\")","v":""}]
["131-52-2","205-025-2","IAEG004381","Sodium pentachlorophenolate","Sodium pentachlorophenate; Pentachlorophenol, sodium salt","R1;R2;D1","2017-08-14","2017-08-14",null,"Substance Direct Entry",{"$f":"IF(J1110=\"Group Member\",VLOOKUP(I1110,#REF!,5,0),\"\")","v":""}]
["19750-95-9","243-269-1","IAEG004383","Chlordimeform hydrochloride","N'-(4-chloro-o-tolyl)-N,N-dimethylformamidine monohydrochloride; N2-(4-chloro-o-tolyl)-N1,N1-dimethylformamidine hydorchloride","R2","2019-01-24","2019-01-24",null,"Substance Direct Entry",{"$f":"IF(J1111=\"Group Member\",VLOOKUP(I1111,#REF!,5,0),\"\")","v":""}]
["13746-98-0","237-325-4","IAEG004385","Nitric acid, thallium(3+) salt","","R2","2017-08-14","2017-08-14",null,"Substance Direct Entry",{"$f":"IF(J1112=\"Group Member\",VLOOKUP(I1112,#REF!,5,0),\"\")","v":""}]
["297-99-4","No EC available","IAEG004387","E-Phosphamidon","","R2","2020-01-16","2020-01-16",null,"Substance Direct Entry",{"$f":"IF(J1113=\"Group Member\",VLOOKUP(I1113,#REF!,5,0),\"\")","v":""}]
["14807-96-6","238-877-9","IAEG004388","Talc: Hydrated magnesium silicate (Mg3H2(SiO3)4)","C.I. 77718","R2;I","2017-08-14","2017-08-14",null,"Substance Direct Entry",{"$f":"IF(J1114=\"Group Member\",VLOOKUP(I1114,#REF!,5,0),\"\")","v":""}]
["2939-80-2","No EC available","IAEG004401","cis-Captafol","","R2","2017-08-14","2017-08-14",null,"Substance Direct Entry",{"$f":"IF(J1115=\"Group Member\",VLOOKUP(I1115,#REF!,5,0),\"\")","v":""}]
["1402738-52-6","No EC available","IAEG004410","Alkanes, C24-28, chloro","","R1;R2;D1","2020-01-16","2020-01-16",null,"Substance Direct Entry",{"$f":"IF(J1116=\"Group Member\",VLOOKUP(I1116,#REF!,5,0),\"\")","v":""}]
["57583-54-7","260-830-6","IAEG004422","Tetraphenyl m-phenylene bis(phosphate)","Resorcinol bis(diphenyl phosphate)","I","2017-08-14","2019-01-24",null,"Substance Direct Entry",{"$f":"IF(J1117=\"Group Member\",VLOOKUP(I1117,#REF!,5,0),\"\")","v":""}]
["101-20-2","202-924-1","IAEG004423","Triclocarban","1-(4-Chlorophenyl)-3-(3,4-dichlorophenyl)urea","I","2020-01-16","2020-01-16",null,"Substance Direct Entry",{"$f":"IF(J1118=\"Group Member\",VLOOKUP(I1118,#REF!,5,0),\"\")","v":""}]
["34454-97-2","252-043-1","IAEG004428","1,1,2,2,3,3,4,4,4-Nonafluoro-N-(2-hydroxyethyl)-N-methylbutane-1-sulphonamide",null,"I","2017-08-14","2017-08-14",null,"Substance Direct Entry",{"$f":"IF(J1119=\"Group Member\",VLOOKUP(I1119,#REF!,5,0),\"\")","v":""}]
["27177-01-1","No EC available","IAEG004430","Nonylphenol polyethylene glycol ether",null,"R2","2017-08-14","2017-08-14",null,"Substance Direct Entry",{"$f":"IF(J1120=\"Group Member\",VLOOKUP(I1120,#REF!,5,0),\"\")","v":""}]
["68412-53-3","614-460-0","IAEG004432","Nonylphenol, branched, ethoxylated, phosphated",null,"R1;R2","2017-08-14","2017-08-14",null,"Substance Direct Entry",{"$f":"IF(J1121=\"Group Member\",VLOOKUP(I1121,#REF!,5,0),\"\")","v":""}]
["90640-52-1","292-572-5","IAEG004443","Amines, coco alkyl, compds. with pentachlorophenol (1:1)",null,"R1;R2","2020-01-16","2020-01-16",null,"Substance Direct Entry",{"$f":"IF(J1122=\"Group Member\",VLOOKUP(I1122,#REF!,5,0),\"\")","v":""}]
["98219-40-0","308-706-3","IAEG004444","Fatty acids, C8-12, pentachlorophenyl esters",null,"R1;R2","2020-01-16","2020-01-16",null,"Substance Direct Entry",{"$f":"IF(J1123=\"Group Member\",VLOOKUP(I1123,#REF!,5,0),\"\")","v":""}]
["7497-08-7","No EC available","IAEG004447","Phenol, 2,3,4,5,6-pentachloro-, 1,1'-carbonate",null,"R1;R2","2020-01-16","2020-01-16",null,"Substance Direct Entry",{"$f":"IF(J1124=\"Group Member\",VLOOKUP(I1124,#REF!,5,0),\"\")","v":""}]
["11096-82-5","No EC available","IAEG004454","Aroclor 1260 (Clophen A60)",null,"R1;R2;D1","2017-08-14","2017-08-14",null,"Substance Direct Entry",{"$f":"IF(J1125=\"Group Member\",VLOOKUP(I1125,#REF!,5,0),\"\")","v":""}]
["11104-28-2","no EC available","IAEG004456","Aroclor 1221",null,"R1;R2;D1","2019-01-24","2019-01-24",null,"Substance Direct Entry",{"$f":"IF(J1126=\"Group Member\",VLOOKUP(I1126,#REF!,5,0),\"\")","v":""}]
["11141-16-5","no EC available","IAEG004457","Aroclor 1232",null,"R1;R2;D1","2019-01-24","2019-01-24",null,"Substance Direct Entry",{"$f":"IF(J1127=\"Group Member\",VLOOKUP(I1127,#REF!,5,0),\"\")","v":""}]
["12672-29-6","No EC available","IAEG004459","Aroclor 1248",null,"R1;R2;D1","2019-01-24","2019-01-24",null,"Substance Direct Entry",{"$f":"IF(J1128=\"Group Member\",VLOOKUP(I1128,#REF!,5,0),\"\")","v":""}]
["12674-11-2","No EC available","IAEG004460","Aroclor 1016",null,"R1;R2;D1","2020-01-16","2020-01-16",null,"Substance Direct Entry",{"$f":"IF(J1129=\"Group Member\",VLOOKUP(I1129,#REF!,5,0),\"\")","v":""}]
["147601-87-4","No EC available","IAEG004462","Aroclor 1210",null,"R1;R2;D1","2020-01-16","2020-01-16",null,"Substance Direct Entry",{"$f":"IF(J1130=\"Group Member\",VLOOKUP(I1130,#REF!,5,0),\"\")","v":""}]
["53469-21-9","No EC available","IAEG004468","Aroclor 1242",null,"R1;R2;D1","2019-01-24","2019-01-24",null,"Substance Direct Entry",{"$f":"IF(J1131=\"Group Member\",VLOOKUP(I1131,#REF!,5,0),\"\")","v":""}]
["343934-04-3","No EC available","IAEG004475","1,3-Dioxane, 2-[(1R,2R)-2,4-dimethyl-3-cyclohexen-1-yl]-5-methyl-5-(1-methylpropyl)-, cis-rel-",null,"R2;D1","2017-08-14","2017-08-14","100.287.883","Substance Direct Entry",{"$f":"IF(J1132=\"Group Member\",VLOOKUP(I1132,#REF!,5,0),\"\")","v":""}]
["343934-05-4","No EC available","IAEG004476","1,3-Dioxane, 2-[(1R,2R)-2,4-dimethyl-3-cyclohexen-1-yl]-5-methyl-5-(1-methylpropyl)-, trans-rel-",null,"R2;D1","2017-08-14","2017-08-14","100.287.885","Substance Direct Entry",{"$f":"IF(J1133=\"Group Member\",VLOOKUP(I1133,#REF!,5,0),\"\")","v":""}]
["676367-02-5","No EC available","IAEG004477","1,3-Dioxane, 2-[(1S,2S)-2,4-dimethyl-3-cyclohexen-1-yl]-5-methyl-5-(1-methylpropyl)-, cis-",null,"R2;D1","2017-08-14","2017-08-14","100.287.890","Substance Direct Entry",{"$f":"IF(J1134=\"Group Member\",VLOOKUP(I1134,#REF!,5,0),\"\")","v":""}]
["676367-03-6","No EC available","IAEG004478","1,3-Dioxane, 2-[(1S,2R)-2,4-dimethyl-3-cyclohexen-1-yl]-5-methyl-5-(1-methylpropyl)-, cis-",null,"R2;D1","2017-08-14","2017-08-14","100.287.888","Substance Direct Entry",{"$f":"IF(J1135=\"Group Member\",VLOOKUP(I1135,#REF!,5,0),\"\")","v":""}]
["676367-04-7","No EC available","IAEG004479","1,3-Dioxane, 2-[(1R,2S)-2,4-dimethyl-3-cyclohexen-1-yl]-5-methyl-5-(1-methylpropyl)-, cis-",null,"R2;D1","2017-08-14","2017-08-14","100.287.886","Substance Direct Entry",{"$f":"IF(J1136=\"Group Member\",VLOOKUP(I1136,#REF!,5,0),\"\")","v":""}]
["676367-05-8","No EC available","IAEG004480","1,3-Dioxane, 2-[(1R,2R)-2,4-dimethyl-3-cyclohexen-1-yl]-5-methyl-5-(1-methylpropyl)-, cis-",null,"R2;D1","2017-08-14","2017-08-14","100.287.882","Substance Direct Entry",{"$f":"IF(J1137=\"Group Member\",VLOOKUP(I1137,#REF!,5,0),\"\")","v":""}]
["676367-06-9","No EC available","IAEG004481","1,3-Dioxane, 2-[(1S,2S)-2,4-dimethyl-3-cyclohexen-1-yl]-5-methyl-5-(1-methylpropyl)-, trans-",null,"R2;D1","2017-08-14","2017-08-14","100.287.891","Substance Direct Entry",{"$f":"IF(J1138=\"Group Member\",VLOOKUP(I1138,#REF!,5,0),\"\")","v":""}]
["676367-07-0","No EC available","IAEG004482","1,3-Dioxane, 2-[(1S,2R)-2,4-dimethyl-3-cyclohexen-1-yl]-5-methyl-5-(1-methylpropyl)-, trans-",null,"R2;D1","2017-08-14","2017-08-14","100.287.889","Substance Direct Entry",{"$f":"IF(J1139=\"Group Member\",VLOOKUP(I1139,#REF!,5,0),\"\")","v":""}]
["676367-08-1","No EC available","IAEG004483","1,3-Dioxane, 2-[(1R,2S)-2,4-dimethyl-3-cyclohexen-1-yl]-5-methyl-5-(1-methylpropyl)-, trans-",null,"R2;D1","2017-08-14","2017-08-14","100.287.887","Substance Direct Entry",{"$f":"IF(J1140=\"Group Member\",VLOOKUP(I1140,#REF!,5,0),\"\")","v":""}]
["676367-09-2","No EC available","IAEG004484","1,3-Dioxane, 2-[(1R,2R)-2,4-dimethyl-3-cyclohexen-1-yl]-5-methyl-5-(1-methylpropyl)-, trans-",null,"R2;D1","2017-08-14","2017-08-14","100.287.884","Substance Direct Entry",{"$f":"IF(J1141=\"Group Member\",VLOOKUP(I1141,#REF!,5,0),\"\")","v":""}]
["186309-28-4","No EC available","IAEG004485","1,3-Dioxane, 2-(2,4-dimethyl-3-cyclohexen-1-yl)-5-methyl-5-(1-methylpropyl)-",null,"R2;D1","2017-08-14","2017-08-14","100.287.881","Substance Direct Entry",{"$f":"IF(J1142=\"Group Member\",VLOOKUP(I1142,#REF!,5,0),\"\")","v":""}]
["7632-00-0","231-555-9","IAEG004487","Sodium nitrite",null,"R1;R2;D1","2017-08-14","2017-08-14",null,"Substance Direct Entry",{"$f":"IF(J1143=\"Group Member\",VLOOKUP(I1143,#REF!,5,0),\"\")","v":""}]
["7758-09-0","231-832-4","IAEG004488","Potassium nitrite",null,"R1;R2;D1","2017-08-14","2017-08-14",null,"Substance Direct Entry",{"$f":"IF(J1144=\"Group Member\",VLOOKUP(I1144,#REF!,5,0),\"\")","v":""}]
["71011-12-6","No EC available","IAEG004489","Alkanes, C12-13, chloro",null,"R1;R2;D1","2019-01-24","2019-01-24",null,"Substance Direct Entry",{"$f":"IF(J1145=\"Group Member\",VLOOKUP(I1145,#REF!,5,0),\"\")","v":""}]
["27619-97-2","248-580-6","IAEG004491","3,3,4,4,5,5,6,6,7,7,8,8,8-tridecafluorooctanesulphonic acid",null,"R1;R2;D1;I","2017-08-14","2017-08-14",null,"Substance Direct Entry",{"$f":"IF(J1146=\"Group Member\",VLOOKUP(I1146,#REF!,5,0),\"\")","v":""}]
["13568-33-7","236-976-1","IAEG004494","Lithium nitrite",null,"R1;R2;D1","2017-08-14","2017-08-14",null,"Substance Direct Entry",{"$f":"IF(J1147=\"Group Member\",VLOOKUP(I1147,#REF!,5,0),\"\")","v":""}]
["7601-90-3","231-512-4","IAEG004505","Perchloric acid",null,"I","2017-08-14","2017-08-14",null,"Substance Direct Entry",{"$f":"IF(J1148=\"Group Member\",VLOOKUP(I1148,#REF!,5,0),\"\")","v":""}]
["25323-89-1","No EC available","IAEG004513","Trichloroethane",null,"R1;R2","2019-01-24","2019-01-24",null,"Substance Direct Entry",{"$f":"IF(J1149=\"Group Member\",VLOOKUP(I1149,#REF!,5,0),\"\")","v":""}]
["25497-30-7","247-042-8","IAEG004525","Dibromotetrafluoroethane",null,"R1;R2","2017-08-14","2017-08-14",null,"Substance Direct Entry",{"$f":"IF(J1150=\"Group Member\",VLOOKUP(I1150,#REF!,5,0),\"\")","v":""}]
["27607-36-9","248-562-8","IAEG004534","2,2'-[(3,3,4,4,5,5,6,6,7,7,8,8,9,9,10,10,10-heptadecafluorodecyl)imino]bisethanol",null,"R1;R2;I","2019-01-24","2019-01-24",null,"Substance Direct Entry",{"$f":"IF(J1151=\"Group Member\",VLOOKUP(I1151,#REF!,5,0),\"\")","v":""}]
["41358-63-8","255-327-3","IAEG004535","N-[3-[bis(2-hydroxyethyl)amino]propyl]-2,2,3,3,4,4,5,5,6,6,7,7,8,8,8-pentadecafluorooctanamide",null,"R1;R2;I","2019-01-24","2019-01-24",null,"Substance Direct Entry",{"$f":"IF(J1152=\"Group Member\",VLOOKUP(I1152,#REF!,5,0),\"\")","v":""}]
["307-98-2","206-212-1","IAEG004542","2,2,3,3,4,4,5,5,6,6,7,7,8,8,8-pentadecafluorooctyl acrylate",null,"R1;R2;I","2019-01-24","2019-01-24",null,"Substance Direct Entry",{"$f":"IF(J1153=\"Group Member\",VLOOKUP(I1153,#REF!,5,0),\"\")","v":""}]
["3934-23-4","223-509-1","IAEG004544","2,2,3,3,4,4,5,5,6,6,7,7,8,8,8-pentadecafluorooctyl methacrylate",null,"R1;R2;I","2015-03-17","2015-03-17",null,"Substance Direct Entry",{"$f":"IF(J1154=\"Group Member\",VLOOKUP(I1154,#REF!,5,0),\"\")","v":""}]
["307-30-2","206-197-1","IAEG004579","2,2,3,3,4,4,5,5,6,6,7,7,8,8,8-pentadecafluorooctan-1-ol",null,"R1;R2;I","2017-08-14","2017-08-14",null,"Substance Direct Entry",{"$f":"IF(J1155=\"Group Member\",VLOOKUP(I1155,#REF!,5,0),\"\")","v":""}]
["39108-34-4","254-295-8","IAEG004580","3,3,4,4,5,5,6,6,7,7,8,8,9,9,10,10,10-heptadecafluorodecanesulphonic acid",null,"R1;R2;I","2017-08-14","2017-08-14",null,"Substance Direct Entry",{"$f":"IF(J1156=\"Group Member\",VLOOKUP(I1156,#REF!,5,0),\"\")","v":""}]
["149724-40-3","No EC available","IAEG004589","1-Decanesulfonic acid, 3,3,4,4,5,5,6,6,7,7,8,8,9,9,10,10,10-heptadecafluoro-, ammonium salt",null,"R1;R2;I","2017-08-14","2017-08-14",null,"Substance Direct Entry",{"$f":"IF(J1157=\"Group Member\",VLOOKUP(I1157,#REF!,5,0),\"\")","v":""}]
["165320-75-2","No EC available","IAEG004591","1,5-Trisiloxanediol, 3-(3,3,4,4,5,5,6,6,7,7,8,8,9,9,10,10,10-heptadecafluorodecyl)-1,1,3,5,5-pentamethyl- (9CI)",null,"R1;R2;I","2020-01-16","2020-01-16",null,"Substance Direct Entry",{"$f":"IF(J1158=\"Group Member\",VLOOKUP(I1158,#REF!,5,0),\"\")","v":""}]
["206886-57-9","No EC available","IAEG004592","Cyclotetrasiloxane, 2-(4,4,5,5,6,6,7,7,8,8,9,9,10,10,11,11,11-heptadecafluoroundecyl)-2,4,6,8-tetramethyl-, Si-[3-(oxiranylmethoxy)propyl] derivs.",null,"R1;R2;I","2020-01-16","2020-01-16",null,"Substance Direct Entry",{"$f":"IF(J1159=\"Group Member\",VLOOKUP(I1159,#REF!,5,0),\"\")","v":""}]
["185701-89-7","No EC available","IAEG004593","Trisiloxane, 3,3'-(3,3,4,4,5,5,6,6,7,7,8,8-dodecafluoro-1,10-decanediyl)bis[3-[(dimethylsilyl)oxy]-1,1,5,5-tetramethyl-, reaction products with 4,4,5,5,6,6,7,7,8,8,9,9,10,10,11,11,11-heptadecafluoro-1-undecene",null,"R1;R2;I","2020-01-16","2020-01-16",null,"Substance Direct Entry",{"$f":"IF(J1160=\"Group Member\",VLOOKUP(I1160,#REF!,5,0),\"\")","v":""}]
["101947-16-4","No EC available","IAEG004594","Triethoxy(3,3,4,4,5,5,6,6,7,7,8,8,9,9,10,10,10-heptadecafluorodecyl)silane","1H,1H,2H,2H-Perfluorodecyltriethoxysilane","R1;R2;I","2020-01-16","2020-01-16",null,"Substance Direct Entry",{"$f":"IF(J1161=\"Group Member\",VLOOKUP(I1161,#REF!,5,0),\"\")","v":""}]
["57678-03-2","No EC available","IAEG004596","1-Decanol, 3,3,4,4,5,5,6,6,7,7,8,8,9,9,10,10,10-heptadecafluoro-, dihydrogen phosphate",null,"R1;R2;I","2020-01-16","2020-01-16",null,"Substance Direct Entry",{"$f":"IF(J1162=\"Group Member\",VLOOKUP(I1162,#REF!,5,0),\"\")","v":""}]
["96210-37-6","No EC available","IAEG004603","1,3-Benzenedicarboxylic acid,5-[(heptadecafluorononenyl)oxy]-",null,"R1;R2;I","2020-01-16","2020-01-16",null,"Substance Direct Entry",{"$f":"IF(J1163=\"Group Member\",VLOOKUP(I1163,#REF!,5,0),\"\")","v":""}]
["59493-70-8","No EC available","IAEG004604","1-Propanaminium,3-[[[4-[(heptadecafluorononenyl)oxy]phenyl]sulfonyl]amino]-N,N,N-trimethyl-, iodide",null,"R1;R2;I","2020-01-16","2020-01-16",null,"Substance Direct Entry",{"$f":"IF(J1164=\"Group Member\",VLOOKUP(I1164,#REF!,5,0),\"\")","v":""}]
["7783-20-2","231-984-1","IAEG004635","Ammonium sulphate",null,"R1;R2;I","2019-01-24","2019-01-24",null,"Substance Direct Entry",{"$f":"IF(J1165=\"Group Member\",VLOOKUP(I1165,#REF!,5,0),\"\")","v":""}]
["7722-76-1","231-764-5","IAEG004636","Ammonium dihydrogenorthophosphate","Ammonium phosphate","R1;R2;I","2019-01-24","2019-01-24",null,"Substance Direct Entry",{"$f":"IF(J1166=\"Group Member\",VLOOKUP(I1166,#REF!,5,0),\"\")","v":""}]
["7783-28-0","231-987-8","IAEG004637","Diammonium hydrogenorthophosphate","Diammonium phosphate","R1;R2;I","2019-01-24","2019-01-24",null,"Substance Direct Entry",{"$f":"IF(J1167=\"Group Member\",VLOOKUP(I1167,#REF!,5,0),\"\")","v":""}]
["12125-02-9","235-186-4","IAEG004638","Ammonium chloride",null,"R1;R2;I","2019-01-24","2019-01-24",null,"Substance Direct Entry",{"$f":"IF(J1168=\"Group Member\",VLOOKUP(I1168,#REF!,5,0),\"\")","v":""}]
["7773-06-0","231-871-7","IAEG004639","Ammonium sulphamidate","Ammonium sulfamate","R1;R2;I","2019-01-24","2019-01-24",null,"Substance Direct Entry",{"$f":"IF(J1169=\"Group Member\",VLOOKUP(I1169,#REF!,5,0),\"\")","v":""}]
["68333-79-9","269-789-9","IAEG004640","Ammonium polyphosphate","Polyphosphoric acids, ammonium salts","R1;R2;I","2019-01-24","2019-01-24",null,"Substance Direct Entry",{"$f":"IF(J1170=\"Group Member\",VLOOKUP(I1170,#REF!,5,0),\"\")","v":""}]
["12124-97-9","235-183-8","IAEG004641","Ammonium bromide",null,"R1;R2","2019-01-24","2019-01-24",null,"Substance Direct Entry",{"$f":"IF(J1171=\"Group Member\",VLOOKUP(I1171,#REF!,5,0),\"\")","v":""}]
["No CAS available","No EC available","IAEG004643","4-Heptylphenol, branched and linear [substances with a linear and/or branched alkyl chain with a carbon number of 7 covalently bound predominantly in position 4 to phenol, covering also UVCB- and well-defined substances which include any of the individual isomers or a combination thereof]",null,"D1","2015-03-17","2017-08-14","100.244.604","Group Direct Entry",{"$f":"IF(J1172=\"Group Member\",VLOOKUP(I1172,#REF!,5,0),\"\")","v":""}]
["72624-02-3","276-743-1","IAEG004273","Phenol, heptyl derivs.","","D1;I","2015-03-17","2017-08-14","100.069.745","Group member","IAEG004643"]
["6465-71-0","No EC available","IAEG004730","Phenol, 4-(1-propylbutyl)-",null,"D1","2017-08-14","2017-08-14","100.287.914","Group member","IAEG004643"]
["6465-74-3","No EC available","IAEG004731","Phenol, 4-(1-ethylpentyl)-",null,"D1","2017-08-14","2017-08-14","100.287.912","Group member","IAEG004643"]
["6863-24-7","No EC available","IAEG004732","Phenol, 4-(1-methylhexyl)-",null,"D1","2017-08-14","2017-08-14","100.287.913","Group member","IAEG004643"]
["1987-50-4","217-862-0","IAEG004733","4-heptylphenol",null,"D1","2017-08-14","2017-08-14","100.016.239","Group member","IAEG004643"]
["1824346-00-0","No EC available","IAEG004734","4-[2-Methyl-1-(1-methylethyl)propyl]phenol","Phenol, 4-[2-methyl-1-(1-methylethyl)propyl]-","D1","2017-08-14","2017-08-14","100.287.919","Group member","IAEG004643"]
["1139800-98-8","No EC available","IAEG004735","4-(4-Methylhexyl)phenol","Phenol, 4-(4-methylhexyl)-","D1","2017-08-14","2017-08-14","100.287.917","Group member","IAEG004643"]
["911371-07-8","No EC available","IAEG004736","4-(1,3,3-Trimethylbutyl)phenol","Phenol, 4-(1,3,3-trimethylbutyl)-","D1","2017-08-14","2017-08-14","100.287.906","Group member","IAEG004643"]
["911371-06-7","No EC available","IAEG004737","4-(1,2,2-Trimethylbutyl)phenol","Phenol, 4-(1,2,2-trimethylbutyl)-","D1","2017-08-14","2017-08-14","100.287.904","Group member","IAEG004643"]
["911370-98-4","No EC available","IAEG004738","4-(3-Ethylpentyl)phenol","Phenol, 4-(3-ethylpentyl)-","D1","2017-08-14","2017-08-14","100.287.915","Group member","IAEG004643"]
["861011-60-1","854-135-2","IAEG004739","4-(1,1,2-Trimethylbutyl)phenol","Phenol, 4-(1,1,2-trimethylbutyl)-","D1","2017-08-14","2022-02-17","100.304.406","Group member","IAEG004643"]
["861010-65-3","No EC available","IAEG004740","4-(1-Ethyl-2,2-dimethylpropyl)phenol","Phenol, 4-(1-ethyl-2,2-dimethylpropyl)-","D1","2017-08-14","2017-08-14","100.287.910","Group member","IAEG004643"]
["857629-71-1","No EC available","IAEG004741","4-(1,4-Dimethylpentyl)phenol","Phenol, 4-(1,4-dimethylpentyl)-","D1","2017-08-14","2017-08-14","100.287.908","Group member","IAEG004643"]
["854904-93-1","No EC available","IAEG004742","4-(1,2-Dimethylpentyl)phenol","Phenol, 4-(1,2-dimethylpentyl)-","D1","2017-08-14","2017-08-14","100.287.905","Group member","IAEG004643"]
["854904-92-0","No EC available","IAEG004743","4-(1-Ethyl-3-methylbutyl)phenol","Phenol, 4-(1-ethyl-3-methylbutyl)-","D1","2017-08-14","2017-08-14","100.287.911","Group member","IAEG004643"]
["102570-52-5","No EC available","IAEG004744","4-(3-Methylhexyl)phenol","Phenol, 4-(3-methylhexyl)-","D1","2017-08-14","2017-08-14","100.287.916","Group member","IAEG004643"]
["100532-36-3","No EC available","IAEG004745","4-(5-Methylhexyl)phenol","Phenol, 4-(5-methylhexyl)-","D1","2017-08-14","2017-08-14","100.287.918","Group member","IAEG004643"]
["72861-06-4","No EC available","IAEG004746","4-(1,1,2,2-Tetramethylpropyl)phenol","Phenol, 4-(1,1,2,2-tetramethylpropyl)-","D1","2017-08-14","2017-08-14","100.287.899","Group member","IAEG004643"]
["71945-81-8","No EC available","IAEG004747","4-(1,3-Dimethylpentyl)phenol","Phenol, 4-(1,3-dimethylpentyl)-","D1","2017-08-14","2017-08-14","100.287.907","Group member","IAEG004643"]
["37872-24-5","No EC available","IAEG004748","4-(1,1-Diethylpropyl)phenol","Phenol, 4-(1,1-diethylpropyl)-","D1","2017-08-14","2017-08-14","100.287.902","Group member","IAEG004643"]
["33104-11-9","No EC available","IAEG004749","4-(1,1,3-Trimethylbutyl)phenol","Phenol, 4-(1,1,3-trimethylbutyl)-","D1","2017-08-14","2017-08-14","100.287.901","Group member","IAEG004643"]
["30784-32-8","854-958-7","IAEG004750","4-(1-Ethyl-1-methylbutyl)phenol","Phenol, 4-(1-ethyl-1-methylbutyl)-","D1","2017-08-14","2022-02-17","100.305.943","Group member","IAEG004643"]
["30784-31-7","No EC available","IAEG004751","4-(1,1-Dimethylpentyl)phenol","Phenol, 4-(1,1-dimethylpentyl)-","D1","2017-08-14","2017-08-14","100.287.903","Group member","IAEG004643"]
["30784-27-1","No EC available","IAEG004752","4-(1-Ethyl-1,2-dimethylpropyl)phenol","Phenol, 4-(1-ethyl-1,2-dimethylpropyl)-","D1","2017-08-14","2017-08-14","100.291.922","Group member","IAEG004643"]
["288864-02-8","No EC available","IAEG005006","p-tert-Heptylphenol","4-tert-Heptylphenol","D1","2017-08-14","2017-08-14","100.291.803","Group member","IAEG004643"]
["12040-72-1","234-390-0","IAEG004644","Perboric acid, sodium salt",null,"D1","2015-03-17","2017-08-14","100.031.251","Substance Direct Entry",{"$f":"IF(J1198=\"Group Member\",VLOOKUP(I1198,#REF!,5,0),\"\")","v":""}]
["37244-98-7","234-390-0","IAEG004645","Perboric acid, sodium salt, tetrahydrate",null,"D1","2017-08-14","2017-08-14","100.031.251","Substance Direct Entry",{"$f":"IF(J1199=\"Group Member\",VLOOKUP(I1199,#REF!,5,0),\"\")","v":""}]
["10332-33-9","231-556-4","IAEG004646","Perboric acid (HBO(O2)), sodium salt, monohydrate",null,"D1","2017-08-14","2017-08-14","100.028.688","Substance Direct Entry",{"$f":"IF(J1200=\"Group Member\",VLOOKUP(I1200,#REF!,5,0),\"\")","v":""}]
["13517-20-9","No EC available","IAEG004647","Sodium perborate trihydrate","Perboric acid (H3BO2(O2)), monosodium salt, trihydrate","D1","2017-08-14","2017-08-14","100.106.721","Substance Direct Entry",{"$f":"IF(J1201=\"Group Member\",VLOOKUP(I1201,#REF!,5,0),\"\")","v":""}]
["10486-00-7","231-556-4","IAEG004648","Perboric acid (HBO(O2)), sodium salt, hydrate (1:1:4)",null,"D1","2015-03-17","2015-03-17","100.028.688","Substance Direct Entry",{"$f":"IF(J1202=\"Group Member\",VLOOKUP(I1202,#REF!,5,0),\"\")","v":""}]
["7791-13-1","616-574-6","IAEG004649","Cobalt(2+) dichloride hexahydrate","Cobalt (II) chloride, hexahydrate","D1","2017-08-14","2017-08-14",null,"Substance Direct Entry",{"$f":"IF(J1203=\"Group Member\",VLOOKUP(I1203,#REF!,5,0),\"\")","v":""}]
["10026-24-1","600-050-9","IAEG004650","Cobalt sulphate heptahydrate",null,"D1","2017-08-14","2017-08-14",null,"Substance Direct Entry",{"$f":"IF(J1204=\"Group Member\",VLOOKUP(I1204,#REF!,5,0),\"\")","v":""}]
["14426-25-6","238-398-5","IAEG004652","Bis[p-(dimethylamino)phenyl][p-(dimethylammonio)phenyl]methylium",null,"D1","2017-08-14","2017-08-14",null,"Substance Direct Entry",{"$f":"IF(J1205=\"Group Member\",VLOOKUP(I1205,#REF!,5,0),\"\")","v":""}]
["10217-52-4","600-285-7","IAEG004653","Hydrazine, hydrate","Hydrazine hydrate; Hydrazine monohydrate","D1","2017-08-14","2017-08-14",null,"Substance Direct Entry",{"$f":"IF(J1206=\"Group Member\",VLOOKUP(I1206,#REF!,5,0),\"\")","v":""}]
["57454-67-8","611-532-3","IAEG004655","Cobalt(II) carbonate hydrate","Carbonic acid, cobalt(2+) salt (1:1), hydrate ","D1","2017-08-14","2017-08-14",null,"Substance Direct Entry",{"$f":"IF(J1207=\"Group Member\",VLOOKUP(I1207,#REF!,5,0),\"\")","v":""}]
["145538-74-5","604-478-7","IAEG004656","Benzene, 1,1'-oxybis[2,3,4,5,6-pentabromo-",null,"D1","2017-08-14","2017-08-14",null,"Substance Direct Entry",{"$f":"IF(J1208=\"Group Member\",VLOOKUP(I1208,#REF!,5,0),\"\")","v":""}]
["90568-23-3","No EC available","IAEG004657","Borate(2-), tetrahydroxybis[mu-(peroxy-kappaO1:kappaO2)]di-, sodium (1:2); molecular formula B2H4O8.2Na)",null,"R2;D1","2017-08-14","2017-08-14","100.297.786","Substance Direct Entry",{"$f":"IF(J1209=\"Group Member\",VLOOKUP(I1209,#REF!,5,0),\"\")","v":""}]
["125022-34-6","No EC available","IAEG004658","Borate(2-), tetrahydroxybis[mu-(peroxy-kappaO1:kappaO2)]di-,sodium, hydrate (1:2:6); molecular formula B2H4O8.6H2O.2Na)",null,"R2;D1","2017-08-14","2017-08-14","100.297.787","Substance Direct Entry",{"$f":"IF(J1210=\"Group Member\",VLOOKUP(I1210,#REF!,5,0),\"\")","v":""}]
["109945-70-2","No EC available","IAEG004659","1,1'-Oxybis(2,3,4,5,6-pentabromobenzene)",null,"D1","2017-08-14","2017-08-14",null,"Substance Direct Entry",{"$f":"IF(J1211=\"Group Member\",VLOOKUP(I1211,#REF!,5,0),\"\")","v":""}]
["1201677-32-8","No EC available","IAEG004660","1,1'-oxybis[2,3,4,5,6-pentabromobenzene",null,"D1","2017-08-14","2017-08-14",null,"Substance Direct Entry",{"$f":"IF(J1212=\"Group Member\",VLOOKUP(I1212,#REF!,5,0),\"\")","v":""}]
["12139-21-8","No EC available","IAEG004661","Monteponite (CdO)",null,"R1;R2;D1","2017-08-14","2017-08-14",null,"Substance Direct Entry",{"$f":"IF(J1213=\"Group Member\",VLOOKUP(I1213,#REF!,5,0),\"\")","v":""}]
["111720-41-3","No EC available","IAEG004662","1,3-Isobenzofurandione, hexahydro-, (3aR,7aS)-rel",null,"D1","2017-08-14","2017-08-14",null,"Substance Direct Entry",{"$f":"IF(J1214=\"Group Member\",VLOOKUP(I1214,#REF!,5,0),\"\")","v":""}]
["127946-28-5","No EC available","IAEG004663","1,3-Isobenzofurandione, hexahydro-, (3aR,7aS)-rel",null,"D1","2017-08-14","2017-08-14",null,"Substance Direct Entry",{"$f":"IF(J1215=\"Group Member\",VLOOKUP(I1215,#REF!,5,0),\"\")","v":""}]
["201815-17-0","No EC available","IAEG004664","1,3-Isobenzofurandione, hexahydro-, (3aR,7aS)-rel",null,"D1","2017-08-14","2017-08-14",null,"Substance Direct Entry",{"$f":"IF(J1216=\"Group Member\",VLOOKUP(I1216,#REF!,5,0),\"\")","v":""}]
["279240-32-3","No EC available","IAEG004665","1,3-Isobenzofurandione, hexahydro-, (3aR,7aS)-rel",null,"D1","2017-08-14","2017-08-14",null,"Substance Direct Entry",{"$f":"IF(J1217=\"Group Member\",VLOOKUP(I1217,#REF!,5,0),\"\")","v":""}]
["634193-83-2","No EC available","IAEG004666","1,3-Isobenzofurandione, hexahydro-, (3aR,7aS)-rel",null,"D1","2017-08-14","2017-08-14",null,"Substance Direct Entry",{"$f":"IF(J1218=\"Group Member\",VLOOKUP(I1218,#REF!,5,0),\"\")","v":""}]
["743438-36-0","No EC available","IAEG004667","1,3-Isobenzofurandione, hexahydro-, (3aR,7aS)-rel",null,"D1","2017-08-14","2017-08-14",null,"Substance Direct Entry",{"$f":"IF(J1219=\"Group Member\",VLOOKUP(I1219,#REF!,5,0),\"\")","v":""}]
["69985-35-9","No EC available","IAEG004668","Lead azide (Pb(N3))",null,"R1;D1;I","2017-08-14","2017-08-14",null,"Substance Direct Entry",{"$f":"IF(J1220=\"Group Member\",VLOOKUP(I1220,#REF!,5,0),\"\")","v":""}]
["73513-16-3","No EC available","IAEG004669","Plumbane, tetrazido",null,"R1;D1;I","2017-08-14","2017-08-14",null,"Substance Direct Entry",{"$f":"IF(J1221=\"Group Member\",VLOOKUP(I1221,#REF!,5,0),\"\")","v":""}]
["97233-90-4","No EC available","IAEG004670","1,3-Isobenzofurandione, hexahydro-, trans-(+-)-",null,"D1","2017-08-14","2017-08-14",null,"Substance Direct Entry",{"$f":"IF(J1222=\"Group Member\",VLOOKUP(I1222,#REF!,5,0),\"\")","v":""}]
["128049-67-2","No EC available","IAEG004671","1,3-Isobenzofurandione, hexahydro-, (3aR,7aR)-rel",null,"D1","2017-08-14","2017-08-14",null,"Substance Direct Entry",{"$f":"IF(J1223=\"Group Member\",VLOOKUP(I1223,#REF!,5,0),\"\")","v":""}]
["66778-13-0","No EC available","IAEG004672","1,3-Benzenediol, 2,4,6-trinitro-, lead(2+) salt (1:1), monohydrate",null,"R1;D1;I","2017-08-14","2017-08-14",null,"Substance Direct Entry",{"$f":"IF(J1224=\"Group Member\",VLOOKUP(I1224,#REF!,5,0),\"\")","v":""}]
["149864-43-7","No EC available","IAEG004673","Methanesulfonic acid, lead(2+) salt",null,"R1;D1;I","2017-08-14","2017-08-14",null,"Substance Direct Entry",{"$f":"IF(J1225=\"Group Member\",VLOOKUP(I1225,#REF!,5,0),\"\")","v":""}]
["414867-60-0","No EC available","IAEG004675","1,3,5-Triglycidylisocyanurate",null,"D1","2017-08-14","2017-08-14",null,"Substance Direct Entry",{"$f":"IF(J1226=\"Group Member\",VLOOKUP(I1226,#REF!,5,0),\"\")","v":""}]
["137506-60-6","No EC available","IAEG004676","Carbonic acid, cobalt(2+) salt(1:1), monohydrate",null,"D1","2017-08-14","2017-08-14",null,"Substance Direct Entry",{"$f":"IF(J1227=\"Group Member\",VLOOKUP(I1227,#REF!,5,0),\"\")","v":""}]
["5768-87-6","No EC available","IAEG004677","2-((4-Hydroxyphenyl)(4-oxo-2,5-cyclohexadien-1-ylidene)methyl)benzoic acid","Phenolphtalein","D1","2017-08-14","2017-08-14",null,"Substance Direct Entry",{"$f":"IF(J1228=\"Group Member\",VLOOKUP(I1228,#REF!,5,0),\"\")","v":""}]
["95327-28-9","No EC available","IAEG004678","1,2-Cyclohexanedicarboxylic acid anhydride","1,3-Isobenzofurandione, hexahydro-","D1","2015-03-17","2015-03-17",null,"Substance Direct Entry",{"$f":"IF(J1229=\"Group Member\",VLOOKUP(I1229,#REF!,5,0),\"\")","v":""}]
["102483-85-2","No EC available","IAEG004679","1,2-Cyclohexanedicarboxylic acid anhydride",null,"D1","2017-08-14","2017-08-14",null,"Substance Direct Entry",{"$f":"IF(J1230=\"Group Member\",VLOOKUP(I1230,#REF!,5,0),\"\")","v":""}]
["109265-67-0","No EC available","IAEG004680","Hexahydro-1,3-isobenzofurandione",null,"D1","2017-08-14","2017-08-14",null,"Substance Direct Entry",{"$f":"IF(J1231=\"Group Member\",VLOOKUP(I1231,#REF!,5,0),\"\")","v":""}]
["117276-22-9","No EC available","IAEG004681","1,2-Cyclohexanedicarboxylic acid anhydride",null,"D1","2015-03-17","2017-08-14",null,"Substance Direct Entry",{"$f":"IF(J1232=\"Group Member\",VLOOKUP(I1232,#REF!,5,0),\"\")","v":""}]
["13674-87-8","237-159-2","IAEG004682","Tris[2-chloro-1-(chloromethyl)ethyl] phosphate (TDCP)",null,"I","2019-01-24","2019-01-24",null,"Substance Direct Entry",{"$f":"IF(J1233=\"Group Member\",VLOOKUP(I1233,#REF!,5,0),\"\")","v":""}]
["654054-66-7","629-592-4","IAEG004694","Cadmium chloride hydrate",null,"R1;R2;D1","2017-08-14","2017-08-14",null,"Substance Direct Entry",{"$f":"IF(J1234=\"Group Member\",VLOOKUP(I1234,#REF!,5,0),\"\")","v":""}]
["122-60-1","204-557-2","IAEG004696","Phenyl glycidyl ether","2,3-Epoxypropyl phenyl ether; 1,2-Epoxy-3-phenoxypropane","R2","2019-01-24","2019-01-24",null,"Substance Direct Entry",{"$f":"IF(J1235=\"Group Member\",VLOOKUP(I1235,#REF!,5,0),\"\")","v":""}]
["62-55-5","200-541-4","IAEG004697","Thioacetamide",null,"R2","2019-01-24","2019-01-24",null,"Substance Direct Entry",{"$f":"IF(J1236=\"Group Member\",VLOOKUP(I1236,#REF!,5,0),\"\")","v":""}]
["13840-56-7","237-560-2; 799-969-7","IAEG004699","Orthoboric acid, sodium salt",null,"R2;D1;I","2019-01-24","2019-01-24","100.034.132","Group Direct Entry",{"$f":"IF(J1237=\"Group Member\",VLOOKUP(I1237,#REF!,5,0),\"\")","v":""}]
["1333-73-9","215-604-1","IAEG009185","Boric acid, sodium salt",null,"D1;I","2022-02-17","2022-02-17","100.014.186","Group member","IAEG004699"]
["25747-83-5","No EC available","IAEG009186","Boric acid (H3BO3), sodium salt, hydrate",null,"D1;I","2022-02-17","2022-02-17","100.331.486","Group member","IAEG004699"]
["14890-53-0","No EC available","IAEG009187","Boric acid (H3BO3), sodium salt (1:1)",null,"D1;I","2022-02-17","2022-02-17","100.290.470","Group member","IAEG004699"]
["22454-04-2","No EC available","IAEG009188","Boric acid (H3BO3), disodium salt",null,"D1;I","2022-02-17","2022-02-17","100.291.297","Group member","IAEG004699"]
["14312-40-4","238-253-6","IAEG009189","Trisodium orthoborate",null,"D1;I","2022-02-17","2022-02-17","100.034.760","Group member","IAEG004699"]
["606-20-2","210-106-0","IAEG004701","2,6-Dinitrotoluene",null,"R2","2019-01-24","2019-01-24",null,"Substance Direct Entry",{"$f":"IF(J1243=\"Group Member\",VLOOKUP(I1243,#REF!,5,0),\"\")","v":""}]
["569-61-9","209-321-2","IAEG004702","C.I. Basic Red 9","4,4'-(4-Iminocyclohexa-2,5-dienylidenemethylene)dianiline hydrochloride","R1;R2","2019-01-24","2019-01-24",null,"Substance Direct Entry",{"$f":"IF(J1244=\"Group Member\",VLOOKUP(I1244,#REF!,5,0),\"\")","v":""}]
["110-88-3","203-812-5","IAEG004706","1,3,5-Trioxane",null,"R2","2019-01-24","2019-01-24",null,"Substance Direct Entry",{"$f":"IF(J1245=\"Group Member\",VLOOKUP(I1245,#REF!,5,0),\"\")","v":""}]
["26447-14-3","247-711-4","IAEG004707","[(Tolyloxy)methyl]oxirane","1,2-Epoxy-3-(tolyloxy)propane","R2","2019-01-24","2019-01-24",null,"Substance Direct Entry",{"$f":"IF(J1246=\"Group Member\",VLOOKUP(I1246,#REF!,5,0),\"\")","v":""}]
["75-25-2","200-854-6","IAEG004711","Bromoform","Tribromomethane","R2","2019-01-24","2019-01-24",null,"Substance Direct Entry",{"$f":"IF(J1247=\"Group Member\",VLOOKUP(I1247,#REF!,5,0),\"\")","v":""}]
["106-87-6","203-437-7","IAEG004712","7-Oxa-3-oxiranylbicyclo[4.1.0]heptane","1,2-Epoxy-4-epoxyethylcyclohexane; 4-Vinylcyclohexene diepoxide; Vinyl cyclohexene dioxide (VCD)","R2","2019-01-24","2019-01-24",null,"Substance Direct Entry",{"$f":"IF(J1248=\"Group Member\",VLOOKUP(I1248,#REF!,5,0),\"\")","v":""}]
["60-35-5","200-473-5","IAEG004714","Acetamide",null,"R2","2019-01-24","2019-01-24",null,"Substance Direct Entry",{"$f":"IF(J1249=\"Group Member\",VLOOKUP(I1249,#REF!,5,0),\"\")","v":""}]
["15545-48-9","239-592-2","IAEG004715","Chlorotoluron","3-(3-chloro-p-tolyl)-1,1-dimethylurea","R2","2019-01-24","2019-01-24",null,"Substance Direct Entry",{"$f":"IF(J1250=\"Group Member\",VLOOKUP(I1250,#REF!,5,0),\"\")","v":""}]
["115-28-6","204-078-9","IAEG004719","Chlorendic acid",null,"R2","2019-01-24","2019-01-24",null,"Substance Direct Entry",{"$f":"IF(J1251=\"Group Member\",VLOOKUP(I1251,#REF!,5,0),\"\")","v":""}]
["135-20-6","205-183-2","IAEG004720","Cupferron",null,"R2","2019-01-24","2019-01-24",null,"Substance Direct Entry",{"$f":"IF(J1252=\"Group Member\",VLOOKUP(I1252,#REF!,5,0),\"\")","v":""}]
["10034-93-2","233-110-4","IAEG004723","Hydrazine sulphate","Hydrazinium(2+) sulphate","R2","2019-01-24","2019-01-24",null,"Substance Direct Entry",{"$f":"IF(J1253=\"Group Member\",VLOOKUP(I1253,#REF!,5,0),\"\")","v":""}]
["68583-58-4","271-520-5","IAEG004724","Ethanamine, N-ethyl-N-hydroxy-, reaction products with hexamethylcyclotrisiloxane, silica and 1,1,1-trimethyl-N-(trimethylsilyl)silanamine",null,"R2","2019-01-24","2019-01-24",null,"Substance Direct Entry",{"$f":"IF(J1254=\"Group Member\",VLOOKUP(I1254,#REF!,5,0),\"\")","v":""}]
["141-90-2","205-508-8","IAEG004728","Thiouracil","2-Thiouracil","R2","2019-01-24","2019-01-24",null,"Substance Direct Entry",{"$f":"IF(J1255=\"Group Member\",VLOOKUP(I1255,#REF!,5,0),\"\")","v":""}]
["1310-53-8","215-180-8","IAEG004729","Germanium dioxide",null,"R2","2019-01-24","2019-01-24",null,"Substance Direct Entry",{"$f":"IF(J1256=\"Group Member\",VLOOKUP(I1256,#REF!,5,0),\"\")","v":""}]
["668-34-8","No EC available","IAEG004754","Triphenyltin (TPhT)","Fentin","R1;R2","2017-08-14","2017-08-14",null,"Substance Direct Entry",{"$f":"IF(J1257=\"Group Member\",VLOOKUP(I1257,#REF!,5,0),\"\")","v":""}]
["688-73-3","211-704-4","IAEG004757","Tri-n-butyltin hydride",null,"R1;R2","2015-03-17","2017-08-14",null,"Substance Direct Entry",{"$f":"IF(J1258=\"Group Member\",VLOOKUP(I1258,#REF!,5,0),\"\")","v":""}]
["4342-30-7","224-397-7","IAEG004777","Tri-n-butyl tin salicylate","Tributylstannyl salicylate","R1;R2","2017-08-14","2017-08-14",null,"Substance Direct Entry",{"$f":"IF(J1259=\"Group Member\",VLOOKUP(I1259,#REF!,5,0),\"\")","v":""}]
["7342-47-4","No EC available","IAEG004788","Tributyltin iodide",null,"R1;R2","2017-08-14","2017-08-14",null,"Substance Direct Entry",{"$f":"IF(J1260=\"Group Member\",VLOOKUP(I1260,#REF!,5,0),\"\")","v":""}]
["2155-70-6","218-452-4","IAEG004809","Tributyltin methacrylate","Tributyl(methacryloyloxy)stannane","R1;R2","2017-08-14","2017-08-14",null,"Substance Direct Entry",{"$f":"IF(J1261=\"Group Member\",VLOOKUP(I1261,#REF!,5,0),\"\")","v":""}]
["67701-37-5","266-955-2","IAEG004833","Stannane, [(2-octyl-1,4-dioxo-1,4-butanediyl)bis(oxy)]bis[tributyl-",null,"R1;R2","2017-08-14","2017-08-14",null,"Substance Direct Entry",{"$f":"IF(J1262=\"Group Member\",VLOOKUP(I1262,#REF!,5,0),\"\")","v":""}]
["85409-17-2","287-083-9","IAEG004841","Tributyltin naphthenate","Stannane, tributyl-, mono(naphthenoyloxy) derivs.","R1;R2","2017-08-14","2017-08-14",null,"Substance Direct Entry",{"$f":"IF(J1263=\"Group Member\",VLOOKUP(I1263,#REF!,5,0),\"\")","v":""}]
["13121-70-5","236-049-1","IAEG004857","Cyhexatin","Hydroxytricyclohexylstannane; Tri(cyclohexyl)tin hydroxide","R1;R2","2017-08-14","2017-08-14",null,"Substance Direct Entry",{"$f":"IF(J1264=\"Group Member\",VLOOKUP(I1264,#REF!,5,0),\"\")","v":""}]
["148961-88-0","No EC available","IAEG004954","2-Tributylstannylbenzo[B]Thiophene",null,"R1;R2","2020-01-16","2020-01-16",null,"Substance Direct Entry",{"$f":"IF(J1265=\"Group Member\",VLOOKUP(I1265,#REF!,5,0),\"\")","v":""}]
["17314-33-9","No EC available","IAEG004958","Phenyl Tributyltin Sulfide",null,"R1;R2","2020-01-16","2020-01-16",null,"Substance Direct Entry",{"$f":"IF(J1266=\"Group Member\",VLOOKUP(I1266,#REF!,5,0),\"\")","v":""}]
["67883-62-9","No EC available","IAEG004981","Tributyl(2-Methylprop-2-En-1-Yl)Stannane",null,"R1;R2","2020-01-16","2020-01-16",null,"Substance Direct Entry",{"$f":"IF(J1267=\"Group Member\",VLOOKUP(I1267,#REF!,5,0),\"\")","v":""}]
["927810-08-0","805-924-5","IAEG004983","Tributyl(4-Methoxy-2-Pyridyl)Tin",null,"R1;R2","2017-08-14","2017-08-14",null,"Substance Direct Entry",{"$f":"IF(J1268=\"Group Member\",VLOOKUP(I1268,#REF!,5,0),\"\")","v":""}]
["938181-92-1","No EC available","IAEG004984","4,5-Dimethyl-2-(Tributylstannyl)-1,3-Thiazole",null,"R1;R2","2017-08-14","2017-08-14",null,"Substance Direct Entry",{"$f":"IF(J1269=\"Group Member\",VLOOKUP(I1269,#REF!,5,0),\"\")","v":""}]
["994-71-8","No EC available","IAEG004987","Tributyl[2-(Tributylstannyl)Ethynyl]Stannane",null,"R1;R2","2017-08-14","2017-08-14",null,"Substance Direct Entry",{"$f":"IF(J1270=\"Group Member\",VLOOKUP(I1270,#REF!,5,0),\"\")","v":""}]
["78-79-5","201-143-3","IAEG005002","Isoprene","Isopropene; 2-Methyl-1,3-butadiene","I","2019-01-24","2019-01-24",null,"Substance Direct Entry",{"$f":"IF(J1271=\"Group Member\",VLOOKUP(I1271,#REF!,5,0),\"\")","v":""}]
["No CAS available","No EC available","IAEG005005","Perfluorohexane-1-sulphonic acid salts","PFHxS salts","D1;I","2017-08-14","2017-08-14","100.244.691","Group Direct Entry"]
["55120-77-9","No EC available","IAEG003137","Lithium perfluorohexanesulfonate","1-Hexanesulfonic acid, 1,1,2,2,3,3,4,4,5,5,6,6,6-tridecafluoro-, lithium salt (1:1)","R1;R2;D1;I","2017-08-14","2017-08-14","100.293.154","Group member","IAEG005005"]
["68391-09-3","269-928-3","IAEG003385","Sulfonic acids, C6-12-alkane, perfluoro, potassium salts","","R1;R2;D1;I","2019-01-24","2019-01-24",null,"Group member","IAEG005005"]
["68259-08-5","269-511-6","IAEG003426","Ammonium perfluorohexane-1-sulphonate","","R1;R2;D1;I","2017-08-14","2017-08-14","100.063.173","Group member","IAEG005005"]
["70225-16-0","274-462-9","IAEG003432","Tridecafluorohexanesulphonic acid, compound with 2,2'-iminodiethanol (1:1)","","R1;R2;D1;I","2017-08-14","2017-08-14","100.067.672","Group member","IAEG005005"]
["3871-99-6","223-393-2","IAEG003436","Potassium perfluorohexane-1-sulphonate","Tridecafluorohexane-1-sulfonic acid potassium salt","R1;R2;D1;I","2017-08-14","2017-08-14","100.021.268","Group member","IAEG005005"]
["108427-53-8","No EC available","IAEG003437","Potassium perfluorohexane-1-sulphonate","","D1;I","2019-01-24","2019-01-24",null,"Group member","IAEG005005"]
["41184-65-0","No EC available","IAEG006424","1-Hexanesulfonic acid, 1,1,2,2,3,3,4,4,5,5,6,6,6-tridecafluoro-, neodymium(3+) salt (3:1) ",null,"D1;I","2017-08-14","2017-08-14","100.292.448","Group member","IAEG005005"]
["41242-12-0","No EC available","IAEG006425","1-Hexanesulfonic acid, 1,1,2,2,3,3,4,4,5,5,6,6,6-tridecafluoro-, yttrium(3+) salt (3:1)",null,"D1;I","2017-08-14","2017-08-14","100.292.451","Group member","IAEG005005"]
["70136-72-0","No EC available","IAEG006426","1-Hexanesulfonic acid, 1,1,2,2,3,3,4,4,5,5,6,6,6-tridecafluoro-, zinc salt",null,"D1;I","2017-08-14","2017-08-14","100.295.149","Group member","IAEG005005"]
["72033-41-1","No EC available","IAEG006427","1-Hexanesulfonic acid, 1,1,2,2,3,3,4,4,5,5,6,6,6-tridecafluoro-, compd. with N,N-diethylethanamine (1:1)",null,"D1;I","2017-08-14","2017-08-14","100.295.489","Group member","IAEG005005"]
["82382-12-5","No EC available","IAEG006428","1-Hexanesulfonic acid, 1,1,2,2,3,3,4,4,5,5,6,6,6-tridecafluoro-, sodium salt",null,"D1;I","2017-08-14","2017-08-14","100.296.541","Group member","IAEG005005"]
["92011-17-1","No EC available","IAEG006429","1-Hexanesulfonic acid, 1,1,2,2,3,3,4,4,5,5,6,6,6-tridecafluoro-, cesium salt (1:1)",null,"D1;I","2017-08-14","2017-08-14","100.297.059","Group member","IAEG005005"]
["108427-54-9","No EC available","IAEG006430","1-Butanaminium, N,N,N-tributyl-, salt with1,1,2,2,3,3,4,4,5,5,6,6,6-tridecafluoro-1-hexanesulfonic acid",null,"D1;I","2017-08-14","2017-08-14","100.289.350","Group member","IAEG005005"]
["108427-55-0","No EC available","IAEG006431","Ethanaminium, N,N,N-triethyl-, salt with1,1,2,2,3,3,4,4,5,5,6,6,6-tridecafluoro-1-hexanesulfonic acid (1:1)",null,"D1;I","2017-08-14","2017-08-14","100.289.351","Group member","IAEG005005"]
["144116-10-9","No EC available","IAEG006432","Sulfonium, triphenyl-, 1,1,2,2,3,3,4,4,5,5,6,6,6-tridecafluoro-1-hexanesulfonate (1:1)",null,"D1;I","2017-08-14","2017-08-14","100.290.388","Group member","IAEG005005"]
["153443-35-7","No EC available","IAEG006433","Iodonium, diphenyl-, 1,1,2,2,3,3,4,4,5,5,6,6,6-tridecafluoro-1-hexanesulfonate (1:1) ",null,"D1;I","2017-08-14","2017-08-14","100.290.553","Group member","IAEG005005"]
["189274-31-5","No EC available","IAEG006434","Methanaminium, N,N,N-trimethyl-, salt with1,1,2,2,3,3,4,4,5,5,6,6,6-tridecafluoro-1-hexanesulfonic acid (1:1)",null,"D1;I","2017-08-14","2017-08-14","100.291.027","Group member","IAEG005005"]
["202189-84-2","No EC available","IAEG006435","1-Hexanesulfonic acid, 1,1,2,2,3,3,4,4,5,5,6,6,6-tridecafluoro-, compd.with 2-methyl-2-propanamine (1:1)",null,"D1;I","2017-08-14","2017-08-14","100.291.150","Group member","IAEG005005"]
["213740-81-9","No EC available","IAEG006436","Iodonium, bis[4-(1,1-dimethylethyl)phenyl]-, 1,1,2,2,3,3,4,4,5,5,6,6,6-tridecafluoro-1-hexanesulfonate (1:1)",null,"D1;I","2017-08-14","2017-08-14","100.291.238","Group member","IAEG005005"]
["341035-71-0","No EC available","IAEG006437","1-Hexanesulfonic acid, 1,1,2,2,3,3,4,4,5,5,6,6,6-tridecafluoro-, gallium salt (9CI)",null,"D1;I","2017-08-14","2017-08-14","100.292.121","Group member","IAEG005005"]
["341548-85-4","No EC available","IAEG006438","Sulfonium, bis(4-methylphenyl)phenyl-, 1,1,2,2,3,3,4,4,5,5,6,6,6-tridecafluoro-1-hexanesulfonate (1:1)",null,"D1;I","2017-08-14","2017-08-14","100.292.124","Group member","IAEG005005"]
["350836-93-0","No EC available","IAEG006439","1-Hexanesulfonic acid, 1,1,2,2,3,3,4,4,5,5,6,6,6-tridecafluoro-, scandium(3+) salt (3:1)",null,"D1;I","2017-08-14","2017-08-14","100.292.165","Group member","IAEG005005"]
["421555-73-9","No EC available","IAEG006440","Sulfonium, (thiodi-4,1-phenylene)bis[diphenyl-, salt with 1,1,2,2,3,3,4,4,5,5,6,6,6-tridecafluoro-1-hexanesulfonic acid (1:2)",null,"D1;I","2017-08-14","2022-02-17","100.292.489","Group member","IAEG005005"]
["421555-74-0","No EC available","IAEG006441","Iodonium, bis[4-(1,1-dimethylpropyl)phenyl]-, salt with 1,1,2,2,3,3,4,4,5,5,6,6,6-tridecafluoro-1-hexanesulfonic",null,"D1;I","2017-08-14","2017-08-14","100.292.490","Group member","IAEG005005"]
["425670-70-8","No EC available","IAEG006442","Sulfonium, tris[4-(1,1-dimethylethyl)phenyl]-, salt with 1,1,2,2,3,3,4,4,5,5,6,6,6-tridecafluoro-1-hexanesulfonic",null,"D1;I","2017-08-14","2017-08-14","100.292.521","Group member","IAEG005005"]
["866621-50-3","No EC available","IAEG006443","Iodonium, bis[(1,1-dimethylethyl)phenyl]-, salt with 1,1,2,2,3,3,4,4,5,5,6,6,6-tridecafluoro-1-hexanesulfonic acid (1:1) (9CI)",null,"D1;I","2017-08-14","2017-08-14","100.296.787","Group member","IAEG005005"]
["910606-39-2","No EC available","IAEG006444","Sulfonium, (4-methylphenyl)diphenyl-, 1,1,2,2,3,3,4,4,5,5,6,6,6-tridecafluoro-1-hexanesulfonate (1:1)",null,"D1;I","2017-08-14","2017-08-14","100.297.036","Group member","IAEG005005"]
["911027-68-4","No EC available","IAEG006445","Sulfonium, [4-[(2-methyl-1-oxo-2-propen-1-yl)oxy]phenyl]diphenyl-, 1,1,2,2,3,3,4,4,5,5,6,6,6-tridecafluoro-1-hexanesulfonate (1:1)",null,"D1;I","2017-08-14","2017-08-14","100.297.038","Group member","IAEG005005"]
["911027-69-5","No EC available","IAEG006446","Sulfonium, [4-[(2-methyl-1-oxo-2-propenyl)oxy]phenyl]diphenyl-, salt with 1,1,2,2,3,3,4,4,5,5,6,6,6-tridecafluoro-1-hexanesulfonic acid (1:1)",null,"D1;I","2017-08-14","2017-08-14","100.297.039","Group member","IAEG005005"]
["928049-42-7","No EC available","IAEG006447","Dibenzo[k,n][1,4,7,10,13]tetraoxathiacyclopentadecinium, 19-[4-(1,1-dimethylethyl)phenyl]-6,7,9,10,12,13-hexahydro-, 1,1,2,2,3,3,4,4,5,5,6,6,6-tridecafluoro-1-hexanesulfonate (1:1) ",null,"D1;I","2017-08-14","2017-08-14","100.297.105","Group member","IAEG005005"]
["1000597-52-3","No EC available","IAEG006448","Phosphonium, triphenyl(phenylmethyl)-, 1,1,2,2,3,3,4,4,5,5,6,6,6-tridecafluoro-1-hexanesulfonate (1:1) ",null,"D1;I","2017-08-14","2017-08-14","100.288.877","Group member","IAEG005005"]
["1187817-57-7","No EC available","IAEG006449","1-Hexanesulfonic acid, 1,1,2,2,3,3,4,4,5,5,6,6,6-tridecafluoro-, compd. with pyrrolidine (1:1)",null,"D1;I","2017-08-14","2017-08-14","100.289.538","Group member","IAEG005005"]
["1310480-24-0","No EC available","IAEG006450","Ethanaminium, N-[4-[[4-(diethylamino)phenyl][4-(ethylamino)-1-naphthalenyl]methylene]-2,5-cyclohexadien-1-ylidene]-N-ethyl-, 1,1,2,2,3,3,4,4,5,5,6,6,6-tridecafluoro-1-hexanesulfonate (1:1)",null,"D1;I","2017-08-14","2017-08-14","100.289.998","Group member","IAEG005005"]
["1310480-27-3","No EC available","IAEG006451","Methanaminium, N-[4-[[4-(dimethylamino)phenyl][4-(ethylamino)-1-naphthalenyl]methylene]-2,5-cyclohexadien-1-ylidene]-N-methyl-, 1,1,2,2,3,3,4,4,5,5,6,6,6-tridecafluoro-1-hexanesulfonate (1:1)",null,"D1;I","2017-08-14","2017-08-14","100.289.999","Group member","IAEG005005"]
["1310480-28-4","No EC available","IAEG006452","Methanaminium, N-[4-[[4-(dimethylamino)phenyl][4-(phenylamino)-1-naphthalenyl]methylene]-2,5-cyclohexadien-1-ylidene]-N-methyl-, 1,1,2,2,3,3,4,4,5,5,6,6,6-tridecafluoro-1-hexanesulfonate (1:1)",null,"D1;I","2017-08-14","2017-08-14","100.290.000","Group member","IAEG005005"]
["1329995-45-0","No EC available","IAEG006453","Beta-Cyclodextrin, compd. with 1,1,2,2,3,3,4,4,5,5,6,6,6-tridecafluoro-1-hexanesulfonic acid ion(1-) (1:1)",null,"D1;I","2017-08-14","2017-08-14","100.290.065","Group member","IAEG005005"]
["1329995-69-8","No EC available","IAEG006454","Gamma-Cyclodextrin, compd. with 1,1,2,2,3,3,4,4,5,5,6,6,6-tridecafluoro-1-hexanesulfonic acid ion(1-) (1:1)",null,"D1;I","2017-08-14","2017-08-14","100.290.066","Group member","IAEG005005"]
["1462414-59-0","No EC available","IAEG006455","Quinolinium, 1-(carboxymethyl)-4-[2-[4-[4-(2,2-diphenylethenyl)phenyl]-1,2,3,3a,4,8b-hexahydrocyclopent[b]indol-7-yl]ethenyl]-, 1,1,2,2,3,3,4,4,5,5,6,6,6-tridecafluoro-1-hexanesulfonate (1:1) ",null,"D1;I","2017-08-14","2017-08-14","100.290.419","Group member","IAEG005005"]
["93572-72-6","297-502-7","IAEG006581","Sulfonic acids, C6-12-alkane, perfluoro",null,"D1;I","2019-01-24","2019-01-24",null,"Group member","IAEG005005"]
["139-13-9","205-355-7","IAEG005007","Nitrilotriacetic acid",null,"I","2019-01-24","2019-01-24",null,"Substance Direct Entry",{"$f":"IF(J1312=\"Group Member\",VLOOKUP(I1312,#REF!,5,0),\"\")","v":""}]
["941-81-1","213-383-6","IAEG005021","4,6,8-trimethylazulene",null,"I","2015-03-17","2019-01-24",null,"Substance Direct Entry",{"$f":"IF(J1313=\"Group Member\",VLOOKUP(I1313,#REF!,5,0),\"\")","v":""}]
["93951-69-0","No EC available","IAEG005022","Fluoranthene-D10, 98 Atom % D",null,"D1;I","2019-01-24","2019-01-24",null,"Substance Direct Entry",{"$f":"IF(J1314=\"Group Member\",VLOOKUP(I1314,#REF!,5,0),\"\")","v":""}]
["939-27-5","213-360-0","IAEG005023","2-ethylnaphthalene",null,"I","2017-08-14","2019-01-24",null,"Substance Direct Entry",{"$f":"IF(J1315=\"Group Member\",VLOOKUP(I1315,#REF!,5,0),\"\")","v":""}]
["92-24-0","202-138-9","IAEG005025","Naphthacene",null,"I","2017-08-14","2017-08-14",null,"Substance Direct Entry",{"$f":"IF(J1316=\"Group Member\",VLOOKUP(I1316,#REF!,5,0),\"\")","v":""}]
["91-57-6","202-078-3","IAEG005031","2-methylnaphthalene",null,"I","2017-08-14","2017-08-14",null,"Substance Direct Entry",{"$f":"IF(J1317=\"Group Member\",VLOOKUP(I1317,#REF!,5,0),\"\")","v":""}]
["91-20-3","202-078-3","IAEG005032","Naphthalene",null,"D1;I","2017-08-14","2017-08-14",null,"Substance Direct Entry",{"$f":"IF(J1318=\"Group Member\",VLOOKUP(I1318,#REF!,5,0),\"\")","v":""}]
["90-12-0","201-966-8","IAEG005038","1-methylnaphthalene",null,"I","2017-08-14","2017-08-14",null,"Substance Direct Entry",{"$f":"IF(J1319=\"Group Member\",VLOOKUP(I1319,#REF!,5,0),\"\")","v":""}]
["86-73-7","201-695-5","IAEG005043","Fluorene",null,"I","2017-08-14","2017-08-14",null,"Substance Direct Entry",{"$f":"IF(J1320=\"Group Member\",VLOOKUP(I1320,#REF!,5,0),\"\")","v":""}]
["779-02-2","212-299-7","IAEG005078","9-methylanthracene",null,"I","2017-08-14","2017-08-14",null,"Substance Direct Entry",{"$f":"IF(J1321=\"Group Member\",VLOOKUP(I1321,#REF!,5,0),\"\")","v":""}]
["751-38-2","No EC available","IAEG005082","1,2,3,4-Tetraphenylnaphthalene","1,2,3,4-Tetraphenylnaphthalene","I","2020-01-16","2020-01-16",null,"Substance Direct Entry",{"$f":"IF(J1322=\"Group Member\",VLOOKUP(I1322,#REF!,5,0),\"\")","v":""}]
["581-40-8","209-463-5","IAEG005120","2,3-dimethylnaphthalene",null,"I","2015-03-17","2019-01-24",null,"Substance Direct Entry",{"$f":"IF(J1323=\"Group Member\",VLOOKUP(I1323,#REF!,5,0),\"\")","v":""}]
["573-98-8","209-364-7","IAEG005124","1,2-dimethylnaphthalene",null,"I","2017-08-14","2019-01-24",null,"Substance Direct Entry",{"$f":"IF(J1324=\"Group Member\",VLOOKUP(I1324,#REF!,5,0),\"\")","v":""}]
["571-61-9","209-338-5","IAEG005126","1,5-dimethylnaphthalene",null,"I","2017-08-14","2017-08-14",null,"Substance Direct Entry",{"$f":"IF(J1325=\"Group Member\",VLOOKUP(I1325,#REF!,5,0),\"\")","v":""}]
["571-58-4","209-335-9","IAEG005127","1,4-dimethylnaphthalene",null,"I","2015-03-17","2019-01-24",null,"Substance Direct Entry",{"$f":"IF(J1326=\"Group Member\",VLOOKUP(I1326,#REF!,5,0),\"\")","v":""}]
["57-97-6","200-359-5","IAEG005128","7,12-Dimethylbenz(a)anthracene",null,"I","2017-08-14","2017-08-14",null,"Substance Direct Entry",{"$f":"IF(J1327=\"Group Member\",VLOOKUP(I1327,#REF!,5,0),\"\")","v":""}]
["56388-49-9","No EC available","IAEG005133","Eicosyl naphthalene",null,"I","2019-01-24","2019-01-24",null,"Substance Direct Entry",{"$f":"IF(J1328=\"Group Member\",VLOOKUP(I1328,#REF!,5,0),\"\")","v":""}]
["56-49-5","200-276-4","IAEG005137","3-Methylcholanthrene",null,"I","2017-08-14","2017-08-14",null,"Substance Direct Entry",{"$f":"IF(J1329=\"Group Member\",VLOOKUP(I1329,#REF!,5,0),\"\")","v":""}]
["517-51-1","208-242-0","IAEG005145","5,6,11,12-tetraphenylnaphthacene",null,"I","2017-08-14","2017-08-14",null,"Substance Direct Entry",{"$f":"IF(J1330=\"Group Member\",VLOOKUP(I1330,#REF!,5,0),\"\")","v":""}]
["38640-62-9","254-052-6","IAEG005169","Bis(isopropyl)naphthalene","Diisopropylnaphthalene","I","2017-08-14","2017-08-14",null,"Substance Direct Entry",{"$f":"IF(J1331=\"Group Member\",VLOOKUP(I1331,#REF!,5,0),\"\")","v":""}]
["3697-24-3","No EC available","IAEG005171","5-Methylchrysene",null,"R1;R2;D1;I","2019-01-24","2019-01-24",null,"Substance Direct Entry",{"$f":"IF(J1332=\"Group Member\",VLOOKUP(I1332,#REF!,5,0),\"\")","v":""}]
["35860-37-8","No EC available","IAEG005175","Naphthalene, tris(1-methylethyl)-",null,"I","2017-08-14","2017-08-14",null,"Substance Direct Entry",{"$f":"IF(J1333=\"Group Member\",VLOOKUP(I1333,#REF!,5,0),\"\")","v":""}]
["28804-88-8","249-241-5","IAEG005193","Dimethylnaphthalene",null,"I","2017-08-14","2019-01-24",null,"Substance Direct Entry",{"$f":"IF(J1334=\"Group Member\",VLOOKUP(I1334,#REF!,5,0),\"\")","v":""}]
["27208-37-3","No EC available","IAEG005201","Cyclopenta[cd]pyrene",null,"R1;R2;D1;I","2017-08-14","2019-01-24",null,"Substance Direct Entry",{"$f":"IF(J1335=\"Group Member\",VLOOKUP(I1335,#REF!,5,0),\"\")","v":""}]
["26588-32-9","247-828-0","IAEG005205","Vinylnaphthalene",null,"I","2020-01-16","2020-01-16",null,"Substance Direct Entry",{"$f":"IF(J1336=\"Group Member\",VLOOKUP(I1336,#REF!,5,0),\"\")","v":""}]
["243-17-4","205-952-2","IAEG005219","Benzo[b]fluorene",null,"I","2019-01-24","2019-01-24",null,"Substance Direct Entry",{"$f":"IF(J1337=\"Group Member\",VLOOKUP(I1337,#REF!,5,0),\"\")","v":""}]
["24157-81-1","246-045-1","IAEG005221","2,6-diisopropylnaphthalene",null,"I","2020-01-16","2020-01-16",null,"Substance Direct Entry",{"$f":"IF(J1338=\"Group Member\",VLOOKUP(I1338,#REF!,5,0),\"\")","v":""}]
["2381-15-9","No EC available","IAEG005230","Ar-E40  10-Methylbenz(A)Anthracene",null,"I","2017-08-14","2017-08-14",null,"Substance Direct Entry",{"$f":"IF(J1339=\"Group Member\",VLOOKUP(I1339,#REF!,5,0),\"\")","v":""}]
["238-84-6","205-944-9","IAEG005231","Benzo[a]fluorene",null,"I","2019-01-24","2019-01-24",null,"Substance Direct Entry",{"$f":"IF(J1340=\"Group Member\",VLOOKUP(I1340,#REF!,5,0),\"\")","v":""}]
["236-73-7","No EC available","IAEG005232","1,4-Methanonaphthalene",null,"I","2020-01-16","2020-01-16",null,"Substance Direct Entry",{"$f":"IF(J1341=\"Group Member\",VLOOKUP(I1341,#REF!,5,0),\"\")","v":""}]
["224-41-9","205-928-1","IAEG005240","Dibenz[a,j]anthracene",null,"I","2017-08-14","2019-01-24",null,"Substance Direct Entry",{"$f":"IF(J1342=\"Group Member\",VLOOKUP(I1342,#REF!,5,0),\"\")","v":""}]
["217-59-4","205-922-9","IAEG005244","Triphenylene",null,"I","2017-08-14","2019-01-24",null,"Substance Direct Entry",{"$f":"IF(J1343=\"Group Member\",VLOOKUP(I1343,#REF!,5,0),\"\")","v":""}]
["215-58-7","205-920-8","IAEG005246","Benzo[b]triphenylene","Dibenz[a,c]anthracene","I","2017-08-14","2019-01-24",null,"Substance Direct Entry",{"$f":"IF(J1344=\"Group Member\",VLOOKUP(I1344,#REF!,5,0),\"\")","v":""}]
["208-96-8","205-917-1","IAEG005255","Acenaphthylene",null,"I","2017-08-14","2017-08-14",null,"Substance Direct Entry",{"$f":"IF(J1345=\"Group Member\",VLOOKUP(I1345,#REF!,5,0),\"\")","v":""}]
["206-44-0","205-912-4","IAEG005256","Fluoranthene",null,"D1;I","2019-01-24","2019-01-24","100.005.376","Substance Direct Entry",{"$f":"IF(J1346=\"Group Member\",VLOOKUP(I1346,#REF!,5,0),\"\")","v":""}]
["203-64-5","205-905-6","IAEG005259","4H-cyclopenta[def]phenanthrene",null,"I","2019-01-24","2019-01-24",null,"Substance Direct Entry",{"$f":"IF(J1347=\"Group Member\",VLOOKUP(I1347,#REF!,5,0),\"\")","v":""}]
["2027-17-0","217-976-0","IAEG005263","2-isopropylnaphthalene",null,"I","2017-08-14","2019-01-24",null,"Substance Direct Entry",{"$f":"IF(J1348=\"Group Member\",VLOOKUP(I1348,#REF!,5,0),\"\")","v":""}]
["198-55-0","205-900-9","IAEG005264","Perylene",null,"I","2017-08-14","2019-01-24",null,"Substance Direct Entry",{"$f":"IF(J1349=\"Group Member\",VLOOKUP(I1349,#REF!,5,0),\"\")","v":""}]
["195-19-7","205-896-9","IAEG005269","Benzo[c]phenanthrene",null,"I","2019-01-24","2019-01-24",null,"Substance Direct Entry",{"$f":"IF(J1350=\"Group Member\",VLOOKUP(I1350,#REF!,5,0),\"\")","v":""}]
["193-39-5","205-893-2","IAEG005272","Indeno [1,2,3-cd]pyrene",null,"R1;R2;D1;I","2017-08-14","2017-08-14",null,"Substance Direct Entry",{"$f":"IF(J1351=\"Group Member\",VLOOKUP(I1351,#REF!,5,0),\"\")","v":""}]
["192-65-4","205-891-1","IAEG005273","Dibenzo[a,e]pyrene",null,"R1;R2;D1;I","2017-08-14","2019-01-24",null,"Substance Direct Entry",{"$f":"IF(J1352=\"Group Member\",VLOOKUP(I1352,#REF!,5,0),\"\")","v":""}]
["191-68-4","205-890-6","IAEG005274","Dibenzo[g,p]chrysene",null,"I","2017-08-14","2017-08-14",null,"Substance Direct Entry",{"$f":"IF(J1353=\"Group Member\",VLOOKUP(I1353,#REF!,5,0),\"\")","v":""}]
["191-24-2","205-883-8","IAEG005278","Benzo(g,h,i)perylene",null,"R1;R2;D1;I","2017-08-14","2019-01-24","100.005.350","Substance Direct Entry",{"$f":"IF(J1354=\"Group Member\",VLOOKUP(I1354,#REF!,5,0),\"\")","v":""}]
["191-07-1","205-881-7","IAEG005280","Coronene","Hexabenzobenzene","I","2017-08-14","2017-08-14",null,"Substance Direct Entry",{"$f":"IF(J1355=\"Group Member\",VLOOKUP(I1355,#REF!,5,0),\"\")","v":""}]
["189-64-0","205-878-0","IAEG005283","Dibenzo[a,h]pyrene","Dibenzo[b,def]chrysene","R1;R2;D1;I","2017-08-14","2019-01-24",null,"Substance Direct Entry",{"$f":"IF(J1356=\"Group Member\",VLOOKUP(I1356,#REF!,5,0),\"\")","v":""}]
["1719-06-8","217-004-5","IAEG005290","[2H10]anthracene",null,"I","2017-08-14","2019-01-24",null,"Substance Direct Entry",{"$f":"IF(J1357=\"Group Member\",VLOOKUP(I1357,#REF!,5,0),\"\")","v":""}]
["1719-03-5","625-640-3","IAEG005291","Chrysene-d12",null,"D1;I","2017-08-14","2019-01-24",null,"Substance Direct Entry",{"$f":"IF(J1358=\"Group Member\",VLOOKUP(I1358,#REF!,5,0),\"\")","v":""}]
["1718-53-2","624-576-3","IAEG005292","Benz[a]anthracene-d12",null,"D1;I","2019-01-24","2019-01-24",null,"Substance Direct Entry",{"$f":"IF(J1359=\"Group Member\",VLOOKUP(I1359,#REF!,5,0),\"\")","v":""}]
["1718-52-1","No EC available","IAEG005293","Pyrene-D10",null,"D1;I","2019-01-24","2019-01-24",null,"Substance Direct Entry",{"$f":"IF(J1360=\"Group Member\",VLOOKUP(I1360,#REF!,5,0),\"\")","v":""}]
["15679-24-0","239-762-6","IAEG005302","2,7-dimethylpyrene",null,"I","2020-01-16","2020-01-16",null,"Substance Direct Entry",{"$f":"IF(J1361=\"Group Member\",VLOOKUP(I1361,#REF!,5,0),\"\")","v":""}]
["1499-10-1","216-105-1","IAEG005306","9,10-diphenylanthracene",null,"I","2017-08-14","2019-01-24",null,"Substance Direct Entry",{"$f":"IF(J1362=\"Group Member\",VLOOKUP(I1362,#REF!,5,0),\"\")","v":""}]
["1498-71-1","No EC available","IAEG005307","9-Benzyl-Anthracene",null,"I","2020-01-16","2020-01-16",null,"Substance Direct Entry",{"$f":"IF(J1363=\"Group Member\",VLOOKUP(I1363,#REF!,5,0),\"\")","v":""}]
["14458-76-5","238-449-1","IAEG005308","(1H)-benzo[b]fluorene",null,"I","2020-01-16","2020-01-16",null,"Substance Direct Entry",{"$f":"IF(J1364=\"Group Member\",VLOOKUP(I1364,#REF!,5,0),\"\")","v":""}]
["143319-00-0","No EC available","IAEG005309","Dibenzylnaphthalene",null,"I","2020-01-16","2020-01-16",null,"Substance Direct Entry",{"$f":"IF(J1365=\"Group Member\",VLOOKUP(I1365,#REF!,5,0),\"\")","v":""}]
["1430-97-3","215-853-6","IAEG005310","2-methylfluorene",null,"I","2020-01-16","2020-01-16",null,"Substance Direct Entry",{"$f":"IF(J1366=\"Group Member\",VLOOKUP(I1366,#REF!,5,0),\"\")","v":""}]
["135585-40-9","No EC available","IAEG005319","Naphthalene, (1-methylnonadecyl)-",null,"I","2020-01-16","2020-01-16",null,"Substance Direct Entry",{"$f":"IF(J1367=\"Group Member\",VLOOKUP(I1367,#REF!,5,0),\"\")","v":""}]
["135-48-8","205-193-7","IAEG005320","Pentacene",null,"I","2017-08-14","2017-08-14",null,"Substance Direct Entry",{"$f":"IF(J1368=\"Group Member\",VLOOKUP(I1368,#REF!,5,0),\"\")","v":""}]
["132983-41-6","410-190-0","IAEG005322","Reaction mass of isomers of: mono-(2-tetradecyl)naphthalenes; di-(2-tetradecyl)naphthalenes; tri-(2-tetradecyl)naphthalenes",null,"I","2019-01-24","2019-01-24",null,"Substance Direct Entry",{"$f":"IF(J1369=\"Group Member\",VLOOKUP(I1369,#REF!,5,0),\"\")","v":""}]
["132859-40-6","No EC available","IAEG005323","Naphthalene, trihexadecyl-",null,"I","2020-01-16","2020-01-16",null,"Substance Direct Entry",{"$f":"IF(J1370=\"Group Member\",VLOOKUP(I1370,#REF!,5,0),\"\")","v":""}]
["1328-13-8","215-515-8","IAEG005324","Anthracene, reaction products with sulfur chloride",null,"I","2020-01-16","2020-01-16",null,"Substance Direct Entry",{"$f":"IF(J1371=\"Group Member\",VLOOKUP(I1371,#REF!,5,0),\"\")","v":""}]
["1321-94-4","215-329-7","IAEG005325","Methylnaphthalene",null,"I","2019-01-24","2019-01-24",null,"Substance Direct Entry",{"$f":"IF(J1372=\"Group Member\",VLOOKUP(I1372,#REF!,5,0),\"\")","v":""}]
["129-00-0","204-927-3","IAEG005326","Pyrene",null,"D1;I","2017-08-14","2019-01-24","100.004.481","Substance Direct Entry",{"$f":"IF(J1373=\"Group Member\",VLOOKUP(I1373,#REF!,5,0),\"\")","v":""}]
["122070-80-8","310-171-6","IAEG005327","Extract oils (coal), coal tar residual pyrolysis oils, naphthalene oil, distn. residues",null,"I","2020-01-16","2020-01-16",null,"Substance Direct Entry",{"$f":"IF(J1374=\"Group Member\",VLOOKUP(I1374,#REF!,5,0),\"\")","v":""}]
["122070-79-5","310-170-0","IAEG005328","Extract oils (coal), coal tar residual pyrolysis oils, naphthalene oils",null,"I","2020-01-16","2020-01-16",null,"Substance Direct Entry",{"$f":"IF(J1375=\"Group Member\",VLOOKUP(I1375,#REF!,5,0),\"\")","v":""}]
["122070-78-4","310-169-5","IAEG005329","Phenanthrene, distn. residues",null,"I","2020-01-16","2020-01-16",null,"Substance Direct Entry",{"$f":"IF(J1376=\"Group Member\",VLOOKUP(I1376,#REF!,5,0),\"\")","v":""}]
["121620-48-2","310-167-4","IAEG005330","Extract residues (coal), naphthalene oil, alk., naphthalene-low",null,"I","2020-01-16","2020-01-16",null,"Substance Direct Entry",{"$f":"IF(J1377=\"Group Member\",VLOOKUP(I1377,#REF!,5,0),\"\")","v":""}]
["121620-47-1","310-166-9","IAEG005331","Extract residues (coal), naphthalene oil, alk.",null,"I","2020-01-16","2020-01-16",null,"Substance Direct Entry",{"$f":"IF(J1378=\"Group Member\",VLOOKUP(I1378,#REF!,5,0),\"\")","v":""}]
["121254-39-5","No EC available","IAEG005332","2-Methylcyclopenta[L]Phenanthrene",null,"I","2020-01-16","2020-01-16",null,"Substance Direct Entry",{"$f":"IF(J1379=\"Group Member\",VLOOKUP(I1379,#REF!,5,0),\"\")","v":""}]
["1146-65-2","214-552-7","IAEG005334","(2H8)naphthalene",null,"I","2017-08-14","2017-08-14",null,"Substance Direct Entry",{"$f":"IF(J1380=\"Group Member\",VLOOKUP(I1380,#REF!,5,0),\"\")","v":""}]
["1134-40-3","214-485-3","IAEG005335","2,3,6,7-tetramethylnaphthalene",null,"I","2020-01-16","2020-01-16",null,"Substance Direct Entry",{"$f":"IF(J1381=\"Group Member\",VLOOKUP(I1381,#REF!,5,0),\"\")","v":""}]
["110746-97-9","No EC available","IAEG005337","1-Cyclohexyl-Naphthalene, Picrate",null,"I","2020-01-16","2020-01-16",null,"Substance Direct Entry",{"$f":"IF(J1382=\"Group Member\",VLOOKUP(I1382,#REF!,5,0),\"\")","v":""}]
["101794-91-6","309-972-3","IAEG005342","Distillates (coal tar), naphthalene oils, indole-methylnaphthalene fraction",null,"I","2020-01-16","2020-01-16",null,"Substance Direct Entry",{"$f":"IF(J1383=\"Group Member\",VLOOKUP(I1383,#REF!,5,0),\"\")","v":""}]
["54261-67-5","259-048-8","IAEG005352","Zinc bis[bis(dodecylphenyl)] bis(dithiophosphate)",null,"I","2015-03-17","2017-08-14",null,"Substance Direct Entry",{"$f":"IF(J1384=\"Group Member\",VLOOKUP(I1384,#REF!,5,0),\"\")","v":""}]
["115-86-6","204-112-2","IAEG005353","Triphenyl phosphate (TPP)",null,"I","2015-03-17","2017-08-14",null,"Substance Direct Entry",{"$f":"IF(J1385=\"Group Member\",VLOOKUP(I1385,#REF!,5,0),\"\")","v":""}]
["1879-09-0","217-533-1","IAEG005355","6-tert-butyl-2,4-xylenol",null,"I","2019-01-24","2019-01-24",null,"Substance Direct Entry",{"$f":"IF(J1386=\"Group Member\",VLOOKUP(I1386,#REF!,5,0),\"\")","v":""}]
["556-67-2","209-136-7","IAEG005357","Octamethylcyclotetrasiloxane (D4)",null,"D1;I","2019-01-24","2019-01-24","100.008.307","Substance Direct Entry",{"$f":"IF(J1387=\"Group Member\",VLOOKUP(I1387,#REF!,5,0),\"\")","v":""}]
["541-02-6","208-764-9","IAEG005358","Decamethylcyclopentasiloxane (D5)",null,"D1;I","2019-01-24","2019-01-24","100.007.969","Substance Direct Entry",{"$f":"IF(J1388=\"Group Member\",VLOOKUP(I1388,#REF!,5,0),\"\")","v":""}]
["7727-54-0","231-786-5","IAEG005359","Diammonium peroxodisulphate","Ammonium persulphate; Persulfate ammonium; Peroxydisulfuric acid (((HO)S(O)2)2O2), diammonium salt","I","2019-01-24","2019-01-24",null,"Substance Direct Entry",{"$f":"IF(J1389=\"Group Member\",VLOOKUP(I1389,#REF!,5,0),\"\")","v":""}]
["7727-21-1","231-781-8","IAEG005360","Dipotassium peroxodisulphate","Potassium persulphate; Persulfate potassium; Peroxydisulfuric acid (((HO)S(O)2)2O2), dipotassium salt","I","2019-01-24","2019-01-24",null,"Substance Direct Entry",{"$f":"IF(J1390=\"Group Member\",VLOOKUP(I1390,#REF!,5,0),\"\")","v":""}]
["7775-27-1","231-892-1","IAEG005361","Disodium peroxodisulphate","Sodium persulphate; Peroxydisulfuric acid (((HO)S(O)2)2O2), disodium salt","I","2019-01-24","2019-01-24",null,"Substance Direct Entry",{"$f":"IF(J1391=\"Group Member\",VLOOKUP(I1391,#REF!,5,0),\"\")","v":""}]
["15120-21-5","239-172-9","IAEG004135","Sodium perborate","Perboric acid (H3BO2(O2)), monosodium salt trihydrate Note: ECHA REF LIST JAN 2022 lists 100.239.162 as the parent of this substance.","R2;D1","2015-03-17","2015-03-17","100.035.597","Substance Direct Entry"]
["12280-03-4","234-541-0","IAEG005363","Disodium octaborate tetrahydrate","Disodium octaborate anhydrate; Sodium borate","D1;I","2019-01-24","2020-01-16","100.031.388","Substance Direct Entry",{"$f":"IF(J1393=\"Group Member\",VLOOKUP(I1393,#REF!,5,0),\"\")","v":""}]
["1471311-26-8","939-460-0","IAEG005364","Reaction product of 1,3,4-thiadiazolidine-2,5-dithione, formaldehyde and phenol, heptyl derivs.","Note: ECHA REF LIST JAN 2022 lists 100.253.517 as the parent of this substance.","D1;I","2019-01-24","2019-01-24","100.226.747","Substance Direct Entry"]
["116984-14-6","No EC available","IAEG005369","2-Propenoic acid, 3,3,4,4,5,5,6,6,7,7,8,8,9,9,10,10,11,11,12,12,12-heneicosafluorododecyl ester, polymer with 3,3,4,4,5,5,6,6,7,7,8,8,9,9,10,10,10- heptadecafluorodecyl 2-propenoate, alpha-(2-methyl-1-1-oxo-2-2-propenyl)-omega-[(2-methyl-1-oxo-2-propenyl)oxy]poly(oxy-1, 2-ethanediyl),3,3,4,4,5,5,6,6,7,7,8,8,9,9,10,10,11,11,12,12,13,13,14,14,15,15,16,16,16- nonacosafluorohexadecyl 2-propenoate, octadecyl 2-propenoate,3,3,4,4,5,5,6,6,7,7,8,8,9,9,10,10,11,11,12,12,13,13,14,14,14-pentacosafluorotetradecyl 2-propenoate and 3,3,4,4,5,5,6,6,7,7,8,8,9,9,10,10,11,11,12,12,13,13,14,14,15,15,16,16,17,17,18,18,18-tritriacontafluorooctadecyl 2-propenoate",null,"R1;R2;I","2017-08-14","2019-01-24",null,"Substance Direct Entry",{"$f":"IF(J1395=\"Group Member\",VLOOKUP(I1395,#REF!,5,0),\"\")","v":""}]
["106-44-5","203-398-6","IAEG005370","p-Cresol","4-Methylphenol","D1","2017-08-14","2017-08-14",null,"Substance Direct Entry",{"$f":"IF(J1396=\"Group Member\",VLOOKUP(I1396,#REF!,5,0),\"\")","v":""}]
["117-84-0","204-214-7","IAEG005371","Di-n-octyl phthalate (DnOP)","Dioctyl phthalate","D1","2017-08-14","2017-08-14",null,"Substance Direct Entry",{"$f":"IF(J1397=\"Group Member\",VLOOKUP(I1397,#REF!,5,0),\"\")","v":""}]
["1304-56-9","215-133-1","IAEG005372","Beryllium oxide",null,"D1","2017-08-14","2017-08-14",null,"Substance Direct Entry",{"$f":"IF(J1398=\"Group Member\",VLOOKUP(I1398,#REF!,5,0),\"\")","v":""}]
["131-11-3","205-011-6","IAEG005373","Dimethyl phthalate (DMP)",null,"D1","2017-08-14","2017-08-14",null,"Substance Direct Entry",{"$f":"IF(J1399=\"Group Member\",VLOOKUP(I1399,#REF!,5,0),\"\")","v":""}]
["1314-60-9","215-237-7","IAEG005374","Antimony(V) pentoxide","Diantimony pentoxide","D1","2017-08-14","2017-08-14",null,"Substance Direct Entry",{"$f":"IF(J1400=\"Group Member\",VLOOKUP(I1400,#REF!,5,0),\"\")","v":""}]
["1319-77-3","215-293-2","IAEG005375","Cresol (mixture of isomers)",null,"D1","2017-08-14","2017-08-14",null,"Substance Direct Entry",{"$f":"IF(J1401=\"Group Member\",VLOOKUP(I1401,#REF!,5,0),\"\")","v":""}]
["137-26-8","205-286-2","IAEG005376","Thiram","Tetramethylthiuram disulphide; N,N,N',N'-Tetramethyl-2,3-dithiadithiosuccinamide","D1","2015-03-17","2017-08-14",null,"Substance Direct Entry",{"$f":"IF(J1402=\"Group Member\",VLOOKUP(I1402,#REF!,5,0),\"\")","v":""}]
["29935-35-1","249-963-0","IAEG005377","Lithium hexafluoroarsenate",null,"R1;R2;D1","2015-03-17","2017-08-14",null,"Substance Direct Entry",{"$f":"IF(J1403=\"Group Member\",VLOOKUP(I1403,#REF!,5,0),\"\")","v":""}]
["330-54-1","206-354-4","IAEG005378","Diuron","3-(3,4-Dichlorophenyl)-1,1-dimethylurea (DCMU)","D1","2015-03-17","2017-08-14",null,"Substance Direct Entry",{"$f":"IF(J1404=\"Group Member\",VLOOKUP(I1404,#REF!,5,0),\"\")","v":""}]
["61789-51-3","263-064-0","IAEG005379","Cobalt naphthenate",null,"D1","2017-08-14","2017-08-14",null,"Substance Direct Entry",{"$f":"IF(J1405=\"Group Member\",VLOOKUP(I1405,#REF!,5,0),\"\")","v":""}]
["7440-36-0","231-146-5","IAEG005380","Antimony (Sb)",null,"D1","2015-03-17","2017-08-14",null,"Substance Direct Entry",{"$f":"IF(J1406=\"Group Member\",VLOOKUP(I1406,#REF!,5,0),\"\")","v":""}]
["7440-38-2","231-148-6","IAEG005381","Arsenic (As)",null,"R1;R2;D1","2017-08-14","2017-08-14",null,"Substance Direct Entry",{"$f":"IF(J1407=\"Group Member\",VLOOKUP(I1407,#REF!,5,0),\"\")","v":""}]
["7440-48-4","231-158-0","IAEG005382","Cobalt (Co)",null,"R1;R2;D1","2015-03-17","2017-08-14",null,"Substance Direct Entry",{"$f":"IF(J1408=\"Group Member\",VLOOKUP(I1408,#REF!,5,0),\"\")","v":""}]
["7782-49-2","231-957-4","IAEG005383","Selenium (Se)",null,"D1","2015-03-17","2017-08-14",null,"Substance Direct Entry",{"$f":"IF(J1409=\"Group Member\",VLOOKUP(I1409,#REF!,5,0),\"\")","v":""}]
["818-08-6","212-449-1","IAEG005384","Dibutyltin oxide",null,"R2;D1","2017-08-14","2017-08-14",null,"Substance Direct Entry",{"$f":"IF(J1410=\"Group Member\",VLOOKUP(I1410,#REF!,5,0),\"\")","v":""}]
["84-66-2","201-550-6","IAEG005385","Diethyl phthalate (DEP)","1,2-Benzenedicarboxylic acid, diethyl ester","D1","2017-08-14","2017-08-14",null,"Substance Direct Entry",{"$f":"IF(J1411=\"Group Member\",VLOOKUP(I1411,#REF!,5,0),\"\")","v":""}]
["85-44-9","201-607-5","IAEG005386","Phthalic anhydride","1,3-Isobenzofurandione","D1;I","2017-08-14","2017-08-14",null,"Substance Direct Entry",{"$f":"IF(J1412=\"Group Member\",VLOOKUP(I1412,#REF!,5,0),\"\")","v":""}]
["92-52-4","202-163-5","IAEG005387","Biphenyl","PCB 0","D1","2017-08-14","2017-08-14",null,"Substance Direct Entry",{"$f":"IF(J1413=\"Group Member\",VLOOKUP(I1413,#REF!,5,0),\"\")","v":""}]
["95-48-7","202-423-8","IAEG005388","o-Cresol",null,"D1","2017-08-14","2017-08-14",null,"Substance Direct Entry",{"$f":"IF(J1414=\"Group Member\",VLOOKUP(I1414,#REF!,5,0),\"\")","v":""}]
["12018-19-8","234-637-2","IAEG005389","Chromium zinc oxide","Dichromium zinc tetraoxide","D1","2017-08-14","2017-08-14",null,"Substance Direct Entry",{"$f":"IF(J1415=\"Group Member\",VLOOKUP(I1415,#REF!,5,0),\"\")","v":""}]
["12709-98-7","No EC available","IAEG005390","Lead-molybdenum chromate",null,"D1","2017-08-14","2017-08-14",null,"Substance Direct Entry",{"$f":"IF(J1416=\"Group Member\",VLOOKUP(I1416,#REF!,5,0),\"\")","v":""}]
["61788-32-7","262-967-7","IAEG005393","Terphenyl, hydrogenated",null,"D1;I","2017-08-14","2019-01-24","100.057.225","Substance Direct Entry",{"$f":"IF(J1417=\"Group Member\",VLOOKUP(I1417,#REF!,5,0),\"\")","v":""}]
["No CAS available","No EC available","IAEG005399","Individual isomers of 1,6,7,8,9,14,15,16,17,17,18,18-dodecachloropentacyclo[12.2.1.16,9.02,13.05,10]octadeca-7,15-diene (Dechlorane Plus) or any combination thereof",null,"D1;I","2019-01-24","2019-01-24","100.253.516","Group Direct Entry",{"$f":"IF(J1418=\"Group Member\",VLOOKUP(I1418,#REF!,5,0),\"\")","v":""}]
["13560-89-9","236-948-9","IAEG005395","Dechlorane plus","Dechlorane+; 1,6,7,8,9,14,15,16,17,17,18,18-dodecachloropentacyclo[12.2.1.16,9.02,13.05,10]octadeca-7,15-diene","D1;I","2017-08-14","2019-01-24","100.033.575","Group member","IAEG005399"]
["135821-74-8","No EC available","IAEG006465","anti- (or exo-)Dechlorane Plus",null,"D1;I","2019-01-24","2019-01-24","100.287.893","Group member","IAEG005399"]
["135821-03-3","No EC available","IAEG006466","syn- (or endo-)Dechlorane Plus",null,"D1;I","2019-01-24","2019-01-24","100.287.892","Group member","IAEG005399"]
["1303-00-0","215-114-8","IAEG005405","Gallium arsenide",null,"R1;R2;D1","2015-03-17","2015-03-17",null,"Substance Direct Entry",{"$f":"IF(J1422=\"Group Member\",VLOOKUP(I1422,#REF!,5,0),\"\")","v":""}]
["7778-43-0","231-902-4","IAEG005427","Disodium hydrogenarsenate","Arsenic acid (H3AsO4), disodium salt","R1;R2;D1","2015-03-17","2015-03-17",null,"Substance Direct Entry",{"$f":"IF(J1423=\"Group Member\",VLOOKUP(I1423,#REF!,5,0),\"\")","v":""}]
["7786-36-9","232-096-7","IAEG005431","Pentahydroxyarsorane",null,"R1;R2;D1","2017-08-14","2017-08-14",null,"Substance Direct Entry",{"$f":"IF(J1424=\"Group Member\",VLOOKUP(I1424,#REF!,5,0),\"\")","v":""}]
["7784-42-1","232-066-3","IAEG005435","Arsine","Arsenic trihydride","R1;R2;D1","2015-03-17","2015-03-17",null,"Substance Direct Entry",{"$f":"IF(J1425=\"Group Member\",VLOOKUP(I1425,#REF!,5,0),\"\")","v":""}]
["4262-43-5","423-320-6","IAEG005436","Tert-butylarsine",null,"R1;R2;D1","2017-08-14","2017-08-14",null,"Substance Direct Entry",{"$f":"IF(J1426=\"Group Member\",VLOOKUP(I1426,#REF!,5,0),\"\")","v":""}]
["139-93-5","205-386-6","IAEG005440","6,6'-Dihydroxy-3,3'-diarsene-1,2-diyldianilinium dichloride",null,"R1;R2;D1","2017-08-14","2017-08-14",null,"Substance Direct Entry",{"$f":"IF(J1427=\"Group Member\",VLOOKUP(I1427,#REF!,5,0),\"\")","v":""}]
["37382-15-3","No EC available","IAEG005442","Aluminium gallium arsenide ((Al,Ga)As)",null,"R1;R2;D1","2017-08-14","2017-08-14",null,"Substance Direct Entry",{"$f":"IF(J1428=\"Group Member\",VLOOKUP(I1428,#REF!,5,0),\"\")","v":""}]
["17029-22-0","241-102-7","IAEG005450","Arsenate(1-), hexafluoro-, potassium",null,"R1;R2;D1","2017-08-14","2017-08-14",null,"Substance Direct Entry",{"$f":"IF(J1429=\"Group Member\",VLOOKUP(I1429,#REF!,5,0),\"\")","v":""}]
["7784-33-0","232-057-4","IAEG005456","Arsenic tribromide",null,"R1;R2;D1","2015-03-17","2015-03-17",null,"Substance Direct Entry",{"$f":"IF(J1430=\"Group Member\",VLOOKUP(I1430,#REF!,5,0),\"\")","v":""}]
["1303-36-2","215-119-5","IAEG005460","Arsenic selenide (As2Se3)",null,"R1;R2;D1","2017-08-14","2017-08-14",null,"Substance Direct Entry",{"$f":"IF(J1431=\"Group Member\",VLOOKUP(I1431,#REF!,5,0),\"\")","v":""}]
["1303-33-9","215-117-4","IAEG005465","Arsenic trisulfide",null,"R1;R2;D1","2017-08-14","2017-08-14",null,"Substance Direct Entry",{"$f":"IF(J1432=\"Group Member\",VLOOKUP(I1432,#REF!,5,0),\"\")","v":""}]
["63217-32-3","264-026-6","IAEG005473","Benzenediazonium, 4-(ethylamino)-2-methyl-, hexafluoroarsenate(1-)",null,"R1;R2;D1","2020-01-16","2020-01-16",null,"Substance Direct Entry",{"$f":"IF(J1433=\"Group Member\",VLOOKUP(I1433,#REF!,5,0),\"\")","v":""}]
["10048-95-0","No EC available","IAEG005490","Disodium hydrogen arsenate","Arsenic acid (H3AsO4), disodium salt, heptahydrate","R1;R2;D1","2019-01-24","2019-01-24",null,"Substance Direct Entry",{"$f":"IF(J1434=\"Group Member\",VLOOKUP(I1434,#REF!,5,0),\"\")","v":""}]
["12044-20-1","234-948-3","IAEG005496","Gallium arsenide phosphide (Ga2AsP)",null,"R1;R2;D1","2017-08-14","2017-08-14",null,"Substance Direct Entry",{"$f":"IF(J1435=\"Group Member\",VLOOKUP(I1435,#REF!,5,0),\"\")","v":""}]
["12005-92-4","234-476-8","IAEG005499","Holmium arsenide (HoAs)",null,"R1;R2;D1","2020-01-16","2020-01-16",null,"Substance Direct Entry",{"$f":"IF(J1436=\"Group Member\",VLOOKUP(I1436,#REF!,5,0),\"\")","v":""}]
["1303-11-3","215-115-3","IAEG005500","Indium arsenide (InAs)",null,"R1;R2;D1","2019-01-24","2019-01-24",null,"Substance Direct Entry",{"$f":"IF(J1437=\"Group Member\",VLOOKUP(I1437,#REF!,5,0),\"\")","v":""}]
["7784-46-5","232-070-5","IAEG005527","Sodium arsenite","Arsenenous acid, sodium salt","R1;R2;D1","2015-03-17","2015-03-17",null,"Substance Direct Entry",{"$f":"IF(J1438=\"Group Member\",VLOOKUP(I1438,#REF!,5,0),\"\")","v":""}]
["12006-40-5","234-486-2","IAEG005545","Zinc arsenide (Zn3As2)",null,"R1;R2;D1","2017-08-14","2017-08-14",null,"Substance Direct Entry",{"$f":"IF(J1439=\"Group Member\",VLOOKUP(I1439,#REF!,5,0),\"\")","v":""}]
["12044-55-2","234-956-7","IAEG005546","Zinc arsenide (ZnAs2)",null,"R1;R2;D1","2015-03-17","2015-03-17",null,"Substance Direct Entry",{"$f":"IF(J1440=\"Group Member\",VLOOKUP(I1440,#REF!,5,0),\"\")","v":""}]
["58-36-6","200-377-3","IAEG005550","Diphenoxarsin-10-yloxid",null,"R1;R2;D1;I","2017-08-14","2017-08-14",null,"Substance Direct Entry",{"$f":"IF(J1441=\"Group Member\",VLOOKUP(I1441,#REF!,5,0),\"\")","v":""}]
["75-60-5","200-883-4","IAEG005554","Cacodylic acid","Dimethylarsinic acid; Dimethyl arsenic","R1;R2;D1","2017-08-14","2017-08-14",null,"Substance Direct Entry",{"$f":"IF(J1442=\"Group Member\",VLOOKUP(I1442,#REF!,5,0),\"\")","v":""}]
["98-05-5","202-631-9","IAEG005555","Phenylarsonic acid",null,"R1;R2;D1","2017-08-14","2017-08-14",null,"Substance Direct Entry",{"$f":"IF(J1443=\"Group Member\",VLOOKUP(I1443,#REF!,5,0),\"\")","v":""}]
["617-75-4","210-526-4","IAEG005581","Triethylarsine",null,"R1;R2;D1","2017-08-14","2017-08-14",null,"Substance Direct Entry",{"$f":"IF(J1444=\"Group Member\",VLOOKUP(I1444,#REF!,5,0),\"\")","v":""}]
["62337-00-2","263-516-7","IAEG005591","Disodium 3,6-bis[(o-arsonophenyl)azo]-4,5-dihydroxynaphthalene-2,7-disulphonate",null,"R1;R2;D1","2017-08-14","2017-08-14",null,"Substance Direct Entry",{"$f":"IF(J1445=\"Group Member\",VLOOKUP(I1445,#REF!,5,0),\"\")","v":""}]
["637-03-6","211-275-3","IAEG005597","Phenylarsine oxide",null,"R1;R2;D1","2017-08-14","2017-08-14",null,"Substance Direct Entry",{"$f":"IF(J1446=\"Group Member\",VLOOKUP(I1446,#REF!,5,0),\"\")","v":""}]
["1668-00-4","216-788-6","IAEG005599","2,7-(bis(2-arsonophenylazo))-1,8-dihydroxynaphthalene-3,6-disulphonic acid",null,"R1;R2;D1","2017-08-14","2017-08-14",null,"Substance Direct Entry",{"$f":"IF(J1447=\"Group Member\",VLOOKUP(I1447,#REF!,5,0),\"\")","v":""}]
["132-33-2","205-058-2","IAEG005644","4-[(2-arsonophenyl)azo]-3-hydroxynaphthalene-2,7-disulphonic acid",null,"R1;R2;D1","2017-08-14","2017-08-14",null,"Substance Direct Entry",{"$f":"IF(J1448=\"Group Member\",VLOOKUP(I1448,#REF!,5,0),\"\")","v":""}]
["593-88-4","209-815-8","IAEG005647","Trimethylarsine",null,"R1;R2;D1","2017-08-14","2017-08-14",null,"Substance Direct Entry",{"$f":"IF(J1449=\"Group Member\",VLOOKUP(I1449,#REF!,5,0),\"\")","v":""}]
["520-10-5","208-285-5","IAEG005657","Trisodium 2-(-hydrogen arsonatophenylazo)-1,8-dihydroxynaphthalene-3,6-disulphonate",null,"R1;R2;D1","2019-01-24","2019-01-24",null,"Substance Direct Entry",{"$f":"IF(J1450=\"Group Member\",VLOOKUP(I1450,#REF!,5,0),\"\")","v":""}]
["3688-92-4","222-993-1","IAEG005660","Disodium 4-[(o-arsonophenyl)azo]-3-hydroxynaphthalene-2,7-disulphonate",null,"R1;R2;D1","2020-01-16","2020-01-16",null,"Substance Direct Entry",{"$f":"IF(J1451=\"Group Member\",VLOOKUP(I1451,#REF!,5,0),\"\")","v":""}]
["12044-50-7","No EC available","IAEG005669","Arsenic oxide (As2O5), hydrate (3:5)",null,"R1;R2;D1","2019-01-24","2019-01-24",null,"Substance Direct Entry",{"$f":"IF(J1452=\"Group Member\",VLOOKUP(I1452,#REF!,5,0),\"\")","v":""}]
["7774-41-6","No EC available","IAEG005680","Arsenic acid, hemihydrate",null,"R1;R2;D1","2019-01-24","2019-01-24",null,"Substance Direct Entry",{"$f":"IF(J1453=\"Group Member\",VLOOKUP(I1453,#REF!,5,0),\"\")","v":""}]
["917-76-0","No EC available","IAEG005709","Dimethylarsinic acid",null,"R1;R2;D1","2020-01-16","2020-01-16",null,"Substance Direct Entry",{"$f":"IF(J1454=\"Group Member\",VLOOKUP(I1454,#REF!,5,0),\"\")","v":""}]
["12310-22-4","No EC available","IAEG005716","Kupfer(II)-arsenitacetat",null,"R1;R2;D1","2020-01-16","2020-01-16",null,"Substance Direct Entry",{"$f":"IF(J1455=\"Group Member\",VLOOKUP(I1455,#REF!,5,0),\"\")","v":""}]
["108567-24-4","No EC available","IAEG005731","10-Methoxy-2,3,6,7-Tetrahydro-1H,5H-Arsenino(3,2,1-1J)Arsinoline-1,7-Dione",null,"R1;R2;D1","2020-01-16","2020-01-16",null,"Substance Direct Entry",{"$f":"IF(J1456=\"Group Member\",VLOOKUP(I1456,#REF!,5,0),\"\")","v":""}]
["6295-19-8","No EC available","IAEG005754","4-Methyl-3-Nitrobenzenearsonic Acid",null,"R1;R2;D1","2017-08-14","2017-08-14",null,"Substance Direct Entry",{"$f":"IF(J1457=\"Group Member\",VLOOKUP(I1457,#REF!,5,0),\"\")","v":""}]
["7516-59-8","No EC available","IAEG005757","Benzyltriphenylarsonium Bromide",null,"R1;R2;D1","2017-08-14","2017-08-14",null,"Substance Direct Entry",{"$f":"IF(J1458=\"Group Member\",VLOOKUP(I1458,#REF!,5,0),\"\")","v":""}]
["78331-48-3","No EC available","IAEG005759","4-(Dimethylarsino)Benzoic Acid",null,"R1;R2;D1","2017-08-14","2017-08-14",null,"Substance Direct Entry",{"$f":"IF(J1459=\"Group Member\",VLOOKUP(I1459,#REF!,5,0),\"\")","v":""}]
["77-58-7","201-039-8","IAEG005763","Dibutyltin dilaurate","Dibutyl[bis(dodecanoyloxy)]stannane;  Dibutylbis[(1-oxododecyl)oxy]stannane","R2","2017-08-14","2017-08-14",null,"Substance Direct Entry",{"$f":"IF(J1460=\"Group Member\",VLOOKUP(I1460,#REF!,5,0),\"\")","v":""}]
["10584-98-2","234-186-1","IAEG005766","2-ethylhexyl 4,4-dibutyl-10-ethyl-7-oxo-8-oxa-3,5-dithia-4-stannatetradecanoate",null,"R2","2017-08-14","2017-08-14",null,"Substance Direct Entry",{"$f":"IF(J1461=\"Group Member\",VLOOKUP(I1461,#REF!,5,0),\"\")","v":""}]
["27107-89-7","248-227-6","IAEG005767","2-Ethylhexyl 10-ethyl-4-[[2-[(2-ethylhexyl)oxy]-2-oxoethyl]thio]-4-octyl-7-oxo-8-oxa-3,5-dithia-4-stannatetradecanoate (MOTE)",null,"R2","2017-08-14","2017-08-14",null,"Substance Direct Entry",{"$f":"IF(J1462=\"Group Member\",VLOOKUP(I1462,#REF!,5,0),\"\")","v":""}]
["78-04-6","201-077-5","IAEG005768","Dibutyltin maleate",null,"R2","2017-08-14","2017-08-14",null,"Substance Direct Entry",{"$f":"IF(J1463=\"Group Member\",VLOOKUP(I1463,#REF!,5,0),\"\")","v":""}]
["78-06-8","201-079-6","IAEG005769","2,2-dibutyldihydro-6H-1,3,2-oxathiastannin-6-one",null,"R2","2017-08-14","2017-08-14",null,"Substance Direct Entry",{"$f":"IF(J1464=\"Group Member\",VLOOKUP(I1464,#REF!,5,0),\"\")","v":""}]
["870-08-6","212-791-1","IAEG005770","Dioctyltin oxide",null,"R2","2017-08-14","2017-08-14",null,"Substance Direct Entry",{"$f":"IF(J1465=\"Group Member\",VLOOKUP(I1465,#REF!,5,0),\"\")","v":""}]
["1067-33-0","213-928-8","IAEG005771","Dibutyltin di(acetate)",null,"R2","2017-08-14","2017-08-14",null,"Substance Direct Entry",{"$f":"IF(J1466=\"Group Member\",VLOOKUP(I1466,#REF!,5,0),\"\")","v":""}]
["1067-55-6","213-935-6","IAEG005772","Dibutyldimethoxystannane",null,"R2","2017-08-14","2017-08-14",null,"Substance Direct Entry",{"$f":"IF(J1467=\"Group Member\",VLOOKUP(I1467,#REF!,5,0),\"\")","v":""}]
["1185-81-5","214-688-7","IAEG005773","Dibutylbis(dodecylthio)stannane",null,"R2","2020-01-16","2020-01-16",null,"Substance Direct Entry",{"$f":"IF(J1468=\"Group Member\",VLOOKUP(I1468,#REF!,5,0),\"\")","v":""}]
["2781-10-4","220-481-2","IAEG005774","Dibutyltin bis(2-ethylhexanoate)",null,"R2","2017-08-14","2017-08-14",null,"Substance Direct Entry",{"$f":"IF(J1469=\"Group Member\",VLOOKUP(I1469,#REF!,5,0),\"\")","v":""}]
["3349-36-8","222-103-1","IAEG005777","Dibutoxydibutylstannane",null,"R2","2017-08-14","2017-08-14",null,"Substance Direct Entry",{"$f":"IF(J1470=\"Group Member\",VLOOKUP(I1470,#REF!,5,0),\"\")","v":""}]
["4253-22-9","224-220-3","IAEG005781","Dibutylthioxostannane",null,"R2","2020-01-16","2020-01-16",null,"Substance Direct Entry",{"$f":"IF(J1471=\"Group Member\",VLOOKUP(I1471,#REF!,5,0),\"\")","v":""}]
["5847-55-2","227-438-7","IAEG005782","Dibutylbis(stearoyloxy)stannane",null,"R2","2017-08-14","2017-08-14",null,"Substance Direct Entry",{"$f":"IF(J1472=\"Group Member\",VLOOKUP(I1472,#REF!,5,0),\"\")","v":""}]
["22673-19-4","245-152-0","IAEG005785","Dibutylbis(pentane-2,4-dionato-O,O')tin",null,"R2;D1","2017-08-14","2017-08-14","100.041.032","Substance Direct Entry",{"$f":"IF(J1473=\"Group Member\",VLOOKUP(I1473,#REF!,5,0),\"\")","v":""}]
["25168-24-5","246-703-8","IAEG005787","Diisooctyl 2,2'-[(dibutylstannylene)bis(thio)]diacetate",null,"R2","2017-08-14","2017-08-14",null,"Substance Direct Entry",{"$f":"IF(J1474=\"Group Member\",VLOOKUP(I1474,#REF!,5,0),\"\")","v":""}]
["53202-61-2","258-428-0","IAEG005788","2-ethylhexyl 5,5-dibutyl-12-ethyl-9-oxo-10-oxa-4,6-dithia-5-stannahexadecanoate",null,"R2","2020-01-16","2020-01-16",null,"Substance Direct Entry",{"$f":"IF(J1475=\"Group Member\",VLOOKUP(I1475,#REF!,5,0),\"\")","v":""}]
["57583-34-3","260-828-5","IAEG005789","2-Ethylhexyl 10-ethyl-4-[[2-[(2-ethylhexyl)oxy]-2-oxoethyl]thio]-4-methyl-7-oxo-8-oxa-3,5-dithia-4-stannatetradecanoate",null,"R2","2017-08-14","2017-08-14",null,"Substance Direct Entry",{"$f":"IF(J1476=\"Group Member\",VLOOKUP(I1476,#REF!,5,0),\"\")","v":""}]
["84896-44-6","284-461-5","IAEG005791","Diisotridecyl 3,3'-[(dibutylstannylene)bis(thio)]dipropionate",null,"R2","2017-08-14","2017-08-14",null,"Substance Direct Entry",{"$f":"IF(J1477=\"Group Member\",VLOOKUP(I1477,#REF!,5,0),\"\")","v":""}]
["16091-18-2","240-253-6","IAEG005794","Dioctyltin maleate",null,"R2","2017-08-14","2017-08-14",null,"Substance Direct Entry",{"$f":"IF(J1478=\"Group Member\",VLOOKUP(I1478,#REF!,5,0),\"\")","v":""}]
["93925-42-9","300-344-4","IAEG005809","Silicic acid (H4SiO4), tetraethyl ester, reaction products with bis(acetyloxy)dibutylstannane",null,"R2","2019-01-24","2019-01-24",null,"Substance Direct Entry",{"$f":"IF(J1479=\"Group Member\",VLOOKUP(I1479,#REF!,5,0),\"\")","v":""}]
["13323-62-1","236-359-7","IAEG005824","Dibutyltin dioleate",null,"R2","2017-08-14","2017-08-14",null,"Substance Direct Entry",{"$f":"IF(J1480=\"Group Member\",VLOOKUP(I1480,#REF!,5,0),\"\")","v":""}]
["25168-21-2","246-701-7","IAEG005835","Diisooctyl 4,4'-[(dibutylstannylene)bis(oxy)]bis[4-oxoisocrotonate]",null,"R2","2017-08-14","2017-08-14",null,"Substance Direct Entry",{"$f":"IF(J1481=\"Group Member\",VLOOKUP(I1481,#REF!,5,0),\"\")","v":""}]
["25168-22-3","246-702-2","IAEG005836","Dibutylbis[(1-oxoneodecyl)oxy]stannane",null,"R2","2017-08-14","2017-08-14",null,"Substance Direct Entry",{"$f":"IF(J1482=\"Group Member\",VLOOKUP(I1482,#REF!,5,0),\"\")","v":""}]
["54068-28-9","483-270-6","IAEG005842","Dioctylbis(pentane-2,4-dionato-O,O')tin",null,"R2","2017-08-14","2017-08-14",null,"Substance Direct Entry",{"$f":"IF(J1483=\"Group Member\",VLOOKUP(I1483,#REF!,5,0),\"\")","v":""}]
["68299-15-0","269-595-4","IAEG005843","Bis(neodecanoyloxy)dioctylstannane","Dioctyltindineodecanoate","R2","2017-08-14","2017-08-14",null,"Substance Direct Entry",{"$f":"IF(J1484=\"Group Member\",VLOOKUP(I1484,#REF!,5,0),\"\")","v":""}]
["93925-43-0","300-346-5","IAEG005844","Silicic acid (H4SiO4), tetraethyl ester, reaction products with bis(acetyloxy)dioctylstannane",null,"R2","2017-08-14","2017-08-14",null,"Substance Direct Entry",{"$f":"IF(J1485=\"Group Member\",VLOOKUP(I1485,#REF!,5,0),\"\")","v":""}]
["594-27-4","209-833-6","IAEG005845","Tetramethyltin",null,"R2","2017-08-14","2017-08-14",null,"Substance Direct Entry",{"$f":"IF(J1486=\"Group Member\",VLOOKUP(I1486,#REF!,5,0),\"\")","v":""}]
["2273-43-0","218-880-1","IAEG005847","Butylhydroxyoxostannane",null,"R2","2020-01-16","2020-01-16",null,"Substance Direct Entry",{"$f":"IF(J1487=\"Group Member\",VLOOKUP(I1487,#REF!,5,0),\"\")","v":""}]
["51287-84-4","257-111-4","IAEG005857","Bis(dodecylthio)dimethylstannane",null,"R2","2017-08-14","2017-08-14",null,"Substance Direct Entry",{"$f":"IF(J1488=\"Group Member\",VLOOKUP(I1488,#REF!,5,0),\"\")","v":""}]
["68109-88-6","268-500-3","IAEG005866","Ethyl 9,9-dioctyl-4,7,11-trioxo-3,8,10-trioxa-9-stannatetradeca-5,12-dien-14-oate",null,"R2","2020-01-16","2020-01-16",null,"Substance Direct Entry",{"$f":"IF(J1489=\"Group Member\",VLOOKUP(I1489,#REF!,5,0),\"\")","v":""}]
["68412-36-2","270-183-1","IAEG005868","Silicic acid (H4SiO4), tetrapropyl ester, hydrolyzed, reaction products with dibutylbis[(1-oxododecyl)oxy]stannane",null,"R2","2017-08-14","2017-08-14",null,"Substance Direct Entry",{"$f":"IF(J1490=\"Group Member\",VLOOKUP(I1490,#REF!,5,0),\"\")","v":""}]
["43136-18-1","256-113-2","IAEG005903","(Z,Z)-1,1,3,3-tetramethyl-1,3-bis[(1-oxooctadec-9-enyl)oxy]distannoxane",null,"R2","2017-08-14","2017-08-14",null,"Substance Direct Entry",{"$f":"IF(J1491=\"Group Member\",VLOOKUP(I1491,#REF!,5,0),\"\")","v":""}]
["563-25-7","209-246-5","IAEG005938","Dibutyldifluorostannane",null,"R2","2017-08-14","2017-08-14",null,"Substance Direct Entry",{"$f":"IF(J1492=\"Group Member\",VLOOKUP(I1492,#REF!,5,0),\"\")","v":""}]
["1135-99-5","214-496-3","IAEG005940","Dichlorodiphenylstannane",null,"R2","2017-08-14","2017-08-14",null,"Substance Direct Entry",{"$f":"IF(J1493=\"Group Member\",VLOOKUP(I1493,#REF!,5,0),\"\")","v":""}]
["17586-94-6","241-555-0","IAEG005950","Dioctyltin di(acetate)",null,"R2","2020-01-16","2020-01-16",null,"Substance Direct Entry",{"$f":"IF(J1494=\"Group Member\",VLOOKUP(I1494,#REF!,5,0),\"\")","v":""}]
["1112-56-7","214-193-6","IAEG005999","Tetravinylstannane",null,"R2","2017-08-14","2017-08-14",null,"Substance Direct Entry",{"$f":"IF(J1495=\"Group Member\",VLOOKUP(I1495,#REF!,5,0),\"\")","v":""}]
["22205-30-7","244-841-3","IAEG006007","Bis(dodecylthio)dioctylstannane",null,"R2","2019-01-24","2019-01-24",null,"Substance Direct Entry",{"$f":"IF(J1496=\"Group Member\",VLOOKUP(I1496,#REF!,5,0),\"\")","v":""}]
["81034-75-5","279-677-1","IAEG006032","2-ethylhexyl 4,4-dibutyl-12-ethyl-6,9-dioxo-5,10-dioxa-3-thia-4-stannahexadec-7-enoate",null,"R2","2020-01-16","2020-01-16",null,"Substance Direct Entry",{"$f":"IF(J1497=\"Group Member\",VLOOKUP(I1497,#REF!,5,0),\"\")","v":""}]
["2179-99-9","218-552-8","IAEG006054","Bis(lauroyloxy)dimethylstannane",null,"R2","2017-08-14","2017-08-14",null,"Substance Direct Entry",{"$f":"IF(J1498=\"Group Member\",VLOOKUP(I1498,#REF!,5,0),\"\")","v":""}]
["7393-43-3","230-987-5","IAEG006061","Tetrallylstannane",null,"R2","2017-08-14","2017-08-14",null,"Substance Direct Entry",{"$f":"IF(J1499=\"Group Member\",VLOOKUP(I1499,#REF!,5,0),\"\")","v":""}]
["25955-19-5","247-367-5","IAEG006069","Dibutylbis(nonanoyloxy)stannane",null,"R2","2017-08-14","2017-08-14",null,"Substance Direct Entry",{"$f":"IF(J1500=\"Group Member\",VLOOKUP(I1500,#REF!,5,0),\"\")","v":""}]
["68928-76-7","273-028-6","IAEG006087","Dimethylbis[(1-oxoneodecyl)oxy]stannane",null,"R2","2017-08-14","2017-08-14",null,"Substance Direct Entry",{"$f":"IF(J1501=\"Group Member\",VLOOKUP(I1501,#REF!,5,0),\"\")","v":""}]
["14254-22-9","238-131-2","IAEG006127","Butoxydibutylchlorostannane",null,"R2","2017-08-14","2017-08-14",null,"Substance Direct Entry",{"$f":"IF(J1502=\"Group Member\",VLOOKUP(I1502,#REF!,5,0),\"\")","v":""}]
["26864-37-9","248-070-3","IAEG006189","2-ethylhexyl 4-butyl-10-ethyl-4-[[2-[(2-ethylhexyl)oxy]-2-oxoethyl]thio]-7-oxo-8-oxa-3,5-dithia-4-stannatetradecanoate",null,"R2","2017-08-14","2017-08-14",null,"Substance Direct Entry",{"$f":"IF(J1503=\"Group Member\",VLOOKUP(I1503,#REF!,5,0),\"\")","v":""}]
["68298-38-4","269-561-9","IAEG006248","3,3'-[(dibutylstannylene)bis(thio)]bis(propane-1,2-diol)",null,"R2","2017-08-14","2017-08-14",null,"Substance Direct Entry",{"$f":"IF(J1504=\"Group Member\",VLOOKUP(I1504,#REF!,5,0),\"\")","v":""}]
["87735-26-0","289-337-4","IAEG006271","6,6-dibutyl-4,4,8,8-tetraethoxy-3,5,7,9-tetraoxa-4,8-disila-6-stannaundecane",null,"R2","2017-08-14","2017-08-14",null,"Substance Direct Entry",{"$f":"IF(J1505=\"Group Member\",VLOOKUP(I1505,#REF!,5,0),\"\")","v":""}]
["15535-69-0","No EC available","IAEG006329","Dibutyltin maleate",null,"R2","2017-08-14","2017-08-14",null,"Substance Direct Entry",{"$f":"IF(J1506=\"Group Member\",VLOOKUP(I1506,#REF!,5,0),\"\")","v":""}]
["69039-26-5","No EC available","IAEG006352","bis(3-Methoybutyl)-3,3'-[(dibutylstannylene)dithio]dipropionate",null,"R2","2020-01-16","2020-01-16",null,"Substance Direct Entry",{"$f":"IF(J1507=\"Group Member\",VLOOKUP(I1507,#REF!,5,0),\"\")","v":""}]
["96969-75-4","No EC available","IAEG006396","Bromo((4-Bromo-1,2,3,4-Tetraphenyl)-1,3-Butadienyl)Dimethyltin",null,"R2","2017-08-14","2017-08-14",null,"Substance Direct Entry",{"$f":"IF(J1508=\"Group Member\",VLOOKUP(I1508,#REF!,5,0),\"\")","v":""}]
["99688-47-8","402-210-1","IAEG006403","Bromobenzylbromotoluene, reaction mass of isomers","Monomethyl-dibromo-diphenyl methane (Trade name: DBBT)","R1;R2","2015-03-17","2015-03-17",null,"Substance Direct Entry",{"$f":"IF(J1509=\"Group Member\",VLOOKUP(I1509,#REF!,5,0),\"\")","v":""}]
["65996-85-2","266-019-3","IAEG006404","Tar acids, coal, crude",null,"R1;R2","2017-08-14","2017-08-14",null,"Substance Direct Entry",{"$f":"IF(J1510=\"Group Member\",VLOOKUP(I1510,#REF!,5,0),\"\")","v":""}]
["90640-84-9","292-605-3","IAEG006406","Creosote oil, acenaphthene fraction",null,"R1;R2","2019-01-24","2019-01-24",null,"Substance Direct Entry",{"$f":"IF(J1511=\"Group Member\",VLOOKUP(I1511,#REF!,5,0),\"\")","v":""}]
["8001-58-9","232-287-5","IAEG006407","Creosote",null,"R1;R2","2017-08-14","2017-08-14",null,"Substance Direct Entry",{"$f":"IF(J1512=\"Group Member\",VLOOKUP(I1512,#REF!,5,0),\"\")","v":""}]
["61789-28-4","263-047-8","IAEG006408","Creosote oil",null,"R1;R2","2017-08-14","2017-08-14",null,"Substance Direct Entry",{"$f":"IF(J1513=\"Group Member\",VLOOKUP(I1513,#REF!,5,0),\"\")","v":""}]
["8021-39-4","232-419-1","IAEG006409","Creosote, wood",null,"R1;R2","2017-08-14","2017-08-14",null,"Substance Direct Entry",{"$f":"IF(J1514=\"Group Member\",VLOOKUP(I1514,#REF!,5,0),\"\")","v":""}]
["99-55-8","202-765-8","IAEG006411","5-Nitro-o-toluidine","2-Amino-4-nitrotoluene; Benzenamine, 2-methyl-5-nitro-","R1","2020-01-16","2020-01-16",null,"Substance Direct Entry",{"$f":"IF(J1515=\"Group Member\",VLOOKUP(I1515,#REF!,5,0),\"\")","v":""}]
["106-47-8","203-401-0","IAEG006412","4-Chloroaniline","p-Chloroaniline","R1","2019-01-24","2019-01-24",null,"Substance Direct Entry",{"$f":"IF(J1516=\"Group Member\",VLOOKUP(I1516,#REF!,5,0),\"\")","v":""}]
["119-90-4","204-355-4","IAEG006414","3,3'-Dimethoxybenzidine","o-Dianisidine","R1;R2","2017-08-14","2017-08-14",null,"Substance Direct Entry",{"$f":"IF(J1517=\"Group Member\",VLOOKUP(I1517,#REF!,5,0),\"\")","v":""}]
["119-93-7","204-358-0","IAEG006415","4,4'-Bi-o-toluidine","3,3'-Dimethylbenzidine; ortho-Tolidine","R1;R2","2019-01-24","2019-01-24",null,"Substance Direct Entry",{"$f":"IF(J1518=\"Group Member\",VLOOKUP(I1518,#REF!,5,0),\"\")","v":""}]
["91-94-1","202-109-0","IAEG006417","3,3'-Dichlorobenzidine","3,3'-Dichlorobiphenyl-4,4'-ylenediamine; [1,1'-Biphenyl]-4,4'-diamine, 3,3'-dichloro-","R1","2017-08-14","2017-08-14",null,"Substance Direct Entry",{"$f":"IF(J1519=\"Group Member\",VLOOKUP(I1519,#REF!,5,0),\"\")","v":""}]
["51811-79-1","610-741-7","IAEG006456","Poly(oxy-1,2-ethanediyl), alpha-(nonylphenyl)-omega-hydroxy phosphate",null,"R2","2017-08-14","2017-08-14",null,"Substance Direct Entry",{"$f":"IF(J1520=\"Group Member\",VLOOKUP(I1520,#REF!,5,0),\"\")","v":""}]
["27177-03-3","248-292-0","IAEG006458","20-(nonylphenoxy)-3,6,9,12,15,18-hexaoxaicosan-1-ol",null,"R2","2017-08-14","2017-08-14",null,"Substance Direct Entry",{"$f":"IF(J1521=\"Group Member\",VLOOKUP(I1521,#REF!,5,0),\"\")","v":""}]
["85005-55-6","284-987-5","IAEG006459","2-(isononylphenoxy)ethanol",null,"R2","2017-08-14","2017-08-14",null,"Substance Direct Entry",{"$f":"IF(J1522=\"Group Member\",VLOOKUP(I1522,#REF!,5,0),\"\")","v":""}]
["108-46-3","203-585-2","IAEG006467","Resorcinol","1,3-Benzenediol; C.I. 76505","I","2019-01-24","2019-01-24",null,"Substance Direct Entry",{"$f":"IF(J1523=\"Group Member\",VLOOKUP(I1523,#REF!,5,0),\"\")","v":""}]
["15811-52-6","No EC available","IAEG006470","Dodecanoyl fluoride, 2,2,3,3,4,4,5,5,6,6,7,7,8,8,9,9,10,10,11,12,12,12-docosafluoro-11-(trifluoromethyl)-",null,"R1;R2;D1","2020-01-16","2020-01-16",null,"Substance Direct Entry",{"$f":"IF(J1524=\"Group Member\",VLOOKUP(I1524,#REF!,5,0),\"\")","v":""}]
["307-63-1","No EC available","IAEG006479","Tetradecane,1,1,1,2,2,3,3,4,4,5,5,6,6,7,7,8,8,9,9,10,10,11,11,12,12,13,13,14,14-nonacosafluoro-14-iodo-",null,"R1;R2;D1","2020-01-16","2020-01-16",null,"Substance Direct Entry",{"$f":"IF(J1525=\"Group Member\",VLOOKUP(I1525,#REF!,5,0),\"\")","v":""}]
["376-04-5","No EC available","IAEG006481","Tridecane,1,1,1,2,2,3,3,4,4,5,5,6,6,7,7,8,8,9,9,10,10,11,11,12,12,13,13-heptacosafluoro-13-iodo-",null,"R1;R2;D1","2020-01-16","2020-01-16",null,"Substance Direct Entry",{"$f":"IF(J1526=\"Group Member\",VLOOKUP(I1526,#REF!,5,0),\"\")","v":""}]
["90622-71-2","No EC available","IAEG006484","Alkyl iodides, C6-18, perfluoro",null,"R1;R2;D1","2020-01-16","2020-01-16",null,"Substance Direct Entry",{"$f":"IF(J1527=\"Group Member\",VLOOKUP(I1527,#REF!,5,0),\"\")","v":""}]
["93062-53-4","No EC available","IAEG006485","Phosphinic acid, bis(perfluoro-C6-12-alkyl)derivs., 200etrieved salts",null,"R1;R2;D1","2020-01-16","2020-01-16",null,"Substance Direct Entry",{"$f":"IF(J1528=\"Group Member\",VLOOKUP(I1528,#REF!,5,0),\"\")","v":""}]
["540-97-6","208-762-8","IAEG006524","Dodecamethylcyclohexasiloxane (D6)",null,"D1;I","2019-01-24","2019-01-24","100.007.967","Substance Direct Entry",{"$f":"IF(J1529=\"Group Member\",VLOOKUP(I1529,#REF!,5,0),\"\")","v":""}]
["98-07-7","202-634-5","IAEG006527","Benzotrichloride","Alpha,alpha,alpha-Trichlorotoluene","R1;R2","2019-01-24","2019-01-24",null,"Substance Direct Entry",{"$f":"IF(J1530=\"Group Member\",VLOOKUP(I1530,#REF!,5,0),\"\")","v":""}]
["134-32-7","205-138-7","IAEG006528","1-Aminonaphthalene","1-Naphthylamine; alpha-Naphthylamine","R2","2019-01-24","2019-01-24",null,"Substance Direct Entry",{"$f":"IF(J1531=\"Group Member\",VLOOKUP(I1531,#REF!,5,0),\"\")","v":""}]
["93925-00-9","300-298-5","IAEG006542","Formaldehyde, reaction products with branched and linear heptylphenol, carbon disulfide and hydrazine","Reaction products of 1,3,4-thiadiazolidine-2,5-dithione, formaldehyde and 4-heptylphenol, branched and linear (RP-HP) Note: ECHA REF LIST JAN 2022 lists 100.253.517 as the parent of this substance.","D1;I","2019-01-24","2019-01-24","100.091.138","Substance Direct Entry"]
["7784-40-9","232-064-2","IAEG006543","Lead hydrogen arsenate",null,"R1;R2;D1;I","2019-01-24","2019-01-24","100.029.149","Substance Direct Entry",{"$f":"IF(J1533=\"Group Member\",VLOOKUP(I1533,#REF!,5,0),\"\")","v":""}]
["10026-22-9","No EC available","IAEG006544","Cobalt nitrate","Nitric acid, cobalt(2+) salt, hexahydrate","D1","2019-01-24","2019-01-24",null,"Substance Direct Entry",{"$f":"IF(J1534=\"Group Member\",VLOOKUP(I1534,#REF!,5,0),\"\")","v":""}]
["42173-90-0","255-695-5","IAEG006545","26-(nonylphenoxy)-3,6,9,12,15,18,21,24-octaoxahexacosan-1-ol",null,"R2;D1","2019-01-24","2019-01-24",null,"Substance Direct Entry",{"$f":"IF(J1535=\"Group Member\",VLOOKUP(I1535,#REF!,5,0),\"\")","v":""}]
["108171-26-2","600-857-6","IAEG006547","Chlorinated paraffins (Average chain length, C12; approximately 60 percent chlorine by weight)",null,"D1","2019-01-24","2019-01-24",null,"Substance Direct Entry",{"$f":"IF(J1536=\"Group Member\",VLOOKUP(I1536,#REF!,5,0),\"\")","v":""}]
["61788-76-9","263-004-3","IAEG006548","Alkanes, chloro","Chloroparaffins","D1","2019-01-24","2019-01-24",null,"Substance Direct Entry",{"$f":"IF(J1537=\"Group Member\",VLOOKUP(I1537,#REF!,5,0),\"\")","v":""}]
["68920-70-7","272-924-4","IAEG006549","Chlorinated n-paraffins (C6-18)",null,"D1","2019-01-24","2019-01-24",null,"Substance Direct Entry",{"$f":"IF(J1538=\"Group Member\",VLOOKUP(I1538,#REF!,5,0),\"\")","v":""}]
["84082-38-2","281-985-6","IAEG006550","Alkanes, C10-21, chloro",null,"D1","2019-01-24","2019-01-24",null,"Substance Direct Entry",{"$f":"IF(J1539=\"Group Member\",VLOOKUP(I1539,#REF!,5,0),\"\")","v":""}]
["84776-06-7","283-930-1","IAEG006551","Alkanes, C10-32, chloro",null,"D1","2019-01-24","2019-01-24",null,"Substance Direct Entry",{"$f":"IF(J1540=\"Group Member\",VLOOKUP(I1540,#REF!,5,0),\"\")","v":""}]
["85536-22-7","287-504-6","IAEG006552","Alkane, C12-14-, Chloro-",null,"D1","2019-01-24","2019-01-24",null,"Substance Direct Entry",{"$f":"IF(J1541=\"Group Member\",VLOOKUP(I1541,#REF!,5,0),\"\")","v":""}]
["85681-73-8","288-211-6","IAEG006553","Alkane, C10-14-, Chloro-",null,"D1","2019-01-24","2019-01-24",null,"Substance Direct Entry",{"$f":"IF(J1542=\"Group Member\",VLOOKUP(I1542,#REF!,5,0),\"\")","v":""}]
["97553-43-0","307-202-0","IAEG006554","Paraffins (petroleum), normal C>10, chloro",null,"D1","2019-01-24","2019-01-24",null,"Substance Direct Entry",{"$f":"IF(J1543=\"Group Member\",VLOOKUP(I1543,#REF!,5,0),\"\")","v":""}]
["97659-46-6","307-451-5","IAEG006555","Alkanes, C10-26, chloro",null,"D1","2019-01-24","2019-01-24",null,"Substance Direct Entry",{"$f":"IF(J1544=\"Group Member\",VLOOKUP(I1544,#REF!,5,0),\"\")","v":""}]
["71850-09-4","276-090-2","IAEG006556","Diisohexyl phthalate",null,"D1;I","2019-01-24","2020-01-16","100.069.152","Substance Direct Entry",{"$f":"IF(J1545=\"Group Member\",VLOOKUP(I1545,#REF!,5,0),\"\")","v":""}]
["693-98-1","211-765-7","IAEG006567","2-Methylimidazole","1H-Imidazole, 2-methyl-","D1","2020-01-16","2020-01-16","100.010.697","Substance Direct Entry",{"$f":"IF(J1546=\"Group Member\",VLOOKUP(I1546,#REF!,5,0),\"\")","v":""}]
["71868-10-5","400-600-6","IAEG006569","2-methyl-1-(4-methylthiophenyl)-2-morpholinopropan-1-one",null,"D1;I","2020-01-16","2020-01-16","100.100.260","Substance Direct Entry",{"$f":"IF(J1547=\"Group Member\",VLOOKUP(I1547,#REF!,5,0),\"\")","v":""}]
["91-22-5","202-051-6","IAEG006572","Quinoline",null,"R1","2020-01-16","2020-01-16",null,"Substance Direct Entry",{"$f":"IF(J1548=\"Group Member\",VLOOKUP(I1548,#REF!,5,0),\"\")","v":""}]
["6147-53-1","612-153-6","IAEG006577","Acetic acid, cobalt(2+) salt, tetrahydrate",null,"D1","2019-01-24","2019-01-24",null,"Substance Direct Entry",{"$f":"IF(J1549=\"Group Member\",VLOOKUP(I1549,#REF!,5,0),\"\")","v":""}]
["18015-76-4","241-922-5","IAEG006594","Malachite green oxalate","Methanaminium, N-[4-[[4-(dimethylamino)phenyl]phenylmethylene]-2,5-cyclohexadien-1-ylidene]-N-methyl-, ethanedioate","R2","2020-01-16","2020-01-16",null,"Substance Direct Entry",{"$f":"IF(J1550=\"Group Member\",VLOOKUP(I1550,#REF!,5,0),\"\")","v":""}]
["569-64-2","209-322-8","IAEG006598","Malachite green hydrochloride","Malachite green chloride; Basic green 4","R2","2020-01-16","2020-01-16",null,"Substance Direct Entry",{"$f":"IF(J1551=\"Group Member\",VLOOKUP(I1551,#REF!,5,0),\"\")","v":""}]
["No CAS available","No EC available","IAEG008063","Tris(4-nonylphenyl, branched and linear) phosphite (TNPP)",null,"D1","2020-01-16","2020-01-16","100.264.200","Group Direct Entry",{"$f":"IF(J1552=\"Group Member\",VLOOKUP(I1552,#REF!,5,0),\"\")","v":""}]
["26523-78-4","247-759-6","IAEG008059","Tris(nonylphenyl) phosphite",null,"D1;I","2020-01-16","2020-01-16","100.043.402","Group member","IAEG008063"]
["3050-88-2","No EC available","IAEG008094","Phenol, 4-nonyl-, phosphite (3:1)",null,"D1","2020-01-16","2020-01-16","100.106.542","Group member","IAEG008063"]
["31631-13-7","No EC available","IAEG008098","Phenol, p-isononyl-, phosphite (3:1)",null,"D1","2020-01-16","2020-01-16","100.287.920","Group member","IAEG008063"]
["106599-06-8","No EC available","IAEG008099","Phenol, p-sec-nonyl-, phosphite",null,"D1","2020-01-16","2020-01-16","100.287.898","Group member","IAEG008063"]
["6780-13-8","No EC available","IAEG008064","Ethylenediamine, monohydrate",null,"D1","2020-01-16","2020-01-16",null,"Substance Direct Entry",{"$f":"IF(J1557=\"Group Member\",VLOOKUP(I1557,#REF!,5,0),\"\")","v":""}]
["80275-03-2","No EC available","IAEG008065","Ethylenediamine dihydrate",null,"D1","2020-01-16","2020-01-16",null,"Substance Direct Entry",{"$f":"IF(J1558=\"Group Member\",VLOOKUP(I1558,#REF!,5,0),\"\")","v":""}]
["5931-89-5","227-676-1","IAEG008066","Cobalt-acetate",null,"D1","2020-01-16","2020-01-16",null,"Substance Direct Entry",{"$f":"IF(J1559=\"Group Member\",VLOOKUP(I1559,#REF!,5,0),\"\")","v":""}]
["No CAS available","923-960-0","IAEG008067","4-(1,1,3,3-Tetramethylbutyl)phenol, ethoxylated",null,"R2;D1","2020-01-16","2020-01-16",null,"Substance Direct Entry",{"$f":"IF(J1560=\"Group Member\",VLOOKUP(I1560,#REF!,5,0),\"\")","v":""}]
["No CAS available","935-115-3","IAEG008068","4-(1,1,3,3-tetramethylbutyl)phenol, ethoxylated (>2.5 moles EO)",null,"R2;D1","2020-01-16","2020-01-16",null,"Substance Direct Entry",{"$f":"IF(J1561=\"Group Member\",VLOOKUP(I1561,#REF!,5,0),\"\")","v":""}]
["3470-98-2","222-437-8","IAEG008071","1-butylpyrrolidin-2-one",null,"R1;R2;D1","2020-01-16","2020-01-16",null,"Substance Direct Entry",{"$f":"IF(J1562=\"Group Member\",VLOOKUP(I1562,#REF!,5,0),\"\")","v":""}]
["37859-55-5","484-460-1","IAEG008072","O,O',O''-(methylsilylidyne)trioxime 2-pentanone",null,"R1;R2;D1;I","2020-01-16","2020-01-16",null,"Substance Direct Entry",{"$f":"IF(J1563=\"Group Member\",VLOOKUP(I1563,#REF!,5,0),\"\")","v":""}]
["58190-62-8","700-810-0","IAEG008073","2-Pentanone, O,O',O''-(ethenylsilylidyne)trioxime",null,"R1;R2;D1;I","2020-01-16","2020-01-16",null,"Substance Direct Entry",{"$f":"IF(J1564=\"Group Member\",VLOOKUP(I1564,#REF!,5,0),\"\")","v":""}]
["119313-12-1","404-360-3","IAEG008089","2-Benzyl-2-dimethylamino-4'-morpholinobutyrophenone",null,"D1;I","2020-01-16","2020-01-16","100.100.600","Substance Direct Entry",{"$f":"IF(J1565=\"Group Member\",VLOOKUP(I1565,#REF!,5,0),\"\")","v":""}]
["13252-13-6","236-236-8","IAEG008090","2,3,3,3-tetrafluoro-2-(heptafluoropropoxy)propionic acid","Note: ECHA REF LIST JAN 2022 lists 100.273.068 as a child of this substance.","D1;I","2020-01-16","2020-01-16","100.032.928","Group Direct Entry"]
["75579-39-4","No EC available","IAEG008096","(2R)-2,3,3,3-tetrafluoro-2-(heptafluoropropoxy)propanoic acid",null,"D1","2020-01-16","2020-01-16","100.300.930","Group member","IAEG008090"]
["75579-40-7","No EC available","IAEG008097","(2S)-2,3,3,3-tetrafluoro-2-(heptafluoropropoxy)propanoic acid",null,"D1","2020-01-16","2020-01-16","100.300.931","Group member","IAEG008090"]
["122499-17-6","No EC available","IAEG008162"," 2,3,3,3-tetrafluoro-2-(heptafluoropropoxy)propanoate",null,"D1","2020-01-16","2020-01-16",null,"Group member","IAEG008090"]
["No CAS available","No EC available","IAEG008095","Salts and acyl halides of 2,3,3,3-tetrafluoro-2-(heptafluoropropoxy)propionic acid (covering any of their individual isomers and combinations thereof)",null,"D1","2020-01-16","2020-01-16","100.273.068","Group Direct Entry",{"$f":"IF(J1570=\"Group Member\",VLOOKUP(I1570,#REF!,5,0),\"\")","v":""}]
["62037-80-3","700-242-3","IAEG006570","Ammonium 2,3,3,3-tetrafluoro-2-(heptafluoropropoxy)propanoate",null,"D1;I","2020-01-16","2020-01-16","100.124.803","Group member","IAEG008095"]
["2062-98-8","218-173-8","IAEG008091","2,3,3,3-tetrafluoro-2-(heptafluoropropoxy)propionyl fluoride",null,"D1","2020-01-16","2020-01-16","100.016.522","Group member","IAEG008095"]
["67118-55-2","266-578-3","IAEG008093","Potassium 2,3,3,3-tetrafluoro-2-(heptafluoropropoxy)propanoate (HFPO-DA)",null,"D1","2020-01-16","2020-01-16","100.060.507","Group member","IAEG008095"]
["261760-11-6","No EC available","IAEG008163","Tetrafluoro-2-(heptafluoro-1-propoxy)propanoyl bromide","Perfluoro(2-methyl-3-oxahexanoyl)bromide","D1","2020-01-16","2020-01-16",null,"Group member","IAEG008095"]
["72848-57-8","No EC available","IAEG008164","Tetrafluoro-2-(heptafluoro-1-propoxy)propanoyl chloride","Perfluoro(2-methyl-3-oxahexanoyl)chloride","D1","2020-01-16","2020-01-16",null,"Group member","IAEG008095"]
["67963-75-1","No EC available","IAEG008165","Sodium 2,3,3,3-tetrafluoro-2-(heptafluoropropoxy)propanoate",null,"D1","2020-01-16","2020-01-16",null,"Group member","IAEG008095"]
["No CAS available","No EC available","IAEG008309","Perfluorobutan sulfonic acid (PFBS) and its salts"," PFBS salts Note: ECHA REF LIST JAN 2022 lists 100.282.094 as a Substance Direct Entry","D1","2020-01-16","2020-01-16","100.282.094","Group Direct Entry",{"$f":"IF(J1577=\"Group Member\",VLOOKUP(I1577,#REF!,5,0),\"\")","v":""}]
["220689-12-3","444-440-5","IAEG003164","Tetrabutyl-phosphonium nonafluoro-butane-1-sulfonate","Tetrabutylphosphonium perfluorobutane sulfonate","R1;R2;D1","2020-01-16","2020-01-16","100.103.965","Group member","IAEG008309"]
["375-73-5","206-793-1","IAEG004260","1,1,2,2,3,3,4,4,4-Nonafluorobutane-1-sulfonic acid ","Perfluorobutane sulfonic acid (PFBS)","D1;I","2020-01-16","2020-01-16","100.006.176","Group member","IAEG008309"]
["25628-08-4","700-536-1","IAEG004429","Tetraethylazanium nonafluorobutane-1-sulfonate","Tetraethylammonium perfluorobutane sulfonate","D1;I","2020-01-16","2020-01-16","100.149.398","Group member","IAEG008309"]
["29420-49-3","249-616-3","IAEG008310","Potassium 1,1,2,2,3,3,4,4,4-nonafluorobutane-1-sulphonate","Potassium perfluorobutane sulfonate (KPFBS)","D1","2020-01-16","2020-01-16","100.045.092","Group member","IAEG008309"]
["144317-44-2","478-340-8","IAEG008311","Triphenylsulfanium nonafluorobutane-1-sulfonate","Triphenyl Sulfonium Perfluorobutane Sulfonate; Triphenylsulfanium perfluorobutane sulfonate","D1","2020-01-16","2020-01-16","100.105.187","Group member","IAEG008309"]
["220133-51-7","452-310-4","IAEG008312","Dimethyl(phenyl)sulfanium nonafluorobutane-1-sulfonate","Dimethyl(phenyl)sulfanium perfluorobutane sulfonate","D1","2020-01-16","2020-01-16","100.104.333","Group member","IAEG008309"]
["No CAS available","432-660-4","IAEG008313","Bis(4-tert-butylphenyl)iodonium nonafluorobutane-1-sulfonate","Bis(4-t-butylphenyl) iodonium perfluorobutane sulfonate","D1","2020-01-16","2020-01-16","100.103.091","Group member","IAEG008309"]
["68259-10-9","269-513-7","IAEG008314","Ammonium 1,1,2,2,3,3,4,4,4-nonafluorobutane-1-sulphonate","Ammonium perfluorobutane sulfonate","D1","2020-01-16","2020-01-16","100.063.175","Group member","IAEG008309"]
["131651-65-5","No EC available","IAEG008315","Lithium perfluorobutane sulfonate",null,"D1","2020-01-16","2020-01-16","100.197.428","Group member","IAEG008309"]
["507453-86-3","No EC available","IAEG008316","Magnesium perfluorobutane sulfonate",null,"D1","2020-01-16","2020-01-16","100.197.427","Group member","IAEG008309"]
["503155-89-3","No EC available","IAEG008317","Morpholinium perfluorobutane sulfonate",null,"D1","2020-01-16","2020-01-16","100.197.431","Group member","IAEG008309"]
["No CAS available","468-770-4","IAEG008318","1-(4-butoxy-1-naphthalenyl)tetrahydrothiophenium -1,1,2,2,3,3,4,4,4-nonafluoro-1-butanesulfonate",null,"D1","2020-01-16","2020-01-16","100.104.884","Group member","IAEG008309"]
["194999-85-4","622-652-0","IAEG008319","Bis(4-tert-butylphenyl)iodonium perfluoro-1-butanesulfonate",null,"D1","2020-01-16","2020-01-16",null,"Group member","IAEG008309"]
["59933-66-3","671-242-8","IAEG008320","Perfluorobutane sulfonic acid (PFBuS)","Perfluorobutane sulfonic acid, hydrate; 1,1,2,2,3,3,4,4,4-Nonafluorobutane-1-sulfonic acid , hydrate","D1","2020-01-16","2020-01-16",null,"Group member","IAEG008309"]
["354-23-4","206-549-4","IAEG000805","1,2-Dichloro-1,1,2-trifluoroethane (HCFC-123a)","","R1;R2","2021-02-02","2021-02-02",null,"Substance Direct Entry"]
["55728-51-3","259-779-2","IAEG001460","(2',7'-dibromo-3',6'-dihydroxy-3-oxospiro[isobenzofuran-1(3H),9'-[9H]xanthen]-4'-yl)hydroxymercury","","R1;R2;D1;I","2021-02-02","2021-02-02",null,"Substance Direct Entry"]
["18718-11-1","242-522-3","IAEG001652","Nickel bis(dihydrogen phosphate)","","I","2021-02-02","2021-02-02",null,"Substance Direct Entry"]
["85446-17-9","No EC available","IAEG001865","Benzene, 1,1'-oxybis[2,3,4,5-tetrabromo-","2,3,4,5,2',3',4',5'-Octabromodiphenyl ether","R1;R2;D1","2021-02-02","2021-02-02",null,"Substance Direct Entry"]
["15347-57-6","239-379-4","IAEG002022","Lead acetate","Acetic acid, lead salt","R1;D1;I","2021-02-02","2021-02-02",null,"Substance Direct Entry"]
["67969-69-1","267-977-5","IAEG002940","N-Ethyl-N-(2-hydroxyethyl)perfluorooctanesulfonamide phosphate monoester diammonium salt","","R1;R2;D1;I","2021-02-02","2021-02-02",null,"Substance Direct Entry"]
["61789-72-8","263-081-3","IAEG003399","Quaternary ammonium compounds, benzyl(hydrogenated tallow alkyl)dimethyl, chlorides","","I","2021-02-02","2021-02-02",null,"Substance Direct Entry"]
["204336-40-3","No EC available","IAEG003722","Oxirane, 2-methyl-, polymer with oxirane, mono(3,5,5-trimethylhexyl) ether","","R1;R2;D1","2021-02-02","2021-02-02",null,"Substance Direct Entry"]
["595585-15-2","No EC available","IAEG003745","D-Glucurono-D-gluco-6-deoxy-L-mannan, acetate, calcium magnesium potassium sodium salt","","R1;R2;D1","2021-02-02","2021-02-02",null,"Substance Direct Entry"]
["30424-08-9","No EC available","IAEG003783","Oxirane, 2,2'-(phenylene)bis-","","R1;R2;D1","2021-02-02","2021-02-02",null,"Substance Direct Entry"]
["563-68-8","209-257-5","IAEG004368","Thallium(I) acetate","","R2","2021-02-02","2021-02-02",null,"Substance Direct Entry"]
["No CAS available","No EC available","IAEG004634","Inorganic ammonium salts",null,"R1;R2","2021-02-02","2022-02-17","100.244.130","Group Direct Entry"]
["7788-98-9","232-138-4","IAEG000418","Ammonium chromate","","R1;D1","2017-08-14","2022-02-17","100.029.217","Group member","IAEG004634"]
["7789-09-5","232-143-1","IAEG000363","Ammonium dichromate","","R1;R2;D1","2015-03-17","2022-02-17","100.029.221","Group member","IAEG004634"]
["492-80-8","207-762-5","IAEG004709","Auramine","4,4'-carbonimidoylbis[N,N-dimethylaniline]","R2","2021-02-02","2021-02-02",null,"Substance Direct Entry"]
["4027-18-3","223-701-5","IAEG004775","4-oxo-4-[(tributylstannyl)oxy]but-2-enoic acid",null,"R1;R2","2021-02-02","2021-02-02",null,"Substance Direct Entry"]
["56388-48-8","No EC available","IAEG005134","Naphthalene, octadecyl-",null,"I","2021-02-02","2021-02-02",null,"Substance Direct Entry"]
["56388-47-7","No EC available","IAEG005135","Naphthalene, hexadecyl-",null,"I","2021-02-02","2021-02-02",null,"Substance Direct Entry"]
["7784-34-1","232-059-5","IAEG005467","Arsenous trichloride",null,"R1;R2;D1","2021-02-02","2021-02-02",null,"Substance Direct Entry"]
["7784-36-3","232-061-6","IAEG005572","Pentafluoroarsorane",null,"R1;R2;D1","2021-02-02","2021-02-02",null,"Substance Direct Entry"]
["615-05-4","210-406-1","IAEG006418","4-Methoxy-m-phenylenediamine","2,4-Diaminoanisole","R1","2021-02-02","2021-02-02",null,"Substance Direct Entry"]
["No CAS available","No EC available","IAEG006523","Substances meeting the classification criteria as skin sensitisers and skin irritants",null,"I","2021-02-02","2021-02-02",null,"Substance Direct Entry"]
["1072-63-5","214-012-0","IAEG006568","1-Vinylimidazole",null,"D1","2021-02-02","2021-02-02","100.012.739","Substance Direct Entry"]
["No CAS available","799-970-2","IAEG009270","2-(4-tert-butylbenzyl)propionaldehyde and its individual stereoisomers",null,"D1","2022-02-17","2022-02-17","100.313.493","Group Direct Entry"]
["80-54-6","201-289-8","IAEG006703","Lilial","2-(4-tert-butylbenzyl)propionaldehyde; Butylphenyl methylpropional; Benzenepropanal, 4-(1,1-dimethylethyl)-.alpha.-methyl-; BMHCA","D1;I","2021-02-02","2021-02-02","100.001.173","Group member","IAEG009270"]
["75166-30-2","No EC available","IAEG009158","(2S)-3-(4-tert-butylphenyl)-2-methylpropanal",null,"D1;I","2022-02-17","2022-02-17","100.313.492","Group member","IAEG009270"]
["75166-31-3","No EC available","IAEG009159","(2R)-3-(4-tert-butylphenyl)-2-methylpropanal",null,"D1;I","2022-02-17","2022-02-17","100.313.491","Group member","IAEG009270"]
["94-26-8","202-318-7","IAEG007194","Butyl 4-hydroxybenzoate","Butyl paraben; Benzoic acid, 4-hydroxy-, butyl ester","D1","2021-02-02","2021-02-02","100.002.108","Substance Direct Entry"]
["1222-05-5","214-946-9","IAEG008060","Galaxolide","HHCB; Pearlide; Abbalide; 1,3,4,6,7,8-Hexahydro-4,6,6,7,8,8-hexamethylindeno(5,6-c)pyran","I","2021-02-02","2021-02-02",null,"Substance Direct Entry"]
["No CAS available","799-971-8","IAEG009269","Medium-chain chlorinated paraffins (MCCP)",null,"D1","2022-02-17","2022-02-17","100.323.845","Group Direct Entry"]
["85535-85-9","287-477-0","IAEG008157","Alkanes, C14-17, chloro","Medium-chain chlorinated paraffins (MCCPs)","R1;R2;D1;I","2021-02-02","2021-02-02","100.079.497","Group member","IAEG009269"]
["1372804-76-6","No EC available","IAEG008362","Alkanes, C14-16, chloro",null,"R1;R2;D1;I","2021-02-02","2021-02-02","100.319.589","Group member","IAEG009269"]
["198840-65-2","No EC available","IAEG008363","Tetradecane, chloro derivs",null,"R1;R2;D1;I","2022-02-17","2022-02-17","100.319.590","Group member","IAEG009269"]
["No CAS available","950-299-5","IAEG009184","Di-, tri- and tetrachlorotetradecane ",null,"D1;I","2022-02-17","2022-02-17","100.275.290","Group member","IAEG009269"]
["11059-65-7","234-277-6","IAEG008159","Zinc bis[bis(tetrapropylenephenyl)] bis(hydrogen dithiophosphate)",null,"I","2021-02-02","2021-02-02",null,"Substance Direct Entry"]
["123-91-1","204-661-8","IAEG008192","1,4-Dioxane",null,"D1;I","2021-02-02","2022-02-17","100.004.239","Substance Direct Entry"]
["2097144-43-7","No EC available","IAEG008357","Alkanes, C20-28, chloro",null,"R1;R2;D1","2021-02-02","2021-02-02",null,"Substance Direct Entry"]
["138495-42-8","420-640-8","IAEG008370","VERTREL (R) XF; Reaction mass of (3R,4R)-1,1,1,2,2,3,4,5,5,5-decafluoropentane and (3S,4S)- 1,1,1,2,2,3,4,5,5,5-decafluoropentane",null,"R1;R2;D1","2021-02-02","2021-02-02",null,"Substance Direct Entry"]
["126213-50-1","415-450-7","IAEG008374","ETHYLENDIOXYTHIOPHEN",null,"R1;R2;D1","2021-02-02","2021-02-02",null,"Substance Direct Entry"]
["132182-92-4","459-520-5","IAEG008383","3M(TM) NOVEC(TM) 7300 Engineered Fluid; 3M(TM) NOVEC(TM) 7300DL Engineered Fluid",null,"R1;R2;D1","2021-02-02","2021-02-02",null,"Substance Direct Entry"]
["404362-22-7","445-790-1","IAEG008387","1,3-Benzenedimethanamine, N-(2-phenylethyl) derivs.",null,"R1;R2;D1","2021-02-02","2021-02-02",null,"Substance Direct Entry"]
["77745-66-5","No EC available","IAEG008403","Phosphorous acid, triisotridecyl ester",null,"R1;R2;D1","2021-02-02","2021-02-02",null,"Substance Direct Entry"]
["7803-57-8","616-584-0","IAEG008406","Hydrazine hydrate; Hydrazine monohydrate",null,"D1","2021-02-02","2021-02-02",null,"Substance Direct Entry"]
["No CAS available","701-028-2","IAEG008464","Tris(4-nonylphenyl, branched) phosphite",null,"D1","2021-02-02","2021-02-02",null,"Substance Direct Entry"]
["2687-91-4","220-250-6","IAEG008578","1-Ethylpyrrolidin-2-one; N-Ethylpyrrolidone","N-Ethyl-2-pyrrolidone (NEP)","I","2021-02-02","2021-02-02",null,"Substance Direct Entry"]
["75980-60-8","278-355-8","IAEG008579","Diphenyl(2,4,6-trimethylbenzoyl)phosphine oxide",null,"I","2021-02-02","2021-02-02",null,"Substance Direct Entry"]
["207803-51-8","No EC available","IAEG008593","Aluminum boron cobalt lithium nickel oxide",null,"R1;R2;D1","2021-02-02","2021-02-02",null,"Substance Direct Entry"]
["28962-65-4","No EC available","IAEG008646","Sodium peroxyborate tetrahydrate",null,"R2;D1","2021-02-02","2021-02-02",null,"Substance Direct Entry"]
["28108-09-0","No EC available","IAEG008647","Sodium peroxyborate tetrahydrate",null,"R2;D1","2021-02-02","2021-02-02",null,"Substance Direct Entry"]
["104948-36-9","No EC available","IAEG008648","Alkanes, C10-22, Chloro",null,"D1","2021-02-02","2021-02-02",null,"Substance Direct Entry"]
["72162-15-3","No EC available","IAEG008659","1-Decene, sulfurized",null,"D1","2021-02-02","2021-02-02",null,"Substance Direct Entry"]
["89-32-7","No EC available","IAEG008660","1H,3H-Benzo[1,2-c:4,5-c']difuran-1,3,5,7-tetrone",null,"D1","2021-02-02","2021-02-02",null,"Substance Direct Entry"]
["75-07-0","No EC available","IAEG008664","Acetaldehyde",null,"D1","2021-02-02","2021-02-02",null,"Substance Direct Entry"]
["68479-98-1","No EC available","IAEG008669","Benzenediamine, ar,ar-diethyl-ar-methyl-",null,"D1","2021-02-02","2021-02-02",null,"Substance Direct Entry"]
["68187-84-8","No EC available","IAEG008674","Castor oil, oxidized",null,"D1","2021-02-02","2021-02-02",null,"Substance Direct Entry"]
["144-62-7","No EC available","IAEG008676","Ethanedioic acid",null,"D1","2021-02-02","2021-02-02",null,"Substance Direct Entry"]
["149-44-0","No EC available","IAEG008697","Methanesulfinic Acid, Hydroxy-, Monosodium Salt",null,"D1","2021-02-02","2021-02-02",null,"Substance Direct Entry"]
["119-47-1","204-327-1","IAEG008715","6,6'-di-tert-butyl-2,2'-methylenedi-p-cresol",null,"R1;R2;D1;I","2021-02-02","2021-02-02","100.003.934","Substance Direct Entry"]
["No CAS available","799-972-3","IAEG008722","Phenol, alkylation products (mainly in para position) with C12-rich branched alkylchains from propene oligomerisation (PDDP)",null,"D1;I","2022-02-17","2022-02-17","100.311.974","Group Direct Entry"]
["No CAS available","No EC available","IAEG008158","Phenol, alkylation products (mainly in para position) with C12-rich branched or linear olefins from propene oligomerisation",null,"D1;I","2022-02-17","2022-02-17","100.339.616","Group member","IAEG008722"]
["No CAS available","No EC available","IAEG008723","Individual isomers of phenol, alkylation products (mainly in para position) with C12-rich branched or linear alkylchains from propene oligomerisation (PDDP) and/ or combinations thereof",null,"D1;I","2022-02-17","2022-02-17","100.278.035","Group member","IAEG008722"]
["121158-58-5","310-154-3","IAEG008724","Phenol, dodecyl-, branched",null,"D1;I","2021-02-02","2021-02-02","100.100.072","Group member","IAEG008722"]
["74499-35-7","616-100-8","IAEG008725","Phenol, (tetrapropenyl) derivatives",null,"D1;I","2021-02-02","2021-02-02","100.109.748","Group member","IAEG008722"]
["27147-75-7","608-055-8","IAEG008726","Phenol, 4-isododecyl-",null,"D1;I","2022-02-17","2022-02-17","100.124.888","Group member","IAEG008722"]
["27459-10-5","No EC available","IAEG008728","4-Isododecylphenol",null,"D1;I","2022-02-17","2022-02-17","100.278.034","Group member","IAEG008722"]
["57427-55-1","No EC available","IAEG008729","Phenol, tetrapropylene",null,"D1;I","2022-02-17","2022-02-17","100.278.036","Group member","IAEG008722"]
["210555-94-5","640-104-9","IAEG008731","Phenol, 4-dodecyl-, branched",null,"D1;I","2022-02-17","2022-02-17","100.167.758","Group member","IAEG008722"]
["No CAS available","No EC available","IAEG009193","Phenol, alkyl branched (species comprising decyl, undecyl, dodecyl, tridecyl, tetradecyl, pentadecyl, substituents)",null,"D1;I","2022-02-17","2022-02-17",null,"Group member","IAEG008722"]
["No CAS available","No EC available","IAEG009190","Tetrapropenyl phenol",null,"D1;I","2022-02-17","2022-02-17",null,"Group member","IAEG008722"]
["No CAS available","No EC available","IAEG009191","4-(3,4,5,6-tetramethyloctan-2-yl)phenol",null,"D1;I","2022-02-17","2022-02-17",null,"Group member","IAEG008722"]
["No CAS available","No EC available","IAEG009192","4-(3,4,5-trimethylheptyl)phenol",null,"D1;I","2022-02-17","2022-02-17",null,"Group member","IAEG008722"]
["27193-86-8","248-312-8","IAEG008727","Dodecylphenol",null,"D1;I","2021-02-02","2021-02-02",null,"Substance Direct Entry"]
["104-43-8","203-202-9","IAEG008730","P-dodecylphenol",null,"D1;I","2021-02-02","2021-02-02",null,"Substance Direct Entry"]
["174305-83-0","No EC available","IAEG008732","Phenol, 4-(1,1,3-trimethylhexyl)-",null,"D1","2021-02-02","2021-02-02",null,"Substance Direct Entry"]
["142731-65-5","No EC available","IAEG008733","Phenol, 4-(1,3-dimethyl-1-propylbutyl)-",null,"D1","2021-02-02","2021-02-02",null,"Substance Direct Entry"]
["142731-55-3","No EC available","IAEG008734","Phenol, 4-(1,2,5-trimethylhexyl)-",null,"D1","2021-02-02","2021-02-02",null,"Substance Direct Entry"]
["58865-77-3","No EC available","IAEG008735","Phenol, 4-tert-nonyl-",null,"D1","2021-02-02","2021-02-02",null,"Substance Direct Entry"]
["80475-32-7","279-481-6","IAEG008811","N-[3-(dimethylamino)propyl]-3,3,4,4,5,5,6,6,7,7,8,8,8-tridecafluorooctanesulphonamide N-oxide",null,"R1;R2;D1","2021-02-02","2021-02-02",null,"Substance Direct Entry"]
["143-24-8","205-594-7","IAEG008903","Bis(2-(2-methoxyethoxy)ethyl) ether",null,"D1;I","2021-02-02","2021-02-02","100.005.086","Substance Direct Entry"]
["No CAS available","No EC available","IAEG009175","Dioctyltin dilaurate, stannane, dioctyl-, bis(coco acyloxy) derivs., and any other stannane, dioctyl-, bis(fatty acyloxy) derivs. wherein C12 is the predominant carbon number of the fatty acyloxy moiety",null,"D1","2021-02-02","2021-02-02","100.308.020","Group Direct Entry"]
["No CAS available","No EC available","IAEG009180","Dioctyltin dilaurate; stannane, dioctyl-, bis(coco acyloxy) derivs.",null,"D1","2021-02-02","2021-02-02","100.287.923","Group member","IAEG009175"]
["3648-18-8","222-883-3","IAEG005841","Dioctyltin dilaurate","Bis(dodecanoyloxy)(dioctyl)stannane","R1;R2;D1;I","2017-08-14","2017-08-14","100.020.804","Group member","IAEG009175"]
["91648-39-4","293-901-5","IAEG006278","Stannane, dioctyl-, bis(coco acyloxy) derivs.",null,"R1;R2;D1","2021-02-02","2021-02-02","100.085.331","Group member","IAEG009175"]
["68937-41-7","273-066-3","IAEG009194","Phenol, isopropylated, phosphate (3:1)","Isopropylated triphenyl phosphate (IPPP)","R1;R2;D1","2021-02-02","2021-02-02","100.066.404","Substance Direct Entry"]
["1306-13-4","No EC available","IAEG004522","Cadmium dihydrate",null,"R1;R2;D1","2022-02-17","2022-02-17","100.040.137","Substance Direct Entry"]
["692-49-9","700-651-7","IAEG001199","(2Z)-1,1,1,4,4,4-hexafluorobut-2-ene",null,"R1;R2;D1","2022-02-17","2022-02-17","100.217.885","Substance Direct Entry"]
["12036-31-6","234-844-8","IAEG001982","Lead tin oxide",null,"R1;D1;I","2022-02-17","2022-02-17","100.031.664","Substance Direct Entry"]
["15187-16-3","628-401-1","IAEG002017","Lead, [29H,31H-phthalocyaninato(2-)-N29,N30,N31,N32]-, (SP-4-1)-",null,"R1;D1;I","2022-02-17","2022-02-17","100.156.674","Substance Direct Entry"]
["41453-50-3","255-375-5","IAEG002082","Benzoic acid, 2,4-dihydroxy-, lead (2+) salt (2:1)",null,"R1;D1;I","2022-02-17","2022-02-17","100.050.324","Substance Direct Entry"]
["685-63-2","211-681-0","IAEG002716","1,1,2,3,4,4-hexafluorobuta-1,3-diene",null,"R1;R2","2022-02-17","2022-02-17","100.010.620","Substance Direct Entry"]
["3132-64-7","221-525-3","IAEG003244","1-bromo-2,3-epoxypropane",null,"R1;R2;D1","2022-02-17","2022-02-17","100.019.569","Substance Direct Entry"]
["69430-47-3","No EC available","IAEG003954","Siloxanes and Silicones, di-Me, reaction products with Me hydrogen siloxanes and 1,1,3,3-tetramethyldisiloxane",null,"R2","2022-02-17","2022-02-17",null,"Substance Direct Entry"]
["1417900-96-9","No EC available","IAEG004411","Alkanes, C21-34-branched and linear, chloro",null,"R1;R2;D1","2022-02-17","2022-02-17",null,"Substance Direct Entry"]
["25321-14-6","246-836-1","IAEG004705","Dinitrotoluene",null,"R2","2022-02-17","2022-02-17","100.042.564","Substance Direct Entry"]
["78-88-6","201-153-8","IAEG004708","2,3-dichloropropene",null,"R2","2022-02-17","2022-02-17","100.001.049","Substance Direct Entry"]
["29253-36-9","249-535-3","IAEG005191","Isopropylnaphthalene",null,"I","2022-02-17","2022-02-17","100.045.018","Substance Direct Entry"]
["No CAS available","No EC available","IAEG005365","Alloys Cobalt-tungsten carbide hard metals",null,"I","2022-02-17","2022-02-17","100.251.382","Substance Direct Entry"]
["118685-33-9","405-665-4","IAEG005391","A mixture of: disodium (6-(4-anisidino)-3-sulfonato-2-(3,5-dinitro-2-oxidophenylazo)-1-naphtholato)(1-(5-chloro-2-oxidophenylazo)-2-naphtholato)chromate(1-); trisodium bis(6-(4-anisidino)-3-sulfonato-2-(3,5-dinitro-2-oxidophenylazo)-1-naphtholato)chromate(1-)",null,"R2;D1","2022-02-17","2022-02-17","100.100.723","Substance Direct Entry"]
["5967-09-9","227-755-0","IAEG006181","1,3-diacetoxy-1,1,3,3-tetrabutyldistannoxane",null,"R2","2022-02-17","2022-02-17","100.025.232","Substance Direct Entry"]
["156-60-5","205-860-2","IAEG007201","Trans-dichloroethylene",null,"I","2022-02-17","2022-02-17","100.005.329","Substance Direct Entry"]
["53585-53-8","258-649-2","IAEG008101","Dibenzylbenzene, ar-methyl derivative",null,"I","2022-02-17","2022-02-17","100.053.300","Substance Direct Entry"]
["284685-45-6","457-580-7","IAEG008393","Phosphinic acid, diethyl-, zinc salt","EXOLIT OP 950","R1;R2;D1","2022-02-17","2022-02-17","100.104.572","Substance Direct Entry"]
["34455-29-3","252-046-8","IAEG008805","Carboxymethyldimethyl-3-[[(3,3,4,4,5,5,6,6,7,7,8,8,8-tridecafluorooctyl)sulphonyl]amino]propylammonium hydroxide",null,"R1;R2;D1","2022-02-17","2022-02-17","100.047.300","Substance Direct Entry"]
["78560-45-9","278-947-6","IAEG008810","Trichloro(3,3,4,4,5,5,6,6,7,7,8,8,8-tridecafluorooctyl)silane",null,"R1;R2;D1","2022-02-17","2022-02-17","100.071.749","Substance Direct Entry"]
["No CAS available","No EC available","IAEG008872","Aromatic hydrocarbon resin",null,"R1;R2;D1","2022-02-17","2022-02-17",null,"Substance Direct Entry"]
["1330-20-7","215-535-7","IAEG008918","Xylene",null,"I","2022-02-17","2022-02-17","100.014.124","Substance Direct Entry"]
["109-99-9","203-726-8","IAEG008919","Tetrahydrofuran",null,"I","2022-02-17","2022-02-17","100.003.389","Substance Direct Entry"]
["106-42-3","203-396-5","IAEG008922","p-Xylene",null,"I","2022-02-17","2022-02-17","100.003.088","Substance Direct Entry"]
["95-47-6","202-422-2","IAEG008923","o-Xylene",null,"I","2022-02-17","2022-02-17","100.002.203","Substance Direct Entry"]
["110-54-3","203-777-6","IAEG008924","N-hexane",null,"I","2022-02-17","2022-02-17","100.003.435","Substance Direct Entry"]
["108-38-3","203-576-3","IAEG008925","m-Xylene",null,"I","2022-02-17","2022-02-17","100.003.252","Substance Direct Entry"]
["100-51-6","202-859-9","IAEG008926","Benzyl alcohol",null,"I","2022-02-17","2022-02-17","100.002.600","Substance Direct Entry"]
["646-06-0","211-463-5","IAEG008927","1,3-dioxolane",null,"I","2022-02-17","2022-02-17","100.010.422","Substance Direct Entry"]
["924-42-5","213-103-2","IAEG008945","N-(hydroxymethyl)acrylamide",null,"I","2022-02-17","2022-02-17","100.011.913","Substance Direct Entry"]
["26040-51-7","247-426-5","IAEG008950","Bis(2-ethylhexyl) tetrabromophthalate",null,"I","2022-02-17","2022-02-17","100.043.099","Substance Direct Entry"]
["1034343-98-0","801-282-5","IAEG009168","Graphene",null,"R2","2022-02-17","2022-02-17","100.227.924","Substance Direct Entry"]
["1067-53-4","213-934-0","IAEG009181","Tris(2-methoxyethoxy)vinylsilane",null,"D1;I","2022-02-17","2022-02-17","100.012.668","Substance Direct Entry"]
["255881-94-8","401-850-9","IAEG009195","S-(tricyclo(5.2.1.0'2,6)deca-3-en-8(or 9)-yl O-(isopropyl or isobutyl or 2-ethylhexyl) O-(isopropyl or isobutyl or 2-ethylhexyl) phosphorodithioate",null,"D1;I","2022-02-17","2022-02-17","100.100.373","Substance Direct Entry"]
["28553-12-0","249-079-5","IAEG009196","Di-''isononyl'' phthalate",null,"I","2022-02-17","2022-02-17","100.044.602","Substance Direct Entry"]
["68515-48-0","271-090-9","IAEG009197","1,2-Benzenedicarboxylic acid, di-C8-10-branched alkyl esters, C9-rich (DINP)",null,"I","2022-02-17","2022-02-17","100.064.608","Substance Direct Entry"]
["26761-40-0","247-977-1","IAEG009198","Di-''isodecyl'' phthalate",null,"I","2022-02-17","2022-02-17","100.043.601","Substance Direct Entry"]
["68515-49-1","271-091-4","IAEG009199","1,2-Benzenedicarboxylic acid, di-C9-11-branched alkyl esters, C10-rich (DiDP)",null,"I","2022-02-17","2022-02-17","100.064.609","Substance Direct Entry"]
["95-50-1","202-425-9","IAEG009200","1,2-Dichlorobenzene",null,"I","2022-02-17","2022-02-17","100.002.206","Substance Direct Entry"]
["106-46-7","203-400-5","IAEG009201","1,4-Dichlorobenzene",null,"I","2022-02-17","2022-02-17","100.003.092","Substance Direct Entry"]
["78-87-5","201-152-2","IAEG009202","1,2-Dichloropropane (PDC)",null,"I","2022-02-17","2022-02-17","100.001.048","Substance Direct Entry"]
["106-99-0","203-450-8","IAEG009204","1,3-Butadiene",null,"I","2022-02-17","2022-02-17","100.003.138","Substance Direct Entry"]
["16872-11-0","240-898-3","IAEG009209","Tetrafluoroboric acid",null,"I","2022-02-17","2022-02-17","100.037.165","Substance Direct Entry"]
["1332-07-6","215-566-6","IAEG009210","Boric acid, zinc salt",null,"I","2022-02-17","2022-02-17","100.014.152","Substance Direct Entry"]
["29761-21-5","249-828-6","IAEG009216","Phosphoric acid, isodecyl diphenyl ester",null,"I","2022-02-17","2022-02-17","100.045.283","Substance Direct Entry"]
["108-78-1","203-615-4","IAEG009217","1,3,5-Triazine-2,4,6-triamine",null,"I","2022-02-17","2022-02-17","100.003.288","Substance Direct Entry"]
["78-40-0","201-114-5","IAEG009219","Phosphoric acid, triethyl ester",null,"I","2022-02-17","2022-02-17","100.001.013","Substance Direct Entry"]
["78-51-3","201-122-9","IAEG009220","Ethanol, 2-butoxy-, phosphate (3:1)",null,"I","2022-02-17","2022-02-17","100.001.021","Substance Direct Entry"]
["84852-53-9","284-366-9","IAEG009221","Benzene, 1,1'-(1,2-ethanediyl)bis[2,3,4,5,6-pentabromo-",null,"I","2022-02-17","2022-02-17","100.076.669","Substance Direct Entry"]
["78-42-2","201-116-6","IAEG009222","Phosphoric acid, tris(2-ethylhexyl) ester",null,"I","2022-02-17","2022-02-17","100.001.015","Substance Direct Entry"]
["1330-78-5","215-548-8","IAEG009223","Phosphoric acid, tris(methylphenyl) ester",null,"I","2022-02-17","2022-02-17","100.014.136","Substance Direct Entry"]
["56803-37-3","260-391-0","IAEG009224","Phosphoric acid, (1,1-dimethylethyl) phenyl diphenyl ester",null,"I","2022-02-17","2022-02-17","100.054.883","Substance Direct Entry"]
["68527-02-6","271-247-1","IAEG009225","Alkenes, C12-24, chloro",null,"I","2022-02-17","2022-02-17","100.064.751","Substance Direct Entry"]
["65652-41-7","265-859-8","IAEG009228","Phosphoric acid, bis[(1,1-dimethylethyl) phenyl] phenyl ester",null,"I","2022-02-17","2022-02-17","100.059.855","Substance Direct Entry"]
["298-07-7","206-056-4","IAEG009229","Phosphoric acid, bis(2-ethylhexyl) ester",null,"I","2022-02-17","2022-02-17","100.005.507","Substance Direct Entry"]
["26446-73-1","247-708-8","IAEG009231","Phosphoric acid, bis(methylphenyl) phenyl ester",null,"I","2022-02-17","2022-02-17","100.043.356","Substance Direct Entry"]
["77-40-7","201-025-1","IAEG009183","4,4'-(1-methylpropylidene)bisphenol","Bisphenol B","D1;I","2022-02-17","2022-02-17","100.000.933","Substance Direct Entry"]
["36483-57-5","253-057-0","IAEG009173","2,2-dimethylpropan-1-ol, tribromo derivative, 3-bromo-2,2-bis(bromomethyl)-1-propanol (TBNPA)",null,"D1;I","2022-02-17","2022-02-17","100.048.218","Substance Direct Entry"]
["96-13-9","202-480-9","IAEG009174","2,3-dibromo-1-propanol (2,3-DBPA)",null,"D1;I","2022-02-17","2022-02-17","100.002.256","Substance Direct Entry"]
["1522-92-5","622-370-8","IAEG009182","3-bromo-2,2-bis(bromomethyl)-1-propanol (TBNPA)",null,"D1;I","2022-02-17","2022-02-17","100.151.139","Substance Direct Entry"]

{"sheet":"UDL","index":10,"n_rows":55,"n_cols":10,"rows_kept":55,"cut":false,"hidden":false,"merged":[]}
["Authority","Identity","Version","Date","Authority","Identity","Version","Date",null,"return to tab\n4.Substance-in-Product"]
["IAEG","ADSFUDL-0618","1.0","2018-06-07","IAEG","ADMFUDL-0618","1.0","2018-06-07",null,"return to tab\n5.Substance-in-Process"]
["IAEG ID Number","Substance Use Function","Explanation",null,"IAEG ID Number","Material Use Function","Explanation",null,null,{"$f":"Overview!E3","v":"Version: 1.2.2"}]
["SF01","Abrasive","Grinding or friction agent",null,"MF01","Abrasion or polishing","Removes surface materials to clean and/or make smooth"]
["SF02","Adhesion promoter","Promotes adhesion of coatings, inks, or adhesives to a substrate of interest",null,"MF02","Adhesive","Joins of two or more objects or materials together by chemical bond"]
["SF03","Adsorbent/absorbent","Adheres materials to a surface",null,"MF03","Adsorbent or absorbent","Holds particles, liquids or gases by taking in or holding on surfaces"]
["SF04","Alloy constituent","Metal alloy constituent",null,"MF04","Fragrance or odor supressant","Chemically modifies air or materials to enhance or suppress odor"]
["SF05","Antiadhesive","Retards or delays adhesion between two materials",null,"MF05","Anti-freeze or de-icing","Prevents or removes frozen water from surfaces"]
["SF06","Antiscaling","Prevents lime formation",null,"MF06","Anti-slip surfacing","Increases friction between two surfaces"]
["SF07","Antisiccative","Promotes absorption of moisture",null,"MF07","Base metal or alloy","Metallic structural material"]
["SF08","Antistat","Controls static electricity buildup or discharge",null,"MF08","Biocide or pest management","Pesticide or herbicide"]
["SF09","Binder","Holds or draws other materials together to form a cohesive whole mechanically, chemically, by adhesion or cohesion",null,"MF09","Bleaching or decolorizing","Diminishes or removes color"]
["SF10","Catalyst","Speeds up a chemical reaction, but is not consumed by the reaction",null,"MF10","Binder","Produces or promotes cohesion in loosely assembled substances "]
["SF11","Chelating agent","Bonding of ions and molecules to metal ions",null,"MF11","Catalyst or accelerant","Accelerates chemical reactions and does not react "]
["SF12","Conditioner","Improves quality/performance of a material",null,"MF12","Chelator","Binds and sequesters metal ions"]
["SF13","Diluent","Non-reactive dilution agent, including solvents",null,"MF13","Chemical extraction","Removes constituents of one mixture into another"]
["SF14","Electrolyte","Dissociates into ions in solution and acquires the capacity to conduct electricity",null,"MF14","Coating removal","Removes paints, etc. from surfaces"]
["SF15","Emulsifier","Stabilizes oil-and-water emulsions",null,"MF15","Coloring agent, colorant, pigment","Adds color to porous materials"]
["SF16","Flame retardant/smoke suppresant","Prevents, or suppresses the initiation, propogation of combustion and/or the generation of combustion by-products (heat or smoke)",null,"MF16","Dessicant","Removes moisture"]
["SF17","Fluid property modulator","Inhibits or restricts foaming, promotes solids coagulation or floatation, disperses or emulsifies constituents, adjusts viscosity, etc.",null,"MF17","Diagnostic or test","Identifies and examines flaws - cracks, weaknesses, etc."]
["SF18","Fluorescent","Re-emits light upon light excitation",null,"MF18","Dye or colorant","Imparts color to objects or materials"]
["SF19","Fragrance","Imparts fragrance",null,"MF19","Electrolyte ","Contains ions and that can be decomposed by electrolysis, e.g., that present in a battery."]
["SF20","Glidant","Increases flowability of powders",null,"MF20","Explosive or ammunition","Materials that can be made to explode, or provide weapon propulsion"]
["SF21","Gloss agent","Imparts a gloss finish in cured coatings",null,"MF21","Filler, insulating or potting","Thermal, acoustical, electrical or radiational attenuation"]
["SF22","Heat stabilizer","Protects polymers against degradation resulting from heat",null,"MF22","Filler, putty, caulking or plaster","Used to fill voids in objects"]
["SF23","Heat transfer agent","Transfers heat energy through a media",null,"MF23","Fire retardant, suppresant or extinguisher","Prevents, suppresses or extinguishes fire"]
["SF24","Humectant","Retains or preserves moisture content",null,"MF24","Fuel or propellant","Provide energy for power or motion by chemical consumption"]
["SF25","Inert/filler","Non-reactive substance that only imparts bulk or density",null,"MF25","Glass or ceramic","Hard, brittle, noncrystalline material"]
["SF26","Lubricant","Reduces friction between mechanical parts",null,"MF26","Heat transfer","Transfers heat, providing heating or cooling through a media"]
["SF27","Matting agent","Imparts a matte finish in cured coatings",null,"MF27","Ink or toner","Transfers image to, or prints on a surface"]
["SF28","Oxidizer","Oxidizes other substances",null,"MF28","Leather, paper, board or fabric treatment","Enhance or protect listed materials"]
["SF29","Pesticide, herbicide, fungicide, antimicrobial, repellant or attractant","Prevents access by, retards or kills unwanted insects, fungi, microbes",null,"MF29","Lubricants and greases","Reduces friction to enhance movement and/or reduce wear"]
["SF30","pH modifier/ buffer","Modifies material pH",null,"MF30","Material conditioning, plasticizer or hardener","Changes plasticity, ductility and/or brittleness properties of a non-metallic material"]
["SF31","Pigment/colorant","Imparts shading, color or tone",null,"MF31","Metal-working or metal cutting","Provides cooling and/or particle control during metal cutting operations"]
["SF32","Plasticizer","Produces or promotes plasticity and flexibility and to reduce brittleness in synthetic resins",null,"MF32","Non-metal structural (non-polymeric)","Non-metallic, non-polymeric (plastic) structural materials"]
["SF33","Propellant","Pressurizes materials to promote or control release",null,"MF33","Photo-chemical or resist","Affects electromagnetic modification of substrates to effect or prevent change "]
["SF34","Reactant (monomeric)","Substance reactant that does forms polymeric units on reacting",null,"MF34","Pest management","Pesticide, herbicide, fungicide, repellant or attractant"]
["SF35","Reactant (non-monomeric)","Substance reactant that does not form polymeric units",null,"MF35","Plating or metallic coating deposition","Coats a thin metal layer on surfaces"]
["SF36","Stabilizer","Substance that is used to prevent non-thermal degradation",null,"MF36","Polish or wax","Materials used to clean and smooth surfaces"]
["SF37","Surfactant","Lowers the surface tension (or interfacial tension) between two liquids, a gas and a liquid, or between a liquid and a solid",null,"MF37","Plastic or resin","Organic polymeric materials"]
["SF38","Tackifier","Increases the stickiness of an adhesive or contact agent",null,"MF38","Preservative","Prevents degradation caused by biological or chemical action"]
["SF39","Texturizer","Imparts material texture",null,"MF39","Pressure transfer, propellant","Transfers or impart pressure by gas or fluid"]
["SF40","Thixotrope","Substance that lowers viscosity of a mixture when the mixture is shaken, agitated, sheared or otherwise stressed.",null,"MF40","Coating ","Primer, coating, paint, or sealant"]
["SF41","UV stabilizer","Inhibits degradation by UV radiation",null,"MF41","Processing aid -  pH-regulator, flocculation, precipitation, or neutralization","Modifies the content of liquid mixtures"]
["SF42","Warping or shrinking preventor","Inhibits or prevents material deformation, warping or shrinking",null,"MF42","Semiconductor","Component of various kinds of electronic circuit elements"]
["SF43","Other ","Substance functions not fitting into other functions",null,"MF43","Shielding or blanketing","Protects surfaces from contamination by covering"]
[null,null,null,null,"MF44","Surface treatment","Modifies the chemical composition of metal surfaces"]
[null,null,null,null,"MF45","Textile dyeing or impregnating","Changes the chemical content of fabric"]
[null,null,null,null,"MF46","Solvent or thinner","Dissolves solids or liquids"]
[null,null,null,null,"MF47","Washing, degreasing or other cleaning","Cleaning compounds"]
[null,null,null,null,"MF48","Water proofing","Imparts water resistance to materials"]
[null,null,null,null,"MF49","Welding, soldering, brazing or flux","Joins two or more metal surfaces"]
[null,null,null,null,"MF50","Other","Material functions not fitting into other functions"]
[]
[null,null,null,null,"Variable:","UDL_MaterialFunction"]

{"sheet":"Countries","index":11,"n_rows":221,"n_cols":1,"rows_kept":221,"cut":false,"hidden":false,"merged":[]}
["AM - Armenia"]
["BQ - Bonaire, Sint Eustatius and Saba"]
["BA - Bosnia and Herzegovina"]
["BR - Brazil"]
["IO - British Indian Ocean Territory"]
["BN - Brunei Darussalam"]
["BG - Bulgaria"]
["BF - Burkina Faso"]
["BI - Burundi"]
["KH - Cambodia"]
["CM - Cameroon"]
["CA - Canada"]
["CV - Cabo Verde"]
["KY - Cayman Islands"]
["CF - Central African Republic"]
["TD - Chad"]
["CL - Chile"]
["CN - China"]
["CX - Christmas Island"]
["CC - Cocos (Keeling) Islands"]
["CO - Colombia"]
["KM - Comoros"]
["CG - Congo"]
["CD - Congo (Democratic Republic of the)"]
["CK - Cook Islands"]
["CR - Costa Rica"]
["CI - Cote d'Ivoire"]
["HR - Croatia"]
["CU - Cuba"]
["CW - Curacao"]
["CY - Cyprus"]
["CZ - Czech Republic"]
["DK - Denmark"]
["DJ - Djibouti"]
["DM - Dominica"]
["DO - Dominican Republic"]
["EC - Ecuador"]
["EG - Egypt"]
["SV - El Salvador"]
["GQ - Equatorial Guinea"]
["ER - Eritrea"]
["EE - Estonia"]
["ET - Ethiopia"]
["FK - Falkland Islands (Malvinas)"]
["FO - Faroe Islands"]
["FJ - Fiji"]
["FI - Finland"]
["FR - France"]
["GF - French Guiana"]
["PF - French Polynesia"]
["TF - French Southern Territories"]
["GA - Gabon"]
["GM - Gambia"]
["GE - Georgia"]
["DE - Germany"]
["GH - Ghana"]
["GI - Gibraltar"]
["GR - Greece"]
["GL - Greenland"]
["GD - Grenada"]
["GP - Guadeloupe"]
["GU - Guam"]
["GT - Guatemala"]
["GG - Guernsey"]
["GN - Guinea"]
["GW - Guinea-Bissau"]
["GY - Guyana"]
["HT - Haiti"]
["HM - Heard Island and McDonald Islands"]
["VA - Holy See"]
["HN - Honduras"]
["HK - Hong Kong"]
["HU - Hungary"]
["IS - Iceland"]
["IN - India"]
["ID - Indonesia"]
["IR - Iran (Islamic Republic of)"]
["IQ - Iraq"]
["IE - Ireland"]
["IM - Isle of Man"]
["IL - Israel"]
["IT - Italy"]
["JM - Jamaica"]
["JP - Japan"]
["JE - Jersey"]
["JO - Jordan"]
["KZ - Kazakhstan"]
["KE - Kenya"]
["KI - Kiribati"]
["KP - Korea (Democratic People's Republic of)"]
["KR - Korea (Republic of)"]
["KW - Kuwait"]
["KG - Kyrgyzstan"]
["LA - Lao People's Democratic Republic"]
["LV - Latvia"]
["LB - Lebanon"]
["LS - Lesotho"]
["LR - Liberia"]
["LY - Libya"]
["LI - Liechtenstein"]
["LT - Lithuania"]
["LU - Luxembourg"]
["MO - Macao"]
["MK - Macedonia (the former Yugoslav Republic of)"]
["MG - Madagascar"]
["MW - Malawi"]
["MY - Malaysia"]
["MV - Maldives"]
["ML - Mali"]
["MT - Malta"]
["MH - Marshall Islands"]
["MQ - Martinique"]
["MR - Mauritania"]
["MU - Mauritius"]
["YT - Mayotte"]
["MX - Mexico"]
["FM - Micronesia (Federated States of)"]
["MD - Moldova (Republic of)"]
["MC - Monaco"]
["MN - Mongolia"]
["ME - Montenegro"]
["MS - Montserrat"]
["MA - Morocco"]
["MZ - Mozambique"]
["MM - Myanmar"]
["NA - Namibia"]
["NR - Nauru"]
["NP - Nepal"]
["NL - Netherlands"]
["NC - New Caledonia"]
["NZ - New Zealand"]
["NI - Nicaragua"]
["NE - Niger"]
["NG - Nigeria"]
["NU - Niue"]
["NF - Norfolk Island"]
["MP - Northern Mariana Islands"]
["NO - Norway"]
["OM - Oman"]
["PK - Pakistan"]
["PW - Palau"]
["PS - Palestine, State of"]
["PA - Panama"]
["PG - Papua New Guinea"]
["PY - Paraguay"]
["PE - Peru"]
["PH - Philippines"]
["PN - Pitcairn"]
["PL - Poland"]
["PT - Portugal"]
["PR - Puerto Rico"]
["QA - Qatar"]
["RE - Reunion"]
["RO - Romania"]
["RU - Russian Federation"]
["RW - Rwanda"]
["BL - Saint Barthelemy"]
["SH - Saint Helena, Ascension and Tristan da Cunha"]
["KN - Saint Kitts and Nevis"]
["LC - Saint Lucia"]
["MF - Saint Martin (French part)"]
["PM - Saint Pierre and Miquelon"]
["VC - Saint Vincent and the Grenadines"]
["WS - Samoa"]
["SM - San Marino"]
["ST - Sao Tome and Principe"]
["SA - Saudi Arabia"]
["SN - Senegal"]
["RS - Serbia"]
["SC - Seychelles"]
["SL - Sierra Leone"]
["SG - Singapore"]
["SX - Sint Maarten (Dutch part)"]
["SK - Slovakia"]
["SI - Slovenia"]
["SB - Solomon Islands"]
["SO - Somalia"]
["ZA - South Africa"]
["GS - South Georgia and the South Sandwich Islands"]
["SS - South Sudan"]
["ES - Spain"]
["LK - Sri Lanka"]
["SD - Sudan"]
["SR - Suriname"]
["SJ - Svalbard and Jan Mayen"]
["SZ - Swaziland"]
["SE - Sweden"]
["CH - Switzerland"]
["SY - Syrian Arab Republic"]
["TW - Taiwan, Province of China"]
["TJ - Tajikistan"]
["TZ - Tanzania, United Republic of"]
["TH - Thailand"]
["TL - Timor-Leste"]
["TG - Togo"]
["TK - Tokelau"]
["TO - Tonga"]
["TT - Trinidad and Tobago"]
["TN - Tunisia"]
["TR - Turkey"]
["TM - Turkmenistan"]
["TC - Turks and Caicos Islands"]
["TV - Tuvalu"]
["UG - Uganda"]
["UA - Ukraine"]
["AE - United Arab Emirates"]
["GB - United Kingdom of Great Britain and Northern Ireland"]
["US - United States of America"]
["UM - United States Minor Outlying Islands"]
["UY - Uruguay"]
["UZ - Uzbekistan"]
["VU - Vanuatu"]
["VE - Venezuela (Bolivarian Republic of)"]
["VN - Viet Nam"]
["VG - Virgin Islands (British)"]
["VI - Virgin Islands (U.S.)"]
["WF - Wallis and Futuna"]
["EH - Western Sahara"]
["YE - Yemen"]
["ZM - Zambia"]
["ZW - Zimbabwe"]

{"sheet":"-Parameters-","index":12,"n_rows":250,"n_cols":25,"rows_kept":250,"cut":false,"hidden":true,"merged":[]}
["DeclarationClass","YesNoAnswer","YesNoUnknownAnswer","ProductUoM",null,"MaterialUoM",null,"Unit Type",null,"SubstanceUoM","CompanyIDType","Authority","IAEGWG2","IEC62474","Pick a Material Class","Pick An Exemption / Authorisation Class","EUROHS0508","EL2011_534_EU","EL2010_122_EU","EL2011_65_EU_ANNEX_IV","EL2011_37_EU","CountryCode",null,"ProcessStage","Location"]
["E - Product Statement (only)","Yes","Yes","Each","Each","%","percent",null,null,"%","Vendor Code","Custom","IAEG01 - Deoxidizing of Al alloys","M-001 Stainless Steel ","IEC62474","EUROHS0508","Cadmium/cadmium compounds","1(c) - Mercury in single capped (compact) fluorescent lamps not exceeding (per burner):For general lighting purposes greater than or equal to 50 W and less than 150 W; 5 mg","1 - Mercury in compact fluorescent lamps not exceeding 5 mg per lamp.","1 - Lead, cadmium and mercury in detectors for ionising radiation","1(a) - Lead as an alloying element: Steel for machining purposes and batch hot dip galvanised steel components containing up to 0,35% lead by weight  ","AF - Afghanistan",null,"Production","Overview"]
["F - Declarable Substance Declaration","No","No","mm","millimeter","kg","milligram","Each",null,"ppm","DUNS Code","DUNS","IAEG02 - Organic Coating  (External Epoxy Primer)","M-002 Other Ferrous Alloys, Non-stainless Steels","IAEGWG2","EL2011_534_EU","Polybrominated biphenyls (PBBs)","1(d) - Mercury in single capped (compact) fluorescent lamps not exceeding (per burner):For general lighting purposes greater than or equal to 150 W; 15 mg","2a - Mercury in straight fluorescent lamps for general purposes not exceeding 10 mg in halophosphate lamps.","1a - Lead and cadmium in ion selective electrodes including glass of pH electrodes.","1(b) - Lead as an alloying element: Continuously galvanised steel sheet containing up to 0,35% lead by weight  ","AX - Aland Islands","Resctionary","Product Operation","Instructions"]
["G - Extended Substance Declaration",null,"Unknown","cm","centimeter","g","gram","Meter",null,"kg","CAGE Code","CAGE","IAEG03 - Organic Coating (Fuel Tank coating)","M-003 Aluminum and Its Alloys ",null,"EL2010_122_EU","Polybrominated diphenyl ethers (PBDEs)","1(e) - Mercury in single capped (compact) fluorescent lamps not exceeding (per burner):For general lighting purposes with circular or square structural shape and tube diameter less than or equal to 17 mm","2b - Mercury in straight fluorescent lamps for general purposes not exceeding 5 mg in triphosphate lamps with a normal lifetime.","1b - Lead anodes in electrochemical oxygen sensors.","2(a) - Lead as an alloying element: Aluminium for machining purposes with a lead content up to 2% by weight  ","AL - Albania","Other","Maintenance","1.Requester-Supplier"]
[null,null,null,"mm","meter","mg","kilogram","m^2","Square Meter","g",null,null,"IAEG04 - Chromium Plating (Hard)","M-004 Copper and Its Alloys ",null,"EL2011_65_EU_ANNEX_IV","Chromium VI compounds","1(f) - Mercury in single capped (compact) fluorescent lamps not exceeding (per burner):For special purposes: 5 mg","2c - Mercury in straight fluorescent lamps for general purposes not exceeding 8 mg in triphosphate lamps with long lifetime.","1c - Lead, cadmium and mercury in infra-red light detectors.","2(b) - Lead as an alloying element: Aluminium with a lead content up to 1,5% by weight  ","DZ - Algeria",null,"Repair","2.Product-Group"]
[null,null,null,"mm^2","square mm",null,null,"m^3","Cube Meter","mg",null,null,"IAEG05 - Organic Coating (Bonding primer)","M-005 Magnesium and Its Alloys ",null,"EL2011_37_EU","Lead/lead compounds","1(g) - Mercury in single capped (compact) fluorescent lamps not exceeding (per burner):For general lighting purposes less than 30 W with a lifetime equal or above 20,000 h: 3.5 mg","3 - Mercury in straight fluorescent lamps for special\npurposes.","1d - Mercury in reference electrodes: low chloride mercury chloride, mercury sulphate and mercury oxide.","2(c) - Lead as an alloying element: Aluminium with a lead content up to 0,4% by weight  ","AS - American Samoa",null,"Overhaul/Refurbishment","3.Product-Statement"]
[null,null,null,"cm^2","square cm",null,null,"cm","Centimeter","unknown",null,null,"IAEG06 - Sealants (Organic polysulphide Sealing of structure)","M-006 Nickel and Its Alloys ",null,null,"Mercury/mercury compounds","2(b)(2) - Mercury in other fluorescent lamps not exceeding (per lamp):Non-linear halophosphate lamps (all diameters): 15 mg","4 - Mercury in other lamps not specifically mentioned in this Annex.","2 - Lead bearings in X-ray tubes.","3 - Lead as an alloying element: Copper alloy containing up to 4% lead by weight  ","AD - Andorra",null,null,"4.Substance-in-Product"]
[null,null,null,"m^2","square m",null,null,"cm^2","Square centimeter",null,null,null,"IAEG07 - Paint","M-007 Zinc and Its Alloys",null,null,null,"4(e) - Mercury in metal halide lamps (MH)","5 - Lead in glass of cathode ray tubes, electronic\ncomponents and fluorescent tubes.","3 - Lead in electromagnetic radiation amplification devices: micro-channel plate and capillary plate.","4(a) - Lead as an alloying element: Lead as an alloying element in bearing shells and bushes  ","AO - Angola",null,null,"5.Substance-in-Process"]
[null,null,null,"mm^3","cubic mm",null,null,"cm^3","Cube centimeter",null,null,null,"IAEG07 - Etchants for surface preparation for adhesive bonding","M-008 Precious Metals ",null,null,null,"4(f) - Mercury in other discharge lamps for special purposes not specially mentioned in this Annex","6 - Lead as an alloying element in steel containing up to 0,35 % lead by weight, aluminium containing up to 0,4% lead by weight and as a copper alloy containing up to 4% lead by weight.","4 - Lead in glass frit of X-ray tubes and image intensifiers and lead in glass frit binder for assembly of gas lasers and for vacuum tubes that convert electromagnetic radiation into electrons.","4(b) - Lead as an alloying element: Bearing shells and bushes in engines, transmissions and air conditioning compressors  ","AI - Anguilla",null,null,"6.Attachment"]
[null,null,null,"l","liter",null,null,"Liter",null,null,null,null,"IAEG08 - Bonding Pre-treatment","M-009 Other Non-ferrous Metals and Alloys",null,null,null,"5(a) - Lead in glass of cathode ray tubes","7a - Lead in high melting temperature type solders (i.e., lead based solder alloys containing 85% by weight or more lead)","5 - Lead in shielding for ionising radiation.","5 - Lead and lead compounds in components: Batteries  ","AQ - Antarctica",null,null,"7.Supplier-Authorization"]
[null,null,null,"cm^3","cubic cm",null,null,null,null,null,"IAEG09 - Anodizing of Magnesium alloys",null,"M-010 Ceramics / Glass",null,null,null,"5(b) - Lead in glass of fluorescent tubes not exceeding 0.2% by weight","7b - Lead in solders for servers, storage and storage array systems, network infrastructure equipment for switching, signaling, transmission as well as network management for telecommunications","6 - Lead in X-ray test objects.","6 - Lead and lead compounds in components: Vibration dampers  ",{"$f":"(S11& \" - \"&T11)","v":"6 - Lead in X-ray test objects. - 6 - Lead and lead compounds in components: Vibration dampers  "},"AG - Antigua and Barbuda",null,null,"TermsOfUse"]
[null,null,null,"m^3","cubic meter",null,null,null,null,null,"IAEG10 - Al/Al alloys deposition",null,"M-011 Other Inorganic Materials",null,null,null,"6(a) - Lead as an alloying element in steel for machining\npurposes and in galvanized steel containing up to 0.35%\nlead by weight","7c - Lead in electronic ceramic parts (e.g., piezoelectronic devices)","7 - Lead stearate X-ray diffraction crystals.","7(a) - Lead and lead compounds in components: Vulcanising agents and stabilisers for elastomers in brake hoses, fuel hoses, air ventilation hoses, elastomer/metal parts in the chassis applications, and engine mountings  ","7 - Lead stearate X-ray diffraction crystals. - 7(a) - Lead and lead compounds in components: Vulcanising agents and stabilisers for elastomers in brake hoses, fuel hoses, air ventilation hoses, elastomer/metal parts in the chassis applications, and engine mountings  ","AR - Argentina",null,null,"Substances-List"]
[null,null,null,null,null,null,null,null,null,null,"IAEG11 - Chemical Conversion Coating of Mg alloys",null,"M-010 Organic Materials",null,null,null,"6(b) - Lead as an alloying element in aluminium containing up to 0.4% lead by weight","8 - Cadmium and its compounds in electrical contacts and cadmium plating except for applications banned under Directive 91/338/EEC (1) amending Directive 76/769/EEC (2) relating to restrictions on the marketing and use of certain dangerous substances and preparations.","8 - Radioactive cadmium isotope source for portable X-ray fluorescence spectrometers.","7(b) - Lead and lead compounds in components: Vulcanising agents and stabilisers for elastomers in brake hoses, fuel hoses, air ventilation hoses, elastomer/metal parts in the chassis applications, and engine mountings containing up to 0,5% lead by weight  ","8 - Radioactive cadmium isotope source for portable X-ray fluorescence spectrometers. - 7(b) - Lead and lead compounds in components: Vulcanising agents and stabilisers for elastomers in brake hoses, fuel hoses, air ventilation hoses, elastomer/metal parts in the chassis applications, and engine mountings containing up to 0,5% lead by weight  ","AM - Armenia",null,null,"Use-Descriptor-List"]
[null,null,null,null,null,null,null,null,null,null,"IAEG12 - Sacrificial paint or coating systems eg Sermetel W, Ipcote",null,"M-012 PolyVinylChloride (PVC)",null,null,null,"6(c) - Copper alloy containing up to 4% lead by weight","9 - Hexavalent chromium as an anti-corrosion of the carbon steel cooling system in absorption refrigerators.","9 - Cadmium in helium-cadmium lasers.","7(c) - Lead and lead compounds in components: Bonding agents for elastomers in powertrain applications containing up to 0,5% lead by weight  ","9 - Cadmium in helium-cadmium lasers. - 7(c) - Lead and lead compounds in components: Bonding agents for elastomers in powertrain applications containing up to 0,5% lead by weight  ","AW - Aruba"]
[null,null,null,null,null,null,null,null,null,null,"IAEG13 - Zn/Zn alloys plating",null,"M-013 Thermoplastics",null,null,null,"7(a) - Lead in high melting temperature type solders (i.e., lead-based alloys containing 85% by weight or\nmore lead)","9b - Lead in lead-bronze bearing shells and bushes.","10 - Lead and cadmium in atomic absorption spectroscopy lamps.","8(a) - Lead and lead compounds in components: Lead in solders to attach electrical and electronic components to electronic circuit boards and lead in finishes on terminations of components other than electrolyte aluminium capacitors, on component pins and on electronic circuit boards  ","10 - Lead and cadmium in atomic absorption spectroscopy lamps. - 8(a) - Lead and lead compounds in components: Lead in solders to attach electrical and electronic components to electronic circuit boards and lead in finishes on terminations of components other than electrolyte aluminium capacitors, on component pins and on electronic circuit boards  ","AU - Australia"]
[null,null,null,null,null,null,null,null,null,null,"IAEG14 -Decorative Chromium Plating",null,"M-014 Other Plastics & Rubber",null,null,null,"7(b) - Lead in solders for servers, storage and storage array systems, network infrastructure equipment for switching, signalling, transmission, and network management for telecommunications","11 - Lead used in compliant pin connector systems.","11 - Lead in alloys as a superconductor and thermal conductor in MRI.","8(b) - Lead and lead compounds in components: Lead in solders in electrical applications other than soldering on electronic circuit boards or on glass  ","11 - Lead in alloys as a superconductor and thermal conductor in MRI. - 8(b) - Lead and lead compounds in components: Lead in solders in electrical applications other than soldering on electronic circuit boards or on glass  ","AT - Austria"]
[null,null,null,null,null,null,null,null,null,null,"IAEG15 - Black Chromium plate",null,"M-015 Other Organic Materials",null,null,null,"7(c)-I - Electrical and electronic components containing lead in a glass or ceramic other than dielectric ceramic in capacitors, e.g., piezoelectronic devices, or in a glass\nor ceramic matrix compound","12 - Lead as a coating material for the thermal conduction module c-ring.","12 - Lead and cadmium in metallic bonds creating superconducting magnetic circuits in MRI, SQUID, NMR (Nuclear Magnetic Resonance) or FTMS (Fourier Transform Mass Spectrometer) detectors. Expires on 30 June 2021.","8(c) - Lead and lead compounds in components: Lead in finishes on terminals of electrolyte aluminium capacitors  ","12 - Lead and cadmium in metallic bonds creating superconducting magnetic circuits in MRI, SQUID, NMR (Nuclear Magnetic Resonance) or FTMS (Fourier Transform Mass Spectrometer) detectors. Expires on 30 June 2021. - 8(c) - Lead and lead compounds in components: Lead in finishes on terminals of electrolyte aluminium capacitors  ","AZ - Azerbaijan"]
[null,null,null,null,null,null,null,null,null,null,"IAEG16 - Anodizing of Titanium alloys",null,null,null,null,null,"7(c)-II - Lead in dielectric ceramic in capacitors for a rated voltage of 125 V AC or 250 V DC or higher","13 - Lead and cadmium in optical and filter glass.","13 - Lead in counterweights.","8(d) - Lead and lead compounds in components: Lead used in soldering on glass in mass airflow sensors  ","13 - Lead in counterweights. - 8(d) - Lead and lead compounds in components: Lead used in soldering on glass in mass airflow sensors  ","BS - Bahamas"]
[null,null,null,null,null,null,null,null,null,null,"IAEG17 - Al/Al alloys plating",null,null,null,null,null,"7(c)-IV - Lead in PZT based dielectric ceramic materials for capacitors being part of integrated circuits or discrete semiconductors","14 - Lead in solders consisting of more than two elements for the connection between the pins and the package of microprocessors with a lead content of more than 80% and less than 85% by weight.","14 - Lead in single crystal piezoelectric materials for ultrasonic transducers.","8(e) - Lead and lead compounds in components: Lead in high melting temperature type solders (i.e. lead-based alloys containing 85 % by weight or more lead)  ","14 - Lead in single crystal piezoelectric materials for ultrasonic transducers. - 8(e) - Lead and lead compounds in components: Lead in high melting temperature type solders (i.e. lead-based alloys containing 85 % by weight or more lead)  ","BH - Bahrain"]
[null,null,null,null,null,null,null,null,null,null,"IAEG18 -\"Silicon modified aluminium slurry for high temperature diffusion coatings eg Sermaloy J and IPAL1041\"",null,null,null,null,null,"8(b) - Cadmium and its compounds in electrical contacts","15 - Lead in solders to complete a viable electrical connection\nbetween semiconductor die and carrier within integrated\ncircuit Flip Chip packages","15 - Lead in solders for bonding to ultrasonic transducers.","8(f) - Lead and lead compounds in components: Lead in compliant pin connector systems  ","15 - Lead in solders for bonding to ultrasonic transducers. - 8(f) - Lead and lead compounds in components: Lead in compliant pin connector systems  ","BD - Bangladesh"]
[null,null,null,null,null,null,null,null,null,null,"IAEG19 - Other",null,null,null,null,null,"9 - Hexavalent chromium as an anticorrosion agent of the carbon steel cooling system in absorption refrigerators up to 0.75% by weight in the cooling solution","16 - Lead in linear incandescent lamps with silicate coated tubes.","16 - Mercury in very high accuracy capacitance and loss measurement bridges and in high frequency RF switches and relays in monitoring and control instruments not exceeding 20 mg of mercury per switch or relay.","8(g) - Lead and lead compounds in components: Lead in solders to complete a viable electrical connection between semiconductor die and carrier within integrated circuit flip chip packages  ","16 - Mercury in very high accuracy capacitance and loss measurement bridges and in high frequency RF switches and relays in monitoring and control instruments not exceeding 20 mg of mercury per switch or relay. - 8(g) - Lead and lead compounds in components: Lead in solders to complete a viable electrical connection between semiconductor die and carrier within integrated circuit flip chip packages  ","BB - Barbados"]
[null,null,null,null,null,null,null,null,null,null,null,null,null,null,null,null,"9(b) - Lead in bearing shells and bushes for refrigerantcontaining compressors for heating, ventilation, air conditioning and refrigeration (HVACR) applications","17 - Lead halide as radiant agent in High Intensity Discharge (HID) lamps used for professional reprography applications.","17 - Lead in solders in portable emergency defibrillators.","8(h) - Lead and lead compounds in components: Lead in solder to attach heat spreaders to the heat sink in power semiconductor assemblies with a chip size of at least 1 cm2 of projection area and a nominal current density of at least 1 A/mm2 of silicon chip area  ","17 - Lead in solders in portable emergency defibrillators. - 8(h) - Lead and lead compounds in components: Lead in solder to attach heat spreaders to the heat sink in power semiconductor assemblies with a chip size of at least 1 cm2 of projection area and a nominal current density of at least 1 A/mm2 of silicon chip area  ","BY - Belarus"]
[null,null,null,null,null,null,null,null,null,null,null,null,null,null,null,null,"13(a) - Lead in white glasses used for optical  applications","18 - Lead as activator in the fluorescent powder (1% lead by weight or less) of discharge lamps when used as sun tanning lamps containing phosphors such as BSP (BaSi2O5:Pb) as well as when used as specialty lamps for diazoprinting reprography, lithography, insect traps, photochemical and curing processes containing phosphors such as SMS ((Sr,Ba)2MgSi2O7:Pb).","18 - Lead in solders of high performance infrared imaging modules to detect in the range 8-14 micrometer.","8(i) - Lead and lead compounds in components: Lead in solders in electrical glazing applications on glass except for soldering in laminated glazing  ","18 - Lead in solders of high performance infrared imaging modules to detect in the range 8-14 micrometer. - 8(i) - Lead and lead compounds in components: Lead in solders in electrical glazing applications on glass except for soldering in laminated glazing  ","BE - Belgium"]
[null,null,null,null,null,null,null,null,null,null,null,null,null,null,null,null,"13(b) - Cadmium and lead in filter glasses and glasses used for reflectance standards","19 - Lead with PbBiSn-Hg and PbInSn-Hg in specific\ncompositions as main amalgam and with PbSn-Hg as auxiliary amalgam in very compact Energy Saving Lamps (ESL).","19 - Lead in Liquid crystal on silicon (LCoS) displays.","8(j) - Lead and lead compounds in components: Lead in solders for soldering in laminated glazing  ","19 - Lead in Liquid crystal on silicon (LCoS) displays. - 8(j) - Lead and lead compounds in components: Lead in solders for soldering in laminated glazing  ","BZ - Belize"]
[null,null,null,null,null,null,null,null,null,null,null,null,null,null,null,null,"15 - Lead in solders to complete a viable electrical connection between semiconductor die and carrier within integrated circuit flip chip packages","20 - Lead oxide in glass used for bonding front and rear substrates of flat fluorescent lamps used for Liquid Crystal Displays (LCD).","20 - Cadmium in X-ray measurement filters.","9 - Lead and lead compounds in components: Valve seats  ","20 - Cadmium in X-ray measurement filters. - 9 - Lead and lead compounds in components: Valve seats  ","BJ - Benin"]
[null,null,null,null,null,null,null,null,null,null,null,null,null,null,null,null,"17 - Lead halide as radiant agent in high intensity discharge  (HID) lamps used for professional reprography applications","21 - Lead and cadmium in printing inks for the application of  enamels on borosilicate glass.","21 - Cadmium in phosphor coatings in image intensifiers for X-ray images until 31 December 2019 and in spare parts for X-ray systems placed on the EU market before 1 January 2020.","10(a) - Lead and lead compounds in components: Electrical and electronic components which contain lead in a glass or ceramic, in a glass or ceramic matrix compound, in a glass-ceramic material, or in a glass-ceramic matrix compound. This exemption does not cover the use of lead in: - glass in bulbs and glaze of spark plugs, - dielectric ceramic materials of components listed under 10(b), 10(c) and 10(d).  ","21 - Cadmium in phosphor coatings in image intensifiers for X-ray images until 31 December 2019 and in spare parts for X-ray systems placed on the EU market before 1 January 2020. - 10(a) - Lead and lead compounds in components: Electrical and electronic components which contain lead in a glass or ceramic, in a glass or ceramic matrix compound, in a glass-ceramic material, or in a glass-ceramic matrix compound. This exemption does not cover the use of lead in: - glass in bulbs and glaze of spark plugs, - dielectric ceramic materials of components listed under 10(b), 10(c) and 10(d).  ","BM - Bermuda"]
[null,null,null,null,null,null,null,null,null,null,null,null,null,null,null,null,"18(b) - Lead as activator in the fluorescent powder (1% lead by weight or less) of discharge lamps when used as\nsun tanning lamps containing phosphors such as BSP\n(BaSi2O5:Pb)","23 - Lead in finishes of fine pitch components other than connectors with a pitch of 0.65 mm or less with NiFe lead frames and lead in finishes of fine pitch components other than connectors with a pitch of 0.65 mm or less with copper lead frames.","22 - Lead acetate marker for use in stereotactic head frames for use with CT and MRI and in positioning systems for gamma beam and particle therapy equipment. Expires on 30 June 2021.","10(b) - Lead and lead compounds in components: Lead in PZT based dielectric ceramic materials of capacitors being part of integrated circuits or discrete semiconductors  ","22 - Lead acetate marker for use in stereotactic head frames for use with CT and MRI and in positioning systems for gamma beam and particle therapy equipment. Expires on 30 June 2021. - 10(b) - Lead and lead compounds in components: Lead in PZT based dielectric ceramic materials of capacitors being part of integrated circuits or discrete semiconductors  ","BT - Bhutan"]
[null,null,null,null,null,null,null,null,null,null,null,null,null,null,null,null,"21 - Lead and cadmium in printing inks for the application of enamels on glasses, such as borosilicate and soda lime glasses","24- Lead in solders for the soldering to machined through  hole discoidal and planar array ceramic multilayer capacitors.","23 - Lead as an alloying element for bearings and wear surfaces in medical equipment exposed to ionising radiation. Expires on 30 June 2021.","10(c) - Lead and lead compounds in components: Lead in dielectric ceramic materials of capacitors with a rated voltage of less than 125 V AC or 250 V DC  ","23 - Lead as an alloying element for bearings and wear surfaces in medical equipment exposed to ionising radiation. Expires on 30 June 2021. - 10(c) - Lead and lead compounds in components: Lead in dielectric ceramic materials of capacitors with a rated voltage of less than 125 V AC or 250 V DC  ","BO - Bolivia (Plurinational State of)"]
[null,null,null,null,null,null,null,null,null,null,null,null,null,null,null,null,"24  - Lead in solders for the soldering to machined through hole discoidal and planar array ceramic multilayer capacitors","25 - Lead oxide in plasma display panels (PDP) and surface conduction electron emitter displays (SED) used in  structural elements; notably in the front and rear glass dielectric layer, the bus electrode, the black stripe, the address electrode, the barrier ribs, the seal frit and frit ring as well as in print pastes.","24 - Lead enabling vacuum tight connections between aluminium and steel in X-ray image intensifiers. Expires on 31 December 2019.","10(d) - Lead and lead compounds in components: Lead in the dielectric ceramic materials of capacitors compensating the temperature-related deviations of sensors in ultrasonic sonar systems  ","24 - Lead enabling vacuum tight connections between aluminium and steel in X-ray image intensifiers. Expires on 31 December 2019. - 10(d) - Lead and lead compounds in components: Lead in the dielectric ceramic materials of capacitors compensating the temperature-related deviations of sensors in ultrasonic sonar systems  ","BQ - Bonaire, Sint Eustatius and Saba"]
[null,null,null,null,null,null,null,null,null,null,null,null,null,null,null,null,"25 - Lead oxide in surface conduction electron emitter displays (SED) used in structural elements, notably in the seal frit and frit ring","26 - Lead oxide in the glass envelope of Black Light Blue (BLB) lamps.","25 - Lead in the surface coatings of pin connector systems requiring nonmagnetic connectors which are used durably at a temperature below -20°C under normal operating and storage conditions. Expires on 30 June 2021.","11 - Lead and lead compounds in components: Pyrotechnic initiators  ","25 - Lead in the surface coatings of pin connector systems requiring nonmagnetic connectors which are used durably at a temperature below -20°C under normal operating and storage conditions. Expires on 30 June 2021. - 11 - Lead and lead compounds in components: Pyrotechnic initiators  ","BA - Bosnia and Herzegovina"]
[null,null,null,null,null,null,null,null,null,null,null,null,null,null,null,null,"29 - Lead bound in crystal glass as defined in Annex I\n(Categories 1, 2, 3 and 4) of Council Directive 69/493/\nEEC","29 - Lead bound in crystal glass as defined in Annex I (Categories 1, 2, 3 and 4) of Council Directive 69/493/EEC.","26 - Lead in solders on printed circuit boards, termination coatings of electrical and electronic components and coatings of printed circuit boards, solders for connecting wires and cables, solders connecting transducers and sensors, that are used durably at a temperature below -20°C under normal operating and storage conditions. Expires on 30 June 2021.","12 - Lead and lead compounds in components: Lead-containing thermoelectric materials in automotive electrical applications to reduce CO2 emissions by recuperation of exhaust heat  ","26 - Lead in solders on printed circuit boards, termination coatings of electrical and electronic components and coatings of printed circuit boards, solders for connecting wires and cables, solders connecting transducers and sensors, that are used durably at a temperature below -20°C under normal operating and storage conditions. Expires on 30 June 2021. - 12 - Lead and lead compounds in components: Lead-containing thermoelectric materials in automotive electrical applications to reduce CO2 emissions by recuperation of exhaust heat  ","BW - Botswana"]
[null,null,null,null,null,null,null,null,null,null,null,null,null,null,null,null,"30 - Cadmium alloys as electrical/mechanical solder joints to electrical conductors located directly on the voice coil in transducers used in high-powered loudspeakers with sound pressure levels of 100 dB (A) and more","30 - Cadmium alloys as electrical/mechanical solder joints to electrical conductors located directly on the voice coil in transducers used in high-powered loudspeakers with sound pressure levels of 100 dB (A) and more.","27 - Lead in solders, termination coatings of electrical and electronic components and printed circuit boards, connections of electrical wires, shields and enclosed connectors, which are used in (a) magnetic fields within the sphere of 1 m radius around the isocenter of the magnet in medical magnetic resonance imaging equipment, including patient monitors designed to be used within this sphere, or (b) magnetic fields within 1 m distance from the external surfaces of cyclotron magnets, magnets for beam transport and beam direction control applied for particle therapy. Expires on 30 June 2020.","13(a) - Hexavalent chromium: Corrosion preventive coatings  ","27 - Lead in solders, termination coatings of electrical and electronic components and printed circuit boards, connections of electrical wires, shields and enclosed connectors, which are used in (a) magnetic fields within the sphere of 1 m radius around the isocenter of the magnet in medical magnetic resonance imaging equipment, including patient monitors designed to be used within this sphere, or (b) magnetic fields within 1 m distance from the external surfaces of cyclotron magnets, magnets for beam transport and beam direction control applied for particle therapy. Expires on 30 June 2020. - 13(a) - Hexavalent chromium: Corrosion preventive coatings  ","BV - Bouvet Island"]
[null,null,null,null,null,null,null,null,null,null,null,null,null,null,null,null,"31 -Lead in soldering materials in mercury free flat fluorescent lamps (which e.g., are used for liquid crystal displays, design or industrial lighting)","31 - Lead in soldering materials in mercury free flat fluorescent lamps (which e.g., are used for liquid crystal displays, design or industrial lighting).","28 - Lead in solders for mounting cadmium telluride and cadmium zinc telluride digital array detectors to printed circuit boards. Expires on 31 December 2017.","13(b) - Hexavalent chromium: Corrosion preventive coatings related to bolt and nut assemblies for chassis applications  ","28 - Lead in solders for mounting cadmium telluride and cadmium zinc telluride digital array detectors to printed circuit boards. Expires on 31 December 2017. - 13(b) - Hexavalent chromium: Corrosion preventive coatings related to bolt and nut assemblies for chassis applications  ","BR - Brazil"]
[null,null,null,null,null,null,null,null,null,null,null,null,null,null,null,null,"32 - Lead oxide in seal frit used for making window\nassemblies for Argon and Krypton laser tubes","32 - Lead oxide in seal frit used for making window\nassemblies for Argon and Krypton laser tubes","29 - Lead in alloys, as a superconductor or thermal conductor, used in cryo-cooler cold heads and/or in cryo-cooled cold probes and/or in cryo-cooled equipotential bonding systems, in medical devices (category 8) and/or in industrial monitoring and control instruments. Expires on 30 June 2021.","14 - Hexavalent chromium: As an anti-corrosion agent of the carbon steel cooling system in absorption refrigerators in motor-caravans up to 0,75 weight-% in the cooling solution except where the use of other cooling technologies is practicable (i.e. available on the market for the application in motor caravans) and does not lead to negative environmental, health and/or consumer safety impacts  ","29 - Lead in alloys, as a superconductor or thermal conductor, used in cryo-cooler cold heads and/or in cryo-cooled cold probes and/or in cryo-cooled equipotential bonding systems, in medical devices (category 8) and/or in industrial monitoring and control instruments. Expires on 30 June 2021. - 14 - Hexavalent chromium: As an anti-corrosion agent of the carbon steel cooling system in absorption refrigerators in motor-caravans up to 0,75 weight-% in the cooling solution except where the use of other cooling technologies is practicable (i.e. available on the market for the application in motor caravans) and does not lead to negative environmental, health and/or consumer safety impacts  ","IO - British Indian Ocean Territory"]
[null,null,null,null,null,null,null,null,null,null,null,null,null,null,null,null,"33 - Lead in solders for the soldering of thin copper wires of 100 micrometer diameter and less in power transformers","33 - Lead in solders for the soldering of thin copper wires of 100 μm diameter and less in power transformers.","30 - Hexavalent chromium in alkali dispensers used to create photocathodes in X-ray image intensifiers until 31 December 2019 and in spare parts for X-ray systems placed on the EU market before 1 January 2020.","15(a) - Mercury: Discharge lamps for headlight application  ","30 - Hexavalent chromium in alkali dispensers used to create photocathodes in X-ray image intensifiers until 31 December 2019 and in spare parts for X-ray systems placed on the EU market before 1 January 2020. - 15(a) - Mercury: Discharge lamps for headlight application  ","BN - Brunei Darussalam"]
[null,null,null,null,null,null,null,null,null,null,null,null,null,null,null,null,"34 - Lead in cermet-based trimmer potentiometer elements","34 - Lead in cermet-based trimmer potentiometer elements","31 -Lead, cadmium and hexavalent chromium in reused spare parts, recovered from medical devices placed on the market before 22 July 2014 and used in category 8 equipment placed on the market before 22 July 2021, provided that reuse takes place in auditable closed-loop business-to-business return systems, and that the reuse of parts is notified to the consumer. Expires on 21 July 2021.","15(b) - Mercury: Fluorescent tubes used in instrument panel displays  ","31 -Lead, cadmium and hexavalent chromium in reused spare parts, recovered from medical devices placed on the market before 22 July 2014 and used in category 8 equipment placed on the market before 22 July 2021, provided that reuse takes place in auditable closed-loop business-to-business return systems, and that the reuse of parts is notified to the consumer. Expires on 21 July 2021. - 15(b) - Mercury: Fluorescent tubes used in instrument panel displays  ","BG - Bulgaria"]
[null,null,null,null,null,null,null,null,null,null,null,null,null,null,null,null,"37 - Lead in the plating layer of high voltage diodes on the basis of a zinc borate glass body","37 - Lead in the plating layer of high voltage diodes on the  basis of a zinc borate glass body.","32 - Lead in solders on printed circuit boards of detectors and data acquisition units for Positron Emission Tomographs which are integrated into Magnetic Resonance Imaging equipment. Expires on 31 December 2019.","16 - Cadmium: Batteries for electrical vehicles  ","32 - Lead in solders on printed circuit boards of detectors and data acquisition units for Positron Emission Tomographs which are integrated into Magnetic Resonance Imaging equipment. Expires on 31 December 2019. - 16 - Cadmium: Batteries for electrical vehicles  ","BF - Burkina Faso"]
[null,null,null,null,null,null,null,null,null,null,null,null,null,null,null,null,"38 - Cadmium and cadmium oxide in thick film pastes used on aluminium bonded beryllium oxide","38 - Cadmium and cadmium oxide in thick film pastes used on aluminium bonded beryllium oxide.","33 - Lead in solders on populated printed circuit boards used in Directive 93/42/EEC class IIa and IIb mobile medical devices other than portable emergency defibrillators. Expires on 30 June 2016 for class IIa and on 31 December 2020 for class IIb.",null,"33 - Lead in solders on populated printed circuit boards used in Directive 93/42/EEC class IIa and IIb mobile medical devices other than portable emergency defibrillators. Expires on 30 June 2016 for class IIa and on 31 December 2020 for class IIb. - ","BI - Burundi"]
[null,null,null,null,null,null,null,null,null,null,null,null,null,null,null,null,"39 - Cadmium in colour converting II-VI LEDs (less than\n10 microgram Cd per mm 2 of light-emitting area) for\nuse in solid state illumination or display systems","39 - Cadmium in colour-converting II-VI LEDs (<10 μg Cd per mm 2 of light-emitting area) for use in solid state illumination or display systems","34 - Lead as an activator in the fluorescent powder of discharge lamps when used for extracorporeal photopheresis lamps containing BSP (BaSi2O5:Pb) phosphors. Expires on 22 July 2021.",null,"34 - Lead as an activator in the fluorescent powder of discharge lamps when used for extracorporeal photopheresis lamps containing BSP (BaSi2O5:Pb) phosphors. Expires on 22 July 2021. - ","KH - Cambodia"]
[null,null,null,null,null,null,null,null,null,null,null,null,null,null,null,null,null,null,"35 - Mercury in cold cathode fluorescent lamps for back-lighting liquid crystal displays, not exceeding 5 mg per lamp, used in industrial monitoring and control instruments placed on the market before 22 July 2017. Expires on 21 July 2024.",null,"35 - Mercury in cold cathode fluorescent lamps for back-lighting liquid crystal displays, not exceeding 5 mg per lamp, used in industrial monitoring and control instruments placed on the market before 22 July 2017. Expires on 21 July 2024. - ","CM - Cameroon"]
[null,null,null,null,null,null,null,null,null,null,null,null,null,null,null,null,null,null,"36 - Lead used in other than C-press compliant pin connector systems for industrial monitoring and control instruments. Expires on 31 December 2020. May be used after that date in spare parts for industrial monitoring and control instruments placed on the market before 1 January 2021.",null,"36 - Lead used in other than C-press compliant pin connector systems for industrial monitoring and control instruments. Expires on 31 December 2020. May be used after that date in spare parts for industrial monitoring and control instruments placed on the market before 1 January 2021. - ","CA - Canada"]
[null,null,null,null,null,null,null,null,null,null,null,null,null,null,null,null,null,null,"37 - Lead in platinized platinum electrodes used for conductivity measurements where at least one of the following conditions applies: (a) wide-range measurements with a conductivity range covering more than 1 order of magnitude (e.g. range between 0.1 mS/m and 5 mS/m) in laboratory applications for unknown concentrations; (b) measurements of solutions where an accuracy of +/– 1 % of the sample range and where high corrosion resistance of the electrode are required for any of the following: (i) solutions with an acidity less than pH 1; (ii) solutions with an alkalinity greater than pH 13; (iii) corrosive solutions containing halogen gas; (c) measurements of conductivities above 100 mS/m that must be performed with portable instruments. Expires on 31 December 2018. ",null,"37 - Lead in platinized platinum electrodes used for conductivity measurements where at least one of the following conditions applies: (a) wide-range measurements with a conductivity range covering more than 1 order of magnitude (e.g. range between 0.1 mS/m and 5 mS/m) in laboratory applications for unknown concentrations; (b) measurements of solutions where an accuracy of +/– 1 % of the sample range and where high corrosion resistance of the electrode are required for any of the following: (i) solutions with an acidity less than pH 1; (ii) solutions with an alkalinity greater than pH 13; (iii) corrosive solutions containing halogen gas; (c) measurements of conductivities above 100 mS/m that must be performed with portable instruments. Expires on 31 December 2018.  - ","CV - Cabo Verde"]
[null,null,null,null,null,null,null,null,null,null,null,null,null,null,null,null,null,null,"38 - Lead in solder in one interface of large area stacked die elements with more than 500 interconnects per interface which are used in X-ray detectors of computed tomography and X-ray systems. Expires on 31 December 2019. May be used after that date in spare parts for CT and X-ray systems placed on the market before 1 January 2020.",null,"38 - Lead in solder in one interface of large area stacked die elements with more than 500 interconnects per interface which are used in X-ray detectors of computed tomography and X-ray systems. Expires on 31 December 2019. May be used after that date in spare parts for CT and X-ray systems placed on the market before 1 January 2020. - ","KY - Cayman Islands"]
[null,null,null,null,null,null,null,null,null,null,null,null,null,null,null,null,null,null,"39 - Lead in micro-channel plates (MCPs) used in equipment where at least one of the following properties is present: (a) a compact size of the detector for electrons or ions, where the space for the detector is limited to a maximum of 3 mm/MCP (detector thickness + space for installation of the MCP), a maximum of 6 mm in total, and an alternative design yielding more space for the detector is scientifically and technically impracticable; (b) a two-dimensional spatial resolution for detecting electrons or ions, where at least one of the following applies: (i) a response time shorter than 25 ns; (ii) a sample detection area larger than 149 mm2; (iii) a multiplication factor larger than 1.3 × 103. (c) a response time shorter than 5 ns for detecting electrons or ions; (d) a sample detection area larger than 314 mm2 for detecting electrons or ions; (e) a multiplication factor larger than 4.0 × 107. The exemption expires on the following dates: (a) 21 July 2021 for medical devices and monitoring and control instruments; (b) 21 July 2023 for in-vitro diagnostic medical devices; (c) 21 July 2024 for industrial monitoring and control instruments.",null,"39 - Lead in micro-channel plates (MCPs) used in equipment where at least one of the following properties is present: (a) a compact size of the detector for electrons or ions, where the space for the detector is limited to a maximum of 3 mm/MCP (detector thickness + space for installation of the MCP), a maximum of 6 mm in total, and an alternative design yielding more space for the detector is scientifically and technically impracticable; (b) a two-dimensional spatial resolution for detecting electrons or ions, where at least one of the following applies: (i) a response time shorter than 25 ns; (ii) a sample detection area larger than 149 mm2; (iii) a multiplication factor larger than 1.3 × 103. (c) a response time shorter than 5 ns for detecting electrons or ions; (d) a sample detection area larger than 314 mm2 for detecting electrons or ions; (e) a multiplication factor larger than 4.0 × 107. The exemption expires on the following dates: (a) 21 July 2021 for medical devices and monitoring and control instruments; (b) 21 July 2023 for in-vitro diagnostic medical devices; (c) 21 July 2024 for industrial monitoring and control instruments. - ","CF - Central African Republic"]
[null,null,null,null,null,null,null,null,null,null,null,null,null,null,null,null,null,null,"40 - Lead in dielectric ceramic in capacitors for a rated voltage of less than 125 V AC or 250 V DC for industrial monitoring and control instruments. Expires on 31 December 2020. May be used after that date in spare parts for industrial monitoring and control instruments placed on the market before 1 January 2021.",null,"40 - Lead in dielectric ceramic in capacitors for a rated voltage of less than 125 V AC or 250 V DC for industrial monitoring and control instruments. Expires on 31 December 2020. May be used after that date in spare parts for industrial monitoring and control instruments placed on the market before 1 January 2021. - ","TD - Chad"]
[null,null,null,null,null,null,null,null,null,null,null,null,null,null,null,null,null,null,null,null," - ","CL - Chile"]
[null,null,null,null,null,null,null,null,null,null,null,null,null,null,null,null,null,null,null,null," - ","CN - China"]
[null,null,null,null,null,null,null,null,null,null,null,null,null,null,null,null,null,null,null,null," - ","CX - Christmas Island"]
[null,null,null,null,null,null,null,null,null,null,null,null,null,null,null,null,null,null,null,null," - ","CC - Cocos (Keeling) Islands"]
[null,null,null,null,null,null,null,null,null,null,null,null,null,null,null,null,null,null,null,null," - ","CO - Colombia"]
[null,null,null,null,null,null,null,null,null,null,null,null,null,null,null,null,null,null,null,null," - ","KM - Comoros"]
[null,null,null,null,null,null,null,null,null,null,null,null,null,null,null,null,null,null,null,null," - ","CG - Congo"]
[null,null,null,null,null,null,null,null,null,null,null,null,null,null,null,null,null,null,null,null," - ","CD - Congo (Democratic Republic of the)"]
[null,null,null,null,null,null,null,null,null,null,null,null,null,null,null,null,null,null,null,null," - ","CK - Cook Islands"]
[null,null,null,null,null,null,null,null,null,null,null,null,null,null,null,null,null,null,null,null," - ","CR - Costa Rica"]
[null,null,null,null,null,null,null,null,null,null,null,null,null,null,null,null,null,null,null,null," - ","CI - Cote d'Ivoire"]
[null,null,null,null,null,null,null,null,null,null,null,null,null,null,null,null,null,null,null,null," - ","HR - Croatia"]
[null,null,null,null,null,null,null,null,null,null,null,null,null,null,null,null,null,null,null,null," - ","CU - Cuba"]
[null,null,null,null,null,null,null,null,null,null,null,null,null,null,null,null,null,null,null,null," - ","CW - Curacao !Curaçao"]
[null,null,null,null,null,null,null,null,null,null,null,null,null,null,null,null,null,null,null,null," - ","CY - Cyprus"]
[null,null,null,null,null,null,null,null,null,null,null,null,null,null,null,null,null,null,null,null," - ","CZ - Czech Republic"]
[null,null,null,null,null,null,null,null,null,null,null,null,null,null,null,null,null,null,null,null," - ","DK - Denmark"]
[null,null,null,null,null,null,null,null,null,null,null,null,null,null,null,null,null,null,null,null," - ","DJ - Djibouti"]
[null,null,null,null,null,null,null,null,null,null,null,null,null,null,null,null,null,null,null,null," - ","DM - Dominica"]
[null,null,null,null,null,null,null,null,null,null,null,null,null,null,null,null,null,null,null,null," - ","DO - Dominican Republic"]
[null,null,null,null,null,null,null,null,null,null,null,null,null,null,null,null,null,null,null,null,{"$f":"(S66& \" - \"&T66)","v":" - "},"EC - Ecuador"]
[null,null,null,null,null,null,null,null,null,null,null,null,null,null,null,null,null,null,null,null," - ","EG - Egypt"]
[null,null,null,null,null,null,null,null,null,null,null,null,null,null,null,null,null,null,null,null," - ","SV - El Salvador"]
[null,null,null,null,null,null,null,null,null,null,null,null,null,null,null,null,null,null,null,null," - ","GQ - Equatorial Guinea"]
[null,null,null,null,null,null,null,null,null,null,null,null,null,null,null,null,null,null,null,null," - ","ER - Eritrea"]
[null,null,null,null,null,null,null,null,null,null,null,null,null,null,null,null,null,null,null,null," - ","EE - Estonia"]
[null,null,null,null,null,null,null,null,null,null,null,null,null,null,null,null,null,null,null,null," - ","ET - Ethiopia"]
[null,null,null,null,null,null,null,null,null,null,null,null,null,null,null,null,null,null,null,null," - ","FK - Falkland Islands (Malvinas)"]
[null,null,null,null,null,null,null,null,null,null,null,null,null,null,null,null,null,null,null,null," - ","FO - Faroe Islands"]
[null,null,null,null,null,null,null,null,null,null,null,null,null,null,null,null,null,null,null,null," - ","FJ - Fiji"]
[null,null,null,null,null,null,null,null,null,null,null,null,null,null,null,null,null,null,null,null," - ","FI - Finland"]
[null,null,null,null,null,null,null,null,null,null,null,null,null,null,null,null,null,null,null,null," - ","FR - France"]
[null,null,null,null,null,null,null,null,null,null,null,null,null,null,null,null,null,null,null,null," - ","GF - French Guiana"]
[null,null,null,null,null,null,null,null,null,null,null,null,null,null,null,null,null,null,null,null," - ","PF - French Polynesia"]
[null,null,null,null,null,null,null,null,null,null,null,null,null,null,null,null,null,null,null,null," - ","TF - French Southern Territories"]
[null,null,null,null,null,null,null,null,null,null,null,null,null,null,null,null,null,null,null,null," - ","GA - Gabon"]
[null,null,null,null,null,null,null,null,null,null,null,null,null,null,null,null,null,null,null,null," - ","GM - Gambia"]
[null,null,null,null,null,null,null,null,null,null,null,null,null,null,null,null,null,null,null,null," - ","GE - Georgia"]
[null,null,null,null,null,null,null,null,null,null,null,null,null,null,null,null,null,null,null,null," - ","DE - Germany"]
[null,null,null,null,null,null,null,null,null,null,null,null,null,null,null,null,null,null,null,null," - ","GH - Ghana"]
[null,null,null,null,null,null,null,null,null,null,null,null,null,null,null,null,null,null,null,null," - ","GI - Gibraltar"]
[null,null,null,null,null,null,null,null,null,null,null,null,null,null,null,null,null,null,null,null," - ","GR - Greece"]
[null,null,null,null,null,null,null,null,null,null,null,null,null,null,null,null,null,null,null,null," - ","GL - Greenland"]
[null,null,null,null,null,null,null,null,null,null,null,null,null,null,null,null,null,null,null,null," - ","GD - Grenada"]
[null,null,null,null,null,null,null,null,null,null,null,null,null,null,null,null,null,null,null,null," - ","GP - Guadeloupe"]
[null,null,null,null,null,null,null,null,null,null,null,null,null,null,null,null,null,null,null,null," - ","GU - Guam"]
[null,null,null,null,null,null,null,null,null,null,null,null,null,null,null,null,null,null,null,null," - ","GT - Guatemala"]
[null,null,null,null,null,null,null,null,null,null,null,null,null,null,null,null,null,null,null,null," - ","GG - Guernsey"]
[null,null,null,null,null,null,null,null,null,null,null,null,null,null,null,null,null,null,null,null," - ","GN - Guinea"]
[null,null,null,null,null,null,null,null,null,null,null,null,null,null,null,null,null,null,null,null," - ","GW - Guinea-Bissau"]
[null,null,null,null,null,null,null,null,null,null,null,null,null,null,null,null,null,null,null,null," - ","GY - Guyana"]
[null,null,null,null,null,null,null,null,null,null,null,null,null,null,null,null,null,null,null,null," - ","HT - Haiti"]
[null,null,null,null,null,null,null,null,null,null,null,null,null,null,null,null,null,null,null,null," - ","HM - Heard Island and McDonald Islands"]
[null,null,null,null,null,null,null,null,null,null,null,null,null,null,null,null,null,null,null,null," - ","VA - Holy See"]
[null,null,null,null,null,null,null,null,null,null,null,null,null,null,null,null,null,null,null,null," - ","HN - Honduras"]
[null,null,null,null,null,null,null,null,null,null,null,null,null,null,null,null,null,null,null,null," - ","HK - Hong Kong"]
[null,null,null,null,null,null,null,null,null,null,null,null,null,null,null,null,null,null,null,null," - ","HU - Hungary"]
[null,null,null,null,null,null,null,null,null,null,null,null,null,null,null,null,null,null,null,null," - ","IS - Iceland"]
[null,null,null,null,null,null,null,null,null,null,null,null,null,null,null,null,null,null,null,null," - ","IN - India"]
[null,null,null,null,null,null,null,null,null,null,null,null,null,null,null,null,null,null,null,null," - ","ID - Indonesia"]
[null,null,null,null,null,null,null,null,null,null,null,null,null,null,null,null,null,null,null,null," - ","IR - Iran (Islamic Republic of)"]
[null,null,null,null,null,null,null,null,null,null,null,null,null,null,null,null,null,null,null,null," - ","IQ - Iraq"]
[null,null,null,null,null,null,null,null,null,null,null,null,null,null,null,null,null,null,null,null," - ","IE - Ireland"]
[null,null,null,null,null,null,null,null,null,null,null,null,null,null,null,null,null,null,null,null," - ","IM - Isle of Man"]
[null,null,null,null,null,null,null,null,null,null,null,null,null,null,null,null,null,null,null,null," - ","IL - Israel"]
[null,null,null,null,null,null,null,null,null,null,null,null,null,null,null,null,null,null,null,null," - ","IT - Italy"]
[null,null,null,null,null,null,null,null,null,null,null,null,null,null,null,null,null,null,null,null," - ","JM - Jamaica"]
[null,null,null,null,null,null,null,null,null,null,null,null,null,null,null,null,null,null,null,null," - ","JP - Japan"]
[null,null,null,null,null,null,null,null,null,null,null,null,null,null,null,null,null,null,null,null," - ","JE - Jersey"]
[null,null,null,null,null,null,null,null,null,null,null,null,null,null,null,null,null,null,null,null," - ","JO - Jordan"]
[null,null,null,null,null,null,null,null,null,null,null,null,null,null,null,null,null,null,null,null," - ","KZ - Kazakhstan"]
[null,null,null,null,null,null,null,null,null,null,null,null,null,null,null,null,null,null,null,null," - ","KE - Kenya"]
[null,null,null,null,null,null,null,null,null,null,null,null,null,null,null,null,null,null,null,null," - ","KI - Kiribati"]
[null,null,null,null,null,null,null,null,null,null,null,null,null,null,null,null,null,null,null,null," - ","KP - Korea (Democratic People's Republic of)"]
[null,null,null,null,null,null,null,null,null,null,null,null,null,null,null,null,null,null,null,null," - ","KR - Korea (Republic of)"]
[null,null,null,null,null,null,null,null,null,null,null,null,null,null,null,null,null,null,null,null," - ","KW - Kuwait"]
[null,null,null,null,null,null,null,null,null,null,null,null,null,null,null,null,null,null,null,null," - ","KG - Kyrgyzstan"]
[null,null,null,null,null,null,null,null,null,null,null,null,null,null,null,null,null,null,null,null," - ","LA - Lao People's Democratic Republic"]
[null,null,null,null,null,null,null,null,null,null,null,null,null,null,null,null,null,null,null,null," - ","LV - Latvia"]
[null,null,null,null,null,null,null,null,null,null,null,null,null,null,null,null,null,null,null,null," - ","LB - Lebanon"]
[null,null,null,null,null,null,null,null,null,null,null,null,null,null,null,null,null,null,null,null," - ","LS - Lesotho"]
[null,null,null,null,null,null,null,null,null,null,null,null,null,null,null,null,null,null,null,null," - ","LR - Liberia"]
[null,null,null,null,null,null,null,null,null,null,null,null,null,null,null,null,null,null,null,null," - ","LY - Libya"]
[null,null,null,null,null,null,null,null,null,null,null,null,null,null,null,null,null,null,null,null," - ","LI - Liechtenstein"]
[null,null,null,null,null,null,null,null,null,null,null,null,null,null,null,null,null,null,null,null,{"$f":"(S130& \" - \"&T130)","v":" - "},"LT - Lithuania"]
[null,null,null,null,null,null,null,null,null,null,null,null,null,null,null,null,null,null,null,null," - ","LU - Luxembourg"]
[null,null,null,null,null,null,null,null,null,null,null,null,null,null,null,null,null,null,null,null," - ","MO - Macao"]
[null,null,null,null,null,null,null,null,null,null,null,null,null,null,null,null,null,null,null,null," - ","MK - Macedonia (the former Yugoslav Republic of)"]
[null,null,null,null,null,null,null,null,null,null,null,null,null,null,null,null,null,null,null,null," - ","MG - Madagascar"]
[null,null,null,null,null,null,null,null,null,null,null,null,null,null,null,null,null,null,null,null," - ","MW - Malawi"]
[null,null,null,null,null,null,null,null,null,null,null,null,null,null,null,null,null,null,null,null," - ","MY - Malaysia"]
[null,null,null,null,null,null,null,null,null,null,null,null,null,null,null,null,null,null,null,null," - ","MV - Maldives"]
[null,null,null,null,null,null,null,null,null,null,null,null,null,null,null,null,null,null,null,null," - ","ML - Mali"]
[null,null,null,null,null,null,null,null,null,null,null,null,null,null,null,null,null,null,null,null," - ","MT - Malta"]
[null,null,null,null,null,null,null,null,null,null,null,null,null,null,null,null,null,null,null,null," - ","MH - Marshall Islands"]
[null,null,null,null,null,null,null,null,null,null,null,null,null,null,null,null,null,null,null,null," - ","MQ - Martinique"]
[null,null,null,null,null,null,null,null,null,null,null,null,null,null,null,null,null,null,null,null," - ","MR - Mauritania"]
[null,null,null,null,null,null,null,null,null,null,null,null,null,null,null,null,null,null,null,null," - ","MU - Mauritius"]
[null,null,null,null,null,null,null,null,null,null,null,null,null,null,null,null,null,null,null,null," - ","YT - Mayotte"]
[null,null,null,null,null,null,null,null,null,null,null,null,null,null,null,null,null,null,null,null," - ","MX - Mexico"]
[null,null,null,null,null,null,null,null,null,null,null,null,null,null,null,null,null,null,null,null," - ","FM - Micronesia (Federated States of)"]
[null,null,null,null,null,null,null,null,null,null,null,null,null,null,null,null,null,null,null,null," - ","MD - Moldova (Republic of)"]
[null,null,null,null,null,null,null,null,null,null,null,null,null,null,null,null,null,null,null,null," - ","MC - Monaco"]
[null,null,null,null,null,null,null,null,null,null,null,null,null,null,null,null,null,null,null,null," - ","MN - Mongolia"]
[null,null,null,null,null,null,null,null,null,null,null,null,null,null,null,null,null,null,null,null," - ","ME - Montenegro"]
[null,null,null,null,null,null,null,null,null,null,null,null,null,null,null,null,null,null,null,null," - ","MS - Montserrat"]
[null,null,null,null,null,null,null,null,null,null,null,null,null,null,null,null,null,null,null,null," - ","MA - Morocco"]
[null,null,null,null,null,null,null,null,null,null,null,null,null,null,null,null,null,null,null,null," - ","MZ - Mozambique"]
[null,null,null,null,null,null,null,null,null,null,null,null,null,null,null,null,null,null,null,null," - ","MM - Myanmar"]
[null,null,null,null,null,null,null,null,null,null,null,null,null,null,null,null,null,null,null,null," - ","NA - Namibia"]
[null,null,null,null,null,null,null,null,null,null,null,null,null,null,null,null,null,null,null,null," - ","NR - Nauru"]
[null,null,null,null,null,null,null,null,null,null,null,null,null,null,null,null,null,null,null,null," - ","NP - Nepal"]
[null,null,null,null,null,null,null,null,null,null,null,null,null,null,null,null,null,null,null,null," - ","NL - Netherlands"]
[null,null,null,null,null,null,null,null,null,null,null,null,null,null,null,null,null,null,null,null," - ","NC - New Caledonia"]
[null,null,null,null,null,null,null,null,null,null,null,null,null,null,null,null,null,null,null,null," - ","NZ - New Zealand"]
[null,null,null,null,null,null,null,null,null,null,null,null,null,null,null,null,null,null,null,null," - ","NI - Nicaragua"]
[null,null,null,null,null,null,null,null,null,null,null,null,null,null,null,null,null,null,null,null," - ","NE - Niger"]
[null,null,null,null,null,null,null,null,null,null,null,null,null,null,null,null,null,null,null,null," - ","NG - Nigeria"]
[null,null,null,null,null,null,null,null,null,null,null,null,null,null,null,null,null,null,null,null," - ","NU - Niue"]
[null,null,null,null,null,null,null,null,null,null,null,null,null,null,null,null,null,null,null,null," - ","NF - Norfolk Island"]
[null,null,null,null,null,null,null,null,null,null,null,null,null,null,null,null,null,null,null,null," - ","MP - Northern Mariana Islands"]
[null,null,null,null,null,null,null,null,null,null,null,null,null,null,null,null,null,null,null,null," - ","NO - Norway"]
[null,null,null,null,null,null,null,null,null,null,null,null,null,null,null,null,null,null,null,null," - ","OM - Oman"]
[null,null,null,null,null,null,null,null,null,null,null,null,null,null,null,null,null,null,null,null," - ","PK - Pakistan"]
[null,null,null,null,null,null,null,null,null,null,null,null,null,null,null,null,null,null,null,null," - ","PW - Palau"]
[null,null,null,null,null,null,null,null,null,null,null,null,null,null,null,null,null,null,null,null," - ","PS - Palestine, State of"]
[null,null,null,null,null,null,null,null,null,null,null,null,null,null,null,null,null,null,null,null," - ","PA - Panama"]
[null,null,null,null,null,null,null,null,null,null,null,null,null,null,null,null,null,null,null,null," - ","PG - Papua New Guinea"]
[null,null,null,null,null,null,null,null,null,null,null,null,null,null,null,null,null,null,null,null," - ","PY - Paraguay"]
[null,null,null,null,null,null,null,null,null,null,null,null,null,null,null,null,null,null,null,null," - ","PE - Peru"]
[null,null,null,null,null,null,null,null,null,null,null,null,null,null,null,null,null,null,null,null," - ","PH - Philippines"]
[null,null,null,null,null,null,null,null,null,null,null,null,null,null,null,null,null,null,null,null," - ","PN - Pitcairn"]
[null,null,null,null,null,null,null,null,null,null,null,null,null,null,null,null,null,null,null,null," - ","PL - Poland"]
[null,null,null,null,null,null,null,null,null,null,null,null,null,null,null,null,null,null,null,null," - ","PT - Portugal"]
[null,null,null,null,null,null,null,null,null,null,null,null,null,null,null,null,null,null,null,null," - ","PR - Puerto Rico"]
[null,null,null,null,null,null,null,null,null,null,null,null,null,null,null,null,null,null,null,null," - ","QA - Qatar"]
[null,null,null,null,null,null,null,null,null,null,null,null,null,null,null,null,null,null,null,null," - ","RE - Reunion"]
[null,null,null,null,null,null,null,null,null,null,null,null,null,null,null,null,null,null,null,null," - ","RO - Romania"]
[null,null,null,null,null,null,null,null,null,null,null,null,null,null,null,null,null,null,null,null," - ","RU - Russian Federation"]
[null,null,null,null,null,null,null,null,null,null,null,null,null,null,null,null,null,null,null,null," - ","RW - Rwanda"]
[null,null,null,null,null,null,null,null,null,null,null,null,null,null,null,null,null,null,null,null," - ","BL - Saint Barthelemy"]
[null,null,null,null,null,null,null,null,null,null,null,null,null,null,null,null,null,null,null,null," - ","SH - Saint Helena, Ascension and Tristan da Cunha"]
[null,null,null,null,null,null,null,null,null,null,null,null,null,null,null,null,null,null,null,null," - ","KN - Saint Kitts and Nevis"]
[null,null,null,null,null,null,null,null,null,null,null,null,null,null,null,null,null,null,null,null," - ","LC - Saint Lucia"]
[null,null,null,null,null,null,null,null,null,null,null,null,null,null,null,null,null,null,null,null," - ","MF - Saint Martin (French part)"]
[null,null,null,null,null,null,null,null,null,null,null,null,null,null,null,null,null,null,null,null," - ","PM - Saint Pierre and Miquelon"]
[null,null,null,null,null,null,null,null,null,null,null,null,null,null,null,null,null,null,null,null," - ","VC - Saint Vincent and the Grenadines"]
[null,null,null,null,null,null,null,null,null,null,null,null,null,null,null,null,null,null,null,null," - ","WS - Samoa"]
[null,null,null,null,null,null,null,null,null,null,null,null,null,null,null,null,null,null,null,null,{"$f":"(S194& \" - \"&T194)","v":" - "},"SM - San Marino"]
[null,null,null,null,null,null,null,null,null,null,null,null,null,null,null,null,null,null,null,null," - ","ST - Sao Tome and Principe"]
[null,null,null,null,null,null,null,null,null,null,null,null,null,null,null,null,null,null,null,null," - ","SA - Saudi Arabia"]
[null,null,null,null,null,null,null,null,null,null,null,null,null,null,null,null,null,null,null,null," - ","SN - Senegal"]
[null,null,null,null,null,null,null,null,null,null,null,null,null,null,null,null,null,null,null,null," - ","RS - Serbia"]
[null,null,null,null,null,null,null,null,null,null,null,null,null,null,null,null,null,null,null,null," - ","SC - Seychelles"]
[null,null,null,null,null,null,null,null,null,null,null,null,null,null,null,null,null,null,null,null," - ","SL - Sierra Leone"]
[null,null,null,null,null,null,null,null,null,null,null,null,null,null,null,null,null,null,null,null," - ","SG - Singapore"]
[null,null,null,null,null,null,null,null,null,null,null,null,null,null,null,null,null,null,null,null," - ","SX - Sint Maarten (Dutch part)"]
[null,null,null,null,null,null,null,null,null,null,null,null,null,null,null,null,null,null,null,null," - ","SK - Slovakia"]
[null,null,null,null,null,null,null,null,null,null,null,null,null,null,null,null,null,null,null,null," - ","SI - Slovenia"]
[null,null,null,null,null,null,null,null,null,null,null,null,null,null,null,null,null,null,null,null," - ","SB - Solomon Islands"]
[null,null,null,null,null,null,null,null,null,null,null,null,null,null,null,null,null,null,null,null," - ","SO - Somalia"]
[null,null,null,null,null,null,null,null,null,null,null,null,null,null,null,null,null,null,null,null," - ","ZA - South Africa"]
[null,null,null,null,null,null,null,null,null,null,null,null,null,null,null,null,null,null,null,null," - ","GS - South Georgia and the South Sandwich Islands"]
[null,null,null,null,null,null,null,null,null,null,null,null,null,null,null,null,null,null,null,null," - ","SS - South Sudan"]
[null,null,null,null,null,null,null,null,null,null,null,null,null,null,null,null,null,null,null,null," - ","ES - Spain"]
[null,null,null,null,null,null,null,null,null,null,null,null,null,null,null,null,null,null,null,null," - ","LK - Sri Lanka"]
[null,null,null,null,null,null,null,null,null,null,null,null,null,null,null,null,null,null,null,null," - ","SD - Sudan"]
[null,null,null,null,null,null,null,null,null,null,null,null,null,null,null,null,null,null,null,null," - ","SR - Suriname"]
[null,null,null,null,null,null,null,null,null,null,null,null,null,null,null,null,null,null,null,null," - ","SJ - Svalbard and Jan Mayen"]
[null,null,null,null,null,null,null,null,null,null,null,null,null,null,null,null,null,null,null,null," - ","SZ - Swaziland"]
[null,null,null,null,null,null,null,null,null,null,null,null,null,null,null,null,null,null,null,null," - ","SE - Sweden"]
[null,null,null,null,null,null,null,null,null,null,null,null,null,null,null,null,null,null,null,null," - ","CH - Switzerland"]
[null,null,null,null,null,null,null,null,null,null,null,null,null,null,null,null,null,null,null,null," - ","SY - Syrian Arab Republic"]
[null,null,null,null,null,null,null,null,null,null,null,null,null,null,null,null,null,null,null,null," - ","TW - Taiwan, Province of China"]
[null,null,null,null,null,null,null,null,null,null,null,null,null,null,null,null,null,null,null,null," - ","TJ - Tajikistan"]
[null,null,null,null,null,null,null,null,null,null,null,null,null,null,null,null,null,null,null,null," - ","TZ - Tanzania, United Republic of"]
[null,null,null,null,null,null,null,null,null,null,null,null,null,null,null,null,null,null,null,null," - ","TH - Thailand"]
[null,null,null,null,null,null,null,null,null,null,null,null,null,null,null,null,null,null,null,null," - ","TL - Timor-Leste"]
[null,null,null,null,null,null,null,null,null,null,null,null,null,null,null,null,null,null,null,null," - ","TG - Togo"]
[null,null,null,null,null,null,null,null,null,null,null,null,null,null,null,null,null,null,null,null," - ","TK - Tokelau"]
[null,null,null,null,null,null,null,null,null,null,null,null,null,null,null,null,null,null,null,null," - ","TO - Tonga"]
[null,null,null,null,null,null,null,null,null,null,null,null,null,null,null,null,null,null,null,null," - ","TT - Trinidad and Tobago"]
[null,null,null,null,null,null,null,null,null,null,null,null,null,null,null,null,null,null,null,null," - ","TN - Tunisia"]
[null,null,null,null,null,null,null,null,null,null,null,null,null,null,null,null,null,null,null,null," - ","TR - Turkey"]
[null,null,null,null,null,null,null,null,null,null,null,null,null,null,null,null,null,null,null,null," - ","TM - Turkmenistan"]
[null,null,null,null,null,null,null,null,null,null,null,null,null,null,null,null,null,null,null,null," - ","TC - Turks and Caicos Islands"]
[null,null,null,null,null,null,null,null,null,null,null,null,null,null,null,null,null,null,null,null," - ","TV - Tuvalu"]
[null,null,null,null,null,null,null,null,null,null,null,null,null,null,null,null,null,null,null,null," - ","UG - Uganda"]
[null,null,null,null,null,null,null,null,null,null,null,null,null,null,null,null,null,null,null,null," - ","UA - Ukraine"]
[null,null,null,null,null,null,null,null,null,null,null,null,null,null,null,null,null,null,null,null," - ","AE - United Arab Emirates"]
[null,null,null,null,null,null,null,null,null,null,null,null,null,null,null,null,null,null,null,null," - ","GB - United Kingdom of Great Britain and Northern Ireland"]
[null,null,null,null,null,null,null,null,null,null,null,null,null,null,null,null,null,null,null,null," - ","US - United States of America"]
[null,null,null,null,null,null,null,null,null,null,null,null,null,null,null,null,null,null,null,null," - ","UM - United States Minor Outlying Islands"]
[null,null,null,null,null,null,null,null,null,null,null,null,null,null,null,null,null,null,null,null," - ","UY - Uruguay"]
[null,null,null,null,null,null,null,null,null,null,null,null,null,null,null,null,null,null,null,null," - ","UZ - Uzbekistan"]
[null,null,null,null,null,null,null,null,null,null,null,null,null,null,null,null,null,null,null,null," - ","VU - Vanuatu"]
[null,null,null,null,null,null,null,null,null,null,null,null,null,null,null,null,null,null,null,null," - ","VE - Venezuela (Bolivarian Republic of)"]
[null,null,null,null,null,null,null,null,null,null,null,null,null,null,null,null,null,null,null,null," - ","VN - Viet Nam"]
[null,null,null,null,null,null,null,null,null,null,null,null,null,null,null,null,null,null,null,null," - ","VG - Virgin Islands (British)"]
[null,null,null,null,null,null,null,null,null,null,null,null,null,null,null,null,null,null,null,null," - ","VI - Virgin Islands (U.S.)"]
[null,null,null,null,null,null,null,null,null,null,null,null,null,null,null,null,null,null,null,null," - ","WF - Wallis and Futuna"]
[null,null,null,null,null,null,null,null,null,null,null,null,null,null,null,null,null,null,null,null," - ","EH - Western Sahara"]
[null,null,null,null,null,null,null,null,null,null,null,null,null,null,null,null,null,null,null,null," - ","YE - Yemen"]
[null,null,null,null,null,null,null,null,null,null,null,null,null,null,null,null,null,null,null,null," - ","ZM - Zambia"]
[null,null,null,null,null,null,null,null,null,null,null,null,null,null,null,null,null,null,null,null,null,"ZW - Zimbabwe"]

{"sheet":"TermsOfUse","index":13,"n_rows":8,"n_cols":13,"rows_kept":8,"cut":false,"hidden":false,"merged":[[7,1,7,12]]}
[]
[null,null,null,null,null,null,null,null,null,null,null,null,"Return to Overview"]
[]
[null,null,null,null,null,null,null,null,null,null,null,null,{"$f":"Overview!E3","v":"Version: 1.2.2"}]
[null,null,null,null,null,null,null,null,null,null,null,null,{"$f":"Overview!F3","v":"2022-04-29"}]
[]
[]
[null,"IAEG Terms of Use Statement"]

{"sheet":"-History-","index":14,"n_rows":409,"n_cols":9,"rows_kept":409,"cut":false,"hidden":false,"merged":[]}
["Date","Version","Author","Location / Tabs","Modifications","Change Request","Impact on IPC-1754 Converter","Impact on AD-SRT Macros","Comment"]
["2015-07-16",0.1,"Raj Takhar (Rolls-Royce)",null,"Initial version at Cedar Rapids ST4 workshop"]
["2015-07-17","0.2","Raj Takhar (Rolls-Royce)",null,"New version after review by ST4 at Cedar Rapids"]
["2015-07-18","0.3","Raj Takhar (Rolls-Royce)\nJean-Pierre Théret (Dassault Systèmes)",null,"Add \"- History-\" tab to track modifications\nChange tool revision major=0 (1.3 to 0.3)\nMove \"AD-DSL List Import\" button close to List Revision\nBreakdown AD-DSL List Revsiion in: Version + Date + ID (authority + Identity)\nSimplify Product / Sub-Product columns in 1 set with BOM Level\nChange Columns distribution for the Declaration to be one value / one column (no merged cells)\nAlign cell title on the right, close to the cell (to adapt easily to column width change)\nMove cell border to light line, bold characters for cell content"]
["2015-07-19","0.4","Jean-Pierre Théret (Dassault Systèmes)",null,"Updates"]
["2015-07-20","0.5","Raj Takhar (Rolls-Royce)",null,"Additional updates (scroll-box)"]
["2015-07-24","0.6","Raj Takhar (Rolls-Royce)",null,"Added import function - user downloads latest ad-dsl file from IAEG.com strips out and just leaves the AD-DSL tab then clicks on import to bring latest substances list across - dirty method to be cleaned up. Also split out into 3 tabs for product/process and maintenance substances"]
["2015-07-27","0.7","Raj Takhar (Rolls-Royce)",null,"More updates - added in IAEG EULA as message box, added delete/add row functionality and cleaned up code to import from .xlsx AD-DSL by stripping out un-used worksheet tabs - created model A and B for storyboarding and review as part of ST2 activities"]
["2015-07-28","0.8","Raj Takhar (Rolls-Royce)",null,"Updated following peer review comments"]
["2015-08-10","0.9","Raj Takhar (Rolls-Royce)",null,"Updated following peer review comments"]
["2015-08-11","0.10","Raj Takhar (Rolls-Royce)",null,"Added crude attachment code and IAEG WG2 Replacement Technology data"]
["2015-08-19","0.11","Raj Takhar (Rolls-Royce)",null,"Re-added IEC 62474 usage lists to give users an option of defining against IAEG or IEC options. Also added auto-populate of CAS_NO and EC_NO based on selection of substance name"]
["2015-09-09","0.12","Raj Takhar (Rolls-Royce)",null,"Added requestor part number to main declaration sections - to enable BOM roll-ups to take place easier."]
["2015-10-07","0.13","Raj Takhar (Rolls-Royce)",null,"Updated following IPC 2-18K committee review in chicago \nAdded in Homogenous Material section as well as modifications to in-part/in-process/maintenance chemicals"]
["2015-10-09","0.14","Raj Takhar (Rolls-Royce)",null,"Added country code data"]
["2015-10-14","0.15","Raj Takhar (Rolls-Royce)",null,"updates from IAEG FALL meeting from toulouse October 2015"]
["2015-10-19","0.16","Raj Takhar (Rolls-Royce)",null,"updated to allow hide optional fields"]
["2015-10-20","0.17","Raj Takhar (Rolls-Royce)",null,"Added ability to import txt file in to the spreadsheet, added in the use description list functionality from John Klijn, as well as combining the Requestor and Supplier data sections."]
["2015-11-23","0.18","Raj Takhar (Rolls-Royce)",null,"Updated following review comments from Margaret Proul"]
["2015-12-02","0.19","Raj Takhar (Rolls-Royce)",null,"Updated as part of IPC 2-18K committee review, at Boeing, Seattle"]
["2015-12-16","0.20","Raj Takhar (Rolls-Royce)",null,"Updated as requested by John Pierre at IPC-1754 team meeting"]
["2016-02-17","0.21","Raj Takhar (Rolls-Royce)",null,"Un-merged cells in a few sheets to make data copying eaisier"]
["2016-02-18","0.22","Raj Takhar (Rolls-Royce)",null,"Fixed issue with hiding sheets"]
["2016-03-14","0.23","Raj Takhar (Rolls-Royce)",null,"Corrected declaration classes"]
["2016-04-05","0.24","Jean-Pierre Théret (Dassault Systèmes)","All tabs","Hide not directly used tabs: * Use Descrption*, * Parameters*"]
[null,null,null,"Term of Use ...","Hide \"Term of Use ...\" tabs because not a consensus on them, and not usefull for pilot inside IAEG"]
[null,null,null,"All tabs","Cut \"Section\" out of tab name (no added value and shorter names)"]
[null,null,null,"All tabs","Harmonize Tool Name, Version on each tab; cancel IAEG logo"]
[null,null,null,"Authorization","Delete \"Authorization\" tab, copy Authorizer data in first tab with \"Requester\" and \"Supplier\" contact data"]
[null,null,null,"Requester-Supplier","Rename \"Supplier Data\" and \"Requester Data\" to \"... Information\" (IPC 2-18K decision on 2016-03-18)"]
[null,null,null,"Part-and-Statements","Add both Requester &nd Supplier Part Number, Description and Version; Supplier info required for \"Distribute/Push\" mode when no Requester"]
[null,null,null,"Part-and-Statements","Rename \"Is affected by ...\" by \"Requires the use of substance(s) on the AD-DSL” (IPC 2-18K decision on 2016-3-18)"]
[null,null,null,"Substance-in-Part","Add Data Grouping per column to hide optional data and get less columns to fill in"]
[null,null,null,"Substance-in-Process","Add Data Grouping per column to hide optional data and get less columns to fill in"]
[null,null,null,"Substance-in-Maintenance","Add Data Grouping per column to hide optional data and get less columns to fill in"]
[null,null,null,"Substances-List","Alphabetic order, same columns order that in AD-DSL"]
[null,null,null,"List-of-Parts","Add new tab for List of Parts with single declaration"]
[null,null,null,"- Help -","Update help"]
["2016-04-06","0.25","Jean-Pierre Théret (Dassault Systèmes)","Part-and-Statements","Add \"in Product and by Process\" to \"Requires use of substance(s) on AD-DSL in product or by production process or maintenance\" statement."]
[null,null,null,"Substance-in-Maintenance","Merge \"Substance-Process\" and \"Substance-in-Process\" to \"Substance-in-Process\"; add \"Process Stage\" = Production, Maintenance, Production and Maintenance values."]
[null,null,null,"-Overview-","Update flowchart; add hotlink on Activities to the tabs"]
[null,null,null,"Substance-in-Process","Delete Statements at Substance Level; add calcuation of AD-DSL Substance Group (column R)"]
[null,null,null,"Substance-in-Part","Add calcuation of AD-DSL Substance Group (column AE)"]
[null,null,null,"All tabs","Make format of cell: Text, for any value to be key-in without any format conversion"]
[null,null,null,"-TermsOfUse-","Rename tab and make no longer hidden"]
[null,null,null,"-Overview-","Add \"Terms of Use\" new statement (implicitely) and add hotlink to corresponding tab; add back links to Overview"]
[null,null,null,"List-of-Parts","Add Part Description, Version and Manufacturing Location; no longer multiple lists (only one list)"]
["2016-04-15","0.26","Jean-Pierre Théret (Dassault Systèmes)","Part-and-Statements, List-of-Parts, Substance-in-Part, Substance-in-Process","Add markup \"End of ...\" at the end of file"]
[null,null,null,"Substance-in-Part, Substance-in-Process","Rename CAS # and EC # to CAS Number and EC Number"]
[null,null,null,"Substance-in-Part","Add more examples"]
["2016-07-05","0.27","Jean-Pierre Théret",null,"Changes after IPC 2-18K meeting on 2016-June-20&21 (Washington)",null,"Impact on IPC-1754 Converter","IPC comment #"]
[null,null," (Dassault Systèmes)","-Overview-","- New class names and descriptions",null,"no","11, 12"]
[null,null,null,"3 Tabs & contents","- Rename \"Part\" to \"Product\" to align to Standard draft v1.5: \"Part-And-Statement\" becomes \"Product-Statement\", \"Substance-in-Part\" becomes \"Substance-in-Product\", \"List-of-Parts\" becomes \"List-of-Products\"",null,"yes","110"]
[null,null,null,"Substance-in-Product","- Implement the 4 columns option as reviewed by WG1-ST2 on May 11th, 2016 (to be voted by WG1)",null,"yes","139"]
[null,null,null,null,"- Deletion of \"Requester Part Number\" (column B) because column added in Product-Statement",null,"yes"]
[null,null,null,"Product-Statement","- Rename \"Contains Minerals from Conflict Regions\" to \"Contains Conflict Minerals\"; then remove \"and their Compounds\" from the help comment on that cell; after SEC clarification: Conflicts Minerals (3TG) is substance, not compound!",null,"no","32"]
[null,null,null,"Product-Statement","Add both Requester and Supplier Part Number, Description and Version; Supplier info required for \"Distribute/Push\" mode when no Requester",null,"don't know ?","112"]
[]
["2016-07-08","0.27b","Jean-Pierre Théret",null,"Minor changes on titles and help comments"]
[null,null,null,"All tabs","Rename \"Part\" to \"Product\" in all column titles",null,"don't know ?","110"]
[null,null,null,"Product-Statement","Change classes definitions: \"E and F\" becomes \"F\", \"E and G\" becomes \"G\"",null,"no","11, 12"]
[null,null,null,"Product-Statement, Substance-in-Product, SUbstance-in-Process","Delete row #5 (empty row)",null,"yes"]
[null,null,null,"Substance-in-Product, SUbstance-in-Process","Delete row #3 (empty row)",null,"yes"]
[null,null,null,"Substance-in-Process","Delete column A with Requester Product Number, because already provided in Product-Statement",null,"yes"]
["2016-09-05","0.28","Renato Favarin",null,"Changes after IAEG Task Force testing of the tool versions 0.25 and 0.27b"]
[null,"a(lpha)","(Embraer)","Substances-List","Change tab title color to white (much more data than a tab included in class F or G)",null,"no"]
[null,null,"Jean-Pierre Théret","Product-Statement","Add Query List Identity for the IAEG AD query List",null,"yes"]
[null,null,"(Dassault Systèmes)","Substance-in-Process","Add column \"Product Version\" to be able to separate two versions of the same product",null,"yes"]
[null,null,null,"List-of-Products","Tab \"List-of-Products\" renamed to \"Group-of-Products\" to separate \"list\" and \"group\" cases when multiple products",null,"yes"]
[null,null,null,"Group-of-Products","Add \"Product Group Description\" fielfs in A3 (title) and A4 (value)",null,"yes"]
[null,null,null,"Group-of-Products","Add Unit Type, Mass and UOM for all Products in the group ti support case where Masses are differents",null,"yes"]
[null,null,null,"Product-Statement\nGroup-of-Product","Replace \"Product Version\" by \"Product Revision\"",null,"yes"]
[null,null,null,"Requester-Supplier","Unmerge some of the columns to ease copy / paste",null,"no"]
[null,null,null,"Requester-Supplier","Delete empty row #42",null,"yes"]
[null,null,null,"Requester-Supplier","Add hidden rows for all data groups",null,"no"]
[null,null,null,"Substances-List","Revers order of subtances column  to align with AD-DSL: CAS, EC, IAEG, Name... and select Substance base on CAS, not Name",null,"no"]
[null,null,null,"Product-Statement","Make hidden columns E and F if not used",null,"no"]
[null,null,null,null,"Requester Fax deleted (not in standard); "]
[null,null,null,"Requester-Supplier","Deleted, no fax exist in the Standard; cells \"Requester Document ID\", \"Request Date\", \"Respond by Date\", \"Supplier Response Date\" and \"Supplier Response Date\" have changed their position.",null,"yes"]
[null,null,null,"Requester-Supplier","\"Supplier Authorizer Acceptance\" is mandatory (with *) in Standard WD 1.6; all fields updated with * when mandatory in thi stab",null,"no"]
[null,null,null,"Overview","Some hotlinks not working in Overview; help comments (grey) to be deleted; \"Yes / No\" answers not well displayed (2 rows)",null,"no"]
[null,null,null,"Product-Statement\nSubstances-in-Product\nSubstances-in-Process","Replace \"Requester  Product Version\" by \"Requester  Product Revision\"; same for Supplier \"Version\" to \"Revision\"",null,"Yes"]
[null,null,null,"Substances-in-Product","Provide a list of possible values (combobox) for \"Unit Type\"; check list of UoM.",null,"no"]
[null,null,null,"All tabs","Group all instructions in one single tab (like CMRT)",null,"no"]
[null,null,null,"Requester-Supplier","Let on Yes for DSL in color; make the other values in black.",null,"no"]
["2016-09-07","0.28","Renato Favarin","All tabs","Lock all cells that should not be deleted or changed by Suppliers; protect all tabs (no password) except \"Attachments\" (if not, macro not working).",null,"no"]
[null,"b(eta)","(Embraer)","Substance-in-Product, Substance-in-Process","Implement macros to check CAS, search for Substance Name based on CAS (thanks a lot to Renato / Embraer)",null,"no"]
[null,null,"Jean-Pierre Théret","Instructions","Add new instructions (not finished...)",null,"no"]
[null,null,"(Dassault Systèmes)","Substance-in-Product, Substance-in-Process","Fix formula in column AB to calculate group of AD-DSL substance",null,"no"]
[null,null,null,"Overview","Fix hotlink on pink box (not working)",null,"no"]
["2016-09-08","0.28","Renato Favarin","All tabs","Fix the outlining of groups of rows or columns, not available if sheet protected.",null,"no"]
[null,null,"Jean-Pierre Théret","Attachements","Fix bug when attaching files if sheet protected.",null,"no"]
["2016-09-12","0.29","Jean-Pierre Théret","Requester-Reviewer","Make all data the same column width (C and G) and larger",null,"no"]
[null,null,null,"Requester-Reviewer","Country Code list fixed (some non country codes in it - RoHS Exemptions)",null,"no"]
[null,null,null,"Instructions","Complemented about the \"Supplier Authorizer\" and acceptance",null,"no"]
[null,null,null,"Substance-in-Product\nSubstance-in-Process","Freeze first columns for Product BOM and Product Number to be always visible",null,"no"]
[null,null,null,"Overview","Remove table in columns Q, R and S",null,"no"]
[null,null,null,"Requester-Reviewer","Add \"Supplier Authorizer ID Type\" in addition of \"ID Number\"; move \"Company Name\" and \"Company Number\"; change position of cells ",null,"yes"]
[null,null,null,"Overview\nTerms of Use","New logo with IAEG (R) instead of IAEG (TM)",null,"no"]
[null,null,null,"Parameters\nUse Descriptions","Protect hidden tabs / sheets",null,"no"]
[null,null,null,"Terms of Use","Add Version and Data",null,"no"]
[null,null,null,"Requester-Supplier","Change statement \"I can confirm that this questionnaire has been completed to the best of our knowledge acting in due diligence\" to  \"I can confirm that this declaration has been completed to the best of our knowledge and associated due diligence activities\".",null,"no"]
["2016-09-13","0.29.1","Jean-Pierre Théret","Requester-Reviewer","Delete row#21 (because empty)",null,"yes"]
[null,null,null,"Substances in Product","Replace BOM Level 0 to 1",null,"yes"]
[null,null,null,"Substances in Product","Update comment on cell titles",null,"no"]
["2016-09-24","0.30a","Jean-Pierre Théret","Overview","Change color of table titles to grey for no confusion with colors of classes",null,"no"]
[null,null,null,"Substances-in-Product\nSubstances-in-Process","Format \"Text\" columns for Product Name, Description and Revision (instead of \"general\")",null,"no"]
[null,null,null,"Substances-in-Product","Rename \"Homogeneous Material\" to \"Material\".",null,"yes"]
[null,null,null,"Substances-in-Product","Format column J \"Mass Variation\" as Pourcentage (%) and no longer \"General\"; value is now \"0.05\" for 5% and not \"5\"",null,"yes"]
[null,null,null,"Instructions","Move this tab just after Overview (for better access)",null,"no"]
["2016-09-27","0.30b","Renato Favarin","Substances-in-Product\nSubstances-in-Process","Update macro for CAS check\n- Allow to insert and delete rows \n- Allow to change the columns' width \n- If the user type a different, but also valid CAS number, the related cells are erased",null,"no"]
[null,null,"Jean-Pierre Théret","Substance-in-Product","Make \"Substance Synonym\" out of the Substance Identification* (mandatory)",null,"no"]
[null,null,null,"Substance-in-Process","Add \"Substance Idnetification*\" title to group CAS, EC, DSL ID & Name\" like in Substance-in-Product",null,"no"]
["2016-10-17","0.30c","Renato da Nova Favarain","Substance-in-Product\nSubstance-in-Process","Fix bug with copy and paste in cells for CAS due to sheet is locked (known Excel bug)",null,"no"]
[null,null,"Jean-Pierre Théret","Group-of-Products","Set the list of Unit of Measure in column H.",null,"no"]
[null,null,"Jean-Pierre Théret","Overview\nProduct-Statement","Change class G name according IPC 2-18K decision at Chicage, 2016-Sept-29/30: \"Extended Substance Declaration\"",null,"no"]
["2016-10-18","0.30d","Renato da Nova Favarin","Substance-in-Product\nSubstance-in-Process","New macro for CAS automatically filled when Substance Name is provided (and no infinite loop)",null,"no"]
["2016-10-19","0.30e","Jean-Pierre Théret","All tabs with a number","Delete the first 3 rows with IAEG logo, tool name and revision; no need on each page",null,"yes"]
[null,null,null,"All tabs","Add number for all tabs where data should be key-in",null,"yes"]
[null,null,null,"7.Authorization","Add new tab; move some data from 1.Requester-Supplier to this new tab",null,"yes"]
[null,null,null,"Overview","Simplify \"Overview\" with only flow chart with steps #1 to #7",null,"no"]
[null,null,null,"Instructions","Move text from Overview to Instructions",null,"no"]
[null,null,null,"Substance-List","Tab renamed \"AD-DSL\"",null,"no"]
["2016-10-20","0.30f","Jean-Pierre Théret","7.SupplierApproval","Rename Authorization to SupplierApproval, not to confuse with \"EU REACH Authorization\"; Authorizer to Approver; but no Impact on the standard IPC-1754, just a matter of mapping.",null,"yes"]
[null,null,null,"7.SupplierApproval","Add boolean yes/no for SupplierApprover data identical to SupplierContact to avoid to duplicate data.",null,"yes"]
[null,null,"Renato da Nova Favarin","Substances-List","Fix bug in macro with \"Substances-List\"; rename back to \"Substances-List\" the \"AD-DSL\" tab because template may be used with other loists than AD-DSL.",null,"no"]
[null,null,null,"Overview","Minor changes in the flow chart after reviwe with ST2/ST4 team, plus Boeing/Yvonne comments.",null,"no","Note Bene:"]
["2016-11-03","0.30g","Jean-Pierre Théret","1.Requester-Supplier","Propose new data for IPC-1751A alignment (REquester & Supplier Job  Title, Supplier Document ID, Comments)",null,"yes","These data fields are proposed and awaiting for WG1 approval for confirmation."]
[null,null,null,"6.Attachments","Propose new file data for IPC-1751A alignment (File Name, File Type, File or URL)",null,"yes","Change of position of cells of other fileds would be kept for the Converter update in both cases: adding approved or not."]
[null,null,null,"7.SupplierApproval","Propose new selection to separate \"Standard\" and \"Custom\" Statements",null,"yes","If proposed addings are denied; just remove the fields, don't change the position of other ones."]
["2016-11-09","0.30h","Jean-Pierre Théret","4.Substance-in-Product\n5.Substance-in-Process","Add column K \"add Material info\" plus a comment to display Material data; this allows to fully hide or unhide the \"Material data\" as it is an optional data.",null,"yes"]
[null,null,null,"7.SupplierApproval","Add formula in cell G19 (equal to standard statement if \"Standard\" or empty if \"Custom\" (should be a macro because formula is supposed to be overwritten",null,"no"]
["2016-12-02","0.30","Renato da Nova Favarin","4.Substance-in-Product\n5.Substance-in-Process","Fix bus on macros for checking CAS.",null,"no"]
[null,null,"Jean-Pierre Théret","1.Requester-Supplier\n6.Attachments\n7.SupplierApproval","Integrate new fields proposed in 0.30g (move red color to black color for field titles)",null,"no"]
[null,null,"Jean-Pierre Théret","Tabs 2, 3, 4, 5","Remove all accent letters in Product Description (not yet supported, to be discussed at Cincinnati...)",null,"no"]
[null,null,"Jean-Pierre Théret","All tabs","Add revision in each tab (to ease support)",null,"no"]
["2017-01-05","0.31","Renato da Nova Favarin","All tabs","Implement data check macros",null,"no"]
[null,null,"Jean-Pierre Théret","1.Requester-Supplier","Make Requester \"Response by date\" optional (decision  at Cincinnati, 2016-Dec)",null,"no"]
[null,null,"Jean-Pierre Théret","1.Requester-Supplier","Hide in columns K& L buttons not yet implemented",null,"no"]
["2017-04-16","0.32a","Jean-Pierre Théret","4.Substance-in-Product","Ungroup columns T-AB because all mandatory fields",null,"no"]
[]
[null,null,null,"4.Substance-in-Product","Update comment for cell S2, not up-to-date regarding names of classes (still A, B, C)",null,"no"]
[null,null,null,"2.Group-of-Products","Remove \"End of Page\" statement; prohibit empty rows...",null,"YES"]
[null,null,null,null,"Authorize multiple Product Groups",null,"YES"]
[null,null,null,"4.Substance-in-Product","Add column A to be able to hive \"BOM Level\" (optional)",null,"YES"]
[null,null,null,null,"Add columns G, H for new flags: isArticle, is FMD",null,"YES"]
[null,null,null,null,"Add column U and V for isArticle and isHomogeneous flags for Material",null,"YES"]
[null,null,null,"All tabs","Align mandatory vs Optional fields on IPC-1754 Final Draft for Industry Review (FDIR), 2017 Dec 13",null,"Data Quality check  is impacted"]
[null,null,null,"3. Product-Statement","Add column G for isFMD flag",null,"YES"]
[null,null,null,"5.Substance-in-Process","Add column D to fully hide all optional Process columns (Name, Classification, Stage)",null,"YES"]
[null,null,null,"Overview","Draft \"new\" flowchart (keep \"old\" one temporarily)",null,"no"]
["2017-04-19","0.32b","Renato da Nova Favarin","4.Substance-in-Product\n5.Substance-in-Process","Fix macro & copy/paste bug",null,"no"]
[null,null,null,"4.Substance-in-Product\n5.Substance-in-Process","Add Excel comment on \"add ...\" header cells to provide help",null,"no"]
["2017-04-20","0.32c","Jean-Pierre Théret","1.Requester-Supplier","Add \"Query-List\" info and \"Use Descriptor List\" info in this tab (for the IPC-1754 XML converter)",null,"YES"]
[null,null,null,"3.Product-STatement","Add column L to hide/unhide comment",null,"YES"]
[null,null,null,"7.SupplierApproval","Hide \"Export to IPC-1754\" button because not yet implemented; add a comment on \"how to export to IPC-1754\"",null,"no"]
[null,null,null,"-DataLists-","New tab that provides QueryList (QL)and Substance Use Descriptor List (UDL) IDs for converters to/",null,"YES"]
[null,null,null,"2.Group-of-Products","Move \"Unit Type\" from product data (column ) to product group data (colum C)",null,"YES"]
[null,null,null,null,"Hide optional fields (columns B,C, E-I); can be displayed clicking on \"+\"",null,"no"]
["2017-04-26","0.32d","Jean-Pierre Théret","Tabs 2-6","Unprotect all cells for data entry",null,"no"]
["2017-05-26","0.32e","Jean-Pierre Théret","- Use Descrptions -","Add column A containing TFxxx for Substance Use Descriptor (for IPC-1754 export)\nUpdate list of Use Descriptions & update \"UseDescriptions\" variable",null,"YES"]
[null,null,null,"3.Product-STatement","Add column H for \"isFSD\" (same than \"listAllMaterials\")",null,"YES"]
["2017-06-02","0.32f","Renato da Nova Favarin","4.Substance-in-Product\n5.Substance-in-Process","Debug macro for controling CAS and auto-fill other Subtsance fields",null,"No"]
["2017-06-xx","0.32g","Jean-Pierre Théret","1.Requester-Supplier","Make \"wrap text\" on cells G7 and G19 to  force text to be located in the cell",null,"No"]
[null,null,null,null,"Delete all values in cells in tab #7.Attachments",null,"No"]
[null,null,null,"Substances-List","Protect sheet",null,"No"]
[null,null,null,"- Use Descriptions -","Hide sheet",null,"No"]
[null,null,null,"2.Group-of-Products","CLean sheet (delete all values)",null,"No"]
[null,null,null,"4.Substance-in-Product","Add \"Synonym\" in AA2 cell",null,"No"]
["2017-06-14","0.32h","Jean-Pierre Théret","3.Product-STatement","Group column H (\"is FSD\") and hide it - because not yet approved by IPC 1754 committee",null,"No"]
["2017-07-12","0.33a","Jean-Pierre Théret","2.Product-Groups","Rename tab from \"2.Group-of-Products\" to \"2.Product-Groups\"; update tab name in macro",null,"YES"]
[null,null,null,"7.SupplierAuthorization","Rename tab from \"7.SupplierApproval\" to \"7.SupplierAuthorization\"; update tab name in macro",null,"YES"]
[null,null,null,"3.Product-Statement","Column G title renamed from \"is FMD\" to \"all Materials Reported\"",null,"YES ?"]
[null,null,null,"7.SupplierAuthorization","Format Authorizer Date with format \"YYYY-MM-DD\" (as decided by IPC-1754)",null,"YES ?"]
[null,null,null,"4.Substance-in-Product","Add column G for \"Manufacturing Site\" (new data field for Product Data by IPC-1754)",null,"YES"]
[null,null,null,"7.SupplierAuthorization","Rename all data field titles accordingly the IPC-1754 standard (Authorizer instead or Approver)",null,"no"]
[null,null,null,null,"Rename \"Standard\" to \"Default\" Statement; update Default Statement (in line with IPC-1754 standard)",null,"no"]
[null,null,null,"4.Substance-in-Product\n5.Substance-in-Process","Add list of \"Use Description\" to \"Material Use Description\" on both tabs (aligned with IPC-1754)",null,"YES","Substance technical Function (TFxxx) code has to be reported in XML; available in \"- Use Descriptions -\" tab"]
[null,null,null,"Tab titles","Remove all space in tab titles",null,"Yes"]
[null,null,null,"Use-Descriptor","Unhide \"Use-Descriptor\" for user to have access to full description of all substance use descriptions",null,"no"]
[null,null,null,null,"Update TFxxx code to 3 digits (xxx)",null,"no"]
[null,null,null,"Overview","Update along the final proposal",null,"no"]
[null,null,null,"All tabs","Update tab colors to sync with Overview",null,"no"]
[null,null,null,"6.Attachment","Rename tab with no \"s\" at the end (all tabs without any \"s\" for plural",null,"YES"]
[]
["2017-07-18","0.33b","Jean-Pierre Théret","Overview","Update with proposal Rev5",null,"no"]
[null,null,null,"1.Requester-Supplier","Harmonize data field titles with \"Supplier\" and \"Request\" / \"Requester\" prefix",null,"no"]
[null,null,null,null,"Harmonize policy for AD-DSL data fields",null,"no"]
[null,null,null,"Use-Descriptor-List","Add \"-List\" to the tab name",null,"YES","Converter need that tab to access the Use Descreiptor code: TFxxx"]
["2017-07-19","0.33c","Jean-Pierre Théret","3.Product-Statement\n4.Substance-in-Product","Move flags \"allMaterialsReported\" and \"isFSD\" from tab #3 to tab #4: add combo list \"Yes / No\"",null,"YES","Should be converted to true/false in the standard"]
[null,null,null,"4.Substance-in-Product","Add \"Yes/No\" combo list for flag \"is Article\" for Product",null,"YES","Should be converted to true/false in the standard"]
[null,null,null,"4.Substance-in-Product","Replace for \"is Article\" flag for Material: true/false to Yes/No",null,"YES","Should be converted to true/false in the standard"]
[null,null,null,"4.Substance-in-Product","Replace for \"is Homogeneous Material\" flag  for Material: true/false to Yes/No",null,"YES","Should be converted to true/false in the standard"]
[null,null,null,"4.Substance-in-Product","Add \"Country Code\" combo list for selecting \"Country of manufacture\"",null,"no"]
["2016-07-25","0.33d","Jean-Pierre Théret","1.Requester-Supplier","Remove \"Supplier Manufacturing Location\"",null,"YES"]
[null,null,null,"4.Substance-in-Product","Rename \"All Materials Reported\" to \"all Materials Declared\"",null,"YES"]
[null,null,null,"4.Substance-in-Product","Unhide column AD containing \"Synonym\"",null,"no"]
[null,null,null,"Overview","Change the green line style to the \"multiple lines\" one for being different from blue one when printing",null,"no"]
[null,null,null,"5.Substance-in-Process","Make visible \"Process Stage\" as mandatory data field",null,"no"]
["2017-08-02","0.33e","Renato","4.Substance-in-Product","Macros on Substance CAS and Name fixed",null,"no"]
[null,null,null,"5.Substance-in-Process","Macros on Substance CAS and Name fixed",null,"no"]
[null,null,null,"1.Requester-Supplier","Enhanced Data Check and fixed some bugs: tabs 1 and 2 only. Other tabs for the next revision.",null,"no"]
[null,null,null,"2.Product-Groups","Enhanced Data Check and fixed some bugs: tabs 1 and 2 only. Other tabs for the next revision.",null,"no"]
["2017-08-14","0.33f","Renato","tabs 3 to 7","Enhanced Data Check and fixed some bugs.",null,"no"]
[null,null,"Mussie","Instructions","Update instructions",null,"no"]
["2017-08-22","0.33g","Jean-Pierre","Substances-List",null,null,"no"]
[null,null,null,"1.Requester-Supplier","Update AD-DSL ",null,"no"]
[null,null,null,"Instructions","Delete old tab, rename new tab",null,"no"]
[null,null,null,null,"Modify date with AD-SRT issue data",null,"no"]
[null,null,null,"3.Product-Statement","Hide columns G and H (formely used for flags \"isFSD\" and \"isFMD\") - not deleted for converters reason",null,"no"]
[null,null,"Renato","Multiple tabs","Adjust some minor format issues (from Mussie's comments)",null,"no"]
[null,null,"Renato","7. Supplier-Authorization","Implemented script for \"Yes/No\" answer for \"Identifical to Supplier Contact\" question",null,"no"]
[null,null,null,"7. Supplier-Authorization","Add \"-\" in the tab name",null,"YES"]
[null,null,"Renato","Substances-List","Columns change to comply with the entire script and its optimized routine search",null,"no"]
["2017-08-24","0.33h","Jean-Pierre","Substances-List (old) ","Delete this tab",null,"no"]
[null,null,null,"6.Attachment","Add \"File ZIP Location\" for compatibility with IPC-1751A",null,"YES"]
[null,null,null,"3.Product-Statement","Color in grey full column M (not supposed to be filled-in; column N should be)",null,"no"]
[null,null,null,"Use-Descriptor-List","Add PC table from ECHA document, and make it available for \"Material Use Description\" in Product and in Process",null,"YES"]
[null,null,null,"4.Substance-in-Product","Make \"PC code list\" available for \"Material Use Description\"",null,"no"]
[null,null,null,"-Parameters-","Add ProcessStage variale and list of values",null,"no"]
[null,null,null,"5.Substance-in-Process","Update Process Stage with “Production”, \"Product Operation\", “Maintenance”, \"Repair\",  \"Overhaul/Refurbishment\"",null,"no"]
[null,null,null,null,"Make \"PC code list\" available for \"Material Use Description\"",null,"no"]
[null,null,null,"7.Supplier-Authorization","Change \"Authorizer Title\" from mandatory to optional (to align IPC-1754 & IPC-1751A)",null,"no"]
["2017-08-29","0.33i","Jean-Pierre","4.Substance-in-Product","Add columns AK and AL for comments (not included in IPC-1754, no considered by converter to XML IPC-1754)",null,"no"]
[null,null,null,"6.Attachment","Add column G for comment",null,"no"]
[null,null,null,"6.Attachment","Add Product Number / Group ID in column B",null,"YES"]
["2017-09-04","0.33j","Jean-Pierre","5.Substance-in-process","Check Substance Name may be entered even if not in the AD-DSL List",null,"no"]
[null,null,"Renato",null,"Check free text may be entered in Process Classification, Material Use Description and Substance Use Description",null,"YES","which ID to assign to \"free text\" use description?"]
[null,null,null,null,"increase width of columns with calculated AD-DSL group: T in Substance-in-Process",null,"no"]
[null,null,null,"4.Substance-in-Product","Check Substance Name may be entered even if not in the AD-DSL List",null,"no"]
[null,null,null,null,"Check free text may be entered in Process Classification, Material Use Description and Substance Use Description",null,"YES","which ID to assign to \"free text\" use description?"]
[null,null,null,null,"increase width of columns with calculated AD-DSL group: AJ in 4.Substance-in-Product",null,"no"]
[null,null,null,"1.Requester-Supplier","Provide Query List ID (the converter to IPC-1754 XML need that information)"]
[null,null,null,null,"Add mode combo-box in cells F13/G13: mode* = either \"Request/Reply\" or \"Distribute\"",null,"no / yes","converter already handles that"]
[null,null,null,"Use-Descriptor-List","Provide Use Descriptor List IDs for TF and PC",null,"no"]
["2017-09-11","0.33k","Renato","3.Product-Statement","data checks is wrong on Product Statement: conditional mandatory for Requester/Supplier Part Number",null,"no"]
[null,null,"Jean-Pierre","TermsOfUse","unhide this tab & update back hotlink to \"Overview\"",null,"no"]
[null,null,null,"All tabs","review protection of cells in Overview, Instructions, TermsOfUse, Substances-List, Use-Descriptor-List and History",null,"no"]
[null,null,null,"7.Supplier-Authorization","data check \"Authorizer Title\" is now optional",null,"no"]
[null,null,null,null,"data check: if mode=Distribute in tab 1., then Requester Contact data are not supposed to be present",null,"no / yes","converter already handles that"]
["2017-09-13","0.33l2","Jean-Pierre","2.Product-Groups","Add column E for Requester Product Number",null,"Yes"]
[null,null,null,"Substance-List","Add AD-DSL identity on top of the page (version, date, authority, ID)",null,"Yes"]
[null,null,null,"4.Substance-in-Product","Add list \"=Substance_name\" for selection of \"Substance Name\" from AD-DSL (like for Process); authorize free text",null,"no"]
["2017-09-19","0.33m","Renato","4.Substance-in-Product","Fixed minor bug -> empty cell is not suppose to be a Non-numeric data and it was fixed.",null,"no"]
[null,null,null,"4.Substance-in-Product","According to Yvonne's comment, double * in \"Substance Identification\" label"]
[null,null,null,"5.Substance-in-process","According to Yvonne's comment, double * in \"Substance Identification\" label"]
["2017-09-21","0.33n","Jean-Pierre","Instructions","Update with draft 6",null,"no"]
[null,null,null,"Substance-List","Sort Subsance-List by Name for easy selection of Substance Name in the combo list",null,"no"]
[null,null,null,"7.Authorization","Set \"Statement Type=Default\" per default",null,"no"]
[null,null,null,null,"Set \"Identical to Supplier Contact\" No per default",null,"no"]
[null,null,null,"Overview","Delete former hidden \"Overview (old)\" and \"Overview1\" tabs",null,"no"]
[null,null,null,"TermsOfUse","Delete former and hiden \"Terms of Use Agreement\" tab",null,"no"]
[null,null,null,"Data Lists","Delete formet and hidden \"-Data Lists-\" and \"DataList\" tabs",null,"no"]
[null,null,null,"4.Substance-in-Product","Add \"unknown\" in ComboList for \"Substance Mass > UOM\"",null,"no"]
[null,null,null,"3.Product-Statement","Align Q1 Text with IPC-1754",null,"no"]
["2017-09-22","0.34","Jean-Pierre","5.Substance-in-Process","Align Product-Stage combolist with IPC-1754",null,"no"]
["2017-09-25","0.34.1","Jean-Pierre","Overview","Delete former \"-Overview1-\" tab","MR101","no"]
["2017-10-04","0.34.2","Jean-Pierre","1.Requester-Supplier","Format cell G21 text (not \"date\")","MR102","no"]
[null,null,null,"3.Product-Statement","Format rows for wrap text and autofit row height",null,"no"]
[null,null,null,null,"Hidden columns “G & H” can't be unhide (remove \"format column\" when protected)",null,"no"]
[null,null,null,"4.Substance-in-Product","Format comment with wrap text and autofit row height","MR105","no"]
[null,null,null,null,"Add title \"Synonyms\" to column \"AD\"","MR106","no"]
[null,null,null,"Instructions","Protection (can't edit object)",null,"no"]
[null,null,null,"TermsOfUse","Protection (can't edit object)",null,"no"]
[null,null,null,"History","Protection of full sheet",null,"no"]
[null,null,null,"Menu \"Add-Ins\"","Commands Q1, Q2, Q3 renamed to SR1, SR2, SR3",null,"no"]
["2018-02-26","0.35.1",null,"Overview","First tab and default tab when opening the tool","MR100","no"]
[null,null,null,"3.Product-Statement","Duplicate Q1 to Q1/Q2, rename Q2/Q3/Q4 to Q3/Q4/Q5","MR103","Yes"]
[null,null,null,"Substance-List","Update Version (2.0), ID (ADDSL-0817) and date format YYYY-MM-DD","MR112","no"]
[null,null,null,"6.Attachment","Harmonize alignment and borders in column B and others; also ","MR115","no"]
[null,null,null,"Overview","Add email for support: subtancereporting.support@iaeg.com","MR117","no"]
[null,null,null,"-Parameters-","Remove accented characters \"Réunion\", BL \"...\" and \"Côte d'Ivoire\" from the country list","MR120","no"]
[null,null,null,"4.Substance-in-Product","Extended formating and formula for Group calculation to row #999","FR062","no"]
[null,null,null,"5.Substance-in-Process","Extended formating and formula for Group calculation to row #999","FR063","no"]
[null,null,null,"4.Substance-in-Product","Format cell for CAS with \"Text\" (no longer \"General\" because CAS may be date)","FR107","no"]
[null,null,null,"5.Substance-in-Process","Format cell for CAS with \"Text\" (no longer \"General\" because CAS may be date)","FR107","no"]
["2018-02-27","0.35.2",null,"7.Supplier-Authorization","Move G9-F9 upper to G8-F8 for same data group that in tab 1","MR111","Yes"]
["2018-03-07","0.35.3",null,"5.Substance-in-Process","SR108 Solved: Process Stage is mandatory for every \"Supplier Product Number or Product Group ID\" that has been declared.","MR108","No"]
[null,null,null,"Instructions","SR109 Solved: +/i buttons working properly.","MR109","No"]
[null,null,null,"7.Supplier-Authorization","SR110 Solved: Data check now examine if \"Statement Type\" was chosen. Also, the Statement is filled automatically if the choose was \"Dafault\" and it is cleared if the option was \"Custom\"","MR110","No"]
[null,null,null,"All tabs","SR113 solved: a password was set for all tabs, except for the 6.Attachment, which is not protect anymore to permit access and exclusion the attached files.","MR113","No"]
[null,null,null,"6.Attachment","SR116 solved: the better solution found up to this moment was to remove the protection in this tab, as commented at the cell above.","MR116","No"]
[null,null,null,"3.Product-Statement","Data check now examine the existence of the answer for the extra question.","-","No"]
[null,null,null,"3.Product-Statement","If a \"Requester Product Number\" and/or \"Supplier Product Number or Products Group ID\" was declared, data check examine if all the questions were answered","-","No"]
[null,null,null,"4.Substance-in-Product","If the answer for Q1 was \"Yes\", it is expected to have at least one product declared.","-","No"]
[null,null,null,"5.Substance-in-Process","If the answer for Q2 was \"Yes\", it is expected to have at least one product declared.","-","No"]
["2018-03-13","0.36.1","Jean-Pierre","7.Supplier-Authorization","Rename tab to \"7.Supplier-Acceptance\" and rename data field \"Supplier Authorization\" to \"Supplier Authorizer Acceptance\"","FR113","Yes","Yes"]
[null,null,null,"1.Requester-Supplier","Change \"Supplier Response Date\" to \"Supplier Declaration Date\"","FR060","Yes","Yes"]
[null,null,null,"Substance-List","Renamed to \"DSL\" and moved in between tabs 4 and 5","FR071\nFR166","Yes","Yes"]
[null,null,null,"2.Product-Groups","Add \"Requester Product Description\" and \"Requester Product Revision\" in addition of \"Number\" to be homogeneous with tabs 4 and 5","FR100","Yes","Yes"]
[null,null,null,"7.Supplier-Authorization","Rename \"Identical to Supplier Contact\" to \"Supplier Authorizer identical to Supplier Contact\"","FR072","No","No"]
[null,null,null,"7.Supplier-Authorization","Remove the export IPC-1754 button in Tab 7 (not implemented and refering add-ins)","FR066","No","No"]
[null,null,null,"3.Product-Group","Move column \"Requester Product Number\" from E to G; add columns \"Requester Product Description\" in H and \"Requester Product Revision\" in I (for consistency with other Product Identification in tabs 4 and 5","FR100","Yes","Yes"]
["2018-03-23","0.36.2","Renato","All tabs","Adjust macro to comply with '7.Supplier-Acceptance' tab name","F2F Fort W","No","Yes"]
["2018-03-26","0.36.3","Jean-Pierre","4.Substance-in-Product","Protect column AJ with formula to calculate group in DSL; unhidde column AJ for formula to be visible",null,"No","No"]
[null,null,null,null,"Format cell Z4 with \"Text\" instead of \"General\" to avoid CAS as a date",null,"No","No"]
[null,null,null,"5.Substance-in-Process","Protect column T with formula to calculate group in DSL; unhidde column T for formula to be visible",null,"No","No"]
[null,null,null,"Overview","Protect sheet against modification",null,"No","No"]
[null,null,null,null,"Remove from Protect options \"Edit objects\" and \"Edit scenarios\" for end-users not able to delete graphical objects",null,"No","No"]
[null,null,null,"Instructions","Remove comment on \"Developmental Draft\" (no longer valid)",null,"No","No"]
[null,null,null,"7.Supplier-Authorization","Change title on row #25 to \"Data Checks\"",null,"No","No"]
["2018-04-03","0.36.4","Renato","All tabs","Update macros with tab \"Substance-List\" renamed to \"DSL\"","FR071\nFR166","No","No"]
[null,null,null,"2.Product-Group","Copy and paste now keep a frozen format. Need tests validation.","-","No","No","Need Validation"]
[null,null,null,"4.Substance-in-Product","Copy and paste now keep a frozen format. Need tests validation.","-","No","No","Need Validation"]
[null,null,null,"5.Substance-in-Process","Copy and paste now keep a frozen format. Need tests validation.","-","No","No","Need Validation"]
["2018-04-05","0.36.5a","Jean-Pierre","2.Product-Group","Remove rows from 100 to 65536 (size is no less than 2 MB instead of 6MB before)",null,"No"]
["2018-04-06","0.36.5","Renato","Overview","Protect sheet against modification; delete some useless links in legend (mandatory blue box and optional red box)",null,"No","No"]
[null,null,null,"DSL","Protect sheet against modification",null,"No","No"]
[null,null,null,"6.Attachment","Protect sheet against modification",null,"No","No"]
["2018-04-18","0.36.6","Jean-Pierre","7.Supplier-Acceptance","Regression: Cell “Identical to Supplier Contact” should offer a dropdown list with “Yes/No” (existing in 0.35.3, but no longer in 0.36.5)","MR122","No","No"]
[null,null,null,"5.Substance-in-Process","Align IPC-1754.ProcessStage with the AD-SRT.ProcessStage...","MR118","No","No"]
[null,null,null,"1.Requester-Supplier","Update AD-DSL & AD-QL ID and dates","MR124","No","No"]
[null,null,null,"4.Substance-in-Product","column Y, “is Homogenous Material (Yes:No)”, change (Yes:No) to (Yes/No) to be consistent","MR125","No","No"]
[null,null,null,"1.Requester-Supplier","changing “Supplier Response Date” to “Supplier Declaration Date” to capture the fact that this is the date the supplier either distributes or replies","FR060","No","No"]
[null,null,null,"Use-Descriptor-List","Harmonize UDL list ID (similar to other list) for Authority + Identity to be unique","MR126","No","No"]
[null,null,null,"tabs 5 and 6","Standardize with “Comments (for information)”","MR121","No","No"]
["2018-04-20","0.36.7","Renato","1 and 7","Phone check implemented: only allows numeric, (, ), + and - chars.","-","No","No"]
[null,null,null,"7.Supplier-Acceptance","Data check now present a warning message instead of error if Q2 = True but no substance is declared.",null,"No","No"]
["2018-04-23","0.36.8","Renato","3.Product-Statement","Update Q1 and Q2 comments","MR133","No","No"]
[null,null,null,"4 and 5","Links for the AD-DSL and AD-UDL","MR134","No","No"]
[null,null,null,"tabs 4 and 5","Protect cell formats and authorize copy/paste","MR127","No","No"]
[null,null,null,"tabs 5 and 6","Standardize with “Comments” (reverse implementation done in previous version)","MR121","No","No"]
[null,null,null,"7.Supplier-Acceptance","Data check messages updated","MR130","No","No"]
[null,null,null,"1, 4 and 7","Country list now forces the user to select/write a valid one","FR92","No","No"]
["2018-05-03","1.0.a","Jean-Pierre","7.Supplier-Acceptance","Replace buble info \"Yes / No\" by \"Default / Custom\" on \"Statement Type\"","MR131","No","No"]
[null,null,null,"Instructions","Rename \"7.Supplier-Authorization\" to \"7.Supplier-Acceptance\"\nAlso rename \"6.Attachments\" to \"6.Attachment\" (without \"s\")\nAlso add \"-\" to \"2.Product Group\"","MR132","No","No"]
[null,null,null,"3.Product-Statement","Update Q1 and Q2 comments: rename \"Substances-List\" to \"DSL\"","MR133","No","No"]
[null,null,null,"UDL, DSL","Add back links in UDL and DSL to tabs 4 and 5","MR134","No","No"]
["2018-05-09","1.0.b","Renato","7.Supplier-Acceptance","After DataCheck encounter any error/warning, it gives the message AND highlight the problematic cell","-","No","No"]
["2018-05-10","1.0.c","Renato","tabs 4 and 5","Internal Script optmized - After Press Enter, the cell changes faster","-","No","No"]
[null,null,null,"7.Supplier-Acceptance","Updated the \"Run Data Check\" statement button","-","No","No"]
[null,null,null,"7.Supplier-Acceptance","The field \"Supplier Authorizer identical to Supplier Contact\" now forces Yes/No answer","-","No","No"]
["2018-05-29","1.0.d","Renato","7.Supplier-Acceptance","Yes/No on cell C3 now is present","MR136","No","No"]
[null,null,null,"4.Substance-in-Product","Cells without drop-down list were removed","MR137","No","No"]
[null,null,null,"All tabs","Comments on cell were removed","MR141\nMR139","No","No"]
[null,null,null,"Overview","Updated box 7 to \"Supplier Acceptance\"","MR140","No","No"]
[null,null,null,"Overview","Fixed the link box 7 to Supplir Acceptance tab","MR142","No","No"]
["2018-06-04","1.0.e","Renato","7.Supplier-Acceptance","Fixed some data check bugs - phone check and when the data was OK it was happening na error.","MR144\nMR145","No","No"]
["2018-06-07","1.0.f","Jean-Pierre","UDL","Replace ECHA UDL (PC, TF) by IAEG UDL MF and SF - implementation with variables UDL_SubstanceFunction and UDL_MaterialFunction","MR146","Yes","No"]
[null,null,null,"2.Produc-Group","s) to delete in call D1","MR143","No","No"]
[null,null,null,"1.Requester-Supplier","make AD-QL version 1.0 (not 1.1) because first official release - decision on May 15th in ST4 call","MR138","No","No"]
[null,null,null,"7.Supplier-Acceptance","Also add \"Yes / No\" buble message on cell C3","MR136","No","No"]
[null,null,null,"Instructions","Update instructions","MR147","No","No"]
[null,null,null,"7.Supplier-Acceptance","When selecting \"Yes\" for cell C3, then Authorizer Title is copied to cell G9, should be G8","MR148","No","No"]
[null,null,null,"5.Substance-in-process\n6.Attachment","Add column U with \"Add comment\" similarly than in tab 4 and column G in tab 6","MR121","No","No"]
["2018-06-08","1.0.g","Renato","4.Substance-in-Product","Copy and paste format issue solved","MR149","No","No"]
[null,null,null,"5.Substance-in-Process","Copy and paste format issue solved","MR149","No","No"]
[null,null,null,"5.Substance-in-Process","Comment on cell O5 to O10 deleted","MR151","No","No"]
["2018-06-26","1.0.h","Tim Sheehan","TermsOfUse","Update with up-to-date ToU (from Tim's proposal)",null,"No","No"]
[null,null,"Jean-Pierre Théret","TermsOfUse","Protect the tab against modification",null,"No","No"]
[null,null,null,"Overview","Protect the tab against modification",null,"No","No"]
[null,null,null,"DSL","Protect the tab against modification",null,"No","No"]
[null,null,null,"-History-","Protect the tab against modification",null,"No","No"]
["2018-06-29","1.0.i","Renato","7.Supplier-Acceptance","Add a warning message if Supplier Acceptance is No (from WG1 survey)",null,"No","No"]
[null,null,null,"Instructions","Update instructions: word \"legal\" was removed on row 124",null,"No","No"]
["2018-09-18","1.0.j","Jean-Pierre Théret","Overview","Typo: replace \"implicitely\" by \"implicitly\" (from Mussie's email)",null,"No","No"]
[null,"= 1.0 final"]
[null,"1.0.1a","Renato","Worksheet","Update tabs protection against the new specification by JP","MR161","No","No"]
[null,null,null,null,"Update worksheet protection against the new specification by JP","MR172"]
["2018-12-26","1.0.1b","Tetra Tech","Macros","Protection of Excel macros with password","MR166","No","No"]
["2019-01-15","1.0.1.c","Renato","DSL","Added DSL v3. Also, as DSL changed \"IAEG Priority Group\" to \"Regulatory Criteria\", a few adjustments were made in titles of tabs #4 and #5","MR153","No","No"]
["2019-01-16","1.1a","Jean-Pierre Théret","-History-","Update history",null,"No","No"]
[null,null,null,"Overview","Change 1.0.1c to 1.1a due to AD-DSL v3.0 which is not just fixing bug (change version, 3 digits in versioning) but minor version (2 digits)","MR153","No","No"]
[null,null,null,null,"Update AD-DSL Version, Date, Identity for AD-DSL 3.0","MR153","No","No"]
[null,null,null,null,"Protect \"Overview\" tab (seems not included in macro managing protection)",null,"No","No"]
[null,null,null,"DSL","Update AD-DSL Version, Date, Identity for AD-DSL 3.1","MR153","No","No"]
[null,null,null,null,"Protect only cells for DSL (A1:H1360) for MR#","MR157"]
[null,null,null,"Substance-in-Product","Change color of celle \"Comment\" (O3) from grey to yellow, like other Substance Data because this data field exist in IPC-1754","MR162","No","No"]
[null,null,null,null,"Update liste of Substance Names with variable SubstanceName_30","MR153","No","No"]
[null,null,null,"Substance-in-Process","Change color of celle \"Comment\" (V3) from grey to yellow, like other Substance Data because this data field exist in IPC-1755","MR162","No","No"]
[null,null,null,null,"Update liste of Substance Names with variable SubstanceName_30","MR153","No","No"]
["2019-01-21","1.1b","Jean-Pierre Théret","General","Provide one version with macros (.XLSM) and another one without macro (.XLSX).","MR171","No","No"]
["2019-01-22","1.1c","Jean-Pierre Théret","Overview","Unprotect support email (unlock cell H5) for company to replace IAEG one by their support email ; change color with light green the cell (H5-I5-J5)","MR174","No","No"]
[null,null,null,"7.Supplier-Acceptance","Add comment on text for Data Check: \"No data check is available in version without macros\".","MR171","No"]
[null,null,null,"DSL","Prohibit any addition or removal of substances from AD-DSL list in DSL tab (lock all columns A-H, unlock other columns)","MR157","No","No"]
["2019-02-19","1.1d","Jean-Pierre Théret","Instructions","Remove protection for tab with +/- to expand in Edition without macros","MR176","No","No"]
[null,null,null,"2.Product-Group "]
[null,null,null,"3.Product-Statement "]
[null,null,null,"4.Substance-in-Product"]
[null,null,null,"5.Substance-in-Process"]
[null,null,null,"Overview","In edition XLSM \"without macro\", add in version \"without macro\""]
[null,null,null,"1.Requester-Supplier ","Unprotect these tabs, fully expand the columns or rows, then protect these tabs"]
[null,null,null,"6.Attachment "]
[null,null,null,"7.Supplier-Acceptance "]
[null,null,null,"DSL"]
["2019-02-28","1.1e","Jean-Pierre Théret","DSL","Add 3 missing substances from AD-DSL 3.0 dated 2019-January-14 (previous: Jan-07)","MR177","No","No"]
[null,null,null,"DSL","Move column \"IAEG Regulatory Criteria\" before \"First added date\"","MR178","No","No"]
[null,"=1.1"]
["2019-06-24","1.1.1",null,"General","Non-used private subs were removed","MR169","No","No"]
["2019-08-06","1.1.2",null,"3.Product-Statement ","Locked +/- expand columns","MR181","No","No"]
[null,null,null,"4.Substance-in-Product"]
[null,null,null,"5.Substance-in-Process"]
[null,null,null,"6.Attachment "]
["2019-12-03","1.1.3",null,"General","Small bugs corrections","-","No","No"]
[null,null,null,"3.Product-Statement ","Unlocked +/- expand columns: during Prague F2F was agreed that it is necessary to allow any row removal in tabs 3, 4, 5 and 6; so it is not possible to have locked cells.",null,"No","No"]
[null,null,null,"4.Substance-in-Product","Unlocked +/- expand columns: during Prague F2F was agreed that it is necessary to allow any row removal in tabs 3, 4, 5 and 6; so it is not possible to have locked cells.",null,"No","No"]
[null,null,null,"5.Substance-in-Process","Unlocked +/- expand columns: during Prague F2F was agreed that it is necessary to allow any row removal in tabs 3, 4, 5 and 6; so it is not possible to have locked cells.",null,"No","No"]
[null,null,null,"6.Attachment ","Unlocked +/- expand columns: during Prague F2F was agreed that it is necessary to allow any row removal in tabs 3, 4, 5 and 6; so it is not possible to have locked cells.",null,"No","No"]
[null,null,null,"Print Friendly incorporated",null,"MR167","No"]
[null,null,null,"3.Product-Statement ","Allow to ADD rows  in tabs 3,4,5 and 6","MR182","No","No"]
[null,null,null,"4.Substance-in-Product","Allow to ADD rows  in tabs 3,4,5 and 6",null,"No","No"]
[null,null,null,"5.Substance-in-Process","Allow to ADD rows  in tabs 3,4,5 and 6",null,"No","No"]
[null,null,null,"6.Attachment ","Allow to ADD rows  in tabs 3,4,5 and 6",null,"No","No"]
["2020-03-30","1.2",null,"DSL","Added AD-DSL v4",null,"No","No"]
["2020-10-19","1.2.1",null,"1.Requester-Supplier","Corrected AD-DSL identity in tab 1.","MR184","No","No"]
[null,null,null,"Instructions","Moved list of countries to a new, hidden tab.","MR185","No","No"]
[null,null,null,"1.Requester-Supplier","Removed \"IAEG\" from Requester","MR186","No","No"]
[null,null,null,"Overview","Unlocked support e-mail cell to allow requesters to insert a different address.",null,"No","No"]
["2022-04-26","1.2.2",null,"DSL","Updated to AD-DSL v6",null,"No","No"]